Workbook

Sheet Comparativa 
B2: Análisis del Costo Total de Propiedad (CTP) y el Costo Total de Arrendamiento (CTA)
B5: ítem | C5: Perfil | D5: Identificación | E5: Costo Total de Arrendamiento (CTA) | F5: Costo Total de Propiedad (CTP
B6: 1 | C6: Operativo | D6: COMPUTADOR DE ESCRITORIO BÁSICO | E6: =+'Analisis Alquiler '!G33 -> 24469562 | F6: =+'Analisis Compra'!G33 -> 232893339
B7: 2 | C7: BIM y Georeferenciación | D7: COMPUTADOR DE ESCRITORIO ESPECIALIZADO | E7: =+'Analisis Alquiler '!G64 -> 5474200 | F7: =+'Analisis Compra'!G64 -> 45704872
B8: 3 | C8: Administrativo y gerencia | D8: COMPUTADOR PORTÁTIL AVANZADO I | E8: =+'Analisis Alquiler '!G95 -> 193417553 | F8: =+'Analisis Compra'!G95 -> 1.7810285e+09
B9: 4 | C9: Ingenieros y arquitectos | D9: COMPUTADOR PORTÁTIL AVANZADO II | E9: =+'Analisis Alquiler '!G127 -> 81405694 | F9: =+'Analisis Compra'!G126 -> 567048467
B10: 5 | C10: Operativa | D10: IMPRESORA LÁSER | E10: =+'Analisis Alquiler '!G159 -> 11155860 | F10: =+'Analisis Compra'!G157 -> 43510385
B11: 6 | C11: Operativo | D11: ESCÁNER A4 | E11: =+'Analisis Alquiler '!G191 -> 12461841 | F11: =+'Analisis Compra'!G188 -> 78566796
B12: 7 | C12: Ingenieros y arquitectos | D12: TABLETS | E12: =+'Analisis Alquiler '!G223 -> 46208060 | F12: =+'Analisis Compra'!G219 -> 128748720
B13: 8 | C13: Administrativo y gerencia | D13: PANTALLA INTERACTIVA | E13: =+'Analisis Alquiler '!G255 -> 21737254 | F13: =+'Analisis Compra'!G250 -> 56578847
E14: =+SUM(E6:E13) -> 396330024 | F14: =+SUM(F6:F13) -> 2.9340799e+09

Sheet Analisis Alquiler 
B3: Alquiler de equipos de computo y periféricos
B5: 1. COMPUTADOR DE ESCRITORIO BÁSICO
B7: Oferta | C7: Valor mensual del alquiler | D7: Costo de mantenimiento preventivo mensual por equipo | E7: Costo de mantenimiento correctivo mensual por equipo | F7: Costo soporte técnico mensual y actualizaciones por equipo | G7: costos de disposición final o gestión RAEE. Por mes de alquiler | H7: Costo penalidades o costos de renovación o sustitución anticipada. Por mes de alquiler | I7: costos de disposición o retiro de equipos al finalizar: el contrato. Por mes de alquiler | J7: Costo mensual del licenciamiento del sistema operativo por equipo de computo | K7: Costo mensual del licenciamiento del antivirus por equipo de computo | L7: Costo mensual del licenciamiento del sistema de contabilización de impresión | M7: Valor total unitario Mensual
B8: Proveedor 1 | C8: 4680000 | D8: 182000 | E8: 234000 | F8: 52000 | G8: 0 | H8: 4680000 | I8: 260000 | J8: 257400 | K8: 377000 | L8: 0 | M8: 6042400
B9: Proveedor 2 | C9: 3770000 | D9: 117000 | E9: 208000 | F9: 0 | G9: 0 | H9: 390000 | I9: 0 | J9: 234000 | K9: 364000 | L9: 0 | M9: 4693000
B10: Proveedor 3 | C10: 4290000 | D10: 130000 | E10: 234000 | F10: 26000 | G10: 0 | H10: 468000 | I10: 260000 | J10: 234000 | K10: 390000 | L10: 0 | M10: 5564000
B12: Promedio | C12: =+ROUND(AVERAGE(C8:C10),0) -> 4246667 | D12: =+ROUND(AVERAGE(D8:D10),0) -> 143000 | E12: =+ROUND(AVERAGE(E8:E10),0) -> 225333 | F12: =+ROUND(AVERAGE(F8:F10),0) -> 26000 | G12: =+ROUND(AVERAGE(G8:G10),0) -> 0 | H12: =+ROUND(AVERAGE(H8:H10),0) -> 1846000 | I12: =+ROUND(AVERAGE(I8:I10),0) -> 173333 | J12: =+ROUND(AVERAGE(J8:J10),0) -> 241800 | ... M12: =+ROUND(AVERAGE(M8:M10),0) -> 5433133
B15: Definición 𝐶𝑒𝑛𝑒𝑟𝑔: costos estimados de consumo energético en el periodo analizado.
B16:  Potencia (kW): consumo promedio del equipo suministrado por el fabricante. | F16: = | G16: =90/1000 -> 0.09
B17:  Horas de uso: por ejemplo, 8 horas diarias. | F17: = | G17: 8
B18:  Días de operación: días hábiles del período analizado. | F18: = | G18: 20
B19:  Tarifa energía: valor promedio del kWh que paga la entidad. | F19: = | G19: 863.61
B20:  Cantidad: número de equipos arrendados. | F20: = | G20: 26
B21: Costo energético = Potencia (kW) × Horas de uso × Días de operación × Tarifa energía ($/kWh) × Cantidad de equipos | F21: = | G21: =+ROUND(G16*G17*G18*G19*G20,0) -> 323336
B23: Costo Total de Arrendamiento (CTA):
B24: #VALUE!
B25:  𝐶𝑐𝑎𝑛𝑜𝑛: canon mensual de arrendamiento del equipo. | F25: = | G25: =+ROUND(M12,0) -> 5433133 | H25: Valor total del servicio de arrendamiento para las referencias de equipos contratados + licencias + costos de mantenimiento preventivo y correctivo
B26:  𝑁: número de meses del contrato de arrendamiento. | F26: = | G26: 3.9 | H26: Equivalente a 3 meses 27 días definidos en el estudio previo
G27: =ROUND(G25*G26,0) -> 21189219 | H27: Ccanon*N
B28:  𝐶𝑒𝑛𝑒𝑟𝑔: costos estimados de consumo energético en el periodo analizado. | F28: = | G28: =ROUND(G21*G26,0) -> 1261010 | H28: Valor energetico * N0. de mess del contrato
B29:  𝐶𝑠𝑜𝑝𝑜𝑟𝑡𝑒: costos adicionales de soporte no cubiertos por el arrendador (si los hay). | F29: = | G29: 0 | H29: este ítem incluye costos de mantenimiento preventivo, correctivo y soporte técnico
B30:  𝐶𝑝𝑒𝑛: penalidades o costos de renovación o sustitución anticipada. | F30: = | G30: =+ROUND(H12,0) -> 1846000
B31:  𝐶𝑑𝑖𝑠𝑝: costos de disposición o retiro de equipos al finalizar el contrato. | F31: = | G31: =+ROUND(I12,0) -> 173333
E33: CTA | F33: = | G33: =+G27+G28+G29+G30+G31 -> 24469562
B36: 2. COMPUTADOR DE ESCRITORIO ESPECIALIZADO
B38: Oferta | C38: Valor mensual del alquiler | D38: Costo de mantenimiento preventivo mensual por equipo | E38: Costo de mantenimiento correctivo mensual por equipo | F38: Costo soporte técnico mensual y actualizaciones por equipo | G38: costos de disposición final o gestión RAEE. Por mes de alquiler | H38: Costo penalidades o costos de renovación o sustitución anticipada. Por mes de alquiler | I38: costos de disposición o retiro de equipos al finalizar: el contrato. Por mes de alquiler | J38: Costo mensual del licenciamiento del sistema operativo por equipo de computo | K38: Costo mensual del licenciamiento del antivirus por equipo de computo | L38: Costo mensual del licenciamiento del sistema de contabilización de impresión | M38: Valor total unitario Mensual
B39: Proveedor 1 | C39: 1040000 | D39: 36000 | E39: 60000 | F39: 0 | G39: 0 | H39: 1040000 | I39: 0 | J39: 19800 | K39: 29000 | L39: 0 | M39: 1184800
B40: Proveedor 2 | C40: 900000 | D40: 30000 | E40: 50000 | F40: 0 | G40: 0 | H40: 76000 | I40: 0 | J40: 18000 | K40: 28000 | L40: 0 | M40: 1026000
B41: Proveedor 3 | C41: 1020000 | D41: 34000 | E41: 50000 | F41: 0 | G41: 0 | H41: 90000 | I41: 0 | J41: 18000 | K41: 30000 | L41: 0 | M41: 1152000
B43: Promedio | C43: =+ROUND(AVERAGE(C39:C41),0) -> 986667 | D43: =+ROUND(AVERAGE(D39:D41),0) -> 33333 | E43: =+ROUND(AVERAGE(E39:E41),0) -> 53333 | F43: =+ROUND(AVERAGE(F39:F41),0) -> 0 | G43: =+ROUND(AVERAGE(G39:G41),0) -> 0 | H43: =+ROUND(AVERAGE(H39:H41),0) -> 402000 | I43: =+ROUND(AVERAGE(I39:I41),0) -> 0 | J43: =+ROUND(AVERAGE(J39:J41),0) -> 18600 | ... M43: =+ROUND(AVERAGE(M39:M41),0) -> 1120933
B46: Definición 𝐶𝑒𝑛𝑒𝑟𝑔: costos estimados de consumo energético en el periodo analizado.
B47:  Potencia (kW): consumo promedio del equipo suministrado por el fabricante. | F47: = | G47: =650/1000 -> 0.65
B48:  Horas de uso: por ejemplo, 8 horas diarias. | F48: = | G48: 8
B49:  Días de operación: días hábiles del período analizado. | F49: = | G49: 20
B50:  Tarifa energía: valor promedio del kWh que paga la entidad. | F50: = | G50: 863.61
B51:  Cantidad: número de equipos arrendados. | F51: = | G51: 2
B52: Costo energético = Potencia (kW) × Horas de uso × Días de operación × Tarifa energía ($/kWh) × Cantidad de equipos | F52: = | G52: =+ROUND(G47*G48*G49*G50*G51,0) -> 179631
B54: Costo Total de Arrendamiento (CTA):
B55: #VALUE!
B56:  𝐶𝑐𝑎𝑛𝑜𝑛: canon mensual de arrendamiento del equipo. | F56: = | G56: =+ROUND(M43,0) -> 1120933 | H56: Valor total del servicio de arrendamiento para las referencias de equipos contratados + licencias + costos de mantenimiento preventivo y correctivo
B57:  𝑁: número de meses del contrato de arrendamiento. | F57: = | G57: 3.9 | H57: Equivalente a 3 meses 27 días definidos en el estudio previo
G58: =ROUND(G56*G57,0) -> 4371639 | H58: Ccanon*N
B59:  𝐶𝑒𝑛𝑒𝑟𝑔: costos estimados de consumo energético en el periodo analizado. | F59: = | G59: =ROUND(G52*G57,0) -> 700561 | H59: Valor energetico * N0. de mess del contrato
B60:  𝐶𝑠𝑜𝑝𝑜𝑟𝑡𝑒: costos adicionales de soporte no cubiertos por el arrendador (si los hay). | F60: = | G60: 0
B61:  𝐶𝑝𝑒𝑛: penalidades o costos de renovación o sustitución anticipada. | F61: = | G61: =+ROUND(H43,0) -> 402000
B62:  𝐶𝑑𝑖𝑠𝑝: costos de disposición o retiro de equipos al finalizar el contrato. | F62: = | G62: =+ROUND(I43,0) -> 0
E64: CTA | F64: = | G64: =+G58+G59+G60+G61+G62 -> 5474200
B67: 3. COMPUTADOR PORTÁTIL AVANZADO I
B69: Oferta | C69: Valor mensual del alquiler | D69: Costo de mantenimiento preventivo mensual por equipo | E69: Costo de mantenimiento correctivo mensual por equipo | F69: Costo soporte técnico mensual y actualizaciones por equipo | G69: costos de disposición final o gestión RAEE. Por mes de alquiler | H69: Costo penalidades o costos de renovación o sustitución anticipada. Por mes de alquiler | I69: costos de disposición o retiro de equipos al finalizar: el contrato. Por mes de alquiler | J69: Costo mensual del licenciamiento del sistema operativo por equipo de computo | K69: Costo mensual del licenciamiento del antivirus por equipo de computo | L69: Costo mensual del licenciamiento del sistema de contabilización de impresión | M69: Valor total unitario Mensual
B70: Proveedor 1 | C70: 39140000 | D70: 1236000 | E70: 2472000 | F70: 0 | G70: 0 | H70: 39140000 | I70: 0 | J70: 2039400 | K70: 2987000 | L70: 0 | M70: 47874400
B71: Proveedor 2 | C71: 33990000 | D71: 927000 | E71: 1648000 | F71: 0 | G71: 0 | H71: 3090000 | I71: 0 | J71: 1854000 | K71: 2884000 | L71: 0 | M71: 41303000
B72: Proveedor 3 | C72: 35432000 | D72: 1030000 | E72: 2472000 | F72: 0 | G72: 0 | H72: 4120000 | I72: 0 | J72: 1854000 | K72: 3090000 | L72: 0 | M72: 43878000
B74: Promedio | C74: =+ROUND(AVERAGE(C70:C72),0) -> 36187333 | D74: =+ROUND(AVERAGE(D70:D72),0) -> 1064333 | E74: =+ROUND(AVERAGE(E70:E72),0) -> 2197333 | F74: =+ROUND(AVERAGE(F70:F72),0) -> 0 | G74: =+ROUND(AVERAGE(G70:G72),0) -> 0 | H74: =+ROUND(AVERAGE(H70:H72),0) -> 15450000 | I74: =+ROUND(AVERAGE(I70:I72),0) -> 0 | J74: =+ROUND(AVERAGE(J70:J72),0) -> 1915800 | ... M74: =+ROUND(AVERAGE(M70:M72),0) -> 44351800
B77: Definición 𝐶𝑒𝑛𝑒𝑟𝑔: costos estimados de consumo energético en el periodo analizado.
B78:  Potencia (kW): consumo promedio del equipo suministrado por el fabricante. | F78: = | G78: =45/1000 -> 0.045
B79:  Horas de uso: por ejemplo, 8 horas diarias. | F79: = | G79: 8
B80:  Días de operación: días hábiles del período analizado. | F80: = | G80: 20
B81:  Tarifa energía: valor promedio del kWh que paga la entidad. | F81: = | G81: 863.61
B82:  Cantidad: número de equipos arrendados. | F82: = | G82: 206
B83: Costo energético = Potencia (kW) × Horas de uso × Días de operación × Tarifa energía ($/kWh) × Cantidad de equipos | F83: = | G83: =+ROUND(G78*G79*G80*G81*G82,0) -> 1280906
B85: Costo Total de Arrendamiento (CTA):
B86: #VALUE!
B87:  𝐶𝑐𝑎𝑛𝑜𝑛: canon mensual de arrendamiento del equipo. | F87: = | G87: =+ROUND(M74,0) -> 44351800 | H87: Valor total del servicio de arrendamiento para las referencias de equipos contratados + licencias + costos de mantenimiento preventivo y correctivo
B88:  𝑁: número de meses del contrato de arrendamiento. | F88: = | G88: 3.9 | H88: Equivalente a 3 meses 27 días definidos en el estudio previo
G89: =ROUND(G87*G88,0) -> 172972020 | H89: Ccanon*N
B90:  𝐶𝑒𝑛𝑒𝑟𝑔: costos estimados de consumo energético en el periodo analizado. | F90: = | G90: =ROUND(G83*G88,0) -> 4995533 | H90: Valor energetico * N0. de mess del contrato
B91:  𝐶𝑠𝑜𝑝𝑜𝑟𝑡𝑒: costos adicionales de soporte no cubiertos por el arrendador (si los hay). | F91: = | G91: 0
B92:  𝐶𝑝𝑒𝑛: penalidades o costos de renovación o sustitución anticipada. | F92: = | G92: =+ROUND(H74,0) -> 15450000
B93:  𝐶𝑑𝑖𝑠𝑝: costos de disposición o retiro de equipos al finalizar el contrato. | F93: = | G93: =+ROUND(I74,0) -> 0
E95: CTA | F95: = | G95: =+G89+G90+G91+G92+G93 -> 193417553
B99: 4. COMPUTADOR PORTÁTIL AVANZADO II
B101: Oferta | C101: Valor mensual del alquiler | D101: Costo de mantenimiento preventivo mensual por equipo | E101: Costo de mantenimiento correctivo mensual por equipo | F101: Costo soporte técnico mensual y actualizaciones por equipo | G101: costos de disposición final o gestión RAEE. Por mes de alquiler | H101: Costo penalidades o costos de renovación o sustitución anticipada. Por mes de alquiler | I101: costos de disposición o retiro de equipos al finalizar: el contrato. Por mes de alquiler | J101: Costo mensual del licenciamiento del sistema operativo por equipo de computo | K101: Costo mensual del licenciamiento del antivirus por equipo de computo | L101: Costo mensual del licenciamiento del sistema de contabilización de impresión | M101: Valor total unitario Mensual
B102: Proveedor 1 | C102: 13860000 | D102: 378000 | E102: 756000 | F102: 0 | G102: 0 | H102: 13860000 | I102: 0 | J102: 623700 | K102: 913500 | L102: 0 | M102: 16531200
B103: Proveedor 2 | C103: 11970000 | D103: 283500 | E103: 504000 | F103: 0 | G103: 0 | H103: 945000 | I103: 0 | J103: 567000 | K103: 8820000 | L103: 0 | M103: 22144500
B104: Proveedor 3 | C104: 13230000 | D104: 409500 | E104: 756000 | F104: 0 | G104: 0 | H104: 1260000 | I104: 0 | J104: 567000 | K104: 945000 | L104: 0 | M104: 15907500
B106: Promedio | C106: =+ROUND(AVERAGE(C102:C104),0) -> 13020000 | D106: =+ROUND(AVERAGE(D102:D104),0) -> 357000 | E106: =+ROUND(AVERAGE(E102:E104),0) -> 672000 | F106: =+ROUND(AVERAGE(F102:F104),0) -> 0 | G106: =+ROUND(AVERAGE(G102:G104),0) -> 0 | H106: =+ROUND(AVERAGE(H102:H104),0) -> 5355000 | I106: =+ROUND(AVERAGE(I102:I104),0) -> 0 | J106: =+ROUND(AVERAGE(J102:J104),0) -> 585900 | ... M106: =+ROUND(AVERAGE(M102:M104),0) -> 18194400
B109: Definición 𝐶𝑒𝑛𝑒𝑟𝑔: costos estimados de consumo energético en el periodo analizado.
B110:  Potencia (kW): consumo promedio del equipo suministrado por el fabricante. | F110: = | G110: =150/1000 -> 0.15
B111:  Horas de uso: por ejemplo, 8 horas diarias. | F111: = | G111: 8
B112:  Días de operación: días hábiles del período analizado. | F112: = | G112: 20
B113:  Tarifa energía: valor promedio del kWh que paga la entidad. | F113: = | G113: 863.61
B114:  Cantidad: número de equipos arrendados. | F114: = | G114: 63
B115: Costo energético = Potencia (kW) × Horas de uso × Días de operación × Tarifa energía ($/kWh) × Cantidad de equipos | F115: = | G115: =+ROUND(G110*G111*G112*G113*G114,0) -> 1305778
B117: Costo Total de Arrendamiento (CTA):
B118: #VALUE!
B119:  𝐶𝑐𝑎𝑛𝑜𝑛: canon mensual de arrendamiento del equipo. | F119: = | G119: =+ROUND(M106,0) -> 18194400 | H119: Valor total del servicio de arrendamiento para las referencias de equipos contratados + licencias + costos de mantenimiento preventivo y correctivo
B120:  𝑁: número de meses del contrato de arrendamiento. | F120: = | G120: 3.9 | H120: Equivalente a 3 meses 27 días definidos en el estudio previo
G121: =ROUND(G119*G120,0) -> 70958160 | H121: Ccanon*N
B122:  𝐶𝑒𝑛𝑒𝑟𝑔: costos estimados de consumo energético en el periodo analizado. | F122: = | G122: =ROUND(G115*G120,0) -> 5092534 | H122: Valor energetico * N0. de mess del contrato
B123:  𝐶𝑠𝑜𝑝𝑜𝑟𝑡𝑒: costos adicionales de soporte no cubiertos por el arrendador (si los hay). | F123: = | G123: 0
B124:  𝐶𝑝𝑒𝑛: penalidades o costos de renovación o sustitución anticipada. | F124: = | G124: =+ROUND(H106,0) -> 5355000
B125:  𝐶𝑑𝑖𝑠𝑝: costos de disposición o retiro de equipos al finalizar el contrato. | F125: = | G125: =+ROUND(I106,0) -> 0
E127: CTA | F127: = | G127: =+G121+G122+G123+G124+G125 -> 81405694
B131: 5. IMPRESORA LÁSER
B133: Oferta | C133: Valor mensual del alquiler | D133: Costo de mantenimiento preventivo mensual por equipo | E133: Costo de mantenimiento correctivo mensual por equipo | F133: Costo soporte técnico mensual y actualizaciones por equipo | G133: costos de disposición final o gestión RAEE. Por mes de alquiler | H133: Costo penalidades o costos de renovación o sustitución anticipada. Por mes de alquiler | I133: costos de disposición o retiro de equipos al finalizar: el contrato. Por mes de alquiler | J133: Costo mensual del licenciamiento del sistema operativo por equipo de computo | K133: Costo mensual del licenciamiento del antivirus por equipo de computo | L133: Costo mensual del licenciamiento del sistema de contabilización de impresión | M133: Valor total unitario Mensual
B134: Proveedor 1 | C134: 2380000 | D134: 70000 | E134: 245000 | F134: 0 | G134: 0 | H134: 2380000 | I134: 0 | J134: 0 | K134: 0 | L134: 143500 | M134: 2838500
B135: Proveedor 2 | C135: 1610000 | D135: 63000 | E135: 245000 | F135: 0 | G135: 0 | H135: 245000 | I135: 0 | J135: 0 | K135: 0 | L135: 126000 | M135: 2044000
B136: Proveedor 3 | C136: 2240000 | D136: 70000 | E136: 245000 | F136: 0 | G136: 0 | H136: 385000 | I136: 0 | J136: 0 | K136: 0 | L136: 140000 | M136: 2695000
B138: Promedio | C138: =+ROUND(AVERAGE(C134:C136),0) -> 2076667 | D138: =+ROUND(AVERAGE(D134:D136),0) -> 67667 | E138: =+ROUND(AVERAGE(E134:E136),0) -> 245000 | F138: =+ROUND(AVERAGE(F134:F136),0) -> 0 | G138: =+ROUND(AVERAGE(G134:G136),0) -> 0 | H138: =+ROUND(AVERAGE(H134:H136),0) -> 1003333 | I138: =+ROUND(AVERAGE(I134:I136),0) -> 0 | J138: =+ROUND(AVERAGE(J134:J136),0) -> 0 | ... M138: =+ROUND(AVERAGE(M134:M136),0) -> 2525833
B141: Definición 𝐶𝑒𝑛𝑒𝑟𝑔: costos estimados de consumo energético en el periodo analizado.
...

Sheet Consol Cotizacio Arrendamiento
B2: Analisis Arrendamiento
H3: Valor unitario de arrendamiento por equipo | T3: Valor total de arrendamiento mensual
B4: Oferta | C4: ítem | D4: Perfil | E4: Identificación | F4: Cantidad | G4: indicar el consumo energético del elemento cotizado tecnológico | H4: Valor mensual del alquiler | I4: Costo de mantenimiento preventivo mensual por equipo | J4: Costo de mantenimiento correctivo mensual por equipo | K4: Costo soporte técnico mensual y actualizaciones por equipo | L4: costos de disposición final o gestión RAEE. Por mes de alquiler | M4: Costo penalidades o costos de renovación o sustitución anticipada. Por mes de alquiler | N4: costos de disposición o retiro de equipos al finalizar: el contrato. Por mes de alquiler | O4: Costo mensual del licenciamiento del sistema operativo por equipo de computo | P4: Costo mensual del licenciamiento del antivirus por equipo de computo | Q4: Costo mensual del licenciamiento del sistema de contabilización de impresión | R4: Valor total unitario | T4: Valor mensual del alquiler | U4: Costo de mantenimiento preventivo mensual por equipo | V4: Costo de mantenimiento correctivo mensual por equipo | W4: Costo soporte técnico mensual y actualizaciones por equipo | X4: costos de disposición final o gestión RAEE. Por mes de alquiler | Y4: Costo penalidades o costos de renovación o sustitución anticipada. Por mes de alquiler | Z4: costos de disposición o retiro de equipos al finalizar: el contrato. Por mes de alquiler | AA4: Costo mensual del licenciamiento del sistema operativo por equipo de computo | AB4: Costo mensual del licenciamiento del antivirus por equipo de computo | AC4: Costo mensual del licenciamiento del sistema de contabilización de impresión | AD4: Valor total unitario Mensual
B5: Proveedor 1 | C5: 1 | D5: Operativo | E5: COMPUTADOR DE ESCRITORIO BÁSICO | F5: 26 | H5: 180000 | I5: 7000 | J5: 9000 | K5: 2000 | L5: 0 | M5: 180000 | N5: 10000 | O5: 9900 | P5: 14500 | R5: =+SUM(H5:Q5)-M5 -> 232400 | T5: =+H5*$F5 -> 4680000 | U5: =+I5*$F5 -> 182000 | V5: =+J5*$F5 -> 234000 | W5: =+K5*$F5 -> 52000 | X5: =+L5*$F5 -> 0 | Y5: =+M5*$F5 -> 4680000 | Z5: =+N5*$F5 -> 260000 | AA5: =+O5*$F5 -> 257400 | ... AC5: =+Q5*$F5 -> 0 | AD5: =+SUM(T5:AC5)-Y5 -> 6042400
C6: 2 | D6: BIM y Georeferenciación | E6: COMPUTADOR DE ESCRITORIO ESPECIALIZADO | F6: 2 | H6: 520000 | I6: 18000 | J6: 30000 | K6: 0 | L6: 0 | M6: 520000 | N6: 0 | O6: 9900 | P6: 14500 | R6: =+SUM(H6:Q6)-M6 -> 592400 | T6: =+H6*$F6 -> 1040000 | U6: =+I6*$F6 -> 36000 | V6: =+J6*$F6 -> 60000 | W6: =+K6*$F6 -> 0 | X6: =+L6*$F6 -> 0 | Y6: =+M6*$F6 -> 1040000 | Z6: =+N6*$F6 -> 0 | AA6: =+O6*$F6 -> 19800 | ... AC6: =+Q6*$F6 -> 0 | AD6: =+SUM(T6:AC6)-Y6 -> 1184800
C7: 3 | D7: Administrativo y gerencia | E7: COMPUTADOR PORTÁTIL AVANZADO I | F7: 206 | H7: 190000 | I7: 6000 | J7: 12000 | K7: 0 | L7: 0 | M7: 190000 | N7: 0 | O7: 9900 | P7: 14500 | R7: =+SUM(H7:Q7)-M7 -> 232400 | T7: =+H7*$F7 -> 39140000 | U7: =+I7*$F7 -> 1236000 | V7: =+J7*$F7 -> 2472000 | W7: =+K7*$F7 -> 0 | X7: =+L7*$F7 -> 0 | Y7: =+M7*$F7 -> 39140000 | Z7: =+N7*$F7 -> 0 | AA7: =+O7*$F7 -> 2039400 | ... AC7: =+Q7*$F7 -> 0 | AD7: =+SUM(T7:AC7)-Y7 -> 47874400
C8: 4 | D8: Ingenieros y arquitectos | E8: COMPUTADOR PORTÁTIL AVANZADO II | F8: 63 | H8: 220000 | I8: 6000 | J8: 12000 | K8: 0 | L8: 0 | M8: 220000 | N8: 0 | O8: 9900 | P8: 14500 | R8: 262400 | T8: =+H8*$F8 -> 13860000 | U8: =+I8*$F8 -> 378000 | V8: =+J8*$F8 -> 756000 | W8: =+K8*$F8 -> 0 | X8: =+L8*$F8 -> 0 | Y8: =+M8*$F8 -> 13860000 | Z8: =+N8*$F8 -> 0 | AA8: =+O8*$F8 -> 623700 | ... AC8: =+Q8*$F8 -> 0 | AD8: =+SUM(T8:AC8)-Y8 -> 16531200
C9: 5 | D9: Operativa | E9: IMPRESORA LÁSER | F9: 7 | H9: 340000 | I9: 10000 | J9: 35000 | K9: 0 | L9: 0 | M9: 340000 | N9: 0 | O9: 0 | P9: 0 | Q9: 20500 | R9: =+SUM(H9:Q9)-M9 -> 405500 | T9: =+H9*$F9 -> 2380000 | U9: =+I9*$F9 -> 70000 | V9: =+J9*$F9 -> 245000 | W9: =+K9*$F9 -> 0 | X9: =+L9*$F9 -> 0 | Y9: =+M9*$F9 -> 2380000 | Z9: =+N9*$F9 -> 0 | AA9: =+O9*$F9 -> 0 | ... AC9: =+Q9*$F9 -> 143500 | AD9: =+SUM(T9:AC9)-Y9 -> 2838500
C10: 6 | D10: Operativo | E10: ESCÁNER A4 | F10: 11 | H10: 200000 | I10: 10000 | J10: 35000 | K10: 0 | L10: 0 | M10: 210000 | N10: 0 | O10: 0 | P10: 0 | Q10: 20500 | R10: =+SUM(H10:Q10)-M10 -> 265500 | T10: =+H10*$F10 -> 2200000 | U10: =+I10*$F10 -> 110000 | V10: =+J10*$F10 -> 385000 | W10: =+K10*$F10 -> 0 | X10: =+L10*$F10 -> 0 | Y10: =+M10*$F10 -> 2310000 | Z10: =+N10*$F10 -> 0 | AA10: =+O10*$F10 -> 0 | ... AC10: =+Q10*$F10 -> 225500 | AD10: =+SUM(T10:AC10)-Y10 -> 2920500
C11: 7 | D11: Ingenieros y arquitectos | E11: TABLETS | F11: 25 | H11: 380000 | I11: 10000 | J11: 30000 | K11: 0 | L11: 0 | M11: 380000 | N11: 0 | O11: 0 | P11: 0 | Q11: 0 | R11: =+SUM(H11:Q11)-M11 -> 420000 | T11: =+H11*$F11 -> 9500000 | U11: =+I11*$F11 -> 250000 | V11: =+J11*$F11 -> 750000 | W11: =+K11*$F11 -> 0 | X11: =+L11*$F11 -> 0 | Y11: =+M11*$F11 -> 9500000 | Z11: =+N11*$F11 -> 0 | AA11: =+O11*$F11 -> 0 | ... AC11: =+Q11*$F11 -> 0 | AD11: =+SUM(T11:AC11)-Y11 -> 10500000
C12: 8 | D12: Administrativo y gerencia | E12: PANTALLA INTERACTIVA | F12: 5 | H12: 670000 | I12: 200000 | J12: 450000 | K12: 0 | L12: 0 | M12: 670000 | N12: 0 | O12: 0 | P12: 0 | Q12: 0 | R12: =+SUM(H12:Q12)-M12 -> 1320000 | T12: =+H12*$F12 -> 3350000 | U12: =+I12*$F12 -> 1000000 | V12: =+J12*$F12 -> 2250000 | W12: =+K12*$F12 -> 0 | X12: =+L12*$F12 -> 0 | Y12: =+M12*$F12 -> 3350000 | Z12: =+N12*$F12 -> 0 | AA12: =+O12*$F12 -> 0 | ... AC12: =+Q12*$F12 -> 0 | AD12: =+SUM(T12:AC12)-Y12 -> 6600000
D13: Valor Total | T13: =+SUM(T5:T12) -> 76150000 | U13: =+SUM(U5:U12) -> 3262000 | V13: =+SUM(V5:V12) -> 7152000 | W13: =+SUM(W5:W12) -> 52000 | X13: =+SUM(X5:X12) -> 0 | Y13: =+SUM(Y5:Y12) -> 76260000 | Z13: =+SUM(Z5:Z12) -> 260000 | AA13: =+SUM(AA5:AA12) -> 2940300 | ... AD13: =+SUM(AD5:AD12) -> 94491800
B15: Proveedor 2 | C15: 1 | D15: Operativo | E15: COMPUTADOR DE ESCRITORIO BÁSICO | F15: 26 | H15: 145000 | I15: 4500 | J15: 8000 | K15: 0 | L15: 0 | M15: 15000 | N15: 0 | O15: 9000 | P15: 14000 | R15: 195500 | T15: =+H15*$F15 -> 3770000 | U15: =+I15*$F15 -> 117000 | V15: =+J15*$F15 -> 208000 | W15: =+K15*$F15 -> 0 | X15: =+L15*$F15 -> 0 | Y15: =+M15*$F15 -> 390000 | Z15: =+N15*$F15 -> 0 | AA15: =+O15*$F15 -> 234000 | ... AC15: =+Q15*$F15 -> 0 | AD15: =+SUM(T15:AC15)-Y15 -> 4693000
C16: 2 | D16: BIM y Georeferenciación | E16: COMPUTADOR DE ESCRITORIO ESPECIALIZADO | F16: 2 | H16: 450000 | I16: 15000 | J16: 25000 | K16: 0 | L16: 0 | M16: 38000 | N16: 0 | O16: 9000 | P16: 14000 | R16: 551000 | T16: =+H16*$F16 -> 900000 | U16: =+I16*$F16 -> 30000 | V16: =+J16*$F16 -> 50000 | W16: =+K16*$F16 -> 0 | X16: =+L16*$F16 -> 0 | Y16: =+M16*$F16 -> 76000 | Z16: =+N16*$F16 -> 0 | AA16: =+O16*$F16 -> 18000 | ... AC16: =+Q16*$F16 -> 0 | AD16: =+SUM(T16:AC16)-Y16 -> 1026000
C17: 3 | D17: Administrativo y gerencia | E17: COMPUTADOR PORTÁTIL AVANZADO I | F17: 206 | H17: 165000 | I17: 4500 | J17: 8000 | K17: 0 | L17: 0 | M17: 15000 | N17: 0 | O17: 9000 | P17: 14000 | R17: 215500 | T17: =+H17*$F17 -> 33990000 | U17: =+I17*$F17 -> 927000 | V17: =+J17*$F17 -> 1648000 | W17: =+K17*$F17 -> 0 | X17: =+L17*$F17 -> 0 | Y17: =+M17*$F17 -> 3090000 | Z17: =+N17*$F17 -> 0 | AA17: =+O17*$F17 -> 1854000 | ... AC17: =+Q17*$F17 -> 0 | AD17: =+SUM(T17:AC17)-Y17 -> 41303000
C18: 4 | D18: Ingenieros y arquitectos | E18: COMPUTADOR PORTÁTIL AVANZADO II | F18: 63 | H18: 190000 | I18: 4500 | J18: 8000 | K18: 0 | L18: 0 | M18: 15000 | N18: 0 | O18: 9000 | P18: 140000 | R18: 366500 | T18: =+H18*$F18 -> 11970000 | U18: =+I18*$F18 -> 283500 | V18: =+J18*$F18 -> 504000 | W18: =+K18*$F18 -> 0 | X18: =+L18*$F18 -> 0 | Y18: =+M18*$F18 -> 945000 | Z18: =+N18*$F18 -> 0 | AA18: =+O18*$F18 -> 567000 | ... AC18: =+Q18*$F18 -> 0 | AD18: =+SUM(T18:AC18)-Y18 -> 22144500
C19: 5 | D19: Operativa | E19: IMPRESORA LÁSER | F19: 7 | H19: 230000 | I19: 9000 | J19: 35000 | K19: 0 | L19: 0 | M19: 35000 | N19: 0 | O19: 0 | P19: 0 | Q19: 18000 | R19: 327000 | T19: =+H19*$F19 -> 1610000 | U19: =+I19*$F19 -> 63000 | V19: =+J19*$F19 -> 245000 | W19: =+K19*$F19 -> 0 | X19: =+L19*$F19 -> 0 | Y19: =+M19*$F19 -> 245000 | Z19: =+N19*$F19 -> 0 | AA19: =+O19*$F19 -> 0 | ... AC19: =+Q19*$F19 -> 126000 | AD19: =+SUM(T19:AC19)-Y19 -> 2044000
C20: 6 | D20: Operativo | E20: ESCÁNER A4 | F20: 11 | H20: 180000 | I20: 8000 | J20: 25000 | K20: 0 | L20: 0 | M20: 30000 | N20: 0 | O20: 0 | P20: 0 | Q20: 18000 | R20: 261000 | T20: =+H20*$F20 -> 1980000 | U20: =+I20*$F20 -> 88000 | V20: =+J20*$F20 -> 275000 | W20: =+K20*$F20 -> 0 | X20: =+L20*$F20 -> 0 | Y20: =+M20*$F20 -> 330000 | Z20: =+N20*$F20 -> 0 | AA20: =+O20*$F20 -> 0 | ... AC20: =+Q20*$F20 -> 198000 | AD20: =+SUM(T20:AC20)-Y20 -> 2541000
C21: 7 | D21: Ingenieros y arquitectos | E21: TABLETS | F21: 25 | H21: 420000 | I21: 8000 | J21: 12000 | K21: 0 | L21: 0 | M21: 20000 | N21: 0 | O21: 0 | P21: 0 | Q21: 0 | R21: 460000 | T21: =+H21*$F21 -> 10500000 | U21: =+I21*$F21 -> 200000 | V21: =+J21*$F21 -> 300000 | W21: =+K21*$F21 -> 0 | X21: =+L21*$F21 -> 0 | Y21: =+M21*$F21 -> 500000 | Z21: =+N21*$F21 -> 0 | AA21: =+O21*$F21 -> 0 | ... AC21: =+Q21*$F21 -> 0 | AD21: =+SUM(T21:AC21)-Y21 -> 11000000
C22: 8 | D22: Administrativo y gerencia | E22: PANTALLA INTERACTIVA | F22: 5 | H22: 480000 | I22: 18000 | J22: 34500 | K22: 0 | L22: 0 | M22: 0 | N22: 0 | O22: 0 | P22: 0 | Q22: 0 | R22: 532500 | T22: =+H22*$F22 -> 2400000 | U22: =+I22*$F22 -> 90000 | V22: =+J22*$F22 -> 172500 | W22: =+K22*$F22 -> 0 | X22: =+L22*$F22 -> 0 | Y22: =+M22*$F22 -> 0 | Z22: =+N22*$F22 -> 0 | AA22: =+O22*$F22 -> 0 | ... AC22: =+Q22*$F22 -> 0 | AD22: =+SUM(T22:AC22)-Y22 -> 2662500
D23: Valor Total | T23: =+SUM(T15:T22) -> 67120000 | U23: =+SUM(U15:U22) -> 1798500 | V23: =+SUM(V15:V22) -> 3402500 | W23: =+SUM(W15:W22) -> 0 | X23: =+SUM(X15:X22) -> 0 | Y23: =+SUM(Y15:Y22) -> 5576000 | Z23: =+SUM(Z15:Z22) -> 0 | AA23: =+SUM(AA15:AA22) -> 2673000 | ... AD23: =+SUM(AD15:AD22) -> 87414000
B25: Proveedor 3 | C25: 1 | D25: Operativo | E25: COMPUTADOR DE ESCRITORIO BÁSICO | F25: 26 | H25: 165000 | I25: 5000 | J25: 9000 | K25: 1000 | L25: 0 | M25: 18000 | N25: 10000 | O25: 9000 | P25: 15000 | R25: 232000 | T25: =+H25*$F25 -> 4290000 | U25: =+I25*$F25 -> 130000 | V25: =+J25*$F25 -> 234000 | W25: =+K25*$F25 -> 26000 | X25: =+L25*$F25 -> 0 | Y25: =+M25*$F25 -> 468000 | Z25: =+N25*$F25 -> 260000 | AA25: =+O25*$F25 -> 234000 | ... AC25: =+Q25*$F25 -> 0 | AD25: =+SUM(T25:AC25)-Y25 -> 5564000
C26: 2 | D26: BIM y Georeferenciación | E26: COMPUTADOR DE ESCRITORIO ESPECIALIZADO | F26: 2 | H26: 510000 | I26: 17000 | J26: 25000 | K26: 0 | L26: 0 | M26: 45000 | N26: 0 | O26: 9000 | P26: 15000 | R26: 621000 | T26: =+H26*$F26 -> 1020000 | U26: =+I26*$F26 -> 34000 | V26: =+J26*$F26 -> 50000 | W26: =+K26*$F26 -> 0 | X26: =+L26*$F26 -> 0 | Y26: =+M26*$F26 -> 90000 | Z26: =+N26*$F26 -> 0 | AA26: =+O26*$F26 -> 18000 | ... AC26: =+Q26*$F26 -> 0 | AD26: =+SUM(T26:AC26)-Y26 -> 1152000
C27: 3 | D27: Administrativo y gerencia | E27: COMPUTADOR PORTÁTIL AVANZADO I | F27: 206 | H27: 172000 | I27: 5000 | J27: 12000 | K27: 0 | L27: 0 | M27: 20000 | N27: 0 | O27: 9000 | P27: 15000 | R27: 233000 | T27: =+H27*$F27 -> 35432000 | U27: =+I27*$F27 -> 1030000 | V27: =+J27*$F27 -> 2472000 | W27: =+K27*$F27 -> 0 | X27: =+L27*$F27 -> 0 | Y27: =+M27*$F27 -> 4120000 | Z27: =+N27*$F27 -> 0 | AA27: =+O27*$F27 -> 1854000 | ... AC27: =+Q27*$F27 -> 0 | AD27: =+SUM(T27:AC27)-Y27 -> 43878000
C28: 4 | D28: Ingenieros y arquitectos | E28: COMPUTADOR PORTÁTIL AVANZADO II | F28: 63 | H28: 210000 | I28: 6500 | J28: 12000 | K28: 0 | L28: 0 | M28: 20000 | N28: 0 | O28: 9000 | P28: 15000 | R28: 272500 | T28: =+H28*$F28 -> 13230000 | U28: =+I28*$F28 -> 409500 | V28: =+J28*$F28 -> 756000 | W28: =+K28*$F28 -> 0 | X28: =+L28*$F28 -> 0 | Y28: =+M28*$F28 -> 1260000 | Z28: =+N28*$F28 -> 0 | AA28: =+O28*$F28 -> 567000 | ... AC28: =+Q28*$F28 -> 0 | AD28: =+SUM(T28:AC28)-Y28 -> 15907500
C29: 5 | D29: Operativa | E29: IMPRESORA LÁSER | F29: 7 | H29: 320000 | I29: 10000 | J29: 35000 | K29: 0 | L29: 0 | M29: 55000 | N29: 0 | O29: 0 | P29: 0 | Q29: 20000 | R29: 440000 | T29: =+H29*$F29 -> 2240000 | U29: =+I29*$F29 -> 70000 | V29: =+J29*$F29 -> 245000 | W29: =+K29*$F29 -> 0 | X29: =+L29*$F29 -> 0 | Y29: =+M29*$F29 -> 385000 | Z29: =+N29*$F29 -> 0 | AA29: =+O29*$F29 -> 0 | ... AC29: =+Q29*$F29 -> 140000 | AD29: =+SUM(T29:AC29)-Y29 -> 2695000
C30: 6 | D30: Operativo | E30: ESCÁNER A4 | F30: 11 | H30: 210000 | I30: 10000 | J30: 30000 | K30: 0 | L30: 0 | M30: 40000 | N30: 0 | O30: 0 | P30: 0 | Q30: 20000 | R30: 310000 | T30: =+H30*$F30 -> 2310000 | U30: =+I30*$F30 -> 110000 | V30: =+J30*$F30 -> 330000 | W30: =+K30*$F30 -> 0 | X30: =+L30*$F30 -> 0 | Y30: =+M30*$F30 -> 440000 | Z30: =+N30*$F30 -> 0 | AA30: =+O30*$F30 -> 0 | ... AC30: =+Q30*$F30 -> 220000 | AD30: =+SUM(T30:AC30)-Y30 -> 2970000
C31: 7 | D31: Ingenieros y arquitectos | E31: TABLETS | F31: 25 | H31: 395000 | I31: 10000 | J31: 20000 | K31: 0 | L31: 0 | M31: 30000 | N31: 0 | O31: 0 | P31: 0 | Q31: 0 | R31: 455000 | T31: =+H31*$F31 -> 9875000 | U31: =+I31*$F31 -> 250000 | V31: =+J31*$F31 -> 500000 | W31: =+K31*$F31 -> 0 | X31: =+L31*$F31 -> 0 | Y31: =+M31*$F31 -> 750000 | Z31: =+N31*$F31 -> 0 | AA31: =+O31*$F31 -> 0 | ... AC31: =+Q31*$F31 -> 0 | AD31: =+SUM(T31:AC31)-Y31 -> 10625000
C32: 8 | D32: Administrativo y gerencia | E32: PANTALLA INTERACTIVA | F32: 5 | H32: 650000 | I32: 200000 | J32: 450000 | K32: 0 | L32: 0 | M32: 0 | N32: 0 | O32: 0 | P32: 0 | Q32: 0 | R32: 1300000 | T32: =+H32*$F32 -> 3250000 | U32: =+I32*$F32 -> 1000000 | V32: =+J32*$F32 -> 2250000 | W32: =+K32*$F32 -> 0 | X32: =+L32*$F32 -> 0 | Y32: =+M32*$F32 -> 0 | Z32: =+N32*$F32 -> 0 | AA32: =+O32*$F32 -> 0 | ... AC32: =+Q32*$F32 -> 0 | AD32: =+SUM(T32:AC32)-Y32 -> 6500000
D33: Valor Total | T33: =+SUM(T25:T32) -> 71647000 | U33: =+SUM(U25:U32) -> 3033500 | V33: =+SUM(V25:V32) -> 6837000 | W33: =+SUM(W25:W32) -> 26000 | X33: =+SUM(X25:X32) -> 0 | Y33: =+SUM(Y25:Y32) -> 7513000 | Z33: =+SUM(Z25:Z32) -> 260000 | AA33: =+SUM(AA25:AA32) -> 2673000 | ... AD33: =+SUM(AD25:AD32) -> 89291500

Sheet Analisis Compra
B3: Compra de equipos de computo y periféricos
B5: 1. COMPUTADOR DE ESCRITORIO BÁSICO
B7: Oferta | C7: Valor unitario del equipo | D7: Costo de mantenimiento preventivo anual por equipo | E7: Costo de mantenimiento correctivo anual por equipo | F7: Costo soporte técnico y actualizaciones por equipo | G7: costos de disposición final o gestión RAEE. | H7: Costo penalidades o costos de renovación o sustitución anticipada. | I7: costos de disposición o retiro de equipos al finalizar: el contrato. | J7: Costo del licenciamiento del sistema operativo por equipo de computo | K7: Costo del licenciamiento del antivirus por equipo de computo | L7: Costo del licenciamiento del sistema de contabilización de impresión | M7: Valor total unitario
B8: Proveedor 1 | C8: 135200000 | D8: 4680000 | E8: 9100000 | F8: 2080000 | G8: 2080000 | H8: 0 | I8: 0 | J8: 0 | K8: 46800000 | L8: 0 | M8: 199940000
B9: Proveedor 2 | C9: 115700000 | D9: 2730000 | E9: 11700000 | F9: 2080000 | G9: 2340000 | H9: 0 | I9: 0 | J9: 0 | K9: 5070000 | L9: 0 | M9: 139620000
B10: Proveedor 3 | C10: 128700000 | D10: 4680000 | E10: 11440000 | F10: 2340000 | G10: 2340000 | H10: 0 | I10: 0 | J10: 0 | K10: 5330000 | L10: 0 | M10: 154830000
B12: Promedio | C12: =+ROUND(AVERAGE(C8:C10),0) -> 126533333 | D12: =+ROUND(AVERAGE(D8:D10),0) -> 4030000 | E12: =+ROUND(AVERAGE(E8:E10),0) -> 10746667 | F12: =+ROUND(AVERAGE(F8:F10),0) -> 2166667 | G12: =+ROUND(AVERAGE(G8:G10),0) -> 2253333 | H12: =+ROUND(AVERAGE(H8:H10),0) -> 0 | I12: =+ROUND(AVERAGE(I8:I10),0) -> 0 | J12: =+ROUND(AVERAGE(J8:J10),0) -> 0 | ... M12: =+ROUND(AVERAGE(M8:M10),0) -> 164796667
B15: Definición 𝐶𝑒𝑛𝑒𝑟𝑔: costos estimados de consumo energético en el periodo analizado.
B16:  Potencia (kW): consumo promedio del equipo suministrado por el fabricante. | F16: = | G16: =90/1000 -> 0.09
B17:  Horas de uso: por ejemplo, 8 horas diarias. | F17: = | G17: 8
B18:  Días de operación: días hábiles del período analizado. | F18: = | G18: 20
B19:  Tarifa energía: valor promedio del kWh que paga la entidad. | F19: = | G19: 863.61
B20:  Cantidad: número de equipos arrendados. | F20: = | G20: 26
B21: Costo energético = Potencia (kW) × Horas de uso × Días de operación × Tarifa energía ($/kWh) × Cantidad de equipos | F21: = | G21: =ROUND(G16*G17*G18*G19*G20,0) -> 323336
B22: Vida util tecnica estimada en años | F22: = | G22: 5
B24: Costo Total de Arrendamiento (CTA):
B25: #VALUE!
B26:  𝐶𝑎𝑑𝑞: costo de adquisición o compra del equipo. | F26: = | G26: =+C12+J12+K12 -> 145600000 | H26: Costo de adquisición mas licencias
B27:  𝐶𝑚𝑎𝑛𝑡: costos de mantenimiento preventivo y correctivo durante la vida útil. | F27: = | G27: =+(D12+E12)*G22 -> 73883335 | H27: Costo mantenimiento preventivo y correctivo * vida util estimada en años
B28:  𝐶𝑒𝑛𝑒𝑟𝑔: costos estimados de consumo energético en el periodo analizado. | F28: = | G28: =+G21 -> 323336
B29:  𝐶𝑠𝑜𝑝𝑜𝑟𝑡𝑒: costos de soporte técnico y actualizaciones. | F29: = | G29: =+F12*G22 -> 10833335 | H29: Soporte técnico * vida util estimada en años
B30:  𝐶𝑑𝑖𝑠𝑝: costos de disposición final o gestión RAEE. | F30: = | G30: =+G12 -> 2253333
B31:  𝑉𝑟𝑒𝑠: valor residual o de reventa al final de la vida útil (si aplica). | F31: = | G31: 0
E33: CTA | F33: = | G33: =+G26+G27+G28+G29+G30-G31 -> 232893339
B36: 2. COMPUTADOR DE ESCRITORIO ESPECIALIZADO
B38: Oferta | C38: Valor unitario del equipo | D38: Costo de mantenimiento preventivo anual por equipo | E38: Costo de mantenimiento correctivo anual por equipo | F38: Costo soporte técnico y actualizaciones por equipo | G38: costos de disposición final o gestión RAEE. | H38: Costo penalidades o costos de renovación o sustitución anticipada. | I38: costos de disposición o retiro de equipos al finalizar: el contrato. | J38: Costo del licenciamiento del sistema operativo por equipo de computo | K38: Costo del licenciamiento del antivirus por equipo de computo | L38: Costo del licenciamiento del sistema de contabilización de impresión | M38: Valor total unitario
B39: Proveedor 1 | C39: 42500000 | D39: 440000 | E39: 1100000 | F39: 180000 | G39: 180000 | H39: 0 | I39: 0 | J39: 0 | K39: 3600000 | L39: 0 | M39: 48000000
B40: Proveedor 2 | C40: 31000000 | D40: 500000 | E40: 900000 | F40: 160000 | G40: 180000 | H40: 0 | I40: 0 | J40: 0 | K40: 390000 | L40: 0 | M40: 33130000
B41: Proveedor 3 | C41: 39000000 | D41: 440000 | E41: 1000000 | F41: 180000 | G41: 180000 | H41: 0 | I41: 0 | J41: 0 | K41: 410000 | L41: 0 | M41: 41210000
B43: Promedio | C43: =+AVERAGE(C39:C41) -> 37500000 | D43: =+AVERAGE(D39:D41) -> 460000 | E43: =+AVERAGE(E39:E41) -> 1000000 | F43: =+AVERAGE(F39:F41) -> 173333.33 | G43: =+AVERAGE(G39:G41) -> 180000 | H43: =+AVERAGE(H39:H41) -> 0 | I43: =+AVERAGE(I39:I41) -> 0 | J43: =+AVERAGE(J39:J41) -> 0 | ... M43: =+AVERAGE(M39:M41) -> 40780000
B46: Definición 𝐶𝑒𝑛𝑒𝑟𝑔: costos estimados de consumo energético en el periodo analizado.
B47:  Potencia (kW): consumo promedio del equipo suministrado por el fabricante. | F47: = | G47: =90/1000 -> 0.09
B48:  Horas de uso: por ejemplo, 8 horas diarias. | F48: = | G48: 8
B49:  Días de operación: días hábiles del período analizado. | F49: = | G49: 20
B50:  Tarifa energía: valor promedio del kWh que paga la entidad. | F50: = | G50: 863.61
B51:  Cantidad: número de equipos arrendados. | F51: = | G51: 2
B52: Costo energético = Potencia (kW) × Horas de uso × Días de operación × Tarifa energía ($/kWh) × Cantidad de equipos | F52: = | G52: =ROUND(G47*G48*G49*G50*G51,0) -> 24872
B53: Vida util tecnica estimada en años | F53: = | G53: 4
B55: Costo Total de Arrendamiento (CTA):
B56: #VALUE!
B57:  𝐶𝑎𝑑𝑞: costo de adquisición o compra del equipo. | F57: = | G57: =+C43+J43+K43 -> 38966667 | H57: Costo de adquisición mas licencias
B58:  𝐶𝑚𝑎𝑛𝑡: costos de mantenimiento preventivo y correctivo durante la vida útil. | F58: = | G58: =+(D43+E43)*G53 -> 5840000 | H58: Costo mantenimiento preventivo y correctivo * vida util estimada en años
B59:  𝐶𝑒𝑛𝑒𝑟𝑔: costos estimados de consumo energético en el periodo analizado. | F59: = | G59: =+G52 -> 24872
B60:  𝐶𝑠𝑜𝑝𝑜𝑟𝑡𝑒: costos de soporte técnico y actualizaciones. | F60: = | G60: =+F43*G53 -> 693333.33 | H60: Soporte técnico * vida util estimada en años
B61:  𝐶𝑑𝑖𝑠𝑝: costos de disposición final o gestión RAEE. | F61: = | G61: =+G43 -> 180000
B62:  𝑉𝑟𝑒𝑠: valor residual o de reventa al final de la vida útil (si aplica). | F62: = | G62: 0
E64: CTA | F64: = | G64: =+G57+G58+G59+G60+G61-G62 -> 45704872
B67: 3. COMPUTADOR PORTÁTIL AVANZADO I
B69: Oferta | C69: Valor unitario del equipo | D69: Costo de mantenimiento preventivo anual por equipo | E69: Costo de mantenimiento correctivo anual por equipo | F69: Costo soporte técnico y actualizaciones por equipo | G69: costos de disposición final o gestión RAEE. | H69: Costo penalidades o costos de renovación o sustitución anticipada. | I69: costos de disposición o retiro de equipos al finalizar: el contrato. | J69: Costo del licenciamiento del sistema operativo por equipo de computo | K69: Costo del licenciamiento del antivirus por equipo de computo | L69: Costo del licenciamiento del sistema de contabilización de impresión | M69: Valor total unitario
B70: Proveedor 1 | C70: 1027940000 | D70: 37080000 | E70: 82400000 | F70: 16480000 | G70: 16480000 | H70: 0 | I70: 0 | J70: 0 | K70: 370800000 | L70: 0 | M70: 1551180000
B71: Proveedor 2 | C71: 978500000 | D71: 21630000 | E71: 72100000 | F71: 16480000 | G71: 18540000 | H71: 0 | I71: 0 | J71: 0 | K71: 40170000 | L71: 0 | M71: 1147420000
B72: Proveedor 3 | C72: 978500000 | D72: 21630000 | E72: 82400000 | F72: 18540000 | G72: 18540000 | H72: 0 | I72: 0 | J72: 0 | K72: 42230000 | L72: 0 | M72: 1161840000
B74: Promedio | C74: =+AVERAGE(C70:C72) -> 994980000 | D74: =+AVERAGE(D70:D72) -> 26780000 | E74: =+AVERAGE(E70:E72) -> 78966667 | F74: =+AVERAGE(F70:F72) -> 17166667 | G74: =+AVERAGE(G70:G72) -> 17853333 | H74: =+AVERAGE(H70:H72) -> 0 | I74: =+AVERAGE(I70:I72) -> 0 | J74: =+AVERAGE(J70:J72) -> 0 | ... M74: =+AVERAGE(M70:M72) -> 1.2868133e+09
B77: Definición 𝐶𝑒𝑛𝑒𝑟𝑔: costos estimados de consumo energético en el periodo analizado.
B78:  Potencia (kW): consumo promedio del equipo suministrado por el fabricante. | F78: = | G78: =90/1000 -> 0.09
B79:  Horas de uso: por ejemplo, 8 horas diarias. | F79: = | G79: 8
B80:  Días de operación: días hábiles del período analizado. | F80: = | G80: 20
B81:  Tarifa energía: valor promedio del kWh que paga la entidad. | F81: = | G81: 863.61
B82:  Cantidad: número de equipos arrendados. | F82: = | G82: 206
B83: Costo energético = Potencia (kW) × Horas de uso × Días de operación × Tarifa energía ($/kWh) × Cantidad de equipos | F83: = | G83: =ROUND(G78*G79*G80*G81*G82,0) -> 2561813
B84: Vida util tecnica estimada en años | F84: = | G84: 5
B86: Costo Total de Arrendamiento (CTA):
B87: #VALUE!
B88:  𝐶𝑎𝑑𝑞: costo de adquisición o compra del equipo. | F88: = | G88: =+C74+J74+K74 -> 1.1460467e+09 | H88: Costo de adquisición mas licencias
B89:  𝐶𝑚𝑎𝑛𝑡: costos de mantenimiento preventivo y correctivo durante la vida útil. | F89: = | G89: =+(D74+E74)*G84 -> 5.2873333e+08 | H89: Costo mantenimiento preventivo y correctivo * vida util estimada en años
B90:  𝐶𝑒𝑛𝑒𝑟𝑔: costos estimados de consumo energético en el periodo analizado. | F90: = | G90: =+G83 -> 2561813
B91:  𝐶𝑠𝑜𝑝𝑜𝑟𝑡𝑒: costos de soporte técnico y actualizaciones. | F91: = | G91: =+F74*G84 -> 85833333 | H91: Soporte técnico * vida util estimada en años
B92:  𝐶𝑑𝑖𝑠𝑝: costos de disposición final o gestión RAEE. | F92: = | G92: =+G74 -> 17853333
B93:  𝑉𝑟𝑒𝑠: valor residual o de reventa al final de la vida útil (si aplica). | F93: = | G93: 0
E95: CTA | F95: = | G95: =+G88+G89+G90+G91+G92-G93 -> 1.7810285e+09
B98: 4. COMPUTADOR PORTÁTIL AVANZADO II
B100: Oferta | C100: Valor unitario del equipo | D100: Costo de mantenimiento preventivo anual por equipo | E100: Costo de mantenimiento correctivo anual por equipo | F100: Costo soporte técnico y actualizaciones por equipo | G100: costos de disposición final o gestión RAEE. | H100: Costo penalidades o costos de renovación o sustitución anticipada. | I100: costos de disposición o retiro de equipos al finalizar: el contrato. | J100: Costo del licenciamiento del sistema operativo por equipo de computo | K100: Costo del licenciamiento del antivirus por equipo de computo | L100: Costo del licenciamiento del sistema de contabilización de impresión | M100: Valor total unitario
B101: Proveedor 1 | C101: 376110000 | D101: 11340000 | E101: 28350000 | F101: 5670000 | G101: 5670000 | H101: 0 | I101: 0 | J101: 0 | K101: 113400000 | L101: 0 | M101: 540540000
B102: Proveedor 2 | C102: 324450000 | D102: 6615000 | E102: 22050000 | F102: 5040000 | G102: 5670000 | H102: 0 | I102: 0 | J102: 0 | K102: 12285000 | L102: 0 | M102: 376110000
B103: Proveedor 3 | C103: 376425000 | D103: 6615000 | E103: 25200000 | F103: 5670000 | G103: 5670000 | H103: 0 | I103: 0 | J103: 0 | K103: 12915000 | L103: 0 | M103: 432495000
B105: Promedio | C105: =+AVERAGE(C101:C103) -> 358995000 | D105: =+AVERAGE(D101:D103) -> 8190000 | E105: =+AVERAGE(E101:E103) -> 25200000 | F105: =+AVERAGE(F101:F103) -> 5460000 | G105: =+AVERAGE(G101:G103) -> 5670000 | H105: =+AVERAGE(H101:H103) -> 0 | I105: =+AVERAGE(I101:I103) -> 0 | J105: =+AVERAGE(J101:J103) -> 0 | ... M105: =+AVERAGE(M101:M103) -> 449715000
B108: Definición 𝐶𝑒𝑛𝑒𝑟𝑔: costos estimados de consumo energético en el periodo analizado.
B109:  Potencia (kW): consumo promedio del equipo suministrado por el fabricante. | F109: = | G109: =90/1000 -> 0.09
B110:  Horas de uso: por ejemplo, 8 horas diarias. | F110: = | G110: 8
B111:  Días de operación: días hábiles del período analizado. | F111: = | G111: 20
B112:  Tarifa energía: valor promedio del kWh que paga la entidad. | F112: = | G112: 863.61
B113:  Cantidad: número de equipos arrendados. | F113: = | G113: 63
B114: Costo energético = Potencia (kW) × Horas de uso × Días de operación × Tarifa energía ($/kWh) × Cantidad de equipos | F114: = | G114: =ROUND(G109*G110*G111*G112*G113,0) -> 783467
B115: Vida util tecnica estimada en años | F115: = | G115: 4
B117: Costo Total de Arrendamiento (CTA):
B118: #VALUE!
B119:  𝐶𝑎𝑑𝑞: costo de adquisición o compra del equipo. | F119: = | G119: =+C105+J105+K105 -> 405195000 | H119: Costo de adquisición mas licencias
B120:  𝐶𝑚𝑎𝑛𝑡: costos de mantenimiento preventivo y correctivo durante la vida útil. | F120: = | G120: =+(D105+E105)*G115 -> 133560000 | H120: Costo mantenimiento preventivo y correctivo * vida util estimada en años
B121:  𝐶𝑒𝑛𝑒𝑟𝑔: costos estimados de consumo energético en el periodo analizado. | F121: = | G121: =+G114 -> 783467
B122:  𝐶𝑠𝑜𝑝𝑜𝑟𝑡𝑒: costos de soporte técnico y actualizaciones. | F122: = | G122: =+F105*G115 -> 21840000 | H122: Soporte técnico * vida util estimada en años
B123:  𝐶𝑑𝑖𝑠𝑝: costos de disposición final o gestión RAEE. | F123: = | G123: =+G105 -> 5670000
B124:  𝑉𝑟𝑒𝑠: valor residual o de reventa al final de la vida útil (si aplica). | F124: = | G124: 0
E126: CTA | F126: = | G126: =+G119+G120+G121+G122+G123-G124 -> 567048467
B129: 5. IMPRESORA LÁSER
B131: Oferta | C131: Valor unitario del equipo | D131: Costo de mantenimiento preventivo anual por equipo | E131: Costo de mantenimiento correctivo anual por equipo | F131: Costo soporte técnico y actualizaciones por equipo | G131: costos de disposición final o gestión RAEE. | H131: Costo penalidades o costos de renovación o sustitución anticipada. | I131: costos de disposición o retiro de equipos al finalizar: el contrato. | J131: Costo del licenciamiento del sistema operativo por equipo de computo | K131: Costo del licenciamiento del antivirus por equipo de computo | L131: Costo del licenciamiento del sistema de contabilización de impresión | M131: Valor total unitario
B132: Proveedor 1 | C132: 20650000 | D132: 1155000 | E132: 2240000 | F132: 630000 | G132: 630000 | H132: 0 | I132: 0 | J132: 0 | K132: 0 | L132: 13300000 | M132: 38605000
B133: Proveedor 2 | C133: 15050000 | D133: 1050000 | E133: 2450000 | F133: 560000 | G133: 630000 | H133: 0 | I133: 0 | J133: 0 | K133: 0 | L133: 1260000 | M133: 21000000
B134: Proveedor 3 | C134: 18550000 | D134: 1190000 | E134: 2450000 | F134: 630000 | G134: 630000 | H134: 0 | I134: 0 | J134: 0 | K134: 0 | L134: 1470000 | M134: 24920000
B136: Promedio | C136: =+AVERAGE(C132:C134) -> 18083333 | D136: =+AVERAGE(D132:D134) -> 1131666.7 | E136: =+AVERAGE(E132:E134) -> 2380000 | F136: =+AVERAGE(F132:F134) -> 606666.67 | G136: =+AVERAGE(G132:G134) -> 630000 | H136: =+AVERAGE(H132:H134) -> 0 | I136: =+AVERAGE(I132:I134) -> 0 | J136: =+AVERAGE(J132:J134) -> 0 | ... M136: =+AVERAGE(M132:M134) -> 28175000
B139: Definición 𝐶𝑒𝑛𝑒𝑟𝑔: costos estimados de consumo energético en el periodo analizado.
...

Sheet Consol Cotizacion Compra
B2: Analisis Compra
H3: Valor unitario de acompra por equipo | T3: Valor total de compra mensual
B4: Oferta | C4: ítem | D4: Perfil | E4: Identificación | F4: Cantidad | G4: indicar el consumo energético del elemento cotizado tecnológico | H4: Valor unitario del equipo | I4: Costo de mantenimiento preventivo anual por equipo | J4: Costo de mantenimiento correctivo anual por equipo | K4: Costo soporte técnico y actualizaciones por equipo | L4: costos de disposición final o gestión RAEE. | M4: Costo penalidades o costos de renovación o sustitución anticipada. | N4: costos de disposición o retiro de equipos al finalizar: el contrato. | O4: Costo del licenciamiento del sistema operativo por equipo de computo | P4: Costo del licenciamiento del antivirus por equipo de computo | Q4: Costo del licenciamiento del sistema de contabilización de impresión | R4: Valor total unitario | T4: Valor unitario del equipo | U4: Costo de mantenimiento preventivo anual por equipo | V4: Costo de mantenimiento correctivo anual por equipo | W4: Costo soporte técnico y actualizaciones por equipo | X4: costos de disposición final o gestión RAEE. | Y4: Costo penalidades o costos de renovación o sustitución anticipada. | Z4: costos de disposición o retiro de equipos al finalizar: el contrato. | AA4: Costo del licenciamiento del sistema operativo por equipo de computo | AB4: Costo del licenciamiento del antivirus por equipo de computo | AC4: Costo del licenciamiento del sistema de contabilización de impresión | AD4: Valor total unitario
B5: Proveedor 1 | C5: 1 | D5: Operativo | E5: COMPUTADOR DE ESCRITORIO BÁSICO | F5: 26 | H5: 5200000 | I5: 180000 | J5: 350000 | K5: 80000 | L5: 80000 | M5: 0 | N5: 0 | O5: 0 | P5: 1800000 | Q5: 0 | R5: =+SUM(H5:Q5) -> 7690000 | T5: =+H5*$F5 -> 135200000 | U5: =+I5*$F5 -> 4680000 | V5: =+J5*$F5 -> 9100000 | W5: =+K5*$F5 -> 2080000 | X5: =+L5*$F5 -> 2080000 | Y5: =+M5*$F5 -> 0 | Z5: =+N5*$F5 -> 0 | AA5: =+O5*$F5 -> 0 | ... AC5: =+Q5*$F5 -> 0 | AD5: =+SUM(T5:AC5)-Y5 -> 199940000
C6: 2 | D6: BIM y Georeferenciación | E6: COMPUTADOR DE ESCRITORIO ESPECIALIZADO | F6: 2 | H6: 21250000 | I6: 220000 | J6: 550000 | K6: 90000 | L6: 90000 | M6: 0 | N6: 0 | O6: 0 | P6: 1800000 | Q6: 0 | R6: =+SUM(H6:Q6) -> 24000000 | T6: =+H6*$F6 -> 42500000 | U6: =+I6*$F6 -> 440000 | V6: =+J6*$F6 -> 1100000 | W6: =+K6*$F6 -> 180000 | X6: =+L6*$F6 -> 180000 | Y6: =+M6*$F6 -> 0 | Z6: =+N6*$F6 -> 0 | AA6: =+O6*$F6 -> 0 | ... AC6: =+Q6*$F6 -> 0 | AD6: =+SUM(T6:AC6)-Y6 -> 48000000
C7: 3 | D7: Administrativo y gerencia | E7: COMPUTADOR PORTÁTIL AVANZADO I | F7: 206 | H7: 4990000 | I7: 180000 | J7: 400000 | K7: 80000 | L7: 80000 | M7: 0 | N7: 0 | O7: 0 | P7: 1800000 | Q7: 0 | R7: =+SUM(H7:Q7) -> 7530000 | T7: =+H7*$F7 -> 1027940000 | U7: =+I7*$F7 -> 37080000 | V7: =+J7*$F7 -> 82400000 | W7: =+K7*$F7 -> 16480000 | X7: =+L7*$F7 -> 16480000 | Y7: =+M7*$F7 -> 0 | Z7: =+N7*$F7 -> 0 | AA7: =+O7*$F7 -> 0 | ... AC7: =+Q7*$F7 -> 0 | AD7: =+SUM(T7:AC7)-Y7 -> 1551180000
C8: 4 | D8: Ingenieros y arquitectos | E8: COMPUTADOR PORTÁTIL AVANZADO II | F8: 63 | H8: 5970000 | I8: 180000 | J8: 450000 | K8: 90000 | L8: 90000 | M8: 0 | N8: 0 | O8: 0 | P8: 1800000 | Q8: 0 | R8: =+SUM(H8:Q8) -> 8580000 | T8: =+H8*$F8 -> 376110000 | U8: =+I8*$F8 -> 11340000 | V8: =+J8*$F8 -> 28350000 | W8: =+K8*$F8 -> 5670000 | X8: =+L8*$F8 -> 5670000 | Y8: =+M8*$F8 -> 0 | Z8: =+N8*$F8 -> 0 | AA8: =+O8*$F8 -> 0 | ... AC8: =+Q8*$F8 -> 0 | AD8: =+SUM(T8:AC8)-Y8 -> 540540000
C9: 5 | D9: Operativa | E9: IMPRESORA LÁSER | F9: 7 | H9: 2950000 | I9: 165000 | J9: 320000 | K9: 90000 | L9: 90000 | M9: 0 | N9: 0 | O9: 0 | P9: 0 | Q9: 1900000 | R9: =+SUM(H9:Q9) -> 5515000 | T9: =+H9*$F9 -> 20650000 | U9: =+I9*$F9 -> 1155000 | V9: =+J9*$F9 -> 2240000 | W9: =+K9*$F9 -> 630000 | X9: =+L9*$F9 -> 630000 | Y9: =+M9*$F9 -> 0 | Z9: =+N9*$F9 -> 0 | AA9: =+O9*$F9 -> 0 | ... AC9: =+Q9*$F9 -> 13300000 | AD9: =+SUM(T9:AC9)-Y9 -> 38605000
C10: 6 | D10: Operativo | E10: ESCÁNER A4 | F10: 11 | H10: 3650000 | I10: 170000 | J10: 320000 | K10: 90000 | L10: 90000 | M10: 0 | N10: 0 | O10: 0 | P10: 0 | Q10: 1900000 | R10: =+SUM(H10:Q10) -> 6220000 | T10: =+H10*$F10 -> 40150000 | U10: =+I10*$F10 -> 1870000 | V10: =+J10*$F10 -> 3520000 | W10: =+K10*$F10 -> 990000 | X10: =+L10*$F10 -> 990000 | Y10: =+M10*$F10 -> 0 | Z10: =+N10*$F10 -> 0 | AA10: =+O10*$F10 -> 0 | ... AC10: =+Q10*$F10 -> 20900000 | AD10: =+SUM(T10:AC10)-Y10 -> 68420000
C11: 7 | D11: Ingenieros y arquitectos | E11: TABLETS | F11: 25 | H11: 2950000 | I11: 100000 | J11: 170000 | K11: 90000 | L11: 90000 | M11: 0 | N11: 0 | O11: 0 | P11: 0 | Q11: 0 | R11: =+SUM(H11:Q11) -> 3400000 | T11: =+H11*$F11 -> 73750000 | U11: =+I11*$F11 -> 2500000 | V11: =+J11*$F11 -> 4250000 | W11: =+K11*$F11 -> 2250000 | X11: =+L11*$F11 -> 2250000 | Y11: =+M11*$F11 -> 0 | Z11: =+N11*$F11 -> 0 | AA11: =+O11*$F11 -> 0 | ... AC11: =+Q11*$F11 -> 0 | AD11: =+SUM(T11:AC11)-Y11 -> 85000000
C12: 8 | D12: Administrativo y gerencia | E12: PANTALLA INTERACTIVA | F12: 5 | H12: 9990000 | I12: 300000 | J12: 550000 | K12: 150000 | L12: 150000 | M12: 0 | N12: 0 | O12: 0 | P12: 0 | Q12: 0 | R12: =+SUM(H12:Q12) -> 11140000 | T12: =+H12*$F12 -> 49950000 | U12: =+I12*$F12 -> 1500000 | V12: =+J12*$F12 -> 2750000 | W12: =+K12*$F12 -> 750000 | X12: =+L12*$F12 -> 750000 | Y12: =+M12*$F12 -> 0 | Z12: =+N12*$F12 -> 0 | AA12: =+O12*$F12 -> 0 | ... AC12: =+Q12*$F12 -> 0 | AD12: =+SUM(T12:AC12)-Y12 -> 55700000
D13: Valor Total | T13: =+SUM(T5:T12) -> 1766250000 | U13: =+SUM(U5:U12) -> 60565000 | V13: =+SUM(V5:V12) -> 133710000 | W13: =+SUM(W5:W12) -> 29030000 | X13: =+SUM(X5:X12) -> 29030000 | Y13: =+SUM(Y5:Y12) -> 0 | Z13: =+SUM(Z5:Z12) -> 0 | AA13: =+SUM(AA5:AA12) -> 0 | ... AD13: =+SUM(AD5:AD12) -> 2587385000
B15: Proveedor 2 | C15: 1 | D15: Operativo | E15: COMPUTADOR DE ESCRITORIO BÁSICO | F15: 26 | H15: 4450000 | I15: 105000 | J15: 450000 | K15: 80000 | L15: 90000 | M15: 0 | N15: 0 | O15: 0 | P15: 195000 | Q15: 0 | R15: 5370000 | T15: =+H15*$F15 -> 115700000 | U15: =+I15*$F15 -> 2730000 | V15: =+J15*$F15 -> 11700000 | W15: =+K15*$F15 -> 2080000 | X15: =+L15*$F15 -> 2340000 | Y15: =+M15*$F15 -> 0 | Z15: =+N15*$F15 -> 0 | AA15: =+O15*$F15 -> 0 | ... AC15: =+Q15*$F15 -> 0 | AD15: =+SUM(T15:AC15)-Y15 -> 139620000
C16: 2 | D16: BIM y Georeferenciación | E16: COMPUTADOR DE ESCRITORIO ESPECIALIZADO | F16: 2 | H16: 15500000 | I16: 250000 | J16: 450000 | K16: 80000 | L16: 90000 | M16: 0 | N16: 0 | O16: 0 | P16: 195000 | Q16: 0 | R16: 16565000 | T16: =+H16*$F16 -> 31000000 | U16: =+I16*$F16 -> 500000 | V16: =+J16*$F16 -> 900000 | W16: =+K16*$F16 -> 160000 | X16: =+L16*$F16 -> 180000 | Y16: =+M16*$F16 -> 0 | Z16: =+N16*$F16 -> 0 | AA16: =+O16*$F16 -> 0 | ... AC16: =+Q16*$F16 -> 0 | AD16: =+SUM(T16:AC16)-Y16 -> 33130000
C17: 3 | D17: Administrativo y gerencia | E17: COMPUTADOR PORTÁTIL AVANZADO I | F17: 206 | H17: 4750000 | I17: 105000 | J17: 350000 | K17: 80000 | L17: 90000 | M17: 0 | N17: 0 | P17: 195000 | Q17: 0 | R17: 5570000 | T17: =+H17*$F17 -> 978500000 | U17: =+I17*$F17 -> 21630000 | V17: =+J17*$F17 -> 72100000 | W17: =+K17*$F17 -> 16480000 | X17: =+L17*$F17 -> 18540000 | Y17: =+M17*$F17 -> 0 | Z17: =+N17*$F17 -> 0 | AA17: =+O17*$F17 -> 0 | ... AC17: =+Q17*$F17 -> 0 | AD17: =+SUM(T17:AC17)-Y17 -> 1147420000
C18: 4 | D18: Ingenieros y arquitectos | E18: COMPUTADOR PORTÁTIL AVANZADO II | F18: 63 | H18: 5150000 | I18: 105000 | J18: 350000 | K18: 80000 | L18: 90000 | M18: 0 | N18: 0 | O18: 0 | P18: 195000 | Q18: 0 | R18: 5970000 | T18: =+H18*$F18 -> 324450000 | U18: =+I18*$F18 -> 6615000 | V18: =+J18*$F18 -> 22050000 | W18: =+K18*$F18 -> 5040000 | X18: =+L18*$F18 -> 5670000 | Y18: =+M18*$F18 -> 0 | Z18: =+N18*$F18 -> 0 | AA18: =+O18*$F18 -> 0 | ... AC18: =+Q18*$F18 -> 0 | AD18: =+SUM(T18:AC18)-Y18 -> 376110000
C19: 5 | D19: Operativa | E19: IMPRESORA LÁSER | F19: 7 | H19: 2150000 | I19: 150000 | J19: 350000 | K19: 80000 | L19: 90000 | M19: 0 | N19: 0 | O19: 0 | Q19: 180000 | R19: 3000000 | T19: =+H19*$F19 -> 15050000 | U19: =+I19*$F19 -> 1050000 | V19: =+J19*$F19 -> 2450000 | W19: =+K19*$F19 -> 560000 | X19: =+L19*$F19 -> 630000 | Y19: =+M19*$F19 -> 0 | Z19: =+N19*$F19 -> 0 | AA19: =+O19*$F19 -> 0 | ... AC19: =+Q19*$F19 -> 1260000 | AD19: =+SUM(T19:AC19)-Y19 -> 21000000
C20: 6 | D20: Operativo | E20: ESCÁNER A4 | F20: 11 | H20: 3650000 | I20: 150000 | J20: 300000 | K20: 80000 | L20: 90000 | M20: 0 | N20: 0 | O20: 0 | P20: 0 | Q20: 180000 | R20: 4450000 | T20: =+H20*$F20 -> 40150000 | U20: =+I20*$F20 -> 1650000 | V20: =+J20*$F20 -> 3300000 | W20: =+K20*$F20 -> 880000 | X20: =+L20*$F20 -> 990000 | Y20: =+M20*$F20 -> 0 | Z20: =+N20*$F20 -> 0 | AA20: =+O20*$F20 -> 0 | ... AC20: =+Q20*$F20 -> 1980000 | AD20: =+SUM(T20:AC20)-Y20 -> 48950000
C21: 7 | D21: Ingenieros y arquitectos | E21: TABLETS | F21: 25 | H21: 4250000 | I21: 100000 | J21: 250000 | K21: 70000 | L21: 70000 | M21: 0 | N21: 0 | O21: 0 | P21: 0 | Q21: 0 | R21: 4740000 | T21: =+H21*$F21 -> 106250000 | U21: =+I21*$F21 -> 2500000 | V21: =+J21*$F21 -> 6250000 | W21: =+K21*$F21 -> 1750000 | X21: =+L21*$F21 -> 1750000 | Y21: =+M21*$F21 -> 0 | Z21: =+N21*$F21 -> 0 | AA21: =+O21*$F21 -> 0 | ... AC21: =+Q21*$F21 -> 0 | AD21: =+SUM(T21:AC21)-Y21 -> 118500000
C22: 8 | D22: Administrativo y gerencia | E22: PANTALLA INTERACTIVA | F22: 5 | H22: 9500000 | I22: 250000 | J22: 600000 | K22: 80000 | L22: 90000 | M22: 0 | N22: 0 | O22: 0 | P22: 0 | Q22: 0 | R22: 10520000 | T22: =+H22*$F22 -> 47500000 | U22: =+I22*$F22 -> 1250000 | V22: =+J22*$F22 -> 3000000 | W22: =+K22*$F22 -> 400000 | X22: =+L22*$F22 -> 450000 | Y22: =+M22*$F22 -> 0 | Z22: =+N22*$F22 -> 0 | AA22: =+O22*$F22 -> 0 | ... AC22: =+Q22*$F22 -> 0 | AD22: =+SUM(T22:AC22)-Y22 -> 52600000
D23: Valor Total | T23: =+SUM(T15:T22) -> 1658600000 | U23: =+SUM(U15:U22) -> 37925000 | V23: =+SUM(V15:V22) -> 121750000 | W23: =+SUM(W15:W22) -> 27350000 | X23: =+SUM(X15:X22) -> 30550000 | Y23: =+SUM(Y15:Y22) -> 0 | Z23: =+SUM(Z15:Z22) -> 0 | AA23: =+SUM(AA15:AA22) -> 0 | ... AD23: =+SUM(AD15:AD22) -> 1937330000
B25: Proveedor 3 | C25: 1 | D25: Operativo | E25: COMPUTADOR DE ESCRITORIO BÁSICO | F25: 26 | H25: 4950000 | I25: 180000 | J25: 440000 | K25: 90000 | L25: 90000 | M25: 0 | N25: 0 | O25: 0 | P25: 205000 | Q25: 0 | R25: 5955000 | T25: =+H25*$F25 -> 128700000 | U25: =+I25*$F25 -> 4680000 | V25: =+J25*$F25 -> 11440000 | W25: =+K25*$F25 -> 2340000 | X25: =+L25*$F25 -> 2340000 | Y25: =+M25*$F25 -> 0 | Z25: =+N25*$F25 -> 0 | AA25: =+O25*$F25 -> 0 | ... AC25: =+Q25*$F25 -> 0 | AD25: =+SUM(T25:AC25)-Y25 -> 154830000
C26: 2 | D26: BIM y Georeferenciación | E26: COMPUTADOR DE ESCRITORIO ESPECIALIZADO | F26: 2 | H26: 19500000 | I26: 220000 | J26: 500000 | K26: 90000 | L26: 90000 | M26: 0 | N26: 0 | O26: 0 | P26: 205000 | Q26: 0 | R26: 20605000 | T26: =+H26*$F26 -> 39000000 | U26: =+I26*$F26 -> 440000 | V26: =+J26*$F26 -> 1000000 | W26: =+K26*$F26 -> 180000 | X26: =+L26*$F26 -> 180000 | Y26: =+M26*$F26 -> 0 | Z26: =+N26*$F26 -> 0 | AA26: =+O26*$F26 -> 0 | ... AC26: =+Q26*$F26 -> 0 | AD26: =+SUM(T26:AC26)-Y26 -> 41210000
C27: 3 | D27: Administrativo y gerencia | E27: COMPUTADOR PORTÁTIL AVANZADO I | F27: 206 | H27: 4750000 | I27: 105000 | J27: 400000 | K27: 90000 | L27: 90000 | M27: 0 | N27: 0 | O27: 0 | P27: 205000 | Q27: 0 | R27: 6865000 | T27: =+H27*$F27 -> 978500000 | U27: =+I27*$F27 -> 21630000 | V27: =+J27*$F27 -> 82400000 | W27: =+K27*$F27 -> 18540000 | X27: =+L27*$F27 -> 18540000 | Y27: =+M27*$F27 -> 0 | Z27: =+N27*$F27 -> 0 | AA27: =+O27*$F27 -> 0 | ... AC27: =+Q27*$F27 -> 0 | AD27: =+SUM(T27:AC27)-Y27 -> 1161840000
C28: 4 | D28: Ingenieros y arquitectos | E28: COMPUTADOR PORTÁTIL AVANZADO II | F28: 63 | H28: 5975000 | I28: 105000 | J28: 400000 | K28: 90000 | L28: 90000 | M28: 0 | N28: 0 | O28: 0 | P28: 205000 | Q28: 0 | R28: 6865000 | T28: =+H28*$F28 -> 376425000 | U28: =+I28*$F28 -> 6615000 | V28: =+J28*$F28 -> 25200000 | W28: =+K28*$F28 -> 5670000 | X28: =+L28*$F28 -> 5670000 | Y28: =+M28*$F28 -> 0 | Z28: =+N28*$F28 -> 0 | AA28: =+O28*$F28 -> 0 | ... AC28: =+Q28*$F28 -> 0 | AD28: =+SUM(T28:AC28)-Y28 -> 432495000
C29: 5 | D29: Operativa | E29: IMPRESORA LÁSER | F29: 7 | H29: 2650000 | I29: 170000 | J29: 350000 | K29: 90000 | L29: 90000 | M29: 0 | N29: 0 | O29: 0 | P29: 0 | Q29: 210000 | R29: 3560000 | T29: =+H29*$F29 -> 18550000 | U29: =+I29*$F29 -> 1190000 | V29: =+J29*$F29 -> 2450000 | W29: =+K29*$F29 -> 630000 | X29: =+L29*$F29 -> 630000 | Y29: =+M29*$F29 -> 0 | Z29: =+N29*$F29 -> 0 | AA29: =+O29*$F29 -> 0 | ... AC29: =+Q29*$F29 -> 1470000 | AD29: =+SUM(T29:AC29)-Y29 -> 24920000
C30: 6 | D30: Operativo | E30: ESCÁNER A4 | F30: 11 | H30: 3800000 | I30: 170000 | J30: 300000 | K30: 90000 | L30: 90000 | M30: 0 | N30: 0 | O30: 0 | P30: 0 | Q30: 210000 | R30: 4660000 | T30: =+H30*$F30 -> 41800000 | U30: =+I30*$F30 -> 1870000 | V30: =+J30*$F30 -> 3300000 | W30: =+K30*$F30 -> 990000 | X30: =+L30*$F30 -> 990000 | Y30: =+M30*$F30 -> 0 | Z30: =+N30*$F30 -> 0 | AA30: =+O30*$F30 -> 0 | ... AC30: =+Q30*$F30 -> 2310000 | AD30: =+SUM(T30:AC30)-Y30 -> 51260000
C31: 7 | D31: Ingenieros y arquitectos | E31: TABLETS | F31: 25 | H31: 4350000 | I31: 100000 | J31: 250000 | K31: 80000 | L31: 80000 | M31: 0 | N31: 0 | O31: 0 | P31: 0 | Q31: 0 | R31: 4860000 | T31: =+H31*$F31 -> 108750000 | U31: =+I31*$F31 -> 2500000 | V31: =+J31*$F31 -> 6250000 | W31: =+K31*$F31 -> 2000000 | X31: =+L31*$F31 -> 2000000 | Y31: =+M31*$F31 -> 0 | Z31: =+N31*$F31 -> 0 | AA31: =+O31*$F31 -> 0 | ... AC31: =+Q31*$F31 -> 0 | AD31: =+SUM(T31:AC31)-Y31 -> 121500000
C32: 8 | D32: Administrativo y gerencia | E32: PANTALLA INTERACTIVA | F32: 5 | H32: 11000000 | I32: 350000 | J32: 600000 | K32: 150000 | L32: 150000 | M32: 0 | N32: 0 | O32: 0 | P32: 0 | Q32: 0 | R32: 12250000 | T32: =+H32*$F32 -> 55000000 | U32: =+I32*$F32 -> 1750000 | V32: =+J32*$F32 -> 3000000 | W32: =+K32*$F32 -> 750000 | X32: =+L32*$F32 -> 750000 | Y32: =+M32*$F32 -> 0 | Z32: =+N32*$F32 -> 0 | AA32: =+O32*$F32 -> 0 | ... AC32: =+Q32*$F32 -> 0 | AD32: =+SUM(T32:AC32)-Y32 -> 61250000
D33: Valor Total | T33: =+SUM(T25:T32) -> 1746725000 | U33: =+SUM(U25:U32) -> 40675000 | V33: =+SUM(V25:V32) -> 135040000 | W33: =+SUM(W25:W32) -> 31100000 | X33: =+SUM(X25:X32) -> 31100000 | Y33: =+SUM(Y25:Y32) -> 0 | Z33: =+SUM(Z25:Z32) -> 0 | AA33: =+SUM(AA25:AA32) -> 0 | ... AD33: =+SUM(AD25:AD32) -> 2049305000
