Workbook

Sheet cuestionario 1860
A2: cuestionario | B2: Proveedor 1 | C2: Proveedor 2 | D2: Proveedor 3
A3: 1. Se solicita informar si cumple con alguna de las siguientes condiciones:
A4: 1.1. Persona Jurídica: Más del cincuenta por ciento (50%) de las acciones, partes de interés o cuotas de participación de la persona jurídica pertenecen a mujeres y los derechos de propiedad hayan pertenecido a estas durante al menos el último año anterior a la fecha de la presente comunicación. | B4: No | C4: No
A5: 1.2. Persona Jurídica: Por lo menos el cincuenta por ciento (50%) de los empleos del nivel directivo de la persona jurídica hayan sido ejercidos por mujeres y éstas hayan estado vinculadas laboralmente a la empresa durante al menos el último año anterior a la fecha de la presente comunicación en el mismo cargo u otro del mismo nivel. | B5: No | C5: Si
A6: 1.3. Persona Natural Mujer: Ha ejercido actividades comerciales a través de un establecimiento de comercio durante al menos el último año anterior a la fecha de cierre del proceso de selección.
A7: 1.4. Asociación o Cooperativa: Más del cincuenta por ciento (50%) de los asociados sean mujeres y la participación haya correspondido a estas durante al menos el último año anterior a la fecha de la presente comunicación.
A8: 2. De acuerdo con su experiencia en la prestación de servicios similares a los que son objeto de esta cotización, la producción de bienes y servicios ha sido prestada con al menos el 5% del personal con cualquiera de las siguientes características:
A9: 2.1. Pobreza extrema: | B9: No | C9: No
A10: 2.2. Desplazados por la violencia: | B10: No | C10: No
A11: 2.3. Personas en proceso de reintegración o reincorporación:, | B11: No | C11: No
A12: 2.4. Sujetos de especial protección constitucional (víctimas del conflicto armado interno, mujeres cabeza de familia, adultos mayores, las personas en condición de discapacidad, así como la población de las comunidades indígena, negra, afrocolombiana, raizal, palanquera, Rrom o gitanas, otros): | B12: Si | C12: Si
A13: 3. Informe su tamaño empresarial de acuerdo con la información registrada en el Certificado de Existencia y Representación Legal y/o en el RUP? | B13: Microempresa | C13: Pequeña

Sheet Valores Históricos
B2: Valores Orden de Compra 145945 EQUIPOS DE COMPUTO | N2: Valores Orden de Compra 145942 IMPRESORAS | Y2: Valores Orden de Compra 145943 ÉSCANER
B3: # | C3: Descripción | D3: Unidad | E3: Cantidad | F3: Valor unitario antes de IVA | G3: Valor IVA unitario | H3: Valor total unitario | I3: Valor total Item | N3: # | O3: Descripción | P3: Unidad | Q3: Cantidad | R3: Valor unitario antes de IVA | S3: Valor IVA unitario | T3: Valor total unitario | U3: Valor total unitario | Y3: # | Z3: Descripción | AA3: Unidad | AB3: Cantidad | AC3: Valor unitario antes de IVA | AD3: Valor IVA unitario | AE3: Valor total unitario | AF3: Valor total unitario
B4: 1 | C4: etp03 - ETP-CCT-76. ETP -- Hasta 18 meses de servicio -- Desktop - Small Form Factor -- 5000 -- NA -- AVANZADO -- NA -- SSD -- 500 GB PCIe -- NA -- 16 GB -- Zona 1 | D4: UN | E4: 37 | F4: 74126.5 | G4: =+F4*19% -> 14084.035 | H4: =+F4+G4 -> 88210.535 | I4: =+E4*H4 -> 3263789.8 | N4: 1 | O4: etp03 - ETP-AI-16. ETP - IMPRESORA LASER O LED - A4 - MULTIFUNCIONAL - BLANCO Y NEGRO - MINIMO 7.000 PAGINAS - MINIMO 40 PPM - ZONA 1 | P4: UN | Q4: 7 | R4: 55000 | S4: =+R4*19% -> 10450 | T4: =+R4+S4 -> 65450 | U4: =+Q4*T4 -> 458150 | Y4: 1 | Z4: etp03 - ETP-AE-9. ETP -- ESCANER A4 -- CAMAPLANA -- Minimo 10.000 paginas -- Minimo 70 ppm -- Zona 1 | AA4: UN | AB4: 3 | AC4: 130000 | AD4: =+AC4*19% -> 24700 | AE4: =+AC4+AD4 -> 154700 | AF4: =+AB4*AE4 -> 464100
B5: 2 | C5: etp03 - ETP-CCT-79. ETP -- Hasta 18 meses de servicio -- Desktop - Small Form Factor -- 5000 -- NA -- AVANZADO -- ADMINISTRACION Y GESTION REMOTA +100 ETP -- SSD -- 500 GB PCIe -- NA -- 32 GB -- Zona 1 | D5: UN | E5: 2 | F5: 93633 | G5: =+F5*19% -> 17790.27 | H5: =+F5+G5 -> 111423.27 | I5: =+E5*H5 -> 222846.54 | N5: 2 | O5: etp03 - ETP-AI-16-M5. ETP - IMPRESORA LASER O LED - COSTO POR CLIC 5 COBERTURA - A4 - MULTIFUNCIONAL - BLANCO Y NEGRO - MINIMO 7.000 PAGINAS - MINIMO 40 PPM - ZONA 1 | P5: UN | Q5: 1 | R5: 14 | S5: =+R5*19% -> 2.66 | T5: =+R5+S5 -> 16.66 | U5: =+Q5*T5 -> 16.66
B6: 3 | C6: etp03 - ETP-CCT-116. ETP -- Hasta 18 meses de servicio -- PORTATIL TIPO WORKSTATION 15pulgadas PESO MAXIMO 2,6 KG -- 4000 -- 6 NUCLEOS -- AVANZADO -- NA -- SDD -- 1 TB PCIe -- ECC -- 32 GB -- Zona 1 | D6: UN | E6: 55 | F6: 174911.5 | G6: =+F6*19% -> 33233.185 | H6: =+F6+G6 -> 208144.68 | I6: =+E6*H6 -> 11447958
B7: 4 | C7: etp03 - ETP-CCT-117. ETP -- Hasta 18 meses de servicio -- PORTATIL TIPO WORKSTATION 17pulgadas PESO MAXIMO 3,5 KG -- 4000 -- 6 NUCLEOS -- AVANZADO -- NA -- SDD -- 2 TB -- ECC -- 64 GB -- Zona 1 | D7: UN | E7: 3 | F7: 206708.15 | G7: =+F7*19% -> 39274.549 | H7: =+F7+G7 -> 245982.7 | I7: =+E7*H7 -> 737948.1
B8: 5 | C8: etp03 - ETP-CCT-121. ETP -- hasta 18 meses de servicio -- Portatil 14 pulgadas PESO MAXIMO 1,8KG -- 4500 -- NA -- AVANZADO -- NA -- SDD -- 512 GB PCIe -- NA -- 16 GB -- Zona 1 | D8: UN | E8: 86 | F8: 73580.22 | G8: =+F8*19% -> 13980.242 | H8: =+F8+G8 -> 87560.462 | I8: =+E8*H8 -> 7530199.7
B9: 6 | C9: etp03 - ETP-CCT-122. ETP -- hasta 18 meses de servicio -- Portatil 14 pulgadas PESO MAXIMO 1,8KG -- 4500 -- NA -- AVANZADO -- NA -- SDD -- 1 TB PCIe -- NA -- 16 GB -- Zona 1 | D9: UN | E9: 85 | F9: 80524.8 | G9: =+F9*19% -> 15299.712 | H9: =+F9+G9 -> 95824.512 | I9: =+E9*H9 -> 8145083.5
B10: 7 | C10: etp03 - SERVICIO-CCT-422. SERVICIO -- Licenciamiento de Antivirus -- NA -- NA -- NA -- NA -- NA -- NA -- NA -- NA -- NA -- Todas las zonas | D10: UN | E10: 268 | F10: 10728.9 | G10: =+F10*19% -> 2038.491 | H10: =+F10+G10 -> 12767.391 | I10: =+E10*H10 -> 3421660.8
B11: 8 | C11: etp03 - COMPONENTE-CCT-431. COMPONENTE -- Sistema Operativo Windows 10 Profesional -- NA -- NA -- NA -- NA -- NA -- NA -- NA -- NA -- NA -- Todas las zonas | D11: UN | E11: 268 | F11: 0 | G11: =+F11*19% -> 0 | H11: =+F11+G11 -> 0 | I11: =+E11*H11 -> 0
B12: 9 | C12: etp03 - COMPONENTE-CCT-445. COMPONENTE -- Tarjeta grafica de 8 GB - 4x -- NA -- NA -- NA -- NA -- NA -- NA -- NA -- NA -- NA -- Todas las zonas | D12: UN | E12: 19 | F12: 52668.9 | G12: =+F12*19% -> 10007.091 | H12: =+F12+G12 -> 62675.991 | I12: =+E12*H12 -> 1190843.8
B13: 10 | C13: etp03 - COMPONENTE-CCT-446. COMPONENTE -- Tarjeta grafica de 4 GB - 4x -- NA -- NA -- NA -- NA -- NA -- NA -- NA -- NA -- NA -- Todas las zonas | D13: UN | E13: 36 | F13: 25034.1 | G13: =+F13*19% -> 4756.479 | H13: =+F13+G13 -> 29790.579 | I13: =+E13*H13 -> 1072460.8
B14: 11 | C14: etp03 - COMPONENTE-CCT-447. COMPONENTE -- Ampliacion de memoria al doble -- NA -- NA -- NA -- NA -- NA -- NA -- NA -- NA -- NA -- Todas las zonas | D14: UN | E14: 3 | F14: 0 | G14: =+F14*19% -> 0 | H14: =+F14+G14 -> 0 | I14: =+E14*H14 -> 0
B18: Valores historicos
B19: Nota: tener en cuenta que para determinar los valores para el nuevo proceso de contratación se le sumaron a los ítem de tarjeta gráfica, antivirus, ampliación de memoria con el fin de poder determinar el valor unitario total de cada uno de los equipos. | N19: Valores historicos | Y19: Valores historicos
B21: # | C21: Descripción | D21: Unidad | E21: Cantidad | F21: Valor unitario antes de IVA | G21: Valor IVA unitario | H21: Valor total unitario | I21: Valor total Item | K21: Valor Con incremento del IPC 5,1% | N21: # | O21: Descripción | P21: Unidad | Q21: Cantidad | R21: Valor unitario antes de IVA | S21: Valor IVA unitario | T21: Valor total unitario | V21: Valor Con incremento del IPC 5,1% | Y21: # | Z21: Descripción | AA21: Unidad | AB21: Cantidad | AC21: Valor unitario antes de IVA | AD21: Valor IVA unitario | AE21: Valor total unitario | AG21: Valor Con incremento del IPC 5,1%
B22: 1 | C22: etp03 - ETP-CCT-76. ETP -- Hasta 18 meses de servicio -- Desktop - Small Form Factor -- 5000 -- NA -- AVANZADO -- NA -- SSD -- 500 GB PCIe -- NA -- 16 GB -- Zona 1 | D22: UN | E22: 1 | F22: 74126.5 | G22: =+F22*19% -> 14084.035 | H22: =+F22+G22 -> 88210.535 | I22: =ROUND(H22+H23,0) -> 100978 | K22: =ROUND(I22*(1+5.1%),0) -> 106128 | N22: 1 | O22: etp03 - ETP-AI-16. ETP - IMPRESORA LASER O LED - A4 - MULTIFUNCIONAL - BLANCO Y NEGRO - MINIMO 7.000 PAGINAS - MINIMO 40 PPM - ZONA 1 | P22: UN | Q22: 1 | R22: 55000 | S22: =+R22*19% -> 10450 | T22: =+R22+S22 -> 65450 | V22: =ROUND(T22*(1+5.1%),0) -> 68788 | Y22: 1 | Z22: etp03 - ETP-AE-3. ETP -- ESCANER A4 -- VERTICAL -- Hasta 5.000 paginas -- Minimo 40 ppm -- Zona 1 | AA22: UN | AB22: 1 | AC22: 130000 | AD22: =+AC22*19% -> 24700 | AE22: =+AC22+AD22 -> 154700 | AG22: =ROUND(AE22*(1+5.1%),0) -> 162590
C23: etp03 - SERVICIO-CCT-422. SERVICIO -- Licenciamiento de Antivirus -- NA -- NA -- NA -- NA -- NA -- NA -- NA -- NA -- NA -- Todas las zonas | D23: UN | E23: 1 | F23: 10728.9 | G23: =+F23*19% -> 2038.491 | H23: =+F23+G23 -> 12767.391 | N23: 2 | O23: etp03 - ETP-AI-16-M5. ETP - IMPRESORA LASER O LED - COSTO POR CLIC 5 COBERTURA - A4 - MULTIFUNCIONAL - BLANCO Y NEGRO - MINIMO 7.000 PAGINAS - MINIMO 40 PPM - ZONA 1 | P23: UN | Q23: 1 | R23: 14 | S23: =+R23*19% -> 2.66 | T23: =+R23+S23 -> 16.66 | V23: =ROUND(T23*(1+5.1%),0) -> 18
B24: 3 | C24: etp03 - ETP-CCT-116. ETP -- Hasta 18 meses de servicio -- PORTATIL TIPO WORKSTATION 15pulgadas PESO MAXIMO 2,6 KG -- 4000 -- 6 NUCLEOS -- AVANZADO -- NA -- SDD -- 1 TB PCIe -- ECC -- 32 GB -- Zona 1 | D24: UN | E24: 1 | F24: 174911.5 | G24: =+F24*19% -> 33233.185 | H24: =+F24+G24 -> 208144.68 | I24: =ROUND(H24+H25,0) -> 220912 | K24: =ROUND(I24*(1+5.1%),0) -> 232179
C25: etp03 - SERVICIO-CCT-422. SERVICIO -- Licenciamiento de Antivirus -- NA -- NA -- NA -- NA -- NA -- NA -- NA -- NA -- NA -- Todas las zonas | D25: UN | E25: 1 | F25: 10728.9 | G25: =+F25*19% -> 2038.491 | H25: =+F25+G25 -> 12767.391
B26: 4 | C26: etp03 - ETP-CCT-117. ETP -- Hasta 18 meses de servicio -- PORTATIL TIPO WORKSTATION 17pulgadas PESO MAXIMO 3,5 KG -- 4000 -- 6 NUCLEOS -- AVANZADO -- NA -- SDD -- 2 TB -- ECC -- 64 GB -- Zona 1 | D26: UN | E26: 1 | F26: 206708.15 | G26: =+F26*19% -> 39274.549 | H26: =+F26+G26 -> 245982.7 | I26: =ROUND(H26+H27+H28,0) -> 321426 | K26: =ROUND(I26*(1+5.1%),0) -> 337819
C27: etp03 - SERVICIO-CCT-422. SERVICIO -- Licenciamiento de Antivirus -- NA -- NA -- NA -- NA -- NA -- NA -- NA -- NA -- NA -- Todas las zonas | D27: UN | E27: 1 | F27: 10728.9 | G27: =+F27*19% -> 2038.491 | H27: =+F27+G27 -> 12767.391
C28: etp03 - COMPONENTE-CCT-445. COMPONENTE -- Tarjeta grafica de 8 GB - 4x -- NA -- NA -- NA -- NA -- NA -- NA -- NA -- NA -- NA -- Todas las zonas | D28: UN | E28: 1 | F28: 52668.9 | G28: =+F28*19% -> 10007.091 | H28: =+F28+G28 -> 62675.991
B29: 6 | C29: etp03 - ETP-CCT-122. ETP -- hasta 18 meses de servicio -- Portatil 14 pulgadas PESO MAXIMO 1,8KG -- 4500 -- NA -- AVANZADO -- NA -- SDD -- 1 TB PCIe -- NA -- 16 GB -- Zona 1 | D29: UN | E29: 1 | F29: 80524.8 | G29: =+F29*19% -> 15299.712 | H29: =+F29+G29 -> 95824.512 | I29: =ROUND(H29+H30,0) -> 108592 | K29: =ROUND(I29*(1+5.1%),0) -> 114130
C30: etp03 - SERVICIO-CCT-422. SERVICIO -- Licenciamiento de Antivirus -- NA -- NA -- NA -- NA -- NA -- NA -- NA -- NA -- NA -- Todas las zonas | D30: UN | E30: 1 | F30: 10728.9 | G30: =+F30*19% -> 2038.491 | H30: =+F30+G30 -> 12767.391

Sheet Análisis Atípicos
B4: ANÁLISIS DE PRECIOS ATÍPICOS DE ACUERDO A LA GUIA DE ANÁLISIS DEL SECTOR Y DEL MERCADO DE CCE PARA ALQUILER DE EQUIPOS
E6: Estretegia cardinal | F6: TW Group | G6: Dotacero
B7: Item | C7: Descripción | D7: Cantidad | E7: Proveedor 1 | F7: Proveedor 2 | G7: Proveedor 3 | H7: Valor historico | I7: PROMEDIO | K7: Proveedor 3 | L7: Proveedor 2 | M7: Proveedor 1 | N7: Valor historico | P7: QUARTIL 1 | Q7: QUARTIL 2 | R7: QUARTIL 3 | S7: RANGO | T7: RANGO IC (RIC) | U7: 𝐿í𝑚𝑖𝑡𝑒 𝑖𝑛𝑓𝑒𝑟𝑖𝑜𝑟 (𝐿𝑖) | V7: 𝐿í𝑚𝑖𝑡𝑒 𝑠𝑢𝑝𝑒𝑟𝑖𝑜𝑟 (𝐿𝑠) | W7: Proveedor 3 | X7: Proveedor 1 | Y7: Proveedor 2 | Z7: Valor historico
B8: 1 | C8: COMPUTADOR DE ESCRITORIO BÁSICO, Conforme el anexo técnico | D8: 1 | E8: 232400 | F8: 195500 | G8: 232000 | H8: 106128 | I8: =AVERAGE(E8:H8) -> 191507 | K8: 232000 | L8: 195500 | M8: 232400 | N8: 106128 | P8: =QUARTILE(K8:N8,1) -> 173157 | Q8: =QUARTILE(K8:N8,2) -> 213750 | R8: =QUARTILE(K8:N8,3) -> 232100 | S8: =+K8-N8 -> 125872 | T8: =R8-P8 -> 58943 | U8: =P8-(T8*1.5) -> 84742.5 | V8: =R8+(T8*1.5) -> 320514.5 | W8: =IF(AND(K8>=U8,K8<=V8),"NO ATIPICO","ATIPICO") -> NO ATIPICO | X8: =IF(AND(L8>=$U8,L8<=$V8),"NO ATIPICO","ATIPICO") -> NO ATIPICO | Y8: =IF(AND(M8>=$U8,M8<=$V8),"NO ATIPICO","ATIPICO") -> NO ATIPICO | Z8: =IF(AND(N8>=$U8,N8<=$V8),"NO ATIPICO","ATIPICO") -> NO ATIPICO
B9: 1 | C9: COMPUTADOR DE ESCRITORIO BÁSICO, Conforme el anexo técnico | D9: 26 | E9: =+E8*$D$9 -> 6042400 | F9: =+F8*$D$9 -> 5083000 | G9: =+G8*$D$9 -> 6032000 | H9: =+H8*$D$9 -> 2759328 | I9: =AVERAGE(E9:H9) -> 4979182 | K9: =+K8*$D$9 -> 6032000 | L9: =+L8*$D$9 -> 5083000 | M9: =+M8*$D$9 -> 6042400 | N9: =+N8*$D$9 -> 2759328 | P9: =QUARTILE(K9:N9,1) -> 4502082 | Q9: =QUARTILE(K9:N9,2) -> 5557500 | R9: =QUARTILE(K9:N9,3) -> 6034600 | S9: =+L9-N9 -> 2323672 | T9: =R9-P9 -> 1532518 | U9: =P9-(T9*1.5) -> 2203305 | V9: =R9+(T9*1.5) -> 8333377 | W9: =IF(AND(K9>=U9,K9<=V9),"NO ATIPICO","ATIPICO") -> NO ATIPICO | X9: =IF(AND(L9>=$U9,L9<=$V9),"NO ATIPICO","ATIPICO") -> NO ATIPICO | Y9: =IF(AND(M9>=$U9,M9<=$V9),"NO ATIPICO","ATIPICO") -> NO ATIPICO | Z9: =IF(AND(N9>=$U9,N9<=$V9),"NO ATIPICO","ATIPICO") -> NO ATIPICO
B10: 2 | C10: COMPUTADOR DE ESCRITORIO ESPECIALIZADO, Conforme el anexo técnico | D10: 1 | E10: 592400 | F10: 551000 | G10: 621000 | H10: 271946 | I10: =AVERAGE(E10:H10) -> 509086.5 | K10: 621000 | L10: 551000 | M10: 592400 | N10: 232179 | P10: =QUARTILE(K10:N10,1) -> 471294.75 | Q10: =QUARTILE(K10:N10,2) -> 571700 | R10: =QUARTILE(K10:N10,3) -> 599550 | S10: =+K10-N10 -> 388821 | T10: =R10-P10 -> 128255.25 | U10: =P10-(T10*1.5) -> 278911.88 | V10: =R10+(T10*1.5) -> 791932.88 | W10: =IF(AND(K10>=U10,K10<=V10),"NO ATIPICO","ATIPICO") -> NO ATIPICO | X10: =IF(AND(L10>=$U10,L10<=$V10),"NO ATIPICO","ATIPICO") -> NO ATIPICO | Y10: =IF(AND(M10>=$U10,M10<=$V10),"NO ATIPICO","ATIPICO") -> NO ATIPICO | Z10: =IF(AND(N10>=$U10,N10<=$V10),"NO ATIPICO","ATIPICO") -> ATIPICO
B11: 2 | C11: COMPUTADOR DE ESCRITORIO ESPECIALIZADO, Conforme el anexo técnico | D11: 2 | E11: =+E10*$D$11 -> 1184800 | F11: =+F10*$D$11 -> 1102000 | G11: =+G10*$D$11 -> 1242000 | H11: =+H10*$D$11 -> 543892 | I11: =AVERAGE(E11:H11) -> 1018173 | K11: =+K10*$D$11 -> 1242000 | L11: =+L10*$D$11 -> 1102000 | M11: =+M10*$D$11 -> 1184800 | N11: =+N10*$D$11 -> 464358 | P11: =QUARTILE(K11:N11,1) -> 942589.5 | Q11: =QUARTILE(K11:N11,2) -> 1143400 | R11: =QUARTILE(K11:N11,3) -> 1199100 | S11: =+K11-N11 -> 777642 | T11: =R11-P11 -> 256510.5 | U11: =P11-(T11*1.5) -> 557823.75 | V11: =R11+(T11*1.5) -> 1583865.8 | W11: =IF(AND(K11>=U11,K11<=V11),"NO ATIPICO","ATIPICO") -> NO ATIPICO | X11: =IF(AND(L11>=$U11,L11<=$V11),"NO ATIPICO","ATIPICO") -> NO ATIPICO | Y11: =IF(AND(M11>=$U11,M11<=$V11),"NO ATIPICO","ATIPICO") -> NO ATIPICO | Z11: =IF(AND(N11>=$U11,N11<=$V11),"NO ATIPICO","ATIPICO") -> ATIPICO
B12: 3 | C12: COMPUTADOR PORTÁTIL AVANZADO I, Conforme el anexo técnico | D12: 1 | E12: 232400 | F12: 215500 | G12: 233000 | H12: 114130 | I12: =AVERAGE(E12:H12) -> 198757.5 | K12: 233000 | L12: 215500 | M12: 232400 | N12: 114130 | P12: =QUARTILE(K12:N12,1) -> 190157.5 | Q12: =QUARTILE(K12:N12,2) -> 223950 | R12: =QUARTILE(K12:N12,3) -> 232550 | S12: =+K12-N12 -> 118870 | T12: =R12-P12 -> 42392.5 | U12: =P12-(T12*1.5) -> 126568.75 | V12: =R12+(T12*1.5) -> 296138.75 | W12: =IF(AND(K12>=U12,K12<=V12),"NO ATIPICO","ATIPICO") -> NO ATIPICO | X12: =IF(AND(L12>=$U12,L12<=$V12),"NO ATIPICO","ATIPICO") -> NO ATIPICO | Y12: =IF(AND(M12>=$U12,M12<=$V12),"NO ATIPICO","ATIPICO") -> NO ATIPICO | Z12: =IF(AND(N12>=$U12,N12<=$V12),"NO ATIPICO","ATIPICO") -> ATIPICO
B13: 3 | C13: COMPUTADOR PORTÁTIL AVANZADO I, Conforme el anexo técnico | D13: 206 | E13: =+E12*$D$13 -> 47874400 | F13: =+F12*$D$13 -> 44393000 | G13: =+G12*$D$13 -> 47998000 | H13: =+H12*$D$13 -> 23510780 | I13: =AVERAGE(E13:H13) -> 40944045 | K13: =+K12*$D$13 -> 47998000 | L13: =+L12*$D$13 -> 44393000 | M13: =+M12*$D$13 -> 47874400 | N13: =+N12*$D$13 -> 23510780 | P13: =QUARTILE(K13:N13,1) -> 39172445 | Q13: =QUARTILE(K13:N13,2) -> 46133700 | R13: =QUARTILE(K13:N13,3) -> 47905300 | S13: =+K13-N13 -> 24487220 | T13: =R13-P13 -> 8732855 | U13: =P13-(T13*1.5) -> 26073162 | V13: =R13+(T13*1.5) -> 61004582 | W13: =IF(AND(K13>=U13,K13<=V13),"NO ATIPICO","ATIPICO") -> NO ATIPICO | X13: =IF(AND(L13>=$U13,L13<=$V13),"NO ATIPICO","ATIPICO") -> NO ATIPICO | Y13: =IF(AND(M13>=$U13,M13<=$V13),"NO ATIPICO","ATIPICO") -> NO ATIPICO | Z13: =IF(AND(N13>=$U13,N13<=$V13),"NO ATIPICO","ATIPICO") -> ATIPICO
B14: 4 | C14: COMPUTADOR PORTÁTIL AVANZADO II , Conforme el anexo técnico | D14: 1 | E14: 262400 | F14: 366500 | G14: 272500 | H14: 267757 | I14: =AVERAGE(E14:H14) -> 292289.25 | K14: 272500 | L14: 366500 | M14: 262400 | N14: 337819 | P14: =QUARTILE(K14:N14,1) -> 269975 | Q14: =QUARTILE(K14:N14,2) -> 305159.5 | R14: =QUARTILE(K14:N14,3) -> 344989.25 | S14: =+M14-L14 -> -104100 | T14: =R14-P14 -> 75014.25 | U14: =P14-(T14*1.5) -> 157453.62 | V14: =R14+(T14*1.5) -> 457510.62 | W14: =IF(AND(K14>=U14,K14<=V14),"NO ATIPICO","ATIPICO") -> NO ATIPICO | X14: =IF(AND(L14>=$U14,L14<=$V14),"NO ATIPICO","ATIPICO") -> NO ATIPICO | Y14: =IF(AND(M14>=$U14,M14<=$V14),"NO ATIPICO","ATIPICO") -> NO ATIPICO | Z14: =IF(AND(N14>=$U14,N14<=$V14),"NO ATIPICO","ATIPICO") -> NO ATIPICO
B15: 4 | C15: COMPUTADOR PORTÁTIL AVANZADO II , Conforme el anexo técnico | D15: 63 | E15: =+E14*$D$15 -> 16531200 | F15: =+F14*$D$15 -> 23089500 | G15: =+G14*$D$15 -> 17167500 | H15: =+H14*$D$15 -> 16868691 | I15: =AVERAGE(E15:H15) -> 18414223 | K15: =+K14*$D$15 -> 17167500 | L15: =+L14*$D$15 -> 23089500 | M15: =+M14*$D$15 -> 16531200 | N15: =+N14*$D$15 -> 21282597 | P15: =QUARTILE(K15:N15,1) -> 17008425 | Q15: =QUARTILE(K15:N15,2) -> 19225048 | R15: =QUARTILE(K15:N15,3) -> 21734323 | S15: =+M15-L15 -> -6558300 | T15: =R15-P15 -> 4725897.8 | U15: =P15-(T15*1.5) -> 9919578.4 | V15: =R15+(T15*1.5) -> 28823169 | W15: =IF(AND(K15>=U15,K15<=V15),"NO ATIPICO","ATIPICO") -> NO ATIPICO | X15: =IF(AND(L15>=$U15,L15<=$V15),"NO ATIPICO","ATIPICO") -> NO ATIPICO | Y15: =IF(AND(M15>=$U15,M15<=$V15),"NO ATIPICO","ATIPICO") -> NO ATIPICO | Z15: =IF(AND(N15>=$U15,N15<=$V15),"NO ATIPICO","ATIPICO") -> NO ATIPICO
B16: 5 | C16: IMPRESORA LÁSER, Conforme el anexo técnico | D16: 1 | E16: 405500 | F16: 327000 | G16: 440000 | H16: 68788 | I16: =AVERAGE(E16:H16) -> 310322 | K16: 440000 | L16: 327000 | M16: 405500 | N16: 68788 | P16: =QUARTILE(K16:N16,1) -> 262447 | Q16: =QUARTILE(K16:N16,2) -> 366250 | R16: =QUARTILE(K16:N16,3) -> 414125 | S16: =+K16-N16 -> 371212 | T16: =R16-P16 -> 151678 | U16: =P16-(T16*1.5) -> 34930 | V16: =R16+(T16*1.5) -> 641642 | W16: =IF(AND(K16>=U16,K16<=V16),"NO ATIPICO","ATIPICO") -> NO ATIPICO | X16: =IF(AND(L16>=$U16,L16<=$V16),"NO ATIPICO","ATIPICO") -> NO ATIPICO | Y16: =IF(AND(M16>=$U16,M16<=$V16),"NO ATIPICO","ATIPICO") -> NO ATIPICO | Z16: =IF(AND(N16>=$U16,N16<=$V16),"NO ATIPICO","ATIPICO") -> NO ATIPICO
B17: 5 | C17: IMPRESORA LÁSER, Conforme el anexo técnico | D17: 7 | E17: =+E16*$D$17 -> 2838500 | F17: =+F16*$D$17 -> 2289000 | G17: =+G16*$D$17 -> 3080000 | H17: =+H16*$D$17 -> 481516 | I17: =AVERAGE(E17:H17) -> 2172254 | K17: =+K16*$D$17 -> 3080000 | L17: =+L16*$D$17 -> 2289000 | M17: =+M16*$D$17 -> 2838500 | N17: =+N16*$D$17 -> 481516 | P17: =QUARTILE(K17:N17,1) -> 1837129 | Q17: =QUARTILE(K17:N17,2) -> 2563750 | R17: =QUARTILE(K17:N17,3) -> 2898875 | S17: =+K17-N17 -> 2598484 | T17: =R17-P17 -> 1061746 | U17: =P17-(T17*1.5) -> 244510 | V17: =R17+(T17*1.5) -> 4491494 | W17: =IF(AND(K17>=U17,K17<=V17),"NO ATIPICO","ATIPICO") -> NO ATIPICO | X17: =IF(AND(L17>=$U17,L17<=$V17),"NO ATIPICO","ATIPICO") -> NO ATIPICO | Y17: =IF(AND(M17>=$U17,M17<=$V17),"NO ATIPICO","ATIPICO") -> NO ATIPICO | Z17: =IF(AND(N17>=$U17,N17<=$V17),"NO ATIPICO","ATIPICO") -> NO ATIPICO
B18: 6 | C18: Clic de impresión | D18: 1 | F18: 35 | H18: 18 | I18: =AVERAGE(E18:H18) -> 26.5 | L18: 35 | N18: 18 | P18: =QUARTILE(K18:N18,1) -> 22.25 | Q18: =QUARTILE(K18:N18,2) -> 26.5 | R18: =QUARTILE(K18:N18,3) -> 30.75 | S18: =+L18-N18 -> 17 | T18: =R18-P18 -> 8.5 | U18: =P18-(T18*1.5) -> 9.5 | V18: =R18+(T18*1.5) -> 43.5 | W18: =IF(AND(K18>=U18,K18<=V18),"NO ATIPICO","ATIPICO") -> ATIPICO | X18: =IF(AND(L18>=$U18,L18<=$V18),"NO ATIPICO","ATIPICO") -> NO ATIPICO | Y18: =IF(AND(M18>=$U18,M18<=$V18),"NO ATIPICO","ATIPICO") -> ATIPICO | Z18: =IF(AND(N18>=$U18,N18<=$V18),"NO ATIPICO","ATIPICO") -> NO ATIPICO
B19: 6 | C19: Clic de impresión | D19: 9531 | E19: =+E18*$D$19 -> 0 | F19: =+F18*$D$19 -> 333585 | G19: =+G18*$D$19 -> 0 | H19: =+H18*$D$19 -> 171558 | I19: =AVERAGE(E19:H19) -> 126285.75 | K19: =+K18*$D$19 -> 0 | L19: =+L18*$D$19 -> 333585 | M19: =+M18*$D$19 -> 0 | N19: =+N18*$D$19 -> 171558 | P19: =QUARTILE(K19:N19,1) -> 0 | Q19: =QUARTILE(K19:N19,2) -> 85779 | R19: =QUARTILE(K19:N19,3) -> 212064.75 | S19: =+L19-N19 -> 162027 | T19: =R19-P19 -> 212064.75 | U19: =P19-(T19*1.5) -> -318097.12 | V19: =R19+(T19*1.5) -> 530161.88 | W19: =IF(AND(K19>=U19,K19<=V19),"NO ATIPICO","ATIPICO") -> NO ATIPICO | X19: =IF(AND(L19>=$U19,L19<=$V19),"NO ATIPICO","ATIPICO") -> NO ATIPICO | Y19: =IF(AND(M19>=$U19,M19<=$V19),"NO ATIPICO","ATIPICO") -> NO ATIPICO | Z19: =IF(AND(N19>=$U19,N19<=$V19),"NO ATIPICO","ATIPICO") -> NO ATIPICO
B20: 7 | C20: ESCÁNER A4, Conforme el anexo técnico | D20: 1 | E20: 265500 | F20: 261000 | G20: 310000 | H20: 162590 | I20: =AVERAGE(E20:H20) -> 249772.5 | K20: 310000 | L20: 261000 | M20: 265500 | N20: 162590 | P20: =QUARTILE(K20:N20,1) -> 236397.5 | Q20: =QUARTILE(K20:N20,2) -> 263250 | R20: =QUARTILE(K20:N20,3) -> 276625 | S20: =+K20-N20 -> 147410 | T20: =R20-P20 -> 40227.5 | U20: =P20-(T20*1.5) -> 176056.25 | V20: =R20+(T20*1.5) -> 336966.25 | W20: =IF(AND(K20>=U20,K20<=V20),"NO ATIPICO","ATIPICO") -> NO ATIPICO | X20: =IF(AND(L20>=$U20,L20<=$V20),"NO ATIPICO","ATIPICO") -> NO ATIPICO | Y20: =IF(AND(M20>=$U20,M20<=$V20),"NO ATIPICO","ATIPICO") -> NO ATIPICO | Z20: =IF(AND(N20>=$U20,N20<=$V20),"NO ATIPICO","ATIPICO") -> ATIPICO
B21: 7 | C21: ESCÁNER A4, Conforme el anexo técnico | D21: 11 | E21: =+E20*$D$21 -> 2920500 | F21: =+F20*$D$21 -> 2871000 | G21: =+G20*$D$21 -> 3410000 | H21: =+H20*$D$21 -> 1788490 | I21: =AVERAGE(E21:H21) -> 2747497.5 | K21: =+K20*$D$21 -> 3410000 | L21: =+L20*$D$21 -> 2871000 | M21: =+M20*$D$21 -> 2920500 | N21: =+N20*$D$21 -> 1788490 | P21: =QUARTILE(K21:N21,1) -> 2600372.5 | Q21: =QUARTILE(K21:N21,2) -> 2895750 | R21: =QUARTILE(K21:N21,3) -> 3042875 | S21: =+K21-N21 -> 1621510 | T21: =R21-P21 -> 442502.5 | U21: =P21-(T21*1.5) -> 1936618.8 | V21: =R21+(T21*1.5) -> 3706628.8 | W21: =IF(AND(K21>=U21,K21<=V21),"NO ATIPICO","ATIPICO") -> NO ATIPICO | X21: =IF(AND(L21>=$U21,L21<=$V21),"NO ATIPICO","ATIPICO") -> NO ATIPICO | Y21: =IF(AND(M21>=$U21,M21<=$V21),"NO ATIPICO","ATIPICO") -> NO ATIPICO | Z21: =IF(AND(N21>=$U21,N21<=$V21),"NO ATIPICO","ATIPICO") -> ATIPICO
B22: 8 | C22: TABLETS, Conforme el anexo técnico | D22: 1 | E22: 420000 | F22: 460000 | G22: 455000 | I22: =AVERAGE(E22:G22) -> 445000 | K22: 455000 | L22: 460000 | M22: 420000 | P22: =QUARTILE(K22:N22,1) -> 437500 | Q22: =QUARTILE(K22:N22,2) -> 455000 | R22: =QUARTILE(K22:N22,3) -> 457500 | S22: =+M22-L22 -> -40000 | T22: =R22-P22 -> 20000 | U22: =P22-(T22*1.5) -> 407500 | V22: =R22+(T22*1.5) -> 487500 | W22: =IF(AND(K22>=U22,K22<=V22),"NO ATIPICO","ATIPICO") -> NO ATIPICO | X22: =IF(AND(L22>=$U22,L22<=$V22),"NO ATIPICO","ATIPICO") -> NO ATIPICO | Y22: =IF(AND(M22>=$U22,M22<=$V22),"NO ATIPICO","ATIPICO") -> NO ATIPICO | Z22: =IF(AND(N22>=$U22,N22<=$V22),"NO ATIPICO","ATIPICO") -> ATIPICO
B23: 8 | C23: TABLETS, Conforme el anexo técnico | D23: 20 | E23: =+E22*$D$23 -> 8400000 | F23: =+F22*$D$23 -> 9200000 | G23: =+G22*$D$23 -> 9100000 | I23: =AVERAGE(E23:G23) -> 8900000 | K23: =+K22*$D$23 -> 9100000 | L23: =+L22*$D$23 -> 9200000 | M23: =+M22*$D$23 -> 8400000 | P23: =QUARTILE(K23:N23,1) -> 8750000 | Q23: =QUARTILE(K23:N23,2) -> 9100000 | R23: =QUARTILE(K23:N23,3) -> 9150000 | S23: =+M23-L23 -> -800000 | T23: =R23-P23 -> 400000 | U23: =P23-(T23*1.5) -> 8150000 | V23: =R23+(T23*1.5) -> 9750000 | W23: =IF(AND(K23>=U23,K23<=V23),"NO ATIPICO","ATIPICO") -> NO ATIPICO | X23: =IF(AND(L23>=$U23,L23<=$V23),"NO ATIPICO","ATIPICO") -> NO ATIPICO | Y23: =IF(AND(M23>=$U23,M23<=$V23),"NO ATIPICO","ATIPICO") -> NO ATIPICO | Z23: =IF(AND(N23>=$U23,N23<=$V23),"NO ATIPICO","ATIPICO") -> ATIPICO
B24: 9 | C24: PANTALLA INTERACTIVA, Conforme el anexo técnico | D24: 1 | E24: 1320000 | F24: 532500 | G24: 1300000 | I24: =AVERAGE(E24:G24) -> 1050833.3 | K24: 1300000 | L24: 532500 | M24: 1320000 | P24: =QUARTILE(K24:N24,1) -> 916250 | Q24: =QUARTILE(K24:N24,2) -> 1300000 | R24: =QUARTILE(K24:N24,3) -> 1310000 | S24: =+L24-M24 -> -787500 | T24: =R24-P24 -> 393750 | U24: =P24-(T24*1.5) -> 325625 | V24: =R24+(T24*1.5) -> 1900625 | W24: =IF(AND(K24>=U24,K24<=V24),"NO ATIPICO","ATIPICO") -> NO ATIPICO | X24: =IF(AND(L24>=$U24,L24<=$V24),"NO ATIPICO","ATIPICO") -> NO ATIPICO | Y24: =IF(AND(M24>=$U24,M24<=$V24),"NO ATIPICO","ATIPICO") -> NO ATIPICO | Z24: =IF(AND(N24>=$U24,N24<=$V24),"NO ATIPICO","ATIPICO") -> ATIPICO
B25: 9 | C25: PANTALLA INTERACTIVA, Conforme el anexo técnico | D25: 3 | E25: =+E24*$D$25 -> 3960000 | F25: =+F24*$D$25 -> 1597500 | G25: =+G24*$D$25 -> 3900000 | I25: =AVERAGE(E25:G25) -> 3152500 | K25: =+K24*$D$25 -> 3900000 | L25: =+L24*$D$25 -> 1597500 | M25: =+M24*$D$25 -> 3960000 | P25: =QUARTILE(K25:N25,1) -> 2748750 | Q25: =QUARTILE(K25:N25,2) -> 3900000 | R25: =QUARTILE(K25:N25,3) -> 3930000 | S25: =+L25-M25 -> -2362500 | T25: =R25-P25 -> 1181250 | U25: =P25-(T25*1.5) -> 976875 | V25: =R25+(T25*1.5) -> 5701875 | W25: =IF(AND(K25>=U25,K25<=V25),"NO ATIPICO","ATIPICO") -> NO ATIPICO | X25: =IF(AND(L25>=$U25,L25<=$V25),"NO ATIPICO","ATIPICO") -> NO ATIPICO | Y25: =IF(AND(M25>=$U25,M25<=$V25),"NO ATIPICO","ATIPICO") -> NO ATIPICO | Z25: =IF(AND(N25>=$U25,N25<=$V25),"NO ATIPICO","ATIPICO") -> ATIPICO
E26: =+E9+E11+E13+E15+E17+E19+E21+E23+E25 -> 89751800 | F26: =+F9+F11+F13+F15+F17+F19+F21+F23+F25 -> 89958585 | G26: =+G9+G11+G13+G15+G17+G19+G21+G23+G25 -> 91929500 | H26: =+H9+H11+H13+H15+H17+H19+H21+H23+H25 -> 46124255 | I26: =+I9+I11+I13+I15+I17+I19+I21+I23+I25 -> 82454160 | K26: =+K9+K11+K13+K15+K17+K19+K21+K23+K25 -> 91929500 | L26: =+L9+L11+L13+L15+L17+L19+L21+L23+L25 -> 89958585 | M26: =+M9+M11+M13+M15+M17+M19+M21+M23+M25 -> 89751800 | N26: =+N9+N11+N13+N15+N17+N19+N21+N23+N25 -> 50458627
B33: ANÁLISIS DE PRECIOS ATÍPICOS DE ACUERDO A LA GUIA DE ANÁLISIS DEL SECTOR Y DEL MERCADO DE CCE PARA COMPRA
E36: Estretegia cardinal
B37: Item | C37: Descripción | D37: Cantidad | E37: Proveedor 1 | F37: Proveedor 2 | G37: Proveedor 3 | H37: PROMEDIO | J37: Proveedor 1 | K37: Proveedor 3 | L37: Proveedor 2 | N37: QUARTIL 1 | O37: QUARTIL 2 | P37: QUARTIL 3 | Q37: RANGO | R37: RANGO IC (RIC) | S37: 𝐿í𝑚𝑖𝑡𝑒 𝑖𝑛𝑓𝑒𝑟𝑖𝑜𝑟 (𝐿𝑖) | T37: 𝐿í𝑚𝑖𝑡𝑒 𝑠𝑢𝑝𝑒𝑟𝑖𝑜𝑟 (𝐿𝑠) | U37: Proveedor 1 | V37: Proveedor 3 | W37: Proveedor 2
B38: 1 | C38: COMPUTADOR DE ESCRITORIO BÁSICO, Conforme el anexo técnico | D38: 1 | E38: 7690000 | F38: 5370000 | G38: 5955000 | H38: =AVERAGE(E38:G38) -> 6338333.3 | J38: 7690000 | K38: 5955000 | L38: 5370000 | N38: =QUARTILE(J38:L38,1) -> 5662500 | O38: =QUARTILE(J38:L38,2) -> 5955000 | P38: =QUARTILE(J38:L38,3) -> 6822500 | Q38: =+J38-L38 -> 2320000 | R38: =P38-N38 -> 1160000 | S38: =N38-(R38*1.5) -> 3922500 | T38: =P38+(R38*1.5) -> 8562500 | U38: =IF(AND(J38>=S38,J38<=T38),"NO ATIPICO","ATIPICO") -> NO ATIPICO | V38: =IF(AND(K38>=S38,K38<=T38),"NO ATIPICO","ATIPICO") -> NO ATIPICO | W38: =IF(AND(L38>=S38,L38<=T38),"NO ATIPICO","ATIPICO") -> NO ATIPICO
B39: 1 | C39: COMPUTADOR DE ESCRITORIO BÁSICO, Conforme el anexo técnico | D39: 26 | E39: =+E38*$D$9 -> 199940000 | F39: =+F38*$D$9 -> 139620000 | G39: =+G38*$D$9 -> 154830000 | H39: =AVERAGE(E39:G39) -> 1.6479667e+08 | J39: =+J38*$D$9 -> 199940000 | K39: =+K38*$D$9 -> 154830000 | L39: =+L38*$D$9 -> 139620000 | N39: =QUARTILE(J39:L39,1) -> 147225000 | O39: =QUARTILE(J39:L39,2) -> 154830000 | P39: =QUARTILE(J39:L39,3) -> 177385000 | Q39: =+J39-L39 -> 60320000 | R39: =P39-N39 -> 30160000 | S39: =N39-(R39*1.5) -> 101985000 | T39: =P39+(R39*1.5) -> 222625000 | U39: =IF(AND(J39>=S39,J39<=T39),"NO ATIPICO","ATIPICO") -> NO ATIPICO | V39: =IF(AND(K39>=S39,K39<=T39),"NO ATIPICO","ATIPICO") -> NO ATIPICO | W39: =IF(AND(L39>=S39,L39<=T39),"NO ATIPICO","ATIPICO") -> NO ATIPICO
B40: 2 | C40: COMPUTADOR DE ESCRITORIO ESPECIALIZADO, Conforme el anexo técnico | D40: 1 | E40: 24000000 | F40: 16565000 | G40: 20605000 | H40: =AVERAGE(E40:G40) -> 20390000 | J40: 24000000 | K40: 20605000 | L40: 16565000 | N40: =QUARTILE(J40:L40,1) -> 18585000 | O40: =QUARTILE(J40:L40,2) -> 20605000 | P40: =QUARTILE(J40:L40,3) -> 22302500 | Q40: =+J40-L40 -> 7435000 | R40: =P40-N40 -> 3717500 | S40: =N40-(R40*1.5) -> 13008750 | T40: =P40+(R40*1.5) -> 27878750 | U40: =IF(AND(J40>=S40,J40<=T40),"NO ATIPICO","ATIPICO") -> NO ATIPICO | V40: =IF(AND(K40>=S40,K40<=T40),"NO ATIPICO","ATIPICO") -> NO ATIPICO | W40: =IF(AND(L40>=S40,L40<=T40),"NO ATIPICO","ATIPICO") -> NO ATIPICO
B41: 2 | C41: COMPUTADOR DE ESCRITORIO ESPECIALIZADO, Conforme el anexo técnico | D41: 2 | E41: =+E40*$D$11 -> 48000000 | F41: =+F40*$D$11 -> 33130000 | G41: =+G40*$D$11 -> 41210000 | H41: =AVERAGE(E41:G41) -> 40780000 | J41: =+J40*$D$11 -> 48000000 | K41: =+K40*$D$11 -> 41210000 | L41: =+L40*$D$11 -> 33130000 | N41: =QUARTILE(J41:L41,1) -> 37170000 | O41: =QUARTILE(J41:L41,2) -> 41210000 | P41: =QUARTILE(J41:L41,3) -> 44605000 | Q41: =+J41-L41 -> 14870000 | R41: =P41-N41 -> 7435000 | S41: =N41-(R41*1.5) -> 26017500 | T41: =P41+(R41*1.5) -> 55757500 | U41: =IF(AND(J41>=S41,J41<=T41),"NO ATIPICO","ATIPICO") -> NO ATIPICO | V41: =IF(AND(K41>=S41,K41<=T41),"NO ATIPICO","ATIPICO") -> NO ATIPICO | W41: =IF(AND(L41>=S41,L41<=T41),"NO ATIPICO","ATIPICO") -> NO ATIPICO
B42: 3 | C42: COMPUTADOR PORTÁTIL AVANZADO I, Conforme el anexo técnico | D42: 1 | E42: 7530000 | F42: 5570000 | G42: 6865000 | H42: =AVERAGE(E42:G42) -> 6655000 | J42: 7530000 | K42: 6865000 | L42: 5570000 | N42: =QUARTILE(J42:L42,1) -> 6217500 | O42: =QUARTILE(J42:L42,2) -> 6865000 | P42: =QUARTILE(J42:L42,3) -> 7197500 | Q42: =+J42-L42 -> 1960000 | R42: =P42-N42 -> 980000 | S42: =N42-(R42*1.5) -> 4747500 | T42: =P42+(R42*1.5) -> 8667500 | U42: =IF(AND(J42>=S42,J42<=T42),"NO ATIPICO","ATIPICO") -> NO ATIPICO | V42: =IF(AND(K42>=S42,K42<=T42),"NO ATIPICO","ATIPICO") -> NO ATIPICO | W42: =IF(AND(L42>=S42,L42<=T42),"NO ATIPICO","ATIPICO") -> NO ATIPICO
B43: 3 | C43: COMPUTADOR PORTÁTIL AVANZADO I, Conforme el anexo técnico | D43: 206 | E43: =+E42*$D$13 -> 1551180000 | F43: =+F42*$D$13 -> 1147420000 | G43: =+G42*$D$13 -> 1414190000 | H43: =AVERAGE(E43:G43) -> 1370930000 | J43: =+J42*$D$13 -> 1551180000 | K43: =+K42*$D$13 -> 1414190000 | L43: =+L42*$D$13 -> 1147420000 | N43: =QUARTILE(J43:L43,1) -> 1280805000 | O43: =QUARTILE(J43:L43,2) -> 1414190000 | P43: =QUARTILE(J43:L43,3) -> 1482685000 | Q43: =+J43-L43 -> 403760000 | R43: =P43-N43 -> 201880000 | S43: =N43-(R43*1.5) -> 977985000 | T43: =P43+(R43*1.5) -> 1785505000 | U43: =IF(AND(J43>=S43,J43<=T43),"NO ATIPICO","ATIPICO") -> NO ATIPICO | V43: =IF(AND(K43>=S43,K43<=T43),"NO ATIPICO","ATIPICO") -> NO ATIPICO | W43: =IF(AND(L43>=S43,L43<=T43),"NO ATIPICO","ATIPICO") -> NO ATIPICO
B44: 4 | C44: COMPUTADOR PORTÁTIL AVANZADO II , Conforme el anexo técnico | D44: 1 | E44: 8580000 | F44: 5970000 | G44: 6865000 | H44: =AVERAGE(E44:G44) -> 7138333.3 | J44: 8580000 | K44: 6865000 | L44: 5970000 | N44: =QUARTILE(J44:L44,1) -> 6417500 | O44: =QUARTILE(J44:L44,2) -> 6865000 | P44: =QUARTILE(J44:L44,3) -> 7722500 | Q44: =++J44-L44 -> 2610000 | R44: =P44-N44 -> 1305000 | S44: =N44-(R44*1.5) -> 4460000 | T44: =P44+(R44*1.5) -> 9680000 | U44: =IF(AND(J44>=S44,J44<=T44),"NO ATIPICO","ATIPICO") -> NO ATIPICO | V44: =IF(AND(K44>=S44,K44<=T44),"NO ATIPICO","ATIPICO") -> NO ATIPICO | W44: =IF(AND(L44>=S44,L44<=T44),"NO ATIPICO","ATIPICO") -> NO ATIPICO
B45: 4 | C45: COMPUTADOR PORTÁTIL AVANZADO II , Conforme el anexo técnico | D45: 63 | E45: =+E44*$D$15 -> 540540000 | F45: =+F44*$D$15 -> 376110000 | G45: =+G44*$D$15 -> 432495000 | H45: =AVERAGE(E45:G45) -> 449715000 | J45: =+J44*$D$15 -> 540540000 | K45: =+K44*$D$15 -> 432495000 | L45: =+L44*$D$15 -> 376110000 | N45: =QUARTILE(J45:L45,1) -> 404302500 | O45: =QUARTILE(J45:L45,2) -> 432495000 | P45: =QUARTILE(J45:L45,3) -> 486517500 | Q45: =++J45-L45 -> 164430000 | R45: =P45-N45 -> 82215000 | S45: =N45-(R45*1.5) -> 280980000 | T45: =P45+(R45*1.5) -> 609840000 | U45: =IF(AND(J45>=S45,J45<=T45),"NO ATIPICO","ATIPICO") -> NO ATIPICO | V45: =IF(AND(K45>=S45,K45<=T45),"NO ATIPICO","ATIPICO") -> NO ATIPICO | W45: =IF(AND(L45>=S45,L45<=T45),"NO ATIPICO","ATIPICO") -> NO ATIPICO
B46: 5 | C46: IMPRESORA LÁSER, Conforme el anexo técnico | D46: 1 | E46: 5515000 | F46: 3000000 | G46: 3560000 | H46: =AVERAGE(E46:G46) -> 4025000 | J46: 5515000 | K46: 3560000 | L46: 3000000 | N46: =QUARTILE(J46:L46,1) -> 3280000 | O46: =QUARTILE(J46:L46,2) -> 3560000 | P46: =QUARTILE(J46:L46,3) -> 4537500 | Q46: =+J46-L46 -> 2515000 | R46: =P46-N46 -> 1257500 | S46: =N46-(R46*1.5) -> 1393750 | T46: =P46+(R46*1.5) -> 6423750 | U46: =IF(AND(J46>=S46,J46<=T46),"NO ATIPICO","ATIPICO") -> NO ATIPICO | V46: =IF(AND(K46>=S46,K46<=T46),"NO ATIPICO","ATIPICO") -> NO ATIPICO | W46: =IF(AND(L46>=S46,L46<=T46),"NO ATIPICO","ATIPICO") -> NO ATIPICO
B47: 5 | C47: IMPRESORA LÁSER, Conforme el anexo técnico | D47: 7 | E47: =+E46*$D$17 -> 38605000 | F47: =+F46*$D$17 -> 21000000 | G47: =+G46*$D$17 -> 24920000 | H47: =AVERAGE(E47:G47) -> 28175000 | J47: =+J46*$D$17 -> 38605000 | K47: =+K46*$D$17 -> 24920000 | L47: =+L46*$D$17 -> 21000000 | N47: =QUARTILE(J47:L47,1) -> 22960000 | O47: =QUARTILE(J47:L47,2) -> 24920000 | P47: =QUARTILE(J47:L47,3) -> 31762500 | Q47: =+J47-L47 -> 17605000 | R47: =P47-N47 -> 8802500 | S47: =N47-(R47*1.5) -> 9756250 | T47: =P47+(R47*1.5) -> 44966250 | U47: =IF(AND(J47>=S47,J47<=T47),"NO ATIPICO","ATIPICO") -> NO ATIPICO | V47: =IF(AND(K47>=S47,K47<=T47),"NO ATIPICO","ATIPICO") -> NO ATIPICO | W47: =IF(AND(L47>=S47,L47<=T47),"NO ATIPICO","ATIPICO") -> NO ATIPICO
B48: 6 | C48: ESCÁNER A4, Conforme el anexo técnico | D48: 1 | E48: 6220000 | F48: 4450000 | G48: 4660000 | H48: =AVERAGE(E48:G48) -> 5110000 | J48: 6220000 | K48: 4660000 | L48: 4450000 | N48: =QUARTILE(J48:L48,1) -> 4555000 | O48: =QUARTILE(J48:L48,2) -> 4660000 | P48: =QUARTILE(J48:L48,3) -> 5440000 | Q48: =+J48-L48 -> 1770000 | R48: =P48-N48 -> 885000 | S48: =N48-(R48*1.5) -> 3227500 | T48: =P48+(R48*1.5) -> 6767500 | U48: =IF(AND(J48>=S48,J48<=T48),"NO ATIPICO","ATIPICO") -> NO ATIPICO | V48: =IF(AND(K48>=S48,K48<=T48),"NO ATIPICO","ATIPICO") -> NO ATIPICO | W48: =IF(AND(L48>=S48,L48<=T48),"NO ATIPICO","ATIPICO") -> NO ATIPICO
B49: 6 | C49: ESCÁNER A4, Conforme el anexo técnico | D49: 11 | E49: =+E48*$D$21 -> 68420000 | F49: =+F48*$D$21 -> 48950000 | G49: =+G48*$D$21 -> 51260000 | H49: =AVERAGE(E49:G49) -> 56210000 | J49: =+J48*$D$21 -> 68420000 | K49: =+K48*$D$21 -> 51260000 | L49: =+L48*$D$21 -> 48950000 | N49: =QUARTILE(J49:L49,1) -> 50105000 | O49: =QUARTILE(J49:L49,2) -> 51260000 | P49: =QUARTILE(J49:L49,3) -> 59840000 | Q49: =+J49-L49 -> 19470000 | R49: =P49-N49 -> 9735000 | S49: =N49-(R49*1.5) -> 35502500 | T49: =P49+(R49*1.5) -> 74442500 | U49: =IF(AND(J49>=S49,J49<=T49),"NO ATIPICO","ATIPICO") -> NO ATIPICO | V49: =IF(AND(K49>=S49,K49<=T49),"NO ATIPICO","ATIPICO") -> NO ATIPICO | W49: =IF(AND(L49>=S49,L49<=T49),"NO ATIPICO","ATIPICO") -> NO ATIPICO
B50: 7 | C50: TABLETS, Conforme el anexo técnico | D50: 1 | E50: 3400000 | F50: 4740000 | G50: 4860000 | H50: =AVERAGE(E50:G50) -> 4333333.3 | J50: 3400000 | K50: 4860000 | L50: 4740000 | N50: =QUARTILE(J50:L50,1) -> 4070000 | O50: =QUARTILE(J50:L50,2) -> 4740000 | P50: =QUARTILE(J50:L50,3) -> 4800000 | Q50: =+K50-J50 -> 1460000 | R50: =P50-N50 -> 730000 | S50: =N50-(R50*1.5) -> 2975000 | T50: =P50+(R50*1.5) -> 5895000 | U50: =IF(AND(J50>=S50,J50<=T50),"NO ATIPICO","ATIPICO") -> NO ATIPICO | V50: =IF(AND(K50>=S50,K50<=T50),"NO ATIPICO","ATIPICO") -> NO ATIPICO | W50: =IF(AND(L50>=S50,L50<=T50),"NO ATIPICO","ATIPICO") -> NO ATIPICO
B51: 7 | C51: TABLETS, Conforme el anexo técnico | D51: 20 | E51: =+E50*$D$23 -> 68000000 | F51: =+F50*$D$23 -> 94800000 | G51: =+G50*$D$23 -> 97200000 | H51: =AVERAGE(E51:G51) -> 86666667 | J51: =+J50*$D$23 -> 68000000 | K51: =+K50*$D$23 -> 97200000 | L51: =+L50*$D$23 -> 94800000 | N51: =QUARTILE(J51:L51,1) -> 81400000 | O51: =QUARTILE(J51:L51,2) -> 94800000 | P51: =QUARTILE(J51:L51,3) -> 96000000 | Q51: =+K51-J51 -> 29200000 | R51: =P51-N51 -> 14600000 | S51: =N51-(R51*1.5) -> 59500000 | T51: =P51+(R51*1.5) -> 117900000 | U51: =IF(AND(J51>=S51,J51<=T51),"NO ATIPICO","ATIPICO") -> NO ATIPICO | V51: =IF(AND(K51>=S51,K51<=T51),"NO ATIPICO","ATIPICO") -> NO ATIPICO | W51: =IF(AND(L51>=S51,L51<=T51),"NO ATIPICO","ATIPICO") -> NO ATIPICO
B52: 8 | C52: PANTALLA INTERACTIVA, Conforme el anexo técnico | D52: 1 | E52: 11140000 | F52: 10520000 | G52: 12250000 | H52: =AVERAGE(E52:G52) -> 11303333 | J52: 11140000 | K52: 12250000 | L52: 10520000 | N52: =QUARTILE(J52:L52,1) -> 10830000 | O52: =QUARTILE(J52:L52,2) -> 11140000 | P52: =QUARTILE(J52:L52,3) -> 11695000 | Q52: =+K52-L52 -> 1730000 | R52: =P52-N52 -> 865000 | S52: =N52-(R52*1.5) -> 9532500 | T52: =P52+(R52*1.5) -> 12992500 | U52: =IF(AND(J52>=S52,J52<=T52),"NO ATIPICO","ATIPICO") -> NO ATIPICO | V52: =IF(AND(K52>=S52,K52<=T52),"NO ATIPICO","ATIPICO") -> NO ATIPICO | W52: =IF(AND(L52>=S52,L52<=T52),"NO ATIPICO","ATIPICO") -> NO ATIPICO
...

Sheet Análisis comparativo
B2: ANÁLISIS COMPARATIVOS PARA ALQUILER DE EQUIPOS
B4: Información solicitada por la Entidad | E4: Proveedor 1 | G4: Proveedor 2 | I4: Proveedor 3 | K4: Valor historico | M4: Promedio | Q4: Mediana
B5: Ref. Art | C5: Descripción | D5: Cantidad | E5: Precio unitario | F5: Valor total | G5: Precio unitario | H5: Valor total | I5: Precio unitario | J5: Valor total | K5: Precio unitario | L5: Valor total | M5: Promedio valor unitario | N5: Cantidad | O5: Promedio valor total | Q5: Mediana valor unitario | R5: Cantidad | S5: Promedio valor total
B6: 1 | C6: COMPUTADOR DE ESCRITORIO BÁSICO, Conforme el anexo técnico | D6: 26 | E6: ='Análisis Atípicos'!E8 -> 232400 | F6: =+E6*$D$6 -> 6042400 | G6: ='Análisis Atípicos'!F8 -> 195500 | H6: =+G6*$D$6 -> 5083000 | I6: ='Análisis Atípicos'!G8 -> 232000 | J6: =+I6*$D$6 -> 6032000 | K6: =+'Análisis Atípicos'!N8 -> 106128 | L6: =+K6*$D$6 -> 2759328 | M6: =ROUND(AVERAGE(E6,G6,I6,K6),0) -> 191507 | N6: 26 | O6: =M6*N6 -> 4979182 | Q6: =ROUND(MEDIAN(E6,G6,I6,K6),0) -> 213750 | R6: 26 | S6: =Q6*R6 -> 5557500
B7: 2 | C7: COMPUTADOR DE ESCRITORIO ESPECIALIZADO, Conforme el anexo técnico | D7: 2 | E7: ='Análisis Atípicos'!E10 -> 592400 | F7: =+E7*$D$7 -> 1184800 | G7: ='Análisis Atípicos'!F10 -> 551000 | H7: =+G7*$D$7 -> 1102000 | I7: ='Análisis Atípicos'!G10 -> 621000 | J7: =+I7*$D$7 -> 1242000 | L7: =+K7*$D$7 -> 0 | M7: =ROUND(AVERAGE(E7,G7,I7),0) -> 588133 | N7: 2 | O7: =M7*N7 -> 1176266 | Q7: =ROUND(MEDIAN(E7,G7,I7),0) -> 592400 | R7: 2 | S7: =Q7*R7 -> 1184800
B8: 3 | C8: COMPUTADOR PORTÁTIL AVANZADO I, Conforme el anexo técnico | D8: 206 | E8: ='Análisis Atípicos'!E12 -> 232400 | F8: =+E8*$D$8 -> 47874400 | G8: ='Análisis Atípicos'!F12 -> 215500 | H8: =+G8*$D$8 -> 44393000 | I8: ='Análisis Atípicos'!G12 -> 233000 | J8: =+I8*$D$8 -> 47998000 | L8: =+K8*$D$8 -> 0 | M8: =ROUND(AVERAGE(E8,G8,I8),0) -> 226967 | N8: 206 | O8: =M8*N8 -> 46755202 | Q8: =ROUND(MEDIAN(E8,G8,I8),0) -> 232400 | R8: 206 | S8: =Q8*R8 -> 47874400
B9: 4 | C9: COMPUTADOR PORTÁTIL AVANZADO II , Conforme el anexo técnico | D9: 63 | E9: ='Análisis Atípicos'!E14 -> 262400 | F9: =+E9*$D$9 -> 16531200 | G9: 366500 | H9: =+G9*$D$9 -> 23089500 | I9: ='Análisis Atípicos'!G14 -> 272500 | J9: =+I9*$D$9 -> 17167500 | K9: =+'Análisis Atípicos'!N14 -> 337819 | L9: =+K9*$D$9 -> 21282597 | M9: =ROUND(AVERAGE(E9,I9,K9),0) -> 290906 | N9: 63 | O9: =M9*N9 -> 18327078 | Q9: =ROUND(MEDIAN(E9,G9,I9,K9),0) -> 305160 | R9: 63 | S9: =Q9*R9 -> 19225080
B10: 5 | C10: IMPRESORA LÁSER, Conforme el anexo técnico | D10: 7 | E10: ='Análisis Atípicos'!E16 -> 405500 | F10: =+E10*$D$10 -> 2838500 | G10: ='Análisis Atípicos'!F16 -> 327000 | H10: =+G10*$D$10 -> 2289000 | I10: ='Análisis Atípicos'!G16 -> 440000 | J10: =+I10*$D$10 -> 3080000 | K10: =+'Análisis Atípicos'!N16 -> 68788 | L10: =+K10*$D$10 -> 481516 | M10: =ROUND(AVERAGE(E10,G10,I10,K10),0) -> 310322 | N10: 7 | O10: =M10*N10 -> 2172254 | Q10: =ROUND(MEDIAN(E10,G10,I10,K10),0) -> 366250 | R10: 7 | S10: =Q10*R10 -> 2563750
B11: 6 | C11: Clic de impresión | D11: 9531 | G11: ='Análisis Atípicos'!F18 -> 35 | H11: =D11*G11 -> 333585 | K11: =+'Análisis Atípicos'!N18 -> 18 | L11: =+K11*$D$11 -> 171558 | M11: =ROUND(AVERAGE(G11,K11),0) -> 27 | N11: 9531 | O11: =M11*N11 -> 257337 | Q11: =ROUND(MEDIAN(G11,K11),0) -> 27 | R11: 9531 | S11: =Q11*R11 -> 257337
B12: 7 | C12: ESCÁNER A4, Conforme el anexo técnico | D12: 11 | E12: ='Análisis Atípicos'!E20 -> 265500 | F12: =+E12*$D$12 -> 2920500 | G12: ='Análisis Atípicos'!F20 -> 261000 | H12: =+G12*$D$12 -> 2871000 | I12: ='Análisis Atípicos'!G20 -> 310000 | J12: =+I12*$D$12 -> 3410000 | K12: =+'Análisis Atípicos'!N20 -> 162590 | L12: =+K12*$D$12 -> 1788490 | M12: =ROUND(AVERAGE(E12,G12,I12,K12),0) -> 249773 | N12: 11 | O12: =M12*N12 -> 2747503 | Q12: =ROUND(MEDIAN(E12,G12,I12,K12),0) -> 263250 | R12: 11 | S12: =Q12*R12 -> 2895750
B13: 8 | C13: TABLETS, Conforme el anexo técnico | D13: 20 | E13: ='Análisis Atípicos'!E22 -> 420000 | F13: =+E13*$D$13 -> 8400000 | G13: ='Análisis Atípicos'!F22 -> 460000 | H13: =+G13*$D$13 -> 9200000 | I13: ='Análisis Atípicos'!G22 -> 455000 | J13: =+I13*$D$13 -> 9100000 | M13: =ROUND(AVERAGE(E13,G13,I13),0) -> 445000 | N13: 20 | O13: =M13*N13 -> 8900000 | Q13: =ROUND(MEDIAN(E13,G13,I13),0) -> 455000 | R13: 20 | S13: =Q13*R13 -> 9100000
B14: 9 | C14: PANTALLA INTERACTIVA, Conforme el anexo técnico | D14: 3 | E14: ='Análisis Atípicos'!E24 -> 1320000 | F14: =+E14*$D$14 -> 3960000 | G14: ='Análisis Atípicos'!F24 -> 532500 | H14: =+G14*$D$14 -> 1597500 | I14: ='Análisis Atípicos'!G24 -> 1300000 | J14: =+I14*$D$14 -> 3900000 | M14: =ROUND(AVERAGE(E14,G14,I14),0) -> 1050833 | N14: 3 | O14: =M14*N14 -> 3152499 | Q14: =ROUND(MEDIAN(E14,G14,I14),0) -> 1300000 | R14: 3 | S14: =Q14*R14 -> 3900000
F15: =+SUM(F6:F14) -> 89751800 | H15: =+SUM(H6:H14) -> 89958585 | J15: =+SUM(J6:J14) -> 91929500 | L15: =+SUM(L6:L14) -> 26483489 | M15: Valor total | O15: =+SUM(O6:O14) -> 88467321 | Q15: Valor total | S15: =+SUM(S6:S14) -> 92558617
B20: ANÁLISIS COMPARATIVOS PARA COMPRA DE EQUIPOS
B22: Información solicitada por la Entidad | E22: Proveedor 1 | G22: Proveedor 2 | I22: Proveedor 3 | K22: Promedio | O22: Mediana
B23: Ref. Art | C23: Descripción | D23: Cantidad | E23: Precio unitario | F23: Valor total | G23: Precio unitario | H23: Valor total | I23: Precio unitario | J23: Valor total | K23: Promedio valor unitario | L23: Cantidad | M23: Total | O23: Mediana valor unitario | P23: Cantidad | Q23: Total
B24: 1 | C24: COMPUTADOR DE ESCRITORIO BÁSICO, Conforme el anexo técnico | D24: 26 | E24: 7690000 | F24: =+E24*$D$6 -> 199940000 | G24: 5370000 | H24: =+G24*$D$6 -> 139620000 | I24: 5955000 | J24: =+I24*$D$6 -> 154830000 | K24: =ROUND(AVERAGE(E24,G24,I24),0) -> 6338333 | L24: 26 | M24: =K24*L24 -> 164796658 | O24: =ROUND(MEDIAN(E24,G24,I24),0) -> 5955000 | P24: 26 | Q24: =O24*P24 -> 154830000
B25: 2 | C25: COMPUTADOR DE ESCRITORIO ESPECIALIZADO, Conforme el anexo técnico | D25: 2 | E25: 24000000 | F25: =+E25*$D$7 -> 48000000 | G25: 16565000 | H25: =+G25*$D$7 -> 33130000 | I25: 20605000 | J25: =+I25*$D$7 -> 41210000 | K25: =ROUND(AVERAGE(E25,G25,I25),0) -> 20390000 | L25: 2 | M25: =K25*L25 -> 40780000 | O25: =ROUND(MEDIAN(E25,G25,I25),0) -> 20605000 | P25: 2 | Q25: =O25*P25 -> 41210000
B26: 3 | C26: COMPUTADOR PORTÁTIL AVANZADO I, Conforme el anexo técnico | D26: 206 | E26: 7530000 | F26: =+E26*$D$8 -> 1551180000 | G26: 5570000 | H26: =+G26*$D$8 -> 1147420000 | I26: 6865000 | J26: =+I26*$D$8 -> 1414190000 | K26: =ROUND(AVERAGE(E26,G26,I26),0) -> 6655000 | L26: 206 | M26: =K26*L26 -> 1370930000 | O26: =ROUND(MEDIAN(E26,G26,I26),0) -> 6865000 | P26: 206 | Q26: =O26*P26 -> 1414190000
B27: 4 | C27: COMPUTADOR PORTÁTIL AVANZADO II , Conforme el anexo técnico | D27: 63 | E27: 8580000 | F27: =+E27*$D$9 -> 540540000 | G27: 5970000 | H27: =+G27*$D$9 -> 376110000 | I27: 6865000 | J27: =+I27*$D$9 -> 432495000 | K27: =ROUND(AVERAGE(E27,G27,I27),0) -> 7138333 | L27: 63 | M27: =K27*L27 -> 449714979 | O27: =ROUND(MEDIAN(E27,G27,I27),0) -> 6865000 | P27: 63 | Q27: =O27*P27 -> 432495000
B28: 5 | C28: IMPRESORA LÁSER, Conforme el anexo técnico | D28: 7 | E28: 5515000 | F28: =+E28*$D$10 -> 38605000 | G28: 3000000 | H28: =+G28*$D$10 -> 21000000 | I28: 3560000 | J28: =+I28*$D$10 -> 24920000 | K28: =ROUND(AVERAGE(E28,G28,I28),0) -> 4025000 | L28: 7 | M28: =K28*L28 -> 28175000 | O28: =ROUND(MEDIAN(E28,G28,I28),0) -> 3560000 | P28: 7 | Q28: =O28*P28 -> 24920000
B29: 6 | C29: ESCÁNER A4, Conforme el anexo técnico | D29: 11 | E29: 6220000 | F29: =+E29*$D$12 -> 68420000 | G29: 4450000 | H29: =+G29*$D$12 -> 48950000 | I29: 4660000 | J29: =+I29*$D$12 -> 51260000 | K29: =ROUND(AVERAGE(E29,G29,I29),0) -> 5110000 | L29: 11 | M29: =K29*L29 -> 56210000 | O29: =ROUND(MEDIAN(E29,G29,I29),0) -> 4660000 | P29: 11 | Q29: =O29*P29 -> 51260000
B30: 7 | C30: TABLETS, Conforme el anexo técnico | D30: 20 | E30: 3400000 | F30: =+E30*$D$13 -> 68000000 | G30: 4740000 | H30: =+G30*$D$13 -> 94800000 | I30: 4860000 | J30: =+I30*$D$13 -> 97200000 | K30: =ROUND(AVERAGE(E30,G30,I30),0) -> 4333333 | L30: 20 | M30: =K30*L30 -> 86666660 | O30: =ROUND(MEDIAN(E30,G30,I30),0) -> 4740000 | P30: 20 | Q30: =O30*P30 -> 94800000
B31: 8 | C31: PANTALLA INTERACTIVA, Conforme el anexo técnico | D31: 3 | E31: 11140000 | F31: =+E31*$D$14 -> 33420000 | G31: 10520000 | H31: =+G31*$D$14 -> 31560000 | I31: 12250000 | J31: =+I31*$D$14 -> 36750000 | K31: =ROUND(AVERAGE(E31,G31,I31),0) -> 11303333 | L31: 3 | M31: =K31*L31 -> 33909999 | O31: =ROUND(MEDIAN(E31,G31,I31),0) -> 11140000 | P31: 3 | Q31: =O31*P31 -> 33420000
F32: =+SUM(F24:F31) -> 2548105000 | H32: =+SUM(H24:H31) -> 1892590000 | J32: =+SUM(J24:J31) -> 2252855000 | K32: Valor total | M32: =+SUM(M24:M31) -> 2231183296 | O32: Valor total | Q32: =+SUM(Q24:Q31) -> 2247125000
