Workbook
Name \0: #REF!
Name \00: #REF!
Name \1: #REF!
Name \a: #REF!
Name \a: #REF!
Name \a: #REF!
Name \a: #REF!
Name \a: #REF!
Name \a: #REF!
Name \a: #REF!
Name \AA: #REF!
Name \AA: #REF!
Name \AA: #REF!
Name \b: #REF!
Name \b: #REF!
Name \b: #REF!
Name \bb: #REF!
Name \bb: #REF!
Name \bb: #REF!
Name \c: #REF!
Name \d: #REF!
Name \E: #REF!
Name \EE: #REF!
Name \eliminar: #REF!
Name \eliminar: #REF!
Name \eliminar: #REF!
Name \eliminar1: #REF!
Name \eliminar1: #REF!
Name \eliminar1: #REF!
Name \f: #REF!
Name \f: #REF!
Name \f: #REF!
Name \G: #REF!
Name \h: #REF!
Name \i: #REF!
Name \i: #REF!
Name \i: #REF!
Name \k: #REF!
Name \k: #REF!
Name \k: #REF!
Name \l: #REF!
Name \l: #REF!
Name \l: #REF!
Name \LL: #REF!
Name \m: #REF!
Name \m: #REF!
Name \M: #REF!
Name \n: #REF!
Name \ñ: #REF!
Name \ñ: #REF!
Name \ñ: #REF!
Name \O: #REF!
Name \P: #REF!
Name \PP: #N/A
Name \q: #REF!
Name \r: #REF!
Name \r: #REF!
Name \R: #REF!
Name \s: #REF!
Name \s: #REF!

Sheet PRESUPUESTO OFICIAL (Entidad)
C1: Formulario 1 - Propuesta económica - Licitación de obra pública de infraestructura social
D2: version 2 del 21 de agosto de 2025
C3: PRESUPUESTO OFICIAL | G3: PRESUPUESTO OFICIAL
C4: Adicionalmente, cuando el Proceso de Contratación es estructurado por Precios Unitarios, la Entidad debe aplicar las notas 1, 2 y 3 del presente Formulario y las casillas de "Descripción", "Porcentaje" de la Administración, Imprevisto, Utilidad y total A.I.U. resaltadas en color amarillo. Tratándose de otras modalidades de precio, la Entidad puede o no configurar los mismos aspectos.
C5: Nº | D5: ÍTEM DE PAGO | E5: ESPECIFICACIONES | G5: DESCRIPCIÓN | H5: UND. | I5: CANTIDAD | J5: VALOR UNITARIO | K5: VALOR TOTAL
E6: GENERAL | F6: PARTICULAR
C7: 1 | D7: 1 | G7: PRELIMINARES
C8: 1 | D8: 1.01 | G8: LOCALIZACION Y REPLANTEO | H8: M2 | I8: 672 | J8: =+'CAP. 1'!O24 -> 5316 | K8: =+ROUND(J8*I8,0) -> 3572352
C9: 1 | D9: 1.02 | G9: DESCAPOTE MANUAL | H9: M3 | I9: 100.8 | J9: =+'CAP. 1'!O114 -> 57852 | K9: =+ROUND(J9*I9,0) -> 5831482
C10: 1 | D10: 1.03 | G10: DEMOLICIÓN DE PAVIMENTO PARA CONEXIONES ELÉCTRICAS Y SANITARIAS. | H10: M2 | I10: 11.95 | J10: =+'CAP. 1'!O204 -> 32627 | K10: =+ROUND(J10*I10,0) -> 389893
C11: 1 | D11: 1.04 | G11: CONEXIÓN A SISTEMA DE ALCANTARILLADO, INCLUYE CÁMARA DE CAÍDA Y RESANE EN CONCRETO | H11: UND. | I11: 1 | J11: =+'CAP. 1'!O294 -> 855657 | K11: =+ROUND(J11*I11,0) -> 855657
C12: Subtotal | K12: =+ROUND(SUM(K8:K11),2) -> 10649384
D13: 2 | G13: MOVIMIENTOS DE TIERRA
C14: 2 | D14: 2.01 | G14: EXCAVACION A MAQUINA (NO INCLUYE RETIRO DE SOBRANTES) | H14: M3 | I14: 67.2 | J14: =+'CAP. 2'!O24 -> 28928 | K14: =+ROUND(J14*I14,0) -> 1943962
C15: 2 | D15: 2.02 | G15: CONFORMACION Y NIVELACION DE TERRENO CON MAQUINA | H15: M2 | I15: 672 | J15: =+'CAP. 2'!O115 -> 9540 | K15: =+ROUND(J15*I15,0) -> 6410880
C16: 2 | D16: 2.03 | G16: EXCAVACION MANUAL EN TERRENO COMPACTADO PARA INSTALACIONES | H16: M3 | I16: 129.09 | J16: =+'CAP. 2'!O206 -> 152730 | K16: =+ROUND(J16*I16,0) -> 19715916
C17: 2 | D17: 2.04 | G17: RELLENO MATERIAL COMUN, INCLUYE SUMINISTRO Y COMPACTACION | H17: M3 | I17: 131.04 | J17: =+'CAP. 2'!O297 -> 85982 | K17: =+ROUND(J17*I17,0) -> 11267081
C18: 2 | D18: 2.05 | G18: TRANSPORTE DE MATERIALES PROVENIENTES DE LA EXCAVACIÓN DE LA EXPLANACIÓN, CANALES Y PRÉSTAMOS PARA DISTANCIAS MAYORES DE MIL METROS (1.000 M) MEDIDOS A PARTIR DE CIEN METROS (100 M) (ANALIZADO PARA VOLQUETA DE 6 M3) | H18: M3/KM | I18: 4634.6 | J18: =+'CAP. 2'!O390 -> 2430 | K18: =+ROUND(J18*I18,0) -> 11262078
C19: Subtotal | K19: =+ROUND(SUM(K14:K18),2) -> 50599917
D20: 3 | G20: CANCHA SINTETICA
C21: 3 | D21: 3.01 | G21: PLACA DE CONTRAPISO EN CONCRETO - f'c=3.000PSI - ESPESOR = 10 cm. | H21: M2 | I21: 589 | J21: =+'CAP. 3'!O25 -> 190545 | K21: =+ROUND(J21*I21,0) -> 112231005
C22: 3 | D22: 3.02 | G22: JUNTA DE DILATACION SELLO DE POLIURETANO ELASTOMERICO DE ALTO DESEMPEÑO Y CORDON DE ESPUMA PARA FONDO DE JUNTA Ø10MM-INCL. CORTE | H22: ML | I22: 326 | J22: =+'CAP. 3'!O119 -> 28278 | K22: =+ROUND(J22*I22,0) -> 9218628
C23: 3 | D23: 3.03 | G23: SUMINISTRO Y INSTALACION DE GRAMA SINTÉTICA COLOR VERDE,INCLUYE RELLENO, CAUCHO MOLIDO Y ARENA SILICE | H23: M2 | I23: 589 | J23: =+'CAP. 3'!O211 -> 228147 | K23: =+ROUND(J23*I23,0) -> 134378583
C24: 3 | D24: 3.04 | G24: CORDON CUNETA EN CONCRETO DE 3000 PSI REFORZADO DE MEDIDAS 20x20cm. INCLUYE REJILLA | H24: ML | I24: 81.8 | J24: =+'CAP. 3'!O303 -> 314821 | K24: =+ROUND(J24*I24,0) -> 25752358
C25: 3 | D25: 3.05 | G25: CAJA DE INSPECCIÓN DE 60X60X60CM, EN CONCRETO DE F'C=2.500PSI, INCLUYE EXCAVACIÓN Y TAPE, TAPA Y HERRAJES E INCLUYE TODO LO NECESARIO PARA SU CORRECTO FUNCIONAMIENTO. | H25: UND | I25: 4 | J25: =+'CAP. 3'!O401 -> 829680 | K25: =+ROUND(J25*I25,0) -> 3318720
C26: 3 | D26: 3.06 | G26: SUMINISTRO E INSTALACION DE TUBERÍA NOVAFORT P.V.C.-ALL 8", INCLUYE RELLENO CON MATERIAL SELECCIONADO DE EXCAVACIÓN. | H26: ML | I26: 19.1 | J26: =+'CAP. 3'!O495 -> 260010 | K26: =+ROUND(J26*I26,0) -> 4966191
C27: 3 | D27: 3.07 | G27: SUMINISTRO E INSTALACION DE JUEGO DE PORTERIAS CON ANCHO DE 3 X 2,44M, EN TUBERIA GALVANIZADA | H27: UND | I27: 2 | J27: =+'CAP. 3'!O591 -> 6053259 | K27: =+ROUND(J27*I27,0) -> 12106518
C28: 3 | D28: 3.08 | G28: SUMINISTRO E INSTALACIÓN DE FILTRO FRANCÉS, INCLUYE TUBERÍA PERFORADA, MATERIAL FILTRANTE Y GEOTEXTIL | H28: ML | I28: 20.8 | J28: =+'CAP. 3'!O685 -> 421976 | K28: =+ROUND(J28*I28,0) -> 8777101
C29: 3 | D29: 3.09 | G29: PUNTO SANITARIO DE 6" EN TUBERIA | H29: UND | I29: 11 | J29: =+'CAP. 3'!O781 -> 413990 | K29: =+ROUND(J29*I29,0) -> 4553890
C30: 3 | D30: 3.1 | G30: SUMINSITRO E INSTALACION DE TUBERIA SANITARIA DE 6", INCLUYE RELLENO CON MATERIAL SELECCIONADO DE EXCAVACIÓN | H30: ML | I30: 91.5 | J30: =+'CAP. 3'!O876 -> 234506 | K30: =+ROUND(J30*I30,0) -> 21457299
C31: 3 | D31: 3.11 | G31: SUMINISTRO, CONFORMACIÓN Y COMPACTACIÓN DE RELLENO EN ARENA PARA CIMENTACIÓN DE TUBERÍA | H31: M3 | I31: 13.27 | J31: =+'CAP. 3'!O972 -> 414964 | K31: =+ROUND(J31*I31,0) -> 5506572
C32: 3 | D32: 3.12 | G32: ANDEN PERIMETRAL EN CONCRETO 3000 PSI | H32: M2 | I32: 83 | J32: =+'CAP. 3'!O1066 -> 181301 | K32: =+ROUND(J32*I32,0) -> 15047983
C33: 3 | D33: 3.13 | G33: DEMARCACIÓN DE CANCHA EN COLOR BLANCO CON SOBRE ANCHO DE 10 CM EN LA ZONA DE JUEGO Y ÁREAS DE ARCOS | H33: ML | I33: 151.7 | J33: =+'CAP. 3'!O1160 -> 44566 | K33: =+ROUND(J33*I33,0) -> 6760662
C34: 3 | D34: 3.14 | G34: SUMINISTRO E INSTALACIÓN DE CONCRETO DE 4000 PSI PARA PAVIMENTO RÍGIDO POR DEMOLICIONES | H34: M3 | I34: 3.59 | J34: =+'CAP. 3'!O1254 -> 1733563 | K34: =+ROUND(J34*I34,0) -> 6223491
C35: Subtotal | K35: =+ROUND(SUM(K21:K34),2) -> 370299001
D36: 4 | G36: CERRAMIENTO CANCHA SINTETICA
C37: 4 | D37: 4.01 | G37: SOLADOS EN CONCRETO DE 2500 PSI, E= 0,05 M | H37: M2 | I37: 25.5 | J37: =+'CAP. 4'!O25 -> 89359 | K37: =+ROUND(J37*I37,0) -> 2278655
C38: 4 | D38: 4.02 | G38: CONCRETO CICLOPEO (60% CONCRETO DE 3000 OSI - 40% PIEDRA) | H38: M3 | I38: 7.56 | J38: =+'CAP. 4'!O119 -> 1068026 | K38: =+ROUND(J38*I38,0) -> 8074277
C39: 4 | D39: 4.03 | G39: ZAPATA EN CONCRETO DE 3000 PSI DE 0,60X0,6 M | H39: M3 | I39: 7.56 | J39: =+'CAP. 4'!O213 -> 1632462 | K39: =+ROUND(J39*I39,0) -> 12341413
C40: 4 | D40: 4.04 | G40: PEDESTALES EN CONCRETO DE 3000 PSO DE 0,25X0,12 M | H40: ML | I40: 25.2 | J40: =+'CAP. 4'!O307 -> 311612 | K40: =+ROUND(J40*I40,0) -> 7852622
...

Sheet PROPUESTA ECONOMICA(Proponente)
C2: Formulario 1 - Propuesta económica - Licitación de obra pública de infraestructura social
D3: version 2 del 21 de agosto de 2025
C4: FORMULARIO 1
C5: PROPUESTA ECONÓMICA
C6: Cuando el Proceso de Contratación es estructurado por Precios Unitarios, la Entidad debe aplicar las notas 1, 2 y 3 del presente formato y las casillas de "Descripción", "Porcentaje" de la Administración, Imprevisto, Utilidad y total A.I.U. resaltadas en color amarillo.
C7: Nº | D7: ÍTEM DE PAGO | E7: ESPECIFICACIONES | G7: DESCRIPCIÓN | H7: UND. | I7: CANTIDAD | J7: VALOR UNITARIO | K7: VALOR TOTAL
E8: GENERAL | F8: PARTICULAR
C9: 1 | D9: 1 | G9: PRELIMINARES
C10: 1 | D10: 1.01 | G10: LOCALIZACION Y REPLANTEO | H10: M2 | I10: 672 | K10: =+ROUND(J10*I10,0) -> 0
C11: 1 | D11: 1.02 | G11: DESCAPOTE MANUAL | H11: M3 | I11: 100.8 | K11: =+ROUND(J11*I11,0) -> 0
C12: 1 | D12: 1.03 | G12: DEMOLICIÓN DE PAVIMENTO PARA CONEXIONES ELÉCTRICAS Y SANITARIAS. | H12: M2 | I12: 11.95 | K12: =+ROUND(J12*I12,0) -> 0
C13: 1 | D13: 1.04 | G13: CONEXIÓN A SISTEMA DE ALCANTARILLADO, INCLUYE CÁMARA DE CAÍDA Y RESANE EN CONCRETO | H13: UND. | I13: 1 | K13: =+ROUND(J13*I13,0) -> 0
C14: Subtotal | K14: =+ROUND(SUM(K10:K13),2) -> 0
D15: 2 | G15: MOVIMIENTOS DE TIERRA
C16: 2 | D16: 2.01 | G16: EXCAVACION A MAQUINA (NO INCLUYE RETIRO DE SOBRANTES) | H16: M3 | I16: 67.2 | K16: =+ROUND(J16*I16,0) -> 0
C17: 2 | D17: 2.02 | G17: CONFORMACION Y NIVELACION DE TERRENO CON MAQUINA | H17: M2 | I17: 672 | K17: =+ROUND(J17*I17,0) -> 0
C18: 2 | D18: 2.03 | G18: EXCAVACION MANUAL EN TERRENO COMPACTADO PARA INSTALACIONES | H18: M3 | I18: 129.09 | K18: =+ROUND(J18*I18,0) -> 0
C19: 2 | D19: 2.04 | G19: RELLENO MATERIAL COMUN, INCLUYE SUMINISTRO Y COMPACTACION | H19: M3 | I19: 131.04 | K19: =+ROUND(J19*I19,0) -> 0
C20: 2 | D20: 2.05 | G20: TRANSPORTE DE MATERIALES PROVENIENTES DE LA EXCAVACIÓN DE LA EXPLANACIÓN, CANALES Y PRÉSTAMOS PARA DISTANCIAS MAYORES DE MIL METROS (1.000 M) MEDIDOS A PARTIR DE CIEN METROS (100 M) (ANALIZADO PARA VOLQUETA DE 6 M3) | H20: M3/KM | I20: 4634.6 | K20: =+ROUND(J20*I20,0) -> 0
C21: Subtotal | K21: =+ROUND(SUM(K16:K20),2) -> 0
D22: 3 | G22: CANCHA SINTETICA
C23: 3 | D23: 3.01 | G23: PLACA DE CONTRAPISO EN CONCRETO - f'c=3.000PSI - ESPESOR = 10 cm. | H23: M2 | I23: 589 | K23: =+ROUND(J23*I23,0) -> 0
C24: 3 | D24: 3.02 | G24: JUNTA DE DILATACION SELLO DE POLIURETANO ELASTOMERICO DE ALTO DESEMPEÑO Y CORDON DE ESPUMA PARA FONDO DE JUNTA Ø10MM-INCL. CORTE | H24: ML | I24: 326 | K24: =+ROUND(J24*I24,0) -> 0
C25: 3 | D25: 3.03 | G25: SUMINISTRO Y INSTALACION DE GRAMA SINTÉTICA COLOR VERDE,INCLUYE RELLENO, CAUCHO MOLIDO Y ARENA SILICE | H25: M2 | I25: 589 | K25: =+ROUND(J25*I25,0) -> 0
C26: 3 | D26: 3.04 | G26: CORDON CUNETA EN CONCRETO DE 3000 PSI REFORZADO DE MEDIDAS 20x20cm. INCLUYE REJILLA | H26: ML | I26: 81.8 | K26: =+ROUND(J26*I26,0) -> 0
C27: 3 | D27: 3.05 | G27: CAJA DE INSPECCIÓN DE 60X60X60CM, EN CONCRETO DE F'C=2.500PSI, INCLUYE EXCAVACIÓN Y TAPE, TAPA Y HERRAJES E INCLUYE TODO LO NECESARIO PARA SU CORRECTO FUNCIONAMIENTO. | H27: UND | I27: 4 | K27: =+ROUND(J27*I27,0) -> 0
C28: 3 | D28: 3.06 | G28: SUMINISTRO E INSTALACION DE TUBERÍA NOVAFORT P.V.C.-ALL 8", INCLUYE RELLENO CON MATERIAL SELECCIONADO DE EXCAVACIÓN. | H28: ML | I28: 19.1 | K28: =+ROUND(J28*I28,0) -> 0
C29: 3 | D29: 3.07 | G29: SUMINISTRO E INSTALACION DE JUEGO DE PORTERIAS CON ANCHO DE 3 X 2,44M, EN TUBERIA GALVANIZADA | H29: UND | I29: 2 | K29: =+ROUND(J29*I29,0) -> 0
C30: 3 | D30: 3.08 | G30: SUMINISTRO E INSTALACIÓN DE FILTRO FRANCÉS, INCLUYE TUBERÍA PERFORADA, MATERIAL FILTRANTE Y GEOTEXTIL | H30: ML | I30: 20.8 | K30: =+ROUND(J30*I30,0) -> 0
C31: 3 | D31: 3.09 | G31: PUNTO SANITARIO DE 6" EN TUBERIA | H31: UND | I31: 11 | K31: =+ROUND(J31*I31,0) -> 0
C32: 3 | D32: 3.1 | G32: SUMINSITRO E INSTALACION DE TUBERIA SANITARIA DE 6", INCLUYE RELLENO CON MATERIAL SELECCIONADO DE EXCAVACIÓN | H32: ML | I32: 91.5 | K32: =+ROUND(J32*I32,0) -> 0
C33: 3 | D33: 3.11 | G33: SUMINISTRO, CONFORMACIÓN Y COMPACTACIÓN DE RELLENO EN ARENA PARA CIMENTACIÓN DE TUBERÍA | H33: M3 | I33: 13.27 | K33: =+ROUND(J33*I33,0) -> 0
C34: 3 | D34: 3.12 | G34: ANDEN PERIMETRAL EN CONCRETO 3000 PSI | H34: M2 | I34: 83 | K34: =+ROUND(J34*I34,0) -> 0
... C36: 3 | D36: 3.14 | G36: SUMINISTRO E INSTALACIÓN DE CONCRETO DE 4000 PSI PARA PAVIMENTO RÍGIDO POR DEMOLICIONES | H36: M3 | I36: 3.59 | K36: =+ROUND(J36*I36,0) -> 0
C37: Subtotal | K37: =+ROUND(SUM(K23:K36),2) -> 0
D38: 4 | G38: CERRAMIENTO CANCHA SINTETICA
C39: 4 | D39: 4.01 | G39: SOLADOS EN CONCRETO DE 2500 PSI, E= 0,05 M | H39: M2 | I39: 25.5 | K39: =+ROUND(J39*I39,0) -> 0
C40: 4 | D40: 4.02 | G40: CONCRETO CICLOPEO (60% CONCRETO DE 3000 OSI - 40% PIEDRA) | H40: M3 | I40: 7.56 | K40: =+ROUND(J40*I40,0) -> 0
C41: 4 | D41: 4.03 | G41: ZAPATA EN CONCRETO DE 3000 PSI DE 0,60X0,6 M | H41: M3 | I41: 7.56 | K41: =+ROUND(J41*I41,0) -> 0
C42: 4 | D42: 4.04 | G42: PEDESTALES EN CONCRETO DE 3000 PSO DE 0,25X0,12 M | H42: ML | I42: 25.2 | K42: =+ROUND(J42*I42,0) -> 0
...

Sheet CAP. 1
C3: Formulario 1 - Propuesta económica - Licitación de obra pública de infraestructura social
D4: Version 2 del 21 de agosto de 2025
C6: [La Entidad podrá utilizar este Formato para la presentación de los análisis de Precios Unitarios del Contratista en la oportunidad prevista en el numeral 8.2. del Documento Base]
D9: ALCALDIA MUNICIPAL DE ZAPATOCA
L10: VERSIÓN
D11: CONSTRUCCIÓN DE CANCHA DE MICROFUTBOL EN GRAMA SINTETICA EN EL CORREGIMIENTO DE LA FUENTE MUNICIPIO DE ZAPATOCA, DEPARTAMENTO DE SANTANDER
L12: PÁGINA | N12: DE
D14: ANÁLISIS DE PRECIOS UNITARIOS
L16: FECHA | M16: DD | N16: MM | O16: AA
M17: 1 | N17: 9 | O17: 2026
C21: DATOS ESPECÍFICOS
C23: ÍTEM | D23: DESCRIPCIÓN | M23: UNIDAD | O23: CANTIDAD
C24: 1.01 | D24: LOCALIZACIÓN Y REPLANTEO | M24: M2 | O24: =+O67 -> 5316
C25: I. EQUIPO
T27: RENDIMIENTO
C28: DESCRIPCIÓN | J28: UNIDAD | L28: TARIFA/HORA | M28: RENDIMIENTO | O28: Vr. UNITARIO | T28: 0.1
C29: HERRAMIENTA MENOR | J29: % | L29: =+O55 -> 2690.6743 | M29: =+$T$28 -> 0.1 | O29: =+L29*M29 -> 269.06743
C30: EQUIPO DE TOPOGRAFÍA | J30: HORA | L30: 16300 | M30: 0.06 | O30: =+M30*L30 -> 978
O31: =+M31*L31 -> 0
C32: SUBTOTAL $ | O32: =+SUM(O29:O31) -> 1247.0674
C33: II. MATERIALES
C36: DESCRIPCIÓN | J36: UNIDAD | L36: CANTIDAD | M36: PRECIO UNIT. | O36: Vr. UNITARIO | U36: =1/0.06 -> 16.666667
O37: =+M37*L37 -> 0
O38: =+M38*L38 -> 0
C39: SUBTOTAL $ | O39: =+SUM(O37:O38) -> 0
C40: III. TRANSPORTES
C43: MATERIAL | J43: VOL. o PESO | K43: DISTANCIA | L43: M3 o Ton/Km | M43: TARIFA | O43: Vr. UNITARIO
O44: =+M44*L44 -> 0
O45: 0
C46: SUBTOTAL $ | O46: =+SUM(O44:O45) -> 0
C47: IV. MANO DE OBRA
C50: TRABAJADOR | J50: UNIDAD | L50: JORNAL TOTAL | M50: RENDIMIENTO | O50: Vr. UNITARIO
C51: M.O. TOPOGRAFIA 1 CADENERO 1 TOP | J51: DIA | L51: =+'DESGLOSE CUADRILLAS'!L37 -> 363604.63 | M51: 0.0074 | O51: =+M51*L51 -> 2690.6743
S52: =1/0.007 -> 142.85714
O54: =+M54*L54 -> 0
C55: SUBTOTAL $ | O55: =+SUM(O51:O53) -> 2690.6743
C57: TOTAL COSTO DIRECTO $ | O57: =+ROUND(O32+O39+O46+O55,0) -> 3938
C58: V. COSTOS INDIRECTOS
C61: Descripción | L61: Porcentaje | M61: Valor Total
C62: ADMINISTRACION | L62: 0.29 | M62: =+O57 -> 3938 | O62: =+M62*L62 -> 1142.02
...

Sheet CAP. 2
C3: Formulario 1 - Propuesta económica - Licitación de obra pública de infraestructura social
D4: Version 2 del 21 de agosto de 2025
C6: [La Entidad podrá utilizar este Formato para la presentación de los análisis de Precios Unitarios del Contratista en la oportunidad prevista en el numeral 8.2. del Documento Base]
D9: ALCALDIA MUNICIPAL DE ZAPATOCA
L10: VERSIÓN
D11: CONSTRUCCIÓN DE CANCHA DE MICROFUTBOL EN GRAMA SINTETICA EN EL CORREGIMIENTO DE LA FUENTE MUNICIPIO DE ZAPATOCA, DEPARTAMENTO DE SANTANDER
L12: PÁGINA | N12: DE
D14: ANÁLISIS DE PRECIOS UNITARIOS
L16: FECHA | M16: DD | N16: MM | O16: AA
M17: 1 | N17: 9 | O17: 2026
C21: DATOS ESPECÍFICOS
C23: ÍTEM | D23: DESCRIPCIÓN | M23: UNIDAD | O23: CANTIDAD
C24: 2.01 | D24: EXCAVACION A MAQUINA (NO INCLUYE RETIRO DE SOBRANTES) | M24: M3 | O24: =+O67 -> 28928
C25: I. EQUIPO
T27: RENDIMIENTO
C28: DESCRIPCIÓN | J28: UNIDAD | L28: TARIFA/HORA | M28: RENDIMIENTO | O28: Vr. UNITARIO | T28: 0.1
C29: HERRAMIENTA MENOR | J29: % | L29: =+O55 -> 3116.6111 | M29: =+$T$28 -> 0.1 | O29: =+L29*M29 -> 311.66111
C30: RETROEXCAVADORA SOBRE LLANTAS POTENCIA 64 HP | J30: HORA | L30: 200000 | M30: 0.09 | O30: =+M30*L30 -> 18000
O31: =+M31*L31 -> 0
C32: SUBTOTAL $ | O32: =+SUM(O29:O31) -> 18311.661
C33: II. MATERIALES
C36: DESCRIPCIÓN | J36: UNIDAD | L36: CANTIDAD | M36: PRECIO UNIT. | O36: Vr. UNITARIO
O37: =+M37*L37 -> 0
O38: =+M38*L38 -> 0
C39: SUBTOTAL $ | O39: =+SUM(O37:O38) -> 0
C40: III. TRANSPORTES
C43: MATERIAL | J43: VOL. o PESO | K43: DISTANCIA | L43: M3 o Ton/Km | M43: TARIFA | O43: Vr. UNITARIO
O44: =+M44*L44 -> 0
O45: 0
C46: SUBTOTAL $ | O46: =+SUM(O44:O45) -> 0
C47: IV. MANO DE OBRA
C50: TRABAJADOR | J50: UNIDAD | L50: JORNAL TOTAL | M50: RENDIMIENTO | O50: Vr. UNITARIO
C51: M.O. ALBAÑERIA 1 AYUDANTE - 1 OFI | J51: DIA | L51: =+'DESGLOSE CUADRILLAS'!J16 -> 311661.11 | M51: 0.01 | O51: =+M51*L51 -> 3116.6111
O52: =+M52*L52 -> 0
O53: =+M53*L53 -> 0
O54: =+M54*L54 -> 0
C55: SUBTOTAL $ | O55: =+SUM(O51:O54) -> 3116.6111
C57: TOTAL COSTO DIRECTO $ | O57: =+ROUND(O32+O39+O46+O55,0) -> 21428
C58: V. COSTOS INDIRECTOS
C61: Descripción | L61: Porcentaje | M61: Valor Total
...

Sheet CAP. 3
C3: Formulario 1 - Propuesta económica - Licitación de obra pública de infraestructura social
D4: Version 2 del 21 de agosto de 2025
C6: [La Entidad podrá utilizar este Formato para la presentación de los análisis de Precios Unitarios del Contratista en la oportunidad prevista en el numeral 8.2. del Documento Base]
D9: ALCALDIA MUNICIPAL DE ZAPATOCA
L10: VERSIÓN
D11: CONSTRUCCIÓN DE CANCHA DE MICROFUTBOL EN GRAMA SINTETICA EN EL CORREGIMIENTO DE LA FUENTE MUNICIPIO DE ZAPATOCA, DEPARTAMENTO DE SANTANDER
L12: PÁGINA | N12: DE
D14: ANÁLISIS DE PRECIOS UNITARIOS
L16: FECHA | M16: DD | N16: MM | O16: AA
M17: 1 | N17: 9 | O17: 2026
C22: DATOS ESPECÍFICOS
C24: ÍTEM | D24: DESCRIPCIÓN | M24: UNIDAD | O24: CANTIDAD
C25: 3.01 | D25: PLACA DE CONTRAPISO EN CONCRETO - f'c=3.000PSI - ESPESOR = 10 cm. | M25: M2 | O25: =+O71 -> 190545
C26: I. EQUIPO
T28: RENDIMIENTO
C29: DESCRIPCIÓN | J29: UNIDAD | L29: TARIFA/HORA | M29: RENDIMIENTO | O29: Vr. UNITARIO | T29: 0.1
C30: HERRAMIENTA MENOR | J30: % | L30: =+O59 -> 31166.111 | M30: =+$T$29 -> 0.1 | O30: =+L30*M30 -> 3116.6111
C31: VIBRADOR DE CONCRETO CON OPERADOR | J31: DIA | L31: 70000 | M31: 0.025 | O31: =+M31*L31 -> 1750
C32: FORMALETA | J32: DIA | L32: 25000 | M32: 0.3 | O32: =+M32*L32 -> 7500
C34: SUBTOTAL $ | O34: =+SUM(O30:O33) -> 12366.611
C35: II. MATERIALES
C38: DESCRIPCIÓN | J38: UNIDAD | K38: CANTIDAD | L38: DESPERDICIO | M38: PRECIO UNIT. | O38: Vr. UNITARIO
C39: CONCRETO DE 3000 PSI ELABORADO EN OBRA | J39: M3 | K39: 0.1 | L39: 0.05 | M39: 882488.1 | O39: =+(M39*K39)+(M39*K39*L39) -> 92661.25
C40: ANTISOL ROJO | J40: KG | K40: 0.23 | L40: 0.05 | M40: 20500 | O40: =+(M40*K40)+(M40*K40*L40) -> 4950.75
C43: SUBTOTAL $ | O43: =+SUM(O39:O42) -> 97612
C44: III. TRANSPORTES
C47: MATERIAL | J47: VOL. o PESO | K47: DISTANCIA | L47: M3 o Ton/Km | M47: TARIFA | O47: Vr. UNITARIO
O48: =+M48*L48 -> 0
O49: 0
C50: SUBTOTAL $ | O50: =+SUM(O48:O49) -> 0
C51: IV. MANO DE OBRA
C54: TRABAJADOR | J54: UNIDAD | L54: JORNAL TOTAL | M54: RENDIMIENTO | O54: Vr. UNITARIO
C55: M.O. ALBAÑERIA 1 AYUDANTE - 1 OFI | J55: DIA | L55: =+'DESGLOSE CUADRILLAS'!J16 -> 311661.11 | M55: 0.1 | O55: =+M55*L55 -> 31166.111
O56: =+M56*L56 -> 0
O57: =+M57*L57 -> 0
O58: =+M58*L58 -> 0
C59: SUBTOTAL $ | O59: =+SUM(O55:O58) -> 31166.111
C61: TOTAL COSTO DIRECTO $ | O61: =+ROUND(O34+O43+O50+O59,0) -> 141145
C62: V. COSTOS INDIRECTOS
C65: Descripción | L65: Porcentaje | M65: Valor Total
...

Sheet CAP. 4
C3: Formulario 1 - Propuesta económica - Licitación de obra pública de infraestructura social
D4: Version 2 del 21 de agosto de 2025
C6: [La Entidad podrá utilizar este Formato para la presentación de los análisis de Precios Unitarios del Contratista en la oportunidad prevista en el numeral 8.2. del Documento Base]
D9: ALCALDIA MUNICIPAL DE ZAPATOCA
L10: VERSIÓN
D11: CONSTRUCCIÓN DE CANCHA DE MICROFUTBOL EN GRAMA SINTETICA EN EL CORREGIMIENTO DE LA FUENTE MUNICIPIO DE ZAPATOCA, DEPARTAMENTO DE SANTANDER
L12: PÁGINA | N12: DE
D14: ANÁLISIS DE PRECIOS UNITARIOS
L16: FECHA | M16: DD | N16: MM | O16: AA
M17: 1 | N17: 9 | O17: 2026
C22: DATOS ESPECÍFICOS
C24: ÍTEM | D24: DESCRIPCIÓN | M24: UNIDAD | O24: CANTIDAD
C25: 4.01 | D25: SOLADOS EN CONCRETO DE 2500 PSI, E= 0,05 M | M25: M2 | O25: =+O71 -> 89359
C26: I. EQUIPO
T28: RENDIMIENTO
C29: DESCRIPCIÓN | J29: UNIDAD | L29: TARIFA/HORA | M29: RENDIMIENTO | O29: Vr. UNITARIO | T29: 0.1
C30: HERRAMIENTA MENOR | J30: % | L30: =+O59 -> 24932.889 | M30: =+$T$29 -> 0.1 | O30: =+L30*M30 -> 2493.2889
O32: =+M32*L32 -> 0
O33: =+M33*L33 -> 0
C34: SUBTOTAL $ | O34: =+SUM(O30:O33) -> 2493.2889
C35: II. MATERIALES
C38: DESCRIPCIÓN | J38: UNIDAD | K38: CANTIDAD | L38: DESPERDICIO | M38: PRECIO UNIT. | O38: Vr. UNITARIO
C39: CONCRETO DE 2500 PSI ELABORADO EN OBRA | J39: M3 | K39: 0.05 | L39: 0.05 | M39: 738390.87 | O39: =+(M39*K39)+(M39*K39*L39) -> 38765.521
O40: =+(M40*K40)+(M40*K40*L40) -> 0
O41: =+(M41*K41)+(M41*K41*L41) -> 0
O42: =+(M42*K42)+(M42*K42*L42) -> 0
C43: SUBTOTAL $ | O43: =+SUM(O39:O42) -> 38765.521
C44: III. TRANSPORTES
C47: MATERIAL | J47: VOL. o PESO | K47: DISTANCIA | L47: M3 o Ton/Km | M47: TARIFA | O47: Vr. UNITARIO
O49: 0
C50: SUBTOTAL $ | O50: =+SUM(O48:O49) -> 0
C51: IV. MANO DE OBRA
C54: TRABAJADOR | J54: UNIDAD | L54: JORNAL TOTAL | M54: RENDIMIENTO | O54: Vr. UNITARIO
C55: M.O. ALBAÑERIA 1 AYUDANTE - 1 OFI | J55: DIA | L55: =+'DESGLOSE CUADRILLAS'!J16 -> 311661.11 | M55: 0.08 | O55: =+M55*L55 -> 24932.889
O56: =+M56*L56 -> 0
O57: =+M57*L57 -> 0
O58: =+M58*L58 -> 0
C59: SUBTOTAL $ | O59: =+SUM(O55:O58) -> 24932.889
C61: TOTAL COSTO DIRECTO $ | O61: =ROUNDUP(O34+O43+O50+O59,0) -> 66192
C62: V. COSTOS INDIRECTOS
...

Sheet CAP. 5
C3: Formulario 1 - Propuesta económica - Licitación de obra pública de infraestructura social
D4: Version 2 del 21 de agosto de 2025
C6: [La Entidad podrá utilizar este Formato para la presentación de los análisis de Precios Unitarios del Contratista en la oportunidad prevista en el numeral 8.2. del Documento Base]
D9: ALCALDIA MUNICIPAL DE ZAPATOCA
L10: VERSIÓN
D11: CONSTRUCCIÓN DE CANCHA DE MICROFUTBOL EN GRAMA SINTETICA EN EL CORREGIMIENTO DE LA FUENTE MUNICIPIO DE ZAPATOCA, DEPARTAMENTO DE SANTANDER
L12: PÁGINA | N12: DE
D14: ANÁLISIS DE PRECIOS UNITARIOS
L16: FECHA | M16: DD | N16: MM | O16: AA
M17: 1 | N17: 9 | O17: 2026
C21: DATOS ESPECÍFICOS
C23: ÍTEM | D23: DESCRIPCIÓN | M23: UNIDAD | O23: CANTIDAD
C24: 5.01 | D24: ACERO 60000 PSI/TON REFUERZO FIGURADO | M24: KG | O24: =+O70 -> 13433
C25: I. EQUIPO
T27: RENDIMIENTO
C28: DESCRIPCIÓN | J28: UNIDAD | L28: TARIFA/HORA | M28: RENDIMIENTO | O28: Vr. UNITARIO | T28: 0.1
C29: HERRAMIENTA MENOR | J29: % | L29: =+O58 -> 2493.2889 | M29: =+$T$28 -> 0.1 | O29: =+L29*M29 -> 249.32889
O31: =+M31*L31 -> 0
O32: =+M32*L32 -> 0
C33: SUBTOTAL $ | O33: =+SUM(O29:O32) -> 249.32889
C34: II. MATERIALES
C37: DESCRIPCIÓN | J37: UNIDAD | K37: CANTIDAD | L37: DESPERDICIO | M37: PRECIO UNIT. | O37: Vr. UNITARIO
C38: ACERO DE 60000 PSI SIN FIGURAR | J38: KG | K38: 1 | L38: 0.05 | M38: 6000 | O38: =+(M38*K38)+(M38*K38*L38) -> 6300
C39: ALAMBRE NEGRO RECOCIDO CAL. 18 | J39: KG | K39: 0.03 | L39: 0.05 | M39: 8000 | O39: =+(M39*K39)+(M39*K39*L39) -> 252
O40: =+(M40*K40)+(M40*K40*L40) -> 0
O41: =+(M41*K41)+(M41*K41*L41) -> 0
C42: SUBTOTAL $ | O42: =+SUM(O38:O41) -> 6552
C43: III. TRANSPORTES
C46: MATERIAL | J46: VOL. o PESO | K46: DISTANCIA | L46: M3 o Ton/Km | M46: TARIFA | O46: Vr. UNITARIO
C47: TRANSPORTE DE MATERIAL | J47: 0.1 | K47: 1 | M47: 6552 | O47: =+M47*K47*J47 -> 655.2
O48: 0
C49: SUBTOTAL $ | O49: =+SUM(O47:O48) -> 655.2
C50: IV. MANO DE OBRA
C53: TRABAJADOR | J53: UNIDAD | L53: JORNAL TOTAL | M53: RENDIMIENTO | O53: Vr. UNITARIO
C54: M.O. ALBAÑERIA 1 AYUDANTE - 1 OFI | J54: DIA | L54: =+'DESGLOSE CUADRILLAS'!J16 -> 311661.11 | M54: 0.008 | O54: =+M54*L54 -> 2493.2889
O55: =+M55*L55 -> 0
O56: =+M56*L56 -> 0
O57: =+M57*L57 -> 0
C58: SUBTOTAL $ | O58: =+SUM(O54:O57) -> 2493.2889
C60: TOTAL COSTO DIRECTO $ | O60: =ROUND(O33+O42+O49+O58,0) -> 9950
...

Sheet CAP. 6
C3: Formulario 1 - Propuesta económica - Licitación de obra pública de infraestructura social
D4: Version 2 del 21 de agosto de 2025
C6: [La Entidad podrá utilizar este Formato para la presentación de los análisis de Precios Unitarios del Contratista en la oportunidad prevista en el numeral 8.2. del Documento Base]
D9: ALCALDIA MUNICIPAL DE ZAPATOCA
L10: VERSIÓN
D11: CONSTRUCCIÓN DE CANCHA DE MICROFUTBOL EN GRAMA SINTETICA EN EL CORREGIMIENTO DE LA FUENTE MUNICIPIO DE ZAPATOCA, DEPARTAMENTO DE SANTANDER
L12: PÁGINA | N12: 1 | O12: DE | P12: 1
D14: ANÁLISIS DE PRECIOS UNITARIOS
L16: FECHA | N16: DD | O16: MM | P16: AA
N17: 1 | O17: 9 | P17: 2026
C21: DATOS ESPECÍFICOS
C23: ÍTEM | D23: DESCRIPCIÓN | M23: UNIDAD | P23: CANTIDAD
C24: 6.01 | D24: SUMINISTRO E INSTALACIÓN DE LUMINARIA PARA EXTERIORES DE 300W DE ANGULO AJUSTABLE. | M24: UND | P24: =+P68 -> 3863530
C25: I. EQUIPO
U27: RENDIMIENTO
C28: DESCRIPCIÓN | H28: MARCA | J28: TIPO | L28: TARIFA/HORA | M28: RENDIMIENTO | P28: Vr. UNITARIO | U28: 0.1
C29: HERRAMIENTA MENOR | L29: =+P56 -> 623322.22 | M29: =+$U$28 -> 0.1 | P29: =+ROUND(M29*L29,2) -> 62332.22
C32: SUBTOTAL $ | P32: =+SUM(P29:P31) -> 62332.22
C33: II. MATERIALES
C36: DESCRIPCIÓN | K36: UNIDAD | L36: CANTIDAD | M36: DESPERDICIO | N36: PRECIO UNIT. | P36: Vr. UNITARIO
C37: LUMINARIA 300W | K37: UND | L37: 1 | M37: 0.05 | N37: 1890000 | P37: =+ROUND((L37*(1+M37)*N37),2) -> 1984500
C38: CAJA CON TAPA | K38: UND | L38: 1 | M38: 0.05 | N38: 32000 | P38: =+ROUND((L38*(1+M38)*N38),2) -> 33600
C39: ACCESORIOS PARA INSTALACION | K39: UND | L39: 1.5 | M39: 0.05 | N39: 10000 | P39: =+ROUND((L39*(1+M39)*N39),2) -> 15750
C40: SUBTOTAL $ | P40: =+SUM(P37:P39) -> 2033850
C41: III. TRANSPORTES
C44: MATERIAL | J44: RENDIMIENTO | K44: DISTANCIA | L44: M3 o Ton/Km | M44: TARIFA | P44: Vr. UNITARIO
C45: TRANSPORTE MATERIAL | J45: 0.07 | K45: 1 | M45: =+P40 -> 2033850 | P45: =+ROUND(M45*K45*J45,2) -> 142369.5
P46: =+ROUND(M46*K46*J46,2) -> 0
C47: SUBTOTAL $ | P47: =+SUM(P45:P46) -> 142369.5
C48: IV. MANO DE OBRA
C51: TRABAJADOR | J51: UNIDAD | L51: JORNAL TOTAL | M51: RENDIMIENTO | P51: Vr. UNITARIO
C52: M.O. ELECTRICO 1 AYUDANTE - 1 OFI | J52: DIA | L52: =+'DESGLOSE CUADRILLAS'!J26 -> 311661.11 | M52: 2 | P52: =+ROUND(M52*L52,2) -> 623322.22
C56: SUBTOTAL $ | P56: =+SUM(P52:P55) -> 623322.22
C58: TOTAL COSTO DIRECTO $ | P58: =+ROUNDUP(P56+P47+P40+P32,0) -> 2861874
C59: V. COSTOS INDIRECTOS
C62: Descripción | L62: Porcentaje | N62: Valor Total
C63: ADMINISTRACION | L63: 0.29 | N63: =+L63*P58 -> 829943.46
C64: IMPREVISTOS | L64: 0.01 | N64: =+L64*P58 -> 28618.74
C65: UTILIDAD | L65: 0.05 | N65: =+L65*P58 -> 143093.7
C66: SUBTOTAL $ | P66: =+ROUND(SUM(N63:P65),0) -> 1001656
...

Sheet FP
C4: FACTOR PRESTACIONAL | F4: FACTOR PRESTACIONAL
C5: SUELDO | D5: 1 | F5: SUELDO | G5: 1
C6: Cesantías | D6: 0.0833 | F6: Cesantías | G6: 0
C7: Interés sobre cesantías | D7: 0.01 | F7: Interés sobre cesantías | G7: 0
C8: Vacaciones | D8: 0.0417 | F8: Vacaciones | G8: 0
C9: Prima anual | D9: 0.0833 | F9: Prima anual | G9: 0
C10: Salud | D10: 0.125 | F10: Salud | G10: 0
C11: Pensión | D11: 0.16 | F11: Pensión | G11: 0
C12: Riesgos Laborales | D12: 0.0696 | F12: Riesgos Laborales | G12: 0.0696
C13: SENA | D13: 0.02 | F13: SENA | G13: 0
C14: ICBF | D14: 0.03 | F14: ICBF | G14: 0
C15: Caja de compensacion familiar | D15: 0.04 | F15: Caja de compensacion familiar | G15: 0
C16: Incapacidad prestaciones y auxilios varios | D16: 0.02 | F16: Incapacidad prestaciones y auxilios varios | G16: 0
... C18: Dotación | D18: 0.06 | F18: Dotación | G18: 0.06
C19: SUBTOTAL | D19: =+ ROUNDUP(SUM(D5:D18),2) -> 1.78 | F19: SUBTOTAL | G19: =+ ROUNDUP(SUM(G5:G18),2) -> 1.16

Sheet DESGLOSE CUADRILLAS
J2: Fecha: | L2: 46275
J3: Localización:
J4: Zapatoca
D6: DESGLOSE CUADRILLAS
D8: Salario Mínimo 2026 | E8: 1750905
D9: Aux. Transp. 2026 | E9: 249095
D11: Jornal Ayudante, sin prestaciones | E11: 72954.38
D12: Oficial, sin prestaciones | E12: 102136.13
D14: MANO DE OBRA
D15: DESCRIPCIÓN | E15: UND/FACT | F15: CANT. | G15: JORNAL | H15: CANT*JORNAL | J15: Jornal + Prest.(78%) | L15: JORNAL TOTAL O VR. UNIT.
D16: M.O. ALBANILERIA 1 AYUDANTE-1 OFI | E16: FAC Sueldo | H16: =+SUM(H17:H18) -> 175090.51 | J16: =+SUM(J17:J18) -> 311661.11 | L16: =+SUM(I16:K16) -> 311661.11
D17: Ayudante Albañileria | E17: 1 | F17: 1 | G17: =+E11 -> 72954.38 | H17: =+G17*F17*E17 -> 72954.38 | J17: =+H17*178% -> 129858.8 | L17: =+SUM(I17:K17) -> 129858.8
D18: Oficial Albañileria | E18: =+E17 -> 1 | F18: 1 | G18: =+E12 -> 102136.13 | H18: =+G18*F18*E18 -> 102136.13 | J18: =+H18*178% -> 181802.31 | L18: =+SUM(I18:K18) -> 181802.31
D20: M.O. ALBANILERIA 1 AYUDANTE | E20: Jornal+PS | H20: =+SUM(H21:H22) -> 72954.38 | J20: =+SUM(J21:J22) -> 129858.8 | L20: =+SUM(I20:K20) -> 129858.8
D21: Ayudante Albañileria | E21: 1 | F21: 1 | G21: =+$G$17 -> 72954.38 | H21: =+G21*F21*E21 -> 72954.38 | J21: =+H21*178% -> 129858.8 | L21: =+SUM(I21:K21) -> 129858.8
D23: M.O. ALBANILERIA 2 AYUDANTE | E23: =+E16 -> FAC Sueldo | H23: =+SUM(H24) -> 145908.76 | J23: =+SUM(J24) -> 259717.59 | L23: =+SUM(I23:K23) -> 259717.59
D24: Ayudante Albañileria | E24: 1 | F24: 2 | G24: =+$G$17 -> 72954.38 | H24: =+G24*F24*E24 -> 145908.76 | J24: =+H24*178% -> 259717.59 | L24: =+SUM(I24:K24) -> 259717.59
D26: M.O. ELECTRICO 1 AYUDANTE-1 OFI | E26: Jornal+PS | H26: =+SUM(H27:H28) -> 175090.51 | J26: =+SUM(J27:J28) -> 311661.11 | L26: =+SUM(I26:K26) -> 311661.11
D27: Ayudante Electrico | E27: 1 | F27: 1 | G27: =+G17 -> 72954.38 | H27: =+G27*F27*E27 -> 72954.38 | J27: =+H27*178% -> 129858.8 | L27: =+SUM(I27:K27) -> 129858.8
D28: Oficial Electrico | E28: =+E27 -> 1 | F28: 1 | G28: =+G18 -> 102136.13 | H28: =+G28*F28*E28 -> 102136.13 | J28: =+H28*178% -> 181802.31 | L28: =+SUM(I28:K28) -> 181802.31
D30: M.O. ELECTRICO 2 AYUDANTE | E30: Jornal+PS | H30: =+SUM(H31:H31) -> 145908.76 | J30: =+SUM(J31:J31) -> 259717.59 | L30: =+SUM(I30:K30) -> 259717.59
D31: Ayudante Electrico | E31: 1 | F31: 2 | G31: =+G27 -> 72954.38 | H31: =+G31*F31*E31 -> 145908.76 | J31: =+H31*178% -> 259717.59 | L31: =+SUM(I31:K31) -> 259717.59
D33: M.O. HIDROSANIT. 1 AYUDANTE-1 OFI | E33: Jornal+PS | H33: =+SUM(H34:H35) -> 175090.51 | J33: =+SUM(J34:J35) -> 311661.11 | L33: =+SUM(I33:K33) -> 311661.11
D34: Ayudante HIDROSANIT. | E34: 1 | F34: 1 | G34: =+G24 -> 72954.38 | H34: =+H17 -> 72954.38 | J34: =+H34*178% -> 129858.8 | L34: =+SUM(I34:K34) -> 129858.8
D35: Oficial HIDROSANIT. | E35: 1 | F35: 1 | G35: =+G28 -> 102136.13 | H35: =+G35*F35*E35 -> 102136.13 | J35: =+H35*178% -> 181802.31 | L35: =+SUM(I35:K35) -> 181802.31
D37: M.O. TOPOGRAFIA 1 CADENERO-1 TOP | E37: =+E16 -> FAC Sueldo | H37: =+SUM(H38:H39) -> 204272.26 | J37: =+SUM(J38:J39) -> 363604.63 | L37: =+SUM(I37:K37) -> 363604.63
D38: CADENERO | E38: 1.1 | F38: 1 | G38: =+E11*E38 -> 80249.818 | H38: =+G38*F38 -> 80249.818 | J38: =+H38*178% -> 142844.68 | L38: =+SUM(I38:K38) -> 142844.68
D39: TOPOGRAFO | E39: 1.7 | F39: 1 | G39: =+E11*E39 -> 124022.45 | H39: =+G39*F39 -> 124022.45 | J39: =+H39*178% -> 220759.95 | L39: =+SUM(I39:K39) -> 220759.95
D41: M.O. SOLDADOR | E41: Jornal+PS | H41: =+SUM(H42) -> 129858.8 | J41: =+SUM(J42) -> 231148.66 | L41: =+SUM(I41:K41) -> 231148.66
D42: SOLDADOR | E42: 1.78 | F42: 1 | G42: =+E11 -> 72954.38 | H42: =+G42*F42*E42 -> 129858.8 | J42: =+H42*178% -> 231148.66 | L42: =+SUM(I42:K42) -> 231148.66

Sheet DESGLOSE PAGA
D3: PLAN DE MANEJO AMBIENTAL "P.M.A"
D6: =+'CAP. 2'!D377 -> CONSTRUCCIÓN DE CANCHA DE MICROFUTBOL EN GRAMA SINTETICA EN EL CORREGIMIENTO DE LA FUENTE MUNICIPIO DE ZAPATOCA, DEPARTAMENTO DE SANTANDER
D9: PLAN DE MANEJO AMBIENTAL "P.M.A"
D11: N° | E11: PROGRAMA | F11: SUBPROGRAMA | G11: ELEMENTOS | H11: UNIDAD | I11: CANTIDAD | J11: VALOR UNITARIO | K11: VALOR TOTAL
D12: 1 | E12: DESARROLLO Y APLICACIÓN DE LA GESTIÓN AMBIENTAL | F12: Capacitación y concienciación para el personal de obra. | G12: Capacitaciones personal y comunidad | H12: UNIDAD | I12: =+I36*2 -> 4 | J12: 180000 | K12: =I12*J12 -> 720000
D13: 2 | E13: PROGRAMA ACTIVIDADES CONSTRUCTIVAS | F13: Señalización frentes de obras y sitios temporales | G13: Señal de uso de elementos de protección personal EPP | H13: UNIDAD | I13: 1 | J13: 35000 | K13: =I13*J13 -> 35000
G14: Señal de extintor | H14: UNIDAD | I14: 1 | J14: =+J13 -> 35000 | K14: =I14*J14 -> 35000
G15: Señal de sustancia peligrosa | H15: UNIDAD | I15: 1 | J15: =+J13 -> 35000 | K15: =I15*J15 -> 35000
G16: Señal de ruta de evacuación | H16: UNIDAD | I16: 1 | J16: =+J13 -> 35000 | K16: =I16*J16 -> 35000
G17: Señal de puntos de encuentros | H17: UNIDAD | I17: 1 | J17: =+J13 -> 35000 | K17: =I17*J17 -> 35000
F18: Manejo integral de residuos de construcción y demolición - RCD | G18: Se incluye en las actividades de obra | K18: =I18*J18 -> 0
F19: Manejo integral de residuos sólidos | G19: Adecuación punto ecologico | H19: UNIDAD | I19: 1 | J19: 140000 | K19: =I19*J19 -> 140000
G20: Caneca para lavado de herramientas con capacidad de 55 galones, de acero o similar | H20: UNIDAD | I20: 1 | J20: 180000 | K20: =I20*J20 -> 180000
G21: Bolsa color negro calibré 2" de 65 cm x 85 cm | H21: UNIDAD | I21: =I36*3*4*3 -> 72 | J21: 900 | K21: =I21*J21 -> 64800
G22: Bolsa color blanca calibré 2" de 65 cm x 85 cm | H22: UNIDAD | I22: =+I21 -> 72 | J22: 900 | K22: =I22*J22 -> 64800
G23: Bolsa color verde calibré 2" de 65 cm x 85 cm | H23: UNIDAD | I23: =+I22 -> 72 | J23: 900 | K23: =I23*J23 -> 64800
D24: 3 | E24: PROGRAMA GESTIÓN DEL RECURSO HÍDRICO. | F24: Manejo de residuos líquidos domésticos e industriales. | G24: Disposicion final de residuos peligrosos y aceites | H24: UNIDAD | I24: 1 | J24: 150000 | K24: =I24*J24 -> 150000
D25: 4 | E25: PROGRAMA DE BIODIVERSIDAD Y SERVICIOS ECOSISTÉMICOS | F25: Manejo del descapote y la cobertura vegetal | G25: Se incluye en las actividades de obra | K25: =+I25*J25 -> 0
D26: 5 | E26: PROGRAMA MANEJO DE INSTALACIONES TEMPORALES | F26: Manejo de maquinaria, equipos y vehículos | G26: Revisión del estado de los equipos, maquinaria pesada y vehiculos | H26: MES | I26: 2 | J26: 261000 | K26: =+I26*J26 -> 522000
D27: 6 | E27: PROGRAMA DE GESTIÓN SOCIAL | F27: Atención a la comunidad | G27: Punto de atención a comunidad | H27: MES | I27: 2 | J27: 485500 | K27: =+I27*J27 -> 971000
D28: 7 | E28: PROGRAMA DE SALUD OCUPACIONAL | F28: Equipos | G28: Extintor Abc Multiproposito 10lb + Señal + Gancho | H28: UNIDAD | I28: 1 | J28: 60000 | K28: =+I28*J28 -> 60000
G29: Camilla Fel + Gancho + Arnes + Señal Indumasas | H29: UNIDAD | I29: 1 | J29: 195000 | K29: =+I29*J29 -> 195000
G30: Inmovilizador de cabeza para camilla | H30: UNIDAD | I30: 1 | J30: 60000 | K30: =+I30*J30 -> 60000
G31: Botiquín Morral De Primeros Auxilios dotado | H31: UNIDAD | I31: 1 | J31: 150000 | K31: =+I31*J31 -> 150000
G32: Alquiler de baño en predio aledaño, incluido aseo y limpieza. | H32: 2 MES | I32: 1 | J32: 340000 | K32: =+I32*J32*I36 -> 680000
D33: Sub-Total | K33: =SUM(K12:K32) -> 4197400
D34: III.MANO DE OBRA PARA VERIFICACIÓN Y CONTROL DE LA EJECUCIÓN DEL PMA
E35: PRODESIONAL Y DESCRIPCIÓN | G35: UNIDAD | H35: DEDICACIÓN | I35: DURACIÓN | J35: JORNAL | K35: VALOR TOTAL
D36: 1 | E36: INGENIERO RESIDENTE AMBIENTAL (Elaboración de informes de implementación del PMA (Actas, formatos y registros) | G36: MES | H36: 0.7 | I36: 2 | J36: 2600000 | K36: =+H36*I36*J36 -> 3640000
D37: SUBTOTAL MANO DE OBRA | K37: =ROUND(SUM(K36),0) -> 3640000
D38: FACTOR PRESTACIONAL | K38: 1.4
D39: TOTAL MANO DE OBRA | K39: =ROUND(K37*K38,0) -> 5096000
D40: TOTAL COSTO PLAN DE MANEJO AMBIENTAL | K40: =ROUND((K33+K39),0) -> 9293400

Sheet AIU1 
A1: DESGLOSE A.I.U
A3: COSTO TOTAL DEL PROYECTO | C3: 1046009625 | D3: SALARIO MINIMO MENSUAL LEGAL VIGENTE (2026) SIN AUXILIO DE TRANSPOTE | G3: 1750905
A4: COSTO DIRECTO ESTIMADO | C4: 774821440 | D4: SALARIO MINIMO MENSUAL LEGAL VIGENTE CON AUXILIO (2026) | G4: 2000000 | J4: =+(200*C4)/G5 -> 350181000
A5: TIEMPO EJECUCIÓN | B5: MESES | C5: 3 | D5: COSTO DIRECTO EXPRESADO EN SMMLV | G5: =C4/G3 -> 442.52626
A6: A. ADMINISTRACIÓN
A7: 1. COSTOS MENSUALES DE PERSONAL
A8: CANTIDAD | B8: CARGO | C8: TIEMPO DE EJECUCION | D8: DEDICACIÓN MES | E8: TOPE MÁXIMO SALARIO | F8: FACTOR PRESTACIONAL | G8: SALARIO MÁS PRESTACIONES | J8: 2146553
A9: A | C9: B | D9: C | E9: D | F9: E | G9: F = A * B * C * D*E | J9: 3760118
A10: 1.1 PERSONAL PROFESIONAL (Ingenieros y Otros) | H10: CATEGORIA
A11: 1 | B11: Director de obra | C11: =+C5 -> 3 | D11: 0.2 | E11: 3410000 | F11: 1.16 | G11: =ROUND(A11*D11*E11*F11*C11,2) -> 2373360 | H11: 7
A12: 1 | B12: Residente de obra | C12: =+C5 -> 3 | D12: 1 | E12: 2700000 | F12: 1.78 | G12: =ROUND(A12*D12*E12*F12*C12,2) -> 14418000 | H12: 9
A13: 1 | B13: Profesional SST | D13: 0 | E13: 2200000 | F13: 1.78 | G13: =A13*D13*E13*F13 -> 0
A14: 1 | B14: RESIDENTE SISO | C14: 0 | D14: 0 | E14: 1876408 | F14: #REF! | G14: =A14*D14*E14*F14 -> #REF!
A15: 1 | B15: RESIDENTE SOCIAL | C15: 0 | D15: 0 | E15: 0 | F15: 1 | G15: =A15*D15*E15*F15 -> 0
A16: 1 | B16: ESPECIALISTA GEOTECNIA Y PAVIMENTOS | C16: 0 | D16: 0 | E16: 0 | F16: 1 | G16: =A16*D16*E16*F16 -> 0
A17: 1 | B17: ESPECIALISTA VIAS, SUELOS Y/O PAVIMENTOS | C17: 0 | D17: 0 | E17: 0 | F17: #REF! | G17: =A17*D17*E17*F17 -> #REF!
A18: 1 | B18: ESPECIALISTA TRANSITO Y TRANSPORTE | C18: 0 | D18: 0 | E18: 0 | F18: 0.005 | G18: =A18*D18*E18*F18 -> 0
A19: 1 | B19: AUXILIAR AREA SOCIAL | C19: 0 | D19: 0 | E19: 0 | F19: 0.0053 | G19: =A19*D19*E19*F19 -> 0
A21: 1.2 PERSONAL TÉCNICO Y PERSONAL AUXILIAR TÉCNICO
A22: 1 | B22: AUXILIAR (Tecnólogo en áreas de Ingeniería) | D22: 0 | E22: 1800000 | F22: 1.748 | G22: =A22*D22*E22*F22 -> 0
A23: 2 | B23: INSPECTOR 1 | D23: 1 | E23: 1100000 | F23: 1.748 | G23: =A23*D23*E23*F23 -> 3845600
A24: 1 | B24: DIBUJANTE 1 | D24: 0 | E24: 1732000 | F24: 1.748 | G24: =A24*D24*E24*F24 -> 0
A25: 1 | B25: Comision de topografia | D25: 0.8 | G25: =A25*D25*E25 -> 0
A26: 1 | B26: LABORATORISTA INSPECTOR | D26: 0 | E26: 1957000 | F26: 1.748 | G26: =A26*D26*E26*F26 -> 0
A27: 1 | B27: CADENERO 2 | D27: 0 | E27: 1057000 | F27: 1.748 | G27: =A27*D27*E27*F27 -> 0
A28: 1 | B28: CONDUCTOR O MOTORISTA | D28: 0 | E28: 850000 | F28: 1.748 | G28: =A28*D28*E28*F28 -> 0
A30: 1.3 PERSONAL ADMINISTRATIVO
A31: 1 | B31: SECRETARIA | D31: 0 | E31: 2000000 | F31: 1.78 | G31: =A31*D31*E31*F31 -> 0
A32: 1 | B32: Vigilante | D32: 0 | E32: 0 | G32: =E32 -> 0
A33: SUBTOTAL COSTOS MENSUALES DE PERSONAL | G33: =G11+G12 -> 16791360
A35: 2. GASTOS OPERACIONALES MENSUALES | C35: TIEMPO | D35: DEDICACIÓN | E35: VALOR | G35: VALOR ($)
A36: Arriendo oficina y/o bodega Incluye serv publicos, comunicaciones-Punto atención | C36: 3 | D36: 0 | E36: 600000 | G36: =C36*D36*E36 -> 0
A37: Campamentos. Incluye Serv. Públicos provisionales | C37: 50 | E37: 50 | G37: =E37*F37 -> 0
A38: GASTOS OFICINA (PAPELERIA, FOTOCOPIAS Y OTROS) | G38: 0 | J38: 1.740689e+08
A39: 1 | B39: VEHICULO MODELO 2010 EN ADELANTE (1300-3000 CC) | D39: 0 | E39: 1500000 | G39: =E39*D39 -> 0
A40: 1 | B40: EQUIPO DE TOPOGRAFÍA | C40: 3 | D40: 0 | E40: 1800000 | G40: =E40*D40*C40 -> 0
A41: 1 | B41: ESTUDIOS DE LABORATORIO | C41: 0 | D41: 0.5 | E41: 630000 | G41: =E41*D41*C41 -> 0
A42: SUBTOTAL GASTOS OPERACIONALES MENSUALES | G42: =+G36 -> 0
A44: TOTAL COSTOS PERSONAL + GASTOS OPERACIONALES POR EL TÉRMINO DE EJECUCIÓN | G44: =(G33+G42) -> 16791360
A45: TOTAL COSTOS PERSONAL + GASTOS OPERACIONALES POR EL TÉRMINO DE EJECUCIÓN (PORCENTAJE DEL COSTO DIRECTO) | G45: =G44/C4 -> 0.021671264
...
