Workbook

Sheet TOTALES
A1: ÍTEM | B1: PLACA | C1: TIPO DE VEHÍCULO | D1: MARCA | E1: MODELO | F1: CILINDRAJE | G1: VALOR OFERTA REPUESTOS + MANO DE OBRA
A2: 1 | B2: ODR761 | C2: BUS | D2: CHEVROLET | E2: 2016 | F2: 5193 | G2: =+'ODR761'!J498 -> 0
A3: 2 | B3: OFK212 | C3: BUS | D3: INTERNACIONAL | E3: 1983 | F3: 4700 | G3: =+'OFK212'!J498 -> 0
A4: 3 | B4: OFK470 | C4: BUS | D4: MERCEDES | E4: 2007 | F4: 5958 | G4: =+'OFK470'!J498 -> 0
A5: 4 | B5: OFK548 | C5: BUSETÓN | D5: CHEVROLET | E5: 2008 | F5: 4570 | G5: =+'OFK548'!J498 -> 0
A6: 5 | B6: OFK667 | C6: CAMIÓN | D6: FOTON | E6: 2016 | F6: 2776 | G6: =+'OFK667'!J498 -> 0
A7: 6 | B7: OFK671 | C7: CAMION (Carrotanque) | D7: FOTON | E7: 2016 | F7: 6700 | G7: =+'OFK671'!J498 -> 0
A8: 7 | B8: OFK514 | C8: CAMION | D8: CHEVROLET | E8: 2011 | F8: 4570 | G8: =+'OFK514'!J498 -> 0
A9: 8 | B9: OFK534 | C9: CAMION | D9: CHEVROLET | E9: 2013 | F9: 2999 | G9: =+'OFK534'!J498 -> 0
A10: 9 | B10: OFK526 | C10: CAMIONETA | D10: CHEVROLET | E10: 2013 | F10: 2999 | G10: =+'OFK526'!J671 -> 0
A11: 10 | B11: OFK702 | C11: CAMPERO | D11: TOYOTA | E11: 2018 | F11: 2982 | G11: =+'OFK702'!J671 -> 0
A12: 11 | B12: OFK669 | C12: MICROBUS | D12: CHEVROLET | E12: 2017 | F12: 2999 | G12: =+'OFK669'!J498 -> 0
A13: 12 | B13: JKX715 | C13: CAMIONETA | D13: CHEVROLET | E13: 2023 | F13: 2999 | G13: =+'JKX715'!J498 -> 0
A14: 13 | B14: OFK601 | C14: CAMIONETA | D14: MITSUBISHI | E14: 2015 | F14: 2477 | G14: =+'OFK601'!J671 -> 0
A15: 14 | B15: OFK430 | C15: CAMIONETA | D15: TOYOTA | E15: 2004 | F15: 2400 | G15: =+'OFK430'!J671 -> 0
A16: 15 | B16: OFK432 | C16: CAMIONETA | D16: TOYOTA | E16: 2004 | F16: 2400 | G16: =+'OFK432'!J671 -> 0
A17: 16 | B17: OFK452 | C17: CAMPERO | D17: TOYOTA | E17: 2009 | F17: 3400 | G17: =+'OFK452'!J671 -> 0
A18: 17 | B18: OFK477 | C18: CAMIONETA | D18: TOYOTA | E18: 2009 | F18: 2700 | G18: =+'OFK477'!J671 -> 0
A19: 18 | B19: OFK497 | C19: CAMIONETA | D19: TOYOTA | E19: 2010 | F19: 2700 | G19: =+'OFK497'!J671 -> 0
A20: 19 | B20: OFK498 | C20: CAMIONETA | D20: TOYOTA | E20: 2010 | F20: 2700 | G20: =+'OFK498'!J671 -> 0
A21: 20 | B21: OFK581 | C21: CAMIONETA | D21: NISSAN | E21: 2013 | F21: 2389 | G21: =+'OFK581'!J671 -> 0
A22: 21 | B22: OFK595 | C22: CAMIONETA | D22: NISSAN | E22: 2013 | F22: 2389 | G22: =+'OFK595'!J671 -> 0
A23: 22 | B23: OFK527 | C23: CAMPERO | D23: TOYOTA | E23: 2012 | F23: 4000 | G23: =+'OFK527'!J671 -> 0
A24: 23 | B24: OFK546 | C24: CAMIONETA | D24: DFM | E24: 2013 | F24: 1051 | G24: =+'OFK546'!J671 -> 0
A25: 24 | B25: OFK655 | C25: CAMIONETA | D25: NISSAN | E25: 2020 | F25: 2488 | G25: =+'OFK655'!J671 -> 0
A26: 25 | B26: OJZ512 | C26: CAMIONETA | D26: NISSAN | E26: 2015 | F26: 2389 | G26: =+'OJZ512'!J671 -> 0
A27: Total carros | G27: =SUM(G2:G26) -> 0
A30: No. | B30: PLACA | C30: LÍNEA | D30: MARCA | E30: MODELO | F30: CILINDRAJE | G30: VALOR OFERTA REPUESTOS + MANO DE OBRA
A31: 1 | B31: ORU05A | C31: YBR125DX | D31: YAMAHA | E31: 2010 | F31: 123 | G31: =+'3 MOTOS YAMAHA YBR125DX'!J307 -> 0
A32: 2 | B32: ORU06A | C32: YBR125DX | D32: YAMAHA | E32: 2010 | F32: 123
A33: 3 | B33: ORU07A | C33: YBR125DX | D33: YAMAHA | E33: 2010 | F33: 123
A34: 4 | B34: FVM26C | C34: XTZ125E | D34: YAMAHA | E34: 2012 | F34: 124 | G34: =+'4 MOTOS YAMAHA XTZ125E'!J307 -> 0
A35: 5 | B35: FVM29C | C35: XTZ125E | D35: YAMAHA | E35: 2012 | F35: 124
A36: 6 | B36: FVM31C | C36: XTZ125E | D36: YAMAHA | E36: 2012 | F36: 122
A37: 7 | B37: FVP28C | C37: XTZ125E | D37: YAMAHA | E37: 2013 | F37: 124
A38: 8 | B38: FVM30C | C38: FZ16 | D38: YAMAHA | E38: 2013 | F38: 152 | G38: =+'2 MOTOS YAMAHA FZ16'!J307 -> 0
A39: 9 | B39: FVM28C | C39: FZ16 | D39: YAMAHA | E39: 2013 | F39: 152
A40: 10 | B40: FWJ84C | C40: YBR125ESD | D40: YAMAHA | E40: 2015 | F40: 124 | G40: =+'2 MOTOS YAMAHA YBR125ESD'!J307 -> 0
A41: 11 | B41: FWJ85C | C41: YBR125ESD | D41: YAMAHA | E41: 2015 | F41: 124
A42: 12 | B42: CXR44D | C42: XR150L | D42: HONDA | E42: 2020 | F42: 149 | G42: =+'3 MOTOS HONDA XR150L'!J307 -> 0
A43: 13 | B43: CXR45D | C43: XR150L | D43: HONDA | E43: 2020 | F43: 149
A44: 14 | B44: CXR46D | C44: XR150L | D44: HONDA | E44: 2020 | F44: 149
A45: 15 | B45: PTJ93F | C45: DR150 | D45: SUZUKI | E45: 2021 | F45: 149 | G45: =+'2 MOTOS SUZUKI DR150'!J307 -> 0
A46: 16 | B46: PTJ94F | C46: DR150 | D46: SUZUKI | E46: 2021 | F46: 149
A47: 17 | B47: FVZ12C | C47: AK125 NKDR | D47: AKT | E47: 2014 | F47: 124 | G47: =+'1 MOTO AKT AK125NKDR'!J307 -> 0
A48: Total motocicletas | G48: =SUM(G31:G47) -> 0
A50: *Nota: Teniendo en cuenta que las motocicletas se encuentran por grupos de marca y referencia solo se debe hacer la cotización para cada grupo, es decir, por ejemplo, para las cuatro (4) motocicletas Marca Yamaha XTZ125E se hace la cotizacion por una sola moto, no es necesario multiplicar los valores por la cantidad de motocicletas de cada grupo.

Sheet ODR761
A1: ITEM | B1: REPUESTOS VEHÍCULOS | C1: UNIDADES | D1: VALOR UNITARIO | E1: IVA (Si aplica) | F1: TOTAL | H1: ITEM | I1: MANO DE OBRA | J1: VALOR UNITARIO | K1: IVA (Si aplica) | L1: TOTAL
A2: 1 | B2: AMORTIGUADOR SILLAS | C2: UNIDAD | F2: 0 | H2: 1 | I2: AMORTIGUADOR SILLAS | L2: =+J2+K2 -> 0
A3: 2 | B3: BIJIA RUEDA | C3: UNIDAD | F3: 0 | H3: 2 | I3: BIJIA RUEDA | L3: =+J3+K3 -> 0
A4: 3 | B4: BOSTER PUERTA | C4: CUARTO | F4: 0 | H4: 3 | I4: BOSTER PUERTA | L4: =+J4+K4 -> 0
A5: 4 | B5: BOTIQUIN | C5: CUARTO | F5: 0 | H5: 4 | I5: BOTIQUIN | L5: =+J5+K5 -> 0
A6: 5 | B6: CAMBIO SIGLAS | C6: CUARTO | F6: 0 | H6: 5 | I6: CAMBIO SIGLAS | L6: =+J6+K6 -> 0
A7: 6 | B7: CHAPA PUERTA | C7: CUARTO | F7: 0 | H7: 6 | I7: CHAPA PUERTA | L7: =+J7+K7 -> 0
A8: 7 | B8: FORRO TIMON | C8: CUARTO | F8: 0 | H8: 7 | I8: FORRO TIMON | L8: =+J8+K8 -> 0
A9: 8 | B9: FORROS SILLAS | C9: UNIDAD | F9: 0 | H9: 8 | I9: FORROS SILLAS | L9: =+J9+K9 -> 0
A10: 9 | B10: FUELLE AIRES PARA ASIENTO | C10: UNIDAD | F10: 0 | H10: 9 | I10: FUELLE AIRES PARA ASIENTO | L10: =+J10+K10 -> 0
A11: 10 | B11: FUELLE AIRES PARA CABINA | C11: UNIDAD | F11: 0 | H11: 10 | I11: FUELLE AIRES PARA CABINA | L11: =+J11+K11 -> 0
A12: 11 | B12: MANIJA PUERTA | C12: UNIDAD | F12: 0 | H12: 11 | I12: MANIJA PUERTA | L12: =+J12+K12 -> 0
A13: 12 | B13: PLUMILLAS | C13: JUEGO | F13: 0 | H13: 12 | I13: PLUMILLAS | L13: =+J13+K13 -> 0
... A460: 459 | B460: VENTILADOR ALTERNADOR | C460: UNIDAD | F460: 0 | H460: 459 | I460: SWITCH IGNICION | L460: =+J460+K460 -> 0
A461: TOTAL | F461: =SUM(F2:F460) -> 0 | H461: 460 | I461: TERMINAL DE OJO | L461: =+J461+K461 -> 0
H462: 461 | I462: TERMINAL MEDIDOR COMBUSTIBLE | L462: =+J462+K462 -> 0
H463: 462 | I463: VALVULA IAC (CONTROL DE AIRE AL RALENTI) | L463: =+J463+K463 -> 0
H464: 463 | I464: VENTILADOR ALTERNADOR | L464: =+J464+K464 -> 0
H465: 464 | I465: BOMBA COMBUSTIBLE (CON D/M TANQUE) | L465: =+J465+K465 -> 0
H466: 465 | I466: BOMBA COMBUSTIBLE (SIN D/M TANQUE) | L466: =+J466+K466 -> 0
H467: 466 | I467: D/M BOCIN | L467: =+J467+K467 -> 0
H468: 467 | I468: D/M BOMBA DE COMBUSTIBLE | L468: =+J468+K468 -> 0
H469: 468 | I469: D/M BOMBA DE INYECCION | L469: =+J469+K469 -> 0
H470: 469 | I470: D/M CARDAN | L470: =+J470+K470 -> 0
H471: 470 | I471: D/M COMPRESOR A/A | L471: =+J471+K471 -> 0
H472: 471 | I472: D/M CUERPO ACELERADOR (MANTENIMIENTO) | L472: =+J472+K472 -> 0
H473: 472 | I473: D/M DIFERENCIAL (CAJA ) | L473: =+J473+K473 -> 0
... H492: 491 | I492: REPARACION TRASMISION (INCLUYE D/M) | L492: =+J492+K492 -> 0
H493: 492 | I493: REVISIÓN TÉCNICO MECÁNICA | L493: 0
H494: TOTAL | L494: =SUM(L2:L493) -> 0
I496: Total Repuestos | J496: =+F461 -> 0
I497: Total mano de obra | J497: =+L494 -> 0
I498: GRAN TOTAL | J498: =+J496+J497 -> 0

Sheet OFK212
A1: ITEM | B1: REPUESTOS VEHÍCULOS | C1: UNIDADES | D1: VALOR UNITARIO | E1: IVA (Si aplica) | F1: TOTAL | H1: ITEM | I1: MANO DE OBRA | J1: VALOR UNITARIO | K1: IVA (Si aplica) | L1: TOTAL
A2: 1 | B2: AMORTIGUADOR SILLAS | C2: UNIDAD | F2: 0 | H2: 1 | I2: AMORTIGUADOR SILLAS | L2: =+J2+K2 -> 0
A3: 2 | B3: BIJIA RUEDA | C3: UNIDAD | F3: 0 | H3: 2 | I3: BIJIA RUEDA | L3: =+J3+K3 -> 0
A4: 3 | B4: BOSTER PUERTA | C4: CUARTO | F4: 0 | H4: 3 | I4: BOSTER PUERTA | L4: =+J4+K4 -> 0
A5: 4 | B5: BOTIQUIN | C5: CUARTO | F5: 0 | H5: 4 | I5: BOTIQUIN | L5: =+J5+K5 -> 0
A6: 5 | B6: CAMBIO SIGLAS | C6: CUARTO | F6: 0 | H6: 5 | I6: CAMBIO SIGLAS | L6: =+J6+K6 -> 0
A7: 6 | B7: CHAPA PUERTA | C7: CUARTO | F7: 0 | H7: 6 | I7: CHAPA PUERTA | L7: =+J7+K7 -> 0
A8: 7 | B8: FORRO TIMON | C8: CUARTO | F8: 0 | H8: 7 | I8: FORRO TIMON | L8: =+J8+K8 -> 0
A9: 8 | B9: FORROS SILLAS | C9: UNIDAD | F9: 0 | H9: 8 | I9: FORROS SILLAS | L9: =+J9+K9 -> 0
A10: 9 | B10: FUELLE AIRES PARA ASIENTO | C10: UNIDAD | F10: 0 | H10: 9 | I10: FUELLE AIRES PARA ASIENTO | L10: =+J10+K10 -> 0
A11: 10 | B11: FUELLE AIRES PARA CABINA | C11: UNIDAD | F11: 0 | H11: 10 | I11: FUELLE AIRES PARA CABINA | L11: =+J11+K11 -> 0
A12: 11 | B12: MANIJA PUERTA | C12: UNIDAD | F12: 0 | H12: 11 | I12: MANIJA PUERTA | L12: =+J12+K12 -> 0
A13: 12 | B13: PLUMILLAS | C13: JUEGO | F13: 0 | H13: 12 | I13: PLUMILLAS | L13: =+J13+K13 -> 0
... A460: 459 | B460: VENTILADOR ALTERNADOR | C460: UNIDAD | F460: 0 | H460: 459 | I460: SWITCH IGNICION | L460: =+J460+K460 -> 0
A461: TOTAL | F461: =SUM(F2:F460) -> 0 | H461: 460 | I461: TERMINAL DE OJO | L461: =+J461+K461 -> 0
H462: 461 | I462: TERMINAL MEDIDOR COMBUSTIBLE | L462: =+J462+K462 -> 0
H463: 462 | I463: VALVULA IAC (CONTROL DE AIRE AL RALENTI) | L463: =+J463+K463 -> 0
H464: 463 | I464: VENTILADOR ALTERNADOR | L464: =+J464+K464 -> 0
H465: 464 | I465: BOMBA COMBUSTIBLE (CON D/M TANQUE) | L465: =+J465+K465 -> 0
H466: 465 | I466: BOMBA COMBUSTIBLE (SIN D/M TANQUE) | L466: =+J466+K466 -> 0
H467: 466 | I467: D/M BOCIN | L467: =+J467+K467 -> 0
H468: 467 | I468: D/M BOMBA DE COMBUSTIBLE | L468: =+J468+K468 -> 0
H469: 468 | I469: D/M BOMBA DE INYECCION | L469: =+J469+K469 -> 0
H470: 469 | I470: D/M CARDAN | L470: =+J470+K470 -> 0
H471: 470 | I471: D/M COMPRESOR A/A | L471: =+J471+K471 -> 0
H472: 471 | I472: D/M CUERPO ACELERADOR (MANTENIMIENTO) | L472: =+J472+K472 -> 0
H473: 472 | I473: D/M DIFERENCIAL (CAJA ) | L473: =+J473+K473 -> 0
... H492: 491 | I492: REPARACION TRASMISION (INCLUYE D/M) | L492: =+J492+K492 -> 0
H493: 492 | I493: REVISIÓN TÉCNICO MECÁNICA | L493: 0
H494: TOTAL | L494: =SUM(L2:L493) -> 0
I496: Total Repuestos | J496: =+F461 -> 0
I497: Total mano de obra | J497: =+L494 -> 0
I498: GRAN TOTAL | J498: =+J496+J497 -> 0

Sheet OFK470
A1: ITEM | B1: REPUESTOS VEHÍCULOS | C1: UNIDADES | D1: VALOR UNITARIO | E1: IVA (Si aplica) | F1: TOTAL | H1: ITEM | I1: MANO DE OBRA | J1: VALOR UNITARIO | K1: IVA (Si aplica) | L1: TOTAL
A2: 1 | B2: AMORTIGUADOR SILLAS | C2: UNIDAD | F2: 0 | H2: 1 | I2: AMORTIGUADOR SILLAS | L2: =+J2+K2 -> 0
A3: 2 | B3: BIJIA RUEDA | C3: UNIDAD | F3: 0 | H3: 2 | I3: BIJIA RUEDA | L3: =+J3+K3 -> 0
A4: 3 | B4: BOSTER PUERTA | C4: CUARTO | F4: 0 | H4: 3 | I4: BOSTER PUERTA | L4: =+J4+K4 -> 0
A5: 4 | B5: BOTIQUIN | C5: CUARTO | F5: 0 | H5: 4 | I5: BOTIQUIN | L5: =+J5+K5 -> 0
A6: 5 | B6: CAMBIO SIGLAS | C6: CUARTO | F6: 0 | H6: 5 | I6: CAMBIO SIGLAS | L6: =+J6+K6 -> 0
A7: 6 | B7: CHAPA PUERTA | C7: CUARTO | F7: 0 | H7: 6 | I7: CHAPA PUERTA | L7: =+J7+K7 -> 0
A8: 7 | B8: FORRO TIMON | C8: CUARTO | F8: 0 | H8: 7 | I8: FORRO TIMON | L8: =+J8+K8 -> 0
A9: 8 | B9: FORROS SILLAS | C9: UNIDAD | F9: 0 | H9: 8 | I9: FORROS SILLAS | L9: =+J9+K9 -> 0
A10: 9 | B10: FUELLE AIRES PARA ASIENTO | C10: UNIDAD | F10: 0 | H10: 9 | I10: FUELLE AIRES PARA ASIENTO | L10: =+J10+K10 -> 0
A11: 10 | B11: FUELLE AIRES PARA CABINA | C11: UNIDAD | F11: 0 | H11: 10 | I11: FUELLE AIRES PARA CABINA | L11: =+J11+K11 -> 0
A12: 11 | B12: MANIJA PUERTA | C12: UNIDAD | F12: 0 | H12: 11 | I12: MANIJA PUERTA | L12: =+J12+K12 -> 0
A13: 12 | B13: PLUMILLAS | C13: JUEGO | F13: 0 | H13: 12 | I13: PLUMILLAS | L13: =+J13+K13 -> 0
... A460: 459 | B460: VENTILADOR ALTERNADOR | C460: UNIDAD | F460: 0 | H460: 459 | I460: SWITCH IGNICION | L460: =+J460+K460 -> 0
A461: TOTAL | F461: =SUM(F2:F460) -> 0 | H461: 460 | I461: TERMINAL DE OJO | L461: =+J461+K461 -> 0
H462: 461 | I462: TERMINAL MEDIDOR COMBUSTIBLE | L462: =+J462+K462 -> 0
H463: 462 | I463: VALVULA IAC (CONTROL DE AIRE AL RALENTI) | L463: =+J463+K463 -> 0
H464: 463 | I464: VENTILADOR ALTERNADOR | L464: =+J464+K464 -> 0
H465: 464 | I465: BOMBA COMBUSTIBLE (CON D/M TANQUE) | L465: =+J465+K465 -> 0
H466: 465 | I466: BOMBA COMBUSTIBLE (SIN D/M TANQUE) | L466: =+J466+K466 -> 0
H467: 466 | I467: D/M BOCIN | L467: =+J467+K467 -> 0
H468: 467 | I468: D/M BOMBA DE COMBUSTIBLE | L468: =+J468+K468 -> 0
H469: 468 | I469: D/M BOMBA DE INYECCION | L469: =+J469+K469 -> 0
H470: 469 | I470: D/M CARDAN | L470: =+J470+K470 -> 0
H471: 470 | I471: D/M COMPRESOR A/A | L471: =+J471+K471 -> 0
H472: 471 | I472: D/M CUERPO ACELERADOR (MANTENIMIENTO) | L472: =+J472+K472 -> 0
H473: 472 | I473: D/M DIFERENCIAL (CAJA ) | L473: =+J473+K473 -> 0
... H492: 491 | I492: REPARACION TRASMISION (INCLUYE D/M) | L492: =+J492+K492 -> 0
H493: 492 | I493: REVISIÓN TÉCNICO MECÁNICA | L493: 0
H494: TOTAL | L494: =SUM(L2:L493) -> 0
I496: Total Repuestos | J496: =+F461 -> 0
I497: Total mano de obra | J497: =+L494 -> 0
I498: GRAN TOTAL | J498: =+J496+J497 -> 0

Sheet OFK548
A1: ITEM | B1: REPUESTOS VEHÍCULOS | C1: UNIDADES | D1: VALOR UNITARIO | E1: IVA (Si aplica) | F1: TOTAL | H1: ITEM | I1: MANO DE OBRA | J1: VALOR UNITARIO | K1: IVA (Si aplica) | L1: TOTAL
A2: 1 | B2: AMORTIGUADOR SILLAS | C2: UNIDAD | F2: 0 | H2: 1 | I2: AMORTIGUADOR SILLAS | L2: =+J2+K2 -> 0
A3: 2 | B3: BIJIA RUEDA | C3: UNIDAD | F3: 0 | H3: 2 | I3: BIJIA RUEDA | L3: =+J3+K3 -> 0
A4: 3 | B4: BOSTER PUERTA | C4: CUARTO | F4: 0 | H4: 3 | I4: BOSTER PUERTA | L4: =+J4+K4 -> 0
A5: 4 | B5: BOTIQUIN | C5: CUARTO | F5: 0 | H5: 4 | I5: BOTIQUIN | L5: =+J5+K5 -> 0
A6: 5 | B6: CAMBIO SIGLAS | C6: CUARTO | F6: 0 | H6: 5 | I6: CAMBIO SIGLAS | L6: =+J6+K6 -> 0
A7: 6 | B7: CHAPA PUERTA | C7: CUARTO | F7: 0 | H7: 6 | I7: CHAPA PUERTA | L7: =+J7+K7 -> 0
A8: 7 | B8: FORRO TIMON | C8: CUARTO | F8: 0 | H8: 7 | I8: FORRO TIMON | L8: =+J8+K8 -> 0
A9: 8 | B9: FORROS SILLAS | C9: UNIDAD | F9: 0 | H9: 8 | I9: FORROS SILLAS | L9: =+J9+K9 -> 0
A10: 9 | B10: FUELLE AIRES PARA ASIENTO | C10: UNIDAD | F10: 0 | H10: 9 | I10: FUELLE AIRES PARA ASIENTO | L10: =+J10+K10 -> 0
A11: 10 | B11: FUELLE AIRES PARA CABINA | C11: UNIDAD | F11: 0 | H11: 10 | I11: FUELLE AIRES PARA CABINA | L11: =+J11+K11 -> 0
A12: 11 | B12: MANIJA PUERTA | C12: UNIDAD | F12: 0 | H12: 11 | I12: MANIJA PUERTA | L12: =+J12+K12 -> 0
A13: 12 | B13: PLUMILLAS | C13: JUEGO | F13: 0 | H13: 12 | I13: PLUMILLAS | L13: =+J13+K13 -> 0
... A460: 459 | B460: VENTILADOR ALTERNADOR | C460: UNIDAD | F460: 0 | H460: 459 | I460: SWITCH IGNICION | L460: =+J460+K460 -> 0
A461: TOTAL | F461: =SUM(F2:F460) -> 0 | H461: 460 | I461: TERMINAL DE OJO | L461: =+J461+K461 -> 0
H462: 461 | I462: TERMINAL MEDIDOR COMBUSTIBLE | L462: =+J462+K462 -> 0
H463: 462 | I463: VALVULA IAC (CONTROL DE AIRE AL RALENTI) | L463: =+J463+K463 -> 0
H464: 463 | I464: VENTILADOR ALTERNADOR | L464: =+J464+K464 -> 0
H465: 464 | I465: BOMBA COMBUSTIBLE (CON D/M TANQUE) | L465: =+J465+K465 -> 0
H466: 465 | I466: BOMBA COMBUSTIBLE (SIN D/M TANQUE) | L466: =+J466+K466 -> 0
H467: 466 | I467: D/M BOCIN | L467: =+J467+K467 -> 0
H468: 467 | I468: D/M BOMBA DE COMBUSTIBLE | L468: =+J468+K468 -> 0
H469: 468 | I469: D/M BOMBA DE INYECCION | L469: =+J469+K469 -> 0
H470: 469 | I470: D/M CARDAN | L470: =+J470+K470 -> 0
H471: 470 | I471: D/M COMPRESOR A/A | L471: =+J471+K471 -> 0
H472: 471 | I472: D/M CUERPO ACELERADOR (MANTENIMIENTO) | L472: =+J472+K472 -> 0
H473: 472 | I473: D/M DIFERENCIAL (CAJA ) | L473: =+J473+K473 -> 0
... H492: 491 | I492: REPARACION TRASMISION (INCLUYE D/M) | L492: =+J492+K492 -> 0
H493: 492 | I493: REVISIÓN TÉCNICO MECÁNICA | L493: 0
H494: TOTAL | L494: =SUM(L2:L493) -> 0
I496: Total Repuestos | J496: =+F461 -> 0
I497: Total mano de obra | J497: =+L494 -> 0
I498: GRAN TOTAL | J498: =+J496+J497 -> 0

Sheet OFK667
A1: ITEM | B1: REPUESTOS VEHÍCULOS | C1: UNIDADES | D1: VALOR UNITARIO | E1: IVA (Si aplica) | F1: TOTAL | H1: ITEM | I1: MANO DE OBRA | J1: VALOR UNITARIO | K1: IVA (Si aplica) | L1: TOTAL
A2: 1 | B2: AMORTIGUADOR SILLAS | C2: UNIDAD | F2: 0 | H2: 1 | I2: AMORTIGUADOR SILLAS | L2: =+J2+K2 -> 0
A3: 2 | B3: BIJIA RUEDA | C3: UNIDAD | F3: 0 | H3: 2 | I3: BIJIA RUEDA | L3: =+J3+K3 -> 0
A4: 3 | B4: BOSTER PUERTA | C4: CUARTO | F4: 0 | H4: 3 | I4: BOSTER PUERTA | L4: =+J4+K4 -> 0
A5: 4 | B5: BOTIQUIN | C5: CUARTO | F5: 0 | H5: 4 | I5: BOTIQUIN | L5: =+J5+K5 -> 0
A6: 5 | B6: CAMBIO SIGLAS | C6: CUARTO | F6: 0 | H6: 5 | I6: CAMBIO SIGLAS | L6: =+J6+K6 -> 0
A7: 6 | B7: CHAPA PUERTA | C7: CUARTO | F7: 0 | H7: 6 | I7: CHAPA PUERTA | L7: =+J7+K7 -> 0
A8: 7 | B8: FORRO TIMON | C8: CUARTO | F8: 0 | H8: 7 | I8: FORRO TIMON | L8: =+J8+K8 -> 0
A9: 8 | B9: FORROS SILLAS | C9: UNIDAD | F9: 0 | H9: 8 | I9: FORROS SILLAS | L9: =+J9+K9 -> 0
A10: 9 | B10: FUELLE AIRES PARA ASIENTO | C10: UNIDAD | F10: 0 | H10: 9 | I10: FUELLE AIRES PARA ASIENTO | L10: =+J10+K10 -> 0
A11: 10 | B11: FUELLE AIRES PARA CABINA | C11: UNIDAD | F11: 0 | H11: 10 | I11: FUELLE AIRES PARA CABINA | L11: =+J11+K11 -> 0
A12: 11 | B12: MANIJA PUERTA | C12: UNIDAD | F12: 0 | H12: 11 | I12: MANIJA PUERTA | L12: =+J12+K12 -> 0
A13: 12 | B13: PLUMILLAS | C13: JUEGO | F13: 0 | H13: 12 | I13: PLUMILLAS | L13: =+J13+K13 -> 0
... A460: 459 | B460: VENTILADOR ALTERNADOR | C460: UNIDAD | F460: 0 | H460: 459 | I460: SWITCH IGNICION | L460: =+J460+K460 -> 0
A461: TOTAL | F461: =SUM(F2:F460) -> 0 | H461: 460 | I461: TERMINAL DE OJO | L461: =+J461+K461 -> 0
H462: 461 | I462: TERMINAL MEDIDOR COMBUSTIBLE | L462: =+J462+K462 -> 0
H463: 462 | I463: VALVULA IAC (CONTROL DE AIRE AL RALENTI) | L463: =+J463+K463 -> 0
H464: 463 | I464: VENTILADOR ALTERNADOR | L464: =+J464+K464 -> 0
H465: 464 | I465: BOMBA COMBUSTIBLE (CON D/M TANQUE) | L465: =+J465+K465 -> 0
H466: 465 | I466: BOMBA COMBUSTIBLE (SIN D/M TANQUE) | L466: =+J466+K466 -> 0
H467: 466 | I467: D/M BOCIN | L467: =+J467+K467 -> 0
H468: 467 | I468: D/M BOMBA DE COMBUSTIBLE | L468: =+J468+K468 -> 0
H469: 468 | I469: D/M BOMBA DE INYECCION | L469: =+J469+K469 -> 0
H470: 469 | I470: D/M CARDAN | L470: =+J470+K470 -> 0
H471: 470 | I471: D/M COMPRESOR A/A | L471: =+J471+K471 -> 0
H472: 471 | I472: D/M CUERPO ACELERADOR (MANTENIMIENTO) | L472: =+J472+K472 -> 0
H473: 472 | I473: D/M DIFERENCIAL (CAJA ) | L473: =+J473+K473 -> 0
... H492: 491 | I492: REPARACION TRASMISION (INCLUYE D/M) | L492: =+J492+K492 -> 0
H493: 492 | I493: REVISIÓN TÉCNICO MECÁNICA | L493: 0
H494: TOTAL | L494: =SUM(L2:L493) -> 0
I496: Total Repuestos | J496: =+F461 -> 0
I497: Total mano de obra | J497: =+L494 -> 0
I498: GRAN TOTAL | J498: =+J496+J497 -> 0

Sheet OFK671
A1: ITEM | B1: REPUESTOS VEHÍCULOS | C1: UNIDADES | D1: VALOR UNITARIO | E1: IVA (Si aplica) | F1: TOTAL | H1: ITEM | I1: MANO DE OBRA | J1: VALOR UNITARIO | K1: IVA (Si aplica) | L1: TOTAL
A2: 1 | B2: AMORTIGUADOR SILLAS | C2: UNIDAD | F2: 0 | H2: 1 | I2: AMORTIGUADOR SILLAS | L2: =+J2+K2 -> 0
A3: 2 | B3: BIJIA RUEDA | C3: UNIDAD | F3: 0 | H3: 2 | I3: BIJIA RUEDA | L3: =+J3+K3 -> 0
A4: 3 | B4: BOSTER PUERTA | C4: CUARTO | F4: 0 | H4: 3 | I4: BOSTER PUERTA | L4: =+J4+K4 -> 0
A5: 4 | B5: BOTIQUIN | C5: CUARTO | F5: 0 | H5: 4 | I5: BOTIQUIN | L5: =+J5+K5 -> 0
A6: 5 | B6: CAMBIO SIGLAS | C6: CUARTO | F6: 0 | H6: 5 | I6: CAMBIO SIGLAS | L6: =+J6+K6 -> 0
A7: 6 | B7: CHAPA PUERTA | C7: CUARTO | F7: 0 | H7: 6 | I7: CHAPA PUERTA | L7: =+J7+K7 -> 0
A8: 7 | B8: FORRO TIMON | C8: CUARTO | F8: 0 | H8: 7 | I8: FORRO TIMON | L8: =+J8+K8 -> 0
A9: 8 | B9: FORROS SILLAS | C9: UNIDAD | F9: 0 | H9: 8 | I9: FORROS SILLAS | L9: =+J9+K9 -> 0
A10: 9 | B10: FUELLE AIRES PARA ASIENTO | C10: UNIDAD | F10: 0 | H10: 9 | I10: FUELLE AIRES PARA ASIENTO | L10: =+J10+K10 -> 0
A11: 10 | B11: FUELLE AIRES PARA CABINA | C11: UNIDAD | F11: 0 | H11: 10 | I11: FUELLE AIRES PARA CABINA | L11: =+J11+K11 -> 0
A12: 11 | B12: MANIJA PUERTA | C12: UNIDAD | F12: 0 | H12: 11 | I12: MANIJA PUERTA | L12: =+J12+K12 -> 0
A13: 12 | B13: PLUMILLAS | C13: JUEGO | F13: 0 | H13: 12 | I13: PLUMILLAS | L13: =+J13+K13 -> 0
... A460: 459 | B460: VENTILADOR ALTERNADOR | C460: UNIDAD | F460: 0 | H460: 459 | I460: SWITCH IGNICION | L460: =+J460+K460 -> 0
A461: TOTAL | F461: =SUM(F2:F460) -> 0 | H461: 460 | I461: TERMINAL DE OJO | L461: =+J461+K461 -> 0
H462: 461 | I462: TERMINAL MEDIDOR COMBUSTIBLE | L462: =+J462+K462 -> 0
H463: 462 | I463: VALVULA IAC (CONTROL DE AIRE AL RALENTI) | L463: =+J463+K463 -> 0
H464: 463 | I464: VENTILADOR ALTERNADOR | L464: =+J464+K464 -> 0
H465: 464 | I465: BOMBA COMBUSTIBLE (CON D/M TANQUE) | L465: =+J465+K465 -> 0
H466: 465 | I466: BOMBA COMBUSTIBLE (SIN D/M TANQUE) | L466: =+J466+K466 -> 0
H467: 466 | I467: D/M BOCIN | L467: =+J467+K467 -> 0
H468: 467 | I468: D/M BOMBA DE COMBUSTIBLE | L468: =+J468+K468 -> 0
H469: 468 | I469: D/M BOMBA DE INYECCION | L469: =+J469+K469 -> 0
H470: 469 | I470: D/M CARDAN | L470: =+J470+K470 -> 0
H471: 470 | I471: D/M COMPRESOR A/A | L471: =+J471+K471 -> 0
H472: 471 | I472: D/M CUERPO ACELERADOR (MANTENIMIENTO) | L472: =+J472+K472 -> 0
H473: 472 | I473: D/M DIFERENCIAL (CAJA ) | L473: =+J473+K473 -> 0
... H492: 491 | I492: REPARACION TRASMISION (INCLUYE D/M) | L492: =+J492+K492 -> 0
H493: 492 | I493: REVISIÓN TÉCNICO MECÁNICA | L493: 0
H494: TOTAL | L494: =SUM(L2:L493) -> 0
I496: Total Repuestos | J496: =+F461 -> 0
I497: Total mano de obra | J497: =+L494 -> 0
I498: GRAN TOTAL | J498: =+J496+J497 -> 0

Sheet OFK514
A1: ITEM | B1: REPUESTOS VEHÍCULOS | C1: UNIDADES | D1: VALOR UNITARIO | E1: IVA (Si aplica) | F1: TOTAL | H1: ITEM | I1: MANO DE OBRA | J1: VALOR UNITARIO | K1: IVA (Si aplica) | L1: TOTAL
A2: 1 | B2: AMORTIGUADOR SILLAS | C2: UNIDAD | F2: 0 | H2: 1 | I2: AMORTIGUADOR SILLAS | L2: =+J2+K2 -> 0
A3: 2 | B3: BIJIA RUEDA | C3: UNIDAD | F3: 0 | H3: 2 | I3: BIJIA RUEDA | L3: =+J3+K3 -> 0
A4: 3 | B4: BOSTER PUERTA | C4: CUARTO | F4: 0 | H4: 3 | I4: BOSTER PUERTA | L4: =+J4+K4 -> 0
A5: 4 | B5: BOTIQUIN | C5: CUARTO | F5: 0 | H5: 4 | I5: BOTIQUIN | L5: =+J5+K5 -> 0
A6: 5 | B6: CAMBIO SIGLAS | C6: CUARTO | F6: 0 | H6: 5 | I6: CAMBIO SIGLAS | L6: =+J6+K6 -> 0
A7: 6 | B7: CHAPA PUERTA | C7: CUARTO | F7: 0 | H7: 6 | I7: CHAPA PUERTA | L7: =+J7+K7 -> 0
A8: 7 | B8: FORRO TIMON | C8: CUARTO | F8: 0 | H8: 7 | I8: FORRO TIMON | L8: =+J8+K8 -> 0
A9: 8 | B9: FORROS SILLAS | C9: UNIDAD | F9: 0 | H9: 8 | I9: FORROS SILLAS | L9: =+J9+K9 -> 0
A10: 9 | B10: FUELLE AIRES PARA ASIENTO | C10: UNIDAD | F10: 0 | H10: 9 | I10: FUELLE AIRES PARA ASIENTO | L10: =+J10+K10 -> 0
A11: 10 | B11: FUELLE AIRES PARA CABINA | C11: UNIDAD | F11: 0 | H11: 10 | I11: FUELLE AIRES PARA CABINA | L11: =+J11+K11 -> 0
A12: 11 | B12: MANIJA PUERTA | C12: UNIDAD | F12: 0 | H12: 11 | I12: MANIJA PUERTA | L12: =+J12+K12 -> 0
A13: 12 | B13: PLUMILLAS | C13: JUEGO | F13: 0 | H13: 12 | I13: PLUMILLAS | L13: =+J13+K13 -> 0
... A460: 459 | B460: VENTILADOR ALTERNADOR | C460: UNIDAD | F460: 0 | H460: 459 | I460: SWITCH IGNICION | L460: =+J460+K460 -> 0
A461: TOTAL | F461: =SUM(F2:F460) -> 0 | H461: 460 | I461: TERMINAL DE OJO | L461: =+J461+K461 -> 0
H462: 461 | I462: TERMINAL MEDIDOR COMBUSTIBLE | L462: =+J462+K462 -> 0
H463: 462 | I463: VALVULA IAC (CONTROL DE AIRE AL RALENTI) | L463: =+J463+K463 -> 0
H464: 463 | I464: VENTILADOR ALTERNADOR | L464: =+J464+K464 -> 0
H465: 464 | I465: BOMBA COMBUSTIBLE (CON D/M TANQUE) | L465: =+J465+K465 -> 0
H466: 465 | I466: BOMBA COMBUSTIBLE (SIN D/M TANQUE) | L466: =+J466+K466 -> 0
H467: 466 | I467: D/M BOCIN | L467: =+J467+K467 -> 0
H468: 467 | I468: D/M BOMBA DE COMBUSTIBLE | L468: =+J468+K468 -> 0
H469: 468 | I469: D/M BOMBA DE INYECCION | L469: =+J469+K469 -> 0
H470: 469 | I470: D/M CARDAN | L470: =+J470+K470 -> 0
H471: 470 | I471: D/M COMPRESOR A/A | L471: =+J471+K471 -> 0
H472: 471 | I472: D/M CUERPO ACELERADOR (MANTENIMIENTO) | L472: =+J472+K472 -> 0
H473: 472 | I473: D/M DIFERENCIAL (CAJA ) | L473: =+J473+K473 -> 0
... H492: 491 | I492: REPARACION TRASMISION (INCLUYE D/M) | L492: =+J492+K492 -> 0
H493: 492 | I493: REVISIÓN TÉCNICO MECÁNICA | L493: 0
H494: TOTAL | L494: =SUM(L2:L493) -> 0
I496: Total Repuestos | J496: =+F461 -> 0
I497: Total mano de obra | J497: =+L494 -> 0
I498: GRAN TOTAL | J498: =+J496+J497 -> 0

Sheet OFK534
A1: ITEM | B1: REPUESTOS VEHÍCULOS | C1: UNIDADES | D1: VALOR UNITARIO | E1: IVA (Si aplica) | F1: TOTAL | H1: ITEM | I1: MANO DE OBRA | J1: VALOR UNITARIO | K1: IVA (Si aplica) | L1: TOTAL
A2: 1 | B2: AMORTIGUADOR SILLAS | C2: UNIDAD | F2: 0 | H2: 1 | I2: AMORTIGUADOR SILLAS | L2: =+J2+K2 -> 0
A3: 2 | B3: BIJIA RUEDA | C3: UNIDAD | F3: 0 | H3: 2 | I3: BIJIA RUEDA | L3: =+J3+K3 -> 0
A4: 3 | B4: BOSTER PUERTA | C4: CUARTO | F4: 0 | H4: 3 | I4: BOSTER PUERTA | L4: =+J4+K4 -> 0
A5: 4 | B5: BOTIQUIN | C5: CUARTO | F5: 0 | H5: 4 | I5: BOTIQUIN | L5: =+J5+K5 -> 0
A6: 5 | B6: CAMBIO SIGLAS | C6: CUARTO | F6: 0 | H6: 5 | I6: CAMBIO SIGLAS | L6: =+J6+K6 -> 0
A7: 6 | B7: CHAPA PUERTA | C7: CUARTO | F7: 0 | H7: 6 | I7: CHAPA PUERTA | L7: =+J7+K7 -> 0
A8: 7 | B8: FORRO TIMON | C8: CUARTO | F8: 0 | H8: 7 | I8: FORRO TIMON | L8: =+J8+K8 -> 0
A9: 8 | B9: FORROS SILLAS | C9: UNIDAD | F9: 0 | H9: 8 | I9: FORROS SILLAS | L9: =+J9+K9 -> 0
A10: 9 | B10: FUELLE AIRES PARA ASIENTO | C10: UNIDAD | F10: 0 | H10: 9 | I10: FUELLE AIRES PARA ASIENTO | L10: =+J10+K10 -> 0
A11: 10 | B11: FUELLE AIRES PARA CABINA | C11: UNIDAD | F11: 0 | H11: 10 | I11: FUELLE AIRES PARA CABINA | L11: =+J11+K11 -> 0
A12: 11 | B12: MANIJA PUERTA | C12: UNIDAD | F12: 0 | H12: 11 | I12: MANIJA PUERTA | L12: =+J12+K12 -> 0
A13: 12 | B13: PLUMILLAS | C13: JUEGO | F13: 0 | H13: 12 | I13: PLUMILLAS | L13: =+J13+K13 -> 0
... A460: 459 | B460: VENTILADOR ALTERNADOR | C460: UNIDAD | F460: 0 | H460: 459 | I460: SWITCH IGNICION | L460: =+J460+K460 -> 0
A461: TOTAL | F461: =SUM(F2:F460) -> 0 | H461: 460 | I461: TERMINAL DE OJO | L461: =+J461+K461 -> 0
H462: 461 | I462: TERMINAL MEDIDOR COMBUSTIBLE | L462: =+J462+K462 -> 0
H463: 462 | I463: VALVULA IAC (CONTROL DE AIRE AL RALENTI) | L463: =+J463+K463 -> 0
H464: 463 | I464: VENTILADOR ALTERNADOR | L464: =+J464+K464 -> 0
H465: 464 | I465: BOMBA COMBUSTIBLE (CON D/M TANQUE) | L465: =+J465+K465 -> 0
H466: 465 | I466: BOMBA COMBUSTIBLE (SIN D/M TANQUE) | L466: =+J466+K466 -> 0
H467: 466 | I467: D/M BOCIN | L467: =+J467+K467 -> 0
H468: 467 | I468: D/M BOMBA DE COMBUSTIBLE | L468: =+J468+K468 -> 0
H469: 468 | I469: D/M BOMBA DE INYECCION | L469: =+J469+K469 -> 0
H470: 469 | I470: D/M CARDAN | L470: =+J470+K470 -> 0
H471: 470 | I471: D/M COMPRESOR A/A | L471: =+J471+K471 -> 0
H472: 471 | I472: D/M CUERPO ACELERADOR (MANTENIMIENTO) | L472: =+J472+K472 -> 0
H473: 472 | I473: D/M DIFERENCIAL (CAJA ) | L473: =+J473+K473 -> 0
... H492: 491 | I492: REPARACION TRASMISION (INCLUYE D/M) | L492: =+J492+K492 -> 0
H493: 492 | I493: REVISIÓN TÉCNICO MECÁNICA | L493: 0
H494: TOTAL | L494: =SUM(L2:L493) -> 0
I496: Total Repuestos | J496: =+F461 -> 0
I497: Total mano de obra | J497: =+L494 -> 0
I498: GRAN TOTAL | J498: =+J496+J497 -> 0

Sheet OFK669
A1: ITEM | B1: REPUESTOS VEHÍCULOS | C1: UNIDADES | D1: VALOR UNITARIO | E1: IVA (Si aplica) | F1: TOTAL | H1: ITEM | I1: MANO DE OBRA | J1: VALOR UNITARIO | K1: IVA (Si aplica) | L1: TOTAL
A2: 1 | B2: AMORTIGUADOR SILLAS | C2: UNIDAD | F2: 0 | H2: 1 | I2: AMORTIGUADOR SILLAS | L2: =+J2+K2 -> 0
A3: 2 | B3: BIJIA RUEDA | C3: UNIDAD | F3: 0 | H3: 2 | I3: BIJIA RUEDA | L3: =+J3+K3 -> 0
A4: 3 | B4: BOSTER PUERTA | C4: CUARTO | F4: 0 | H4: 3 | I4: BOSTER PUERTA | L4: =+J4+K4 -> 0
A5: 4 | B5: BOTIQUIN | C5: CUARTO | F5: 0 | H5: 4 | I5: BOTIQUIN | L5: =+J5+K5 -> 0
A6: 5 | B6: CAMBIO SIGLAS | C6: CUARTO | F6: 0 | H6: 5 | I6: CAMBIO SIGLAS | L6: =+J6+K6 -> 0
A7: 6 | B7: CHAPA PUERTA | C7: CUARTO | F7: 0 | H7: 6 | I7: CHAPA PUERTA | L7: =+J7+K7 -> 0
A8: 7 | B8: FORRO TIMON | C8: CUARTO | F8: 0 | H8: 7 | I8: FORRO TIMON | L8: =+J8+K8 -> 0
A9: 8 | B9: FORROS SILLAS | C9: UNIDAD | F9: 0 | H9: 8 | I9: FORROS SILLAS | L9: =+J9+K9 -> 0
A10: 9 | B10: FUELLE AIRES PARA ASIENTO | C10: UNIDAD | F10: 0 | H10: 9 | I10: FUELLE AIRES PARA ASIENTO | L10: =+J10+K10 -> 0
A11: 10 | B11: FUELLE AIRES PARA CABINA | C11: UNIDAD | F11: 0 | H11: 10 | I11: FUELLE AIRES PARA CABINA | L11: =+J11+K11 -> 0
A12: 11 | B12: MANIJA PUERTA | C12: UNIDAD | F12: 0 | H12: 11 | I12: MANIJA PUERTA | L12: =+J12+K12 -> 0
A13: 12 | B13: PLUMILLAS | C13: JUEGO | F13: 0 | H13: 12 | I13: PLUMILLAS | L13: =+J13+K13 -> 0
... A460: 459 | B460: VENTILADOR ALTERNADOR | C460: UNIDAD | F460: 0 | H460: 459 | I460: SWITCH IGNICION | L460: =+J460+K460 -> 0
A461: TOTAL | F461: =SUM(F2:F460) -> 0 | H461: 460 | I461: TERMINAL DE OJO | L461: =+J461+K461 -> 0
H462: 461 | I462: TERMINAL MEDIDOR COMBUSTIBLE | L462: =+J462+K462 -> 0
H463: 462 | I463: VALVULA IAC (CONTROL DE AIRE AL RALENTI) | L463: =+J463+K463 -> 0
H464: 463 | I464: VENTILADOR ALTERNADOR | L464: =+J464+K464 -> 0
H465: 464 | I465: BOMBA COMBUSTIBLE (CON D/M TANQUE) | L465: =+J465+K465 -> 0
H466: 465 | I466: BOMBA COMBUSTIBLE (SIN D/M TANQUE) | L466: =+J466+K466 -> 0
H467: 466 | I467: D/M BOCIN | L467: =+J467+K467 -> 0
H468: 467 | I468: D/M BOMBA DE COMBUSTIBLE | L468: =+J468+K468 -> 0
H469: 468 | I469: D/M BOMBA DE INYECCION | L469: =+J469+K469 -> 0
H470: 469 | I470: D/M CARDAN | L470: =+J470+K470 -> 0
H471: 470 | I471: D/M COMPRESOR A/A | L471: =+J471+K471 -> 0
H472: 471 | I472: D/M CUERPO ACELERADOR (MANTENIMIENTO) | L472: =+J472+K472 -> 0
H473: 472 | I473: D/M DIFERENCIAL (CAJA ) | L473: =+J473+K473 -> 0
... H492: 491 | I492: REPARACION TRASMISION (INCLUYE D/M) | L492: =+J492+K492 -> 0
H493: 492 | I493: REVISIÓN TÉCNICO MECÁNICA | L493: 0
H494: TOTAL | L494: =SUM(L2:L493) -> 0
I496: Total Repuestos | J496: =+F461 -> 0
I497: Total mano de obra | J497: =+L494 -> 0
I498: GRAN TOTAL | J498: =+J496+J497 -> 0

Sheet JKX715
A1: ITEM | B1: REPUESTOS VEHÍCULOS | C1: UNIDADES | D1: VALOR UNITARIO | E1: IVA (Si aplica) | F1: TOTAL | H1: ITEM | I1: MANO DE OBRA | J1: VALOR UNITARIO | K1: IVA (Si aplica) | L1: TOTAL
A2: 1 | B2: AMORTIGUADOR SILLAS | C2: UNIDAD | F2: 0 | H2: 1 | I2: AMORTIGUADOR SILLAS | L2: =+J2+K2 -> 0
A3: 2 | B3: BIJIA RUEDA | C3: UNIDAD | F3: 0 | H3: 2 | I3: BIJIA RUEDA | L3: =+J3+K3 -> 0
A4: 3 | B4: BOSTER PUERTA | C4: CUARTO | F4: 0 | H4: 3 | I4: BOSTER PUERTA | L4: =+J4+K4 -> 0
A5: 4 | B5: BOTIQUIN | C5: CUARTO | F5: 0 | H5: 4 | I5: BOTIQUIN | L5: =+J5+K5 -> 0
A6: 5 | B6: CAMBIO SIGLAS | C6: CUARTO | F6: 0 | H6: 5 | I6: CAMBIO SIGLAS | L6: =+J6+K6 -> 0
A7: 6 | B7: CHAPA PUERTA | C7: CUARTO | F7: 0 | H7: 6 | I7: CHAPA PUERTA | L7: =+J7+K7 -> 0
A8: 7 | B8: FORRO TIMON | C8: CUARTO | F8: 0 | H8: 7 | I8: FORRO TIMON | L8: =+J8+K8 -> 0
A9: 8 | B9: FORROS SILLAS | C9: UNIDAD | F9: 0 | H9: 8 | I9: FORROS SILLAS | L9: =+J9+K9 -> 0
A10: 9 | B10: FUELLE AIRES PARA ASIENTO | C10: UNIDAD | F10: 0 | H10: 9 | I10: FUELLE AIRES PARA ASIENTO | L10: =+J10+K10 -> 0
A11: 10 | B11: FUELLE AIRES PARA CABINA | C11: UNIDAD | F11: 0 | H11: 10 | I11: FUELLE AIRES PARA CABINA | L11: =+J11+K11 -> 0
A12: 11 | B12: MANIJA PUERTA | C12: UNIDAD | F12: 0 | H12: 11 | I12: MANIJA PUERTA | L12: =+J12+K12 -> 0
A13: 12 | B13: PLUMILLAS | C13: JUEGO | F13: 0 | H13: 12 | I13: PLUMILLAS | L13: =+J13+K13 -> 0
... A460: 459 | B460: VENTILADOR ALTERNADOR | C460: UNIDAD | F460: 0 | H460: 459 | I460: SWITCH IGNICION | L460: =+J460+K460 -> 0
A461: TOTAL | F461: =SUM(F2:F460) -> 0 | H461: 460 | I461: TERMINAL DE OJO | L461: =+J461+K461 -> 0
H462: 461 | I462: TERMINAL MEDIDOR COMBUSTIBLE | L462: =+J462+K462 -> 0
H463: 462 | I463: VALVULA IAC (CONTROL DE AIRE AL RALENTI) | L463: =+J463+K463 -> 0
H464: 463 | I464: VENTILADOR ALTERNADOR | L464: =+J464+K464 -> 0
H465: 464 | I465: BOMBA COMBUSTIBLE (CON D/M TANQUE) | L465: =+J465+K465 -> 0
H466: 465 | I466: BOMBA COMBUSTIBLE (SIN D/M TANQUE) | L466: =+J466+K466 -> 0
H467: 466 | I467: D/M BOCIN | L467: =+J467+K467 -> 0
H468: 467 | I468: D/M BOMBA DE COMBUSTIBLE | L468: =+J468+K468 -> 0
H469: 468 | I469: D/M BOMBA DE INYECCION | L469: =+J469+K469 -> 0
H470: 469 | I470: D/M CARDAN | L470: =+J470+K470 -> 0
H471: 470 | I471: D/M COMPRESOR A/A | L471: =+J471+K471 -> 0
H472: 471 | I472: D/M CUERPO ACELERADOR (MANTENIMIENTO) | L472: =+J472+K472 -> 0
H473: 472 | I473: D/M DIFERENCIAL (CAJA ) | L473: =+J473+K473 -> 0
... H492: 491 | I492: REPARACION TRASMISION (INCLUYE D/M) | L492: =+J492+K492 -> 0
H493: 492 | I493: REVISIÓN TÉCNICO MECÁNICA | L493: 0
H494: TOTAL | L494: =SUM(L2:L493) -> 0
I496: Total Repuestos | J496: =+F461 -> 0
I497: Total mano de obra | J497: =+L494 -> 0
I498: GRAN TOTAL | J498: =+J496+J497 -> 0

Sheet OFK526
A1: ITEM | B1: REPUESTOS VEHÍCULOS | C1: UNIDADES | D1: VALOR UNITARIO | E1: IVA (Si aplica) | F1: TOTAL | H1: ITEM | I1: MANO DE OBRA | J1: VALOR UNITARIO | K1: IVA (Si aplica) | L1: TOTAL
A2: 1 | B2: ABRAZADERA BARRA ESTABILIZADORA | C2: UNIDAD | F2: =+D2+E2 -> 0 | H2: 1 | I2: ABRAZADERA BARRA ESTABILIZADORA | L2: =+J2+K2 -> 0
A3: 2 | B3: ABRAZADERAS RADIADOR | C3: UNIDAD | F3: =+D3+E3 -> 0 | H3: 2 | I3: ABRAZADERAS RADIADOR | L3: =+J3+K3 -> 0
A4: 3 | B4: ACEITE COMPRESOR | C4: CUARTO | F4: =+D4+E4 -> 0 | H4: 3 | I4: ACEITE COMPRESOR | L4: =+J4+K4 -> 0
A5: 4 | B5: ACEITE HIDRAULICO | C5: CUARTO | F5: =+D5+E5 -> 0 | H5: 4 | I5: ACEITE HIDRAULICO | L5: =+J5+K5 -> 0
A6: 5 | B6: ACEITE MOTOR | C6: CUARTO | F6: =+D6+E6 -> 0 | H6: 5 | I6: ACEITE MOTOR | L6: =+J6+K6 -> 0
A7: 6 | B7: ACEITE MOTOR SINTETICO | C7: CUARTO | F7: =+D7+E7 -> 0 | H7: 6 | I7: ACEITE MOTOR SINTETICO | L7: =+J7+K7 -> 0
A8: 7 | B8: ACEITE MOTOR X 1 CUARTO | C8: CUARTO | F8: =+D8+E8 -> 0 | H8: 7 | I8: ACEITE MOTOR X 1 CUARTO | L8: =+J8+K8 -> 0
A9: 8 | B9: AJUSTADOR BANDAS DE FRENO | C9: UNIDAD | F9: =+D9+E9 -> 0 | H9: 8 | I9: AJUSTADOR BANDAS DE FRENO | L9: =+J9+K9 -> 0
A10: 9 | B10: ALTERNADOR | C10: UNIDAD | F10: =+D10+E10 -> 0 | H10: 9 | I10: ALTERNADOR | L10: =+J10+K10 -> 0
A11: 10 | B11: ALTERNADOR AIRE ACONDICIONADO | C11: UNIDAD | F11: =+D11+E11 -> 0 | H11: 10 | I11: ALTERNADOR AIRE ACONDICIONADO | L11: =+J11+K11 -> 0
A12: 11 | B12: AMORTIGUADOR CAPOT | C12: UNIDAD | F12: =+D12+E12 -> 0 | H12: 11 | I12: AMORTIGUADOR CAPOT | L12: =+J12+K12 -> 0
A13: 12 | B13: AMORTIGUADOR DELANTERO | C13: JUEGO | F13: =+D13+E13 -> 0 | H13: 12 | I13: AMORTIGUADOR DELANTERO | L13: =+J13+K13 -> 0
... A610: 609 | B610: YUGO DESLISANTE BARRA CARDAN | C610: UNIDAD | F610: =+D610+E610 -> 0 | H610: 609 | I610: YUGO DESLISANTE BARRA CARDAN | L610: =+J610+K610 -> 0
A611: TOTAL | F611: =SUM(F2:F610) -> 0 | H611: 610 | I611: ALINEACION LUCES | L611: =+J611+K611 -> 0
H612: 611 | I612: ALINEACION DE LLANTAS | L612: =+J612+K612 -> 0
H613: 612 | I613: BALANCEO DE LLANTAS | L613: =+J613+K613 -> 0
H614: 613 | I614: CALIBRACION DE INYECTORES | L614: =+J614+K614 -> 0
H615: 614 | I615: DESMONTAR Y MONTAR BOCIN | L615: =+J615+K615 -> 0
H616: 615 | I616: DESMONTAR Y MONTAR BOMBA DE COMBUSTIBLE | L616: =+J616+K616 -> 0
H617: 616 | I617: DESMONTAR Y MONTAR COMPRESOR A/A | L617: =+J617+K617 -> 0
H618: 617 | I618: DESMONTAR Y MONTAR DIFERENCIAL (CAJA) | L618: =+J618+K618 -> 0
H619: 618 | I619: DESMONTAR Y MONTAR RADIADOR CON MANGUERAS | L619: =+J619+K619 -> 0
H620: 619 | I620: DESMONTAR Y MONTAR RIEL DE INYECTORES E INYECTORES | L620: =+J620+K620 -> 0
H621: 620 | I621: DESMONTAR Y MONTAR SELECTOR CAMBIOS | L621: =+J621+K621 -> 0
H622: 621 | I622: DESMONTAR Y MONTAR TANQUE COMBUSTIBLE | L622: =+J622+K622 -> 0
H623: 622 | I623: DESMONTAR Y MONTAR TAPIZADO PUERTA | L623: =+J623+K623 -> 0
... H666: 665 | I666: REVISIÓN TÉCNICO MECÁNICA | L666: =+J666+K666 -> 0
H667: TOTAL | L667: =SUM(L2:L666) -> 0
I669: Total Repuestos | J669: =+F611 -> 0
I670: Total mano de obra | J670: =+L667 -> 0
I671: GRAN TOTAL | J671: =+J669+J670 -> 0

Sheet OFK702
A1: ITEM | B1: REPUESTOS VEHÍCULOS | C1: UNIDADES | D1: VALOR UNITARIO | E1: IVA (Si aplica) | F1: TOTAL | H1: ITEM | I1: MANO DE OBRA | J1: VALOR UNITARIO | K1: IVA (Si aplica) | L1: TOTAL
A2: 1 | B2: ABRAZADERA BARRA ESTABILIZADORA | C2: UNIDAD | F2: =+D2+E2 -> 0 | H2: 1 | I2: ABRAZADERA BARRA ESTABILIZADORA | L2: =+J2+K2 -> 0
A3: 2 | B3: ABRAZADERAS RADIADOR | C3: UNIDAD | F3: =+D3+E3 -> 0 | H3: 2 | I3: ABRAZADERAS RADIADOR | L3: =+J3+K3 -> 0
A4: 3 | B4: ACEITE COMPRESOR | C4: CUARTO | F4: =+D4+E4 -> 0 | H4: 3 | I4: ACEITE COMPRESOR | L4: =+J4+K4 -> 0
A5: 4 | B5: ACEITE HIDRAULICO | C5: CUARTO | F5: =+D5+E5 -> 0 | H5: 4 | I5: ACEITE HIDRAULICO | L5: =+J5+K5 -> 0
A6: 5 | B6: ACEITE MOTOR | C6: CUARTO | F6: =+D6+E6 -> 0 | H6: 5 | I6: ACEITE MOTOR | L6: =+J6+K6 -> 0
A7: 6 | B7: ACEITE MOTOR SINTETICO | C7: CUARTO | F7: =+D7+E7 -> 0 | H7: 6 | I7: ACEITE MOTOR SINTETICO | L7: =+J7+K7 -> 0
A8: 7 | B8: ACEITE MOTOR X 1 CUARTO | C8: CUARTO | F8: =+D8+E8 -> 0 | H8: 7 | I8: ACEITE MOTOR X 1 CUARTO | L8: =+J8+K8 -> 0
A9: 8 | B9: AJUSTADOR BANDAS DE FRENO | C9: UNIDAD | F9: =+D9+E9 -> 0 | H9: 8 | I9: AJUSTADOR BANDAS DE FRENO | L9: =+J9+K9 -> 0
A10: 9 | B10: ALTERNADOR | C10: UNIDAD | F10: =+D10+E10 -> 0 | H10: 9 | I10: ALTERNADOR | L10: =+J10+K10 -> 0
A11: 10 | B11: ALTERNADOR AIRE ACONDICIONADO | C11: UNIDAD | F11: =+D11+E11 -> 0 | H11: 10 | I11: ALTERNADOR AIRE ACONDICIONADO | L11: =+J11+K11 -> 0
A12: 11 | B12: AMORTIGUADOR CAPOT | C12: UNIDAD | F12: =+D12+E12 -> 0 | H12: 11 | I12: AMORTIGUADOR CAPOT | L12: =+J12+K12 -> 0
A13: 12 | B13: AMORTIGUADOR DELANTERO | C13: JUEGO | F13: =+D13+E13 -> 0 | H13: 12 | I13: AMORTIGUADOR DELANTERO | L13: =+J13+K13 -> 0
... A610: 609 | B610: YUGO DESLISANTE BARRA CARDAN | C610: UNIDAD | F610: =+D610+E610 -> 0 | H610: 609 | I610: YUGO DESLISANTE BARRA CARDAN | L610: =+J610+K610 -> 0
H611: 610 | I611: ALINEACION LUCES | L611: =+J611+K611 -> 0
A612: TOTAL | F612: =SUM(F2:F611) -> 0 | H612: 611 | I612: ALINEACION DE LLANTAS | L612: =+J612+K612 -> 0
H613: 612 | I613: BALANCEO DE LLANTAS | L613: =+J613+K613 -> 0
H614: 613 | I614: CALIBRACION DE INYECTORES | L614: =+J614+K614 -> 0
H615: 614 | I615: DESMONTAR Y MONTAR BOCIN | L615: =+J615+K615 -> 0
H616: 615 | I616: DESMONTAR Y MONTAR BOMBA DE COMBUSTIBLE | L616: =+J616+K616 -> 0
H617: 616 | I617: DESMONTAR Y MONTAR COMPRESOR A/A | L617: =+J617+K617 -> 0
H618: 617 | I618: DESMONTAR Y MONTAR DIFERENCIAL (CAJA) | L618: =+J618+K618 -> 0
H619: 618 | I619: DESMONTAR Y MONTAR RADIADOR CON MANGUERAS | L619: =+J619+K619 -> 0
H620: 619 | I620: DESMONTAR Y MONTAR RIEL DE INYECTORES E INYECTORES | L620: =+J620+K620 -> 0
H621: 620 | I621: DESMONTAR Y MONTAR SELECTOR CAMBIOS | L621: =+J621+K621 -> 0
H622: 621 | I622: DESMONTAR Y MONTAR TANQUE COMBUSTIBLE | L622: =+J622+K622 -> 0
H623: 622 | I623: DESMONTAR Y MONTAR TAPIZADO PUERTA | L623: =+J623+K623 -> 0
H624: 623 | I624: DESPINCHE RUEDA | L624: =+J624+K624 -> 0
... H666: 665 | I666: REVISIÓN TÉCNICO MECÁNICA | L666: =+J666+K666 -> 0
H667: TOTAL | L667: =SUM(L2:L666) -> 0
I669: Total Repuestos | J669: =+F612 -> 0
I670: Total mano de obra | J670: =+L667 -> 0
I671: GRAN TOTAL | J671: =+J669+J670 -> 0

Sheet OFK601
A1: ITEM | B1: REPUESTOS VEHÍCULOS | C1: UNIDADES | D1: VALOR UNITARIO | E1: IVA (Si aplica) | F1: TOTAL | H1: ITEM | I1: MANO DE OBRA | J1: VALOR UNITARIO | K1: IVA (Si aplica) | L1: TOTAL
A2: 1 | B2: ABRAZADERA BARRA ESTABILIZADORA | C2: UNIDAD | F2: =+D2+E2 -> 0 | H2: 1 | I2: ABRAZADERA BARRA ESTABILIZADORA | L2: =+J2+K2 -> 0
A3: 2 | B3: ABRAZADERAS RADIADOR | C3: UNIDAD | F3: =+D3+E3 -> 0 | H3: 2 | I3: ABRAZADERAS RADIADOR | L3: =+J3+K3 -> 0
A4: 3 | B4: ACEITE COMPRESOR | C4: CUARTO | F4: =+D4+E4 -> 0 | H4: 3 | I4: ACEITE COMPRESOR | L4: =+J4+K4 -> 0
A5: 4 | B5: ACEITE HIDRAULICO | C5: CUARTO | F5: =+D5+E5 -> 0 | H5: 4 | I5: ACEITE HIDRAULICO | L5: =+J5+K5 -> 0
A6: 5 | B6: ACEITE MOTOR | C6: CUARTO | F6: =+D6+E6 -> 0 | H6: 5 | I6: ACEITE MOTOR | L6: =+J6+K6 -> 0
A7: 6 | B7: ACEITE MOTOR SINTETICO | C7: CUARTO | F7: =+D7+E7 -> 0 | H7: 6 | I7: ACEITE MOTOR SINTETICO | L7: =+J7+K7 -> 0
A8: 7 | B8: ACEITE MOTOR X 1 CUARTO | C8: CUARTO | F8: =+D8+E8 -> 0 | H8: 7 | I8: ACEITE MOTOR X 1 CUARTO | L8: =+J8+K8 -> 0
A9: 8 | B9: AJUSTADOR BANDAS DE FRENO | C9: UNIDAD | F9: =+D9+E9 -> 0 | H9: 8 | I9: AJUSTADOR BANDAS DE FRENO | L9: =+J9+K9 -> 0
A10: 9 | B10: ALTERNADOR | C10: UNIDAD | F10: =+D10+E10 -> 0 | H10: 9 | I10: ALTERNADOR | L10: =+J10+K10 -> 0
A11: 10 | B11: ALTERNADOR AIRE ACONDICIONADO | C11: UNIDAD | F11: =+D11+E11 -> 0 | H11: 10 | I11: ALTERNADOR AIRE ACONDICIONADO | L11: =+J11+K11 -> 0
A12: 11 | B12: AMORTIGUADOR CAPOT | C12: UNIDAD | F12: =+D12+E12 -> 0 | H12: 11 | I12: AMORTIGUADOR CAPOT | L12: =+J12+K12 -> 0
A13: 12 | B13: AMORTIGUADOR DELANTERO | C13: JUEGO | F13: =+D13+E13 -> 0 | H13: 12 | I13: AMORTIGUADOR DELANTERO | L13: =+J13+K13 -> 0
... A610: 609 | B610: YUGO DESLISANTE BARRA CARDAN | C610: UNIDAD | F610: =+D610+E610 -> 0 | H610: 609 | I610: YUGO DESLISANTE BARRA CARDAN | L610: =+J610+K610 -> 0
A611: TOTAL | F611: =SUM(F2:F610) -> 0 | H611: 610 | I611: ALINEACION LUCES | L611: =+J611+K611 -> 0
H612: 611 | I612: ALINEACION DE LLANTAS | L612: =+J612+K612 -> 0
H613: 612 | I613: BALANCEO DE LLANTAS | L613: =+J613+K613 -> 0
H614: 613 | I614: CALIBRACION DE INYECTORES | L614: =+J614+K614 -> 0
H615: 614 | I615: DESMONTAR Y MONTAR BOCIN | L615: =+J615+K615 -> 0
H616: 615 | I616: DESMONTAR Y MONTAR BOMBA DE COMBUSTIBLE | L616: =+J616+K616 -> 0
H617: 616 | I617: DESMONTAR Y MONTAR COMPRESOR A/A | L617: =+J617+K617 -> 0
H618: 617 | I618: DESMONTAR Y MONTAR DIFERENCIAL (CAJA) | L618: =+J618+K618 -> 0
H619: 618 | I619: DESMONTAR Y MONTAR RADIADOR CON MANGUERAS | L619: =+J619+K619 -> 0
H620: 619 | I620: DESMONTAR Y MONTAR RIEL DE INYECTORES E INYECTORES | L620: =+J620+K620 -> 0
H621: 620 | I621: DESMONTAR Y MONTAR SELECTOR CAMBIOS | L621: =+J621+K621 -> 0
H622: 621 | I622: DESMONTAR Y MONTAR TANQUE COMBUSTIBLE | L622: =+J622+K622 -> 0
H623: 622 | I623: DESMONTAR Y MONTAR TAPIZADO PUERTA | L623: =+J623+K623 -> 0
... H666: 665 | I666: REVISIÓN TÉCNICO MECÁNICA | L666: =+J666+K666 -> 0
H667: TOTAL | L667: =SUM(L2:L666) -> 0
I669: Total Repuestos | J669: =+F611 -> 0
I670: Total mano de obra | J670: =+L667 -> 0
I671: GRAN TOTAL | J671: =+J669+J670 -> 0

Sheet OFK430
A1: ITEM | B1: REPUESTOS VEHÍCULOS | C1: UNIDADES | D1: VALOR UNITARIO | E1: IVA (Si aplica) | F1: TOTAL | H1: ITEM | I1: MANO DE OBRA | J1: VALOR UNITARIO | K1: IVA (Si aplica) | L1: TOTAL
A2: 1 | B2: ABRAZADERA BARRA ESTABILIZADORA | C2: UNIDAD | F2: =+D2+E2 -> 0 | H2: 1 | I2: ABRAZADERA BARRA ESTABILIZADORA | L2: =+J2+K2 -> 0
A3: 2 | B3: ABRAZADERAS RADIADOR | C3: UNIDAD | F3: =+D3+E3 -> 0 | H3: 2 | I3: ABRAZADERAS RADIADOR | L3: =+J3+K3 -> 0
A4: 3 | B4: ACEITE COMPRESOR | C4: CUARTO | F4: =+D4+E4 -> 0 | H4: 3 | I4: ACEITE COMPRESOR | L4: =+J4+K4 -> 0
A5: 4 | B5: ACEITE HIDRAULICO | C5: CUARTO | F5: =+D5+E5 -> 0 | H5: 4 | I5: ACEITE HIDRAULICO | L5: =+J5+K5 -> 0
A6: 5 | B6: ACEITE MOTOR | C6: CUARTO | F6: =+D6+E6 -> 0 | H6: 5 | I6: ACEITE MOTOR | L6: =+J6+K6 -> 0
A7: 6 | B7: ACEITE MOTOR SINTETICO | C7: CUARTO | F7: =+D7+E7 -> 0 | H7: 6 | I7: ACEITE MOTOR SINTETICO | L7: =+J7+K7 -> 0
A8: 7 | B8: ACEITE MOTOR X 1 CUARTO | C8: CUARTO | F8: =+D8+E8 -> 0 | H8: 7 | I8: ACEITE MOTOR X 1 CUARTO | L8: =+J8+K8 -> 0
A9: 8 | B9: AJUSTADOR BANDAS DE FRENO | C9: UNIDAD | F9: =+D9+E9 -> 0 | H9: 8 | I9: AJUSTADOR BANDAS DE FRENO | L9: =+J9+K9 -> 0
A10: 9 | B10: ALTERNADOR | C10: UNIDAD | F10: =+D10+E10 -> 0 | H10: 9 | I10: ALTERNADOR | L10: =+J10+K10 -> 0
A11: 10 | B11: ALTERNADOR AIRE ACONDICIONADO | C11: UNIDAD | F11: =+D11+E11 -> 0 | H11: 10 | I11: ALTERNADOR AIRE ACONDICIONADO | L11: =+J11+K11 -> 0
A12: 11 | B12: AMORTIGUADOR CAPOT | C12: UNIDAD | F12: =+D12+E12 -> 0 | H12: 11 | I12: AMORTIGUADOR CAPOT | L12: =+J12+K12 -> 0
A13: 12 | B13: AMORTIGUADOR DELANTERO | C13: JUEGO | F13: =+D13+E13 -> 0 | H13: 12 | I13: AMORTIGUADOR DELANTERO | L13: =+J13+K13 -> 0
... A610: 609 | B610: YUGO DESLISANTE BARRA CARDAN | C610: UNIDAD | F610: =+D610+E610 -> 0 | H610: 609 | I610: YUGO DESLISANTE BARRA CARDAN | L610: =+J610+K610 -> 0
A611: TOTAL | F611: =SUM(F2:F610) -> 0 | H611: 610 | I611: ALINEACION LUCES | L611: =+J611+K611 -> 0
H612: 611 | I612: ALINEACION DE LLANTAS | L612: =+J612+K612 -> 0
H613: 612 | I613: BALANCEO DE LLANTAS | L613: =+J613+K613 -> 0
H614: 613 | I614: CALIBRACION DE INYECTORES | L614: =+J614+K614 -> 0
H615: 614 | I615: DESMONTAR Y MONTAR BOCIN | L615: =+J615+K615 -> 0
H616: 615 | I616: DESMONTAR Y MONTAR BOMBA DE COMBUSTIBLE | L616: =+J616+K616 -> 0
H617: 616 | I617: DESMONTAR Y MONTAR COMPRESOR A/A | L617: =+J617+K617 -> 0
H618: 617 | I618: DESMONTAR Y MONTAR DIFERENCIAL (CAJA) | L618: =+J618+K618 -> 0
H619: 618 | I619: DESMONTAR Y MONTAR RADIADOR CON MANGUERAS | L619: =+J619+K619 -> 0
H620: 619 | I620: DESMONTAR Y MONTAR RIEL DE INYECTORES E INYECTORES | L620: =+J620+K620 -> 0
H621: 620 | I621: DESMONTAR Y MONTAR SELECTOR CAMBIOS | L621: =+J621+K621 -> 0
H622: 621 | I622: DESMONTAR Y MONTAR TANQUE COMBUSTIBLE | L622: =+J622+K622 -> 0
H623: 622 | I623: DESMONTAR Y MONTAR TAPIZADO PUERTA | L623: =+J623+K623 -> 0
... H666: 665 | I666: REVISIÓN TÉCNICO MECÁNICA | L666: =+J666+K666 -> 0
H667: TOTAL | L667: =SUM(L2:L666) -> 0
I669: Total Repuestos | J669: =+F611 -> 0
I670: Total mano de obra | J670: =+L667 -> 0
I671: GRAN TOTAL | J671: =+J669+J670 -> 0

Sheet OFK432
A1: ITEM | B1: REPUESTOS VEHÍCULOS | C1: UNIDADES | D1: VALOR UNITARIO | E1: IVA (Si aplica) | F1: TOTAL | H1: ITEM | I1: MANO DE OBRA | J1: VALOR UNITARIO | K1: IVA (Si aplica) | L1: TOTAL
A2: 1 | B2: ABRAZADERA BARRA ESTABILIZADORA | C2: UNIDAD | F2: =+D2+E2 -> 0 | H2: 1 | I2: ABRAZADERA BARRA ESTABILIZADORA | L2: =+J2+K2 -> 0
A3: 2 | B3: ABRAZADERAS RADIADOR | C3: UNIDAD | F3: =+D3+E3 -> 0 | H3: 2 | I3: ABRAZADERAS RADIADOR | L3: =+J3+K3 -> 0
A4: 3 | B4: ACEITE COMPRESOR | C4: CUARTO | F4: =+D4+E4 -> 0 | H4: 3 | I4: ACEITE COMPRESOR | L4: =+J4+K4 -> 0
A5: 4 | B5: ACEITE HIDRAULICO | C5: CUARTO | F5: =+D5+E5 -> 0 | H5: 4 | I5: ACEITE HIDRAULICO | L5: =+J5+K5 -> 0
A6: 5 | B6: ACEITE MOTOR | C6: CUARTO | F6: =+D6+E6 -> 0 | H6: 5 | I6: ACEITE MOTOR | L6: =+J6+K6 -> 0
A7: 6 | B7: ACEITE MOTOR SINTETICO | C7: CUARTO | F7: =+D7+E7 -> 0 | H7: 6 | I7: ACEITE MOTOR SINTETICO | L7: =+J7+K7 -> 0
A8: 7 | B8: ACEITE MOTOR X 1 CUARTO | C8: CUARTO | F8: =+D8+E8 -> 0 | H8: 7 | I8: ACEITE MOTOR X 1 CUARTO | L8: =+J8+K8 -> 0
A9: 8 | B9: AJUSTADOR BANDAS DE FRENO | C9: UNIDAD | F9: =+D9+E9 -> 0 | H9: 8 | I9: AJUSTADOR BANDAS DE FRENO | L9: =+J9+K9 -> 0
A10: 9 | B10: ALTERNADOR | C10: UNIDAD | F10: =+D10+E10 -> 0 | H10: 9 | I10: ALTERNADOR | L10: =+J10+K10 -> 0
A11: 10 | B11: ALTERNADOR AIRE ACONDICIONADO | C11: UNIDAD | F11: =+D11+E11 -> 0 | H11: 10 | I11: ALTERNADOR AIRE ACONDICIONADO | L11: =+J11+K11 -> 0
A12: 11 | B12: AMORTIGUADOR CAPOT | C12: UNIDAD | F12: =+D12+E12 -> 0 | H12: 11 | I12: AMORTIGUADOR CAPOT | L12: =+J12+K12 -> 0
A13: 12 | B13: AMORTIGUADOR DELANTERO | C13: JUEGO | F13: =+D13+E13 -> 0 | H13: 12 | I13: AMORTIGUADOR DELANTERO | L13: =+J13+K13 -> 0
... A610: 609 | B610: YUGO DESLISANTE BARRA CARDAN | C610: UNIDAD | F610: =+D610+E610 -> 0 | H610: 609 | I610: YUGO DESLISANTE BARRA CARDAN | L610: =+J610+K610 -> 0
A611: TOTAL | F611: =SUM(F2:F610) -> 0 | H611: 610 | I611: ALINEACION LUCES | L611: =+J611+K611 -> 0
H612: 611 | I612: ALINEACION DE LLANTAS | L612: =+J612+K612 -> 0
H613: 612 | I613: BALANCEO DE LLANTAS | L613: =+J613+K613 -> 0
H614: 613 | I614: CALIBRACION DE INYECTORES | L614: =+J614+K614 -> 0
H615: 614 | I615: DESMONTAR Y MONTAR BOCIN | L615: =+J615+K615 -> 0
H616: 615 | I616: DESMONTAR Y MONTAR BOMBA DE COMBUSTIBLE | L616: =+J616+K616 -> 0
H617: 616 | I617: DESMONTAR Y MONTAR COMPRESOR A/A | L617: =+J617+K617 -> 0
H618: 617 | I618: DESMONTAR Y MONTAR DIFERENCIAL (CAJA) | L618: =+J618+K618 -> 0
H619: 618 | I619: DESMONTAR Y MONTAR RADIADOR CON MANGUERAS | L619: =+J619+K619 -> 0
H620: 619 | I620: DESMONTAR Y MONTAR RIEL DE INYECTORES E INYECTORES | L620: =+J620+K620 -> 0
H621: 620 | I621: DESMONTAR Y MONTAR SELECTOR CAMBIOS | L621: =+J621+K621 -> 0
H622: 621 | I622: DESMONTAR Y MONTAR TANQUE COMBUSTIBLE | L622: =+J622+K622 -> 0
H623: 622 | I623: DESMONTAR Y MONTAR TAPIZADO PUERTA | L623: =+J623+K623 -> 0
... H666: 665 | I666: REVISIÓN TÉCNICO MECÁNICA | L666: =+J666+K666 -> 0
H667: TOTAL | L667: =SUM(L2:L666) -> 0
I669: Total Repuestos | J669: =+F611 -> 0
I670: Total mano de obra | J670: =+L667 -> 0
I671: GRAN TOTAL | J671: =+J669+J670 -> 0

Sheet OFK452
A1: ITEM | B1: REPUESTOS VEHÍCULOS | C1: UNIDADES | D1: VALOR UNITARIO | E1: IVA (Si aplica) | F1: TOTAL | H1: ITEM | I1: MANO DE OBRA | J1: VALOR UNITARIO | K1: IVA (Si aplica) | L1: TOTAL
A2: 1 | B2: ABRAZADERA BARRA ESTABILIZADORA | C2: UNIDAD | F2: =+D2+E2 -> 0 | H2: 1 | I2: ABRAZADERA BARRA ESTABILIZADORA | L2: =+J2+K2 -> 0
A3: 2 | B3: ABRAZADERAS RADIADOR | C3: UNIDAD | F3: =+D3+E3 -> 0 | H3: 2 | I3: ABRAZADERAS RADIADOR | L3: =+J3+K3 -> 0
A4: 3 | B4: ACEITE COMPRESOR | C4: CUARTO | F4: =+D4+E4 -> 0 | H4: 3 | I4: ACEITE COMPRESOR | L4: =+J4+K4 -> 0
A5: 4 | B5: ACEITE HIDRAULICO | C5: CUARTO | F5: =+D5+E5 -> 0 | H5: 4 | I5: ACEITE HIDRAULICO | L5: =+J5+K5 -> 0
A6: 5 | B6: ACEITE MOTOR | C6: CUARTO | F6: =+D6+E6 -> 0 | H6: 5 | I6: ACEITE MOTOR | L6: =+J6+K6 -> 0
A7: 6 | B7: ACEITE MOTOR SINTETICO | C7: CUARTO | F7: =+D7+E7 -> 0 | H7: 6 | I7: ACEITE MOTOR SINTETICO | L7: =+J7+K7 -> 0
A8: 7 | B8: ACEITE MOTOR X 1 CUARTO | C8: CUARTO | F8: =+D8+E8 -> 0 | H8: 7 | I8: ACEITE MOTOR X 1 CUARTO | L8: =+J8+K8 -> 0
A9: 8 | B9: AJUSTADOR BANDAS DE FRENO | C9: UNIDAD | F9: =+D9+E9 -> 0 | H9: 8 | I9: AJUSTADOR BANDAS DE FRENO | L9: =+J9+K9 -> 0
A10: 9 | B10: ALTERNADOR | C10: UNIDAD | F10: =+D10+E10 -> 0 | H10: 9 | I10: ALTERNADOR | L10: =+J10+K10 -> 0
A11: 10 | B11: ALTERNADOR AIRE ACONDICIONADO | C11: UNIDAD | F11: =+D11+E11 -> 0 | H11: 10 | I11: ALTERNADOR AIRE ACONDICIONADO | L11: =+J11+K11 -> 0
A12: 11 | B12: AMORTIGUADOR CAPOT | C12: UNIDAD | F12: =+D12+E12 -> 0 | H12: 11 | I12: AMORTIGUADOR CAPOT | L12: =+J12+K12 -> 0
A13: 12 | B13: AMORTIGUADOR DELANTERO | C13: JUEGO | F13: =+D13+E13 -> 0 | H13: 12 | I13: AMORTIGUADOR DELANTERO | L13: =+J13+K13 -> 0
... A610: 609 | B610: YUGO DESLISANTE BARRA CARDAN | C610: UNIDAD | F610: =+D610+E610 -> 0 | H610: 609 | I610: YUGO DESLISANTE BARRA CARDAN | L610: =+J610+K610 -> 0
A611: TOTAL | F611: =SUM(F2:F610) -> 0 | H611: 610 | I611: ALINEACION LUCES | L611: =+J611+K611 -> 0
H612: 611 | I612: ALINEACION DE LLANTAS | L612: =+J612+K612 -> 0
H613: 612 | I613: BALANCEO DE LLANTAS | L613: =+J613+K613 -> 0
H614: 613 | I614: CALIBRACION DE INYECTORES | L614: =+J614+K614 -> 0
H615: 614 | I615: DESMONTAR Y MONTAR BOCIN | L615: =+J615+K615 -> 0
H616: 615 | I616: DESMONTAR Y MONTAR BOMBA DE COMBUSTIBLE | L616: =+J616+K616 -> 0
H617: 616 | I617: DESMONTAR Y MONTAR COMPRESOR A/A | L617: =+J617+K617 -> 0
H618: 617 | I618: DESMONTAR Y MONTAR DIFERENCIAL (CAJA) | L618: =+J618+K618 -> 0
H619: 618 | I619: DESMONTAR Y MONTAR RADIADOR CON MANGUERAS | L619: =+J619+K619 -> 0
H620: 619 | I620: DESMONTAR Y MONTAR RIEL DE INYECTORES E INYECTORES | L620: =+J620+K620 -> 0
H621: 620 | I621: DESMONTAR Y MONTAR SELECTOR CAMBIOS | L621: =+J621+K621 -> 0
H622: 621 | I622: DESMONTAR Y MONTAR TANQUE COMBUSTIBLE | L622: =+J622+K622 -> 0
H623: 622 | I623: DESMONTAR Y MONTAR TAPIZADO PUERTA | L623: =+J623+K623 -> 0
... H666: 665 | I666: REVISIÓN TÉCNICO MECÁNICA | L666: =+J666+K666 -> 0
H667: TOTAL | L667: =SUM(L2:L666) -> 0
I669: Total Repuestos | J669: =+F611 -> 0
I670: Total mano de obra | J670: =+L667 -> 0
I671: GRAN TOTAL | J671: =+J669+J670 -> 0

Sheet OFK477
A1: ITEM | B1: REPUESTOS VEHÍCULOS | C1: UNIDADES | D1: VALOR UNITARIO | E1: IVA (Si aplica) | F1: TOTAL | H1: ITEM | I1: MANO DE OBRA | J1: VALOR UNITARIO | K1: IVA (Si aplica) | L1: TOTAL
A2: 1 | B2: ABRAZADERA BARRA ESTABILIZADORA | C2: UNIDAD | F2: =+D2+E2 -> 0 | H2: 1 | I2: ABRAZADERA BARRA ESTABILIZADORA | L2: =+J2+K2 -> 0
A3: 2 | B3: ABRAZADERAS RADIADOR | C3: UNIDAD | F3: =+D3+E3 -> 0 | H3: 2 | I3: ABRAZADERAS RADIADOR | L3: =+J3+K3 -> 0
A4: 3 | B4: ACEITE COMPRESOR | C4: CUARTO | F4: =+D4+E4 -> 0 | H4: 3 | I4: ACEITE COMPRESOR | L4: =+J4+K4 -> 0
A5: 4 | B5: ACEITE HIDRAULICO | C5: CUARTO | F5: =+D5+E5 -> 0 | H5: 4 | I5: ACEITE HIDRAULICO | L5: =+J5+K5 -> 0
A6: 5 | B6: ACEITE MOTOR | C6: CUARTO | F6: =+D6+E6 -> 0 | H6: 5 | I6: ACEITE MOTOR | L6: =+J6+K6 -> 0
A7: 6 | B7: ACEITE MOTOR SINTETICO | C7: CUARTO | F7: =+D7+E7 -> 0 | H7: 6 | I7: ACEITE MOTOR SINTETICO | L7: =+J7+K7 -> 0
A8: 7 | B8: ACEITE MOTOR X 1 CUARTO | C8: CUARTO | F8: =+D8+E8 -> 0 | H8: 7 | I8: ACEITE MOTOR X 1 CUARTO | L8: =+J8+K8 -> 0
A9: 8 | B9: AJUSTADOR BANDAS DE FRENO | C9: UNIDAD | F9: =+D9+E9 -> 0 | H9: 8 | I9: AJUSTADOR BANDAS DE FRENO | L9: =+J9+K9 -> 0
A10: 9 | B10: ALTERNADOR | C10: UNIDAD | F10: =+D10+E10 -> 0 | H10: 9 | I10: ALTERNADOR | L10: =+J10+K10 -> 0
A11: 10 | B11: ALTERNADOR AIRE ACONDICIONADO | C11: UNIDAD | F11: =+D11+E11 -> 0 | H11: 10 | I11: ALTERNADOR AIRE ACONDICIONADO | L11: =+J11+K11 -> 0
A12: 11 | B12: AMORTIGUADOR CAPOT | C12: UNIDAD | F12: =+D12+E12 -> 0 | H12: 11 | I12: AMORTIGUADOR CAPOT | L12: =+J12+K12 -> 0
A13: 12 | B13: AMORTIGUADOR DELANTERO | C13: JUEGO | F13: =+D13+E13 -> 0 | H13: 12 | I13: AMORTIGUADOR DELANTERO | L13: =+J13+K13 -> 0
... A610: 609 | B610: YUGO DESLISANTE BARRA CARDAN | C610: UNIDAD | F610: =+D610+E610 -> 0 | H610: 609 | I610: YUGO DESLISANTE BARRA CARDAN | L610: =+J610+K610 -> 0
A611: TOTAL | F611: =SUM(F2:F610) -> 0 | H611: 610 | I611: ALINEACION LUCES | L611: =+J611+K611 -> 0
H612: 611 | I612: ALINEACION DE LLANTAS | L612: =+J612+K612 -> 0
H613: 612 | I613: BALANCEO DE LLANTAS | L613: =+J613+K613 -> 0
H614: 613 | I614: CALIBRACION DE INYECTORES | L614: =+J614+K614 -> 0
H615: 614 | I615: DESMONTAR Y MONTAR BOCIN | L615: =+J615+K615 -> 0
H616: 615 | I616: DESMONTAR Y MONTAR BOMBA DE COMBUSTIBLE | L616: =+J616+K616 -> 0
H617: 616 | I617: DESMONTAR Y MONTAR COMPRESOR A/A | L617: =+J617+K617 -> 0
H618: 617 | I618: DESMONTAR Y MONTAR DIFERENCIAL (CAJA) | L618: =+J618+K618 -> 0
H619: 618 | I619: DESMONTAR Y MONTAR RADIADOR CON MANGUERAS | L619: =+J619+K619 -> 0
H620: 619 | I620: DESMONTAR Y MONTAR RIEL DE INYECTORES E INYECTORES | L620: =+J620+K620 -> 0
H621: 620 | I621: DESMONTAR Y MONTAR SELECTOR CAMBIOS | L621: =+J621+K621 -> 0
H622: 621 | I622: DESMONTAR Y MONTAR TANQUE COMBUSTIBLE | L622: =+J622+K622 -> 0
H623: 622 | I623: DESMONTAR Y MONTAR TAPIZADO PUERTA | L623: =+J623+K623 -> 0
... H666: 665 | I666: REVISIÓN TÉCNICO MECÁNICA | L666: =+J666+K666 -> 0
H667: TOTAL | L667: =SUM(L2:L666) -> 0
I669: Total Repuestos | J669: =+F611 -> 0
I670: Total mano de obra | J670: =+L667 -> 0
I671: GRAN TOTAL | J671: =+J669+J670 -> 0

Sheet OFK497
A1: ITEM | B1: REPUESTOS VEHÍCULOS | C1: UNIDADES | D1: VALOR UNITARIO | E1: IVA (Si aplica) | F1: TOTAL | H1: ITEM | I1: MANO DE OBRA | J1: VALOR UNITARIO | K1: IVA (Si aplica) | L1: TOTAL
A2: 1 | B2: ABRAZADERA BARRA ESTABILIZADORA | C2: UNIDAD | F2: =+D2+E2 -> 0 | H2: 1 | I2: ABRAZADERA BARRA ESTABILIZADORA | L2: =+J2+K2 -> 0
A3: 2 | B3: ABRAZADERAS RADIADOR | C3: UNIDAD | F3: =+D3+E3 -> 0 | H3: 2 | I3: ABRAZADERAS RADIADOR | L3: =+J3+K3 -> 0
A4: 3 | B4: ACEITE COMPRESOR | C4: CUARTO | F4: =+D4+E4 -> 0 | H4: 3 | I4: ACEITE COMPRESOR | L4: =+J4+K4 -> 0
A5: 4 | B5: ACEITE HIDRAULICO | C5: CUARTO | F5: =+D5+E5 -> 0 | H5: 4 | I5: ACEITE HIDRAULICO | L5: =+J5+K5 -> 0
A6: 5 | B6: ACEITE MOTOR | C6: CUARTO | F6: =+D6+E6 -> 0 | H6: 5 | I6: ACEITE MOTOR | L6: =+J6+K6 -> 0
A7: 6 | B7: ACEITE MOTOR SINTETICO | C7: CUARTO | F7: =+D7+E7 -> 0 | H7: 6 | I7: ACEITE MOTOR SINTETICO | L7: =+J7+K7 -> 0
A8: 7 | B8: ACEITE MOTOR X 1 CUARTO | C8: CUARTO | F8: =+D8+E8 -> 0 | H8: 7 | I8: ACEITE MOTOR X 1 CUARTO | L8: =+J8+K8 -> 0
A9: 8 | B9: AJUSTADOR BANDAS DE FRENO | C9: UNIDAD | F9: =+D9+E9 -> 0 | H9: 8 | I9: AJUSTADOR BANDAS DE FRENO | L9: =+J9+K9 -> 0
A10: 9 | B10: ALTERNADOR | C10: UNIDAD | F10: =+D10+E10 -> 0 | H10: 9 | I10: ALTERNADOR | L10: =+J10+K10 -> 0
A11: 10 | B11: ALTERNADOR AIRE ACONDICIONADO | C11: UNIDAD | F11: =+D11+E11 -> 0 | H11: 10 | I11: ALTERNADOR AIRE ACONDICIONADO | L11: =+J11+K11 -> 0
A12: 11 | B12: AMORTIGUADOR CAPOT | C12: UNIDAD | F12: =+D12+E12 -> 0 | H12: 11 | I12: AMORTIGUADOR CAPOT | L12: =+J12+K12 -> 0
A13: 12 | B13: AMORTIGUADOR DELANTERO | C13: JUEGO | F13: =+D13+E13 -> 0 | H13: 12 | I13: AMORTIGUADOR DELANTERO | L13: =+J13+K13 -> 0
... A610: 609 | B610: YUGO DESLISANTE BARRA CARDAN | C610: UNIDAD | F610: =+D610+E610 -> 0 | H610: 609 | I610: YUGO DESLISANTE BARRA CARDAN | L610: =+J610+K610 -> 0
A611: TOTAL | F611: =SUM(F2:F610) -> 0 | H611: 610 | I611: ALINEACION LUCES | L611: =+J611+K611 -> 0
H612: 611 | I612: ALINEACION DE LLANTAS | L612: =+J612+K612 -> 0
H613: 612 | I613: BALANCEO DE LLANTAS | L613: =+J613+K613 -> 0
H614: 613 | I614: CALIBRACION DE INYECTORES | L614: =+J614+K614 -> 0
H615: 614 | I615: DESMONTAR Y MONTAR BOCIN | L615: =+J615+K615 -> 0
H616: 615 | I616: DESMONTAR Y MONTAR BOMBA DE COMBUSTIBLE | L616: =+J616+K616 -> 0
H617: 616 | I617: DESMONTAR Y MONTAR COMPRESOR A/A | L617: =+J617+K617 -> 0
H618: 617 | I618: DESMONTAR Y MONTAR DIFERENCIAL (CAJA) | L618: =+J618+K618 -> 0
H619: 618 | I619: DESMONTAR Y MONTAR RADIADOR CON MANGUERAS | L619: =+J619+K619 -> 0
H620: 619 | I620: DESMONTAR Y MONTAR RIEL DE INYECTORES E INYECTORES | L620: =+J620+K620 -> 0
H621: 620 | I621: DESMONTAR Y MONTAR SELECTOR CAMBIOS | L621: =+J621+K621 -> 0
H622: 621 | I622: DESMONTAR Y MONTAR TANQUE COMBUSTIBLE | L622: =+J622+K622 -> 0
H623: 622 | I623: DESMONTAR Y MONTAR TAPIZADO PUERTA | L623: =+J623+K623 -> 0
... H666: 665 | I666: REVISIÓN TÉCNICO MECÁNICA | L666: =+J666+K666 -> 0
H667: TOTAL | L667: =SUM(L2:L666) -> 0
I669: Total Repuestos | J669: =+F611 -> 0
I670: Total mano de obra | J670: =+L667 -> 0
I671: GRAN TOTAL | J671: =+J669+J670 -> 0

Sheet OFK498
A1: ITEM | B1: REPUESTOS VEHÍCULOS | C1: UNIDADES | D1: VALOR UNITARIO | E1: IVA (Si aplica) | F1: TOTAL | H1: ITEM | I1: MANO DE OBRA | J1: VALOR UNITARIO | K1: IVA (Si aplica) | L1: TOTAL
A2: 1 | B2: ABRAZADERA BARRA ESTABILIZADORA | C2: UNIDAD | F2: =+D2+E2 -> 0 | H2: 1 | I2: ABRAZADERA BARRA ESTABILIZADORA | L2: =+J2+K2 -> 0
A3: 2 | B3: ABRAZADERAS RADIADOR | C3: UNIDAD | F3: =+D3+E3 -> 0 | H3: 2 | I3: ABRAZADERAS RADIADOR | L3: =+J3+K3 -> 0
A4: 3 | B4: ACEITE COMPRESOR | C4: CUARTO | F4: =+D4+E4 -> 0 | H4: 3 | I4: ACEITE COMPRESOR | L4: =+J4+K4 -> 0
A5: 4 | B5: ACEITE HIDRAULICO | C5: CUARTO | F5: =+D5+E5 -> 0 | H5: 4 | I5: ACEITE HIDRAULICO | L5: =+J5+K5 -> 0
A6: 5 | B6: ACEITE MOTOR | C6: CUARTO | F6: =+D6+E6 -> 0 | H6: 5 | I6: ACEITE MOTOR | L6: =+J6+K6 -> 0
A7: 6 | B7: ACEITE MOTOR SINTETICO | C7: CUARTO | F7: =+D7+E7 -> 0 | H7: 6 | I7: ACEITE MOTOR SINTETICO | L7: =+J7+K7 -> 0
A8: 7 | B8: ACEITE MOTOR X 1 CUARTO | C8: CUARTO | F8: =+D8+E8 -> 0 | H8: 7 | I8: ACEITE MOTOR X 1 CUARTO | L8: =+J8+K8 -> 0
A9: 8 | B9: AJUSTADOR BANDAS DE FRENO | C9: UNIDAD | F9: =+D9+E9 -> 0 | H9: 8 | I9: AJUSTADOR BANDAS DE FRENO | L9: =+J9+K9 -> 0
A10: 9 | B10: ALTERNADOR | C10: UNIDAD | F10: =+D10+E10 -> 0 | H10: 9 | I10: ALTERNADOR | L10: =+J10+K10 -> 0
A11: 10 | B11: ALTERNADOR AIRE ACONDICIONADO | C11: UNIDAD | F11: =+D11+E11 -> 0 | H11: 10 | I11: ALTERNADOR AIRE ACONDICIONADO | L11: =+J11+K11 -> 0
A12: 11 | B12: AMORTIGUADOR CAPOT | C12: UNIDAD | F12: =+D12+E12 -> 0 | H12: 11 | I12: AMORTIGUADOR CAPOT | L12: =+J12+K12 -> 0
A13: 12 | B13: AMORTIGUADOR DELANTERO | C13: JUEGO | F13: =+D13+E13 -> 0 | H13: 12 | I13: AMORTIGUADOR DELANTERO | L13: =+J13+K13 -> 0
... A610: 609 | B610: YUGO DESLISANTE BARRA CARDAN | C610: UNIDAD | F610: =+D610+E610 -> 0 | H610: 609 | I610: YUGO DESLISANTE BARRA CARDAN | L610: =+J610+K610 -> 0
A611: TOTAL | F611: =SUM(F2:F610) -> 0 | H611: 610 | I611: ALINEACION LUCES | L611: =+J611+K611 -> 0
H612: 611 | I612: ALINEACION DE LLANTAS | L612: =+J612+K612 -> 0
H613: 612 | I613: BALANCEO DE LLANTAS | L613: =+J613+K613 -> 0
H614: 613 | I614: CALIBRACION DE INYECTORES | L614: =+J614+K614 -> 0
H615: 614 | I615: DESMONTAR Y MONTAR BOCIN | L615: =+J615+K615 -> 0
H616: 615 | I616: DESMONTAR Y MONTAR BOMBA DE COMBUSTIBLE | L616: =+J616+K616 -> 0
H617: 616 | I617: DESMONTAR Y MONTAR COMPRESOR A/A | L617: =+J617+K617 -> 0
H618: 617 | I618: DESMONTAR Y MONTAR DIFERENCIAL (CAJA) | L618: =+J618+K618 -> 0
H619: 618 | I619: DESMONTAR Y MONTAR RADIADOR CON MANGUERAS | L619: =+J619+K619 -> 0
H620: 619 | I620: DESMONTAR Y MONTAR RIEL DE INYECTORES E INYECTORES | L620: =+J620+K620 -> 0
H621: 620 | I621: DESMONTAR Y MONTAR SELECTOR CAMBIOS | L621: =+J621+K621 -> 0
H622: 621 | I622: DESMONTAR Y MONTAR TANQUE COMBUSTIBLE | L622: =+J622+K622 -> 0
H623: 622 | I623: DESMONTAR Y MONTAR TAPIZADO PUERTA | L623: =+J623+K623 -> 0
... H666: 665 | I666: REVISIÓN TÉCNICO MECÁNICA | L666: =+J666+K666 -> 0
H667: TOTAL | L667: =SUM(L2:L666) -> 0
I669: Total Repuestos | J669: =+F611 -> 0
I670: Total mano de obra | J670: =+L667 -> 0
I671: GRAN TOTAL | J671: =+J669+J670 -> 0

Sheet OFK581
A1: ITEM | B1: REPUESTOS VEHÍCULOS | C1: UNIDADES | D1: VALOR UNITARIO | E1: IVA (Si aplica) | F1: TOTAL | H1: ITEM | I1: MANO DE OBRA | J1: VALOR UNITARIO | K1: IVA (Si aplica) | L1: TOTAL
A2: 1 | B2: ABRAZADERA BARRA ESTABILIZADORA | C2: UNIDAD | F2: =+D2+E2 -> 0 | H2: 1 | I2: ABRAZADERA BARRA ESTABILIZADORA | L2: =+J2+K2 -> 0
A3: 2 | B3: ABRAZADERAS RADIADOR | C3: UNIDAD | F3: =+D3+E3 -> 0 | H3: 2 | I3: ABRAZADERAS RADIADOR | L3: =+J3+K3 -> 0
A4: 3 | B4: ACEITE COMPRESOR | C4: CUARTO | F4: =+D4+E4 -> 0 | H4: 3 | I4: ACEITE COMPRESOR | L4: =+J4+K4 -> 0
A5: 4 | B5: ACEITE HIDRAULICO | C5: CUARTO | F5: =+D5+E5 -> 0 | H5: 4 | I5: ACEITE HIDRAULICO | L5: =+J5+K5 -> 0
A6: 5 | B6: ACEITE MOTOR | C6: CUARTO | F6: =+D6+E6 -> 0 | H6: 5 | I6: ACEITE MOTOR | L6: =+J6+K6 -> 0
A7: 6 | B7: ACEITE MOTOR SINTETICO | C7: CUARTO | F7: =+D7+E7 -> 0 | H7: 6 | I7: ACEITE MOTOR SINTETICO | L7: =+J7+K7 -> 0
A8: 7 | B8: ACEITE MOTOR X 1 CUARTO | C8: CUARTO | F8: =+D8+E8 -> 0 | H8: 7 | I8: ACEITE MOTOR X 1 CUARTO | L8: =+J8+K8 -> 0
A9: 8 | B9: AJUSTADOR BANDAS DE FRENO | C9: UNIDAD | F9: =+D9+E9 -> 0 | H9: 8 | I9: AJUSTADOR BANDAS DE FRENO | L9: =+J9+K9 -> 0
A10: 9 | B10: ALTERNADOR | C10: UNIDAD | F10: =+D10+E10 -> 0 | H10: 9 | I10: ALTERNADOR | L10: =+J10+K10 -> 0
A11: 10 | B11: ALTERNADOR AIRE ACONDICIONADO | C11: UNIDAD | F11: =+D11+E11 -> 0 | H11: 10 | I11: ALTERNADOR AIRE ACONDICIONADO | L11: =+J11+K11 -> 0
A12: 11 | B12: AMORTIGUADOR CAPOT | C12: UNIDAD | F12: =+D12+E12 -> 0 | H12: 11 | I12: AMORTIGUADOR CAPOT | L12: =+J12+K12 -> 0
A13: 12 | B13: AMORTIGUADOR DELANTERO | C13: JUEGO | F13: =+D13+E13 -> 0 | H13: 12 | I13: AMORTIGUADOR DELANTERO | L13: =+J13+K13 -> 0
... A610: 609 | B610: YUGO DESLISANTE BARRA CARDAN | C610: UNIDAD | F610: =+D610+E610 -> 0 | H610: 609 | I610: YUGO DESLISANTE BARRA CARDAN | L610: =+J610+K610 -> 0
A611: TOTAL | F611: =SUM(F2:F610) -> 0 | H611: 610 | I611: ALINEACION LUCES | L611: =+J611+K611 -> 0
H612: 611 | I612: ALINEACION DE LLANTAS | L612: =+J612+K612 -> 0
H613: 612 | I613: BALANCEO DE LLANTAS | L613: =+J613+K613 -> 0
H614: 613 | I614: CALIBRACION DE INYECTORES | L614: =+J614+K614 -> 0
H615: 614 | I615: DESMONTAR Y MONTAR BOCIN | L615: =+J615+K615 -> 0
H616: 615 | I616: DESMONTAR Y MONTAR BOMBA DE COMBUSTIBLE | L616: =+J616+K616 -> 0
H617: 616 | I617: DESMONTAR Y MONTAR COMPRESOR A/A | L617: =+J617+K617 -> 0
H618: 617 | I618: DESMONTAR Y MONTAR DIFERENCIAL (CAJA) | L618: =+J618+K618 -> 0
H619: 618 | I619: DESMONTAR Y MONTAR RADIADOR CON MANGUERAS | L619: =+J619+K619 -> 0
H620: 619 | I620: DESMONTAR Y MONTAR RIEL DE INYECTORES E INYECTORES | L620: =+J620+K620 -> 0
H621: 620 | I621: DESMONTAR Y MONTAR SELECTOR CAMBIOS | L621: =+J621+K621 -> 0
H622: 621 | I622: DESMONTAR Y MONTAR TANQUE COMBUSTIBLE | L622: =+J622+K622 -> 0
H623: 622 | I623: DESMONTAR Y MONTAR TAPIZADO PUERTA | L623: =+J623+K623 -> 0
... H666: 665 | I666: REVISIÓN TÉCNICO MECÁNICA | L666: =+J666+K666 -> 0
H667: TOTAL | L667: =SUM(L2:L666) -> 0
I669: Total Repuestos | J669: =+F611 -> 0
I670: Total mano de obra | J670: =+L667 -> 0
I671: GRAN TOTAL | J671: =+J669+J670 -> 0

Sheet OFK595
A1: ITEM | B1: REPUESTOS VEHÍCULOS | C1: UNIDADES | D1: VALOR UNITARIO | E1: IVA (Si aplica) | F1: TOTAL | H1: ITEM | I1: MANO DE OBRA | J1: VALOR UNITARIO | K1: IVA (Si aplica) | L1: TOTAL
A2: 1 | B2: ABRAZADERA BARRA ESTABILIZADORA | C2: UNIDAD | F2: =+D2+E2 -> 0 | H2: 1 | I2: ABRAZADERA BARRA ESTABILIZADORA | L2: =+J2+K2 -> 0
A3: 2 | B3: ABRAZADERAS RADIADOR | C3: UNIDAD | F3: =+D3+E3 -> 0 | H3: 2 | I3: ABRAZADERAS RADIADOR | L3: =+J3+K3 -> 0
A4: 3 | B4: ACEITE COMPRESOR | C4: CUARTO | F4: =+D4+E4 -> 0 | H4: 3 | I4: ACEITE COMPRESOR | L4: =+J4+K4 -> 0
A5: 4 | B5: ACEITE HIDRAULICO | C5: CUARTO | F5: =+D5+E5 -> 0 | H5: 4 | I5: ACEITE HIDRAULICO | L5: =+J5+K5 -> 0
A6: 5 | B6: ACEITE MOTOR | C6: CUARTO | F6: =+D6+E6 -> 0 | H6: 5 | I6: ACEITE MOTOR | L6: =+J6+K6 -> 0
A7: 6 | B7: ACEITE MOTOR SINTETICO | C7: CUARTO | F7: =+D7+E7 -> 0 | H7: 6 | I7: ACEITE MOTOR SINTETICO | L7: =+J7+K7 -> 0
A8: 7 | B8: ACEITE MOTOR X 1 CUARTO | C8: CUARTO | F8: =+D8+E8 -> 0 | H8: 7 | I8: ACEITE MOTOR X 1 CUARTO | L8: =+J8+K8 -> 0
A9: 8 | B9: AJUSTADOR BANDAS DE FRENO | C9: UNIDAD | F9: =+D9+E9 -> 0 | H9: 8 | I9: AJUSTADOR BANDAS DE FRENO | L9: =+J9+K9 -> 0
A10: 9 | B10: ALTERNADOR | C10: UNIDAD | F10: =+D10+E10 -> 0 | H10: 9 | I10: ALTERNADOR | L10: =+J10+K10 -> 0
A11: 10 | B11: ALTERNADOR AIRE ACONDICIONADO | C11: UNIDAD | F11: =+D11+E11 -> 0 | H11: 10 | I11: ALTERNADOR AIRE ACONDICIONADO | L11: =+J11+K11 -> 0
A12: 11 | B12: AMORTIGUADOR CAPOT | C12: UNIDAD | F12: =+D12+E12 -> 0 | H12: 11 | I12: AMORTIGUADOR CAPOT | L12: =+J12+K12 -> 0
A13: 12 | B13: AMORTIGUADOR DELANTERO | C13: JUEGO | F13: =+D13+E13 -> 0 | H13: 12 | I13: AMORTIGUADOR DELANTERO | L13: =+J13+K13 -> 0
... A610: 609 | B610: YUGO DESLISANTE BARRA CARDAN | C610: UNIDAD | F610: =+D610+E610 -> 0 | H610: 609 | I610: YUGO DESLISANTE BARRA CARDAN | L610: =+J610+K610 -> 0
A611: TOTAL | F611: =SUM(F2:F610) -> 0 | H611: 610 | I611: ALINEACION LUCES | L611: =+J611+K611 -> 0
H612: 611 | I612: ALINEACION DE LLANTAS | L612: =+J612+K612 -> 0
H613: 612 | I613: BALANCEO DE LLANTAS | L613: =+J613+K613 -> 0
H614: 613 | I614: CALIBRACION DE INYECTORES | L614: =+J614+K614 -> 0
H615: 614 | I615: DESMONTAR Y MONTAR BOCIN | L615: =+J615+K615 -> 0
H616: 615 | I616: DESMONTAR Y MONTAR BOMBA DE COMBUSTIBLE | L616: =+J616+K616 -> 0
H617: 616 | I617: DESMONTAR Y MONTAR COMPRESOR A/A | L617: =+J617+K617 -> 0
H618: 617 | I618: DESMONTAR Y MONTAR DIFERENCIAL (CAJA) | L618: =+J618+K618 -> 0
H619: 618 | I619: DESMONTAR Y MONTAR RADIADOR CON MANGUERAS | L619: =+J619+K619 -> 0
H620: 619 | I620: DESMONTAR Y MONTAR RIEL DE INYECTORES E INYECTORES | L620: =+J620+K620 -> 0
H621: 620 | I621: DESMONTAR Y MONTAR SELECTOR CAMBIOS | L621: =+J621+K621 -> 0
H622: 621 | I622: DESMONTAR Y MONTAR TANQUE COMBUSTIBLE | L622: =+J622+K622 -> 0
H623: 622 | I623: DESMONTAR Y MONTAR TAPIZADO PUERTA | L623: =+J623+K623 -> 0
... H666: 665 | I666: REVISIÓN TÉCNICO MECÁNICA | L666: =+J666+K666 -> 0
H667: TOTAL | L667: =SUM(L2:L666) -> 0
I669: Total Repuestos | J669: =+F611 -> 0
I670: Total mano de obra | J670: =+L667 -> 0
I671: GRAN TOTAL | J671: =+J669+J670 -> 0

Sheet OFK527
A1: ITEM | B1: REPUESTOS VEHÍCULOS | C1: UNIDADES | D1: VALOR UNITARIO | E1: IVA (Si aplica) | F1: TOTAL | H1: ITEM | I1: MANO DE OBRA | J1: VALOR UNITARIO | K1: IVA (Si aplica) | L1: TOTAL
A2: 1 | B2: ABRAZADERA BARRA ESTABILIZADORA | C2: UNIDAD | F2: =+D2+E2 -> 0 | H2: 1 | I2: ABRAZADERA BARRA ESTABILIZADORA | L2: =+J2+K2 -> 0
A3: 2 | B3: ABRAZADERAS RADIADOR | C3: UNIDAD | F3: =+D3+E3 -> 0 | H3: 2 | I3: ABRAZADERAS RADIADOR | L3: =+J3+K3 -> 0
A4: 3 | B4: ACEITE COMPRESOR | C4: CUARTO | F4: =+D4+E4 -> 0 | H4: 3 | I4: ACEITE COMPRESOR | L4: =+J4+K4 -> 0
A5: 4 | B5: ACEITE HIDRAULICO | C5: CUARTO | F5: =+D5+E5 -> 0 | H5: 4 | I5: ACEITE HIDRAULICO | L5: =+J5+K5 -> 0
A6: 5 | B6: ACEITE MOTOR | C6: CUARTO | F6: =+D6+E6 -> 0 | H6: 5 | I6: ACEITE MOTOR | L6: =+J6+K6 -> 0
A7: 6 | B7: ACEITE MOTOR SINTETICO | C7: CUARTO | F7: =+D7+E7 -> 0 | H7: 6 | I7: ACEITE MOTOR SINTETICO | L7: =+J7+K7 -> 0
A8: 7 | B8: ACEITE MOTOR X 1 CUARTO | C8: CUARTO | F8: =+D8+E8 -> 0 | H8: 7 | I8: ACEITE MOTOR X 1 CUARTO | L8: =+J8+K8 -> 0
A9: 8 | B9: AJUSTADOR BANDAS DE FRENO | C9: UNIDAD | F9: =+D9+E9 -> 0 | H9: 8 | I9: AJUSTADOR BANDAS DE FRENO | L9: =+J9+K9 -> 0
A10: 9 | B10: ALTERNADOR | C10: UNIDAD | F10: =+D10+E10 -> 0 | H10: 9 | I10: ALTERNADOR | L10: =+J10+K10 -> 0
A11: 10 | B11: ALTERNADOR AIRE ACONDICIONADO | C11: UNIDAD | F11: =+D11+E11 -> 0 | H11: 10 | I11: ALTERNADOR AIRE ACONDICIONADO | L11: =+J11+K11 -> 0
A12: 11 | B12: AMORTIGUADOR CAPOT | C12: UNIDAD | F12: =+D12+E12 -> 0 | H12: 11 | I12: AMORTIGUADOR CAPOT | L12: =+J12+K12 -> 0
A13: 12 | B13: AMORTIGUADOR DELANTERO | C13: JUEGO | F13: =+D13+E13 -> 0 | H13: 12 | I13: AMORTIGUADOR DELANTERO | L13: =+J13+K13 -> 0
... A610: 609 | B610: YUGO DESLISANTE BARRA CARDAN | C610: UNIDAD | F610: =+D610+E610 -> 0 | H610: 609 | I610: YUGO DESLISANTE BARRA CARDAN | L610: =+J610+K610 -> 0
A611: TOTAL | F611: =SUM(F2:F610) -> 0 | H611: 610 | I611: ALINEACION LUCES | L611: =+J611+K611 -> 0
H612: 611 | I612: ALINEACION DE LLANTAS | L612: =+J612+K612 -> 0
H613: 612 | I613: BALANCEO DE LLANTAS | L613: =+J613+K613 -> 0
H614: 613 | I614: CALIBRACION DE INYECTORES | L614: =+J614+K614 -> 0
H615: 614 | I615: DESMONTAR Y MONTAR BOCIN | L615: =+J615+K615 -> 0
H616: 615 | I616: DESMONTAR Y MONTAR BOMBA DE COMBUSTIBLE | L616: =+J616+K616 -> 0
H617: 616 | I617: DESMONTAR Y MONTAR COMPRESOR A/A | L617: =+J617+K617 -> 0
H618: 617 | I618: DESMONTAR Y MONTAR DIFERENCIAL (CAJA) | L618: =+J618+K618 -> 0
H619: 618 | I619: DESMONTAR Y MONTAR RADIADOR CON MANGUERAS | L619: =+J619+K619 -> 0
H620: 619 | I620: DESMONTAR Y MONTAR RIEL DE INYECTORES E INYECTORES | L620: =+J620+K620 -> 0
H621: 620 | I621: DESMONTAR Y MONTAR SELECTOR CAMBIOS | L621: =+J621+K621 -> 0
H622: 621 | I622: DESMONTAR Y MONTAR TANQUE COMBUSTIBLE | L622: =+J622+K622 -> 0
H623: 622 | I623: DESMONTAR Y MONTAR TAPIZADO PUERTA | L623: =+J623+K623 -> 0
... H666: 665 | I666: REVISIÓN TÉCNICO MECÁNICA | L666: =+J666+K666 -> 0
H667: TOTAL | L667: =SUM(L2:L666) -> 0
I669: Total Repuestos | J669: =+F611 -> 0
I670: Total mano de obra | J670: =+L667 -> 0
I671: GRAN TOTAL | J671: =+J669+J670 -> 0

Sheet OFK546
A1: ITEM | B1: REPUESTOS VEHÍCULOS | C1: UNIDADES | D1: VALOR UNITARIO | E1: IVA (Si aplica) | F1: TOTAL | H1: ITEM | I1: MANO DE OBRA | J1: VALOR UNITARIO | K1: IVA (Si aplica) | L1: TOTAL
A2: 1 | B2: ABRAZADERA BARRA ESTABILIZADORA | C2: UNIDAD | F2: =+D2+E2 -> 0 | H2: 1 | I2: ABRAZADERA BARRA ESTABILIZADORA | L2: =+J2+K2 -> 0
A3: 2 | B3: ABRAZADERAS RADIADOR | C3: UNIDAD | F3: =+D3+E3 -> 0 | H3: 2 | I3: ABRAZADERAS RADIADOR | L3: =+J3+K3 -> 0
A4: 3 | B4: ACEITE COMPRESOR | C4: CUARTO | F4: =+D4+E4 -> 0 | H4: 3 | I4: ACEITE COMPRESOR | L4: =+J4+K4 -> 0
A5: 4 | B5: ACEITE HIDRAULICO | C5: CUARTO | F5: =+D5+E5 -> 0 | H5: 4 | I5: ACEITE HIDRAULICO | L5: =+J5+K5 -> 0
A6: 5 | B6: ACEITE MOTOR | C6: CUARTO | F6: =+D6+E6 -> 0 | H6: 5 | I6: ACEITE MOTOR | L6: =+J6+K6 -> 0
A7: 6 | B7: ACEITE MOTOR SINTETICO | C7: CUARTO | F7: =+D7+E7 -> 0 | H7: 6 | I7: ACEITE MOTOR SINTETICO | L7: =+J7+K7 -> 0
A8: 7 | B8: ACEITE MOTOR X 1 CUARTO | C8: CUARTO | F8: =+D8+E8 -> 0 | H8: 7 | I8: ACEITE MOTOR X 1 CUARTO | L8: =+J8+K8 -> 0
A9: 8 | B9: AJUSTADOR BANDAS DE FRENO | C9: UNIDAD | F9: =+D9+E9 -> 0 | H9: 8 | I9: AJUSTADOR BANDAS DE FRENO | L9: =+J9+K9 -> 0
A10: 9 | B10: ALTERNADOR | C10: UNIDAD | F10: =+D10+E10 -> 0 | H10: 9 | I10: ALTERNADOR | L10: =+J10+K10 -> 0
A11: 10 | B11: ALTERNADOR AIRE ACONDICIONADO | C11: UNIDAD | F11: =+D11+E11 -> 0 | H11: 10 | I11: ALTERNADOR AIRE ACONDICIONADO | L11: =+J11+K11 -> 0
A12: 11 | B12: AMORTIGUADOR CAPOT | C12: UNIDAD | F12: =+D12+E12 -> 0 | H12: 11 | I12: AMORTIGUADOR CAPOT | L12: =+J12+K12 -> 0
A13: 12 | B13: AMORTIGUADOR DELANTERO | C13: JUEGO | F13: =+D13+E13 -> 0 | H13: 12 | I13: AMORTIGUADOR DELANTERO | L13: =+J13+K13 -> 0
... A610: 609 | B610: YUGO DESLISANTE BARRA CARDAN | C610: UNIDAD | F610: =+D610+E610 -> 0 | H610: 609 | I610: YUGO DESLISANTE BARRA CARDAN | L610: =+J610+K610 -> 0
A611: TOTAL | F611: =SUM(F2:F610) -> 0 | H611: 610 | I611: ALINEACION LUCES | L611: =+J611+K611 -> 0
H612: 611 | I612: ALINEACION DE LLANTAS | L612: =+J612+K612 -> 0
H613: 612 | I613: BALANCEO DE LLANTAS | L613: =+J613+K613 -> 0
H614: 613 | I614: CALIBRACION DE INYECTORES | L614: =+J614+K614 -> 0
H615: 614 | I615: DESMONTAR Y MONTAR BOCIN | L615: =+J615+K615 -> 0
H616: 615 | I616: DESMONTAR Y MONTAR BOMBA DE COMBUSTIBLE | L616: =+J616+K616 -> 0
H617: 616 | I617: DESMONTAR Y MONTAR COMPRESOR A/A | L617: =+J617+K617 -> 0
H618: 617 | I618: DESMONTAR Y MONTAR DIFERENCIAL (CAJA) | L618: =+J618+K618 -> 0
H619: 618 | I619: DESMONTAR Y MONTAR RADIADOR CON MANGUERAS | L619: =+J619+K619 -> 0
H620: 619 | I620: DESMONTAR Y MONTAR RIEL DE INYECTORES E INYECTORES | L620: =+J620+K620 -> 0
H621: 620 | I621: DESMONTAR Y MONTAR SELECTOR CAMBIOS | L621: =+J621+K621 -> 0
H622: 621 | I622: DESMONTAR Y MONTAR TANQUE COMBUSTIBLE | L622: =+J622+K622 -> 0
H623: 622 | I623: DESMONTAR Y MONTAR TAPIZADO PUERTA | L623: =+J623+K623 -> 0
... H666: 665 | I666: REVISIÓN TÉCNICO MECÁNICA | L666: =+J666+K666 -> 0
H667: TOTAL | L667: =SUM(L2:L666) -> 0
I669: Total Repuestos | J669: =+F611 -> 0
I670: Total mano de obra | J670: =+L667 -> 0
I671: GRAN TOTAL | J671: =+J669+J670 -> 0

Sheet OFK655
A1: ITEM | B1: REPUESTOS VEHÍCULOS | C1: UNIDADES | D1: VALOR UNITARIO | E1: IVA (Si aplica) | F1: TOTAL | H1: ITEM | I1: MANO DE OBRA | J1: VALOR UNITARIO | K1: IVA (Si aplica) | L1: TOTAL
A2: 1 | B2: ABRAZADERA BARRA ESTABILIZADORA | C2: UNIDAD | F2: =+D2+E2 -> 0 | H2: 1 | I2: ABRAZADERA BARRA ESTABILIZADORA | L2: =+J2+K2 -> 0
A3: 2 | B3: ABRAZADERAS RADIADOR | C3: UNIDAD | F3: =+D3+E3 -> 0 | H3: 2 | I3: ABRAZADERAS RADIADOR | L3: =+J3+K3 -> 0
A4: 3 | B4: ACEITE COMPRESOR | C4: CUARTO | F4: =+D4+E4 -> 0 | H4: 3 | I4: ACEITE COMPRESOR | L4: =+J4+K4 -> 0
A5: 4 | B5: ACEITE HIDRAULICO | C5: CUARTO | F5: =+D5+E5 -> 0 | H5: 4 | I5: ACEITE HIDRAULICO | L5: =+J5+K5 -> 0
A6: 5 | B6: ACEITE MOTOR | C6: CUARTO | F6: =+D6+E6 -> 0 | H6: 5 | I6: ACEITE MOTOR | L6: =+J6+K6 -> 0
A7: 6 | B7: ACEITE MOTOR SINTETICO | C7: CUARTO | F7: =+D7+E7 -> 0 | H7: 6 | I7: ACEITE MOTOR SINTETICO | L7: =+J7+K7 -> 0
A8: 7 | B8: ACEITE MOTOR X 1 CUARTO | C8: CUARTO | F8: =+D8+E8 -> 0 | H8: 7 | I8: ACEITE MOTOR X 1 CUARTO | L8: =+J8+K8 -> 0
A9: 8 | B9: AJUSTADOR BANDAS DE FRENO | C9: UNIDAD | F9: =+D9+E9 -> 0 | H9: 8 | I9: AJUSTADOR BANDAS DE FRENO | L9: =+J9+K9 -> 0
A10: 9 | B10: ALTERNADOR | C10: UNIDAD | F10: =+D10+E10 -> 0 | H10: 9 | I10: ALTERNADOR | L10: =+J10+K10 -> 0
A11: 10 | B11: ALTERNADOR AIRE ACONDICIONADO | C11: UNIDAD | F11: =+D11+E11 -> 0 | H11: 10 | I11: ALTERNADOR AIRE ACONDICIONADO | L11: =+J11+K11 -> 0
A12: 11 | B12: AMORTIGUADOR CAPOT | C12: UNIDAD | F12: =+D12+E12 -> 0 | H12: 11 | I12: AMORTIGUADOR CAPOT | L12: =+J12+K12 -> 0
A13: 12 | B13: AMORTIGUADOR DELANTERO | C13: JUEGO | F13: =+D13+E13 -> 0 | H13: 12 | I13: AMORTIGUADOR DELANTERO | L13: =+J13+K13 -> 0
... A610: 609 | B610: YUGO DESLISANTE BARRA CARDAN | C610: UNIDAD | F610: =+D610+E610 -> 0 | H610: 609 | I610: YUGO DESLISANTE BARRA CARDAN | L610: =+J610+K610 -> 0
A611: TOTAL | F611: =SUM(F2:F610) -> 0 | H611: 610 | I611: ALINEACION LUCES | L611: =+J611+K611 -> 0
H612: 611 | I612: ALINEACION DE LLANTAS | L612: =+J612+K612 -> 0
H613: 612 | I613: BALANCEO DE LLANTAS | L613: =+J613+K613 -> 0
H614: 613 | I614: CALIBRACION DE INYECTORES | L614: =+J614+K614 -> 0
H615: 614 | I615: DESMONTAR Y MONTAR BOCIN | L615: =+J615+K615 -> 0
H616: 615 | I616: DESMONTAR Y MONTAR BOMBA DE COMBUSTIBLE | L616: =+J616+K616 -> 0
H617: 616 | I617: DESMONTAR Y MONTAR COMPRESOR A/A | L617: =+J617+K617 -> 0
H618: 617 | I618: DESMONTAR Y MONTAR DIFERENCIAL (CAJA) | L618: =+J618+K618 -> 0
H619: 618 | I619: DESMONTAR Y MONTAR RADIADOR CON MANGUERAS | L619: =+J619+K619 -> 0
H620: 619 | I620: DESMONTAR Y MONTAR RIEL DE INYECTORES E INYECTORES | L620: =+J620+K620 -> 0
H621: 620 | I621: DESMONTAR Y MONTAR SELECTOR CAMBIOS | L621: =+J621+K621 -> 0
H622: 621 | I622: DESMONTAR Y MONTAR TANQUE COMBUSTIBLE | L622: =+J622+K622 -> 0
H623: 622 | I623: DESMONTAR Y MONTAR TAPIZADO PUERTA | L623: =+J623+K623 -> 0
... H666: 665 | I666: REVISIÓN TÉCNICO MECÁNICA | L666: =+J666+K666 -> 0
H667: TOTAL | L667: =SUM(L2:L666) -> 0
I669: Total Repuestos | J669: =+F611 -> 0
I670: Total mano de obra | J670: =+L667 -> 0
I671: GRAN TOTAL | J671: =+J669+J670 -> 0

Sheet OJZ512
A1: ITEM | B1: REPUESTOS VEHÍCULOS | C1: UNIDADES | D1: VALOR UNITARIO | E1: IVA (Si aplica) | F1: TOTAL | H1: ITEM | I1: MANO DE OBRA | J1: VALOR UNITARIO | K1: IVA (Si aplica) | L1: TOTAL
A2: 1 | B2: ABRAZADERA BARRA ESTABILIZADORA | C2: UNIDAD | F2: =+D2+E2 -> 0 | H2: 1 | I2: ABRAZADERA BARRA ESTABILIZADORA | L2: =+J2+K2 -> 0
A3: 2 | B3: ABRAZADERAS RADIADOR | C3: UNIDAD | F3: =+D3+E3 -> 0 | H3: 2 | I3: ABRAZADERAS RADIADOR | L3: =+J3+K3 -> 0
A4: 3 | B4: ACEITE COMPRESOR | C4: CUARTO | F4: =+D4+E4 -> 0 | H4: 3 | I4: ACEITE COMPRESOR | L4: =+J4+K4 -> 0
A5: 4 | B5: ACEITE HIDRAULICO | C5: CUARTO | F5: =+D5+E5 -> 0 | H5: 4 | I5: ACEITE HIDRAULICO | L5: =+J5+K5 -> 0
A6: 5 | B6: ACEITE MOTOR | C6: CUARTO | F6: =+D6+E6 -> 0 | H6: 5 | I6: ACEITE MOTOR | L6: =+J6+K6 -> 0
A7: 6 | B7: ACEITE MOTOR SINTETICO | C7: CUARTO | F7: =+D7+E7 -> 0 | H7: 6 | I7: ACEITE MOTOR SINTETICO | L7: =+J7+K7 -> 0
A8: 7 | B8: ACEITE MOTOR X 1 CUARTO | C8: CUARTO | F8: =+D8+E8 -> 0 | H8: 7 | I8: ACEITE MOTOR X 1 CUARTO | L8: =+J8+K8 -> 0
A9: 8 | B9: AJUSTADOR BANDAS DE FRENO | C9: UNIDAD | F9: =+D9+E9 -> 0 | H9: 8 | I9: AJUSTADOR BANDAS DE FRENO | L9: =+J9+K9 -> 0
A10: 9 | B10: ALTERNADOR | C10: UNIDAD | F10: =+D10+E10 -> 0 | H10: 9 | I10: ALTERNADOR | L10: =+J10+K10 -> 0
A11: 10 | B11: ALTERNADOR AIRE ACONDICIONADO | C11: UNIDAD | F11: =+D11+E11 -> 0 | H11: 10 | I11: ALTERNADOR AIRE ACONDICIONADO | L11: =+J11+K11 -> 0
A12: 11 | B12: AMORTIGUADOR CAPOT | C12: UNIDAD | F12: =+D12+E12 -> 0 | H12: 11 | I12: AMORTIGUADOR CAPOT | L12: =+J12+K12 -> 0
A13: 12 | B13: AMORTIGUADOR DELANTERO | C13: JUEGO | F13: =+D13+E13 -> 0 | H13: 12 | I13: AMORTIGUADOR DELANTERO | L13: =+J13+K13 -> 0
... A610: 609 | B610: YUGO DESLISANTE BARRA CARDAN | C610: UNIDAD | F610: =+D610+E610 -> 0 | H610: 609 | I610: YUGO DESLISANTE BARRA CARDAN | L610: =+J610+K610 -> 0
A611: TOTAL | F611: =SUM(F2:F610) -> 0 | H611: 610 | I611: ALINEACION LUCES | L611: =+J611+K611 -> 0
H612: 611 | I612: ALINEACION DE LLANTAS | L612: =+J612+K612 -> 0
H613: 612 | I613: BALANCEO DE LLANTAS | L613: =+J613+K613 -> 0
H614: 613 | I614: CALIBRACION DE INYECTORES | L614: =+J614+K614 -> 0
H615: 614 | I615: DESMONTAR Y MONTAR BOCIN | L615: =+J615+K615 -> 0
H616: 615 | I616: DESMONTAR Y MONTAR BOMBA DE COMBUSTIBLE | L616: =+J616+K616 -> 0
H617: 616 | I617: DESMONTAR Y MONTAR COMPRESOR A/A | L617: =+J617+K617 -> 0
H618: 617 | I618: DESMONTAR Y MONTAR DIFERENCIAL (CAJA) | L618: =+J618+K618 -> 0
H619: 618 | I619: DESMONTAR Y MONTAR RADIADOR CON MANGUERAS | L619: =+J619+K619 -> 0
H620: 619 | I620: DESMONTAR Y MONTAR RIEL DE INYECTORES E INYECTORES | L620: =+J620+K620 -> 0
H621: 620 | I621: DESMONTAR Y MONTAR SELECTOR CAMBIOS | L621: =+J621+K621 -> 0
H622: 621 | I622: DESMONTAR Y MONTAR TANQUE COMBUSTIBLE | L622: =+J622+K622 -> 0
H623: 622 | I623: DESMONTAR Y MONTAR TAPIZADO PUERTA | L623: =+J623+K623 -> 0
... H666: 665 | I666: REVISIÓN TÉCNICO MECÁNICA | L666: =+J666+K666 -> 0
H667: TOTAL | L667: =SUM(L2:L666) -> 0
I669: Total Repuestos | J669: =+F611 -> 0
I670: Total mano de obra | J670: =+L667 -> 0
I671: GRAN TOTAL | J671: =+J669+J670 -> 0

Sheet 3 MOTOS YAMAHA YBR125DX
A1: ITEM | B1: REPUESTOS MOTOCICLETAS | C1: UNIDAD | D1: VALOR UNITARIO | E1: IVA (Si aplica) | F1: TOTAL | H1: ITEM | I1: Mano de Obra (D/M) | J1: UNIDAD | K1: VALOR UNITARIO | L1: IVA (Si aplica) | M1: TOTAL
A2: 1 | B2: ACEITE | C2: CUARTO | F2: =+D2+E2 -> 0 | H2: 1 | I2: ACEITE | J2: CUARTO | M2: =+K2+L2 -> 0
A3: 2 | B3: ACEITE 4T | C3: CUARTO | F3: =+D3+E3 -> 0 | H3: 2 | I3: ACEITE 4T | J3: CUARTO | M3: =+K3+L3 -> 0
A4: 3 | B4: ACEITE DE DIFERENCIAL FRONTAL SAE 90 | C4: CUARTO | F4: =+D4+E4 -> 0 | H4: 3 | I4: ACEITE DE DIFERENCIAL FRONTAL SAE 90 | J4: CUARTO | M4: =+K4+L4 -> 0
A5: 4 | B5: ACEITE DEL ENGRANAJE FINAL SAE 90 | C5: CUARTO | F5: =+D5+E5 -> 0 | H5: 4 | I5: ACEITE DEL ENGRANAJE FINAL SAE 90 | J5: CUARTO | M5: =+K5+L5 -> 0
A6: 5 | B6: ACEITE HIDRAULICO | C6: PINTA | F6: =+D6+E6 -> 0 | H6: 5 | I6: ACEITE HIDRAULICO | J6: PINTA | M6: =+K6+L6 -> 0
A7: 6 | B7: AGUJA CARBURADOR | C7: PIEZA | F7: =+D7+E7 -> 0 | H7: 6 | I7: AGUJA CARBURADOR | J7: PIEZA | M7: =+K7+L7 -> 0
A8: 7 | B8: ALTERNADOR | C8: PIEZA | F8: =+D8+E8 -> 0 | H8: 7 | I8: ALTERNADOR | J8: PIEZA | M8: =+K8+L8 -> 0
A9: 8 | B9: AMORTIGUADOR DELANTERO | C9: UNIDAD | F9: =+D9+E9 -> 0 | H9: 8 | I9: AMORTIGUADOR DELANTERO | J9: UNIDAD | M9: =+K9+L9 -> 0
A10: 9 | B10: AMORTIGUADOR TRASERO | C10: PIEZA | F10: =+D10+E10 -> 0 | H10: 9 | I10: AMORTIGUADOR TRASERO | J10: PIEZA | M10: =+K10+L10 -> 0
A11: 10 | B11: ANILLOS | C11: JUEGO | F11: =+D11+E11 -> 0 | H11: 10 | I11: ANILLOS | J11: JUEGO | M11: =+K11+L11 -> 0
A12: 11 | B12: ARBOL DE LEVAS | C12: PIEZA | F12: =+D12+E12 -> 0 | H12: 11 | I12: ARBOL DE LEVAS | J12: PIEZA | M12: =+K12+L12 -> 0
A13: 12 | B13: ARRANQUE | C13: PIEZA | F13: =+D13+E13 -> 0 | H13: 12 | I13: ARRANQUE | J13: PIEZA | M13: =+K13+L13 -> 0
... A274: 273 | B274: VENTILADOR | C274: PIEZA | F274: =+D274+E274 -> 0 | H274: 273 | I274: VENTILADOR | J274: PIEZA | M274: =+K274+L274 -> 0
A275: TOTAL | F275: =SUM(F2:F274) -> 0 | H275: 274 | I275: AJUSTE DE PIEZAS Y LUBRICACION (CADENA) | J275: UNIDAD | M275: =+K275+L275 -> 0
H276: 275 | I276: CAMBIO DE ACEITE | J276: UNIDAD | M276: =+K276+L276 -> 0
H277: 276 | I277: CAMBIO DE O-RING | J277: UNIDAD | M277: =+K277+L277 -> 0
H278: 277 | I278: CAMBIO KIT DE EMBRAGUE | J278: UNIDAD | M278: =+K278+L278 -> 0
H279: 278 | I279: CAMBIO SIMBOLOGIA INSTITUCIONAL (CALCOMANIAS) | J279: UNIDAD | M279: =+K279+L279 -> 0
H280: 279 | I280: ENGRASE CUNAS DIRECCION | J280: UNIDAD | M280: =+K280+L280 -> 0
H281: 280 | I281: ENGRASE SUSPENSION TRASERA | J281: UNIDAD | M281: =+K281+L281 -> 0
H282: 281 | I282: LUBRICACION GUAYAS | J282: UNIDAD | M282: =+K282+L282 -> 0
H283: 282 | I283: LUBRICAR GUAYA CLUTCH | J283: UNIDAD | M283: =+K283+L283 -> 0
H284: 283 | I284: MANTENIMIENTO KIT DE ARRASTRE | J284: UNIDAD | M284: =+K284+L284 -> 0
H285: 284 | I285: REPARACION CABEZA DE FUERZA | J285: UNIDAD | M285: =+K285+L285 -> 0
H286: 285 | I286: REPARACION CAJA | J286: UNIDAD | M286: =+K286+L286 -> 0
H287: 286 | I287: REPARACION GENERAL DE MOTOR | J287: UNIDAD | M287: =+K287+L287 -> 0
... H301: 665 | I301: REVISIÓN TÉCNICO MECÁNICA | J301: UNIDAD | M301: =+K301+L301 -> 0
H302: TOTAL | M302: =SUM(M2:M301) -> 0
I305: Total Repuestos | J305: =+F275 -> 0
I306: Total mano de obra | J306: =+M302 -> 0
I307: GRAN TOTAL | J307: =+J305+J306 -> 0

Sheet 4 MOTOS YAMAHA XTZ125E
A1: ITEM | B1: REPUESTOS MOTOCICLETAS | C1: UNIDAD | D1: VALOR UNITARIO | E1: IVA (Si aplica) | F1: TOTAL | H1: ITEM | I1: Mano de Obra (D/M) | J1: UNIDAD | K1: VALOR UNITARIO | L1: IVA (Si aplica) | M1: TOTAL
A2: 1 | B2: ACEITE | C2: CUARTO | F2: =+D2+E2 -> 0 | H2: 1 | I2: ACEITE | J2: CUARTO | M2: =+K2+L2 -> 0
A3: 2 | B3: ACEITE 4T | C3: CUARTO | F3: =+D3+E3 -> 0 | H3: 2 | I3: ACEITE 4T | J3: CUARTO | M3: =+K3+L3 -> 0
A4: 3 | B4: ACEITE DE DIFERENCIAL FRONTAL SAE 90 | C4: CUARTO | F4: =+D4+E4 -> 0 | H4: 3 | I4: ACEITE DE DIFERENCIAL FRONTAL SAE 90 | J4: CUARTO | M4: =+K4+L4 -> 0
A5: 4 | B5: ACEITE DEL ENGRANAJE FINAL SAE 90 | C5: CUARTO | F5: =+D5+E5 -> 0 | H5: 4 | I5: ACEITE DEL ENGRANAJE FINAL SAE 90 | J5: CUARTO | M5: =+K5+L5 -> 0
A6: 5 | B6: ACEITE HIDRAULICO | C6: PINTA | F6: =+D6+E6 -> 0 | H6: 5 | I6: ACEITE HIDRAULICO | J6: PINTA | M6: =+K6+L6 -> 0
A7: 6 | B7: AGUJA CARBURADOR | C7: PIEZA | F7: =+D7+E7 -> 0 | H7: 6 | I7: AGUJA CARBURADOR | J7: PIEZA | M7: =+K7+L7 -> 0
A8: 7 | B8: ALTERNADOR | C8: PIEZA | F8: =+D8+E8 -> 0 | H8: 7 | I8: ALTERNADOR | J8: PIEZA | M8: =+K8+L8 -> 0
A9: 8 | B9: AMORTIGUADOR DELANTERO | C9: UNIDAD | F9: =+D9+E9 -> 0 | H9: 8 | I9: AMORTIGUADOR DELANTERO | J9: UNIDAD | M9: =+K9+L9 -> 0
A10: 9 | B10: AMORTIGUADOR TRASERO | C10: PIEZA | F10: =+D10+E10 -> 0 | H10: 9 | I10: AMORTIGUADOR TRASERO | J10: PIEZA | M10: =+K10+L10 -> 0
A11: 10 | B11: ANILLOS | C11: JUEGO | F11: =+D11+E11 -> 0 | H11: 10 | I11: ANILLOS | J11: JUEGO | M11: =+K11+L11 -> 0
A12: 11 | B12: ARBOL DE LEVAS | C12: PIEZA | F12: =+D12+E12 -> 0 | H12: 11 | I12: ARBOL DE LEVAS | J12: PIEZA | M12: =+K12+L12 -> 0
A13: 12 | B13: ARRANQUE | C13: PIEZA | F13: =+D13+E13 -> 0 | H13: 12 | I13: ARRANQUE | J13: PIEZA | M13: =+K13+L13 -> 0
... A274: 273 | B274: VENTILADOR | C274: PIEZA | F274: =+D274+E274 -> 0 | H274: 273 | I274: VENTILADOR | J274: PIEZA | M274: =+K274+L274 -> 0
A275: TOTAL | F275: =SUM(F2:F274) -> 0 | H275: 274 | I275: AJUSTE DE PIEZAS Y LUBRICACION (CADENA) | J275: UNIDAD | M275: =+K275+L275 -> 0
H276: 275 | I276: CAMBIO DE ACEITE | J276: UNIDAD | M276: =+K276+L276 -> 0
H277: 276 | I277: CAMBIO DE O-RING | J277: UNIDAD | M277: =+K277+L277 -> 0
H278: 277 | I278: CAMBIO KIT DE EMBRAGUE | J278: UNIDAD | M278: =+K278+L278 -> 0
H279: 278 | I279: CAMBIO SIMBOLOGIA INSTITUCIONAL (CALCOMANIAS) | J279: UNIDAD | M279: =+K279+L279 -> 0
H280: 279 | I280: ENGRASE CUNAS DIRECCION | J280: UNIDAD | M280: =+K280+L280 -> 0
H281: 280 | I281: ENGRASE SUSPENSION TRASERA | J281: UNIDAD | M281: =+K281+L281 -> 0
H282: 281 | I282: LUBRICACION GUAYAS | J282: UNIDAD | M282: =+K282+L282 -> 0
H283: 282 | I283: LUBRICAR GUAYA CLUTCH | J283: UNIDAD | M283: =+K283+L283 -> 0
H284: 283 | I284: MANTENIMIENTO KIT DE ARRASTRE | J284: UNIDAD | M284: =+K284+L284 -> 0
H285: 284 | I285: REPARACION CABEZA DE FUERZA | J285: UNIDAD | M285: =+K285+L285 -> 0
H286: 285 | I286: REPARACION CAJA | J286: UNIDAD | M286: =+K286+L286 -> 0
H287: 286 | I287: REPARACION GENERAL DE MOTOR | J287: UNIDAD | M287: =+K287+L287 -> 0
... H301: 665 | I301: REVISIÓN TÉCNICO MECÁNICA | J301: UNIDAD | M301: =+K301+L301 -> 0
H302: TOTAL | M302: =SUM(M2:M301) -> 0
I305: Total Repuestos | J305: =+F275 -> 0
I306: Total mano de obra | J306: =+M302 -> 0
I307: GRAN TOTAL | J307: =+J305+J306 -> 0

Sheet 2 MOTOS YAMAHA FZ16
A1: ITEM | B1: REPUESTOS MOTOCICLETAS | C1: UNIDAD | D1: VALOR UNITARIO | E1: IVA (Si aplica) | F1: TOTAL | H1: ITEM | I1: Mano de Obra (D/M) | J1: UNIDAD | K1: VALOR UNITARIO | L1: IVA (Si aplica) | M1: TOTAL
A2: 1 | B2: ACEITE | C2: CUARTO | F2: =+D2+E2 -> 0 | H2: 1 | I2: ACEITE | J2: CUARTO | M2: =+K2+L2 -> 0
A3: 2 | B3: ACEITE 4T | C3: CUARTO | F3: =+D3+E3 -> 0 | H3: 2 | I3: ACEITE 4T | J3: CUARTO | M3: =+K3+L3 -> 0
A4: 3 | B4: ACEITE DE DIFERENCIAL FRONTAL SAE 90 | C4: CUARTO | F4: =+D4+E4 -> 0 | H4: 3 | I4: ACEITE DE DIFERENCIAL FRONTAL SAE 90 | J4: CUARTO | M4: =+K4+L4 -> 0
A5: 4 | B5: ACEITE DEL ENGRANAJE FINAL SAE 90 | C5: CUARTO | F5: =+D5+E5 -> 0 | H5: 4 | I5: ACEITE DEL ENGRANAJE FINAL SAE 90 | J5: CUARTO | M5: =+K5+L5 -> 0
A6: 5 | B6: ACEITE HIDRAULICO | C6: PINTA | F6: =+D6+E6 -> 0 | H6: 5 | I6: ACEITE HIDRAULICO | J6: PINTA | M6: =+K6+L6 -> 0
A7: 6 | B7: AGUJA CARBURADOR | C7: PIEZA | F7: =+D7+E7 -> 0 | H7: 6 | I7: AGUJA CARBURADOR | J7: PIEZA | M7: =+K7+L7 -> 0
A8: 7 | B8: ALTERNADOR | C8: PIEZA | F8: =+D8+E8 -> 0 | H8: 7 | I8: ALTERNADOR | J8: PIEZA | M8: =+K8+L8 -> 0
A9: 8 | B9: AMORTIGUADOR DELANTERO | C9: UNIDAD | F9: =+D9+E9 -> 0 | H9: 8 | I9: AMORTIGUADOR DELANTERO | J9: UNIDAD | M9: =+K9+L9 -> 0
A10: 9 | B10: AMORTIGUADOR TRASERO | C10: PIEZA | F10: =+D10+E10 -> 0 | H10: 9 | I10: AMORTIGUADOR TRASERO | J10: PIEZA | M10: =+K10+L10 -> 0
A11: 10 | B11: ANILLOS | C11: JUEGO | F11: =+D11+E11 -> 0 | H11: 10 | I11: ANILLOS | J11: JUEGO | M11: =+K11+L11 -> 0
A12: 11 | B12: ARBOL DE LEVAS | C12: PIEZA | F12: =+D12+E12 -> 0 | H12: 11 | I12: ARBOL DE LEVAS | J12: PIEZA | M12: =+K12+L12 -> 0
A13: 12 | B13: ARRANQUE | C13: PIEZA | F13: =+D13+E13 -> 0 | H13: 12 | I13: ARRANQUE | J13: PIEZA | M13: =+K13+L13 -> 0
... A274: 273 | B274: VENTILADOR | C274: PIEZA | F274: =+D274+E274 -> 0 | H274: 273 | I274: VENTILADOR | J274: PIEZA | M274: =+K274+L274 -> 0
A275: TOTAL | F275: =SUM(F2:F274) -> 0 | H275: 274 | I275: AJUSTE DE PIEZAS Y LUBRICACION (CADENA) | J275: UNIDAD | M275: =+K275+L275 -> 0
H276: 275 | I276: CAMBIO DE ACEITE | J276: UNIDAD | M276: =+K276+L276 -> 0
H277: 276 | I277: CAMBIO DE O-RING | J277: UNIDAD | M277: =+K277+L277 -> 0
H278: 277 | I278: CAMBIO KIT DE EMBRAGUE | J278: UNIDAD | M278: =+K278+L278 -> 0
H279: 278 | I279: CAMBIO SIMBOLOGIA INSTITUCIONAL (CALCOMANIAS) | J279: UNIDAD | M279: =+K279+L279 -> 0
H280: 279 | I280: ENGRASE CUNAS DIRECCION | J280: UNIDAD | M280: =+K280+L280 -> 0
H281: 280 | I281: ENGRASE SUSPENSION TRASERA | J281: UNIDAD | M281: =+K281+L281 -> 0
H282: 281 | I282: LUBRICACION GUAYAS | J282: UNIDAD | M282: =+K282+L282 -> 0
H283: 282 | I283: LUBRICAR GUAYA CLUTCH | J283: UNIDAD | M283: =+K283+L283 -> 0
H284: 283 | I284: MANTENIMIENTO KIT DE ARRASTRE | J284: UNIDAD | M284: =+K284+L284 -> 0
H285: 284 | I285: REPARACION CABEZA DE FUERZA | J285: UNIDAD | M285: =+K285+L285 -> 0
H286: 285 | I286: REPARACION CAJA | J286: UNIDAD | M286: =+K286+L286 -> 0
H287: 286 | I287: REPARACION GENERAL DE MOTOR | J287: UNIDAD | M287: =+K287+L287 -> 0
... H301: 665 | I301: REVISIÓN TÉCNICO MECÁNICA | J301: UNIDAD | M301: =+K301+L301 -> 0
H302: TOTAL | M302: =SUM(M2:M301) -> 0
I305: Total Repuestos | J305: =+F275 -> 0
I306: Total mano de obra | J306: =+M302 -> 0
I307: GRAN TOTAL | J307: =+J305+J306 -> 0

Sheet 2 MOTOS YAMAHA YBR125ESD
A1: ITEM | B1: REPUESTOS MOTOCICLETAS | C1: UNIDAD | D1: VALOR UNITARIO | E1: IVA (Si aplica) | F1: TOTAL | H1: ITEM | I1: Mano de Obra (D/M) | J1: UNIDAD | K1: VALOR UNITARIO | L1: IVA (Si aplica) | M1: TOTAL
A2: 1 | B2: ACEITE | C2: CUARTO | F2: =+D2+E2 -> 0 | H2: 1 | I2: ACEITE | J2: CUARTO | M2: =+K2+L2 -> 0
A3: 2 | B3: ACEITE 4T | C3: CUARTO | F3: =+D3+E3 -> 0 | H3: 2 | I3: ACEITE 4T | J3: CUARTO | M3: =+K3+L3 -> 0
A4: 3 | B4: ACEITE DE DIFERENCIAL FRONTAL SAE 90 | C4: CUARTO | F4: =+D4+E4 -> 0 | H4: 3 | I4: ACEITE DE DIFERENCIAL FRONTAL SAE 90 | J4: CUARTO | M4: =+K4+L4 -> 0
A5: 4 | B5: ACEITE DEL ENGRANAJE FINAL SAE 90 | C5: CUARTO | F5: =+D5+E5 -> 0 | H5: 4 | I5: ACEITE DEL ENGRANAJE FINAL SAE 90 | J5: CUARTO | M5: =+K5+L5 -> 0
A6: 5 | B6: ACEITE HIDRAULICO | C6: PINTA | F6: =+D6+E6 -> 0 | H6: 5 | I6: ACEITE HIDRAULICO | J6: PINTA | M6: =+K6+L6 -> 0
A7: 6 | B7: AGUJA CARBURADOR | C7: PIEZA | F7: =+D7+E7 -> 0 | H7: 6 | I7: AGUJA CARBURADOR | J7: PIEZA | M7: =+K7+L7 -> 0
A8: 7 | B8: ALTERNADOR | C8: PIEZA | F8: =+D8+E8 -> 0 | H8: 7 | I8: ALTERNADOR | J8: PIEZA | M8: =+K8+L8 -> 0
A9: 8 | B9: AMORTIGUADOR DELANTERO | C9: UNIDAD | F9: =+D9+E9 -> 0 | H9: 8 | I9: AMORTIGUADOR DELANTERO | J9: UNIDAD | M9: =+K9+L9 -> 0
A10: 9 | B10: AMORTIGUADOR TRASERO | C10: PIEZA | F10: =+D10+E10 -> 0 | H10: 9 | I10: AMORTIGUADOR TRASERO | J10: PIEZA | M10: =+K10+L10 -> 0
A11: 10 | B11: ANILLOS | C11: JUEGO | F11: =+D11+E11 -> 0 | H11: 10 | I11: ANILLOS | J11: JUEGO | M11: =+K11+L11 -> 0
A12: 11 | B12: ARBOL DE LEVAS | C12: PIEZA | F12: =+D12+E12 -> 0 | H12: 11 | I12: ARBOL DE LEVAS | J12: PIEZA | M12: =+K12+L12 -> 0
A13: 12 | B13: ARRANQUE | C13: PIEZA | F13: =+D13+E13 -> 0 | H13: 12 | I13: ARRANQUE | J13: PIEZA | M13: =+K13+L13 -> 0
... A274: 273 | B274: VENTILADOR | C274: PIEZA | F274: =+D274+E274 -> 0 | H274: 273 | I274: VENTILADOR | J274: PIEZA | M274: =+K274+L274 -> 0
A275: TOTAL | F275: =SUM(F2:F274) -> 0 | H275: 274 | I275: AJUSTE DE PIEZAS Y LUBRICACION (CADENA) | J275: UNIDAD | M275: =+K275+L275 -> 0
H276: 275 | I276: CAMBIO DE ACEITE | J276: UNIDAD | M276: =+K276+L276 -> 0
H277: 276 | I277: CAMBIO DE O-RING | J277: UNIDAD | M277: =+K277+L277 -> 0
H278: 277 | I278: CAMBIO KIT DE EMBRAGUE | J278: UNIDAD | M278: =+K278+L278 -> 0
H279: 278 | I279: CAMBIO SIMBOLOGIA INSTITUCIONAL (CALCOMANIAS) | J279: UNIDAD | M279: =+K279+L279 -> 0
H280: 279 | I280: ENGRASE CUNAS DIRECCION | J280: UNIDAD | M280: =+K280+L280 -> 0
H281: 280 | I281: ENGRASE SUSPENSION TRASERA | J281: UNIDAD | M281: =+K281+L281 -> 0
H282: 281 | I282: LUBRICACION GUAYAS | J282: UNIDAD | M282: =+K282+L282 -> 0
H283: 282 | I283: LUBRICAR GUAYA CLUTCH | J283: UNIDAD | M283: =+K283+L283 -> 0
H284: 283 | I284: MANTENIMIENTO KIT DE ARRASTRE | J284: UNIDAD | M284: =+K284+L284 -> 0
H285: 284 | I285: REPARACION CABEZA DE FUERZA | J285: UNIDAD | M285: =+K285+L285 -> 0
H286: 285 | I286: REPARACION CAJA | J286: UNIDAD | M286: =+K286+L286 -> 0
H287: 286 | I287: REPARACION GENERAL DE MOTOR | J287: UNIDAD | M287: =+K287+L287 -> 0
... H301: 665 | I301: REVISIÓN TÉCNICO MECÁNICA | J301: UNIDAD | M301: =+K301+L301 -> 0
H302: TOTAL | M302: =SUM(M2:M301) -> 0
I305: Total Repuestos | J305: =+F275 -> 0
I306: Total mano de obra | J306: =+M302 -> 0
I307: GRAN TOTAL | J307: =+J305+J306 -> 0

Sheet 3 MOTOS HONDA XR150L
A1: ITEM | B1: REPUESTOS MOTOCICLETAS | C1: UNIDAD | D1: VALOR UNITARIO | E1: IVA (Si aplica) | F1: TOTAL | H1: ITEM | I1: Mano de Obra (D/M) | J1: UNIDAD | K1: VALOR UNITARIO | L1: IVA (Si aplica) | M1: TOTAL
A2: 1 | B2: ACEITE | C2: CUARTO | F2: =+D2+E2 -> 0 | H2: 1 | I2: ACEITE | J2: CUARTO | M2: =+K2+L2 -> 0
A3: 2 | B3: ACEITE 4T | C3: CUARTO | F3: =+D3+E3 -> 0 | H3: 2 | I3: ACEITE 4T | J3: CUARTO | M3: =+K3+L3 -> 0
A4: 3 | B4: ACEITE DE DIFERENCIAL FRONTAL SAE 90 | C4: CUARTO | F4: =+D4+E4 -> 0 | H4: 3 | I4: ACEITE DE DIFERENCIAL FRONTAL SAE 90 | J4: CUARTO | M4: =+K4+L4 -> 0
A5: 4 | B5: ACEITE DEL ENGRANAJE FINAL SAE 90 | C5: CUARTO | F5: =+D5+E5 -> 0 | H5: 4 | I5: ACEITE DEL ENGRANAJE FINAL SAE 90 | J5: CUARTO | M5: =+K5+L5 -> 0
A6: 5 | B6: ACEITE HIDRAULICO | C6: PINTA | F6: =+D6+E6 -> 0 | H6: 5 | I6: ACEITE HIDRAULICO | J6: PINTA | M6: =+K6+L6 -> 0
A7: 6 | B7: AGUJA CARBURADOR | C7: PIEZA | F7: =+D7+E7 -> 0 | H7: 6 | I7: AGUJA CARBURADOR | J7: PIEZA | M7: =+K7+L7 -> 0
A8: 7 | B8: ALTERNADOR | C8: PIEZA | F8: =+D8+E8 -> 0 | H8: 7 | I8: ALTERNADOR | J8: PIEZA | M8: =+K8+L8 -> 0
A9: 8 | B9: AMORTIGUADOR DELANTERO | C9: UNIDAD | F9: =+D9+E9 -> 0 | H9: 8 | I9: AMORTIGUADOR DELANTERO | J9: UNIDAD | M9: =+K9+L9 -> 0
A10: 9 | B10: AMORTIGUADOR TRASERO | C10: PIEZA | F10: =+D10+E10 -> 0 | H10: 9 | I10: AMORTIGUADOR TRASERO | J10: PIEZA | M10: =+K10+L10 -> 0
A11: 10 | B11: ANILLOS | C11: JUEGO | F11: =+D11+E11 -> 0 | H11: 10 | I11: ANILLOS | J11: JUEGO | M11: =+K11+L11 -> 0
A12: 11 | B12: ARBOL DE LEVAS | C12: PIEZA | F12: =+D12+E12 -> 0 | H12: 11 | I12: ARBOL DE LEVAS | J12: PIEZA | M12: =+K12+L12 -> 0
A13: 12 | B13: ARRANQUE | C13: PIEZA | F13: =+D13+E13 -> 0 | H13: 12 | I13: ARRANQUE | J13: PIEZA | M13: =+K13+L13 -> 0
... A274: 273 | B274: VENTILADOR | C274: PIEZA | F274: =+D274+E274 -> 0 | H274: 273 | I274: VENTILADOR | J274: PIEZA | M274: =+K274+L274 -> 0
A275: TOTAL | F275: =SUM(F2:F274) -> 0 | H275: 274 | I275: AJUSTE DE PIEZAS Y LUBRICACION (CADENA) | J275: UNIDAD | M275: =+K275+L275 -> 0
H276: 275 | I276: CAMBIO DE ACEITE | J276: UNIDAD | M276: =+K276+L276 -> 0
H277: 276 | I277: CAMBIO DE O-RING | J277: UNIDAD | M277: =+K277+L277 -> 0
H278: 277 | I278: CAMBIO KIT DE EMBRAGUE | J278: UNIDAD | M278: =+K278+L278 -> 0
H279: 278 | I279: CAMBIO SIMBOLOGIA INSTITUCIONAL (CALCOMANIAS) | J279: UNIDAD | M279: =+K279+L279 -> 0
H280: 279 | I280: ENGRASE CUNAS DIRECCION | J280: UNIDAD | M280: =+K280+L280 -> 0
H281: 280 | I281: ENGRASE SUSPENSION TRASERA | J281: UNIDAD | M281: =+K281+L281 -> 0
H282: 281 | I282: LUBRICACION GUAYAS | J282: UNIDAD | M282: =+K282+L282 -> 0
H283: 282 | I283: LUBRICAR GUAYA CLUTCH | J283: UNIDAD | M283: =+K283+L283 -> 0
H284: 283 | I284: MANTENIMIENTO KIT DE ARRASTRE | J284: UNIDAD | M284: =+K284+L284 -> 0
H285: 284 | I285: REPARACION CABEZA DE FUERZA | J285: UNIDAD | M285: =+K285+L285 -> 0
H286: 285 | I286: REPARACION CAJA | J286: UNIDAD | M286: =+K286+L286 -> 0
H287: 286 | I287: REPARACION GENERAL DE MOTOR | J287: UNIDAD | M287: =+K287+L287 -> 0
... H301: 665 | I301: REVISIÓN TÉCNICO MECÁNICA | J301: UNIDAD | M301: =+K301+L301 -> 0
H302: TOTAL | M302: =SUM(M2:M301) -> 0
I305: Total Repuestos | J305: =+F275 -> 0
I306: Total mano de obra | J306: =+M302 -> 0
I307: GRAN TOTAL | J307: =+J305+J306 -> 0

Sheet 2 MOTOS SUZUKI DR150
A1: ITEM | B1: REPUESTOS MOTOCICLETAS | C1: UNIDAD | D1: VALOR UNITARIO | E1: IVA (Si aplica) | F1: TOTAL | H1: ITEM | I1: Mano de Obra (D/M) | J1: UNIDAD | K1: VALOR UNITARIO | L1: IVA (Si aplica) | M1: TOTAL
A2: 1 | B2: ACEITE | C2: CUARTO | F2: =+D2+E2 -> 0 | H2: 1 | I2: ACEITE | J2: CUARTO | M2: =+K2+L2 -> 0
A3: 2 | B3: ACEITE 4T | C3: CUARTO | F3: =+D3+E3 -> 0 | H3: 2 | I3: ACEITE 4T | J3: CUARTO | M3: =+K3+L3 -> 0
A4: 3 | B4: ACEITE DE DIFERENCIAL FRONTAL SAE 90 | C4: CUARTO | F4: =+D4+E4 -> 0 | H4: 3 | I4: ACEITE DE DIFERENCIAL FRONTAL SAE 90 | J4: CUARTO | M4: =+K4+L4 -> 0
A5: 4 | B5: ACEITE DEL ENGRANAJE FINAL SAE 90 | C5: CUARTO | F5: =+D5+E5 -> 0 | H5: 4 | I5: ACEITE DEL ENGRANAJE FINAL SAE 90 | J5: CUARTO | M5: =+K5+L5 -> 0
A6: 5 | B6: ACEITE HIDRAULICO | C6: PINTA | F6: =+D6+E6 -> 0 | H6: 5 | I6: ACEITE HIDRAULICO | J6: PINTA | M6: =+K6+L6 -> 0
A7: 6 | B7: AGUJA CARBURADOR | C7: PIEZA | F7: =+D7+E7 -> 0 | H7: 6 | I7: AGUJA CARBURADOR | J7: PIEZA | M7: =+K7+L7 -> 0
A8: 7 | B8: ALTERNADOR | C8: PIEZA | F8: =+D8+E8 -> 0 | H8: 7 | I8: ALTERNADOR | J8: PIEZA | M8: =+K8+L8 -> 0
A9: 8 | B9: AMORTIGUADOR DELANTERO | C9: UNIDAD | F9: =+D9+E9 -> 0 | H9: 8 | I9: AMORTIGUADOR DELANTERO | J9: UNIDAD | M9: =+K9+L9 -> 0
A10: 9 | B10: AMORTIGUADOR TRASERO | C10: PIEZA | F10: =+D10+E10 -> 0 | H10: 9 | I10: AMORTIGUADOR TRASERO | J10: PIEZA | M10: =+K10+L10 -> 0
A11: 10 | B11: ANILLOS | C11: JUEGO | F11: =+D11+E11 -> 0 | H11: 10 | I11: ANILLOS | J11: JUEGO | M11: =+K11+L11 -> 0
A12: 11 | B12: ARBOL DE LEVAS | C12: PIEZA | F12: =+D12+E12 -> 0 | H12: 11 | I12: ARBOL DE LEVAS | J12: PIEZA | M12: =+K12+L12 -> 0
A13: 12 | B13: ARRANQUE | C13: PIEZA | F13: =+D13+E13 -> 0 | H13: 12 | I13: ARRANQUE | J13: PIEZA | M13: =+K13+L13 -> 0
... A274: 273 | B274: VENTILADOR | C274: PIEZA | F274: =+D274+E274 -> 0 | H274: 273 | I274: VENTILADOR | J274: PIEZA | M274: =+K274+L274 -> 0
A275: TOTAL | F275: =SUM(F2:F274) -> 0 | H275: 274 | I275: AJUSTE DE PIEZAS Y LUBRICACION (CADENA) | J275: UNIDAD | M275: =+K275+L275 -> 0
H276: 275 | I276: CAMBIO DE ACEITE | J276: UNIDAD | M276: =+K276+L276 -> 0
H277: 276 | I277: CAMBIO DE O-RING | J277: UNIDAD | M277: =+K277+L277 -> 0
H278: 277 | I278: CAMBIO KIT DE EMBRAGUE | J278: UNIDAD | M278: =+K278+L278 -> 0
H279: 278 | I279: CAMBIO SIMBOLOGIA INSTITUCIONAL (CALCOMANIAS) | J279: UNIDAD | M279: =+K279+L279 -> 0
H280: 279 | I280: ENGRASE CUNAS DIRECCION | J280: UNIDAD | M280: =+K280+L280 -> 0
H281: 280 | I281: ENGRASE SUSPENSION TRASERA | J281: UNIDAD | M281: =+K281+L281 -> 0
H282: 281 | I282: LUBRICACION GUAYAS | J282: UNIDAD | M282: =+K282+L282 -> 0
H283: 282 | I283: LUBRICAR GUAYA CLUTCH | J283: UNIDAD | M283: =+K283+L283 -> 0
H284: 283 | I284: MANTENIMIENTO KIT DE ARRASTRE | J284: UNIDAD | M284: =+K284+L284 -> 0
H285: 284 | I285: REPARACION CABEZA DE FUERZA | J285: UNIDAD | M285: =+K285+L285 -> 0
H286: 285 | I286: REPARACION CAJA | J286: UNIDAD | M286: =+K286+L286 -> 0
H287: 286 | I287: REPARACION GENERAL DE MOTOR | J287: UNIDAD | M287: =+K287+L287 -> 0
... H301: 665 | I301: REVISIÓN TÉCNICO MECÁNICA | J301: UNIDAD | M301: =+K301+L301 -> 0
H302: TOTAL | M302: =SUM(M2:M301) -> 0
I305: Total Repuestos | J305: =+F275 -> 0
I306: Total mano de obra | J306: =+M302 -> 0
I307: GRAN TOTAL | J307: =+J305+J306 -> 0

Sheet 1 MOTO AKT AK125NKDR
A1: ITEM | B1: REPUESTOS MOTOCICLETAS | C1: UNIDAD | D1: VALOR UNITARIO | E1: IVA (Si aplica) | F1: TOTAL | H1: ITEM | I1: Mano de Obra (D/M) | J1: UNIDAD | K1: VALOR UNITARIO | L1: IVA (Si aplica) | M1: TOTAL
A2: 1 | B2: ACEITE | C2: CUARTO | F2: =+D2+E2 -> 0 | H2: 1 | I2: ACEITE | J2: CUARTO | M2: =+K2+L2 -> 0
A3: 2 | B3: ACEITE 4T | C3: CUARTO | F3: =+D3+E3 -> 0 | H3: 2 | I3: ACEITE 4T | J3: CUARTO | M3: =+K3+L3 -> 0
A4: 3 | B4: ACEITE DE DIFERENCIAL FRONTAL SAE 90 | C4: CUARTO | F4: =+D4+E4 -> 0 | H4: 3 | I4: ACEITE DE DIFERENCIAL FRONTAL SAE 90 | J4: CUARTO | M4: =+K4+L4 -> 0
A5: 4 | B5: ACEITE DEL ENGRANAJE FINAL SAE 90 | C5: CUARTO | F5: =+D5+E5 -> 0 | H5: 4 | I5: ACEITE DEL ENGRANAJE FINAL SAE 90 | J5: CUARTO | M5: =+K5+L5 -> 0
A6: 5 | B6: ACEITE HIDRAULICO | C6: PINTA | F6: =+D6+E6 -> 0 | H6: 5 | I6: ACEITE HIDRAULICO | J6: PINTA | M6: =+K6+L6 -> 0
A7: 6 | B7: AGUJA CARBURADOR | C7: PIEZA | F7: =+D7+E7 -> 0 | H7: 6 | I7: AGUJA CARBURADOR | J7: PIEZA | M7: =+K7+L7 -> 0
A8: 7 | B8: ALTERNADOR | C8: PIEZA | F8: =+D8+E8 -> 0 | H8: 7 | I8: ALTERNADOR | J8: PIEZA | M8: =+K8+L8 -> 0
A9: 8 | B9: AMORTIGUADOR DELANTERO | C9: UNIDAD | F9: =+D9+E9 -> 0 | H9: 8 | I9: AMORTIGUADOR DELANTERO | J9: UNIDAD | M9: =+K9+L9 -> 0
A10: 9 | B10: AMORTIGUADOR TRASERO | C10: PIEZA | F10: =+D10+E10 -> 0 | H10: 9 | I10: AMORTIGUADOR TRASERO | J10: PIEZA | M10: =+K10+L10 -> 0
A11: 10 | B11: ANILLOS | C11: JUEGO | F11: =+D11+E11 -> 0 | H11: 10 | I11: ANILLOS | J11: JUEGO | M11: =+K11+L11 -> 0
A12: 11 | B12: ARBOL DE LEVAS | C12: PIEZA | F12: =+D12+E12 -> 0 | H12: 11 | I12: ARBOL DE LEVAS | J12: PIEZA | M12: =+K12+L12 -> 0
A13: 12 | B13: ARRANQUE | C13: PIEZA | F13: =+D13+E13 -> 0 | H13: 12 | I13: ARRANQUE | J13: PIEZA | M13: =+K13+L13 -> 0
... A274: 273 | B274: VENTILADOR | C274: PIEZA | F274: =+D274+E274 -> 0 | H274: 273 | I274: VENTILADOR | J274: PIEZA | M274: =+K274+L274 -> 0
A275: TOTAL | F275: =SUM(F2:F274) -> 0 | H275: 274 | I275: AJUSTE DE PIEZAS Y LUBRICACION (CADENA) | J275: UNIDAD | M275: =+K275+L275 -> 0
H276: 275 | I276: CAMBIO DE ACEITE | J276: UNIDAD | M276: =+K276+L276 -> 0
H277: 276 | I277: CAMBIO DE O-RING | J277: UNIDAD | M277: =+K277+L277 -> 0
H278: 277 | I278: CAMBIO KIT DE EMBRAGUE | J278: UNIDAD | M278: =+K278+L278 -> 0
H279: 278 | I279: CAMBIO SIMBOLOGIA INSTITUCIONAL (CALCOMANIAS) | J279: UNIDAD | M279: =+K279+L279 -> 0
H280: 279 | I280: ENGRASE CUNAS DIRECCION | J280: UNIDAD | M280: =+K280+L280 -> 0
H281: 280 | I281: ENGRASE SUSPENSION TRASERA | J281: UNIDAD | M281: =+K281+L281 -> 0
H282: 281 | I282: LUBRICACION GUAYAS | J282: UNIDAD | M282: =+K282+L282 -> 0
H283: 282 | I283: LUBRICAR GUAYA CLUTCH | J283: UNIDAD | M283: =+K283+L283 -> 0
H284: 283 | I284: MANTENIMIENTO KIT DE ARRASTRE | J284: UNIDAD | M284: =+K284+L284 -> 0
H285: 284 | I285: REPARACION CABEZA DE FUERZA | J285: UNIDAD | M285: =+K285+L285 -> 0
H286: 285 | I286: REPARACION CAJA | J286: UNIDAD | M286: =+K286+L286 -> 0
H287: 286 | I287: REPARACION GENERAL DE MOTOR | J287: UNIDAD | M287: =+K287+L287 -> 0
... H301: 665 | I301: REVISIÓN TÉCNICO MECÁNICA | J301: UNIDAD | M301: =+K301+L301 -> 0
H302: TOTAL | M302: =SUM(M2:M301) -> 0
I305: Total Repuestos | J305: =+F275 -> 0
I306: Total mano de obra | J306: =+M302 -> 0
I307: GRAN TOTAL | J307: =+J305+J306 -> 0
