Workbook

Sheet ANALISIS COTIZACIONES
D1: LOTE N°1: EQUIPOS Y HERRAMIENTAS
A2: MUNICIPIO | B2: LINEA | C2: TIPO | D2: ITEM N° | E2: PRODUCTO | F2: UNIDAD DE MEDIDA | G2: CANTIDAD | H2: AGRICOLA SAN JOSÉ FUNES NIT 27203549 | I2: ASOCIACION DE CABILDOS INDIGENAS DE LA ZONA DE IPIALES (ACIZI) NIT 830000096 | J2: FUNDACIÓN RUNAQAYA NIT 900358541 | K2: PROMEDIO UNITARIO | L2: VALOR TOTAL PROMEDIO | M2: MIN | N2: MAX | O2: DISPERSIÓN MIN | P2: DISPERSIÓN MAX | R2: DISPERSIÓN ENTRE COTIZACIONES
H3: VALOR UNITARIO | I3: VALOR UNITARIO | J3: VALOR UNITARIO | R3: AB | S3: AC | T3: BC
A4: El Charco | B4: Papa China | C4: Equipos y herramientas | D4: 1 | E4: Azada fabricada de una única pieza templada, en acero carbono de alta calidad, recubierta con pintura electrostática a polvo, lámina de tamaño 2.5 pulgadas, ojo de 38 mm de diámetro, mango de 145 cm en madera barnizada. | F4: Unidad | G4: 60 | H4: 115420 | I4: 111700 | J4: 114880 | K4: =ROUND(AVERAGE(H4:J4),0) -> 114000 | L4: =+K4*G4 -> 6840000 | M4: =MIN(H4,I4,J4) -> 111700 | N4: =MAX(H4,I4,J4) -> 115420 | O4: =+(M4-K4)/K4 -> -0.020175439 | P4: =+(N4-K4)/K4 -> 0.01245614 | R4: =+(I4-H4)/H4 -> -0.032230116 | S4: =+(J4-H4)/H4 -> -0.0046785652 | T4: =+(J4-I4)/I4 -> 0.028469114
A5: Tumaco | B5: Tilapia | C5: Equipos y herramientas | D5: 2 | E5: Balanza Mecánica de Reloj para 20 Kilos con Platón, balanza de colgar, Material de fabricación: Aro Central elaborado en lámina de acero cold rolled Calibre 26 y pintado en esmalte horneable color blanco o azul. Bisel en aluminio repujado o brillado Contra bisel hecho en aluminio Carátula o dial: elaborada en artes y posteriormente se hace la parte de litografía en hojalata, pintada con esmalte horneable y posteriormente se cubre con barniz transparente. Remache fabricado en hierro 3/8” para el automático. Resortes compensados a temperatura: elaborados en alambres acerados. Piñón enterizo en acero. Visor en vidrio: elaborado en vidrio transparente de 2mm. Colgante con oreja. Reloj con aro pintado, División: 1 onza, Diámetro del reloj: 21 cm, Sistema Mecánico con lectura por ambos lados, lectura por una cara en kilos y por la otra en libras. | F5: Unidad | G5: 1 | H5: 195000 | I5: 200000 | J5: 280000 | K5: =ROUND(AVERAGE(H5:J5),0) -> 225000 | L5: =+K5*G5 -> 225000 | M5: =MIN(H5,I5,J5) -> 195000 | N5: =MAX(H5,I5,J5) -> 280000 | O5: =+(M5-K5)/K5 -> -0.13333333 | P5: =+(N5-K5)/K5 -> 0.24444444 | R5: =+(I5-H5)/H5 -> 0.025641026 | S5: =+(J5-H5)/H5 -> 0.43589744 | T5: =+(J5-I5)/I5 -> 0.4
A6: Tumaco | B6: Tilapia | C6: Equipos y herramientas | D6: 3 | E6: Bascula Portátil Electrónica Báscula portátil electrónica, plataforma plegable 100%, Capacidad de pesaje máximo: 500 kg, Protección de sobrepeso, Bandeja reforzado en acero inoxidable, LCD con luz de fondo, Teclado resistente al agua y al aceite, Unidades de pesaje kilogramos, Dimensiones de la bandeja: 45 cm de ancho x 60 cm de largo aproximadamente; Total función de ahorro de energía, Batería recargable, con mínimo 12 meses de garantía. | F6: Unidad | G6: 1 | H6: 540000 | I6: 548000 | J6: 728350 | K6: =ROUND(AVERAGE(H6:J6),0) -> 605450 | L6: =+K6*G6 -> 605450 | M6: =MIN(H6,I6,J6) -> 540000 | N6: =MAX(H6,I6,J6) -> 728350 | O6: =+(M6-K6)/K6 -> -0.10810141 | P6: =+(N6-K6)/K6 -> 0.20298951 | R6: =+(I6-H6)/H6 -> 0.014814815 | S6: =+(J6-H6)/H6 -> 0.3487963 | T6: =+(J6-I6)/I6 -> 0.32910584
A7: Tumaco | B7: Camarón | C7: Equipos y herramientas | D7: 4 | E7: Blower Aireador Solar de 1 HP Kit blower o soplador industrial para aireación de estanques con funcionamiento mediante energía solar, Potencia: 750 watts (1 HP), Función Doble Propósito: inyección de aire oxigenado y extracción de gases nocivos, Voltaje: DC 48 voltios, Caudal: mínimo 25 m³/hora, Cobertura: mínimo 666 m², Material carcasa: plástico ABS, Dimensiones: 16 cm de ancho x 46 cm de alto (+/- 3%), Peso: 14 kg (+/- 3%) Kit Sistema fotovoltaico autónomo compuesto por: 2 paneles solares monocristalinos de 590W. 1 batería ciclo profundo agm 100 amperios y 12 voltios. 1 inversos MPPT 80 amperios con potencia nominal mínima de 3000 watts y tensión nominal de trabajo mínima 12 voltios. 6 conectores mc4 par. 2 breakers AC de 30 amperios. 2 mini breakers DC para el riel DIN 32 amperios 800 voltios. 40 metros de cable polarizado apto para sistemas fotovoltaicos. 1 caja de protección para breakers. 3 cables calibre 2 AWG cada uno de 3 metros de longitud. 4 cables calibre 8AWG cada uno de 3 metros de longitud. 1 Dispositivo de Protección contra Sobretensiones (DPS). | F7: Unidad | G7: 2 | H7: 10020000 | I7: 9550000 | J7: 9746000 | K7: =ROUND(AVERAGE(H7:J7),0) -> 9772000 | L7: =+K7*G7 -> 19544000 | M7: =MIN(H7,I7,J7) -> 9550000 | N7: =MAX(H7,I7,J7) -> 10020000 | O7: =+(M7-K7)/K7 -> -0.02271797 | P7: =+(N7-K7)/K7 -> 0.025378633 | R7: =+(I7-H7)/H7 -> -0.046906188 | S7: =+(J7-H7)/H7 -> -0.027345309 | T7: =+(J7-I7)/I7 -> 0.02052356
A8: Tumaco | B8: Tilapia | C8: Equipos y herramientas | D8: 5 | E8: Carrete Cable Acero Plastificado 1/8”, rollo x 200m, configuración de núcleo en acero galvanizado recubierta por una capa que garantiza protección anticorrosiva, peso aprox 9.7 kg, | F8: Rollo | G8: 2 | H8: 421430 | I8: 417200 | J8: 421370 | K8: =ROUND(AVERAGE(H8:J8),0) -> 420000 | L8: =+K8*G8 -> 840000 | M8: =MIN(H8,I8,J8) -> 417200 | N8: =MAX(H8,I8,J8) -> 421430 | O8: =+(M8-K8)/K8 -> -0.0066666667 | P8: =+(N8-K8)/K8 -> 0.0034047619 | R8: =+(I8-H8)/H8 -> -0.010037254 | S8: =+(J8-H8)/H8 -> -0.0001423724 | T8: =+(J8-I8)/I8 -> 0.0099952061
A9: Tumaco | B9: Camarón | C9: Equipos y herramientas | D9: 6 | E9: Chile (Atarraya de ojo pequeño) para captura de peces tipo carnadas. Material de fabricación: Nylon multifilamento, Radio: 1.7 m, Diámetro: 3.4 m, Grosor del nylon: 0.30 cm apróx, con 5 libras de plomo para su hundimiento, Ojo de malla: 1 pulgada, Circunferencia aproximada: 10 m, Red circular de caída en forma de sombrilla y utilizada al voleo, tipo de cierre: bolsa argolla, con protección contra los rayos del sol - UV | F9: Unidad | G9: 3 | H9: 1131750 | I9: 1127500 | J9: 1130750 | K9: =ROUND(AVERAGE(H9:J9),0) -> 1130000 | L9: =+K9*G9 -> 3390000 | M9: =MIN(H9,I9,J9) -> 1127500 | N9: =MAX(H9,I9,J9) -> 1131750 | O9: =+(M9-K9)/K9 -> -0.0022123894 | P9: =+(N9-K9)/K9 -> 0.0015486726 | R9: =+(I9-H9)/H9 -> -0.0037552463 | S9: =+(J9-H9)/H9 -> -0.00088358736 | T9: =+(J9-I9)/I9 -> 0.0028824834
A10: Tumaco | B10: Camarón | C10: Equipos y herramientas | D10: 7 | E10: Chinchorro para Piscicultura 25 x 2,5 m, calibre mínimo 210/12 o equivalente: Aparejo de pesca especial para la captura de peces, Material de fabricación: nylon multifilamento, Ojo de malla de 1 pulgada sin nudo; Flotación con boyas plásticas estándar de color naranja o azul y lastre de plomo que garantice la correcta operación y extensión de red, Con protección contra los rayos del sol – UV. | F10: Unidad | G10: 2 | H10: 3545500 | I10: 3550000 | J10: 3854500 | K10: =ROUND(AVERAGE(H10:J10),0) -> 3650000 | L10: =+K10*G10 -> 7300000 | M10: =MIN(H10,I10,J10) -> 3545500 | N10: =MAX(H10,I10,J10) -> 3854500 | O10: =+(M10-K10)/K10 -> -0.028630137 | P10: =+(N10-K10)/K10 -> 0.056027397 | R10: =+(I10-H10)/H10 -> 0.0012692145 | S10: =+(J10-H10)/H10 -> 0.087152729 | T10: =+(J10-I10)/I10 -> 0.085774648
A11: Tumaco | B11: Tilapia | C11: Equipos y herramientas | D11: 8 | E11: Discos Secchi para monitoreo de calidad de agua en sistemas piscícolas: Diámetro: 25 centímetros, Material del Cuerpo: Acrílico o polietileno reforzado con perno de acero inoxidable, Dos cuadrantes blancos y dos negros, Cinta o cuerda de 3 metros graduada en milímetros, centímetros y/o metros, Pieza de plomo de 250 gramos para contrapeso, | F11: Unidad | G11: 1 | H11: 310000 | I11: 315000 | J11: 335000 | K11: =ROUND(AVERAGE(H11:J11),0) -> 320000 | L11: =+K11*G11 -> 320000 | M11: =MIN(H11,I11,J11) -> 310000 | N11: =MAX(H11,I11,J11) -> 335000 | O11: =+(M11-K11)/K11 -> -0.03125 | P11: =+(N11-K11)/K11 -> 0.046875 | R11: =+(I11-H11)/H11 -> 0.016129032 | S11: =+(J11-H11)/H11 -> 0.080645161 | T11: =+(J11-I11)/I11 -> 0.063492063
A12: Tumaco | B12: Tilapia | C12: Equipos y herramientas | D12: 9 | E12: Electrobomba con Potencia de 1 HP, diámetro de entrada tubería 2.54 cm, Flujo máximo de 55 l/min, altura máxima de succión de 50 m para acceso a agua en pozos profundos. Dimensiones compactas de 26 cm x 15 cm x 12 cm. | F12: Unidad | G12: 1 | H12: 401540 | I12: 397500 | J12: 562927 | K12: =ROUND(AVERAGE(H12:J12),0) -> 453989 | L12: =+K12*G12 -> 453989 | M12: =MIN(H12,I12,J12) -> 397500 | N12: =MAX(H12,I12,J12) -> 562927 | O12: =+(M12-K12)/K12 -> -0.12442812 | P12: =+(N12-K12)/K12 -> 0.23995736 | R12: =+(I12-H12)/H12 -> -0.010061264 | S12: =+(J12-H12)/H12 -> 0.40192011 | T12: =+(J12-I12)/I12 -> 0.41616855
A13: Tumaco | B13: Camarón | C13: Equipos y herramientas | D13: 10 | E13: Fumigadora Estacionaria con motor de 5.5 Hp a Gasolina, con bomba automática para un caudal entre 20 - 40 Litros por minuto, presión entre 145 – 580 PSI | F13: Unidad | G13: 4 | H13: 1639440 | I13: 1635200 | J13: 1639060 | K13: =ROUND(AVERAGE(H13:J13),0) -> 1637900 | L13: =+K13*G13 -> 6551600 | M13: =MIN(H13,I13,J13) -> 1635200 | N13: =MAX(H13,I13,J13) -> 1639440 | O13: =+(M13-K13)/K13 -> -0.0016484523 | P13: =+(N13-K13)/K13 -> 0.00094022834 | R13: =+(I13-H13)/H13 -> -0.002586249 | S13: =+(J13-H13)/H13 -> -0.00023178646 | T13: =+(J13-I13)/I13 -> 0.0023605675
A14: El Charco | B14: Papa China | C14: Equipos y herramientas | D14: 11 | E14: Fumigadora manual de espalda con una capacidad del Recipiente de 20 Litros en polietileno de alta densidad, capacidad de la cámara de 1 Litro, presión Máxima de Trabajo: 40 PSI (+/- 10%), lanza en acero Inoxidable, con pistón en Latón con posiciones de la Llave: Continua, Intermitente y de bloqueo total. Incluye una boquillas metálica de Cono Hueco (1000 cc), portaboquilla de uso agrícola Universal. | F14: Unidad | G14: 75 | H14: 576450 | I14: 572300 | J14: 576250 | K14: =ROUND(AVERAGE(H14:J14),0) -> 575000 | L14: =+K14*G14 -> 43125000 | M14: =MIN(H14,I14,J14) -> 572300 | N14: =MAX(H14,I14,J14) -> 576450 | O14: =+(M14-K14)/K14 -> -0.0046956522 | P14: =+(N14-K14)/K14 -> 0.0025217391 | R14: =+(I14-H14)/H14 -> -0.0071992367 | S14: =+(J14-H14)/H14 -> -0.00034695117 | T14: =+(J14-I14)/I14 -> 0.0069019745
A15: El Charco | B15: Papa China | C15: Equipos y herramientas | D15: 12 | E15: Geomembrana para revestimiento de estanques o pozos destinados al cultivo de camarón, fabricada en material sintético impermeable tipo HDPE, LLDPE o equivalente, con protección UV y exposiciones ambientales, resistente al rasgado. Dimensiones: área a cubrir 30 m2, medidas sujetas al requerimiento de la supervisión durante ejecución, espesor mínimo 1.0 mm. | F15: Unidad | G15: 30 | H15: 251600 | I15: 247800 | J15: 250600 | K15: =ROUND(AVERAGE(H15:J15),0) -> 250000 | L15: =+K15*G15 -> 7500000 | M15: =MIN(H15,I15,J15) -> 247800 | N15: =MAX(H15,I15,J15) -> 251600 | O15: =+(M15-K15)/K15 -> -0.0088 | P15: =+(N15-K15)/K15 -> 0.0064 | R15: =+(I15-H15)/H15 -> -0.015103339 | S15: =+(J15-H15)/H15 -> -0.0039745628 | T15: =+(J15-I15)/I15 -> 0.011299435
... A29: Tumaco | B29: Tilapia | C29: Equipos y herramientas | D29: 26 | E29: Tanque de plástico (polietileno) con capacidad de 500 litros para almacenamiento de agua potable diámetro aprox 105 cm, ancho aprox 105 cm, alto aprox 103 cm, con capa interior virgen, avalados por NTC 5022 y NTC 4384, con recubrimiento que evite la producción de algas y bacterias, con aditivo U.V para el bloqueo de rayos ultravioletas. | F29: Unidad | G29: 75 | H29: 307500 | I29: 302100 | J29: 305400 | K29: =ROUND(AVERAGE(H29:J29),0) -> 305000 | L29: =+K29*G29 -> 22875000 | M29: =MIN(H29,I29,J29) -> 302100 | N29: =MAX(H29,I29,J29) -> 307500 | O29: =+(M29-K29)/K29 -> -0.0095081967 | P29: =+(N29-K29)/K29 -> 0.0081967213 | R29: =+(I29-H29)/H29 -> -0.017560976 | S29: =+(J29-H29)/H29 -> -0.0068292683 | T29: =+(J29-I29)/I29 -> 0.010923535
D30: TOTAL | H30: =+SUM(H4:H29) -> 49403600 | I30: =+SUM(I4:I29) -> 48832200 | J30: =+SUM(J4:J29) -> 50470708 | K30: =+SUM(K4:K29) -> 49568836 | L30: =+SUM(L4:L29) -> 184359915
D32: LOTE N°2: INSUMOS
D33: ITEM N° | E33: PRODUCTO | F33: UNIDAD DE MEDIDA | G33: CANTIDAD | H33: AGRICOLA SAN JOSÉ FUNES NIT 27203549 | I33: ASOCIACION DE CABILDOS INDIGENAS DE LA ZONA DE IPIALES (ACIZI) NIT 830000096 | J33: FUNDACIÓN RUNAQAYA NIT 900358541 | K33: PROMEDIO UNITARIO | L33: VALOR TOTAL PROMEDIO | M33: MIN | N33: MAX | O33: DISPERSIÓN MIN | P33: DISPERSIÓN MAX | R33: DISPERSIÓN ENTRE COTIZACIONES
H34: VALOR UNITARIO | I34: VALOR UNITARIO | J34: VALOR UNITARIO | R34: AB | S34: AC | T34: BC
A35: El Charco | B35: Papa China | C35: Insumo | D35: 1 | E35: Abono orgánico mezclado con materiales de origen orgánico animal y vegetal que han sido sometidos a un proceso de compostaje y maduración, con una composición mínima de nitrógeno al 1,5%, Fosforo asimilable al 4% y Potasio soluble al 3,5%, Calcio (CaO) 10%, Magnesio total (MgO) 1.3%, Carbono orgánico oxidable 19% . Bulto x 40 kg. | F35: Bulto | G35: 60 | H35: 81230 | I35: 78200 | J35: 80570 | K35: =ROUND(AVERAGE(H35:J35),0) -> 80000 | L35: =+K35*G35 -> 4800000 | M35: =MIN(H35,I35,J35) -> 78200 | N35: =MAX(H35,I35,J35) -> 81230 | O35: =+(M35-K35)/K35 -> -0.0225 | P35: =+(N35-K35)/K35 -> 0.015375 | R35: =+(I35-H35)/H35 -> -0.03730149 | S35: =+(J35-H35)/H35 -> -0.0081250769 | T35: =+(J35-I35)/I35 -> 0.030306905
A36: Tumaco | B36: Tilapia | C36: Insumo | D36: 2 | E36: Semilla certificada de Alevinos de tilapia roja Oreochromis sp de 1 gramos o de peso aproximado con tamaño entre 2,5 - 3 cm, homogéneos, porcentaje de reversión sexual mínimo del 90% | F36: Unidad | G36: 24250 | H36: 360 | I36: 365 | J36: 385 | K36: =ROUND(AVERAGE(H36:J36),0) -> 370 | L36: =+K36*G36 -> 8972500 | M36: =MIN(H36,I36,J36) -> 360 | N36: =MAX(H36,I36,J36) -> 385 | O36: =+(M36-K36)/K36 -> -0.027027027 | P36: =+(N36-K36)/K36 -> 0.040540541 | R36: =+(I36-H36)/H36 -> 0.013888889 | S36: =+(J36-H36)/H36 -> 0.069444444 | T36: =+(J36-I36)/I36 -> 0.054794521
A37: Tumaco | B37: Camarón | C37: Insumo | D37: 3 | E37: Cal agrícola: polvo blanco, finamente divido e inoloro, material . Carbonato de Calcio CaCO3 90%-100%. solubilidad 0.017 g/l, punto de fusión 825ºC. Bulto x 50 kg | F37: Bulto | G37: 4 | H37: 46120 | I37: 42800 | J37: 46080 | K37: =ROUND(AVERAGE(H37:J37),0) -> 45000 | L37: =+K37*G37 -> 180000 | M37: =MIN(H37,I37,J37) -> 42800 | N37: =MAX(H37,I37,J37) -> 46120 | O37: =+(M37-K37)/K37 -> -0.048888889 | P37: =+(N37-K37)/K37 -> 0.024888889 | R37: =+(I37-H37)/H37 -> -0.071986123 | S37: =+(J37-H37)/H37 -> -0.00086730269 | T37: =+(J37-I37)/I37 -> 0.076635514
A38: Tumaco | B38: Camarón | C38: Insumo | D38: 4 | E38: Concentrado para camarón, durante las etapas de levante y finalización,. Proteína (MIN) 35.0%, Grasa (MIN) 5.0%, fibra (MIN) 5.0%, ceniza (MÁX) 12%, humedad (MÁX) 13.0%, presentación bulto x 40 kg | F38: Bulto | G38: 70 | H38: 156780 | I38: 152300 | J38: 155920 | K38: =ROUND(AVERAGE(H38:J38),0) -> 155000 | L38: =+K38*G38 -> 10850000 | M38: =MIN(H38,I38,J38) -> 152300 | N38: =MAX(H38,I38,J38) -> 156780 | O38: =+(M38-K38)/K38 -> -0.017419355 | P38: =+(N38-K38)/K38 -> 0.011483871 | R38: =+(I38-H38)/H38 -> -0.028575073 | S38: =+(J38-H38)/H38 -> -0.0054853935 | T38: =+(J38-I38)/I38 -> 0.023768877
A39: Tumaco | B39: Tilapia | C39: Insumo | D39: 5 | E39: Concentrado para tilapia extruder 24% de proteína min, Grasa min 4%, Fibra máx 8.0%, Cenizas máx 10%, Humedad máx 12 %. Fecha de vigencia y/o elaboración. Presentación Bulto x 40 kg | F39: Bulto | G39: 98 | H39: 134000 | I39: 134950 | J39: 137310 | K39: =ROUND(AVERAGE(H39:J39),0) -> 135420 | L39: =+K39*G39 -> 13271160 | M39: =MIN(H39,I39,J39) -> 134000 | N39: =MAX(H39,I39,J39) -> 137310 | O39: =+(M39-K39)/K39 -> -0.010485896 | P39: =+(N39-K39)/K39 -> 0.01395658 | R39: =+(I39-H39)/H39 -> 0.0070895522 | S39: =+(J39-H39)/H39 -> 0.024701493 | T39: =+(J39-I39)/I39 -> 0.017487959
A40: Tumaco | B40: Tilapia | C40: Insumo | D40: 6 | E40: Concentrado para tilapia extruder 30% de proteína min, Grasa min 6%, Fibra máx 6.0%, Cenizas máx 12%, Humedad máx 12%. Fecha de vigencia y/o elaboración. Presentación bulto x 40 kg. | F40: Bulto | G40: 146 | H40: 153720 | I40: 152950 | J40: 154490 | K40: =ROUND(AVERAGE(H40:J40),0) -> 153720 | L40: =+K40*G40 -> 22443120 | M40: =MIN(H40,I40,J40) -> 152950 | N40: =MAX(H40,I40,J40) -> 154490 | O40: =+(M40-K40)/K40 -> -0.0050091075 | P40: =+(N40-K40)/K40 -> 0.0050091075 | R40: =+(I40-H40)/H40 -> -0.0050091075 | S40: =+(J40-H40)/H40 -> 0.0050091075 | T40: =+(J40-I40)/I40 -> 0.01006865
A41: Tumaco | B41: Tilapia | C41: Insumo | D41: 7 | E41: Concentrado para tilapia extruder 38% de proteína min, Grasa min 4%, Fibra máx 6.0%, Cenizas máx 10%, Humedad máx 12%. Fecha de vigencia y/o elaboración. Presentación Bulto x 40 kg. | F41: Bulto | G41: 48 | H41: 178000 | I41: 178500 | J41: 181520 | K41: =ROUND(AVERAGE(H41:J41),0) -> 179340 | L41: =+K41*G41 -> 8608320 | M41: =MIN(H41,I41,J41) -> 178000 | N41: =MAX(H41,I41,J41) -> 181520 | O41: =+(M41-K41)/K41 -> -0.0074718412 | P41: =+(N41-K41)/K41 -> 0.012155682 | R41: =+(I41-H41)/H41 -> 0.0028089888 | S41: =+(J41-H41)/H41 -> 0.019775281 | T41: =+(J41-I41)/I41 -> 0.016918768
A42: Tumaco | B42: Tilapia | C42: Insumo | D42: 8 | E42: Concentrado para tilapia harina 45% de proteína min, Grasa min 4%, Fibra máx 6.0%, Cenizas máx 10%, Humedad máx 12%. Fecha de vigencia y/o elaboración. Presentación bulto x 40 Kg. | F42: Bulto | G42: 14 | H42: 227000 | I42: 230000 | J42: 227420 | K42: =ROUND(AVERAGE(H42:J42),0) -> 228140 | L42: =+K42*G42 -> 3193960 | M42: =MIN(H42,I42,J42) -> 227000 | N42: =MAX(H42,I42,J42) -> 230000 | O42: =+(M42-K42)/K42 -> -0.0049969317 | P42: =+(N42-K42)/K42 -> 0.0081528886 | R42: =+(I42-H42)/H42 -> 0.013215859 | S42: =+(J42-H42)/H42 -> 0.0018502203 | T42: =+(J42-I42)/I42 -> -0.011217391
A43: Tumaco | B43: Tilapia | C43: Insumo | D43: 9 | E43: Feromonas de Segregación Rhynchophorol C. Feromona sintética imitante de la señal química del compuesto orgánico secretado por los machos de la especie mencionada para atraer individuos de ambos sexos y de esta forma capturarlos en el trampeo masivo. Sobre x 0,5 ml. | F43: Unidad | G43: 30 | H43: 21540 | I43: 17800 | J43: 21041 | K43: =ROUND(AVERAGE(H43:J43),0) -> 20127 | L43: =+K43*G43 -> 603810 | M43: =MIN(H43,I43,J43) -> 17800 | N43: =MAX(H43,I43,J43) -> 21540 | O43: =+(M43-K43)/K43 -> -0.11561584 | P43: =+(N43-K43)/K43 -> 0.070204203 | R43: =+(I43-H43)/H43 -> -0.17363045 | S43: =+(J43-H43)/H43 -> -0.023166202 | T43: =+(J43-I43)/I43 -> 0.18207865
A44: Mosquera | B44: Coco | C44: Insumo | D44: 10 | E44: Fertilizante complejo, sólido granulado soluble, de color beige pálido. Nitrógeno total (% N) 15%, Fósforo total 15%, Potasio Total 15%, azufre total 10% pH: 6,0 – 7,2. Solubilidad en agua: 90 g/100 ml. Presentación bulto x 50 Kg. | F44: Bulto | G44: 30 | H44: 306120 | I44: 302800 | J44: 306080 | K44: =ROUND(AVERAGE(H44:J44),0) -> 305000 | L44: =+K44*G44 -> 9150000 | M44: =MIN(H44,I44,J44) -> 302800 | N44: =MAX(H44,I44,J44) -> 306120 | O44: =+(M44-K44)/K44 -> -0.0072131148 | P44: =+(N44-K44)/K44 -> 0.0036721311 | R44: =+(I44-H44)/H44 -> -0.01084542 | S44: =+(J44-H44)/H44 -> -0.00013066771 | T44: =+(J44-I44)/I44 -> 0.010832232
A45: El Charco | B45: Papa China | C45: Insumo | D45: 11 | E45: Fertilizante completo formulado 17-6-18-2, con una composición Nitrógeno Total (N) 17%, Fósforo 6%, Potasio 18%, Magnesio total 2%. Presentación bulto x 50 Kg. | F45: Bulto | G45: 30 | H45: 246150 | I45: 242300 | J45: 246550 | K45: =ROUND(AVERAGE(H45:J45),0) -> 245000 | L45: =+K45*G45 -> 7350000 | M45: =MIN(H45,I45,J45) -> 242300 | N45: =MAX(H45,I45,J45) -> 246550 | O45: =+(M45-K45)/K45 -> -0.011020408 | P45: =+(N45-K45)/K45 -> 0.0063265306 | R45: =+(I45-H45)/H45 -> -0.015640869 | S45: =+(J45-H45)/H45 -> 0.0016250254 | T45: =+(J45-I45)/I45 -> 0.017540239
A46: La Tola | B46: Plátano | C46: Insumo | D46: 12 | E46: Fungicida sistémico de aplicación foliar para el control de la sigatoka negra y botrytis su ingrediente activo es Pyrimethanil que inhibe la secreción de encimas. Presentación envase plástico x litro. | F46: Litro | G46: 30 | H46: 132500 | I46: 128500 | J46: 132105 | K46: =ROUND(AVERAGE(H46:J46),0) -> 131035 | L46: =+K46*G46 -> 3931050 | M46: =MIN(H46,I46,J46) -> 128500 | N46: =MAX(H46,I46,J46) -> 132500 | O46: =+(M46-K46)/K46 -> -0.019345976 | P46: =+(N46-K46)/K46 -> 0.011180219 | R46: =+(I46-H46)/H46 -> -0.030188679 | S46: =+(J46-H46)/H46 -> -0.0029811321 | T46: =+(J46-I46)/I46 -> 0.028054475
... A54: Mosquera | B54: Coco | C54: Insumo | D54: 20 | E54: Sal Marina para Piscicultura, Compuesta por Cloruro sódico (NaCl), Humedad ≤ 0.5%, Cloruro sódico en materia seca ≥ 97%, Residuo insoluble en agua ≤5 gr/kg, Nitrógeno Total ≤20 mg/kg. NO CONTIENE ADITIVOS. Producto Color blanco, granulado, cristalino, inodoro, limpio, suelto y soluble en agua. Presentación bulto x 34 kg. | F54: Bulto | G54: 10 | H54: 39000 | I54: 39700 | J54: 43400 | K54: =ROUND(AVERAGE(H54:J54),0) -> 40700 | L54: =+K54*G54 -> 407000 | M54: =MIN(H54,I54,J54) -> 39000 | N54: =MAX(H54,I54,J54) -> 43400 | O54: =+(M54-K54)/K54 -> -0.041769042 | P54: =+(N54-K54)/K54 -> 0.066339066 | R54: =+(I54-H54)/H54 -> 0.017948718 | S54: =+(J54-H54)/H54 -> 0.11282051 | T54: =+(J54-I54)/I54 -> 0.093198992
A55: Tumaco | B55: 0 | C55: Insumo | D55: 21 | E55: Semillas para palmas de coco con desarrollo de raíz germinativo y tallo mínimo con 4 hojas. Las semillas deben provenir de viveros certificados por el ICA. | F55: Unidad | G55: 675 | H55: 20780 | I55: 16500 | J55: 21520 | K55: =ROUND(AVERAGE(H55:J55),0) -> 19600 | L55: =+K55*G55 -> 13230000 | M55: =MIN(H55,I55,J55) -> 16500 | N55: =MAX(H55,I55,J55) -> 21520 | O55: =+(M55-K55)/K55 -> -0.15816327 | P55: =+(N55-K55)/K55 -> 0.097959184 | R55: =+(I55-H55)/H55 -> -0.20596728 | S55: =+(J55-H55)/H55 -> 0.035611165 | T55: =+(J55-I55)/I55 -> 0.30424242
D56: TOTAL | H56: =+SUM(H35:H55) -> 2210570 | I56: =+SUM(I35:I55) -> 2162585 | J56: =+SUM(J35:J55) -> 2217851 | K56: =+SUM(K35:K55) -> 2197002 | L56: =+SUM(L35:L55) -> 135221220
D60: RESUMEN POR LOTE
D61: LOTE N° | E61: DESCRIPCIÓN | F61: VALOR TOTAL PROMEDIO
D62: 1 | E62: =+D1 -> LOTE N°1: EQUIPOS Y HERRAMIENTAS | F62: =+L30 -> 184359915
D63: 2 | E63: =+D32 -> LOTE N°2: INSUMOS | F63: =+L56 -> 135221220
D64: TOTAL | F64: =+F62+F63 -> 319581135

Sheet PRECIOS VIRTUALES ESTIMADOS
I45: https://ambientesolar.com.co/productos/kit-aislado-para-generacion-de-energia-con-acumulacion-en-bateria/
I57: https://www.homecenter.com.co/homecenter-co/product/354895/carrete-cable-acero-plastificado-1-8pg-200m/354895/
I71: https://biologika.co/products/atarraya?srsltid=AfmBOopQDmvqQunsZInnV44ttdl94Kzx40Y_aPFAOAYctZq_lnCm4rKh
H86: https://fabricaderedes.com/diametro-3-00-metros/1486-atarraya-multifilamento-malla-1cm.html
H102: https://colombia.bioweb.co/products/disco-secchi-limnologico-30-cm?variant=17959196933
I114: https://homecenter.falabella.com.co/homecenter-co/product/118865755/electrobomba-centrifuga-1-hp/118865759
I129: https://maquinagro.com/producto/fumigadora-estacionaria-honda-gx160-hl30b2-crg-5-5-hp/
I139: https://veterinarialared.com/producto/fumigadora-estacionaria-motor-gasolina-honda-gx160-bomba-diamond-ts28/
I140: https://www.homecenter.com.co/homecenter-co/product/384327/fumigadora-estacionaria-bomba-diafragma-de-55hp/384327/
H150: https://www.royalcondor.com/fumigadora-manual-royalcondor-la-activa/p
H160: https://www.homecenter.com.co/homecenter-co/product/562103/guadana-a-gasolina-srm4510-eje-recto-de-457-cc-2-tiempos/562103/
I172: https://www.royalcondor.com/repuestos-y-accesorios-kit-de-proteccion-royalcondor-con-pantalon-kitprtc-p/p
I184: https://www.durespo.com/products/motoazada-b1050-fujita-con-motor-a-diesel-de-6-5-hp-296-cc-4-tiempos-arranque-manual?srsltid=AfmBOoqxjIWXiEMtDLCvJbJfxYOCdMy2vxouecdLtVeagoAdFDDmzSfn
F200: https://www.homecenter.com.co/homecenter-co/product/477889/malla-gallinero-18x50mts-sin-ttubo/477889/
H211: https://www.homecenter.com.co/homecenter-co/product/517457/manguera-1-2pulgpolietileno-100-m-120-psi/517457/
H238: https://colombia.bioweb.co/products/kit-portatil-medidor-de-oxigeno-disuelto-con-sonda-y-estuche
A239: https://hannacolombia.com/producto/medidor-optico-de-oxigeno-disuelto-impermeable-opdo-hi98198-4m-13/?srsltid=AfmBOophMpPsUj9zQrdQWSXk70yU_VGASskIMXRrLiuTMokZCBKqJU0O
H242: https://maquitecdecolombia.com/compra-de/equipo-agricola/motosierra/motosierra-gasolina-toyama-722-cc-espada-24-pulgadas-tcs72xp/?shopping&gad_source=1&gad_campaignid=12733869726&gbraid=0AAAAADwAQf8OJfZTng3K3qwYs7sifhcSp&gclid=CjwKCAjwvsvTBhBaEiwAmf-3nm2JPqdRUipUliP0mRwnV4lGLp_Tn27o-JPLEMJrseOpTLNn3LaEphoCHdgQAvD_BwE
G254: https://sumagen.com.co/product/overol-fontanero/
H263: https://www.homecenter.com.co/homecenter-co/product/148136/pala-redonda-n4-con-cabo-68036/148136/
I277: https://croper.com/products/1359-tanque-agroindustrial-m-16?srsltid=AfmBOoplgKdtF6IqZGFYHRpyQOZ8B4O5Xw5kv_lUTUYTJuZGIBqSBXr1byc
I287: https://croper.com/products/4919-tanque-agroindustrial-m-10?srsltid=AfmBOorlWaUoKl9Rx7AzkwlgOBWbM8uNmgolBQyrAjOZKGbkVcyxVhEnckU
G299: https://www.homecenter.com.co/homecenter-co/product/31652/tanque-1000-litros/31652/
G312: https://www.homecenter.com.co/homecenter-co/product/31651/tanque-500-litros/31651/
H324: https://www.google.com/search?sa=X&sca_esv=96de9828adab30a7&rlz=1C1GCEB_enCO1035CO1036&sxsrf=APpeQns3CEaKNi50BB6Db0X5vWDdXzgJlQ:1785959987935&udm=28&fbs=ABfTbFUDadgeu2mn4mYJ8iEZ1GUDd8ABuXxNzQEi57SWOuuPdScLx3ol9c1cFkljSkR7a93eyZS02fp-fDRcVXCUwvuz9DHbYMMSENnBbIGS51lwyjqEsRyis7SdfyYi7Cg-VPJyOtVdyh40NW8ZssFrM8zdGCzFjj5ueqH6DyQWx1mvZZVUaDL6NksYAgMmM9dWagfXFWqwvOkVLwnmk9DGOu2P48Ty_cYUSKOuXz_IqgxxCYbsJJc&q=Abono+org%C3%A1nico+mezclado+composici%C3%B3n+m%C3%ADnima+de+nitr%C3%B3geno+al+1,5%25,+Fosforo+asimilable+al+4%25+y+Potasio+soluble+al+3,5%25,+Calcio+(CaO)+10%25,+Magnesio+total+(MgO)+1.3%25,+Carbono+org%C3%A1nico+oxidable+19%25+.+Bulto+x+40+kg.&ved=1t:220175&ictx=111&biw=1366&bih=633&dpr=1
I336: https://croper.com/products/12886-alevines-y-larvas-de-tilpia-roja?srsltid=AfmBOoqSu3z6NAm2JcIVHr9BT3cB15u3c4YSm5Qd_ZQ0tT56gNQS9_l-
H347: https://www.tierragro.com/products/15-15-15-x-50-kg-nutrimon-fertilizantes-agro?variant=46165147287777
H363: https://www.mercadolibre.com.co/fertilizante-abono-produccion-nutrimon-176182-x-50kg/up/MCOU3097963979?matt_tool=19390127&utm_source=google_shopping&utm_medium=organic&pdp_filters=item_id%3AMCO2841795552&from=gshop
H379: https://agroactivocol.com/products/fungicida-pyrimethanil-siganex-60-sc?srsltid=AfmBOopV8YXor7a5cZAtFDQQdTvOZYX3gqUGeHCN7lM-_jQEW1JZ7R7y
I392: https://agroactivocol.com/products/herbicida-paraquat-gramafin-sl?variant=45726028103811
I406: https://agroactivocol.com/products/insecticida-lambda-cihalotrina-athrin-brio?srsltid=AfmBOoqII_ijxmca05pvo_VR7a4LqduTmuuUCH477rR9DPw23yzdNPZO
I421: https://tumatera.co/products/bulto-cal-dolomita-x-50-kg?variant=42842320175331&country=CO&currency=COP&utm_medium=product_sync&utm_source=google&utm_content=sag_organic&utm_campaign=sag_organic&srsltid=AfmBOoqdwHysNURYRkf8U3Yu3YmzcxHAvqjGu55ioivuV7bneNZbqPd_6M0
I435: https://www.tierragro.com/products/melaza-agrorisaralda-bolsa-x-30-kls?srsltid=AfmBOop5tI0KR5PfO7Sla3JdT5Ss_YFIiJ1EwlH-kExT4KkFz6Ruu19p
I451: https://www.homecenter.com.co/homecenter-co/product/395751/bidon-porta-agua-colapsible-plastico-blanco-20-lt/395751/
I464: https://www.tiendascalypso.com/saco-fique-granel/p?srsltid=AfmBOorhfyACqh5wxKXo9lEBZz6Ei5KxgwkXRt5_Z4E5OuwGnnyA178a

Sheet Papa china Charco
B2: Municipio | C2: =('INFO GENERAL'!B4) -> El Charco
C3: ='INFO GENERAL'!B7 -> Santa Barbara de iscuandé
B4: =('INFO GENERAL'!E2) -> Número de beneficiarios | C4: =('INFO GENERAL'!E7) -> 15
B5: Tope presupuestal | C5: =('INFO GENERAL'!D7) -> 36916227
B6: Saldo presupuestal | C6: =(C5-G19) -> 15000
B8: TIPO | C8: DESCRIPCION | D8: UNIDAD DE MEDIDA | E8: CANTIDAD | F8: VALOR UNITARIO | G8: VALOR TOTAL
A9: =($C$2) -> El Charco | B9: Insumo | C9: Abono orgánico mezclado con materiales de origen orgánico animal y vegetal que han sido sometidos a un proceso de compostaje y maduración, con una composición mínima de nitrógeno al 1,5%, Fosforo asimilable al 4% y Potasio soluble al 3,5%, Calcio (CaO) 10%, Magnesio total (MgO) 1.3%, Carbono orgánico oxidable 19% . Bulto x 40 kg. | D9: =+'VERIFICACIÓN CANTIDADES'!E28 -> Bulto | E9: 30 | F9: =+'ANALISIS COTIZACIONES'!K35 -> 80000 | G9: =+F9*E9 -> 2400000 | M9: Abono orgánico mezclado con materiales de origen orgánico animal y vegetal que han sido sometidos a un proceso de compostaje y maduración, con una composición mínima de nitrógeno al 1,5%, Fosforo asimilable al 4% y Potasio soluble al 3,5%, Calcio (CaO) 10%, Magnesio total (MgO) 1.3%, Carbono orgánico oxidable 19% . Bulto x 40 kg. | N9: 114000
A10: =($C$2) -> El Charco | B10: Insumo | C10: =+'VERIFICACIÓN CANTIDADES'!D40 -> Herbicida foliar no selectivo con ingrediente activo paraquat al 20%, herbicida post-emergente de contacto no selectivo, ideal para controlar rápidamente malezas de hoja ancha y gramíneas, resistente a la lluvia y se inactiva al contacto con el suelo. Densidad 1.070-1.084 g/ml, pH 4-7, contenido paraquat 188-212 g/l, Categoría II. Presentación Caneca x 5 galones. | D10: =+'VERIFICACIÓN CANTIDADES'!E40 -> Caneca | E10: 15 | F10: =+'ANALISIS COTIZACIONES'!K47 -> 255000 | G10: =+F10*E10 -> 3825000 | M10: Balanza Mecánica de Reloj para 20 Kilos con Platón, balanza de colgar, Material de fabricación: Aro Central elaborado en lámina de acero cold rolled Calibre 26 y pintado en esmalte horneable color blanco o azul. Bisel en aluminio repujado o brillado Contra bisel hecho en aluminio Carátula o dial: elaborada en artes y posteriormente se hace la parte de litografía en hojalata, pintada con esmalte horneable y posteriormente se cubre con barniz transparente. Remache fabricado en hierro 3/8” para el automático. Resortes compensados a temperatura: elaborados en alambres acerados. Piñón enterizo en acero. Visor en vidrio: elaborado en vidrio transparente de 2mm. Colgante con oreja. Reloj con aro pintado, División: 1 onza, Diámetro del reloj: 21 cm, Sistema Mecánico con lectura por ambos lados, lectura por una cara en kilos y por la otra en libras. | N10: 225000
A11: =($C$2) -> El Charco | B11: Insumo | C11: =+'VERIFICACIÓN CANTIDADES'!D42 -> Cal dolomita proveniente de la pulverización de la roca dolomita. Calcio total (CaO) 35% - Magnesio total (MgO) 16%, pH 9.7. Bulto x 40 kilogramos | D11: =+'VERIFICACIÓN CANTIDADES'!E42 -> Bulto | E11: 30 | F11: =+'ANALISIS COTIZACIONES'!K49 -> 79500 | G11: =+F11*E11 -> 2385000 | M11: Bascula Portátil Electrónica Báscula portátil electrónica, plataforma plegable 100%, Capacidad de pesaje máximo: 500 kg, Protección de sobrepeso, Bandeja reforzado en acero inoxidable, LCD con luz de fondo, Teclado resistente al agua y al aceite, Unidades de pesaje kilogramos, Dimensiones de la bandeja: 45 cm de ancho x 60 cm de largo aproximadamente; Total función de ahorro de energía, Batería recargable, con mínimo 12 meses de garantía. | N11: 605450
A12: =($C$2) -> El Charco | B12: Insumo | C12: =+'VERIFICACIÓN CANTIDADES'!D37 -> Fertilizante complejo, sólido granulado soluble, de color beige pálido. Nitrógeno total (% N) 15%, Fósforo total 15%, Potasio Total 15%, azufre total 10% pH: 6,0 – 7,2. Solubilidad en agua: 90 g/100 ml. Presentación bulto x 50 Kg. | D12: =+'VERIFICACIÓN CANTIDADES'!E37 -> Bulto | E12: 15 | F12: =+'ANALISIS COTIZACIONES'!K44 -> 305000 | G12: =+F12*E12 -> 4575000 | M12: Blower Aireador Solar de 1 HP Kit blower o soplador industrial para aireación de estanques con funcionamiento mediante energía solar, Potencia: 750 watts (1 HP), Función Doble Propósito: inyección de aire oxigenado y extracción de gases nocivos, Voltaje: DC 48 voltios, Caudal: mínimo 25 m³/hora, Cobertura: mínimo 666 m², Material carcasa: plástico ABS, Dimensiones: 16 cm de ancho x 46 cm de alto (+/- 3%), Peso: 14 kg (+/- 3%) Kit Sistema fotovoltaico autónomo compuesto por: 2 paneles solares monocristalinos de 590W. 1 batería ciclo profundo agm 100 amperios y 12 voltios. 1 inversos MPPT 80 amperios con potencia nominal mínima de 3000 watts y tensión nominal de trabajo mínima 12 voltios. 6 conectores mc4 par. 2 breakers AC de 30 amperios. 2 mini breakers DC para el riel DIN 32 amperios 800 voltios. 40 metros de cable polarizado apto para sistemas fotovoltaicos. 1 caja de protección para breakers. 3 cables calibre 2 AWG cada uno de 3 metros de longitud. 4 cables calibre 8AWG cada uno de 3 metros de longitud. 1 Dispositivo de Protección contra Sobretensiones (DPS). | N12: 9772000
A13: =($C$2) -> El Charco | B13: Equipos y herramientas | C13: =+'VERIFICACIÓN CANTIDADES'!D12 -> Fumigadora manual de espalda con una capacidad del Recipiente de 20 Litros en polietileno de alta densidad, capacidad de la cámara de 1 Litro, presión Máxima de Trabajo: 40 PSI (+/- 10%), lanza en acero Inoxidable, con pistón en Latón con posiciones de la Llave: Continua, Intermitente y de bloqueo total. Incluye una boquillas metálica de Cono Hueco (1000 cc), portaboquilla de uso agrícola Universal. | D13: =+'VERIFICACIÓN CANTIDADES'!E12 -> Unidad | E13: 15 | F13: =+'ANALISIS COTIZACIONES'!K14 -> 575000 | G13: =+F13*E13 -> 8625000 | M13: Carrete Cable Acero Plastificado 1/8”, rollo x 200m, configuración de núcleo en acero galvanizado recubierta por una capa que garantiza protección anticorrosiva, peso aprox 9.7 kg, | N13: 420000
A14: =($C$2) -> El Charco | B14: Equipos y herramientas | C14: =+'VERIFICACIÓN CANTIDADES'!D2 -> Azada fabricada de una única pieza templada, en acero carbono de alta calidad, recubierta con pintura electrostática a polvo, lámina de tamaño 2.5 pulgadas, ojo de 38 mm de diámetro, mango de 145 cm en madera barnizada. | D14: =+'VERIFICACIÓN CANTIDADES'!E2 -> Unidad | E14: 15 | F14: =+'ANALISIS COTIZACIONES'!K4 -> 114000 | G14: =+F14*E14 -> 1710000 | M14: Chile (Atarraya de ojo pequeño) para captura de peces tipo carnadas. Material de fabricación: Nylon multifilamento, Radio: 1.7 m, Diámetro: 3.4 m, Grosor del nylon: 0.30 cm apróx, con 5 libras de plomo para su hundimiento, Ojo de malla: 1 pulgada, Circunferencia aproximada: 10 m, Red circular de caída en forma de sombrilla y utilizada al voleo, tipo de cierre: bolsa argolla, con protección contra los rayos del sol - UV | N14: 1130000
A15: =($C$2) -> El Charco | B15: Equipos y herramientas | C15: =+'VERIFICACIÓN CANTIDADES'!D27 -> Tanque de plástico (polietileno) con capacidad de 500 litros para almacenamiento de agua potable diámetro aprox 105 cm, ancho aprox 105 cm, alto aprox 103 cm, con capa interior virgen, avalados por NTC 5022 y NTC 4384, con recubrimiento que evite la producción de algas y bacterias, con aditivo U.V para el bloqueo de rayos ultravioletas. | D15: =+'VERIFICACIÓN CANTIDADES'!E27 -> Unidad | E15: 15 | F15: =+'ANALISIS COTIZACIONES'!K29 -> 305000 | G15: =+F15*E15 -> 4575000 | M15: Chinchorro para Piscicultura 25 x 2,5 m, calibre mínimo 210/12 o equivalente: Aparejo de pesca especial para la captura de peces, Material de fabricación: nylon multifilamento, Ojo de malla de 1 pulgada sin nudo; Flotación con boyas plásticas estándar de color naranja o azul y lastre de plomo que garantice la correcta operación y extensión de red, Con protección contra los rayos del sol – UV. | N15: 3650000
A16: =($C$2) -> El Charco | B16: Equipos y herramientas | C16: =+'VERIFICACIÓN CANTIDADES'!D17 -> Motocultor con motor Diesel de 4T y 296cc con sistema de arranque manual y abarca en promedio unos 400m²/hora con su trabajo de labranza de entre 180 y 300 mm de profundidad y de entre 1050 y 1350 mm de ancho de transmisión por engranajes, clutch de plato húmedo, palanca de cambios con reversa – marcha 2 – neutro – 1, peso de 160 kilogramos, ruedas de 8 pulgadas. | D16: =+'VERIFICACIÓN CANTIDADES'!E17 -> Unidad | E16: 1 | F16: =+'ANALISIS COTIZACIONES'!K19 -> 4930327 | G16: =+F16*E16 -> 4930327 | M16: Discos Secchi para monitoreo de calidad de agua en sistemas piscícolas: Diámetro: 25 centímetros, Material del Cuerpo: Acrílico o polietileno reforzado con perno de acero inoxidable, Dos cuadrantes blancos y dos negros, Cinta o cuerda de 3 metros graduada en milímetros, centímetros y/o metros, Pieza de plomo de 250 gramos para contrapeso, | N16: 320000
A17: =($C$2) -> El Charco | B17: Equipos y herramientas | C17: =+'VERIFICACIÓN CANTIDADES'!D11 -> Fumigadora Estacionaria con motor de 5.5 Hp a Gasolina, con bomba automática para un caudal entre 20 - 40 Litros por minuto, presión entre 145 – 580 PSI | D17: =+'VERIFICACIÓN CANTIDADES'!E11 -> Unidad | E17: 1 | F17: =+'ANALISIS COTIZACIONES'!K13 -> 1637900 | G17: =+F17*E17 -> 1637900 | M17: Electrobomba con Potencia de 1 HP, diámetro de entrada tubería 2.54 cm, Flujo máximo de 55 l/min, altura máxima de succión de 50 m para acceso a agua en pozos profundos. Dimensiones compactas de 26 cm x 15 cm x 12 cm. | N17: 453989
A18: =($C$2) -> El Charco | B18: Equipos y herramientas | C18: =+'VERIFICACIÓN CANTIDADES'!D14 -> Guadaña con motor de dos tiempos con un rango de 40 CC a 45 CC, potencia de 1,6 - 2.2 KW, peso entre 6 - 6.3 kilogramos, presión acústica 90 - 96 dB, vibraciones izquierda/derecha 6,4/3,4 m/s2, cuchilla matorrales, capacidad de depósito 0,64 litros, eje de transmisión rígido, sistema anti vibración de un punto, longitud total (sin herramienta de corte) 190 centímetros, ancho de corte mínimo de 41 a 42 cm con cabezal de nylon. Incluye puñadura ergonómica multifuncional. | D18: =+'VERIFICACIÓN CANTIDADES'!E14 -> Unidad | E18: 1 | F18: =+'ANALISIS COTIZACIONES'!K16 -> 2238000 | G18: =+F18*E18 -> 2238000 | M18: Fumigadora Estacionaria con motor de 5.5 Hp a Gasolina, con bomba automática para un caudal entre 20 - 40 Litros por minuto, presión entre 145 – 580 PSI | N18: 1637900
B19: TOTAL | F19: =+SUM(F9:F18) -> 10519727 | G19: =+SUM(G9:G18) -> 36901227 | M19: Fumigadora manual de espalda con una capacidad del Recipiente de 20 Litros en polietileno de alta densidad, capacidad de la cámara de 1 Litro, presión Máxima de Trabajo: 40 PSI (+/- 10%), lanza en acero Inoxidable, con pistón en Latón con posiciones de la Llave: Continua, Intermitente y de bloqueo total. Incluye una boquillas metálica de Cono Hueco (1000 cc), portaboquilla de uso agrícola Universal. | N19: 575000
M20: Geomembrana para revestimiento de estanques o pozos destinados al cultivo de camarón, fabricada en material sintético impermeable tipo HDPE, LLDPE o equivalente, con protección UV y exposiciones ambientales, resistente al rasgado. Dimensiones: área a cubrir 30 m2, medidas sujetas al requerimiento de la supervisión durante ejecución, espesor mínimo 1.0 mm. | N20: 250000
M21: Guadaña con motor de dos tiempos con un rango de 40 CC a 45 CC, potencia de 1,6 - 2.2 KW, peso entre 6 - 6.3 kilogramos, presión acústica 90 - 96 dB, vibraciones izquierda/derecha 6,4/3,4 m/s2, cuchilla matorrales, capacidad de depósito 0,64 litros, eje de transmisión rígido, sistema anti vibración de un punto, longitud total (sin herramienta de corte) 190 centímetros, ancho de corte mínimo de 41 a 42 cm con cabezal de nylon. Incluye puñadura ergonómica multifuncional. | N21: 2238000
M22: Kit de protección para fumigación, avalado por la NTC 5040 aplicable a cada componente, contiene escafandra laborada en tela anti-fluidos 90% poliéster, 10% acrilatopara repeler líquidos, mascarilla desechable con protección respiratoria de 3 capas de fieltro con filtro de carbón activado, gafas ajustables con protección UV y antiempañantes, guantes fabricados en nitrilo, camisa elaborada en tela anti-fluidos 90% poliéster ,10% acrilato y pantalón en tela antifluidos 90% poliéster, 10% acrílico. Disponibilidad de tallas variadas. Disponibilidad de tallas variadas. | N22: 211000
M23: Kit multiparamétrico para análisis de calidad de agua dulce en sistemas piscícolas, capaz de medir como mínimo pH, pH de alto rango, amoníaco, nitrito, nitrato, oxígeno y dureza. El kit deberá permitir la realización de mínimo 900 pruebas en total, mediante método colorimétrico o equivalente, e incluir todos los reactivos, recipientes, comparadores e insumos necesarios para su operación. Contenido mínimo de las pruebas: Amoniaco: Mínimo 130 pruebas Nitrato: Mínimo 90 pruebas. Nitrito: Mínimo 90 pruebas. Dureza: Mínimo 130 pruebas. pH: Mínimo 250 pruebas. pH de alto rango: Mínimo 160 pruebas. Oxigeno: Mínimo 50 pruebas. Nota: Los reactivos deberán contar con fecha de vencimiento vigente y remanente mínima del 70% al momento de la entrega. El producto deberá suministrarse con manual o instructivo y en perfectas condiciones. Deberá contar con los accesorios de ensayo correspondientes. | N23: 420000
M24: Motocultor con motor Diesel de 4T y 296cc con sistema de arranque manual y abarca en promedio unos 400m²/hora con su trabajo de labranza de entre 180 y 300 mm de profundidad y de entre 1050 y 1350 mm de ancho de transmisión por engranajes, clutch de plato húmedo, palanca de cambios con reversa – marcha 2 – neutro – 1, peso de 160 kilogramos, ruedas de 8 pulgadas. | N24: 4930327
M25: Malla pajarera de 1.80 m de ancho por 50 m de largo, fabricada en polipropileno de alta densidad. | N25: 83000
M26: Manguera 1/2 polietileno con una longitud de 100 M para soportar una presión de 120 Psi, fabricada con un 70% de material recuperado y un 30% de material virgen | N26: 200000
M27: Medidor Portátil de Oxígeno disuelto y temperatura de agua con sonda óptica (4-5mt de longitud), cubierta hermética, Pantalla digital, Fuente de corriente pila de 9 voltios, Estuche del medidor: con IP 67 a prueba de agua, Función de apagado automático después de 30 minutos de inactividad, 50-60 conjunto de datos revisable de memoria, Indicador de batería baja con duración de batería de mínimo 500 horas, Dimensiones (ancho x profundo x alto) 18,7-19,0 cm x 7,6-7,8 cm x 3,8-4,0 cm; Debe incluir: dos pilas, manual de instrucciones en idioma español (impreso y en CD o en formato digital), Set de calibración, 6 membranas de reemplazo, estuche de transporte rígido con espacio para medidor y sonda; con garantía mínimo un (1) año. | N27: 6880000
M28: Motosierra a gasolina de cilindrada 72.2 centímetros cúbicos y potencia de 5.23 hp, logro 3,9 kW, peso de la unidad sin combustible de 6,2 kg con una relación peso/potencia de 1,6 kg/kW, para una longitud de la espada 37-75 cm 3, longitud con tope de garra 450 mm, nivel de presión sonora 106 dB, potencia acústica 117 dB. | N28: 2065900
M29: Nasas para muestreo y pesca, fabricada con malla sin nudo de ½” (12.7mm aprox) o equivalente. Estructura fabricada en aluminio, aro de forma cuadrada u ovalada con dimensión comprendida entre 38-55cm, longitud mínima del mango entre 65-90 cm de largo, profundidad del saco entre 35-50 cm. | N29: 248088
M30: Overol impermeable con botas incorporadas para labores de pesca y piscicultura, fabricado en material impermeable de alta resistencia, con recubrimiento en PVC o material equivalente, doble costura y selladas. Selló de todas las costuras y doble TAPED los puntos débiles que tiene más fricción en el uso para mantenerte seco al hacer trabajos de pesca. Las botas deberán ser impermeables y contar con suela antideslizante. Disponibilidad variada de tallas en ambos componentes. | N30: 374182
M31: Pala redonda en acero forjado de alta durabilidad Ancho aprox 26 cm, alto aprox 145 cm, espesor aprox 0.16 cm, con cabo de madera y manija plástica con un peso aproximado de 1 kilogramos. | N31: 60000
... M55: Semillas para palmas de coco con desarrollo de raíz germinativo y tallo mínimo con 4 hojas. Las semillas deben provenir de viveros certificados por el ICA. | N55: 19600

Sheet Papa china Magui
B2: Municipio | C2: =('INFO GENERAL'!B4) -> El Charco
C3: ='INFO GENERAL'!B7 -> Santa Barbara de iscuandé
B4: =('INFO GENERAL'!E2) -> Número de beneficiarios | C4: =('INFO GENERAL'!E7) -> 15
B5: Tope presupuestal | C5: =('INFO GENERAL'!D7) -> 36916227
B6: Saldo presupuestal | C6: =(C5-G19) -> 15000
B8: TIPO | C8: DESCRIPCION | D8: UNIDAD DE MEDIDA | E8: CANTIDAD | F8: VALOR UNITARIO | G8: VALOR TOTAL
A9: =($C$3) -> Santa Barbara de iscuandé | B9: Insumo | C9: =+'VERIFICACIÓN CANTIDADES'!D28 -> Abono orgánico mezclado con materiales de origen orgánico animal y vegetal que han sido sometidos a un proceso de compostaje y maduración, con una composición mínima de nitrógeno al 1,5%, Fosforo asimilable al 4% y Potasio soluble al 3,5%, Calcio (CaO) 10%, Magnesio total (MgO) 1.3%, Carbono orgánico oxidable 19% . Bulto x 40 kg. | D9: =+'VERIFICACIÓN CANTIDADES'!E28 -> Bulto | E9: 30 | F9: =+'ANALISIS COTIZACIONES'!K35 -> 80000 | G9: =+F9*E9 -> 2400000
A10: =($C$3) -> Santa Barbara de iscuandé | B10: Insumo | C10: =+'VERIFICACIÓN CANTIDADES'!D40 -> Herbicida foliar no selectivo con ingrediente activo paraquat al 20%, herbicida post-emergente de contacto no selectivo, ideal para controlar rápidamente malezas de hoja ancha y gramíneas, resistente a la lluvia y se inactiva al contacto con el suelo. Densidad 1.070-1.084 g/ml, pH 4-7, contenido paraquat 188-212 g/l, Categoría II. Presentación Caneca x 5 galones. | D10: =+'VERIFICACIÓN CANTIDADES'!E40 -> Caneca | E10: 15 | F10: =+'ANALISIS COTIZACIONES'!K47 -> 255000 | G10: =+F10*E10 -> 3825000
A11: =($C$3) -> Santa Barbara de iscuandé | B11: Insumo | C11: =+'VERIFICACIÓN CANTIDADES'!D42 -> Cal dolomita proveniente de la pulverización de la roca dolomita. Calcio total (CaO) 35% - Magnesio total (MgO) 16%, pH 9.7. Bulto x 40 kilogramos | D11: =+'VERIFICACIÓN CANTIDADES'!E42 -> Bulto | E11: 30 | F11: =+'ANALISIS COTIZACIONES'!K49 -> 79500 | G11: =+F11*E11 -> 2385000
A12: =($C$3) -> Santa Barbara de iscuandé | B12: Insumo | C12: =+'VERIFICACIÓN CANTIDADES'!D37 -> Fertilizante complejo, sólido granulado soluble, de color beige pálido. Nitrógeno total (% N) 15%, Fósforo total 15%, Potasio Total 15%, azufre total 10% pH: 6,0 – 7,2. Solubilidad en agua: 90 g/100 ml. Presentación bulto x 50 Kg. | D12: =+'VERIFICACIÓN CANTIDADES'!E37 -> Bulto | E12: 15 | F12: =+'ANALISIS COTIZACIONES'!K44 -> 305000 | G12: =+F12*E12 -> 4575000
A13: =($C$3) -> Santa Barbara de iscuandé | B13: Equipos y herramientas | C13: =+'VERIFICACIÓN CANTIDADES'!D2 -> Azada fabricada de una única pieza templada, en acero carbono de alta calidad, recubierta con pintura electrostática a polvo, lámina de tamaño 2.5 pulgadas, ojo de 38 mm de diámetro, mango de 145 cm en madera barnizada. | D13: =+'VERIFICACIÓN CANTIDADES'!E2 -> Unidad | E13: 15 | F13: =+'ANALISIS COTIZACIONES'!K4 -> 114000 | G13: =+F13*E13 -> 1710000
A14: =($C$3) -> Santa Barbara de iscuandé | B14: Equipos y herramientas | C14: =+'VERIFICACIÓN CANTIDADES'!D27 -> Tanque de plástico (polietileno) con capacidad de 500 litros para almacenamiento de agua potable diámetro aprox 105 cm, ancho aprox 105 cm, alto aprox 103 cm, con capa interior virgen, avalados por NTC 5022 y NTC 4384, con recubrimiento que evite la producción de algas y bacterias, con aditivo U.V para el bloqueo de rayos ultravioletas. | D14: =+'VERIFICACIÓN CANTIDADES'!E27 -> Unidad | E14: 15 | F14: =+'ANALISIS COTIZACIONES'!K29 -> 305000 | G14: =+F14*E14 -> 4575000
A15: =($C$3) -> Santa Barbara de iscuandé | B15: Equipos y herramientas | C15: =+'VERIFICACIÓN CANTIDADES'!D12 -> Fumigadora manual de espalda con una capacidad del Recipiente de 20 Litros en polietileno de alta densidad, capacidad de la cámara de 1 Litro, presión Máxima de Trabajo: 40 PSI (+/- 10%), lanza en acero Inoxidable, con pistón en Latón con posiciones de la Llave: Continua, Intermitente y de bloqueo total. Incluye una boquillas metálica de Cono Hueco (1000 cc), portaboquilla de uso agrícola Universal. | D15: =+'VERIFICACIÓN CANTIDADES'!E12 -> Unidad | E15: 15 | F15: =+'ANALISIS COTIZACIONES'!K14 -> 575000 | G15: =+F15*E15 -> 8625000
A16: =($C$3) -> Santa Barbara de iscuandé | B16: Equipos y herramientas | C16: =+'VERIFICACIÓN CANTIDADES'!D17 -> Motocultor con motor Diesel de 4T y 296cc con sistema de arranque manual y abarca en promedio unos 400m²/hora con su trabajo de labranza de entre 180 y 300 mm de profundidad y de entre 1050 y 1350 mm de ancho de transmisión por engranajes, clutch de plato húmedo, palanca de cambios con reversa – marcha 2 – neutro – 1, peso de 160 kilogramos, ruedas de 8 pulgadas. | D16: =+'VERIFICACIÓN CANTIDADES'!E17 -> Unidad | E16: 1 | F16: =+'ANALISIS COTIZACIONES'!K19 -> 4930327 | G16: =+F16*E16 -> 4930327
A17: =($C$3) -> Santa Barbara de iscuandé | B17: Equipos y herramientas | C17: =+'VERIFICACIÓN CANTIDADES'!D11 -> Fumigadora Estacionaria con motor de 5.5 Hp a Gasolina, con bomba automática para un caudal entre 20 - 40 Litros por minuto, presión entre 145 – 580 PSI | D17: =+'VERIFICACIÓN CANTIDADES'!E11 -> Unidad | E17: 1 | F17: =+'ANALISIS COTIZACIONES'!K13 -> 1637900 | G17: =+F17*E17 -> 1637900
A18: =($C$3) -> Santa Barbara de iscuandé | B18: Equipos y herramientas | C18: =+'VERIFICACIÓN CANTIDADES'!D14 -> Guadaña con motor de dos tiempos con un rango de 40 CC a 45 CC, potencia de 1,6 - 2.2 KW, peso entre 6 - 6.3 kilogramos, presión acústica 90 - 96 dB, vibraciones izquierda/derecha 6,4/3,4 m/s2, cuchilla matorrales, capacidad de depósito 0,64 litros, eje de transmisión rígido, sistema anti vibración de un punto, longitud total (sin herramienta de corte) 190 centímetros, ancho de corte mínimo de 41 a 42 cm con cabezal de nylon. Incluye puñadura ergonómica multifuncional. | D18: =+'VERIFICACIÓN CANTIDADES'!E14 -> Unidad | E18: 1 | F18: =+'ANALISIS COTIZACIONES'!K16 -> 2238000 | G18: =+F18*E18 -> 2238000
B19: TOTAL | F19: =+SUM(F9:F18) -> 10519727 | G19: =+SUM(G9:G18) -> 36901227

Sheet Coco
B2: Municipio | C2: =('INFO GENERAL'!B5) -> Mosquera
B3: =('INFO GENERAL'!E2) -> Número de beneficiarios | C3: =('INFO GENERAL'!E7) -> 15
B4: Tope presupuestal | C4: =('INFO GENERAL'!D5) -> 36916227
B5: Saldo presupuestal | C5: =(C4-G20) -> 17
B8: TIPO | C8: DESCRIPCION | D8: UNIDAD DE MEDIDA | E8: CANTIDAD | F8: VALOR UNITARIO | G8: VALOR TOTAL
A9: =($C$2) -> Mosquera | B9: Insumo | C9: =+'VERIFICACIÓN CANTIDADES'!D36 -> Feromonas de Segregación Rhynchophorol C. Feromona sintética imitante de la señal química del compuesto orgánico secretado por los machos de la especie mencionada para atraer individuos de ambos sexos y de esta forma capturarlos en el trampeo masivo. Sobre x 0,5 ml. | D9: =+'VERIFICACIÓN CANTIDADES'!E36 -> Unidad | E9: 30 | F9: =+'ANALISIS COTIZACIONES'!K43 -> 20127 | G9: =+F9*E9 -> 603810
A10: =($C$2) -> Mosquera | B10: Insumo | C10: =+'VERIFICACIÓN CANTIDADES'!D43 -> Melaza de Caña Liquida como producto derivado de la caña de azúcar, con aspecto de color marrón oscuro, líquido denso y viscoso, de sabor dulce y ligeramente amargo. Composición: Azucares Totales mínimo 48%, cenizas sulfatadas máximo 16%, grados °brix 85. Presentación Bulto x 30 kg. | D10: =+'VERIFICACIÓN CANTIDADES'!E43 -> Bulto | E10: 15 | F10: =+'ANALISIS COTIZACIONES'!K50 -> 38400 | G10: =+F10*E10 -> 576000
A11: =($C$2) -> Mosquera | B11: Insumo | C11: =+'VERIFICACIÓN CANTIDADES'!D41 -> Insecticida piretroide, con principio activo Lambdacialotrina al 2,5% CE, Densidad: 0,800 +/- 0,010 g/mL pH: 6,0 – 8,0. Presentación en litro. | D11: =+'VERIFICACIÓN CANTIDADES'!E41 -> litro | E11: 15 | F11: =+'ANALISIS COTIZACIONES'!K48 -> 48200 | G11: =+F11*E11 -> 723000
A12: =($C$2) -> Mosquera | B12: Insumo | C12: =+'VERIFICACIÓN CANTIDADES'!D45 -> Recipiente bidón plástico con capacidad de 20 litros, para el transporte de líquidos, compatibles con productos químicos, fitosanitarios, agroquímicos. Fabricados con polietileno de alta densidad, grosor constante en todas las áreas del envase. | D12: =+'VERIFICACIÓN CANTIDADES'!E45 -> Unidad | E12: 30 | F12: =+'ANALISIS COTIZACIONES'!K52 -> 20150 | G12: =+F12*E12 -> 604500
A13: =($C$2) -> Mosquera | B13: Insumo | C13: =+'VERIFICACIÓN CANTIDADES'!D46 -> Saco Fique Granel de 70cm X 95cm - tejido 20/20. | D13: =+'VERIFICACIÓN CANTIDADES'!E46 -> Unidad | E13: 30 | F13: =+'ANALISIS COTIZACIONES'!K53 -> 17000 | G13: =+F13*E13 -> 510000
A14: =($C$2) -> Mosquera | B14: Insumo | C14: =+'VERIFICACIÓN CANTIDADES'!D48 -> Semillas para palmas de coco con desarrollo de raíz germinativo y tallo mínimo con 4 hojas. Las semillas deben provenir de viveros certificados por el ICA. | D14: =+'VERIFICACIÓN CANTIDADES'!E48 -> Unidad | E14: 675 | F14: =+'ANALISIS COTIZACIONES'!K55 -> 19600 | G14: =+F14*E14 -> 13230000
A15: =($C$2) -> Mosquera | B15: Equipos y herramientas | C15: =+'VERIFICACIÓN CANTIDADES'!D27 -> Tanque de plástico (polietileno) con capacidad de 500 litros para almacenamiento de agua potable diámetro aprox 105 cm, ancho aprox 105 cm, alto aprox 103 cm, con capa interior virgen, avalados por NTC 5022 y NTC 4384, con recubrimiento que evite la producción de algas y bacterias, con aditivo U.V para el bloqueo de rayos ultravioletas. | D15: =+'VERIFICACIÓN CANTIDADES'!E27 -> Unidad | E15: 15 | F15: =+'ANALISIS COTIZACIONES'!K29 -> 305000 | G15: =+F15*E15 -> 4575000
A16: =($C$2) -> Mosquera | B16: Equipos y herramientas | C16: =+'VERIFICACIÓN CANTIDADES'!D15 -> Kit de protección para fumigación, avalado por la NTC 5040 aplicable a cada componente, contiene escafandra laborada en tela anti-fluidos 90% poliéster, 10% acrilatopara repeler líquidos, mascarilla desechable con protección respiratoria de 3 capas de fieltro con filtro de carbón activado, gafas ajustables con protección UV y antiempañantes, guantes fabricados en nitrilo, camisa elaborada en tela anti-fluidos 90% poliéster ,10% acrilato y pantalón en tela antifluidos 90% poliéster, 10% acrílico. Disponibilidad de tallas variadas. Disponibilidad de tallas variadas. | D16: =+'VERIFICACIÓN CANTIDADES'!E15 -> Unidad | E16: 15 | F16: =+'ANALISIS COTIZACIONES'!K17 -> 211000 | G16: =+F16*E16 -> 3165000
A17: =($C$2) -> Mosquera | B17: Equipos y herramientas | C17: =+'VERIFICACIÓN CANTIDADES'!D12 -> Fumigadora manual de espalda con una capacidad del Recipiente de 20 Litros en polietileno de alta densidad, capacidad de la cámara de 1 Litro, presión Máxima de Trabajo: 40 PSI (+/- 10%), lanza en acero Inoxidable, con pistón en Latón con posiciones de la Llave: Continua, Intermitente y de bloqueo total. Incluye una boquillas metálica de Cono Hueco (1000 cc), portaboquilla de uso agrícola Universal. | D17: =+'VERIFICACIÓN CANTIDADES'!E12 -> Unidad | E17: 15 | F17: =+'ANALISIS COTIZACIONES'!K14 -> 575000 | G17: =+F17*E17 -> 8625000
A18: =($C$2) -> Mosquera | B18: Equipos y herramientas | C18: =+'VERIFICACIÓN CANTIDADES'!D21 -> Motosierra a gasolina de cilindrada 72.2 centímetros cúbicos y potencia de 5.23 hp, logro 3,9 kW, peso de la unidad sin combustible de 6,2 kg con una relación peso/potencia de 1,6 kg/kW, para una longitud de la espada 37-75 cm 3, longitud con tope de garra 450 mm, nivel de presión sonora 106 dB, potencia acústica 117 dB. | D18: =+'VERIFICACIÓN CANTIDADES'!E21 -> Unidad | E18: 1 | F18: =+'ANALISIS COTIZACIONES'!K23 -> 2065900 | G18: =+F18*E18 -> 2065900
A19: =($C$2) -> Mosquera | B19: Equipos y herramientas | C19: =+'VERIFICACIÓN CANTIDADES'!D14 -> Guadaña con motor de dos tiempos con un rango de 40 CC a 45 CC, potencia de 1,6 - 2.2 KW, peso entre 6 - 6.3 kilogramos, presión acústica 90 - 96 dB, vibraciones izquierda/derecha 6,4/3,4 m/s2, cuchilla matorrales, capacidad de depósito 0,64 litros, eje de transmisión rígido, sistema anti vibración de un punto, longitud total (sin herramienta de corte) 190 centímetros, ancho de corte mínimo de 41 a 42 cm con cabezal de nylon. Incluye puñadura ergonómica multifuncional. | D19: =+'VERIFICACIÓN CANTIDADES'!E14 -> Unidad | E19: 1 | F19: =+'ANALISIS COTIZACIONES'!K16 -> 2238000 | G19: =+F19*E19 -> 2238000
B20: TOTAL | F20: =+SUM(F9:F19) -> 5558377 | G20: =+SUM(G9:G19) -> 36916210

Sheet Plátano La Tola
A2: Municipio | B2: =('INFO GENERAL'!B6) -> Olaya Herrera
A3: Número de beneficiarios | B3: =('INFO GENERAL'!E6) -> 15
A4: Tope presupuestal | B4: =('INFO GENERAL'!D6) -> 36916227 | C4: SE EXCEDE
A5: Saldo presupuestal | B5: =(B4-G18) -> -89998
B7: TIPO | C7: DESCRIPCION | D7: UNIDAD DE MEDIDA | E7: CANTIDAD | F7: VALOR UNITARIO | G7: VALOR TOTAL
A8: La Tola | B8: Insumo | C8: =+'VERIFICACIÓN CANTIDADES'!D42 -> Cal dolomita proveniente de la pulverización de la roca dolomita. Calcio total (CaO) 35% - Magnesio total (MgO) 16%, pH 9.7. Bulto x 40 kilogramos | D8: =+'VERIFICACIÓN CANTIDADES'!E42 -> Bulto | E8: 30 | F8: =+'ANALISIS COTIZACIONES'!K49 -> 79500 | G8: =+F8*E8 -> 2385000
A9: La Tola | B9: Insumo | C9: =+'VERIFICACIÓN CANTIDADES'!D38 -> Fertilizante completo formulado 17-6-18-2, con una composición Nitrógeno Total (N) 17%, Fósforo 6%, Potasio 18%, Magnesio total 2%. Presentación bulto x 50 Kg. | D9: =+'VERIFICACIÓN CANTIDADES'!E38 -> Bulto | E9: 15 | F9: =+'ANALISIS COTIZACIONES'!K45 -> 245000 | G9: =+F9*E9 -> 3675000
A10: La Tola | B10: Insumo | C10: =+'VERIFICACIÓN CANTIDADES'!D40 -> Herbicida foliar no selectivo con ingrediente activo paraquat al 20%, herbicida post-emergente de contacto no selectivo, ideal para controlar rápidamente malezas de hoja ancha y gramíneas, resistente a la lluvia y se inactiva al contacto con el suelo. Densidad 1.070-1.084 g/ml, pH 4-7, contenido paraquat 188-212 g/l, Categoría II. Presentación Caneca x 5 galones. | D10: =+'VERIFICACIÓN CANTIDADES'!E40 -> Caneca | E10: 15 | F10: =+'ANALISIS COTIZACIONES'!K47 -> 255000 | G10: =+F10*E10 -> 3825000
A11: La Tola | B11: Insumo | C11: =+'VERIFICACIÓN CANTIDADES'!D39 -> Fungicida sistémico de aplicación foliar para el control de la sigatoka negra y botrytis su ingrediente activo es Pyrimethanil que inhibe la secreción de encimas. Presentación envase plástico x litro. | D11: =+'VERIFICACIÓN CANTIDADES'!E39 -> Litro | E11: 15 | F11: =+'ANALISIS COTIZACIONES'!K46 -> 131035 | G11: =+F11*E11 -> 1965525
A12: La Tola | B12: Equipos y herramientas | C12: =+'VERIFICACIÓN CANTIDADES'!D2 -> Azada fabricada de una única pieza templada, en acero carbono de alta calidad, recubierta con pintura electrostática a polvo, lámina de tamaño 2.5 pulgadas, ojo de 38 mm de diámetro, mango de 145 cm en madera barnizada. | D12: =+'VERIFICACIÓN CANTIDADES'!E2 -> Unidad | E12: 15 | F12: =+'ANALISIS COTIZACIONES'!K4 -> 114000 | G12: =+F12*E12 -> 1710000
A13: La Tola | B13: Equipos y herramientas | C13: =+'VERIFICACIÓN CANTIDADES'!D12 -> Fumigadora manual de espalda con una capacidad del Recipiente de 20 Litros en polietileno de alta densidad, capacidad de la cámara de 1 Litro, presión Máxima de Trabajo: 40 PSI (+/- 10%), lanza en acero Inoxidable, con pistón en Latón con posiciones de la Llave: Continua, Intermitente y de bloqueo total. Incluye una boquillas metálica de Cono Hueco (1000 cc), portaboquilla de uso agrícola Universal. | D13: =+'VERIFICACIÓN CANTIDADES'!E12 -> Unidad | E13: 15 | F13: =+'ANALISIS COTIZACIONES'!K14 -> 575000 | G13: =+F13*E13 -> 8625000
A14: La Tola | B14: Equipos y herramientas | C14: =+'VERIFICACIÓN CANTIDADES'!D27 -> Tanque de plástico (polietileno) con capacidad de 500 litros para almacenamiento de agua potable diámetro aprox 105 cm, ancho aprox 105 cm, alto aprox 103 cm, con capa interior virgen, avalados por NTC 5022 y NTC 4384, con recubrimiento que evite la producción de algas y bacterias, con aditivo U.V para el bloqueo de rayos ultravioletas. | D14: =+'VERIFICACIÓN CANTIDADES'!E27 -> Unidad | E14: 15 | F14: =+'ANALISIS COTIZACIONES'!K29 -> 305000 | G14: =+F14*E14 -> 4575000
A15: La Tola | B15: Equipos y herramientas | C15: =+'VERIFICACIÓN CANTIDADES'!D11 -> Fumigadora Estacionaria con motor de 5.5 Hp a Gasolina, con bomba automática para un caudal entre 20 - 40 Litros por minuto, presión entre 145 – 580 PSI | D15: =+'VERIFICACIÓN CANTIDADES'!E11 -> Unidad | E15: 1 | F15: =+'ANALISIS COTIZACIONES'!K13 -> 1637900 | G15: =+F15*E15 -> 1637900
