Workbook

Sheet METODOLOGÍA DE EVALUACIÓN
B2: DEPARTAMENTO ADMINISTRATIVO PARA LA PROSPERIDAD SOCIAL - PROSPERIDAD SOCIAL
B4: FORMATO No. 1 EVALUACIÓN DE LAS CONDICIONES TÉCNICAS ADICIONALES
B5: METODOLOGÍA DE EVALUACIÓN - APLICABLE A TODAS LAS PÓLIZAS
B6: El Asegurado precisa que las condiciones, coberturas, cláusulas, límites y/o plazo indicados a continuación no son de obligatorio ofrecimiento y las aseguradoras participantes tienen la postedad de decidir su ofrecimiento. Para su evaluación se considerarán los siguientes criterios que corresponden a los generales aplicables, por lo tanto en el caso que se estipulen criterios particulares dentro del contenido de las condiciones, estos primarán sobre los generales: Las aseguradoras deben tener en cuenta que el ofrecimiento de condiciones que presten beneficio a la Entidad adicionales a las relacionadas en cada póliza pero que son en exceso a las mismas; no serán objeto de asignación de puntaje adicional a esos exceso y solo evaluables con base en los criterios que esten definidos en cada condición, no obstante la presentación de éstas obliga a la Aseguradora a su otorgamiento en caso de que el contrato le sea adjudicado y el oferente con la firma de la propuesta acepta esta condición.
B7: CONDICIONES ADICIONALES QUE CONTIENEN SOLO TEXTO: | D7: Se otorgará el máximo puntaje asignado a las propuestas que las ofrezcan con el mismo texto y bajo las mismas condiciones o en condiciones superiores en beneficio de la Entidad. Las propuestas que modifiquen el texto, sin que ello conlleve a la pérdida de la aplicabilidad y/u operatividad de la condición, se le asignará el 50% del puntaje y las propuestas que no las ofrezcan se calificarán con cero (0) puntos.
B8: CONDICIONES ADICIONALES QUE APLIQUEN PARA OFERTAS DE LÍMITES Y/O VALORES FIJOS QUE SE REGISTREN EN TABLAS Y/O CONTENGAN RANGOS Y/O VALORES CON BASE EN LOS CUALES SE DEBE EFECTUAR EL OFRECIMIENTO. | D8: Las aseguradoras deben tener en cuenta: 1. Para acceder a calificación, el oferente deberá registrar en forma expresa y de manera clara, el valor y/o límite que ofrece. En aquellos casos que se exprese valores en COL$ o en SMMLV para realizar una evaluación equitativa, se podrá homologar el ofrecimiento a alguna de las dos constantes COL$ o SMMLV. 2. Se otorga el máximo puntaje a la propuesta que dentro del rango o tabla se aproxime al máximo sublímite o plazo requerido y las demas ofertas se calificaran en forma proporcional a la propuesta calificada con el máximo puntaje. 3. En el caso de presentar propuesta por un valor y/o límite diferente al establecido en los rangos de la tabla, se tomará para la asignación de puntaje, el monto y/o límite del rango inmediatamente anterior al del valor ofrecido y el oferente acepta esta condición con la firma de la oferta y, de ser adjudicada la propuesta, expedirá la póliza con el valor indicado en la propuesta.
B9: CONDICIONES ADICIONALES | D9: NOTA: Las aseguradoras deben señalar expresamente en su propuesta las Condiciones Adicionales que ofrece especificando los límites, periodos y demás información necesaria para su evaluación de acuerdo con las condiciones de cada una de ellas, en caso que manifieste "SE OTORGA" ó "SI" u otra expresión que implica que si esta otorgando la condición, pero no está especificado, se entenderá que las mismas fueron ofrecidas al máximo límite, sublímite o periodos o plazos y por lo tanto se asignará el mayor puntaje de esta condición, al límite, sublímite o períodos o plazos requerido y de ser adjudicada la propuesta, la aseguradora expedirá la póliza con las condiciones máximas exigidas de ese criterio en particular.
B10: By: Tiger | G10: VERSIÓN: JUN 2026

Sheet G1. COND ADIC. TRDMC
B3: DEPARTAMENTO ADMINISTRATIVO PARA LA PROSPERIDAD SOCIAL - PROSPERIDAD SOCIAL
B5: FORMATO No. 1 EVALUACIÓN DE LAS CONDICIONES TÉCNICAS ADICIONALES
B6: GRUPO No. 1
B7: 1. PÓLIZA DE SEGURO DE TODO RIESGO DAÑOS MATERIALES COMBINADOS
B8: OBJETO DEL SEGURO
B9: Amparar todos los activos (bienes inmuebles y muebles) de propiedad del DEPARTAMENTO ADMINISTRATIVO PARA LA PROSPERIDAD SOCIAL - PROSPERIDAD SOCIAL, o aquellos que se encuentren bajo su control, tenencia, responsabilidad o custodia, contra los daños o pérdidas materiales a consecuencia de cualquier riesgo, tanto por eventos internos o externos, incluyendo las pérdidas consecuenciales por todo concepto y en general los recibidos a cualquier título o por los que tenga algún interés asegurable, ubicados en el territorio nacional o por aquellos que por su naturaleza se deban trasladar a nivel mundial, dentro o fuera de las instalaciones del asegurado y/o en predios de terceros o a la intemperie y los utilizados en desarrollo del objeto social del DPS.
B10: INFORMACIÓN GENERAL:
B11: TOMADOR: | C11: =+B3 -> DEPARTAMENTO ADMINISTRATIVO PARA LA PROSPERIDAD SOCIAL - PROSPERIDAD SOCIAL | G11: NIT | H11: =+'[1]1. COND. BÁSICAS TRDM'!$G$9 -> 900.039.533-8
B12: ASEGURADO: | C12: =+C11 -> DEPARTAMENTO ADMINISTRATIVO PARA LA PROSPERIDAD SOCIAL - PROSPERIDAD SOCIAL | G12: =+G11 -> NIT | H12: =+H11 -> 900.039.533-8
B13: BENEFICIARIO: | C13: =+C11 -> DEPARTAMENTO ADMINISTRATIVO PARA LA PROSPERIDAD SOCIAL - PROSPERIDAD SOCIAL | G13: =+G12 -> NIT | H13: =+H11 -> 900.039.533-8
B14: NOTA: | C14: CADA SUBLÍMITE O GASTOS OFRECIDOS EN FORMA ADICIONAL QUEDA CONTEMPLADO DENTRO DEL LÍMITE ASEGURADO.
B15: CRITERIOS DE EVALUACIÓN:
B16: CONDICIÓN REQUERIDA PARA EVALUACIÓN | E16: CRITERIO DE EVALUACIÓN | F16: PUNTAJE ESTABLECIDO | G16: OFRECIMIENTO DEL PROPONENTE | H16: PUNTAJE OBTENIDO POR EL PROPONENTE
B17: ACTOS MAL INTENCIONADOS DE TERCEROS ASONADA, MOTÍN, CONMOCIÓN CIVIL O POPULAR Y HUELGA (INCLUIDO TERRORISMO Y SABOTAJE). Sublímite de $10.000.000.000 evento / (vigencia 1.4.2. ANEXO 1). NOTA: Solo se acepta propuesta en los límites señados en los siguientes rangos. Ofrecimientos de otros valores diferentes serán evaluados con cero (0) puntos), excepto que sea superior al último rango. | D17: PUNTOS AL MAYOR VALOR DENTRO DEL RANGO | E17: Se califica el aumento adicional del sublímite Hasta un monto total de $14.000.000.000 incluido el básico | F17: =+D20 -> 4
B18: Límite adicional al básico mayor a $500.000.000 y hasta $1.000.000.000: | D18: 1
B19: Límite adicional al básico mayor a $1.000.000.000 y hasta $2.000.000.000: | D19: 2
B20: Límite adicional al básico mayor a $3.000.000.000 y hasta $4.000.000.000: | D20: 4
B21: HURTO Y HURTO CALIFICADO, Sublimite de $6.000.000.000 (vigencia) combinado para todos los bienes. | D21: PUNTOS AL MAYOR VALOR DENTRO DEL RANGO | E21: Se califica el aumento adicional del sublímite Hasta un monto total de $7.000.000.000 incluido el básico | F21: =+D24 -> 5
B22: Límite adicional al básico mayor a $300.000.000 y hasta $600.000.000: | D22: 1
B23: Límite adicional al básico mayor a $600.000.000 y hasta $800.000.000: | D23: 3
B24: Límite adicional al básico mayor a $800.000.000 y hasta $1.000.000.000: | D24: 5
B25: GASTOS ADICIONALES. Sublímite por la suma de $5.000.000.000, incluido en el valor asegurado,sin aplicación de deducible y combinado para los gastos relacionados en en Anexo No. 1. NOTA: Solo se acepta propuesta en los límites señados en los siguientes rangos. Ofrecimientos de otros valores diferentes serán evaluados con cero (0) puntos), excepto que sea superior al último rango. | D25: PUNTOS AL MAYOR VALOR DENTRO DEL RANGO | E25: Se califica el aumento adicional del sublímite Hasta un monto total de $6.000.000.000 incluido el básico | F25: 4
B26: Límite adicional al básico mayor a $250.000.000 y hasta $500.000.000: | D26: 1
B27: Límite adicional al básico mayor a $500.000.000 y hasta $750.000.000: | D27: 2
B28: Límite adicional al básico mayor a $750.000.000 y hasta $1.000.000.000: | D28: 4
B29: GASTOS EXTRAORDINARIOS. Sublímite por la suma de $1.000.000.000, incluido en el valor asegurado,sin aplicación de deducible y combinado para los gastos relacionados en en Anexo No. 1. NOTA: Solo se acepta propuesta en los límites señados en los siguientes rangos. Ofrecimientos de otros valores diferentes serán evaluados con cero (0) puntos), excepto que sea superior al último rango. | D29: PUNTOS AL MAYOR VALOR DENTRO DEL RANGO | E29: Se califica el aumento adicional del sublímite Hasta un monto total de $4.000.000.000 incluido el básico | F29: =+D32 -> 4
B30: Límite adicional al básico mayor a $500.000.000 y hasta $1.000.000.000: | D30: 1
B31: Límite adicional al básico mayor a $1.000.000.000 y hasta $2.000.000.000: | D31: 2
B32: Límite adicional al básico mayor a $2.000.000.000 y hasta $3.000.000.000: | D32: 4
B33: COBERTURA AUTOMÁTICA PARA NUEVAS PROPIEDADES Y BIENES. Sublímite de $500.000.000 Vigencia | D33: PUNTOS AL MAYOR VALOR DENTRO DEL RANGO | E33: Se califica el aumento adicional del sublímite Hasta un monto total de $2.500.000.000 incluido el básico | F33: =+D36 -> 4
B34: Límite adicional al básico mayor a $500.000.000 y hasta $1.000.000.000: | D34: 1
B35: Límite adicional al básico mayor a $1.000.000.000 y hasta $1.500.000.000: | D35: 2
B36: Límite adicional al básico mayor a $1.500.000.000 y hasta $2.000.000.000: | D36: 4
B37: ANTICIPO DE INDEMNIZACIÓN DEL 70%. NOTA 1: Si el aumento adicional del porcentaje de anticipo es condicionado a la demostración de la ocurrencia y cuantía, se califica con cero (0) puntos este factor. NOTA 2: Solo se acepta propuesta en los límites señados en los siguientes rangos. | D37: PUNTOS AL MAYOR VALOR DENTRO DEL RANGO | E37: Se califica el aumento adicional del porcentaje ofrecido. Bajo la definición del texto de la condición obligatoria y sin estar condicionada a la demostración de ocurrencia y cuantía. | F37: =+D40 -> 2
B38: Límite adicional al básico mayor al 5% y hasta el 10%. | D38: 1
B39: Límite adicional al básico mayor al 10% y hasta el 15%. | D39: 1.5
B40: Límite adicional al básico mayor al 15% y hasta el 20%. | D40: 2
B41: RENUNCIA A LA APLICACIÓN DE SEGURO INSUFICIENTE Y/O INFRASEGURO Siempre y cuando la diferencia entre el valor asegurado y el valor asegurable no sea superior al 15%. NOTA: Solo se acepta propuesta en los límites señados en los siguientes rangos. Ofrecimientos de otros valores diferentes serán evaluados con cero (0) puntos), excepto que sea superior al último rango. | D41: PUNTOS AL MAYOR VALOR DENTRO DEL RANGO | E41: Se califica en Condiciones Adicionales el aumento adicional del porcentaje ofrecido. Hasta un máximo del 25% incluido el básico | F41: =+D44 -> 2
B42: Porcentaje adicional mayor al 2% y hasta el 5%: | D42: 1
B43: Porcentaje adicional mayor al 5% y hasta el 7%: | D43: 1.5
...

Sheet G1. COND ADIC. MANEJO GLOBAL
B3: =+'G1. COND ADIC. TRDMC'!B3:H3 -> DEPARTAMENTO ADMINISTRATIVO PARA LA PROSPERIDAD SOCIAL - PROSPERIDAD SOCIAL
B5: FORMATO No. 1 EVALUACIÓN DE LAS CONDICIONES TÉCNICAS ADICIONALES
B6: GRUPO No. 1
B7: 2. PÓLIZA DE SEGURO GLOBAL DE MANEJO PARA ENTIDADES OFICIALES
B8: OBJETO DEL SEGURO
B9: Amparar los riesgos que impliquen menoscabo de los fondos y/o bienes de propiedad del DEPARTAMENTO ADMINISTRATIVO PARA LA PROSPERIDAD SOCIAL - PROSPERIDAD o que estén bajo su tenencia, control y/o responsabilidad causados por acciones u omisiones de sus servidores, que incurran en delitos contra la administración pública o fallos con responsabilidad fiscal, por incumplimiento de las disposiciones legales y reglamentarias, incluyendo el costo de la rendición de cuentas en caso de abandono del cargo o fallecimiento del empleado, en concordancia con la Resolución 014249 del 15 de mayo de 1992, aprobada por la Contraloría General de la República.
B10: INFORMACIÓN GENERAL:
B11: TOMADOR: | C11: =+B3 -> DEPARTAMENTO ADMINISTRATIVO PARA LA PROSPERIDAD SOCIAL - PROSPERIDAD SOCIAL | G11: NIT. | H11: =+'G1. COND ADIC. TRDMC'!H11 -> 900.039.533-8
B12: ASEGURADO: | C12: =+C11 -> DEPARTAMENTO ADMINISTRATIVO PARA LA PROSPERIDAD SOCIAL - PROSPERIDAD SOCIAL | G12: NIT. | H12: =+H11 -> 900.039.533-8
B13: BENEFICIARIO: | C13: =+C11 -> DEPARTAMENTO ADMINISTRATIVO PARA LA PROSPERIDAD SOCIAL - PROSPERIDAD SOCIAL | G13: NIT. | H13: =+H11 -> 900.039.533-8
B14: NOTA: | C14: CADA SUBLÍMITE O GASTOS OFRECIDOS EN FORMA ADICIONAL QUEDA CONTEMPLADO DENTRO DEL LÍMITE ASEGURADO.
B15: CRITERIOS DE EVALUACIÓN:
B16: CONDICIÓN REQUERIDA PARA EVALUACIÓN | E16: CRITERIO DE EVALUACIÓN | F16: PUNTAJE ESTABLECIDO | G16: OFRECIMIENTO DEL OFERENTE | H16: PUNTAJE OBTENIDO POR EL OFERENTE
B17: INCREMENTO DEL LÍMITE BÁSICO PARA LA COBERTURA DE MANEJO GLOBAL. LÍMITE $680.000.001 EVENTO / (vigencia 1.4.2.) ANEXO 1. NOTA: Solo se acepta propuesta en los límites señados en los siguientes rangos. Ofrecimientos de otros valores diferentes serán evaluados con cero (0) puntos), excepto que sea superior al último rango. | D17: PUNTOS AL MAYOR VALOR DENTRO DEL RANGO | E17: Se califica el aumento adicional del límite asegurado. Hasta un monto total de $780.000.000 incluido el básico SIN COBRO DE PRIMA | F17: =+D21 -> 15
B18: Límite adicional al básico mayor a $20.000.000 y hasta $40.000.000 | D18: 3
B19: Límite adicional al básico mayor a $40.000.000 y hasta $60.000.000 | D19: 5
B20: Límite adicional al básico mayor a $60.000.000 y hasta $80.000.000 | D20: 10
B21: Límite adicional al básico mayor a $80.000.000 y hasta $100.000.00 | D21: 15
B22: GASTOS ADICIONALES: 10%. NOTA: Solo se acepta propuesta en los límites señados en los siguientes rangos. | D22: PUNTOS AL MAYOR VALOR DENTRO DEL RANGO | E22: Se califica el aumento adicional del porcentaje ofrecido. Bajo la definición del texto de la condición obligatoria | F22: =+D26 -> 3
B23: Límite adicional al básico mayor al 15% y hasta el 40%. | D23: 1.5
B24: Límite adicional al básico mayor al 40% y hasta el 60%. | D24: 2
B25: Límite adicional al básico mayor al 60% y hasta el 80%. | D25: 2.5
B26: Límite adicional al básico mayor al 80% y hasta el 100%. | D26: 3
B27: HONORARIOS PROFESIONALES DE ABOGADOS, CONSULTORES, AUDITORES, INTERVENTORES, ETC: 10%. NOTA: Solo se acepta propuesta en los límites señados en los siguientes rangos. | D27: PUNTOS AL MAYOR VALOR DENTRO DEL RANGO | E27: Se califica el aumento adicional del porcentaje ofrecido. Bajo la definición del texto de la condición obligatoria | F27: =+D31 -> 3
B28: Límite adicional al básico mayor al 15% y hasta el 40%. | D28: 1.5
B29: Límite adicional al básico mayor al 40% y hasta el 60%. | D29: 2
B30: Límite adicional al básico mayor al 60% y hasta el 80%. | D30: 2.5
B31: Límite adicional al básico mayor al 80% y hasta el 100%. | D31: 3
B32: COSTAS EN JUICIO, HONORARIOS PROFESIONALES Y SELECCIÓN DE PROFESIONALES PARA LA DEFENSA.: 20%. NOTA: Solo se acepta propuesta en los límites señados en los siguientes rangos. | D32: PUNTOS AL MAYOR VALOR DENTRO DEL RANGO | E32: Se califica el aumento adicional del porcentaje ofrecido. Bajo la definición del texto de la condición obligatoria | F32: =+D36 -> 3
B33: Límite adicional al básico mayor al 20% y hasta el 40%. | D33: 1.5
B34: Límite adicional al básico mayor al 40% y hasta el 60%. | D34: 2
B35: Límite adicional al básico mayor al 60% y hasta el 80%. | D35: 2.5
B36: Límite adicional al básico mayor al 80% y hasta el 100%. | D36: 3
B37: ANTICIPO DE INDEMNIZACIÓN DEL 70%. NOTA 1: Si el aumento adicional del porcentaje de anticipo es condicionado a la demostración de la ocurrencia y cuantía, se califica con cero (0) puntos este factor. NOTA 2: Solo se acepta propuesta en los límites señados en los siguientes rangos. | D37: PUNTOS AL MAYOR VALOR DENTRO DEL RANGO | E37: Se califica el aumento adicional del porcentaje ofrecido. Bajo la definición del texto de la condición obligatoria y sin estar condicionada a la demostración de ocurrencia y cuantía. | F37: =+D40 -> 3
B38: Límite adicional al básico mayor al 5% y hasta el 10%. | D38: 1
B39: Límite adicional al básico mayor al 10% y hasta el 15%. | D39: 2
B40: Límite adicional al básico mayor al 15% y hasta el 20%. | D40: 3
B41: RESTABLECIMIENTO ADICIONAL AUTOMÁTICO DEL LÍMITE ASEGURADO POR PAGO DE SINIESTRO, HASTA UNA (1) VEZ EL LÍMITE CONTRATADO CON COBRO DE PRIMA A PRORRATA. NOTA: Solo se acepta propuesta en los límites señados en los siguientes rangos. Ofrecimientos de otros valores diferentes serán evaluados con cero (0) puntos), excepto que sea superior al último rango. | D41: PUNTOS AL MAYOR VALOR DENTRO DEL RANGO | E41: Se califica el número de reestablecimientos adicionales, únicamente relacionados en la tabla de rangos en la condición requerida para la evaluación. | F41: =+D44 -> 3
B42: Superior a 1,5 veces y hasta 2,0 veces | D42: 1
B43: Superior a 2,0 veces y hasta 2,5 veces | D43: 2
...

Sheet G1. COND ADIC. RCE
B3: =+'G1. COND ADIC. TRDMC'!B3:H3 -> DEPARTAMENTO ADMINISTRATIVO PARA LA PROSPERIDAD SOCIAL - PROSPERIDAD SOCIAL
B5: FORMATO No. 1 EVALUACIÓN DE LAS CONDICIONES TÉCNICAS ADICIONALES
B6: GRUPO No. 1
B7: 3. PÓLIZA DE SEGURO DE RESPONSABILIDAD CIVIL EXTRACONTRACTUAL
B8: OBJETO DEL SEGURO
B9: Amparar los perjuicios patrimoniales y extrapatrimoniales que cause el DEPARTAMENTO ADMINISTRATIVO PARA LA PROSPERIDAD SOCIAL - PROSPERIDAD, como consecuencia de la Responsabilidad Civil Extracontractual originada dentro o fuera de sus instalaciones, en el desarrollo de sus actividades o en lo relacionado con ella, lo mismo que los actos de sus empleados y funcionarios o el personal para el apoyo a la gestión administrativa dentro y fuera del territorio nacional o por bienes que se encuentren bajo tenencia, control y/o responsabilidad . Nota: Se entenderán como terceros todas y cada una de las personas que circulen, ingresen, accedan o se encuentren en los predios de asegurado o por los cuales es responsable en su aseguramiento, independientemente que el asegurado le esté prestando un servicio objeto de su razón social.
B10: INFORMACIÓN GENERAL:
B11: TOMADOR: | C11: =+B3 -> DEPARTAMENTO ADMINISTRATIVO PARA LA PROSPERIDAD SOCIAL - PROSPERIDAD SOCIAL | G11: NIT. | H11: =+'G1. COND ADIC. TRDMC'!H11 -> 900.039.533-8
B12: ASEGURADO: | C12: =+C11 -> DEPARTAMENTO ADMINISTRATIVO PARA LA PROSPERIDAD SOCIAL - PROSPERIDAD SOCIAL | G12: NIT. | H12: =+H11 -> 900.039.533-8
B13: BENEFICIARIOS: | C13: TERCEROS AFECTADOS
B14: NOTA: | C14: CADA SUBLÍMITE O GASTOS OFRECIDOS EN FORMA ADICIONAL QUEDA CONTEMPLADO DENTRO DEL LÍMITE ASEGURADO.
B15: CRITERIOS DE EVALUACIÓN:
B16: CONDICIÓN REQUERIDA PARA EVALUACIÓN | E16: CRITERIO DE EVALUACIÓN | F16: PUNTAJE ESTABLECIDO | G16: OFRECIMIENTO DEL OFERENTE | H16: PUNTAJE OBTENIDO POR EL OFERENTE
B17: INCREMENTO DEL LÍMITE BÁSICO PARA LA COBERTURA DE RESPONSABILIDAD CIVIL EXTRACONTRACTUAL $6.000.000.001 EVENTO / (vigencia 1.4.2.) ANEXO 1. NOTA: Solo se acepta propuesta en los límites señados en los siguientes rangos. Ofrecimientos de otros valores diferentes serán evaluados con cero (0) puntos), excepto que sea superior al último rango. | D17: PUNTOS AL MAYOR VALOR DENTRO DEL RANGO | E17: Se califica el aumento adicional del límite asegurado. Hasta un monto total de $7.000.000.001 incluido el básico SIN COBRO DE PRIMA | F17: =+D20 -> 9
B18: Límite adicional al básico mayor a $200.000.000 y hasta $400.000.000 | D18: 2
B19: Límite adicional al básico mayor a $400.000.000 y hasta $600.000.000 | D19: 4
B20: Límite adicional al básico mayor a $600.000.000 y hasta $1.000.000.000 | D20: 9
B21: GASTOS MÉDICOS (sin aplicación de deducibles). Sublímite $500.000.000 evento / $1.200.000.000 (vigencia 1.4.2.) ANEXO 1. NOTA: Solo se acepta propuesta en los límites señados en los siguientes rangos. Ofrecimientos de otros valores diferentes serán evaluados con cero (0) puntos), excepto que sea superior al último rango. | E21: Se califica el aumento adicional del límite asegurado. SIN COBRO DE PRIMA, así: | F21: =+D25 -> 3
B22: Rangos para el sublímite por evento | D22: PUNTOS AL MAYOR VALOR DENTRO DEL RANGO | E22: Se califica el aumento adicional del sublímite evento. Hasta un monto total de $600.000.000 incluido el básico
B23: Límite adicional al básico mayor a $30.000.000 y hasta $60.000.000 | D23: 1.5
B24: Límite adicional al básico mayor a $60.000.000 y hasta $80.000.000 | D24: 2.4
B25: Límite adicional al básico mayor a $80.000.000 y hasta $100.000.000 | D25: 3
B26: Rangos para el sublímite por (vigencia 1.4.2.) ANEXO 1. | D26: PUNTOS AL MAYOR VALOR DENTRO DEL RANGO | E26: Se califica el aumento adicional del sublímite (vigencia 1.4.2.) ANEXO 1. Hasta un monto total de $2.200.000.000 incluido el básico | F26: =+D29 -> 3
B27: Límite adicional al básico mayor a $300.000.000 y hasta $500.000.000 | D27: 1.5
B28: Límite adicional al básico mayor a $500.000.000 y hasta $800.000.000 | D28: 2.4
B29: Límite adicional al básico mayor a $800.000.000 y hasta $1.000.000.000 | D29: 3
B30: RESPONSABILIDAD CIVIL PATRONAL Sublímite de 70% del valor asegurado evento / (vigencia 1.4.2.) ANEXO 1. NOTA: Solo se acepta propuesta en los límites señados en los siguientes rangos. Ofrecimientos de otros valores diferentes serán evaluados con cero (0) puntos), excepto que sea superior al último rango. | D30: PUNTOS AL MAYOR VALOR DENTRO DEL RANGO | E30: Se califica el aumento adicional del sublímite POR PERSONA Hasta un monto total de 90% incluido el básico | F30: =+D33 -> 3
B31: Límite mayor al 10% y hasta el 12%: | D31: 1
B32: Anticipo mayor al 12% y hasta el 15%: | D32: 2
B33: Anticipo mayor al 15% y hasta el 20%: | D33: 3
B34: ANTICIPO DE INDEMNIZACIÓN DEL 70%. NOTA 1: Si el aumento adicional del porcentaje de anticipo es condicionado a la demostración de la ocurrencia y cuantía, se califica con cero (0) puntos este factor. NOTA 2: Solo se acepta propuesta en los límites señados en los siguientes rangos. | D34: PUNTOS AL MAYOR VALOR DENTRO DEL RANGO | E34: Se califica el aumento adicional del porcentaje ofrecido. Bajo la definición del texto de la condición obligatoria y sin estar condicionada a la demostración de ocurrencia y cuantía. | F34: =+D37 -> 3
B35: Límite adicional al básico mayor al 10% y hasta el 15%. | D35: 1.5
B36: Límite adicional al básico mayor al 15% y hasta el 20%. | D36: =1.125*2 -> 2.25
B37: Límite adicional al básico mayor al 20% y hasta el 25%. | D37: 3
B38: RESTABLECIMIENTO ADICIONAL AUTOMÁTICO DEL LÍMITE ASEGURADO POR PAGO DE SINIESTRO, HASTA UNA COMA SEIS (1,6) VEZ EL LÍMITE CONTRATADO CON COBRO DE PRIMA A PRORRATA. NOTA: Solo se acepta propuesta en los límites señados en los siguientes rangos. Ofrecimientos de otros valores diferentes serán evaluados con cero (0) puntos), excepto que sea superior al último rango. | D38: PUNTOS AL MAYOR VALOR DENTRO DEL RANGO | E38: Se califica el número de reestablecimientos adicionales, únicamente relacionados en la tabla de rangos en la condición requerida para la evaluación. | F38: =+D41 -> 6
B39: Superior a 1,6 veces y hasta 2,0 veces | D39: 2
B40: Superior a 2,0 veces y hasta 2,5 veces | D40: 4
B41: Superior a 2,5 veces y hasta 3,0 veces | D41: 6
B42: COMPROMISO PARA EL PAGO DE LAS INDEMNIZACIONES Plazo de cinco (5) días hábiles. | D42: 3 | E42: Se califica el menor número de días hábiles una vez demostrada ocurrencia y cuantía. | F42: 3
B43: MÁXIMO CALIFICACIÓN | F43: =SUM(F17:F42) -> 30 | G43: CALIFICACIÓN DEL OFERENTE | H43: =SUM(H17:H42) -> 0
...

Sheet G1 COND ADIC. AUTOMÓVILES
B3: =+'G1. COND ADIC. TRDMC'!B3:H3 -> DEPARTAMENTO ADMINISTRATIVO PARA LA PROSPERIDAD SOCIAL - PROSPERIDAD SOCIAL
B5: FORMATO No. 1 EVALUACIÓN DE LAS CONDICIONES TÉCNICAS ADICIONALES
B6: GRUPO No. 1
B7: 4. PÓLIZA DE AUTOMÓVILES
B8: OBJETO DEL SEGURO
B9: Amparar a la Entidad por los perjuicios que cause patrimonial (daños materiales incluyendo daño emergente y lucro cesante) y extrapatrimonialmnte (incluidos el daño moral, daño fisiológico y daño a la vida en relación), al igual que los daños a bienes o lesiones o muerte a terceros. De igual forma se amparan los daños y/o pérdidas que afecten a los vehículos de su propiedad, bajo tenencia, control o por los que sea legalmente responsable o incluidos aquellos recibidos por parte de otras entidades para el desarrollo misional de la Entidad.
B10: INFORMACIÓN GENERAL:
B11: TOMADOR: | C11: =+B3 -> DEPARTAMENTO ADMINISTRATIVO PARA LA PROSPERIDAD SOCIAL - PROSPERIDAD SOCIAL | G11: NIT. | H11: =+'G1. COND ADIC. TRDMC'!H11 -> 900.039.533-8
B12: ASEGURADO: | C12: =+C11 -> DEPARTAMENTO ADMINISTRATIVO PARA LA PROSPERIDAD SOCIAL - PROSPERIDAD SOCIAL | G12: NIT. | H12: =+H11 -> 900.039.533-8
B13: BENEFICIARIO: | C13: =+C11 -> DEPARTAMENTO ADMINISTRATIVO PARA LA PROSPERIDAD SOCIAL - PROSPERIDAD SOCIAL | G13: NIT. | H13: =+H11 -> 900.039.533-8
B14: NOTA: | C14: CADA SUBLÍMITE O GASTOS OFRECIDOS EN FORMA ADICIONAL QUEDA CONTEMPLADO DENTRO DEL LÍMITE ASEGURADO.
B15: CRITERIOS DE EVALUACIÓN:
B16: CONDICIÓN REQUERIDA PARA EVALUACIÓN | E16: CRITERIO DE EVALUACIÓN | F16: PUNTAJE ESTABLECIDO | G16: OFRECIMIENTO DEL OFERENTE | H16: PUNTAJE OBTENIDO POR EL OFERENTE
B17: INCREMENTO DEL LÍMITE BÁSICO PARA LA COBERTURA DE RESPONSABILIDAD CIVIL EXTRACONTRACTUAL EVENTO /AGREGADO ANUAL. NOTA: Solo se acepta propuesta en los límites señados en los siguientes rangos. Ofrecimientos de otros valores diferentes serán evaluados con cero (0) puntos), excepto que sea superior al último rango. | E17: Se califica el aumento adicional del límite asegurado. SIN COBRO DE PRIMA | F17: =+D22 -> 10
B18: Al proponente que ofrezca únicamente el límite básico exigido de $1.500.000.000 / $1.500.000.000 / $3.000.000.000, ó Límite único combinado de $4.500.0000.000, se evaluara con CERO (0) puntos. Solo se acepta propuesta en los límites a continuación señalados, ofrecimientos de otros valores diferentes serán evaluados con cero (0) puntos). | D18: PUNTOS
B19: Al proponente que ofrezca límite de: $1.800.000.000 / $1.800.000.000 / $3.600.000.000. O límite único combinado de $5.400.000.000. | D19: 1
B20: Al proponente que ofrezca límite de: $2.000.000.000 / $2.000.000.000 / $4.000.000.000. O límite único combinado de $6.000.000.000. | D20: 3
B21: Al proponente que ofrezca límite de: $2.200.000.000 / $2.200.000.000 / $4.400.000.000. O límite único combinado de $6.600.000.000. | D21: 6
B22: Al proponente que ofrezca límite de: $2.500.000.000 / $2.500.000.000 / $5.000.000.000. O límite único combinado de $7.500.000.000. | D22: 10
B23: GASTOS DE TRANSPORTE POR PÉRDIDAS TOTALES (Daños y/o Hurto) (esta condición no aplica para motos y vehiculos pesados.) Limite de $35.000 diarios y hasta (90) días | E23: Se califica el aumento adicional del (incluido el básico) monto de los gastos de transporte. | F23: 3
B24: GASTOS DE BODEGAJE Limite de $5.000.000 | D24: PUNTOS AL MAYOR VALOR DENTRO DEL RANGO | E24: Se califica el aumento adicional del monto de los gastos de bodegaje. Hasta $10.000.000 incluido el básico. | F24: =+D27 -> 3
B25: Límite adicional al básico mayor a $500.000 y hasta $1.000.000 | D25: 0.6
B26: Límite adicional al básico mayor a $1.000.000 y hasta $2.000.000. | D26: 1.2
B27: Límite adicional al básico mayor a $2.000.000 y hasta $5.000.000: | D27: 3
B28: ANTICIPO DE INDEMNIZACIÓN DEL 80%. NOTA 1: Si el aumento adicional del porcentaje de anticipo es condicionado a la demostración de la ocurrencia y cuantía, se califica con cero (0) puntos este factor. NOTA 2: Solo se acepta propuesta en los límites señados en los siguientes rangos. | D28: PUNTOS AL MAYOR VALOR DENTRO DEL RANGO | E28: Se califica el aumento adicional del porcentaje ofrecido. Bajo la definición del texto de la condición obligatoria y sin estar condicionada a la demostración de ocurrencia y cuantía. | F28: =+D31 -> 2
B29: Límite adicional al básico mayor al 5% y hasta el 10%. | D29: 0.6
B30: Límite adicional al básico mayor al 10% y hasta el 15%. | D30: 1
B31: Límite adicional al básico mayor al 15% y hasta el 20%. | D31: 2
B32: AMPARO AUTOMÁTICO DE VEHÍCULOS NUEVOS Y USADOS Sublímite de $25.000.000 por vehículo y término de 90 días de aviso. | E32: Se califica el aumento adicional del monto del sublímite para este amparo. | F32: 1.5
B33: AMPARO AUTOMÁTICO DE EQUIPOS Y ACCESORIOS Sublímite de $20.000.000 por vehículo y término de 90 días de aviso. | E33: Se califica el aumento adicional del monto del sublímite para este amparo. | F33: 1.5
B34: GASTOS DE GRÚA PARA VEHÍCULOS DE TERCEROS, AFECTADOS EN ACCIDENTES EN LOS CUALES SEA EVIDENTE LA RESPONSABILIDAD DEL ASEGURADO. Se paga por rembolso el servicio prestado de grúa al tercero. | E34: Se califica el otorgamiento de este servicio. | F34: 2
B35: COMPROMISO PARA EL PAGO DE LAS INDEMNIZACIONES Plazo de diez (10) días hábiles. | E35: Se califica el menor número de días hábiles una vez demostrada ocurrencia y cuantía. | F35: 3
B36: VEHÍCULO DE REEMPLAZO Acorde con las políticas de la aseguradora. | E36: Se califica el ofrecimiento de este servicio | F36: 3
B37: VERIFICACIÓN CARACTERÍSTICAS DE LOS VEHÍCULOS ASEGURADOS FRENTE A CÓDIGO FASECOLDA Queda entendido, convenido y aceptado que la aseguradora se obliga a validar las características del vehículo asegurado en forma directa o a través de una firma externa especializada en reconocimiento de los vehículos relacionados por la Entidad, con expertos en la materia, tales como: marca, modelo, cilindraje o capacidad, carrocería, líneas, cabinas, y demás que consideren pertinentes, de tal forma que correspondan en un todo con el código exacto de FASECOLDA. Esta condición no aplica para vehículos con valor admitido. | E37: Se califica el ofrecimiento de este servicio | F37: 1
B38: MÁXIMO CALIFICACIÓN | F38: =SUM(F17:F37) -> 30 | G38: CALIFICACIÓN DEL OFERENTE | H38: =SUM(H17:H37) -> 0
B39: By: Tiger | H39: =+'G1. COND ADIC. RCE'!H44 -> VERSIÓN: JUN 2026

Sheet G1. COND ADIC. TRANSP MCÍAS
B3: =+'G1. COND ADIC. TRDMC'!B3:H3 -> DEPARTAMENTO ADMINISTRATIVO PARA LA PROSPERIDAD SOCIAL - PROSPERIDAD SOCIAL
B5: FORMATO No. 1 EVALUACIÓN DE LAS CONDICIONES TÉCNICAS ADICIONALES
B6: GRUPO No. 1
B7: 5. PÓLIZA DE TRANSPORTE DE MERCANCÍAS
B8: OBJETO DEL SEGURO
B9: Amparar las pérdidas y los daños materiales causados como consecuencia de los eventos que constituyen los amparos mencionados, en el transporte de cualquier tipo de mercancías nuevas y usadas incluida maquinaría, por cualquier medio de transporte, de los bienes de su propiedad, bajo tenencia, responsabilidad y/o control; propios del giro normal de las actividades del DEPARTAMENTO ADMINISTRATIVO PARA LA PROSPERIDAD SOCIAL - PROSPERIDAD.
B10: INFORMACIÓN GENERAL:
B11: TOMADOR: | C11: =+B3 -> DEPARTAMENTO ADMINISTRATIVO PARA LA PROSPERIDAD SOCIAL - PROSPERIDAD SOCIAL | G11: NIT. | H11: =+'G1. COND ADIC. TRDMC'!H11 -> 900.039.533-8
B12: ASEGURADO: | C12: =+B3 -> DEPARTAMENTO ADMINISTRATIVO PARA LA PROSPERIDAD SOCIAL - PROSPERIDAD SOCIAL | G12: NIT. | H12: =+H11 -> 900.039.533-8
B13: BENEFICIARIO: | C13: =+B3 -> DEPARTAMENTO ADMINISTRATIVO PARA LA PROSPERIDAD SOCIAL - PROSPERIDAD SOCIAL | G13: NIT. | H13: =+H11 -> 900.039.533-8
B14: NOTA: | C14: CADA SUBLÍMITE O GASTOS OFRECIDOS EN FORMA ADICIONAL QUEDA CONTEMPLADO DENTRO DEL LÍMITE ASEGURADO.
B15: CRITERIOS DE EVALUACIÓN:
B16: CONDICIÓN REQUERIDA PARA EVALUACIÓN | D16: PUNTOS | E16: CRITERIO DE EVALUACIÓN | F16: PUNTAJE ESTABLECIDO | G16: OFRECIMIENTO DEL OFERENTE | H16: PUNTAJE OBTENIDO POR EL OFERENTE
B17: ANTICIPO DE INDEMNIZACIÓN DEL 70%. NOTA 1: Si el aumento adicional del porcentaje de anticipo es condicionado a la demostración de la ocurrencia y cuantía, se califica con cero (0) puntos este factor. NOTA 2: Solo se acepta propuesta en los límites señados en los siguientes rangos. | D17: PUNTOS AL MAYOR VALOR DENTRO DEL RANGO | E17: Se califica el aumento adicional del porcentaje ofrecido. Bajo la definición del texto de la condición obligatoria y sin estar condicionada a la demostración de ocurrencia y cuantía. | F17: =+D20 -> 15
B18: Límite adicional al básico mayor al 5% y hasta el 10%. | D18: 3
B19: Límite adicional al básico mayor al 10% y hasta el 15%. | D19: 5
B20: Límite adicional al básico mayor al 15% y hasta el 20%. | D20: 15
B21: COMPROMISO PARA EL PAGO DE LAS INDEMNIZACIONES Plazo de cinco (5) días hábiles. | E21: Se califica el menor número de días hábiles una vez demostrada ocurrencia y cuantía. | F21: 15
B22: MÁXIMO CALIFICACIÓN | F22: =SUM(F17:F21) -> 30 | G22: CALIFICACIÓN DEL OFERENTE | H22: =SUM(H17:H21) -> 0
B23: By: Tiger | H23: =+'G1 COND ADIC. AUTOMÓVILES'!H39 -> VERSIÓN: JUN 2026

Sheet G1. COND ADIC. TRANSP VALORES
B3: =+'G1. COND ADIC. TRDMC'!B3:H3 -> DEPARTAMENTO ADMINISTRATIVO PARA LA PROSPERIDAD SOCIAL - PROSPERIDAD SOCIAL
B5: FORMATO No. 1 EVALUACIÓN DE LAS CONDICIONES TÉCNICAS ADICIONALES
B6: GRUPO No. 1
B7: 6. PÓLIZA DE TRANSPORTE DE VALORES
B8: OBJETO DEL SEGURO
B9: Amparar las pérdidas y los daños materiales causados como consecuencia de los eventos que constituyen los amparos mencionados, por el transporte de dineros en efectivo, títulos valores, cheques, y cualquier otro documento de propiedad del asegurado que pueda ser convertido fácilmente en dinero en efectivo, incluyendo las movilizaciones de dinero en efectivo realizadas por los funcionarios en comisión y delegados del manejo de las cajas menores y demás títulos valores, por los cuales el DEPARTAMENTO ADMINISTRATIVO PARA LA PROSPERIDAD SOCIAL - PROSPERIDAD, sea o deba ser legalmente responsable.
B10: INFORMACIÓN GENERAL:
B11: TOMADOR: | C11: =+B3 -> DEPARTAMENTO ADMINISTRATIVO PARA LA PROSPERIDAD SOCIAL - PROSPERIDAD SOCIAL | G11: NIT. | H11: =+'G1. COND ADIC. TRDMC'!H11 -> 900.039.533-8
B12: ASEGURADO: | C12: =+C11 -> DEPARTAMENTO ADMINISTRATIVO PARA LA PROSPERIDAD SOCIAL - PROSPERIDAD SOCIAL | G12: NIT. | H12: =+H11 -> 900.039.533-8
B13: BENEFICIARIO: | C13: =+C11 -> DEPARTAMENTO ADMINISTRATIVO PARA LA PROSPERIDAD SOCIAL - PROSPERIDAD SOCIAL | G13: NIT. | H13: =+H11 -> 900.039.533-8
B14: NOTA: | C14: CADA SUBLÍMITE O GASTOS OFRECIDOS EN FORMA ADICIONAL QUEDA CONTEMPLADO DENTRO DEL LÍMITE ASEGURADO.
B15: CRITERIOS DE EVALUACIÓN:
B16: CONDICIÓN REQUERIDA PARA EVALUACIÓN | D16: PUNTOS | E16: CRITERIO DE EVALUACIÓN | F16: PUNTAJE ESTABLECIDO | G16: OFRECIMIENTO DEL OFERENTE | H16: PUNTAJE OBTENIDO POR EL OFERENTE
B17: ANTICIPO DE INDEMNIZACIÓN DEL 70%. NOTA 1: Si el aumento adicional del porcentaje de anticipo es condicionado a la demostración de la ocurrencia y cuantía, se califica con cero (0) puntos este factor. NOTA 2: Solo se acepta propuesta en los límites señados en los siguientes rangos. | D17: PUNTOS AL MAYOR VALOR DENTRO DEL RANGO | E17: Se califica el aumento adicional del porcentaje ofrecido. Bajo la definición del texto de la condición obligatoria y sin estar condicionada a la demostración de ocurrencia y cuantía. | F17: =+D20 -> 15
B18: Límite adicional al básico mayor al 5% y hasta el 10%. | D18: 3
B19: Límite adicional al básico mayor al 10% y hasta el 15%. | D19: 5
B20: Límite adicional al básico mayor al 15% y hasta el 20%. | D20: 15
B21: COMPROMISO PARA EL PAGO DE LAS INDEMNIZACIONES Plazo de cinco (5) días hábiles. | E21: Se califica el menor número de días hábiles una vez demostrada ocurrencia y cuantía. | F21: 15
B22: MÁXIMO CALIFICACIÓN | F22: =SUM(F17:F21) -> 30 | G22: CALIFICACIÓN DEL OFERENTE | H22: =SUM(H17:H21) -> 0
B23: By: Tiger | H23: =+'METODOLOGÍA DE EVALUACIÓN'!G10 -> VERSIÓN: JUN 2026

Sheet G2 . COND ADIC. RCSP
B3: =+'G1. COND ADIC. TRDMC'!B3:H3 -> DEPARTAMENTO ADMINISTRATIVO PARA LA PROSPERIDAD SOCIAL - PROSPERIDAD SOCIAL
B5: FORMATO No. 1 EVALUACIÓN DE LAS CONDICIONES TÉCNICAS ADICIONALES
B6: GRUPO No. 1
B7: 7. PÓLIZA DE RESPONSABILIDAD CIVIL SERVIDORES PÚBLICOS
B8: OBJETO DEL SEGURO
B9: mparar los perjuicios o detrimentos patrimoniales causados al DEPARTAMENTO ADMINISTRATIVO PARA LA PROSPERIDAD SOCIAL - PROSPERIDAD, como consecuencia de decisiones de gestión incorrectas, pero no dolosas, adoptadas y/o ejecutadas o inejecutadas, por los Servidores Públicos y/o funcionarios con regímenes de responsabilidad similares a los de los servidores públicos, cuyos cargos se relacionan en el presente Pliego de Condiciones. Al igual que asumir los gastos de defensa (honorarios profesionales de abogados defensores y cauciones judiciales) según los límites establecidos en este documento, en todo tipo de procesos, incluidos los penales siempre que se trate de delitos no dolosos; civiles; administrativos; iniciados por entes de control (Procuraduría, Contraloría o similares), investigaciones o procesos internos, o; por cualquier organismo oficial, en los que se discuta la responsabilidad correspondiente a los cargos asegurados. Se extiende la cobertura anteriormente descrita, a las acciones u omisiones imputables a los cargos asegurados y que en desarrollo de sus funciones deban desempeñarse como funcionarios de la Entidad tomadora, por delegación en otras Entidades de carácter Estatal.
B10: Contratar la cobertura de seguro de Responsabilidad Civil Servidores públicos, de conformidad con lo previsto en el inciso tercero del artículo 43 de la Ley 2276 de 2022 “Por la cual se decreta el presupuesto de rentas y recursos de capital y ley de apropiaciones para la vigencia fiscal del 01 de enero al 31 de diciembre de 2023”, disposiciones que autorizan a las Entidades Estatales la contratación del seguro en los términos allí establecidos. (...) También podrán contratar un seguro de responsabilidad civil para servidores públicos, mediante el cual se ampare la responsabilidad de los mismos por actos o hechos no dolosos ocurridos en ejercicio de sus funciones, y los gastos de defensa en materia disciplinaria, penal y fiscal que deban realizar; estos últimos gastos los podrán pagar las entidades, siempre y cuando exista decisión definitiva que exonere de toda responsabilidad y no sea condenada la contraparte a las costas del proceso. (...).
B11: INFORMACIÓN GENERAL:
B12: TOMADOR: | C12: =+B3 -> DEPARTAMENTO ADMINISTRATIVO PARA LA PROSPERIDAD SOCIAL - PROSPERIDAD SOCIAL | G12: NIT. | H12: =+'G1. COND ADIC. TRDMC'!H11 -> 900.039.533-8
B13: ASEGURADO: | C13: NOMBRE DE LA ENTIDAD Y/O CARGOS ASEGURADOS | G13: NIT. | H13: =+H12 -> 900.039.533-8
B14: BENEFICIARIO: | C14: NOMBRE DE LA ENTIDAD Y/O CARGOS ASEGURADOS Y/O TERCEROS AFECTADOS | G14: NIT. | H14: =+H12 -> 900.039.533-8
B15: NOTA: | C15: CADA SUBLÍMITE O GASTOS OFRECIDOS EN FORMA ADICIONAL QUEDA CONTEMPLADO DENTRO DEL LÍMITE ASEGURADO.
B16: CRITERIOS DE EVALUACIÓN:
B17: CONDICIÓN REQUERIDA PARA EVALUACIÓN | E17: CRITERIO DE EVALUACIÓN | F17: PUNTAJE ESTABLECIDO | G17: OFRECIMIENTO DEL OFERENTE | H17: PUNTAJE OBTENIDO POR EL OFERENTE
B18: INCREMENTO DEL LÍMITE BÁSICO PARA LA COBERTURA DE PERJUICIOS O DETRIMENTO PATRIMONIAL. | E18: Se califica el aumento adicional del límite asegurado, únicamente relacionados en la tabla de rangos en la condición requerida para la evaluación. SIN COBRO DE PRIMA | F18: =+D23 -> 3
B19: Límite de $3.400.000.001 evento /agregado anual. Incluido los Gastos de Defensa. NOTA: Solo se acepta propuesta en los límites señados en los siguientes rangos. Ofrecimientos de otros valores diferentes serán evaluados con cero (0) puntos), excepto que sea superior al último rango. | D19: PUNTOS
B20: Ofrecimiento adicional superior a $400.000.000 y hasta $600.000.000 | D20: 0.5
B21: Ofrecimiento adicional superior a 600.000.000 y hasta $1.000.000.000 | D21: 1
B22: Ofrecimiento adicional superior a $1.000.000.000 y hasta $2.000.000.000 | D22: 2
B23: Ofrecimiento adicional superior a $2.000.000.000 y hasta $3.000.000.000 | D23: 3
B24: INCREMENTO DEL LÍMITE BÁSICO PARA LA COBERTURA DE GASTOS DE DEFENSA. Incluidos en el límite de Perjuicios o Detrimento Patrimonial sin cobro de prima. NOTA: Solo se acepta propuesta en los límites señados en los siguientes rangos. Ofrecimientos de otros valores diferentes serán evaluados con cero (0) puntos), excepto que sea superior al último rango. | E24: Se califica el aumento adicional del límite asegurado, únicamente relacionados en la tabla de rangos en la condición requerida para la evaluación. SIN COBRO DE PRIMA | F24: =+D30 -> 10
B25: Límite de $1.800.000.000 evento / agregado anual. Incluidos en el límite de Perjuicios o Detrimento Patrimonial sin cobro de prima. | D25: PUNTOS
B26: Ofrecimiento adicional de $100.000.000 al límite básico. | D26: 2
B27: Ofrecimiento adicional de $300.000.000 al límite básico. | D27: 5
B28: Ofrecimiento adicional de $500.000.000 al límite básico. | D28: 6
B29: Ofrecimiento adicional de $800.000.000 al límite básico. | D29: 8
B30: Ofrecimiento adicional de $1.000.000.000 al límite básico. | D30: 10
B31: INCREMENTO DEL SUBLÍMITE DE GASTOS DE DEFENSA EN LOS PROCESOS DE INDAGACIÓN O INVESTIGACIONES PRELIMINARES o INDAGACIONES PREVIAS Y EN LA VINCULACIÓN PROCESAL HASTA FALLO QUE HAGA TRANSITO A COSA JUZGADA Incluidos en el límite de Perjuicios o Detrimento Patrimonial sin cobro de prima. | E31: Se califica el aumento adicional del límite asegurado conforme los valores indicados en los rangos. Salvo que sea superior al último rango para lo cual se calificara con el mayor puntaje del rango y los demás por regla de tres SIN COBRO DE PRIMA | F31: =+D36 -> 8
B32: SUBLÍMITE POR CARGO ASEGURADO
B33: El sublímite ofertado debe ser una cifra única aplicable para cada uno de los cargos asegurados | D33: PUNTOS
B34: Límite adicional al básico: $10.000.000 evento /vigencia | D34: 2
B35: Límite adicional al básico: $20.000.000 evento /vigencia | D35: 4
B36: Límite adicional al básico: $50.000.000 evento /vigencia | D36: 8
B37: ANTICIPO DE INDEMNIZACIÓN PARA EL PAGO DE HONORARIOS DEL 70%. NOTA: Si el aumento adicional del porcentaje de anticipo es condicionado a la demostración de la ocurrencia y cuantía, se califica con cero (0) puntos este factor. | E37: Se califica el aumento adicional del porcentaje ofrecido. Bajo la definición del texto de la condición obligatoria y sin estar condicionada a la demostración de ocurrencia y cuantía. | F37: 2
B38: NOTIFICACIÓN DE HECHOS O CIRCUNSTANCIAS. Si durante la vigencia de la póliza o del periodo extendido de reclamaciones, un asegurado o la entidad tomadora tuvieren conocimiento de cualquier hecho o circunstancia que razonablemente pudiera dar lugar en el futuro, a un siniestro o a generar una reclamación, los asegurados y/o la entidad tomadora, según fuere el caso, darán aviso a la compañía de seguros antes de la terminación de la vigencia de la póliza. En caso que con posterioridad a la terminación de la vigencia de la póliza efectivamente se formalice una reclamación derivada de los hechos o circunstancias que fueron notificados a la compañía de seguros en la forma establecida en esta cláusula, dicha reclamación se considerará presentada por primera vez en el mismo momento en que los hechos y circunstancias que la originaron fueron debidamente notificados o avisados a la aseguradora, razón por la cual la cobertura procederá bajo la póliza que se encontraba vigente en ese momento. | E38: Se califica el otorgamiento de esta condición | F38: 3
B39: COBERTURA HASTA CINCO (5) CARGOS ADICIONALES SIN COBRO DE PRIMA. Mediante esta condición la aseguradora acepta incluir hasta cinco (5) cargos adicionales a definir posteriormente por la Entidad, sin cobro de prima y con la misma retroactividad de esta póliza. La retroactividad solo aplica para los cargos ya creados, en caso de nuevos cargos, la retroactividad es a partir de la creación de éste. | E39: Se califica el aumento adicional del sublímite por PERSONA Y POR CADA PROCESO PARA CADA UNA DE LAS PERSONAS | F39: =+D44 -> 4
B40: Ofrecimiento de un (1) cargo adicional | D40: 0.5
B41: Ofrecimiento de dos (2) cargos adicionales | D41: 1
B42: Ofrecimiento de tres (3) cargos adicionales | D42: 2
B43: Ofrecimiento de cuatro (4) cargos adicionales | D43: 3
...

Sheet G3. COND ADIC. IRF
B3: =+'G1. COND ADIC. TRDMC'!B3:H3 -> DEPARTAMENTO ADMINISTRATIVO PARA LA PROSPERIDAD SOCIAL - PROSPERIDAD SOCIAL
B5: FORMATO No. 1 EVALUACIÓN DE LAS CONDICIONES TÉCNICAS ADICIONALES
B6: GRUPO No. 1
B7: 8. PÓLIZA DE INFIDELIDAD Y RIESGOS FINANCIEROS
B8: OBJETO DEL SEGURO
B9: Amparar al asegurado las pérdidas, gastos y daños como consecuencia de actos deshonestos o fraudulentos cometidos por empleados del asegurado, solos o en concurso con otros, o con terceros, con la intención manifiesta de hacer que el asegurado sufra dicha pérdida. Se extiende el objeto del seguro a amparar el patrimonio del asegurado por la pérdida o daños de bienes propios y no propios por los cuales el Asegurado sea responsable tales como dineros efectivo y dinero en todas sus formas y representaciones, títulos valores y cualquier documento y forma material o inmaterial de representación de dinero, como consecuencia de los riesgos a que está expuesto el Asegurado en el giro normal de su actividad social.
B10: INFORMACIÓN GENERAL:
B11: TOMADOR: | C11: =+B3 -> DEPARTAMENTO ADMINISTRATIVO PARA LA PROSPERIDAD SOCIAL - PROSPERIDAD SOCIAL | G11: NIT. | H11: =+'G1. COND ADIC. TRDMC'!H11 -> 900.039.533-8
B12: ASEGURADO: | C12: =+C11 -> DEPARTAMENTO ADMINISTRATIVO PARA LA PROSPERIDAD SOCIAL - PROSPERIDAD SOCIAL | G12: NIT. | H12: =+H11 -> 900.039.533-8
B13: BENEFICIARIO: | C13: =+C11 -> DEPARTAMENTO ADMINISTRATIVO PARA LA PROSPERIDAD SOCIAL - PROSPERIDAD SOCIAL | G13: NIT. | H13: =+H11 -> 900.039.533-8
B14: NOTA: | C14: CADA SUBLÍMITE O GASTOS OFRECIDOS EN FORMA ADICIONAL QUEDA CONTEMPLADO DENTRO DEL LÍMITE ASEGURADO.
B15: CRITERIOS DE EVALUACIÓN:
B16: CONDICIÓN REQUERIDA PARA EVALUACIÓN | E16: CRITERIO DE EVALUACIÓN | F16: PUNTAJE ESTABLECIDO | G16: OFRECIMIENTO DEL OFERENTE | H16: PUNTAJE OBTENIDO POR EL OFERENTE
B17: ANTICIPO DE INDEMNIZACIÓN DEL 70%. NOTA 1: Si el aumento adicional del porcentaje de anticipo es condicionado a la demostración de la ocurrencia y cuantía, se califica con cero (0) puntos este factor. NOTA 2: Solo se acepta propuesta en los límites señados en los siguientes rangos. | D17: PUNTOS | E17: Se califica el aumento adicional del porcentaje ofrecido. Bajo la definición del texto de la condición obligatoria y sin estar condicionada a la demostración de ocurrencia y cuantía. | F17: =+D20 -> 15
B18: Límite adicional al básico mayor al 5% y hasta el 10%. | D18: 3
B19: Límite adicional al básico mayor al 10% y hasta el 15%. | D19: 5
B20: Límite adicional al básico mayor al 15% y hasta el 20%. | D20: 15
B21: RESTABLECIMIENTO ADICIONAL AUTOMÁTICO DEL LÍMITE ASEGURADO POR PAGO DE SINIESTRO, HASTA UNA (1) VEZ EL LÍMITE CONTRATADO CON COBRO DE PRIMA A PRORRATA | E21: Se califica el número de reestablecimientos adicionales, únicamente relacionados en la tabla de rangos en la condición requerida para la evaluación. | F21: =+D24 -> 3
B22: Superior a 1,5 veces y hasta 2,0 veces | D22: 1
B23: Superior a 2,0 veces y hasta 2,5 veces | D23: 2
B24: Superior a 2,5 veces y hasta 3,0 veces | D24: 3
B25: BONO POR NO RECLAMACIÓN DIEZ (10%) POR CIENTO Está entendido y acordado que se otorga un descuento 10% de bono por no reclamación, pagadero a la expiración como devolución de prima bruta. Queda expresamente convenido y aceptado que la aseguradora efectuará el pago de la devolución del monto a que tenga derecho la entidad asegurada, por concepto de la Cláusula de Bono por no Reclamación, sin sujetar el mismo a la renovación y/o prórroga de la póliza, con la misma aseguradora y/o reaseguradores siempre y cuando la vigencia sea mínimo de un año. De igual forma se acuerdo que la aseguradora presentará a la entidad asegurada la liquidación de la devolución correspondiente, dentro de los treinta (30) días siguientes a la fecha de vencimiento de cada período anual de la vigencia de la póliza previa certificación expedida por el asegurado a la expiración de la póliza de no conocimiento de hechos o circunstancias que puedan afectar la póliza. “Lo anterior sujeto a carta de liberación de responsabilidad por parte del asegurado”. | E25: Se califica el otorgamiento de Bono por No reclamación | F25: 6
B26: OFRECIMIENTO DE ESTUDIO DE RIESGOS CON COSTO A CARGO DE LA ASEGURADORA (SURVEY) Las recomendaciones, sugerencias y/o demás aspectos que se deriven del resultado de este estudio, no generarán exigencia de implementación de medidas de prevención y/o control de riesgo, aplicación de garantías o cualquier tipo de compromiso para el asegurado, así como la modificación de las condiciones ofertadas. El estudio deberá realizarse dentro de los cuatro (4) primeros meses de la vigencia de la póliza, para lo cual la aseguradora se compromete a presentar dentro de los primeros treinta (30) dias calendarios, contados a partir de la fecha del inicio de la vigencia de la póliza, el cronograma en el que se indiquen las actividades que desarrollará para tal efecto y los funcionarios y/o firma externa que llevarán a cabo las mismas. | E26: Se califica el otorgamiento del Estudio de Riesgos | F26: 6
B27: MÁXIMO CALIFICACIÓN | F27: =SUM(F17:F26) -> 30 | G27: CALIFICACIÓN DEL OFERENTE | H27: =SUM(H17:H26) -> 0
B28: By: Tiger | H28: =+'METODOLOGÍA DE EVALUACIÓN'!G10 -> VERSIÓN: JUN 2026

Sheet G4. COND ADIC. RIESGO CYB
B3: =+'G1. COND ADIC. TRDMC'!B3:H3 -> DEPARTAMENTO ADMINISTRATIVO PARA LA PROSPERIDAD SOCIAL - PROSPERIDAD SOCIAL
B5: FORMATO No. 1 EVALUACIÓN DE LAS CONDICIONES TÉCNICAS ADICIONALES
B6: GRUPO No. 2
B7: 9. PÓLIZA DE RIESGO CIBERNÉTICO (RESPONSABILIDAD CIVIL PROTECCIÓN DE DATOS)
B8: OBJETO DEL SEGURO
B9: Cubrir las pérdidas patrimoniales y Gastos de Defensa por la eventual responsabilidad del DEPARTAMENTO ADMINISTRATIVO PARA LA PROSPERIDAD SOCIAL - PROSPERIDAD, por pérdidas o daños ocasionados a terceros, y por los daños o pérdidas a sus propios bienes e intereses, derivados de situaciones de riesgo en el manejo de información, que son objeto de la cobertura de la póliza, dentro y fuera del Territorio Nacional.
B10: INFORMACIÓN GENERAL:
B11: TOMADOR: | C11: =+B3 -> DEPARTAMENTO ADMINISTRATIVO PARA LA PROSPERIDAD SOCIAL - PROSPERIDAD SOCIAL | G11: NIT. | H11: =+'G1. COND ADIC. TRDMC'!H11 -> 900.039.533-8
B12: ASEGURADO: | C12: =+C11 -> DEPARTAMENTO ADMINISTRATIVO PARA LA PROSPERIDAD SOCIAL - PROSPERIDAD SOCIAL | G12: NIT. | H12: =+H11 -> 900.039.533-8
B13: BENEFICIARIO: | C13: =+C11 -> DEPARTAMENTO ADMINISTRATIVO PARA LA PROSPERIDAD SOCIAL - PROSPERIDAD SOCIAL | G13: NIT. | H13: =+H11 -> 900.039.533-8
B14: NOTA: | C14: CADA SUBLÍMITE O GASTOS OFRECIDOS EN FORMA ADICIONAL QUEDA CONTEMPLADO DENTRO DEL LÍMITE ASEGURADO.
B15: CRITERIOS DE EVALUACIÓN:
B16: CONDICIÓN REQUERIDA PARA EVALUACIÓN | E16: CRITERIO DE EVALUACIÓN | F16: PUNTAJE ESTABLECIDO | G16: OFRECIMIENTO DEL OFERENTE | H16: PUNTAJE OBTENIDO POR EL OFERENTE
B17: INCREMENTO DEL LÍMITE BÁSICO DE $1.000.000.000 PARA LA COBERTURA DE RESPONSABILIDAD CIVIL PROTECCIÓN DE DATOS - RIESGO CIBERNÉTICO. NOTA: Solo se acepta propuesta en los límites señados en los siguientes rangos. Ofrecimientos de otros valores diferentes serán evaluados con cero (0) puntos), excepto que sea superior al último rango. | D17: PUNTOS | E17: Se califica el aumento adicional del límite asegurado. SIN COBRO DE PRIMA | F17: =+D21 -> 10
B18: Límite adicional al básico mayor a $300.000.000 y hasta $500.000.000 | D18: 1
B19: Límite adicional al básico mayor a $500.000.000 y hasta $1.000.000.000 | D19: 3
B20: Límite adicional al básico mayor a $1.000.000.000 y hasta $2.000.000.000 | D20: 6
B21: Límite adicional superior a $2.500.000.000 | D21: 10
B22: INVESTIGACIÓN Sublimite del 50% del valor asegurado por reclamo y en la vigencia. NOTA: Solo se acepta propuesta en los límites señados en los siguientes rangos. | D22: PUNTOS | E22: Se califica el aumento adicional del porcentaje ofrecido. | F22: =+D25 -> 3
B23: Límite adicional al básico mayor al 10% y hasta el 25%. | D23: 1
B24: Límite adicional al básico mayor al 25% y hasta el 35%. | D24: 2
B25: Límite adicional al básico mayor al 35% y hasta el 50%. | D25: 3
B26: NOTIFICACIÓN Y MONITOREO Sublimite del 50% del valor asegurado por reclamo y en la vigencia. NOTA: Solo se acepta propuesta en los límites señados en los siguientes rangos. | D26: PUNTOS | E26: Se califica el aumento adicional del porcentaje ofrecido. | F26: =+D29 -> 3
B27: Límite adicional al básico mayor al 10% y hasta el 25%. | D27: 1
B28: Límite adicional al básico mayor al 25% y hasta el 35%. | D28: 2
B29: Límite adicional al básico mayor al 35% y hasta el 50%. | D29: 3
B30: DATOS ELECTRÓNICOS Sublimite del 50% del valor asegurado por reclamo y en la vigencia. NOTA: Solo se acepta propuesta en los límites señados en los siguientes rangos. | D30: PUNTOS | E30: Se califica el aumento adicional del porcentaje ofrecido. | F30: =+D33 -> 3
B31: Límite adicional al básico mayor al 10% y hasta el 25%. | D31: 1
B32: Límite adicional al básico mayor al 25% y hasta el 35%. | D32: 2
B33: Límite adicional al básico mayor al 35% y hasta el 50%. | D33: 3
B34: CONTENIDO MULTIMEDIA Sublimite del 50% del valor asegurado por reclamo y en la vigencia. NOTA: Solo se acepta propuesta en los límites señados en los siguientes rangos. | D34: PUNTOS | E34: Se califica el aumento adicional del porcentaje ofrecido. | F34: =+D37 -> 3
B35: Límite adicional al básico mayor al 10% y hasta el 25%. | D35: 1
B36: Límite adicional al básico mayor al 25% y hasta el 35%. | D36: 2
B37: Límite adicional al básico mayor al 35% y hasta el 50%. | D37: 3
B38: INTERRUPCIÓN DE LA RED Sublimite del 50% del valor asegurado por reclamo y en y en el agregado anual. NOTA: Solo se acepta propuesta en los límites señados en los siguientes rangos. | D38: PUNTOS | E38: Se califica el aumento adicional del porcentaje ofrecido. | F38: =+D41 -> 3
B39: Límite adicional al básico mayor al 10% y hasta el 25%. | D39: 1
B40: Límite adicional al básico mayor al 25% y hasta el 35%. | D40: 2
B41: Límite adicional al básico mayor al 35% y hasta el 50%. | D41: 3
B42: INTERRUPCIÓN DE LA RED Periodo de horas de espera: 6 horas. | D42: PUNTOS | E42: Se califica la disminución de este periodo en horas. | F42: =+D46 -> 3
B43: Reducción menor a 5 horas y hasta 4 horas | D43: 0.5
...
