Workbook

Sheet G1. CALIF. DEDUCIBLES TRDM
B2: DEPARTAMENTO ADMINISTRATIVO PARA LA PROSPERIDAD SOCIAL - PROSPERIDAD SOCIAL
B3: FORMATO No. 5 EVALUACIÓN DE DEDUCIBLES
B4: GRUPO No. 1
B5: 1. PÓLIZA DE SEGURO DE TODO RIESGO DAÑOS MATERIALES COMBINADOS
B6: OBJETO DEL SEGURO
B7: Amparar todos los activos (bienes inmuebles y muebles) de propiedad del DEPARTAMENTO ADMINISTRATIVO PARA LA PROSPERIDAD SOCIAL - PROSPERIDAD SOCIAL, o aquellos que se encuentren bajo su control, tenencia, responsabilidad o custodia, contra los daños o pérdidas materiales a consecuencia de cualquier riesgo, tanto por eventos internos o externos, incluyendo las pérdidas consecuenciales por todo concepto y en general los recibidos a cualquier título o por los que tenga algún interés asegurable, ubicados en el territorio nacional o por aquellos que por su naturaleza se deban trasladar a nivel mundial, dentro o fuera de las instalaciones del asegurado y/o en predios de terceros o a la intemperie y los utilizados en desarrollo del objeto social del DPS.
B8: INFORMACIÓN GENERAL:
B9: TOMADOR: | C9: =+B2 -> DEPARTAMENTO ADMINISTRATIVO PARA LA PROSPERIDAD SOCIAL - PROSPERIDAD SOCIAL | I9: NIT. | J9: =+'[1]10. COND. BÁSICAS R.C. CYBER'!$G$9 -> 900039533-8
B10: ASEGURADO: | C10: =+C9 -> DEPARTAMENTO ADMINISTRATIVO PARA LA PROSPERIDAD SOCIAL - PROSPERIDAD SOCIAL | I10: NIT. | J10: =+J9 -> 900039533-8
B11: BENEFICIARIO: | C11: =+C9 -> DEPARTAMENTO ADMINISTRATIVO PARA LA PROSPERIDAD SOCIAL - PROSPERIDAD SOCIAL | I11: NIT. | J11: =+J9 -> 900039533-8
B12: CRITERIOS DE EVALUACIÓN:
B13: Los criterios establecidos tienen como objeto que la Entidad pueda obtener los mejores deducibles que le permitan lograr la mayor indemnización posible, frente a las pérdidas que pueda sufrir derivadas de un evento súbito e imprevisto que no depende de la voluntad del asegurado.
B14: DEDUCIBLES ACTUALES Y MÁXIMOS ACEPTABLES: (RELACIONAR LOS DEDUCIBLES ACTUALES DE LA ENTIDAD)
B15: Actualmente el DEPARTAMENTO ADMINISTRATIVO PARA LA PROSPERIDAD SOCIAL - PROSPERIDAD SOCIAL, tiene únicamente los siguientes deducibles aplicables:
B16: TERREMOTO, TEMBLOR, ERUPCION VOLCANICA: | E16: 1% Sobre el valor asegurado del item afectado dentro del predio asegurado minimo 1 smmlv
B17: ACTOS MAL INTENCIONADOS DE TERCEROS ASONADA, MOTÍN, CONMOCIÓN CIVIL O POPULAR Y HUELGA (INCLUIDO TERRORISMO Y SABOTAJE). | E17: Sin deducible
B18: HURTO Y HURTO CALIFICADO | E18: Sin deducible
B19: DEMÁS EVENTOS Y/O AMPAROS | E19: Sin deducible
B20: PARÁMETROS PARA LA CALIFICACIÓN
B21: Para calificación del deducible se realizará aplicando los criterios aquí indicados y los puntajes señalados en las tablas de rangos relacionadas en estas.
B22: CALIFICACIÓN APLICABLE AL AMPARO DE TERREMOTO, TEMBLOR Y/O ERUPCIÓN VOLCÁNICA
B23: Las aseguradoras deben presentar únicamente propuestas de deducibles aplicables sobre el valor asegurado y/o valor asegurable, DEL ITEM AFECTADO DENTRO DEL PREDIO ASEGURADO para el amparo de Terremoto, temblor y/o erupción volcánica; propuestas que ofrezcan sobre el valor asegurado TOTAL y/o valor asegurable TOTAL, SERÁN OBJETO DE RECHAZO.
B24: De acuerdo con lo anterior y para los fines pertinentes de deducible y a efectos de la determinación del “valor asegurado o asegurable del ITEM AFECTADO DENTRO DEL PREDIO ASEGURADO”, se considerarán las siguientes definiciones:
B25: DEFINICIONES (AJUSTAR SEGÚN LAS CARACTERÍSTICAS DE LOS BIENES A ASEGURAR) | E25: PREDIO ASEGURADO Es el sitio de ocurrencia del siniestro donde la Entidad lleva a cabo actividades y en el cual se encuentran contenidos los bienes asegurados, ya sea en uno o varios edificios o a la intemperie, si están diseñados para ello.
E26: ÍTEM AFECTADO Corresponde a la agrupación de bienes de iguales o similares características, tales como: Edificios, bienes muebles, equipos eléctricos, equipos electrónicos, maquinaria, equipo, mercancías, dineros y otros bienes de la Entidad en alcance de la definición establecida en las Anexo No. 1 Condiciones Obligatorias (Mínimas Técnicas).
E27: VALOR ASEGURADO O ASEGURABLE DEL ITEM AFECTADO DENTRO DEL PREDIO ASEGURADO Corresponde al monto asegurado o asegurable de los bienes contenidos en cada predio; es decir, los bienes correspondientes a los ítems de: Edificios, bienes muebles, equipos eléctricos, equipos electrónicos, maquinaria, equipo, mercancías, dineros y otros bienes de la Entidad en alcance de la definición establecida en las Anexo No. 1 Condiciones Obligatorias (Mínimas Técnicas).
E28: Se aclara que en caso de siniestro por pérdida o daño, que afecte solo algunos de los items antes citados, el valor asegurado o valor asegurable considerado para la aplicación del deducible corresponderá solamente al item o ítems correspondientes a los bienes afectados.
B29: TABLA DE CALIFICACIÓN
B31: Para efectos de la evaluación, se tendrán los siguientes ítems y puntajes: | F31: PUNTOS
B32: TERREMOTO, TEMBLOR Y/O ERUPCIÓN VOLCÁNICA: | F32: 10
B33: ACTOS MAL INTENCIONADOS DE TERCEROS ASONADA, MOTÍN, CONMOCIÓN CIVIL O POPULAR Y HUELGA (INCLUIDO TERRORISMO Y SABOTAJE). | E33: 4 | F33: 0
B34: HURTO Y HURTO CALIFICADO | E34: 2 | F34: 0
B35: DEMÁS EVENTOS Y/O AMPAROS | E35: 2 | F35: 0
B36: TOTAL PUNTOS | F36: =SUM(F32:J35) -> 10
B37: NOTA: Para efectos de la evaluación y en aquellas tablas en los cuales se tengan rangos, en caso que el oferente indique "SE OTORGA" ó "SI" u otra expresión que implica que si esta otorgando el deducible, la Entidad entenderá que estos deducibles fueron ofrecidos con el valor del MÍNIMO RANGO y por lo tanto se asignará el puntaje respectivo de este rango y la aseguradora en caso de ser adjudicada su propuesta, expedirá la póliza con las condiciones mínimas de ese criterio en particular.
B38: 1- TERREMOTO, TEMBLOR Y/O ERUPCIÓN VOLCÁNICA: Diez (10) puntos
B39: RANGO DEL DEDUCIBLES PORCENTUAL - Cinco (5) Puntos | E39: PUNTAJE SOBRE EL VALOR DE LA PERDIDA | I39: DEDUCIBLE OFERTADO | J39: PUNTOS OBTENIDOS
B40: Sin deducible | E40: 5,00 Puntos | I40: (INDICAR EL DEDUCIBLE OFERTADO)
B41: Superior a 0,0% y hasta 0,2% | E41: 4,00 Puntos
B42: Superior a 0,2% y hasta 0,4% | E42: 3,00 Puntos
...

Sheet G1. CALIF. DEDUCIBLES IRF
B2: =+'G1. CALIF. DEDUCIBLES TRDM'!B2 -> DEPARTAMENTO ADMINISTRATIVO PARA LA PROSPERIDAD SOCIAL - PROSPERIDAD SOCIAL
B3: FORMATO No. 5 EVALUACIÓN DE DEDUCIBLES
B4: GRUPO No. 1
B5: 3. PÓLIZA DE INFIDELIDAD Y RIESGOS FINANCIEROS IRF
B6: OBJETO DEL SEGURO
B7: Amparar al asegurado las pérdidas, gastos y daños como consecuencia de actos deshonestos o fraudulentos cometidos por empleados del asegurado, solos o en concurso con otros, o con terceros, con la intención manifiesta de hacer que el asegurado sufra dicha pérdida. Se extiende el objeto del seguro a amparar el patrimonio del asegurado por la pérdida o daños de bienes propios y no propios por los cuales el Asegurado sea responsable tales como dineros efectivo y dinero en todas sus formas y representaciones, títulos valores y cualquier documento y forma material o inmaterial de representación de dinero, como consecuencia de los riesgos a que está expuesto el Asegurado en el giro normal de su actividad social.
B8: INFORMACIÓN GENERAL:
B9: TOMADOR: | C9: =+'G1. CALIF. DEDUCIBLES TRDM'!C9 -> DEPARTAMENTO ADMINISTRATIVO PARA LA PROSPERIDAD SOCIAL - PROSPERIDAD SOCIAL | I9: NIT. | J9: =+'G1. CALIF. DEDUCIBLES TRDM'!J9 -> 900039533-8
B10: ASEGURADO: | C10: =+C9 -> DEPARTAMENTO ADMINISTRATIVO PARA LA PROSPERIDAD SOCIAL - PROSPERIDAD SOCIAL | I10: NIT. | J10: =+J9 -> 900039533-8
B11: BENEFICIARIO: | C11: =+C9 -> DEPARTAMENTO ADMINISTRATIVO PARA LA PROSPERIDAD SOCIAL - PROSPERIDAD SOCIAL | I11: NIT. | J11: =+J9 -> 900039533-8
B12: CRITERIOS DE EVALUACIÓN:
B13: Los criterios establecidos tienen como objeto que la Entidad pueda obtener los mejores deducibles que le permitan lograr la mayor indemnización posible, frente a las pérdidas que pueda sufrir derivadas de un evento súbito e imprevisto que no depende de la voluntad del asegurado.
B14: DEDUCIBLES ACTUALES Y MÁXIMOS ACEPTABLES: (RELACIONAR LOS DEDUCIBLES ACTUALES DE LA ENTIDAD)
B15: Actualmente el DEPARTAMENTO ADMNISTRATIVO PARA LA PROPERIDAD SOCIAL - PROPERIDAD SOCIAL, tiene únicamente los siguientes deducibles aplicables:
B16: TODA Y CADA PÉRDIDA | E16: $20,000,000 Toda y cada pérdida
B17: CAJA MENORES | E17: SIN DEDUCIBLE
B18: TABLA DE CALIFICACIÓN
B19: Para efectos de la evaluación, se tendrán los siguientes ítems y puntajes: | F19: PUNTOS
B20: TODA Y CADA PÉRDIDA | F20: 10
B21: TOTAL PUNTOS | F21: =SUM(F20) -> 10
B22: NOTA: Para efectos de la evaluación y en aquellas tablas en los cuales se tengan rangos, en caso que el oferente indique "SE OTORGA" ó "SI" u otra expresión que implica que si esta otorgando el deducible, la Entidad entenderá que estos deducibles fueron ofrecidos con el valor del MÍNIMO RANGO y por lo tanto se asignará el puntaje respectivo de este rango y la aseguradora en caso de ser adjudicada su propuesta, expedirá la póliza con las condiciones mínimas de ese criterio en particular.
B23: 1- TODA Y CADA PÉRDIDA: Diez (10) puntos
B24: RANGO DE DEDUCIBLES PESOS | E24: PUNTAJE SOBRE EL VALOR DE LA PERDIDA | I24: DEDUCIBLE OFERTADO | J24: PUNTOS OBTENIDOS
B25: Sin deducible | E25: 10,00 Puntos | I25: (INDICAR EL DEDUCIBLE OFERTADO)
B26: Superior a 0,0 y hasta $5.000.000 | E26: 5,00 Puntos
B27: Superior a $5,000,000 y hasta $10.000.000 | E27: 2,00 Puntos
B28: Superior a $10,000,000 y hasta $15.000.000 | E28: 1,00 Puntos
B29: Superior a $15,000,000 y hasta $20.000.000 | E29: 0,10 Puntos
B30: Superior a $20.000.000 | E30: SE RECHAZA LA OFERTA
B31: By: Tiger | J31: =+'G1. CALIF. DEDUCIBLES TRDM'!J78 -> VERSIÓN: JUNIO 2026

Sheet G3- RIESGO CYBER
B2: =+'G1. CALIF. DEDUCIBLES TRDM'!B2 -> DEPARTAMENTO ADMINISTRATIVO PARA LA PROSPERIDAD SOCIAL - PROSPERIDAD SOCIAL
B3: FORMATO No. 5 EVALUACIÓN DE DEDUCIBLES
B4: GRUPO No. 2
B5: 5. PÓLIZA DE RIESGO CIBERNÉTICO (RESPONSABILIDAD CIVIL PROTECCIÓN DE DATOS)
B6: OBJETO DEL SEGURO
B7: Cubrir las pérdidas patrimoniales y Gastos de Defensa por la eventual responsabilidad del DEPARTAMENTO ADMINISTRATIVO PARA LA PROSPERIDAD SOCIAL - PROSPERIDAD SOCIAL, por pérdidas o daños ocasionados a terceros, y por los daños o pérdidas a sus propios bienes e intereses, derivados de situaciones de riesgo en el manejo de información, que son objeto de la cobertura de la póliza, dentro y fuera del Territorio Nacional.
B8: INFORMACIÓN GENERAL:
B9: TOMADOR: | C9: =+B2 -> DEPARTAMENTO ADMINISTRATIVO PARA LA PROSPERIDAD SOCIAL - PROSPERIDAD SOCIAL | I9: NIT. | J9: =+'G1. CALIF. DEDUCIBLES TRDM'!J9 -> 900039533-8
B10: ASEGURADO: | C10: =+C9 -> DEPARTAMENTO ADMINISTRATIVO PARA LA PROSPERIDAD SOCIAL - PROSPERIDAD SOCIAL | I10: NIT. | J10: =+J9 -> 900039533-8
B11: BENEFICIARIO: | C11: =+C9 -> DEPARTAMENTO ADMINISTRATIVO PARA LA PROSPERIDAD SOCIAL - PROSPERIDAD SOCIAL | I11: NIT. | J11: =+J9 -> 900039533-8
B12: CRITERIOS DE EVALUACIÓN:
B13: Los criterios establecidos tienen como objeto que la Entidad pueda obtener los mejores deducibles que le permitan lograr la mayor indemnización posible, frente a las pérdidas que pueda sufrir derivadas de un evento súbito e imprevisto que no depende de la voluntad del asegurado.
B14: DEDUCIBLES ACTUALES Y MÁXIMOS ACEPTABLES: (RELACIONAR LOS DEDUCIBLES ACTUALES DE LA ENTIDAD)
B15: Actualmente DEPARTAMENTO ADMINISTRATIVO PARA LA PROSPERIDAD SOCIAL - PROSPERIDAD SOCIAL, tiene únicamente los siguientes deducibles aplicables:
B16: TODA Y CADA PÉRDIDA | E16: $10,000,000 de toda y cada pérdida
B17: Para calificación del deducible se realizará aplicando los criterios aquí indicados y los puntajes señalados en las tablas de rangos relacionadas en estas.
B18: TABLA DE CALIFICACIÓN
B20: Para efectos de la evaluación, se tendrán los siguientes ítems y puntajes: | E20: PUNTOS
B21: 1- TODA Y CADA PÉRDIDA | E21: 10
B22: TOTAL PUNTOS | E22: =SUM(E21:H21) -> 10
B23: NOTA: Para efectos de la evaluación y en aquellas tablas en los cuales se tengan rangos, en caso que el oferente indique "SE OTORGA" ó "SI" u otra expresión que implica que si esta otorgando el deducible, la Entidad entenderá que estos deducibles fueron ofrecidos con el valor del MÍNIMO RANGO y por lo tanto se asignará el puntaje respectivo de este rango y la aseguradora en caso de ser adjudicada su propuesta, expedirá la póliza con las condiciones mínimas de ese criterio en particular.
B24: Se aclara que en caso de siniestro por pérdida o daño, que afecte solo algunos de los items antes citados, el valor asegurado o valor asegurable considerado para la aplicación del deducible corresponderá solamente al item o ítems correspondientes a los bienes afectados.
B25: 1- TODA Y CADA PÉRDIDA: Diez (10) puntos
B26: RANGO DE DEDUCIBLES EN COL$ | E26: PUNTAJE SOBRE EL VALOR DE LA PERDIDA | I26: DEDUCIBLE OFERTADO | J26: PUNTOS OBTENIDOS
B27: Sin deducible | E27: 10,00 Puntos | I27: (INDICAR EL DEDUCIBLE OFERTADO)
B28: Superior a $00 y hasta $2.000.000 | E28: 8,00 Puntos
B29: Superior a $2.000.000 y hasta $4.000.000 | E29: 5,00 Puntos
B30: Superior a $4.000.000 y hasta $8.000.000 | E30: 3,00 Puntos
B31: Superior a $8.000.000 y hasta $10.000.000 | E31: 1,00 Puntos
B32: Superior a $10.000.000 | E32: SE RECHAZA LA OFERTA
B33: By: Tiger | J33: =+'G1. CALIF. DEDUCIBLES TRDM'!J78 -> VERSIÓN: JUNIO 2026
