Workbook

Sheet 1. ESTUDIO DE MERCADO
B2: DEPARTAMENTO ADMINISTRATIVO PARA LA PROSPERIDAD SOCIAL - PROSPERIDAD SOCIAL
B3: ESTUDIO DE MERCADO 2026
B4: CALCULO VALORES APROXIMADOS DE PRIMA
B6: GRUPO I. PROGRAMA DE SEGUROS GENERALES | E6: GRUPO I. PROGRAMA DE SEGUROS GENERALES AUTOMÓVILES | J6: GRUPO II. R.C RIESGO CIBERNETICO CYBER
B7: VIGENCIA DESDE 23:59 HORAS | C7: 46345 | E7: VIGENCIA DESDE 23:59 HORAS | H7: 46358 | J7: VIGENCIA DESDE 00:00 HORAS | M7: 46387
B8: VIGENCIA HASTA 23:59 HORAS | C8: =+C7+C9 -> 46724 | E8: VIGENCIA HASTA 23:59 HORAS | H8: =+H7+H9 -> 46737 | J8: VIGENCIA HASTA 00:00 HORAS | M8: =+M7+M9 -> 46766
B9: DIAS DE COBERTURA | C9: 379 | E9: DIAS DE COBERTURA | H9: 379 | J9: DIAS DE COBERTURA | M9: 379
B10: PRESUPUESTO | C10: 879000000
B11: DIFERENCIA | C11: =+C10-N32 -> 0.0099999905
B12: GRUPO 1
B13: ESTUDIO DE MERCADO
B14: RAMO | C14: VALOR ASEGURADO | D14: VALOR ASEGURADO INDICE VARIABLE PERIODO | E14: TIPO TASA | F14: TASA ANUAL | G14: TASA IND. VAR. | H14: PRIMA ANUAL | I14: PRIMA IND. VAR. PERIODO | J14: PRIMA PERIODO | K14: PRIMA IND. VAR. PERIODO | L14: SUBTOTAL | M14: IVA | N14: TOTAL
B15: TODO RIESGO DAÑOS MATERIALES | C15: =+'3. ANEXO TRDM-2026'!C26 -> 7.6625845e+10 | D15: =+'3. ANEXO TRDM-2026'!E26 -> 2.4405023e+09 | E15: %o | F15: =+'2. TASAS PROMEDIO'!F10 -> 2.292 | G15: =+F15/2 -> 1.146 | H15: =ROUND(C15*F15/1000,2) -> 1.7562644e+08 | I15: =ROUND(+D15*G15/1000,2) -> 2796815.6 | J15: =ROUND((+(H15/365)*$C$9),0) -> 182362793 | K15: =ROUND((I15),0) -> 2796816 | L15: =ROUND(+J15+K15,2) -> 185159609 | M15: =ROUND((+L15*0.19),0) -> 35180326 | N15: =ROUND(+L15+M15,2) -> 220339935
B16: AUTOMOVILES | C16: =+'4. AUTOS'!L21 -> 1015955540 | D16: 0 | E16: % | F16: =+'2. TASAS PROMEDIO'!F17 -> 4.4505 | G16: 0 | H16: =ROUND(+C16*F16/100,2) -> 45215101 | I16: =+D16*G16/1000 -> 0 | J16: =ROUND((+(H16/365)*$H$9),0) -> 46949379 | K16: =+I16/365*$C$9 -> 0 | L16: =ROUND(+J16+K16,2) -> 46949379 | M16: =ROUND((+L16*0.19),0) -> 8920382 | N16: =ROUND(+L16+M16,2) -> 55869761
B17: SOAT | C17: SEGÚN LEY | D17: 0 | E17: N/A | F17: N/A | G17: 0 | H17: =ROUND(+'5. SOAT'!O8,2) -> 1174030 | I17: =+D17*G17/1000 -> 0 | J17: =ROUND((+(H17/365)*$C$9),0) -> 1219061 | K17: 0 | L17: =ROUND(+J17+K17,2) -> 1219061 | M17: =ROUND((+L17*0.19),0) -> 231622 | N17: =ROUND(+L17+M17,2) -> 1450683
B18: TRANSPORTE DE VALORES | C18: 150000000 | D18: 0 | E18: % | F18: =+'2. TASAS PROMEDIO'!F23 -> 0.11 | G18: 0 | H18: =ROUND(+C18*F18/100,2) -> 165000 | I18: =+D18*G18/1000 -> 0 | J18: =ROUND((+(H18/365)*$C$9),0) -> 171329 | K18: =+I18/365*$C$9 -> 0 | L18: =ROUND(+J18+K18,2) -> 171329 | M18: =ROUND((+L18*0.19),0) -> 32553 | N18: =ROUND(+L18+M18,2) -> 203882
B19: TRANSPORTE DE MERCANCÍAS | C19: 500000000 | D19: 0 | E19: % | F19: =+'2. TASAS PROMEDIO'!F29 -> 0.11 | G19: 0 | H19: =ROUND(+C19*F19/100,2) -> 550000 | I19: =+D19*G19/1000 -> 0 | J19: =ROUND((+(H19/365)*$C$9),0) -> 571096 | K19: =+I19/365*$C$9 -> 0 | L19: =ROUND(+J19+K19,2) -> 571096 | M19: =ROUND((+L19*0.19),0) -> 108508 | N19: =ROUND(+L19+M19,2) -> 679604
B20: MANEJO GLOBAL ENTIDADES ESTATALES | C20: 680000001 | D20: 0 | E20: % | F20: =+'2. TASAS PROMEDIO'!F35 -> 3.4 | G20: 0 | H20: =ROUND(+C20*F20/100,2) -> 23120000 | I20: =+D20*G20/1000 -> 0 | J20: =ROUND((+(H20/365)*$C$9),0) -> 24006795 | K20: =+I20/365*$C$9 -> 0 | L20: =ROUND(+J20+K20,2) -> 24006795 | M20: =ROUND((+L20*0.19),0) -> 4561291 | N20: =ROUND(+L20+M20,2) -> 28568086
B21: INFIDELIDAD Y RIESGOS FINANCIEROS | C21: 4000000000 | D21: 0 | E21: % | F21: =+'2. TASAS PROMEDIO'!F51 -> 2.464 | G21: 0 | H21: =ROUND(+C21*F21/100,2) -> 98560000 | I21: =+D21*G21/1000 -> 0 | J21: =ROUND((+(H21/365)*$C$9),0) -> 102340384 | K21: 0 | L21: =ROUND(+J21+K21,2) -> 102340384 | M21: =ROUND((+L21*0.19),0) -> 19444673 | N21: =ROUND(+L21+M21,2) -> 121785057
B22: RESPONSABILIDAD CIVIL EXTRACONTRACTUAL | C22: 6000000001 | D22: 0 | E22: %o | F22: =+'2. TASAS PROMEDIO'!F41 -> 0.18 | G22: 0 | H22: =ROUND(+C22*F22/1000,2) -> 1080000 | I22: =+D22*G22/1000 -> 0 | J22: =ROUND((+(H22/365)*$C$9),0) -> 1121425 | K22: =+I22/365*$C$9 -> 0 | L22: =ROUND(+J22+K22,2) -> 1121425 | M22: =ROUND((+L22*0.19),0) -> 213071 | N22: =ROUND(+L22+M22,2) -> 1334496
B23: RESPONSABILIDAD CIVIL SERVIDORES PUBLICOS | C23: 3400000001 | D23: 0 | E23: % | F23: =+'2. TASAS PROMEDIO'!F46 -> 7.2 | G23: 0 | H23: =ROUND(+C23*F23/100,2) -> 2.448e+08 | I23: =+D23*G23/1000 -> 0 | J23: =ROUND((+(H23/365)*$C$9),0) -> 254189589 | K23: =+I23/365*$C$9 -> 0 | L23: =ROUND(+J23+K23,2) -> 254189589 | M23: =ROUND((+L23*0.19),0) -> 48296022 | N23: =ROUND(+L23+M23,2) -> 302485611
B24: VALOR FIJO INCLUSIONES | L24: 22083305 | M24: =+L24*19% -> 4195828 | N24: =ROUND(+L24+M24,2) -> 26279133
B25: TOTAL GRUPO 1 | C25: =SUM(C15:C24) -> 9.23718e+10 | D25: =SUM(D15:D24) -> 2.4405023e+09 | H25: =SUM(H15:H24) -> 5.9029057e+08 | I25: =SUM(I15:I24) -> 2796815.6 | J25: =SUM(J15:J24) -> 612931851 | K25: =SUM(K15:K24) -> 2796816 | L25: =SUM(L15:L24) -> 6.3781197e+08 | M25: =SUM(M15:M24) -> 1.2118428e+08 | N25: =SUM(N15:N24) -> 7.5899625e+08
B27: GRUPO 2
B28: RAMO | C28: VALOR ASEGURADO | D28: VALOR ASEGURADO INDICE VARIABLE PERIODO | E28: TIPO TASA | F28: TASA ANUAL | G28: TASA IND. VAR. | H28: PRIMA ANUAL | I28: PRIMA IND. VAR. PERIODO | J28: PRIMA PERIODO | K28: PRIMA IND. VAR. PERIODO | L28: SUBTOTAL | M28: IVA | N28: TOTAL
B29: R.C. RIESGO CIBERNÉTICO CYBER | C29: 1000000000 | D29: 0 | E29: % | F29: =+'2. TASAS PROMEDIO'!F56 -> 9.71184 | G29: 0 | H29: =ROUND(+C29*F29/100,2) -> 97118400 | I29: =+D29*G29/1000 -> 0 | J29: =ROUND((+(H29/365)*$M$9),0) -> 100843489 | K29: =+I29/365*$C$9 -> 0 | L29: =+J29+K29 -> 100843489 | M29: =ROUND((+L29*0.19),0) -> 19160263 | N29: =ROUND(+L29+M29,2) -> 120003752
B30: TOTAL GRUPO 2 | C30: =+C25+C29 -> 9.33718e+10 | D30: 0 | H30: =+H29 -> 97118400 | I30: 0 | J30: =+J29 -> 100843489 | K30: 0 | L30: =+L29 -> 100843489 | M30: =+M29 -> 19160263 | N30: =+N29 -> 120003752
B32: TOTAL ESTUDIO | N32: =+N30+N25 -> 8.79e+08

Sheet 2. TASAS PROMEDIO
A2: DEPARTAMENTO ADMINISTRATIVO PARA LA PROSPERIDAD SOCIAL - PROSPERIDAD SOCIAL
A3: ESTUDIO DE MERCADO
A4: TASAS PROMEDIO 2026
A8: ENTIDAD | B8: PROCESO | C8: RAMO | D8: TASAS | E8: PROMEDIO TASAS
E9: AJUSTE POR SINIESTRALIDAD | F9: PROMERIO TASA MERCADO (A) | G9: TIPO DE TASA % - %o
A10: DEPARTAMENTO ADMINISTRATIVO PARA LA PROSPERIDAD SOCIAL - PROSPERIDAD SOCIAL | B10: SAMC No. 10 DE 2023 | C10: Todo Riesgo Daños Materiales | D10: 1.91 | E10: 0.2 | F10: =+D10+E12 -> 2.292 | G10: %o | I10: =+F10-D10 -> 0.382
A11: DIRECCION NACIONAL DE INTELIGENCIA - DNI | B11: CONTRATACION DIRECTA 2-2025-2336 | D11: 1.8
A12: PERSONERIA MUNICIPAL DE SOACHA | B12: MC-008-2025 | D12: 2 | E12: =+D10*E10 -> 0.382
A13: SECRETARIA DISTRITAL DE HACIENDA | B13: LICITACIÓN PÚBLICA No. SDH-LP-0001-2025 | D13: 2.04
A14: UNIDAD DE PLANEACIÓN DE INFRAESTRUCTURA DE TRANSPORTE | B14: UPIT-CA-002-2026 | D14: 2.1
A15: MUNICIPIO DE QUEBRADANEGRA | B15: SAMC-014-2025 | D15: 1.75
A16: INSTITUTO DE VIVIENDA DE INTERES SOCIAL Y REFORMA URBANA BUCARAMANGA | B16: SA-001-2026 | D16: 2.06
A17: DEPARTAMENTO ADMINISTRATIVO PARA LA PROSPERIDAD SOCIAL - PROSPERIDAD SOCIAL | B17: SAMC No. 10 DE 2023 | C17: Automóviles | D17: 3.87 | E17: 0.15 | F17: =+D17+E19 -> 4.4505 | G17: % | I17: =+F17-D17 -> 0.5805
A18: AGENCIA NACIONAL DEL ESPECTRO - ANE | B18: LICITACIÓN PÚBLICA No. 89 DE 2025 | D18: 4
A19: DEPARTAMENTO ADMINISTRATIVO DEL SERVICIO CIVIL – DASC. | B19: DASCD-LP-002-2025 | D19: 3.87 | E19: =+D17*E17 -> 0.5805
A20: PERSONERIA MUNICIPAL DE SOACHA | B20: MC-008-2025 | D20: 3.9
A21: AGENCIA DE DESARROLLO RURAL | B21: SELECCION ABREVIADA DE MENOR CUANTIA SAMC-03-2026 | D21: 3.65
A22: AGENCIA NACIONAL DEL ESPECTRO - ANE | B22: LICITACIÓN PÚBLICA No. 89 DE 2025 | D22: 4.2
A23: DEPARTAMENTO ADMINISTRATIVO PARA LA PROSPERIDAD SOCIAL - PROSPERIDAD SOCIAL | B23: SAMC No. 10 DE 2023 | C23: Transporte de Valores | D23: 0.11 | E23: 0 | F23: =+D23+E25 -> 0.11 | G23: % | I23: =+F23-D23 -> 0
A24: DEPARTAMENTO DE CUNDINAMARCA | B24: LICITACIÓN PÚBLICA SG-LP-001-2025 | D24: 0.1
A25: BENEFICENCIA DE CUNDINAMARCA | B25: LICITACION PUBLICA 001 DE 2025 | D25: 0.1 | E25: 0
A26: ARTESANIAS DE COLOMBIA | B26: INVITACIÓN ABIERTA ADC-004-2026 | D26: 0.12
A27: AGENCIA LOGISTICA DE LAS FUERZA MILITARES | B27: LICITACIÓN PÚBLICA No. 002-046-2026 | D27: 0.11
A28: DEPARTAMENTO ADMINISTRATIVO DEL SERVICIO CIVIL – DASC. | B28: DASCD-LP-002-2025 | D28: 0.2
A29: DEPARTAMENTO ADMINISTRATIVO PARA LA PROSPERIDAD SOCIAL - PROSPERIDAD SOCIAL | B29: SAMC No. 10 DE 2023 | C29: Transporte de Mercancías | D29: 0.11 | E29: 0 | F29: =+D29+E31 -> 0.11 | G29: % | I29: =+F29-D29 -> 0
A30: DEPARTAMENTO DE CUNDINAMARCA | B30: LICITACIÓN PÚBLICA SG-LP-001-2025 | D30: 0.1
A31: BENEFICENCIA DE CUNDINAMARCA | B31: LICITACION PUBLICA 001 DE 2025 | D31: 0.1 | E31: 0
A32: ARTESANIAS DE COLOMBIA | B32: INVITACIÓN ABIERTA ADC-004-2026 | D32: 0.12
A33: AGENCIA LOGISTICA DE LAS FUERZA MILITARES | B33: LICITACIÓN PÚBLICA No. 002-046-2026 | D33: 0.11
A34: DEPARTAMENTO ADMINISTRATIVO DEL SERVICIO CIVIL – DASC. | B34: DASCD-LP-002-2025 | D34: 0.2
A35: DEPARTAMENTO ADMINISTRATIVO PARA LA PROSPERIDAD SOCIAL - PROSPERIDAD SOCIAL | B35: SAMC No. 10 DE 2023 | C35: Manejo Global Entidades Estatales | D35: 3.4 | E35: 0 | F35: =+D35+E37 -> 3.4 | G35: % | I35: =+F35-D35 -> 0
A36: COMPUTADORES PARA EDUCAR | B36: LICITACIÓN PÚBLICA No. 01 DE 2025 | D36: 3.2
A37: BENEFICENCIA DE CUNDINAMARCA | B37: LICITACION PUBLICA 001 DE 2025 | D37: 3.65 | E37: 0
A38: AGENCIA NACIONAL DEL ESPECTRO - ANE | B38: LICITACIÓN PÚBLICA No. 89 DE 2025 | D38: 3.21
A39: AGENCIA DE DESARROLLO RURAL | B39: SELECCION ABREVIADA DE MENOR CUANTIA SAMC-03-2026 | D39: 4
A40: ARTESANIAS DE COLOMBIA | B40: INVITACIÓN ABIERTA ADC-004-2026 | D40: 4.37
A41: DEPARTAMENTO ADMINISTRATIVO PARA LA PROSPERIDAD SOCIAL - PROSPERIDAD SOCIAL | B41: SAMC No. 10 DE 2023 | C41: Responsabilidad Civil Extracontractual | D41: 0.18 | E41: 0 | F41: =+D41+E43 -> 0.18 | G41: %o | I41: =+F41-D41 -> 0
A42: AGENCIA DE DESARROLLO RURAL | B42: SELECCION ABREVIADA DE MENOR CUANTIA SAMC-03-2026 | D42: 0.2
A43: BENEFICENCIA DE CUNDINAMARCA | B43: LICITACION PUBLICA 001 DE 2025 | D43: 0.21 | E43: 0
A44: AGENCIA NACIONAL DEL ESPECTRO - ANE | B44: LICITACIÓN PÚBLICA No. 89 DE 2025 | D44: 0.16
A45: CONTRALORIA DE BOGOTA | B45: LICITACIÓN PÚBLICA No. CB-LP-001-2026 | D45: 0.22
A46: DEPARTAMENTO ADMINISTRATIVO PARA LA PROSPERIDAD SOCIAL - PROSPERIDAD SOCIAL | B46: SAMC No. 10 DE 2023 | C46: Responsabilidad Civil Servidores Públicos | D46: 4.5 | E46: 0.6 | F46: =+D46+E48 -> 7.2 | G46: % | I46: =+F46-D46 -> 2.7
A47: DIRECCION NACIONAL DE DERECHO DE AUTOR | B47: MC DNDA-028-2026 | D47: 4.45
A48: DIRECCION NACIONAL DE INTELIGENCIA - DNI | B48: CONTRATACION DIRECTA 2-2025-2336 | D48: 4.9 | E48: =+D46*E46 -> 2.7
A49: CONTRALORIA GENERAL DE CALDAS -CGC | B49: SELECCIÓN ABREVIADA DE MENOR CUANTÍA No. SAMC-CGC-02-2025 | D49: 5.2
A50: SUPERINTENDENCIA DE INDUSTRIA Y COMERCIO - SIC | B50: LICITACIÓN PÚBLICA SIC 8 DE 2026 | D50: 5.26
A51: DEPARTAMENTO ADMINISTRATIVO PARA LA PROSPERIDAD SOCIAL - PROSPERIDAD SOCIAL | B51: SAMC No. 10 DE 2023 | C51: Infidelidad y Riesgos Financieros | D51: 2.24 | E51: 0.1 | F51: =+D51+E53 -> 2.464 | G51: % | I51: =+F51-D51 -> 0.224
A52: AGENCIA NACIONAL DEL ESPECTRO - ANE | B52: LICITACIÓN PÚBLICA No. 89 DE 2025 | D52: 2.91
A53: DEPARTAMENTO DE CUNDINAMARCA | B53: LICITACIÓN PÚBLICA SG-LP-001-2025 | D53: 2.42 | E53: =+D51*E51 -> 0.224
A54: DIRECCION NACIONAL DE DERECHO DE AUTOR | B54: MC DNDA-028-2026 | D54: 2.95
A55: UNIDAD DE INFORMACIÓN Y ANÁLISIS FINANCIERO - UIAF | B55: CONTRATACIÓN DIRECTA DE BIENES Y SERVICIOS QUE REQUIEREN DE RESERVA | D55: 2.77
A56: DEPARTAMENTO ADMINISTRATIVO PARA LA PROSPERIDAD SOCIAL - PROSPERIDAD SOCIAL | B56: IMC-26-2025 | C56: Responsabilidad Civil Riesgo Cibernetico Cyber | D56: 11.7492 | E56: 0 | F56: =+AVERAGE(D56:D60) -> 9.71184 | G56: % | I56: =+F56-D56 -> -2.03736
A57: INSTITUTO NACIONAL DE VIGILANGIA DE MEDICAMENTOS Y ALIMENTOS - INVIMA | B57: LICITACIÓN PÚBLICA No. LP-003-2025 | D57: 9.57
A58: CONTRALORIA DE BOGOTA | B58: LICITACIÓN PÚBLICA No. CB-LP-001-2026 | D58: 9.22 | E58: 0
A59: SECRETARIA DISTRITAL DE HACIENDA | B59: LICITACIÓN PÚBLICA No. SDH-LP-0001-2025 | D59: 9.02
A60: CONCEJO DE BOGOTA | B60: SELECCIÓN ABREVIADA DE MENOR CUANTIA No. SDH-SAMC-0001-2026 | D60: 9

Sheet 3. ANEXO TRDM-2026
B2: DEPARTAMENTO ADMINISTRATIVO PARA LA PROSPERIDAD SOCIAL - PROSPERIDAD SOCIAL
B3: RELACION DE BIENES 2026
B6: EDIFICACIONES
B7: DEPENDENCIA | C7: DIRECCION | D7: DESCRIPCION | E7: VALOR ASEGURADO
B8: SEDE FONTIBÓN (Almacén General - Bodega No. 6 y 8) | C8: Carrera 98 Nº 25g-10 | D8: USO PROPIO | E8: 4442262000
B9: SEDE DIRECCIÓN REGIONAL CHOCÓ | C9: Carrera 2 Nº 24A-82 | D9: USO PROPIO | E9: 249400000
B10: INMUEBLE COMODATO PEREIRA | C10: Calle 25 Carrera 7 y 8 | D10: COMODATO | E10: 380000000
B11: INDICE VARIABLE | E11: =(+E8+E9+E10)*0.05 -> 253583100
B12: TOTAL | E12: =+E8+E9+E10+E11 -> 5325245100
B14: DETALLE | C14: VALOR ASEGURADO | D14: VALOR INDICE VARIABLE (5%) | E14: VALOR INDICE PERIODO | F14: VALOR TOTAL
B15: EDIFICACIONES | C15: =+E12 -> 5325245100 | D15: =+D16 -> 0.05 | E15: =+C15*0.05 -> 266262255 | F15: =+C15+E15 -> 5591507355
B16: MUEBLES Y ENSERES | C16: 2.1386294e+09 | D16: 0.05 | E16: =+C16*5% -> 1.0693147e+08 | F16: =+C16+E16 -> 2.2455608e+09
B17: EQUIPO Y MAQUINARIA | C17: 838921061 | D17: 0.05 | E17: =+C17*5% -> 41946053 | F17: =+C17+E17 -> 8.8086711e+08
B18: EQUIPO ELÉCTRICOS, ELECTRÓNICOS Y DE COMUNICACIÓN (INCLUIDOS EQUIPOS MÓVILES Y PORTÁTILES, SOFTWARE Y LICENCIAS) | C18: 3.6641074e+10 | D18: 0.05 | E18: =+C18*5% -> 1.8320537e+09 | F18: =+C18+E18 -> 3.8473128e+10
B19: BIENES DEVOLUTIVOS | C19: 2.6474551e+09 | D19: 0.05 | E19: =+C19*5% -> 1.3237275e+08 | F19: =+C19+E19 -> 2.7798278e+09
B20: EQUIPO DE TRANSPORTE TRACCION Y ELEVACION | C20: 1.218721e+09 | D20: 0.05 | E20: =+C20*5% -> 60936049 | F20: =+C20+E20 -> 1.279657e+09
B21: DINERO Y TITULOS VALORES | C21: 2000000 | D21: 0 | E21: 0 | F21: =+C21+E21 -> 2000000
B22: DONACIONES | C22: 2.5619873e+10 | D22: 0 | E22: 0 | F22: =+C22+E22 -> 2.5619873e+10
B23: PAPELERIA Y CONSUMIBLES | C23: 1.1288771e+09 | D23: 0 | E23: 0 | F23: =+C23+E23 -> 1.1288771e+09
B24: ADECUACIÓN DE CONSTRUCCIONES A LAS NORMAS DE SISMORESISTENCIA | C24: =+C15*0.1 -> 532524510 | D24: 0 | E24: =C24*D24 -> 0 | F24: =+C24+E24 -> 532524510
B25: ADECUACIÓN DE TERRENOS | C25: =+C15*0.1 -> 532524510 | D25: 0 | E25: =C25*D25 -> 0 | F25: =+C25+E25 -> 532524510
B26: TOTAL | C26: =SUM(C15:C25) -> 7.6625845e+10 | E26: =SUM(E15:E25) -> 2.4405023e+09 | F26: =SUM(F15:F25) -> 7.9066347e+10

Sheet 4. AUTOS
A2: DEPARTAMENTO ADMINISTRATIVO PARA LA PROSPERIDAD SOCIAL - PROSPERIDAD SOCIAL
A3: RELACION DE VEHICULOS AUTOMÓVILES
A5: No | B5: PLACA | C5: MARCA | D5: CLASE | E5: TIPO | F5: MODELO | G5: CC | H5: PASAJ / TON | I5: MOTOR | J5: CHASIS | K5: CODIGO FASECOLDA | L5: VALOR ASEGURADO GUIA FASEOLDA
A6: 1 | B6: OCK081 | C6: HONGOI | D6: BESTU RN B70 | E6: AUTOMOVIL | F6: 2012 | G6: 2261 | H6: 5 | I6: L380004578 | J6: LFPH5ACC5B1E16786 | K6: 09701663 | L6: 53995060
A7: 2 | B7: OCK079 | C7: HONGOI | D7: BESTU RN B70 | E7: AUTOMOVIL | F7: 2012 | G7: 2261 | H7: 5 | I7: L380004594 | J7: LFPH5ACC3B1E16835 | K7: 09701663 | L7: 53995060
A8: 3 | B8: OCK085 | C8: HONGOI | D8: BESTU RN B70 | E8: AUTOMOVIL | F8: 2012 | G8: 2261 | H8: 5 | I8: L380004585 | J8: LFPH5ACC3B1E16995 | K8: 09701663 | L8: 53995060
A9: 4 | B9: OCK087 | C9: HONGOI | D9: BESTU RN B70 | E9: AUTOMOVIL | F9: 2012 | G9: 2261 | H9: 5 | I9: L380004611 | J9: LFPH5ACC3B1E17024 | K9: 09701663 | L9: 53995060
A10: 5 | B10: OCK086 | C10: HONGOI | D10: BESTU RN B70 | E10: AUTOMOVIL | F10: 2012 | G10: 2261 | H10: 5 | I10: L380004587 | J10: LFPH5ACC3B1E16944 | K10: 09701663 | L10: 53995060
A11: 6 | B11: OCK078 | C11: HONGOI | D11: BESTU RN B70 | E11: AUTOMOVIL | F11: 2012 | G11: 2261 | H11: 5 | I11: L380004579 | J11: LFPH5ACC3B1E16818 | K11: 09701663 | L11: 53995060
A12: 7 | B12: OCK080 | C12: HONGOI | D12: BESTU RN B70 | E12: AUTOMOVIL | F12: 2012 | G12: 2261 | H12: 5 | I12: L380004557 | J12: LFPH5ACC3B1E16780 | K12: 09701663 | L12: 53995060
A13: 8 | B13: OCK111 | C13: HYUNDAI | D13: TUCSON IX 35 | E13: CAMIONETA | F13: 2013 | G13: 1998 | H13: 5 | I13: G4KDCU662704 | J13: KMHJT81BADU460947 | K13: 03206065 | L13: 51500000
A14: 9 | B14: OBE866 | C14: CHEVROLET | D14: LUV STD (TFS) | E14: CAMIONETA PICK UP SEN | F14: 2001 | G14: 2300 | H14: 2 | I14: C22NE25029914 | J14: FR30F1B358021 | K14: 01620041 | L14: 24500000
A15: 10 | B15: OBF528 | C15: CHEVROLET | D15: LUV GLS (TFS) | E15: CAMIONETA PICK UP DOBE CA | F15: 2004 | G15: 2800 | H15: 5 | I15: 990256 | J15: 8GGTFSF374A132882 | K15: 01621024 | L15: 51300000
A16: 11 | B16: OBF588 | C16: CHEVROLET | D16: LUV GLS (TFS) | E16: CAMIONETA PICK UP DOBE CA | F16: 2004 | G16: 2800 | H16: 5 | I16: 989088 | J16: 8GGTFSF384A132745 | K16: 01621024 | L16: 51300000
A17: 12 | B17: IZW555 | C17: TOYOTA | D17: PRADO (LC 150) TX-L | E17: CAMPERO | F17: 2017 | G17: 3956 | H17: 7 | I17: 1GRB373701 | J17: JTEBU3FJ5HK115171 | K17: 09008188 | L17: 205100000
A18: 13 | B18: IZM928 | C18: TOYOTA | D18: 4RUNNER (5) SR5 FL | E18: CAMPERO | F18: 2016 | G18: 3956 | H18: 7 | I18: 1GRB296110 | J18: JTEBU4JR1G5318364 | K18: 09008205 | L18: 146300000
A19: 14 | B19: OBI294 | C19: FAW H7 | D19: R7 CA7167R MT | E19: CAMIONETA | F19: 2013 | G19: 3000 | H19: 5 | I19: CA6GV1000068 | J19: LFBH6BCN5C1L00232 | K19: 25706004 | L19: 53995060
A20: 15 | B20: OCK407 | C20: FAW H7 | D20: R7 CA7167R MT | E20: CAMIONETA | F20: 2013 | G20: 3000 | H20: 5 | I20: CA6GV1000067 | J20: LFBH6BCN5C1L00237 | K20: 25706004 | L20: 53995060
A21: TOTAL | L21: =SUM(L6:L20) -> 1015955540
A22: NOTA: LOS VALORES ASEGURADOS CORRESPONDEN A LA GUIA DE VALORES COMERCIALES DE FASECOLDA DEL 15 DE JUNIO DE 2026.

Sheet 5. SOAT
A2: DEPARTAMENTO ADMINISTRATIVO PARA LA PROSPERIDAD SOCIAL - PROSPERIDAD SOCIAL
A3: ANEXO - RELACION DE VEHICULOS SOAT
A5: SOAT
A6: No | B6: PLACA | C6: MARCA | D6: CLASE | E6: TIPO | F6: MODELO | G6: CC | H6: PASAJEROS | I6: TONELADAS | J6: MOTOR | K6: CHASIS | L6: CODIGO TARIFA | M6: FECHA DE VENCIMIENTO SOAT | N6: PRIMA 2026 | O6: PRIMA ESTIMADA 2027
A7: 1 | B7: IZW555 | C7: TOYOTA | D7: PRADO (LC 150) TX-L | E7: CAMPERO | F7: 2017 | G7: 3956 | H7: 7 | I7: N/A | J7: 1GRB373701 | K7: JTEBU3FJ5HK115171 | L7: 621 | M7: 46450 | N7: 1067300 | O7: =(+N7*10%)+N7 -> 1174030
A8: TOTAL | N8: =SUM(N7:N7) -> 1067300 | O8: =SUM(O7:O7) -> 1174030
A10: Nota: Tarifa de Soat 2026 incrementada al 2027 en el 10%.

Sheet TARIFA 2026
A1: ESTUDIO DE MERCADO
A3: INSTITUTO COLOMBIANO DE ANTROPOLOGÍA E HISTORIA ICANH
A4: DETERMINACION TASAS PROMEDIO

Sheet NOTAS SINIESTRALIDAD
B2: RESUMEN DE NOTAS ACLARATORIAS POR ASEGURADORA SOLIDARIA DE COLOMBIA EC PARA OTORGAR PRORROGA DEL PROGRAMA RESPECTO A LA SINIESTRALIDAD
