Workbook

Sheet PRESUPUESTO
B1: PRESUPUESTO PROYECTO Implementación de una estrategia orientada a garantizar el suministro sostenible del recurso hídrico mediante la gestión eficiente del agua y la conservación de fuentes hídricas resilientes al cambio climático del municipio de Sibaté, Cundinamarca
A3: Fecha de elaboración: 14 de julio de 2026
A4: ACTIVIDAD - ENTREGABLE | B4: UNIDAD DE MEDIDA | C4: CANTIDAD | D4: ITM | E4: NASAGRO | F4: PROMEDIO | G4: VALOR UNITARIO | H4: IVA % | I4: VALOR PRODUCTO | J4: VALOR IVA | K4: VALOR TOTAL
A5: Reservorio (tanques) 18.500 lts | B5: UNIDAD | C5: 59 | D5: 8716494.1 | E5: 9652780.1 | F5: =+AVERAGE(D5:E5) -> 9184637.1 | G5: =+F5 -> 9184637.1 | H5: 0.19 | I5: =C5*G5 -> 5.4189359e+08 | J5: =I5*H5 -> 1.0295978e+08 | K5: =I5+J5 -> 644853371
A6: Estación hidroclimatologica | B6: UNIDAD | C6: 1 | D6: 60800000 | E6: 70000000 | F6: =+AVERAGE(D6:E6) -> 65400000 | G6: =+F6 -> 65400000 | H6: 0.19 | I6: =C6*G6 -> 65400000 | J6: =I6*H6 -> 12426000 | K6: =I6+J6 -> 77826000
A7: Pluviometro y conexión | B7: UNIDAD | C7: 1 | D7: 4980000 | E7: 8000000 | F7: =+AVERAGE(D7:E7) -> 6490000 | G7: =+F7 -> 6490000 | H7: 0.19 | I7: =C7*G7 -> 6490000 | J7: =I7*H7 -> 1233100 | K7: =I7+J7 -> 7723100
A8: Profesional en educación ambiental | B8: UNIDAD | C8: 2 | D8: 4465000 | E8: 6485000 | F8: =+AVERAGE(D8:E8) -> 5475000 | G8: =+F8 -> 5475000 | I8: =C8*G8 -> 10950000 | J8: =I8*H8 -> 0 | K8: =I8+J8 -> 10950000
A9: Material Vegetal | B9: UNIDAD | C9: =20*59 -> 1180 | D9: 6100 | E9: 5800 | F9: =+AVERAGE(D9:E9) -> 5950 | G9: =+F9 -> 5950 | H9: 0.19 | I9: =C9*G9 -> 7021000 | J9: =I9*H9 -> 1333990 | K9: =I9+J9 -> 8354990
A10: Tutores | B10: UNIDAD | C10: =20*59 -> 1180 | D10: 500 | E10: 800 | F10: =+AVERAGE(D10:E10) -> 650 | G10: =+F10 -> 650 | H10: 0.19 | I10: =C10*G10 -> 767000 | J10: =I10*H10 -> 145730 | K10: =I10+J10 -> 912730
A11: Tanques y Canaletas | B11: UNIDAD | C11: 1 | D11: 750000 | E11: 810000 | F11: =+AVERAGE(D11:E11) -> 780000 | G11: =+F11 -> 780000 | H11: 0.19 | I11: =C11*G11 -> 780000 | J11: =I11*H11 -> 148200 | K11: =I11+J11 -> 928200
A12: VALOR TOTAL | K12: =+SUM(K5:K11) -> 751548391
A13: INFORMACION TOMADA DEL DOCUMENTO TECNICO DEL PROYECTO
A15: Aprobó:
A16: ANA MARIA ORTIZ GUERRA
A17: Secretaria de Agricultura, Desarrollo Económico y Ambiente

Sheet CRONOGRAMA
B1: CRONOGRAMA FISICO Y FINANCIERO DEL PROYECTO Implementación de una estrategia orientada a garantizar el suministro sostenible del recurso hídrico mediante la gestión eficiente del agua y la conservación de fuentes hídricas resilientes al cambio climático del municipio de Sibaté, Cundinamarca
A3: Fecha de elaboración: 14 de julio de 2026
A4: ACTIVIDAD - ENTREGABLE | B4: MES 1 | C4: MES 2 | D4: MES 3 | E4: MES 4 | F4: MES 5 | G4: MES 6 | H4: MES 7 | I4: MES 8 | J4: MES 9 | K4: MES 10
A5: Etapa precontractual
A6: Reservorio 18.500 lts | D6: =+PRESUPUESTO!K5/3 -> 2.1495112e+08 | E6: =+D6 -> 2.1495112e+08 | F6: =+E6 -> 2.1495112e+08
A7: Estación hidroclimatologica | F7: =+PRESUPUESTO!K6 -> 77826000
A8: Pluviometro y conexión | F8: =+PRESUPUESTO!K7 -> 7723100
A9: Profesional en educación ambiental | G9: =+PRESUPUESTO!K8/3 -> 3650000 | H9: =+G9 -> 3650000 | I9: =+H9 -> 3650000
A10: Material Vegetal | H10: =+PRESUPUESTO!K9 -> 8354990
A11: Tutores | H11: =+PRESUPUESTO!K10 -> 912730
A12: Tanques y Canaletas | H12: =+PRESUPUESTO!K11 -> 928200
A13: Liquidación
A14: Total | B14: - | C14: - | D14: =+SUM(D5:D13) -> 2.1495112e+08 | E14: =+SUM(E5:E13) -> 2.1495112e+08 | F14: =+SUM(F5:F13) -> 3.0050022e+08 | G14: =+SUM(G5:G13) -> 3650000 | H14: =+SUM(H5:H13) -> 13845920 | I14: =+SUM(I5:I13) -> 3650000 | J14: - | K14: -
A17: Aprobó:
A18: ANA MARIA ORTIZ GUERRA
A19: Secretaria de Agricultura, Desarrollo Económico y Ambiente
