Workbook

Sheet ANEXO 1 - COTIZACIONES
A1: ANEXO 1 - ANALISIS DE COTIZACIONES
C2: OBJETO: Prestar el servicio técnico especializado para el mantenimiento preventivo, predictivo y correctivo con suministro de insumos y bolsa de repuestos de los aires acondicionados VRF y equipos de ventilación, que se encuentran instalados en la sede principal de la Fiscalía General de la Nación en la ciudad de Cúcuta.
A4: NECESIDAD | J4: COTIZACION 1 AIRE CARIBE S.A 890.402.550-4 | L4: COTIZACION 2 FELIZ ARGEYDE ORTIZ GARZON 88.253.087-6 | N4: ANALISIS DE COTIZACIONES
A5: MANTENIMIENTOS | N5: VIGENCIA 2026 | S5: VIGENCIA 2027 | X5: VIGENCIA 2028 | AC5: TOTAL VIGENCIA 2026-2028
A6: ITEM | B6: DESCRIPCIÓN DEL SERVICIO | C6: FRECUENCIA DE RUTINAS | D6: NUMERO DE EQUIPOS | E6: MATENIMIENTOS 2026 | F6: MATENIMIENTOS 2027 | G6: MATENIMIENTOS 2028 | H6: TOTAL MANTENIMIENTOS 2026-2028 | J6: VALOR UNITARIO SIN IVA | L6: VALOR UNITARIO SIN IVA | N6: VALOR UNITARIO SIN IVA | O6: IVA UNITARIO | P6: VALOR UNITARIO INCLUIDO IVA | Q6: VALOR TOTAL INCLUIDO IVA | S6: VALOR UNITARIO SIN IVA | T6: IVA UNITARIO | U6: VALOR UNITARIO INCLUIDO IVA | V6: VALOR TOTAL INCLUIDO IVA | X6: VALOR UNITARIO SIN IVA | Y6: IVA UNITARIO | Z6: VALOR UNITARIO INCLUIDO IVA | AA6: VALOR TOTAL INCLUIDO IVA | AC6: VALOR TOTAL INCLUIDO IVA
A7: 1 | B7: SISTEMA VRF TOSHIBA | E7: RUTINAS | F7: RUTINAS | G7: RUTINAS
A8: 1.1 | B8: UNIDADES CONDENSADORAS
A9: 1.1.1 | B9: MMY-MAP0966HT6P-UL | C9: BIMENSUAL | D9: 5 | E9: 0 | F9: 4 | G9: =3+(5/5) -> 4 | H9: =E9+F9+G9 -> 8 | J9: 325000 | L9: 290000 | N9: =AVERAGE(J9,L9) -> 307500 | O9: =(N9*19%) -> 58425 | P9: =+O9+N9 -> 365925 | Q9: =+P9*E9*D9 -> 0 | S9: =N9+(N9*4.4%) -> 321030 | T9: =S9*19% -> 60995.7 | U9: =+T9+S9 -> 382025.7 | V9: =+U9*F9*D9 -> 7640514 | X9: =S9+(S9*3%) -> 330660.9 | Y9: =X9*19% -> 62825.571 | Z9: =+Y9+X9 -> 393486.47 | AA9: =+Z9*G9*D9 -> 7869729.4 | AC9: =+AA9+V9+Q9 -> 15510243
A10: 1.1.2 | B10: MMY-MAP1206HT6P-UL | C10: BIMENSUAL | D10: 10 | E10: =3/10 -> 0.3 | F10: 4 | G10: =3+(7/10) -> 3.7 | H10: =E10+F10+G10 -> 8 | J10: 325000 | L10: 290000 | N10: =AVERAGE(J10,L10) -> 307500 | O10: =(N10*19%) -> 58425 | P10: =+O10+N10 -> 365925 | Q10: =+P10*E10*D10 -> 1097775 | S10: =N10+(N10*4.4%) -> 321030 | T10: =S10*19% -> 60995.7 | U10: =+T10+S10 -> 382025.7 | V10: =+U10*F10*D10 -> 15281028 | X10: =S10+(S10*3%) -> 330660.9 | Y10: =X10*19% -> 62825.571 | Z10: =+Y10+X10 -> 393486.47 | AA10: =+Z10*G10*D10 -> 14558999 | AC10: =+AA10+V10+Q10 -> 30937802
A11: 1.1.3 | B11: MMY-MAP1446HT6P-UL | C11: BIMENSUAL | D11: 18 | E11: =7/18 -> 0.38888889 | F11: 4 | G11: =3+(11/18) -> 3.6111111 | H11: =E11+F11+G11 -> 8 | J11: 325000 | L11: 290000 | N11: =AVERAGE(J11,L11) -> 307500 | O11: =(N11*19%) -> 58425 | P11: =+O11+N11 -> 365925 | Q11: =+P11*E11*D11 -> 2561475 | S11: =N11+(N11*4.4%) -> 321030 | T11: =S11*19% -> 60995.7 | U11: =+T11+S11 -> 382025.7 | V11: =+U11*F11*D11 -> 27505850 | X11: =S11+(S11*3%) -> 330660.9 | Y11: =X11*19% -> 62825.571 | Z11: =+Y11+X11 -> 393486.47 | AA11: =+Z11*G11*D11 -> 25576621 | AC11: =+AA11+V11+Q11 -> 55643946
A12: 1.1.4 | B12: MMY-MAP1686HT6P-UL | C12: BIMENSUAL | D12: 5 | E12: =3/5 -> 0.6 | F12: 4 | G12: =3+(2/5) -> 3.4 | H12: =E12+F12+G12 -> 8 | J12: 325000 | L12: 290000 | N12: =AVERAGE(J12,L12) -> 307500 | O12: =(N12*19%) -> 58425 | P12: =+O12+N12 -> 365925 | Q12: =+P12*E12*D12 -> 1097775 | S12: =N12+(N12*4.4%) -> 321030 | T12: =S12*19% -> 60995.7 | U12: =+T12+S12 -> 382025.7 | V12: =+U12*F12*D12 -> 7640514 | X12: =S12+(S12*3%) -> 330660.9 | Y12: =X12*19% -> 62825.571 | Z12: =+Y12+X12 -> 393486.47 | AA12: =+Z12*G12*D12 -> 6689270 | AC12: =+AA12+V12+Q12 -> 15427559
A13: 1.2 | B13: UNIDAD DOAS
A14: 1.2.1 | B14: DOAS 1 | C14: BIMENSUAL | D14: 1 | E14: =1/1 -> 1 | F14: 4 | G14: 3 | H14: =E14+F14+G14 -> 8 | J14: 455000 | L14: 290000 | N14: =AVERAGE(J14,L14) -> 372500 | O14: =(N14*19%) -> 70775 | P14: =+O14+N14 -> 443275 | Q14: =+P14*E14*D14 -> 443275 | S14: =N14+(N14*4.4%) -> 388890 | T14: =S14*19% -> 73889.1 | U14: =+T14+S14 -> 462779.1 | V14: =+U14*F14*D14 -> 1851116.4 | X14: =S14+(S14*3%) -> 400556.7 | Y14: =X14*19% -> 76105.773 | Z14: =+Y14+X14 -> 476662.47 | AA14: =+Z14*G14*D14 -> 1429987.4 | AC14: =+AA14+V14+Q14 -> 3724378.8
A15: 1.2.2 | B15: DOAS 2 | C15: BIMENSUAL | D15: 1 | E15: =1/1 -> 1 | F15: 4 | G15: 3 | H15: =E15+F15+G15 -> 8 | J15: 455000 | L15: 290000 | N15: =AVERAGE(J15,L15) -> 372500 | O15: =(N15*19%) -> 70775 | P15: =+O15+N15 -> 443275 | Q15: =+P15*E15*D15 -> 443275 | S15: =N15+(N15*4.4%) -> 388890 | T15: =S15*19% -> 73889.1 | U15: =+T15+S15 -> 462779.1 | V15: =+U15*F15*D15 -> 1851116.4 | X15: =S15+(S15*3%) -> 400556.7 | Y15: =X15*19% -> 76105.773 | Z15: =+Y15+X15 -> 476662.47 | AA15: =+Z15*G15*D15 -> 1429987.4 | AC15: =+AA15+V15+Q15 -> 3724378.8
A16: 1.2.3 | B16: DOAS 3 | C16: BIMENSUAL | D16: 1 | E16: =1/1 -> 1 | F16: 4 | G16: 3 | H16: =E16+F16+G16 -> 8 | J16: 455000 | L16: 290000 | N16: =AVERAGE(J16,L16) -> 372500 | O16: =(N16*19%) -> 70775 | P16: =+O16+N16 -> 443275 | Q16: =+P16*E16*D16 -> 443275 | S16: =N16+(N16*4.4%) -> 388890 | T16: =S16*19% -> 73889.1 | U16: =+T16+S16 -> 462779.1 | V16: =+U16*F16*D16 -> 1851116.4 | X16: =S16+(S16*3%) -> 400556.7 | Y16: =X16*19% -> 76105.773 | Z16: =+Y16+X16 -> 476662.47 | AA16: =+Z16*G16*D16 -> 1429987.4 | AC16: =+AA16+V16+Q16 -> 3724378.8
A17: 1.3 | B17: UNIDAD CASSETTE
A18: 1.3.1 | B18: MMU-0094HP1-E | C18: BIMENSUAL | D18: 33 | E18: =13/33 -> 0.39393939 | F18: 4 | G18: =3+(20/33) -> 3.6060606 | H18: =E18+F18+G18 -> 8 | J18: 152812.72 | L18: 200000 | N18: =AVERAGE(J18,L18) -> 176406.36 | O18: =(N18*19%) -> 33517.208 | P18: =+O18+N18 -> 209923.57 | Q18: =+P18*E18*D18 -> 2729006.4 | S18: =N18+(N18*4.4%) -> 184168.24 | T18: =S18*19% -> 34991.965 | U18: =+T18+S18 -> 219160.2 | V18: =+U18*F18*D18 -> 28929147 | X18: =S18+(S18*3%) -> 189693.29 | Y18: =X18*19% -> 36041.724 | Z18: =+Y18+X18 -> 225735.01 | AA18: =+Z18*G18*D18 -> 26862466 | AC18: =+AA18+V18+Q18 -> 58520619
A19: 1.3.2 | B19: MMU-0124HP1-E | C19: BIMENSUAL | D19: 13 | E19: =4/13 -> 0.30769231 | F19: 4 | G19: =3+(9/13) -> 3.6923077 | H19: =E19+F19+G19 -> 8 | J19: 152812.72 | L19: 200000 | N19: =AVERAGE(J19,L19) -> 176406.36 | O19: =(N19*19%) -> 33517.208 | P19: =+O19+N19 -> 209923.57 | Q19: =+P19*E19*D19 -> 839694.27 | S19: =N19+(N19*4.4%) -> 184168.24 | T19: =S19*19% -> 34991.965 | U19: =+T19+S19 -> 219160.2 | V19: =+U19*F19*D19 -> 11396331 | X19: =S19+(S19*3%) -> 189693.29 | Y19: =X19*19% -> 36041.724 | Z19: =+Y19+X19 -> 225735.01 | AA19: =+Z19*G19*D19 -> 10835280 | AC19: =+AA19+V19+Q19 -> 23071305
A20: 1.3.3 | B20: MMU-0154HP1-E | C20: BIMENSUAL | D20: 25 | E20: =5/25 -> 0.2 | F20: 4 | G20: =3+(20/25) -> 3.8 | H20: =E20+F20+G20 -> 8 | J20: 152812.71 | L20: 200000 | N20: =AVERAGE(J20,L20) -> 176406.35 | O20: =(N20*19%) -> 33517.207 | P20: =+O20+N20 -> 209923.56 | Q20: =+P20*E20*D20 -> 1049617.8 | S20: =N20+(N20*4.4%) -> 184168.23 | T20: =S20*19% -> 34991.964 | U20: =+T20+S20 -> 219160.2 | V20: =+U20*F20*D20 -> 21916020 | X20: =S20+(S20*3%) -> 189693.28 | Y20: =X20*19% -> 36041.723 | Z20: =+Y20+X20 -> 225735 | AA20: =+Z20*G20*D20 -> 21444825 | AC20: =+AA20+V20+Q20 -> 44410463
A21: 1.3.4 | B21: MMU-0184HP1-E | C21: BIMENSUAL | D21: 37 | E21: =11/37 -> 0.2972973 | F21: 4 | G21: =3+(26/37) -> 3.7027027 | H21: =E21+F21+G21 -> 8 | J21: 156855.74 | L21: 200000 | N21: =AVERAGE(J21,L21) -> 178427.87 | O21: =(N21*19%) -> 33901.295 | P21: =+O21+N21 -> 212329.17 | Q21: =+P21*E21*D21 -> 2335620.8 | S21: =N21+(N21*4.4%) -> 186278.7 | T21: =S21*19% -> 35392.952 | U21: =+T21+S21 -> 221671.65 | V21: =+U21*F21*D21 -> 32807404 | X21: =S21+(S21*3%) -> 191867.06 | Y21: =X21*19% -> 36454.741 | Z21: =+Y21+X21 -> 228321.8 | AA21: =+Z21*G21*D21 -> 31280086 | AC21: =+AA21+V21+Q21 -> 66423111
A22: 1.3.5 | B22: MMU-0244HP1-E | C22: BIMENSUAL | D22: 18 | E22: =5/18 -> 0.27777778 | F22: 4 | G22: =3+(13/18) -> 3.7222222 | H22: =E22+F22+G22 -> 8 | J22: 156855.73 | L22: 200000 | N22: =AVERAGE(J22,L22) -> 178427.86 | O22: =(N22*19%) -> 33901.294 | P22: =+O22+N22 -> 212329.16 | Q22: =+P22*E22*D22 -> 1061645.8 | S22: =N22+(N22*4.4%) -> 186278.69 | T22: =S22*19% -> 35392.951 | U22: =+T22+S22 -> 221671.64 | V22: =+U22*F22*D22 -> 15960358 | X22: =S22+(S22*3%) -> 191867.05 | Y22: =X22*19% -> 36454.74 | Z22: =+Y22+X22 -> 228321.79 | AA22: =+Z22*G22*D22 -> 15297560 | AC22: =+AA22+V22+Q22 -> 32319564
A23: 1.3.6 | B23: MMU-0274HP1-E | C23: BIMENSUAL | D23: 48 | E23: =30/48 -> 0.625 | F23: 4 | G23: =3+(18/48) -> 3.375 | H23: =E23+F23+G23 -> 8 | J23: 156855.73 | L23: 200000 | N23: =AVERAGE(J23,L23) -> 178427.86 | O23: =(N23*19%) -> 33901.294 | P23: =+O23+N23 -> 212329.16 | Q23: =+P23*E23*D23 -> 6369874.8 | S23: =N23+(N23*4.4%) -> 186278.69 | T23: =S23*19% -> 35392.951 | U23: =+T23+S23 -> 221671.64 | V23: =+U23*F23*D23 -> 42560955 | X23: =S23+(S23*3%) -> 191867.05 | Y23: =X23*19% -> 36454.74 | Z23: =+Y23+X23 -> 228321.79 | AA23: =+Z23*G23*D23 -> 36988130 | AC23: =+AA23+V23+Q23 -> 85918960
A24: 1.3.7 | B24: MMU-0304HP1-E | C24: BIMENSUAL | D24: 14 | E24: 0 | F24: 4 | G24: =3+(14/14) -> 4 | H24: =E24+F24+G24 -> 8 | J24: 158758.78 | L24: 200000 | N24: =AVERAGE(J24,L24) -> 179379.39 | O24: =(N24*19%) -> 34082.084 | P24: =+O24+N24 -> 213461.47 | Q24: =+P24*E24*D24 -> 0 | S24: =N24+(N24*4.4%) -> 187272.08 | T24: =S24*19% -> 35581.696 | U24: =+T24+S24 -> 222853.78 | V24: =+U24*F24*D24 -> 12479812 | X24: =S24+(S24*3%) -> 192890.25 | Y24: =X24*19% -> 36649.147 | Z24: =+Y24+X24 -> 229539.39 | AA24: =+Z24*G24*D24 -> 12854206 | AC24: =+AA24+V24+Q24 -> 25334018
A25: 1.3.8 | B25: MMU-0366HP1-E | C25: BIMENSUAL | D25: 3 | E25: 0 | F25: 4 | G25: =3+(3/3) -> 4 | H25: =E25+F25+G25 -> 8 | J25: 158758.8 | L25: 200000 | N25: =AVERAGE(J25,L25) -> 179379.4 | O25: =(N25*19%) -> 34082.086 | P25: =+O25+N25 -> 213461.49 | Q25: =+P25*E25*D25 -> 0 | S25: =N25+(N25*4.4%) -> 187272.09 | T25: =S25*19% -> 35581.698 | U25: =+T25+S25 -> 222853.79 | V25: =+U25*F25*D25 -> 2674245.5 | X25: =S25+(S25*3%) -> 192890.26 | Y25: =X25*19% -> 36649.149 | Z25: =+Y25+X25 -> 229539.41 | AA25: =+Z25*G25*D25 -> 2754472.9 | AC25: =+AA25+V25+Q25 -> 5428718.4
A26: 1.4 | B26: UNIDAD FANCOIL
A27: 1.4.1 | B27: MMD-AP0156HP1-E | C27: BIMENSUAL | D27: 3 | E27: 0 | F27: 4 | G27: =3+(3/3) -> 4 | H27: =E27+F27+G27 -> 8 | J27: 234000 | L27: 200000 | N27: =AVERAGE(J27,L27) -> 217000 | O27: =(N27*19%) -> 41230 | P27: =+O27+N27 -> 258230 | Q27: =+P27*E27*D27 -> 0 | S27: =N27+(N27*4.4%) -> 226548 | T27: =S27*19% -> 43044.12 | U27: =+T27+S27 -> 269592.12 | V27: =+U27*F27*D27 -> 3235105.4 | X27: =S27+(S27*3%) -> 233344.44 | Y27: =X27*19% -> 44335.444 | Z27: =+Y27+X27 -> 277679.88 | AA27: =+Z27*G27*D27 -> 3332158.6 | AC27: =+AA27+V27+Q27 -> 6567264
A28: 1.4.2 | B28: MMD-AP0276HP1-E | C28: BIMENSUAL | D28: 14 | E28: =8/14 -> 0.57142857 | F28: 4 | G28: =3+(6/14) -> 3.4285714 | H28: =E28+F28+G28 -> 8 | J28: 234000 | L28: 200000 | N28: =AVERAGE(J28,L28) -> 217000 | O28: =(N28*19%) -> 41230 | P28: =+O28+N28 -> 258230 | Q28: =+P28*E28*D28 -> 2065840 | S28: =N28+(N28*4.4%) -> 226548 | T28: =S28*19% -> 43044.12 | U28: =+T28+S28 -> 269592.12 | V28: =+U28*F28*D28 -> 15097159 | X28: =S28+(S28*3%) -> 233344.44 | Y28: =X28*19% -> 44335.444 | Z28: =+Y28+X28 -> 277679.88 | AA28: =+Z28*G28*D28 -> 13328634 | AC28: =+AA28+V28+Q28 -> 30491633
A29: 1.4.3 | B29: MMD-AP0366HP1-E | C29: BIMENSUAL | D29: 8 | E29: =2/D29 -> 0.25 | F29: 4 | G29: =3+(6/8) -> 3.75 | H29: =E29+F29+G29 -> 8 | J29: 234000 | L29: 200000 | N29: =AVERAGE(J29,L29) -> 217000 | O29: =(N29*19%) -> 41230 | P29: =+O29+N29 -> 258230 | Q29: =+P29*E29*D29 -> 516460 | S29: =N29+(N29*4.4%) -> 226548 | T29: =S29*19% -> 43044.12 | U29: =+T29+S29 -> 269592.12 | V29: =+U29*F29*D29 -> 8626947.8 | X29: =S29+(S29*3%) -> 233344.44 | Y29: =X29*19% -> 44335.444 | Z29: =+Y29+X29 -> 277679.88 | AA29: =+Z29*G29*D29 -> 8330396.5 | AC29: =+AA29+V29+Q29 -> 17473804
A30: 1.4.4 | B30: MMD-AP0486HP1-E | C30: BIMENSUAL | D30: 3 | E30: =3/D30 -> 1 | F30: 4 | G30: 3 | H30: =E30+F30+G30 -> 8 | J30: 234000 | L30: 200000 | N30: =AVERAGE(J30,L30) -> 217000 | O30: =(N30*19%) -> 41230 | P30: =+O30+N30 -> 258230 | Q30: =+P30*E30*D30 -> 774690 | S30: =N30+(N30*4.4%) -> 226548 | T30: =S30*19% -> 43044.12 | U30: =+T30+S30 -> 269592.12 | V30: =+U30*F30*D30 -> 3235105.4 | X30: =S30+(S30*3%) -> 233344.44 | Y30: =X30*19% -> 44335.444 | Z30: =+Y30+X30 -> 277679.88 | AA30: =+Z30*G30*D30 -> 2499119 | AC30: =+AA30+V30+Q30 -> 6508914.4
A31: 1.4.5 | B31: MMD-AP0566HP1-E | C31: BIMENSUAL | D31: 4 | E31: 0 | F31: 4 | G31: =(3+(4/4)) -> 4 | H31: =E31+F31+G31 -> 8 | J31: 234000 | L31: 200000 | N31: =AVERAGE(J31,L31) -> 217000 | O31: =(N31*19%) -> 41230 | P31: =+O31+N31 -> 258230 | Q31: =+P31*E31*D31 -> 0 | S31: =N31+(N31*4.4%) -> 226548 | T31: =S31*19% -> 43044.12 | U31: =+T31+S31 -> 269592.12 | V31: =+U31*F31*D31 -> 4313473.9 | X31: =S31+(S31*3%) -> 233344.44 | Y31: =X31*19% -> 44335.444 | Z31: =+Y31+X31 -> 277679.88 | AA31: =+Z31*G31*D31 -> 4442878.1 | AC31: =+AA31+V31+Q31 -> 8756352.1
A32: 1.4.6 | B32: MMD-AP0726HP1-E | C32: BIMENSUAL | D32: 4 | E32: =1/4 -> 0.25 | F32: 4 | G32: =3+(3/4) -> 3.75 | H32: =E32+F32+G32 -> 8 | J32: 234000 | L32: 200000 | N32: =AVERAGE(J32,L32) -> 217000 | O32: =(N32*19%) -> 41230 | P32: =+O32+N32 -> 258230 | Q32: =+P32*E32*D32 -> 258230 | S32: =N32+(N32*4.4%) -> 226548 | T32: =S32*19% -> 43044.12 | U32: =+T32+S32 -> 269592.12 | V32: =+U32*F32*D32 -> 4313473.9 | X32: =S32+(S32*3%) -> 233344.44 | Y32: =X32*19% -> 44335.444 | Z32: =+Y32+X32 -> 277679.88 | AA32: =+Z32*G32*D32 -> 4165198.3 | AC32: =+AA32+V32+Q32 -> 8736902.2
A33: 1.5 | B33: UNIDAD PARED
A34: 1.5.1 | B34: MMK-AP0077HP-E | C34: BIMENSUAL | D34: 137 | E34: =29/137 -> 0.21167883 | F34: 4 | G34: =3+(108/137) -> 3.7883212 | H34: =E34+F34+G34 -> 8 | J34: 108910.43 | L34: 135000 | N34: =AVERAGE(J34,L34) -> 121955.22 | O34: =(N34*19%) -> 23171.491 | P34: =+O34+N34 -> 145126.71 | Q34: =+P34*E34*D34 -> 4208674.5 | S34: =N34+(N34*4.4%) -> 127321.25 | T34: =S34*19% -> 24191.037 | U34: =+T34+S34 -> 151512.28 | V34: =+U34*F34*D34 -> 83028731 | X34: =S34+(S34*3%) -> 131140.88 | Y34: =X34*19% -> 24916.768 | Z34: =+Y34+X34 -> 156057.65 | AA34: =+Z34*G34*D34 -> 80993922 | AC34: =+AA34+V34+Q34 -> 1.6823133e+08
A35: 1.5.2 | B35: MMK-AP0097HP-E | C35: BIMENSUAL | D35: 29 | E35: =15/D35 -> 0.51724138 | F35: 4 | G35: =3+(14/29) -> 3.4827586 | H35: =E35+F35+G35 -> 8 | J35: 108910.45 | L35: 135000 | N35: =AVERAGE(J35,L35) -> 121955.22 | O35: =(N35*19%) -> 23171.492 | P35: =+O35+N35 -> 145126.72 | Q35: =+P35*E35*D35 -> 2176900.7 | S35: =N35+(N35*4.4%) -> 127321.25 | T35: =S35*19% -> 24191.038 | U35: =+T35+S35 -> 151512.29 | V35: =+U35*F35*D35 -> 17575426 | X35: =S35+(S35*3%) -> 131140.89 | Y35: =X35*19% -> 24916.769 | Z35: =+Y35+X35 -> 156057.66 | AA35: =+Z35*G35*D35 -> 15761824 | AC35: =+AA35+V35+Q35 -> 35514150
A36: 1.5.3 | B36: MMK-AP0127HP-E | C36: BIMENSUAL | D36: 10 | E36: =10/10 -> 1 | F36: 4 | G36: 3 | H36: =E36+F36+G36 -> 8 | J36: 108910.46 | L36: 135000 | N36: =AVERAGE(J36,L36) -> 121955.23 | O36: =(N36*19%) -> 23171.493 | P36: =+O36+N36 -> 145126.72 | Q36: =+P36*E36*D36 -> 1451267.2 | S36: =N36+(N36*4.4%) -> 127321.26 | T36: =S36*19% -> 24191.039 | U36: =+T36+S36 -> 151512.3 | V36: =+U36*F36*D36 -> 6060491.9 | X36: =S36+(S36*3%) -> 131140.9 | Y36: =X36*19% -> 24916.77 | Z36: =+Y36+X36 -> 156057.67 | AA36: =+Z36*G36*D36 -> 4681730 | AC36: =+AA36+V36+Q36 -> 12193489
A37: 1.5.4 | B37: MMK-AP0153HP-E | C37: BIMENSUAL | D37: 9 | E37: =(1/9) -> 0.11111111 | F37: 4 | G37: =3+(8/9) -> 3.8888889 | H37: =E37+F37+G37 -> 8 | J37: 108910.48 | L37: 135000 | N37: =AVERAGE(J37,L37) -> 121955.24 | O37: =(N37*19%) -> 23171.495 | P37: =+O37+N37 -> 145126.73 | Q37: =+P37*E37*D37 -> 145126.73 | S37: =N37+(N37*4.4%) -> 127321.27 | T37: =S37*19% -> 24191.041 | U37: =+T37+S37 -> 151512.31 | V37: =+U37*F37*D37 -> 5454443.2 | X37: =S37+(S37*3%) -> 131140.91 | Y37: =X37*19% -> 24916.772 | Z37: =+Y37+X37 -> 156057.68 | AA37: =+Z37*G37*D37 -> 5462018.8 | AC37: =+AA37+V37+Q37 -> 11061589
A38: 1.6 | B38: EQUIPOS VENTILACION
A39: 1.6.1 | B39: UNIDAD EXTRACCION HONGO | C39: BIMENSUAL | D39: 7 | E39: 0 | F39: 4 | G39: =3+(7/7) -> 4 | H39: =E39+F39+G39 -> 8 | J39: 150156.64 | L39: 165000 | N39: =AVERAGE(J39,L39) -> 157578.32 | O39: =(N39*19%) -> 29939.881 | P39: =+O39+N39 -> 187518.2 | Q39: =+P39*E39*D39 -> 0 | S39: =N39+(N39*4.4%) -> 164511.77 | T39: =S39*19% -> 31257.236 | U39: =+T39+S39 -> 195769 | V39: =+U39*F39*D39 -> 5481532.1 | X39: =S39+(S39*3%) -> 169447.12 | Y39: =X39*19% -> 32194.953 | Z39: =+Y39+X39 -> 201642.07 | AA39: =+Z39*G39*D39 -> 5645978 | AC39: =+AA39+V39+Q39 -> 11127510
A40: 1.6.2 | B40: UNIDAD EXTRACCION | C40: BIMENSUAL | D40: 4 | E40: 0 | F40: 4 | G40: =3+(4/4) -> 4 | H40: =E40+F40+G40 -> 8 | J40: 106782.75 | L40: 165000 | N40: =AVERAGE(J40,L40) -> 135891.37 | O40: =(N40*19%) -> 25819.361 | P40: =+O40+N40 -> 161710.73 | Q40: =+P40*E40*D40 -> 0 | S40: =N40+(N40*4.4%) -> 141870.59 | T40: =S40*19% -> 26955.413 | U40: =+T40+S40 -> 168826.01 | V40: =+U40*F40*D40 -> 2701216.1 | X40: =S40+(S40*3%) -> 146126.71 | Y40: =X40*19% -> 27764.075 | Z40: =+Y40+X40 -> 173890.79 | AA40: =+Z40*G40*D40 -> 2782252.6 | AC40: =+AA40+V40+Q40 -> 5483468.7
A41: 1.6.3 | B41: UNIDAD VENTILADOR DIRECCIONADOR | C41: BIMENSUAL | D41: 4 | E41: 0 | F41: 4 | G41: =3+(4/4) -> 4 | H41: =E41+F41+G41 -> 8 | J41: 99100.841 | L41: 165000 | N41: =AVERAGE(J41,L41) -> 132050.42 | O41: =(N41*19%) -> 25089.58 | P41: =+O41+N41 -> 157140 | Q41: =+P41*E41*D41 -> 0 | S41: =N41+(N41*4.4%) -> 137860.64 | T41: =S41*19% -> 26193.521 | U41: =+T41+S41 -> 164054.16 | V41: =+U41*F41*D41 -> 2624866.6 | X41: =S41+(S41*3%) -> 141996.46 | Y41: =X41*19% -> 26979.327 | Z41: =+Y41+X41 -> 168975.79 | AA41: =+Z41*G41*D41 -> 2703612.6 | AC41: =+AA41+V41+Q41 -> 5328479.1
...

Sheet ANEXO 2 - HISTORICO
A1: ANEXO 2 - ANALISIS DE COSTOS HISTORICOS
C2: OBJETO: Prestar el servicio técnico especializado para el mantenimiento preventivo, predictivo y correctivo con suministro de insumos y bolsa de repuestos de los aires acondicionados VRF y equipos de ventilación, que se encuentran instalados en la sede principal de la Fiscalía General de la Nación en la ciudad de Cúcuta.
A4: NECESIDAD | J4: OFERTA GANADORA PRESENTADA AIRE CARIBE AL PROCESO FGN-RNO-MEC-0011-2024 | L4: 45636 | M4: 46203 | O4: ANALISIS DE COSTOS HISTORICOS VALOR PARA 2026
A5: MANTENIMIENTOS | L5: 1.4488 | M5: 1.5953
A6: ITEM | B6: DESCRIPCIÓN DEL SERVICIO | C6: FRECUENCIA DE MANTENIMIENTOS | D6: CANTIDAD DE PLANTAS | E6: MATENIMIENTOS 2026 | F6: MATENIMIENTOS 2027 | G6: MATENIMIENTOS 2028 | H6: TOTAL MANTENIMIENTOS 2026-2028 | J6: VALOR UNITARIO SIN IVA | L6: VALOR UNITARIO SIN IVA | O6: VALOR UNITARIO | P6: IVA UNITARIO | Q6: VALOR UNITARIO INCLUIDO IVA | R6: VALOR TOTAL INCLUIDO IVA
A7: 1 | B7: SISTEMA VRF TOSHIBA
A8: 1.1 | B8: UNIDADES CONDENSADORAS
A9: 1.1.1 | B9: MMY-MAP0966HT6P-UL | C9: BIMENSUAL | D9: 5 | E9: 0 | F9: 4 | G9: =3+(5/5) -> 4 | H9: =E9+F9+G9 -> 8 | J9: 218446.13 | L9: =ROUND($M$5/$L$5*J9,2) -> 240535 | O9: =+L9 -> 240535 | P9: =O9*19% -> 45701.65 | Q9: =+P9+O9 -> 286236.65 | R9: =+Q9*E9*D9 -> 0
A10: 1.1.2 | B10: MMY-MAP1206HT6P-UL | C10: BIMENSUAL | D10: 10 | E10: =3/10 -> 0.3 | F10: 4 | G10: =3+(7/10) -> 3.7 | H10: =E10+F10+G10 -> 8 | J10: 218446.16 | L10: =ROUND($M$5/$L$5*J10,2) -> 240535.04 | O10: =+L10 -> 240535.04 | P10: =O10*19% -> 45701.658 | Q10: =+P10+O10 -> 286236.7 | R10: =+Q10*E10*D10 -> 858710.09
A11: 1.1.3 | B11: MMY-MAP1446HT6P-UL | C11: BIMENSUAL | D11: 18 | E11: =7/18 -> 0.38888889 | F11: 4 | G11: =3+(11/18) -> 3.6111111 | H11: =E11+F11+G11 -> 8 | J11: 229338.89 | L11: =ROUND($M$5/$L$5*J11,2) -> 252529.22 | O11: =+L11 -> 252529.22 | P11: =O11*19% -> 47980.552 | Q11: =+P11+O11 -> 300509.77 | R11: =+Q11*E11*D11 -> 2103568.4
A12: 1.1.4 | B12: MMY-MAP1686HT6P-UL | C12: BIMENSUAL | D12: 5 | E12: =3/5 -> 0.6 | F12: 4 | G12: =3+(2/5) -> 3.4 | H12: =E12+F12+G12 -> 8 | J12: 229338.89 | L12: =ROUND($M$5/$L$5*J12,2) -> 252529.22 | O12: =+L12 -> 252529.22 | P12: =O12*19% -> 47980.552 | Q12: =+P12+O12 -> 300509.77 | R12: =+Q12*E12*D12 -> 901529.32
A13: 1.2 | B13: UNIDAD DOAS
A14: 1.2.1 | B14: DOAS 1 | C14: BIMENSUAL | D14: 1 | E14: =1/1 -> 1 | F14: 4 | G14: 3 | H14: =E14+F14+G14 -> 8 | J14: 221713.5 | L14: =ROUND($M$5/$L$5*J14,2) -> 244132.76 | O14: =+L14 -> 244132.76 | P14: =O14*19% -> 46385.224 | Q14: =+P14+O14 -> 290517.98 | R14: =+Q14*E14*D14 -> 290517.98
A15: 1.2.2 | B15: DOAS 2 | C15: BIMENSUAL | D15: 1 | E15: =1/1 -> 1 | F15: 4 | G15: 3 | H15: =E15+F15+G15 -> 8 | J15: 221713.5 | L15: =ROUND($M$5/$L$5*J15,2) -> 244132.76 | O15: =+L15 -> 244132.76 | P15: =O15*19% -> 46385.224 | Q15: =+P15+O15 -> 290517.98 | R15: =+Q15*E15*D15 -> 290517.98
A16: 1.2.3 | B16: DOAS 3 | C16: BIMENSUAL | D16: 1 | E16: =1/1 -> 1 | F16: 4 | G16: 3 | H16: =E16+F16+G16 -> 8 | J16: 221713.5 | L16: =ROUND($M$5/$L$5*J16,2) -> 244132.76 | O16: =+L16 -> 244132.76 | P16: =O16*19% -> 46385.224 | Q16: =+P16+O16 -> 290517.98 | R16: =+Q16*E16*D16 -> 290517.98
A17: 1.3 | B17: UNIDAD CASSETTE
A18: 1.3.1 | B18: MMU-0094HP1-E | C18: BIMENSUAL | D18: 33 | E18: =13/33 -> 0.39393939 | F18: 4 | G18: =3+(20/33) -> 3.6060606 | H18: =E18+F18+G18 -> 8 | J18: 139964.02 | L18: =ROUND($M$5/$L$5*J18,2) -> 154116.93 | O18: =+L18 -> 154116.93 | P18: =O18*19% -> 29282.217 | Q18: =+P18+O18 -> 183399.15 | R18: =+Q18*E18*D18 -> 2384188.9
A19: 1.3.2 | B19: MMU-0124HP1-E | C19: BIMENSUAL | D19: 13 | E19: =4/13 -> 0.30769231 | F19: 4 | G19: =3+(9/13) -> 3.6923077 | H19: =E19+F19+G19 -> 8 | J19: 139964.02 | L19: =ROUND($M$5/$L$5*J19,2) -> 154116.93 | O19: =+L19 -> 154116.93 | P19: =O19*19% -> 29282.217 | Q19: =+P19+O19 -> 183399.15 | R19: =+Q19*E19*D19 -> 733596.59
A20: 1.3.3 | B20: MMU-0154HP1-E | C20: BIMENSUAL | D20: 25 | E20: =5/25 -> 0.2 | F20: 4 | G20: =3+(20/25) -> 3.8 | H20: =E20+F20+G20 -> 8 | J20: 139964.01 | L20: =ROUND($M$5/$L$5*J20,2) -> 154116.91 | O20: =+L20 -> 154116.91 | P20: =O20*19% -> 29282.213 | Q20: =+P20+O20 -> 183399.12 | R20: =+Q20*E20*D20 -> 916995.61
A21: 1.3.4 | B21: MMU-0184HP1-E | C21: BIMENSUAL | D21: 37 | E21: =11/37 -> 0.2972973 | F21: 4 | G21: =3+(26/37) -> 3.7027027 | H21: =E21+F21+G21 -> 8 | J21: 143667.1 | L21: =ROUND($M$5/$L$5*J21,2) -> 158194.45 | O21: =+L21 -> 158194.45 | P21: =O21*19% -> 30056.946 | Q21: =+P21+O21 -> 188251.4 | R21: =+Q21*E21*D21 -> 2070765.4
A22: 1.3.5 | B22: MMU-0244HP1-E | C22: BIMENSUAL | D22: 18 | E22: =5/18 -> 0.27777778 | F22: 4 | G22: =3+(13/18) -> 3.7222222 | H22: =E22+F22+G22 -> 8 | J22: 143667.09 | L22: =ROUND($M$5/$L$5*J22,2) -> 158194.44 | O22: =+L22 -> 158194.44 | P22: =O22*19% -> 30056.944 | Q22: =+P22+O22 -> 188251.38 | R22: =+Q22*E22*D22 -> 941256.92
A23: 1.3.6 | B23: MMU-0274HP1-E | C23: BIMENSUAL | D23: 48 | E23: =30/48 -> 0.625 | F23: 4 | G23: =3+(18/48) -> 3.375 | H23: =E23+F23+G23 -> 8 | J23: 143667.09 | L23: =ROUND($M$5/$L$5*J23,2) -> 158194.44 | O23: =+L23 -> 158194.44 | P23: =O23*19% -> 30056.944 | Q23: =+P23+O23 -> 188251.38 | R23: =+Q23*E23*D23 -> 5647541.5
A24: 1.3.7 | B24: MMU-0304HP1-E | C24: BIMENSUAL | D24: 14 | E24: 0 | F24: 4 | G24: =3+(14/14) -> 4 | H24: =E24+F24+G24 -> 8 | J24: 145410.13 | L24: =ROUND($M$5/$L$5*J24,2) -> 160113.74 | O24: =+L24 -> 160113.74 | P24: =O24*19% -> 30421.611 | Q24: =+P24+O24 -> 190535.35 | R24: =+Q24*E24*D24 -> 0
A25: 1.3.8 | B25: MMU-0366HP1-E | C25: BIMENSUAL | D25: 3 | E25: 0 | F25: 4 | G25: =3+(3/3) -> 4 | H25: =E25+F25+G25 -> 8 | J25: 145410.15 | L25: =ROUND($M$5/$L$5*J25,2) -> 160113.76 | O25: =+L25 -> 160113.76 | P25: =O25*19% -> 30421.614 | Q25: =+P25+O25 -> 190535.37 | R25: =+Q25*E25*D25 -> 0
A26: 1.4 | B26: UNIDAD FANCOIL
A27: 1.4.1 | B27: MMD-AP0156HP1-E | C27: BIMENSUAL | D27: 3 | E27: 0 | F27: 4 | G27: =3+(3/3) -> 4 | H27: =E27+F27+G27 -> 8 | J27: 149767.39 | L27: =ROUND($M$5/$L$5*J27,2) -> 164911.59 | O27: =+L27 -> 164911.59 | P27: =O27*19% -> 31333.202 | Q27: =+P27+O27 -> 196244.79 | R27: =+Q27*E27*D27 -> 0
A28: 1.4.2 | B28: MMD-AP0276HP1-E | C28: BIMENSUAL | D28: 14 | E28: =8/14 -> 0.57142857 | F28: 4 | G28: =3+(6/14) -> 3.4285714 | H28: =E28+F28+G28 -> 8 | J28: 149767.32 | L28: =ROUND($M$5/$L$5*J28,2) -> 164911.52 | O28: =+L28 -> 164911.52 | P28: =O28*19% -> 31333.189 | Q28: =+P28+O28 -> 196244.71 | R28: =+Q28*E28*D28 -> 1569957.7
A29: 1.4.3 | B29: MMD-AP0366HP1-E | C29: BIMENSUAL | D29: 8 | E29: =2/D29 -> 0.25 | F29: 4 | G29: =3+(6/8) -> 3.75 | H29: =E29+F29+G29 -> 8 | J29: 153470.37 | L29: =ROUND($M$5/$L$5*J29,2) -> 168989.01 | O29: =+L29 -> 168989.01 | P29: =O29*19% -> 32107.912 | Q29: =+P29+O29 -> 201096.92 | R29: =+Q29*E29*D29 -> 402193.84
A30: 1.4.4 | B30: MMD-AP0486HP1-E | C30: BIMENSUAL | D30: 3 | E30: =3/D30 -> 1 | F30: 4 | G30: 3 | H30: =E30+F30+G30 -> 8 | J30: 153470.51 | L30: =ROUND($M$5/$L$5*J30,2) -> 168989.17 | O30: =+L30 -> 168989.17 | P30: =O30*19% -> 32107.942 | Q30: =+P30+O30 -> 201097.11 | R30: =+Q30*E30*D30 -> 603291.34
A31: 1.4.5 | B31: MMD-AP0566HP1-E | C31: BIMENSUAL | D31: 4 | E31: 0 | F31: 4 | G31: =(3+(4/4)) -> 4 | H31: =E31+F31+G31 -> 8 | J31: 153470.47 | L31: =ROUND($M$5/$L$5*J31,2) -> 168989.12 | O31: =+L31 -> 168989.12 | P31: =O31*19% -> 32107.933 | Q31: =+P31+O31 -> 201097.05 | R31: =+Q31*E31*D31 -> 0
A32: 1.4.6 | B32: MMD-AP0726HP1-E | C32: BIMENSUAL | D32: 4 | E32: =1/4 -> 0.25 | F32: 4 | G32: =3+(3/4) -> 3.75 | H32: =E32+F32+G32 -> 8 | J32: 153470.47 | L32: =ROUND($M$5/$L$5*J32,2) -> 168989.12 | O32: =+L32 -> 168989.12 | P32: =O32*19% -> 32107.933 | Q32: =+P32+O32 -> 201097.05 | R32: =+Q32*E32*D32 -> 201097.05
A33: 1.5 | B33: UNIDAD PARED
A34: 1.5.1 | B34: MMK-AP0077HP-E | C34: BIMENSUAL | D34: 137 | E34: =29/137 -> 0.21167883 | F34: 4 | G34: =3+(108/137) -> 3.7883212 | H34: =E34+F34+G34 -> 8 | J34: 99753.1 | L34: =ROUND($M$5/$L$5*J34,2) -> 109839.95 | O34: =+L34 -> 109839.95 | P34: =O34*19% -> 20869.59 | Q34: =+P34+O34 -> 130709.54 | R34: =+Q34*E34*D34 -> 3790576.7
A35: 1.5.2 | B35: MMK-AP0097HP-E | C35: BIMENSUAL | D35: 29 | E35: =15/D35 -> 0.51724138 | F35: 4 | G35: =3+(14/29) -> 3.4827586 | H35: =E35+F35+G35 -> 8 | J35: 99753.11 | L35: =ROUND($M$5/$L$5*J35,2) -> 109839.96 | O35: =+L35 -> 109839.96 | P35: =O35*19% -> 20869.592 | Q35: =+P35+O35 -> 130709.55 | R35: =+Q35*E35*D35 -> 1960643.3
A36: 1.5.3 | B36: MMK-AP0127HP-E | C36: BIMENSUAL | D36: 10 | E36: =10/10 -> 1 | F36: 4 | G36: 3 | H36: =E36+F36+G36 -> 8 | J36: 99753.12 | L36: =ROUND($M$5/$L$5*J36,2) -> 109839.97 | O36: =+L36 -> 109839.97 | P36: =O36*19% -> 20869.594 | Q36: =+P36+O36 -> 130709.56 | R36: =+Q36*E36*D36 -> 1307095.6
A37: 1.5.4 | B37: MMK-AP0153HP-E | C37: BIMENSUAL | D37: 9 | E37: =(1/9) -> 0.11111111 | F37: 4 | G37: =3+(8/9) -> 3.8888889 | H37: =E37+F37+G37 -> 8 | J37: 99753.14 | L37: =ROUND($M$5/$L$5*J37,2) -> 109839.99 | O37: =+L37 -> 109839.99 | P37: =O37*19% -> 20869.598 | Q37: =+P37+O37 -> 130709.59 | R37: =+Q37*E37*D37 -> 130709.59
A38: 1.6 | B38: EQUIPOS VENTILACION
A39: 1.6.1 | B39: UNIDAD EXTRACCION HONGO | C39: BIMENSUAL | D39: 7 | E39: 0 | F39: 4 | G39: =3+(7/7) -> 4 | H39: =E39+F39+G39 -> 8 | J39: 137531.27 | L39: =ROUND($M$5/$L$5*J39,2) -> 151438.18 | O39: =+L39 -> 151438.18 | P39: =O39*19% -> 28773.254 | Q39: =+P39+O39 -> 180211.43 | R39: =+Q39*E39*D39 -> 0
A40: 1.6.2 | B40: UNIDAD EXTRACCION | C40: BIMENSUAL | D40: 4 | E40: 0 | F40: 4 | G40: =3+(4/4) -> 4 | H40: =E40+F40+G40 -> 8 | J40: 97804.31 | L40: =ROUND($M$5/$L$5*J40,2) -> 107694.1 | O40: =+L40 -> 107694.1 | P40: =O40*19% -> 20461.879 | Q40: =+P40+O40 -> 128155.98 | R40: =+Q40*E40*D40 -> 0
A41: 1.6.3 | B41: UNIDAD VENTILADOR DIRECCIONADOR | C41: BIMENSUAL | D41: 4 | E41: 0 | F41: 4 | G41: =3+(4/4) -> 4 | H41: =E41+F41+G41 -> 8 | J41: 90768.31 | L41: =ROUND($M$5/$L$5*J41,2) -> 99946.64 | O41: =+L41 -> 99946.64 | P41: =O41*19% -> 18989.862 | Q41: =+P41+O41 -> 118936.5 | R41: =+Q41*E41*D41 -> 0
...

Sheet ANEXO 3 - PROY COSTOS
A1: ANEXO 3 - PROYECCION COSTOS 2026-2028
C2: OBJETO: Prestar el servicio técnico especializado para el mantenimiento preventivo, predictivo y correctivo con suministro de insumos y bolsa de repuestos de los aires acondicionados VRF y equipos de ventilación, que se encuentran instalados en la sede principal de la Fiscalía General de la Nación en la ciudad de Cúcuta.
A4: NECESIDAD | J4: ANALISIS COTIZACIONES | L4: ANALISIS DE COSTOS HISTORICOS | N4: PROYECCION COSTOS 2024-2026
A5: MANTENIMIENTOS | N5: VIGENCIA 2026 | S5: VIGENCIA 2027 | X5: VIGENCIA 2028 | AC5: TOTAL VIGENCIA 2026-2028
A6: ITEM | B6: DESCRIPCIÓN DEL SERVICIO | C6: FRECUENCIA DE MANTENIMIENTOS | D6: CANTIDAD DE PLANTAS | E6: MATENIMIENTOS 2026 | F6: MATENIMIENTOS 2027 | G6: MATENIMIENTOS 2028 | H6: TOTAL MANTENIMIENTOS 2026-2027 | J6: VALOR UNITARIO SIN IVA | L6: VALOR UNITARIO SIN IVA | N6: VALOR UNITARIO SIN IVA | O6: IVA UNITARIO | P6: VALOR UNITARIO INCLUIDO IVA | Q6: VALOR TOTAL INCLUIDO IVA | S6: VALOR UNITARIO SIN IVA | T6: IVA UNITARIO | U6: VALOR UNITARIO INCLUIDO IVA | V6: VALOR TOTAL INCLUIDO IVA | X6: VALOR UNITARIO SIN IVA | Y6: IVA UNITARIO | Z6: VALOR UNITARIO INCLUIDO IVA | AA6: VALOR TOTAL INCLUIDO IVA | AC6: VALOR TOTAL INCLUIDO IVA
A7: 1 | B7: SISTEMA VRF TOSHIBA
A8: 1.1 | B8: UNIDADES CONDENSADORAS
A9: 1.1.1 | B9: MMY-MAP0966HT6P-UL | C9: BIMENSUAL | D9: 5 | E9: 0 | F9: 4 | G9: =3+(5/5) -> 4 | H9: =E9+F9+G9 -> 8 | J9: =+'ANEXO 1 - COTIZACIONES'!N9 -> 307500 | L9: =+'ANEXO 2 - HISTORICO'!O9 -> 240535 | N9: =AVERAGE(J9,L9) -> 274017.5 | O9: =N9*19% -> 52063.325 | P9: =+O9+N9 -> 326080.83 | Q9: =+P9*E9*D9 -> 0 | S9: =N9+(N9*4.4%) -> 286074.27 | T9: =S9*19% -> 54354.111 | U9: =+T9+S9 -> 340428.38 | V9: =+U9*F9*D9 -> 6808567.6 | X9: =S9+(S9*3%) -> 294656.5 | Y9: =X9*19% -> 55984.735 | Z9: =+Y9+X9 -> 350641.23 | AA9: =+Z9*G9*D9 -> 7012824.7 | AC9: =+AA9+V9+Q9 -> 13821392
A10: 1.1.2 | B10: MMY-MAP1206HT6P-UL | C10: BIMENSUAL | D10: 10 | E10: =3/10 -> 0.3 | F10: 4 | G10: =3+(7/10) -> 3.7 | H10: =E10+F10+G10 -> 8 | J10: =+'ANEXO 1 - COTIZACIONES'!N10 -> 307500 | L10: =+'ANEXO 2 - HISTORICO'!O10 -> 240535.04 | N10: =AVERAGE(J10,L10) -> 274017.52 | O10: =N10*19% -> 52063.329 | P10: =+O10+N10 -> 326080.85 | Q10: =+P10*E10*D10 -> 978242.55 | S10: =N10+(N10*4.4%) -> 286074.29 | T10: =S10*19% -> 54354.115 | U10: =+T10+S10 -> 340428.41 | V10: =+U10*F10*D10 -> 13617136 | X10: =S10+(S10*3%) -> 294656.52 | Y10: =X10*19% -> 55984.739 | Z10: =+Y10+X10 -> 350641.26 | AA10: =+Z10*G10*D10 -> 12973727 | AC10: =+AA10+V10+Q10 -> 27569105
A11: 1.1.3 | B11: MMY-MAP1446HT6P-UL | C11: BIMENSUAL | D11: 18 | E11: =7/18 -> 0.38888889 | F11: 4 | G11: =3+(11/18) -> 3.6111111 | H11: =E11+F11+G11 -> 8 | J11: =+'ANEXO 1 - COTIZACIONES'!N11 -> 307500 | L11: =+'ANEXO 2 - HISTORICO'!O11 -> 252529.22 | N11: =AVERAGE(J11,L11) -> 280014.61 | O11: =N11*19% -> 53202.776 | P11: =+O11+N11 -> 333217.39 | Q11: =+P11*E11*D11 -> 2332521.7 | S11: =N11+(N11*4.4%) -> 292335.25 | T11: =S11*19% -> 55543.698 | U11: =+T11+S11 -> 347878.95 | V11: =+U11*F11*D11 -> 25047284 | X11: =S11+(S11*3%) -> 301105.31 | Y11: =X11*19% -> 57210.009 | Z11: =+Y11+X11 -> 358315.32 | AA11: =+Z11*G11*D11 -> 23290496 | AC11: =+AA11+V11+Q11 -> 50670302
A12: 1.1.4 | B12: MMY-MAP1686HT6P-UL | C12: BIMENSUAL | D12: 5 | E12: =3/5 -> 0.6 | F12: 4 | G12: =3+(2/5) -> 3.4 | H12: =E12+F12+G12 -> 8 | J12: =+'ANEXO 1 - COTIZACIONES'!N12 -> 307500 | L12: =+'ANEXO 2 - HISTORICO'!O12 -> 252529.22 | N12: =AVERAGE(J12,L12) -> 280014.61 | O12: =N12*19% -> 53202.776 | P12: =+O12+N12 -> 333217.39 | Q12: =+P12*E12*D12 -> 999652.16 | S12: =N12+(N12*4.4%) -> 292335.25 | T12: =S12*19% -> 55543.698 | U12: =+T12+S12 -> 347878.95 | V12: =+U12*F12*D12 -> 6957579 | X12: =S12+(S12*3%) -> 301105.31 | Y12: =X12*19% -> 57210.009 | Z12: =+Y12+X12 -> 358315.32 | AA12: =+Z12*G12*D12 -> 6091360.4 | AC12: =+AA12+V12+Q12 -> 14048592
A13: 1.2 | B13: UNIDAD DOAS
A14: 1.2.1 | B14: DOAS 1 | C14: BIMENSUAL | D14: 1 | E14: =1/1 -> 1 | F14: 4 | G14: 3 | H14: =E14+F14+G14 -> 8 | J14: =+'ANEXO 1 - COTIZACIONES'!N14 -> 372500 | L14: =+'ANEXO 2 - HISTORICO'!O14 -> 244132.76 | N14: =AVERAGE(J14,L14) -> 308316.38 | O14: =N14*19% -> 58580.112 | P14: =+O14+N14 -> 366896.49 | Q14: =+P14*E14*D14 -> 366896.49 | S14: =N14+(N14*4.4%) -> 321882.3 | T14: =S14*19% -> 61157.637 | U14: =+T14+S14 -> 383039.94 | V14: =+U14*F14*D14 -> 1532159.8 | X14: =S14+(S14*3%) -> 331538.77 | Y14: =X14*19% -> 62992.366 | Z14: =+Y14+X14 -> 394531.14 | AA14: =+Z14*G14*D14 -> 1183593.4 | AC14: =+AA14+V14+Q14 -> 3082649.7
A15: 1.2.2 | B15: DOAS 2 | C15: BIMENSUAL | D15: 1 | E15: =1/1 -> 1 | F15: 4 | G15: 3 | H15: =E15+F15+G15 -> 8 | J15: =+'ANEXO 1 - COTIZACIONES'!N15 -> 372500 | L15: =+'ANEXO 2 - HISTORICO'!O15 -> 244132.76 | N15: =AVERAGE(J15,L15) -> 308316.38 | O15: =N15*19% -> 58580.112 | P15: =+O15+N15 -> 366896.49 | Q15: =+P15*E15*D15 -> 366896.49 | S15: =N15+(N15*4.4%) -> 321882.3 | T15: =S15*19% -> 61157.637 | U15: =+T15+S15 -> 383039.94 | V15: =+U15*F15*D15 -> 1532159.8 | X15: =S15+(S15*3%) -> 331538.77 | Y15: =X15*19% -> 62992.366 | Z15: =+Y15+X15 -> 394531.14 | AA15: =+Z15*G15*D15 -> 1183593.4 | AC15: =+AA15+V15+Q15 -> 3082649.7
A16: 1.2.3 | B16: DOAS 3 | C16: BIMENSUAL | D16: 1 | E16: =1/1 -> 1 | F16: 4 | G16: 3 | H16: =E16+F16+G16 -> 8 | J16: =+'ANEXO 1 - COTIZACIONES'!N16 -> 372500 | L16: =+'ANEXO 2 - HISTORICO'!O16 -> 244132.76 | N16: =AVERAGE(J16,L16) -> 308316.38 | O16: =N16*19% -> 58580.112 | P16: =+O16+N16 -> 366896.49 | Q16: =+P16*E16*D16 -> 366896.49 | S16: =N16+(N16*4.4%) -> 321882.3 | T16: =S16*19% -> 61157.637 | U16: =+T16+S16 -> 383039.94 | V16: =+U16*F16*D16 -> 1532159.8 | X16: =S16+(S16*3%) -> 331538.77 | Y16: =X16*19% -> 62992.366 | Z16: =+Y16+X16 -> 394531.14 | AA16: =+Z16*G16*D16 -> 1183593.4 | AC16: =+AA16+V16+Q16 -> 3082649.7
A17: 1.3 | B17: UNIDAD CASSETTE
A18: 1.3.1 | B18: MMU-0094HP1-E | C18: BIMENSUAL | D18: 33 | E18: =13/33 -> 0.39393939 | F18: 4 | G18: =3+(20/33) -> 3.6060606 | H18: =E18+F18+G18 -> 8 | J18: =+'ANEXO 1 - COTIZACIONES'!N18 -> 176406.36 | L18: =+'ANEXO 2 - HISTORICO'!O18 -> 154116.93 | N18: =AVERAGE(J18,L18) -> 165261.64 | O18: =N18*19% -> 31399.712 | P18: =+O18+N18 -> 196661.36 | Q18: =+P18*E18*D18 -> 2556597.6 | S18: =N18+(N18*4.4%) -> 172533.16 | T18: =S18*19% -> 32781.3 | U18: =+T18+S18 -> 205314.46 | V18: =+U18*F18*D18 -> 27101508 | X18: =S18+(S18*3%) -> 177709.15 | Y18: =X18*19% -> 33764.739 | Z18: =+Y18+X18 -> 211473.89 | AA18: =+Z18*G18*D18 -> 25165393 | AC18: =+AA18+V18+Q18 -> 54823499
A19: 1.3.2 | B19: MMU-0124HP1-E | C19: BIMENSUAL | D19: 13 | E19: =4/13 -> 0.30769231 | F19: 4 | G19: =3+(9/13) -> 3.6923077 | H19: =E19+F19+G19 -> 8 | J19: =+'ANEXO 1 - COTIZACIONES'!N19 -> 176406.36 | L19: =+'ANEXO 2 - HISTORICO'!O19 -> 154116.93 | N19: =AVERAGE(J19,L19) -> 165261.64 | O19: =N19*19% -> 31399.712 | P19: =+O19+N19 -> 196661.36 | Q19: =+P19*E19*D19 -> 786645.43 | S19: =N19+(N19*4.4%) -> 172533.16 | T19: =S19*19% -> 32781.3 | U19: =+T19+S19 -> 205314.46 | V19: =+U19*F19*D19 -> 10676352 | X19: =S19+(S19*3%) -> 177709.15 | Y19: =X19*19% -> 33764.739 | Z19: =+Y19+X19 -> 211473.89 | AA19: =+Z19*G19*D19 -> 10150747 | AC19: =+AA19+V19+Q19 -> 21613744
A20: 1.3.3 | B20: MMU-0154HP1-E | C20: BIMENSUAL | D20: 25 | E20: =5/25 -> 0.2 | F20: 4 | G20: =3+(20/25) -> 3.8 | H20: =E20+F20+G20 -> 8 | J20: =+'ANEXO 1 - COTIZACIONES'!N20 -> 176406.35 | L20: =+'ANEXO 2 - HISTORICO'!O20 -> 154116.91 | N20: =AVERAGE(J20,L20) -> 165261.63 | O20: =N20*19% -> 31399.71 | P20: =+O20+N20 -> 196661.34 | Q20: =+P20*E20*D20 -> 983306.71 | S20: =N20+(N20*4.4%) -> 172533.14 | T20: =S20*19% -> 32781.297 | U20: =+T20+S20 -> 205314.44 | V20: =+U20*F20*D20 -> 20531444 | X20: =S20+(S20*3%) -> 177709.14 | Y20: =X20*19% -> 33764.736 | Z20: =+Y20+X20 -> 211473.87 | AA20: =+Z20*G20*D20 -> 20090018 | AC20: =+AA20+V20+Q20 -> 41604769
A21: 1.3.4 | B21: MMU-0184HP1-E | C21: BIMENSUAL | D21: 37 | E21: =11/37 -> 0.2972973 | F21: 4 | G21: =3+(26/37) -> 3.7027027 | H21: =E21+F21+G21 -> 8 | J21: =+'ANEXO 1 - COTIZACIONES'!N21 -> 178427.87 | L21: =+'ANEXO 2 - HISTORICO'!O21 -> 158194.45 | N21: =AVERAGE(J21,L21) -> 168311.16 | O21: =N21*19% -> 31979.12 | P21: =+O21+N21 -> 200290.28 | Q21: =+P21*E21*D21 -> 2203193.1 | S21: =N21+(N21*4.4%) -> 175716.85 | T21: =S21*19% -> 33386.202 | U21: =+T21+S21 -> 209103.05 | V21: =+U21*F21*D21 -> 30947252 | X21: =S21+(S21*3%) -> 180988.36 | Y21: =X21*19% -> 34387.788 | Z21: =+Y21+X21 -> 215376.14 | AA21: =+Z21*G21*D21 -> 29506532 | AC21: =+AA21+V21+Q21 -> 62656977
A22: 1.3.5 | B22: MMU-0244HP1-E | C22: BIMENSUAL | D22: 18 | E22: =5/18 -> 0.27777778 | F22: 4 | G22: =3+(13/18) -> 3.7222222 | H22: =E22+F22+G22 -> 8 | J22: =+'ANEXO 1 - COTIZACIONES'!N22 -> 178427.86 | L22: =+'ANEXO 2 - HISTORICO'!O22 -> 158194.44 | N22: =AVERAGE(J22,L22) -> 168311.15 | O22: =N22*19% -> 31979.119 | P22: =+O22+N22 -> 200290.27 | Q22: =+P22*E22*D22 -> 1001451.4 | S22: =N22+(N22*4.4%) -> 175716.84 | T22: =S22*19% -> 33386.2 | U22: =+T22+S22 -> 209103.04 | V22: =+U22*F22*D22 -> 15055419 | X22: =S22+(S22*3%) -> 180988.35 | Y22: =X22*19% -> 34387.786 | Z22: =+Y22+X22 -> 215376.13 | AA22: =+Z22*G22*D22 -> 14430201 | AC22: =+AA22+V22+Q22 -> 30487071
A23: 1.3.6 | B23: MMU-0274HP1-E | C23: BIMENSUAL | D23: 48 | E23: =30/48 -> 0.625 | F23: 4 | G23: =3+(18/48) -> 3.375 | H23: =E23+F23+G23 -> 8 | J23: =+'ANEXO 1 - COTIZACIONES'!N23 -> 178427.86 | L23: =+'ANEXO 2 - HISTORICO'!O23 -> 158194.44 | N23: =AVERAGE(J23,L23) -> 168311.15 | O23: =N23*19% -> 31979.119 | P23: =+O23+N23 -> 200290.27 | Q23: =+P23*E23*D23 -> 6008708.1 | S23: =N23+(N23*4.4%) -> 175716.84 | T23: =S23*19% -> 33386.2 | U23: =+T23+S23 -> 209103.04 | V23: =+U23*F23*D23 -> 40147784 | X23: =S23+(S23*3%) -> 180988.35 | Y23: =X23*19% -> 34387.786 | Z23: =+Y23+X23 -> 215376.13 | AA23: =+Z23*G23*D23 -> 34890934 | AC23: =+AA23+V23+Q23 -> 81047426
A24: 1.3.7 | B24: MMU-0304HP1-E | C24: BIMENSUAL | D24: 14 | E24: 0 | F24: 4 | G24: =3+(14/14) -> 4 | H24: =E24+F24+G24 -> 8 | J24: =+'ANEXO 1 - COTIZACIONES'!N24 -> 179379.39 | L24: =+'ANEXO 2 - HISTORICO'!O24 -> 160113.74 | N24: =AVERAGE(J24,L24) -> 169746.56 | O24: =N24*19% -> 32251.847 | P24: =+O24+N24 -> 201998.41 | Q24: =+P24*E24*D24 -> 0 | S24: =N24+(N24*4.4%) -> 177215.41 | T24: =S24*19% -> 33670.929 | U24: =+T24+S24 -> 210886.34 | V24: =+U24*F24*D24 -> 11809635 | X24: =S24+(S24*3%) -> 182531.88 | Y24: =X24*19% -> 34681.056 | Z24: =+Y24+X24 -> 217212.93 | AA24: =+Z24*G24*D24 -> 12163924 | AC24: =+AA24+V24+Q24 -> 23973559
A25: 1.3.8 | B25: MMU-0366HP1-E | C25: BIMENSUAL | D25: 3 | E25: 0 | F25: 4 | G25: =3+(3/3) -> 4 | H25: =E25+F25+G25 -> 8 | J25: =+'ANEXO 1 - COTIZACIONES'!N25 -> 179379.4 | L25: =+'ANEXO 2 - HISTORICO'!O25 -> 160113.76 | N25: =AVERAGE(J25,L25) -> 169746.58 | O25: =N25*19% -> 32251.85 | P25: =+O25+N25 -> 201998.43 | Q25: =+P25*E25*D25 -> 0 | S25: =N25+(N25*4.4%) -> 177215.43 | T25: =S25*19% -> 33670.932 | U25: =+T25+S25 -> 210886.36 | V25: =+U25*F25*D25 -> 2530636.3 | X25: =S25+(S25*3%) -> 182531.89 | Y25: =X25*19% -> 34681.06 | Z25: =+Y25+X25 -> 217212.95 | AA25: =+Z25*G25*D25 -> 2606555.4 | AC25: =+AA25+V25+Q25 -> 5137191.8
A26: 1.4 | B26: UNIDAD FANCOIL
A27: 1.4.1 | B27: MMD-AP0156HP1-E | C27: BIMENSUAL | D27: 3 | E27: 0 | F27: 4 | G27: =3+(3/3) -> 4 | H27: =E27+F27+G27 -> 8 | J27: =+'ANEXO 1 - COTIZACIONES'!N27 -> 217000 | L27: =+'ANEXO 2 - HISTORICO'!O27 -> 164911.59 | N27: =AVERAGE(J27,L27) -> 190955.79 | O27: =N27*19% -> 36281.601 | P27: =+O27+N27 -> 227237.4 | Q27: =+P27*E27*D27 -> 0 | S27: =N27+(N27*4.4%) -> 199357.85 | T27: =S27*19% -> 37877.991 | U27: =+T27+S27 -> 237235.84 | V27: =+U27*F27*D27 -> 2846830.1 | X27: =S27+(S27*3%) -> 205338.59 | Y27: =X27*19% -> 39014.331 | Z27: =+Y27+X27 -> 244352.92 | AA27: =+Z27*G27*D27 -> 2932235 | AC27: =+AA27+V27+Q27 -> 5779065.1
A28: 1.4.2 | B28: MMD-AP0276HP1-E | C28: BIMENSUAL | D28: 14 | E28: =8/14 -> 0.57142857 | F28: 4 | G28: =3+(6/14) -> 3.4285714 | H28: =E28+F28+G28 -> 8 | J28: =+'ANEXO 1 - COTIZACIONES'!N28 -> 217000 | L28: =+'ANEXO 2 - HISTORICO'!O28 -> 164911.52 | N28: =AVERAGE(J28,L28) -> 190955.76 | O28: =N28*19% -> 36281.594 | P28: =+O28+N28 -> 227237.35 | Q28: =+P28*E28*D28 -> 1817898.8 | S28: =N28+(N28*4.4%) -> 199357.81 | T28: =S28*19% -> 37877.985 | U28: =+T28+S28 -> 237235.8 | V28: =+U28*F28*D28 -> 13285205 | X28: =S28+(S28*3%) -> 205338.55 | Y28: =X28*19% -> 39014.324 | Z28: =+Y28+X28 -> 244352.87 | AA28: =+Z28*G28*D28 -> 11728938 | AC28: =+AA28+V28+Q28 -> 26832041
A29: 1.4.3 | B29: MMD-AP0366HP1-E | C29: BIMENSUAL | D29: 8 | E29: =2/D29 -> 0.25 | F29: 4 | G29: =3+(6/8) -> 3.75 | H29: =E29+F29+G29 -> 8 | J29: =+'ANEXO 1 - COTIZACIONES'!N29 -> 217000 | L29: =+'ANEXO 2 - HISTORICO'!O29 -> 168989.01 | N29: =AVERAGE(J29,L29) -> 192994.51 | O29: =N29*19% -> 36668.956 | P29: =+O29+N29 -> 229663.46 | Q29: =+P29*E29*D29 -> 459326.92 | S29: =N29+(N29*4.4%) -> 201486.26 | T29: =S29*19% -> 38282.39 | U29: =+T29+S29 -> 239768.65 | V29: =+U29*F29*D29 -> 7672596.9 | X29: =S29+(S29*3%) -> 207530.85 | Y29: =X29*19% -> 39430.862 | Z29: =+Y29+X29 -> 246961.71 | AA29: =+Z29*G29*D29 -> 7408851.4 | AC29: =+AA29+V29+Q29 -> 15540775
A30: 1.4.4 | B30: MMD-AP0486HP1-E | C30: BIMENSUAL | D30: 3 | E30: =3/D30 -> 1 | F30: 4 | G30: 3 | H30: =E30+F30+G30 -> 8 | J30: =+'ANEXO 1 - COTIZACIONES'!N30 -> 217000 | L30: =+'ANEXO 2 - HISTORICO'!O30 -> 168989.17 | N30: =AVERAGE(J30,L30) -> 192994.59 | O30: =N30*19% -> 36668.971 | P30: =+O30+N30 -> 229663.56 | Q30: =+P30*E30*D30 -> 688990.67 | S30: =N30+(N30*4.4%) -> 201486.35 | T30: =S30*19% -> 38282.406 | U30: =+T30+S30 -> 239768.75 | V30: =+U30*F30*D30 -> 2877225 | X30: =S30+(S30*3%) -> 207530.94 | Y30: =X30*19% -> 39430.878 | Z30: =+Y30+X30 -> 246961.82 | AA30: =+Z30*G30*D30 -> 2222656.3 | AC30: =+AA30+V30+Q30 -> 5788872
A31: 1.4.5 | B31: MMD-AP0566HP1-E | C31: BIMENSUAL | D31: 4 | E31: 0 | F31: 4 | G31: =(3+(4/4)) -> 4 | H31: =E31+F31+G31 -> 8 | J31: =+'ANEXO 1 - COTIZACIONES'!N31 -> 217000 | L31: =+'ANEXO 2 - HISTORICO'!O31 -> 168989.12 | N31: =AVERAGE(J31,L31) -> 192994.56 | O31: =N31*19% -> 36668.966 | P31: =+O31+N31 -> 229663.53 | Q31: =+P31*E31*D31 -> 0 | S31: =N31+(N31*4.4%) -> 201486.32 | T31: =S31*19% -> 38282.401 | U31: =+T31+S31 -> 239768.72 | V31: =+U31*F31*D31 -> 3836299.5 | X31: =S31+(S31*3%) -> 207530.91 | Y31: =X31*19% -> 39430.873 | Z31: =+Y31+X31 -> 246961.78 | AA31: =+Z31*G31*D31 -> 3951388.5 | AC31: =+AA31+V31+Q31 -> 7787688.1
A32: 1.4.6 | B32: MMD-AP0726HP1-E | C32: BIMENSUAL | D32: 4 | E32: =1/4 -> 0.25 | F32: 4 | G32: =3+(3/4) -> 3.75 | H32: =E32+F32+G32 -> 8 | J32: =+'ANEXO 1 - COTIZACIONES'!N32 -> 217000 | L32: =+'ANEXO 2 - HISTORICO'!O32 -> 168989.12 | N32: =AVERAGE(J32,L32) -> 192994.56 | O32: =N32*19% -> 36668.966 | P32: =+O32+N32 -> 229663.53 | Q32: =+P32*E32*D32 -> 229663.53 | S32: =N32+(N32*4.4%) -> 201486.32 | T32: =S32*19% -> 38282.401 | U32: =+T32+S32 -> 239768.72 | V32: =+U32*F32*D32 -> 3836299.5 | X32: =S32+(S32*3%) -> 207530.91 | Y32: =X32*19% -> 39430.873 | Z32: =+Y32+X32 -> 246961.78 | AA32: =+Z32*G32*D32 -> 3704426.7 | AC32: =+AA32+V32+Q32 -> 7770389.8
A33: 1.5 | B33: UNIDAD PARED
A34: 1.5.1 | B34: MMK-AP0077HP-E | C34: BIMENSUAL | D34: 137 | E34: =29/137 -> 0.21167883 | F34: 4 | G34: =3+(108/137) -> 3.7883212 | H34: =E34+F34+G34 -> 8 | J34: =+'ANEXO 1 - COTIZACIONES'!N34 -> 121955.22 | L34: =+'ANEXO 2 - HISTORICO'!O34 -> 109839.95 | N34: =AVERAGE(J34,L34) -> 115897.58 | O34: =N34*19% -> 22020.541 | P34: =+O34+N34 -> 137918.12 | Q34: =+P34*E34*D34 -> 3999625.6 | S34: =N34+(N34*4.4%) -> 120997.08 | T34: =S34*19% -> 22989.445 | U34: =+T34+S34 -> 143986.52 | V34: =+U34*F34*D34 -> 78904614 | X34: =S34+(S34*3%) -> 124626.99 | Y34: =X34*19% -> 23679.128 | Z34: =+Y34+X34 -> 148306.12 | AA34: =+Z34*G34*D34 -> 76970875 | AC34: =+AA34+V34+Q34 -> 1.5987511e+08
A35: 1.5.2 | B35: MMK-AP0097HP-E | C35: BIMENSUAL | D35: 29 | E35: =15/D35 -> 0.51724138 | F35: 4 | G35: =3+(14/29) -> 3.4827586 | H35: =E35+F35+G35 -> 8 | J35: =+'ANEXO 1 - COTIZACIONES'!N35 -> 121955.22 | L35: =+'ANEXO 2 - HISTORICO'!O35 -> 109839.96 | N35: =AVERAGE(J35,L35) -> 115897.59 | O35: =N35*19% -> 22020.542 | P35: =+O35+N35 -> 137918.13 | Q35: =+P35*E35*D35 -> 2068772 | S35: =N35+(N35*4.4%) -> 120997.09 | T35: =S35*19% -> 22989.446 | U35: =+T35+S35 -> 143986.53 | V35: =+U35*F35*D35 -> 16702438 | X35: =S35+(S35*3%) -> 124627 | Y35: =X35*19% -> 23679.13 | Z35: =+Y35+X35 -> 148306.13 | AA35: =+Z35*G35*D35 -> 14978919 | AC35: =+AA35+V35+Q35 -> 33750129
A36: 1.5.3 | B36: MMK-AP0127HP-E | C36: BIMENSUAL | D36: 10 | E36: =10/10 -> 1 | F36: 4 | G36: 3 | H36: =E36+F36+G36 -> 8 | J36: =+'ANEXO 1 - COTIZACIONES'!N36 -> 121955.23 | L36: =+'ANEXO 2 - HISTORICO'!O36 -> 109839.97 | N36: =AVERAGE(J36,L36) -> 115897.6 | O36: =N36*19% -> 22020.544 | P36: =+O36+N36 -> 137918.14 | Q36: =+P36*E36*D36 -> 1379181.4 | S36: =N36+(N36*4.4%) -> 120997.09 | T36: =S36*19% -> 22989.448 | U36: =+T36+S36 -> 143986.54 | V36: =+U36*F36*D36 -> 5759461.6 | X36: =S36+(S36*3%) -> 124627.01 | Y36: =X36*19% -> 23679.131 | Z36: =+Y36+X36 -> 148306.14 | AA36: =+Z36*G36*D36 -> 4449184.1 | AC36: =+AA36+V36+Q36 -> 11587827
A37: 1.5.4 | B37: MMK-AP0153HP-E | C37: BIMENSUAL | D37: 9 | E37: =(1/9) -> 0.11111111 | F37: 4 | G37: =3+(8/9) -> 3.8888889 | H37: =E37+F37+G37 -> 8 | J37: =+'ANEXO 1 - COTIZACIONES'!N37 -> 121955.24 | L37: =+'ANEXO 2 - HISTORICO'!O37 -> 109839.99 | N37: =AVERAGE(J37,L37) -> 115897.61 | O37: =N37*19% -> 22020.547 | P37: =+O37+N37 -> 137918.16 | Q37: =+P37*E37*D37 -> 137918.16 | S37: =N37+(N37*4.4%) -> 120997.11 | T37: =S37*19% -> 22989.451 | U37: =+T37+S37 -> 143986.56 | V37: =+U37*F37*D37 -> 5183516.2 | X37: =S37+(S37*3%) -> 124627.02 | Y37: =X37*19% -> 23679.134 | Z37: =+Y37+X37 -> 148306.16 | AA37: =+Z37*G37*D37 -> 5190715.5 | AC37: =+AA37+V37+Q37 -> 10512150
A38: 1.6 | B38: EQUIPOS VENTILACION
A39: 1.6.1 | B39: UNIDAD EXTRACCION HONGO | C39: BIMENSUAL | D39: 7 | E39: 0 | F39: 4 | G39: =3+(7/7) -> 4 | H39: =E39+F39+G39 -> 8 | J39: =+'ANEXO 1 - COTIZACIONES'!N39 -> 157578.32 | L39: =+'ANEXO 2 - HISTORICO'!O39 -> 151438.18 | N39: =AVERAGE(J39,L39) -> 154508.25 | O39: =N39*19% -> 29356.568 | P39: =+O39+N39 -> 183864.82 | Q39: =+P39*E39*D39 -> 0 | S39: =N39+(N39*4.4%) -> 161306.61 | T39: =S39*19% -> 30648.256 | U39: =+T39+S39 -> 191954.87 | V39: =+U39*F39*D39 -> 5374736.4 | X39: =S39+(S39*3%) -> 166145.81 | Y39: =X39*19% -> 31567.704 | Z39: =+Y39+X39 -> 197713.52 | AA39: =+Z39*G39*D39 -> 5535978.4 | AC39: =+AA39+V39+Q39 -> 10910715
A40: 1.6.2 | B40: UNIDAD EXTRACCION | C40: BIMENSUAL | D40: 4 | E40: 0 | F40: 4 | G40: =3+(4/4) -> 4 | H40: =E40+F40+G40 -> 8 | J40: =+'ANEXO 1 - COTIZACIONES'!N40 -> 135891.37 | L40: =+'ANEXO 2 - HISTORICO'!O40 -> 107694.1 | N40: =AVERAGE(J40,L40) -> 121792.74 | O40: =N40*19% -> 23140.62 | P40: =+O40+N40 -> 144933.36 | Q40: =+P40*E40*D40 -> 0 | S40: =N40+(N40*4.4%) -> 127151.62 | T40: =S40*19% -> 24158.807 | U40: =+T40+S40 -> 151310.42 | V40: =+U40*F40*D40 -> 2420966.8 | X40: =S40+(S40*3%) -> 130966.17 | Y40: =X40*19% -> 24883.571 | Z40: =+Y40+X40 -> 155849.74 | AA40: =+Z40*G40*D40 -> 2493595.8 | AC40: =+AA40+V40+Q40 -> 4914562.6
A41: 1.6.3 | B41: UNIDAD VENTILADOR DIRECCIONADOR | C41: BIMENSUAL | D41: 4 | E41: 0 | F41: 4 | G41: =3+(4/4) -> 4 | H41: =E41+F41+G41 -> 8 | J41: =+'ANEXO 1 - COTIZACIONES'!N41 -> 132050.42 | L41: =+'ANEXO 2 - HISTORICO'!O41 -> 99946.64 | N41: =AVERAGE(J41,L41) -> 115998.53 | O41: =N41*19% -> 22039.721 | P41: =+O41+N41 -> 138038.25 | Q41: =+P41*E41*D41 -> 0 | S41: =N41+(N41*4.4%) -> 121102.47 | T41: =S41*19% -> 23009.468 | U41: =+T41+S41 -> 144111.93 | V41: =+U41*F41*D41 -> 2305790.9 | X41: =S41+(S41*3%) -> 124735.54 | Y41: =X41*19% -> 23699.753 | Z41: =+Y41+X41 -> 148435.29 | AA41: =+Z41*G41*D41 -> 2374964.7 | AC41: =+AA41+V41+Q41 -> 4680755.6
...

Sheet ANEXO 4 - ESTUDIO DEL SECTOR
A1: ANEXO 4 - ESTUDIO DEL SECTOR 2026-2028
C2: OBJETO: Prestar el servicio técnico especializado para el mantenimiento preventivo, predictivo y correctivo con suministro de insumos y bolsa de repuestos de los aires acondicionados VRF y equipos de ventilación, que se encuentran instalados en la sede principal de la Fiscalía General de la Nación en la ciudad de Cúcuta.
A4: NECESIDAD | J4: ESTUDIO DEL SECTOR 2026-2028
A5: MANTENIMIENTOS | J5: VIGENCIA 2026 | O5: VIGENCIA 2027 | T5: VIGENCIA 2028 | Y5: TOTAL VIGENCIA 2026-2028
A6: ITEM | B6: DESCRIPCIÓN DEL SERVICIO | C6: FRECUENCIA DE MANTENIMIENTOS | D6: CANTIDAD DE PLANTAS | E6: MATENIMIENTOS 2026 | F6: MATENIMIENTOS 2027 | G6: MATENIMIENTOS 2028 | H6: TOTAL MANTENIMIENTOS 2026-2028 | J6: VALOR UNITARIO SIN IVA | K6: IVA UNITARIO | L6: VALOR UNITARIO INCLUIDO IVA | M6: VALOR TOTAL INCLUIDO IVA | O6: VALOR UNITARIO SIN IVA | P6: IVA UNITARIO | Q6: VALOR UNITARIO INCLUIDO IVA | R6: VALOR TOTAL INCLUIDO IVA | T6: VALOR UNITARIO SIN IVA | U6: IVA UNITARIO | V6: VALOR UNITARIO INCLUIDO IVA | W6: VALOR TOTAL INCLUIDO IVA | Y6: VALOR TOTAL INCLUIDO IVA
A7: 1 | B7: SISTEMA VRF TOSHIBA
A8: 1.1 | B8: UNIDADES CONDENSADORAS
A9: 1.1.1 | B9: MMY-MAP0966HT6P-UL | C9: BIMENSUAL | D9: 5 | E9: 0 | F9: 4 | G9: =3+(5/5) -> 4 | H9: =+G9+F9+E9 -> 8 | J9: =+'ANEXO 3 - PROY COSTOS'!N9 -> 274017.5 | K9: =J9*19% -> 52063.325 | L9: =+K9+J9 -> 326080.83 | M9: =+L9*E9*D9 -> 0 | O9: =J9+(J9*4.4%) -> 286074.27 | P9: =O9*19% -> 54354.111 | Q9: =+P9+O9 -> 340428.38 | R9: =+Q9*F9*D9 -> 6808567.6 | T9: =O9+(O9*3%) -> 294656.5 | U9: =T9*19% -> 55984.735 | V9: =+U9+T9 -> 350641.23 | W9: =+V9*G9*D9 -> 7012824.7 | Y9: =+W9+R9+M9 -> 13821392
A10: 1.1.2 | B10: MMY-MAP1206HT6P-UL | C10: BIMENSUAL | D10: 10 | E10: =3/10 -> 0.3 | F10: 4 | G10: =3+(7/10) -> 3.7 | H10: =+G10+F10+E10 -> 8 | J10: =+'ANEXO 3 - PROY COSTOS'!N10 -> 274017.52 | K10: =J10*19% -> 52063.329 | L10: =+K10+J10 -> 326080.85 | M10: =+L10*E10*D10 -> 978242.55 | O10: =J10+(J10*4.4%) -> 286074.29 | P10: =O10*19% -> 54354.115 | Q10: =+P10+O10 -> 340428.41 | R10: =+Q10*F10*D10 -> 13617136 | T10: =O10+(O10*3%) -> 294656.52 | U10: =T10*19% -> 55984.739 | V10: =+U10+T10 -> 350641.26 | W10: =+V10*G10*D10 -> 12973727 | Y10: =+W10+R10+M10 -> 27569105
A11: 1.1.3 | B11: MMY-MAP1446HT6P-UL | C11: BIMENSUAL | D11: 18 | E11: =7/18 -> 0.38888889 | F11: 4 | G11: =3+(11/18) -> 3.6111111 | H11: =+G11+F11+E11 -> 8 | J11: =+'ANEXO 3 - PROY COSTOS'!N11 -> 280014.61 | K11: =J11*19% -> 53202.776 | L11: =+K11+J11 -> 333217.39 | M11: =+L11*E11*D11 -> 2332521.7 | O11: =J11+(J11*4.4%) -> 292335.25 | P11: =O11*19% -> 55543.698 | Q11: =+P11+O11 -> 347878.95 | R11: =+Q11*F11*D11 -> 25047284 | T11: =O11+(O11*3%) -> 301105.31 | U11: =T11*19% -> 57210.009 | V11: =+U11+T11 -> 358315.32 | W11: =+V11*G11*D11 -> 23290496 | Y11: =+W11+R11+M11 -> 50670302
A12: 1.1.4 | B12: MMY-MAP1686HT6P-UL | C12: BIMENSUAL | D12: 5 | E12: =3/5 -> 0.6 | F12: 4 | G12: =3+(2/5) -> 3.4 | H12: =+G12+F12+E12 -> 8 | J12: =+'ANEXO 3 - PROY COSTOS'!N12 -> 280014.61 | K12: =J12*19% -> 53202.776 | L12: =+K12+J12 -> 333217.39 | M12: =+L12*E12*D12 -> 999652.16 | O12: =J12+(J12*4.4%) -> 292335.25 | P12: =O12*19% -> 55543.698 | Q12: =+P12+O12 -> 347878.95 | R12: =+Q12*F12*D12 -> 6957579 | T12: =O12+(O12*3%) -> 301105.31 | U12: =T12*19% -> 57210.009 | V12: =+U12+T12 -> 358315.32 | W12: =+V12*G12*D12 -> 6091360.4 | Y12: =+W12+R12+M12 -> 14048592
A13: 1.2 | B13: UNIDAD DOAS
A14: 1.2.1 | B14: DOAS 1 | C14: BIMENSUAL | D14: 1 | E14: =1/1 -> 1 | F14: 4 | G14: 3 | H14: =+G14+F14+E14 -> 8 | J14: =+'ANEXO 3 - PROY COSTOS'!N14 -> 308316.38 | K14: =J14*19% -> 58580.112 | L14: =+K14+J14 -> 366896.49 | M14: =+L14*E14*D14 -> 366896.49 | O14: =J14+(J14*4.4%) -> 321882.3 | P14: =O14*19% -> 61157.637 | Q14: =+P14+O14 -> 383039.94 | R14: =+Q14*F14*D14 -> 1532159.8 | T14: =O14+(O14*3%) -> 331538.77 | U14: =T14*19% -> 62992.366 | V14: =+U14+T14 -> 394531.14 | W14: =+V14*G14*D14 -> 1183593.4 | Y14: =+W14+R14+M14 -> 3082649.7
A15: 1.2.2 | B15: DOAS 2 | C15: BIMENSUAL | D15: 1 | E15: =1/1 -> 1 | F15: 4 | G15: 3 | H15: =+G15+F15+E15 -> 8 | J15: =+'ANEXO 3 - PROY COSTOS'!N15 -> 308316.38 | K15: =J15*19% -> 58580.112 | L15: =+K15+J15 -> 366896.49 | M15: =+L15*E15*D15 -> 366896.49 | O15: =J15+(J15*4.4%) -> 321882.3 | P15: =O15*19% -> 61157.637 | Q15: =+P15+O15 -> 383039.94 | R15: =+Q15*F15*D15 -> 1532159.8 | T15: =O15+(O15*3%) -> 331538.77 | U15: =T15*19% -> 62992.366 | V15: =+U15+T15 -> 394531.14 | W15: =+V15*G15*D15 -> 1183593.4 | Y15: =+W15+R15+M15 -> 3082649.7
A16: 1.2.3 | B16: DOAS 3 | C16: BIMENSUAL | D16: 1 | E16: =1/1 -> 1 | F16: 4 | G16: 3 | H16: =+G16+F16+E16 -> 8 | J16: =+'ANEXO 3 - PROY COSTOS'!N16 -> 308316.38 | K16: =J16*19% -> 58580.112 | L16: =+K16+J16 -> 366896.49 | M16: =+L16*E16*D16 -> 366896.49 | O16: =J16+(J16*4.4%) -> 321882.3 | P16: =O16*19% -> 61157.637 | Q16: =+P16+O16 -> 383039.94 | R16: =+Q16*F16*D16 -> 1532159.8 | T16: =O16+(O16*3%) -> 331538.77 | U16: =T16*19% -> 62992.366 | V16: =+U16+T16 -> 394531.14 | W16: =+V16*G16*D16 -> 1183593.4 | Y16: =+W16+R16+M16 -> 3082649.7
A17: 1.3 | B17: UNIDAD CASSETTE
A18: 1.3.1 | B18: MMU-0094HP1-E | C18: BIMENSUAL | D18: 33 | E18: =13/33 -> 0.39393939 | F18: 4 | G18: =3+(20/33) -> 3.6060606 | H18: =+G18+F18+E18 -> 8 | J18: =+'ANEXO 3 - PROY COSTOS'!N18 -> 165261.64 | K18: =J18*19% -> 31399.712 | L18: =+K18+J18 -> 196661.36 | M18: =+L18*E18*D18 -> 2556597.6 | O18: =J18+(J18*4.4%) -> 172533.16 | P18: =O18*19% -> 32781.3 | Q18: =+P18+O18 -> 205314.46 | R18: =+Q18*F18*D18 -> 27101508 | T18: =O18+(O18*3%) -> 177709.15 | U18: =T18*19% -> 33764.739 | V18: =+U18+T18 -> 211473.89 | W18: =+V18*G18*D18 -> 25165393 | Y18: =+W18+R18+M18 -> 54823499
A19: 1.3.2 | B19: MMU-0124HP1-E | C19: BIMENSUAL | D19: 13 | E19: =4/13 -> 0.30769231 | F19: 4 | G19: =3+(9/13) -> 3.6923077 | H19: =+G19+F19+E19 -> 8 | J19: =+'ANEXO 3 - PROY COSTOS'!N19 -> 165261.64 | K19: =J19*19% -> 31399.712 | L19: =+K19+J19 -> 196661.36 | M19: =+L19*E19*D19 -> 786645.43 | O19: =J19+(J19*4.4%) -> 172533.16 | P19: =O19*19% -> 32781.3 | Q19: =+P19+O19 -> 205314.46 | R19: =+Q19*F19*D19 -> 10676352 | T19: =O19+(O19*3%) -> 177709.15 | U19: =T19*19% -> 33764.739 | V19: =+U19+T19 -> 211473.89 | W19: =+V19*G19*D19 -> 10150747 | Y19: =+W19+R19+M19 -> 21613744
A20: 1.3.3 | B20: MMU-0154HP1-E | C20: BIMENSUAL | D20: 25 | E20: =5/25 -> 0.2 | F20: 4 | G20: =3+(20/25) -> 3.8 | H20: =+G20+F20+E20 -> 8 | J20: =+'ANEXO 3 - PROY COSTOS'!N20 -> 165261.63 | K20: =J20*19% -> 31399.71 | L20: =+K20+J20 -> 196661.34 | M20: =+L20*E20*D20 -> 983306.71 | O20: =J20+(J20*4.4%) -> 172533.14 | P20: =O20*19% -> 32781.297 | Q20: =+P20+O20 -> 205314.44 | R20: =+Q20*F20*D20 -> 20531444 | T20: =O20+(O20*3%) -> 177709.14 | U20: =T20*19% -> 33764.736 | V20: =+U20+T20 -> 211473.87 | W20: =+V20*G20*D20 -> 20090018 | Y20: =+W20+R20+M20 -> 41604769
A21: 1.3.4 | B21: MMU-0184HP1-E | C21: BIMENSUAL | D21: 37 | E21: =11/37 -> 0.2972973 | F21: 4 | G21: =3+(26/37) -> 3.7027027 | H21: =+G21+F21+E21 -> 8 | J21: =+'ANEXO 3 - PROY COSTOS'!N21 -> 168311.16 | K21: =J21*19% -> 31979.12 | L21: =+K21+J21 -> 200290.28 | M21: =+L21*E21*D21 -> 2203193.1 | O21: =J21+(J21*4.4%) -> 175716.85 | P21: =O21*19% -> 33386.202 | Q21: =+P21+O21 -> 209103.05 | R21: =+Q21*F21*D21 -> 30947252 | T21: =O21+(O21*3%) -> 180988.36 | U21: =T21*19% -> 34387.788 | V21: =+U21+T21 -> 215376.14 | W21: =+V21*G21*D21 -> 29506532 | Y21: =+W21+R21+M21 -> 62656977
A22: 1.3.5 | B22: MMU-0244HP1-E | C22: BIMENSUAL | D22: 18 | E22: =5/18 -> 0.27777778 | F22: 4 | G22: =3+(13/18) -> 3.7222222 | H22: =+G22+F22+E22 -> 8 | J22: =+'ANEXO 3 - PROY COSTOS'!N22 -> 168311.15 | K22: =J22*19% -> 31979.119 | L22: =+K22+J22 -> 200290.27 | M22: =+L22*E22*D22 -> 1001451.4 | O22: =J22+(J22*4.4%) -> 175716.84 | P22: =O22*19% -> 33386.2 | Q22: =+P22+O22 -> 209103.04 | R22: =+Q22*F22*D22 -> 15055419 | T22: =O22+(O22*3%) -> 180988.35 | U22: =T22*19% -> 34387.786 | V22: =+U22+T22 -> 215376.13 | W22: =+V22*G22*D22 -> 14430201 | Y22: =+W22+R22+M22 -> 30487071
A23: 1.3.6 | B23: MMU-0274HP1-E | C23: BIMENSUAL | D23: 48 | E23: =30/48 -> 0.625 | F23: 4 | G23: =3+(18/48) -> 3.375 | H23: =+G23+F23+E23 -> 8 | J23: =+'ANEXO 3 - PROY COSTOS'!N23 -> 168311.15 | K23: =J23*19% -> 31979.119 | L23: =+K23+J23 -> 200290.27 | M23: =+L23*E23*D23 -> 6008708.1 | O23: =J23+(J23*4.4%) -> 175716.84 | P23: =O23*19% -> 33386.2 | Q23: =+P23+O23 -> 209103.04 | R23: =+Q23*F23*D23 -> 40147784 | T23: =O23+(O23*3%) -> 180988.35 | U23: =T23*19% -> 34387.786 | V23: =+U23+T23 -> 215376.13 | W23: =+V23*G23*D23 -> 34890934 | Y23: =+W23+R23+M23 -> 81047426
A24: 1.3.7 | B24: MMU-0304HP1-E | C24: BIMENSUAL | D24: 14 | E24: 0 | F24: 4 | G24: =3+(14/14) -> 4 | H24: =+G24+F24+E24 -> 8 | J24: =+'ANEXO 3 - PROY COSTOS'!N24 -> 169746.56 | K24: =J24*19% -> 32251.847 | L24: =+K24+J24 -> 201998.41 | M24: =+L24*E24*D24 -> 0 | O24: =J24+(J24*4.4%) -> 177215.41 | P24: =O24*19% -> 33670.929 | Q24: =+P24+O24 -> 210886.34 | R24: =+Q24*F24*D24 -> 11809635 | T24: =O24+(O24*3%) -> 182531.88 | U24: =T24*19% -> 34681.056 | V24: =+U24+T24 -> 217212.93 | W24: =+V24*G24*D24 -> 12163924 | Y24: =+W24+R24+M24 -> 23973559
A25: 1.3.8 | B25: MMU-0366HP1-E | C25: BIMENSUAL | D25: 3 | E25: 0 | F25: 4 | G25: =3+(3/3) -> 4 | H25: =+G25+F25+E25 -> 8 | J25: =+'ANEXO 3 - PROY COSTOS'!N25 -> 169746.58 | K25: =J25*19% -> 32251.85 | L25: =+K25+J25 -> 201998.43 | M25: =+L25*E25*D25 -> 0 | O25: =J25+(J25*4.4%) -> 177215.43 | P25: =O25*19% -> 33670.932 | Q25: =+P25+O25 -> 210886.36 | R25: =+Q25*F25*D25 -> 2530636.3 | T25: =O25+(O25*3%) -> 182531.89 | U25: =T25*19% -> 34681.06 | V25: =+U25+T25 -> 217212.95 | W25: =+V25*G25*D25 -> 2606555.4 | Y25: =+W25+R25+M25 -> 5137191.8
A26: 1.4 | B26: UNIDAD FANCOIL
A27: 1.4.1 | B27: MMD-AP0156HP1-E | C27: BIMENSUAL | D27: 3 | E27: 0 | F27: 4 | G27: =3+(3/3) -> 4 | H27: =+G27+F27+E27 -> 8 | J27: =+'ANEXO 3 - PROY COSTOS'!N27 -> 190955.79 | K27: =J27*19% -> 36281.601 | L27: =+K27+J27 -> 227237.4 | M27: =+L27*E27*D27 -> 0 | O27: =J27+(J27*4.4%) -> 199357.85 | P27: =O27*19% -> 37877.991 | Q27: =+P27+O27 -> 237235.84 | R27: =+Q27*F27*D27 -> 2846830.1 | T27: =O27+(O27*3%) -> 205338.59 | U27: =T27*19% -> 39014.331 | V27: =+U27+T27 -> 244352.92 | W27: =+V27*G27*D27 -> 2932235 | Y27: =+W27+R27+M27 -> 5779065.1
A28: 1.4.2 | B28: MMD-AP0276HP1-E | C28: BIMENSUAL | D28: 14 | E28: =8/14 -> 0.57142857 | F28: 4 | G28: =3+(6/14) -> 3.4285714 | H28: =+G28+F28+E28 -> 8 | J28: =+'ANEXO 3 - PROY COSTOS'!N28 -> 190955.76 | K28: =J28*19% -> 36281.594 | L28: =+K28+J28 -> 227237.35 | M28: =+L28*E28*D28 -> 1817898.8 | O28: =J28+(J28*4.4%) -> 199357.81 | P28: =O28*19% -> 37877.985 | Q28: =+P28+O28 -> 237235.8 | R28: =+Q28*F28*D28 -> 13285205 | T28: =O28+(O28*3%) -> 205338.55 | U28: =T28*19% -> 39014.324 | V28: =+U28+T28 -> 244352.87 | W28: =+V28*G28*D28 -> 11728938 | Y28: =+W28+R28+M28 -> 26832041
A29: 1.4.3 | B29: MMD-AP0366HP1-E | C29: BIMENSUAL | D29: 8 | E29: =2/D29 -> 0.25 | F29: 4 | G29: =3+(6/8) -> 3.75 | H29: =+G29+F29+E29 -> 8 | J29: =+'ANEXO 3 - PROY COSTOS'!N29 -> 192994.51 | K29: =J29*19% -> 36668.956 | L29: =+K29+J29 -> 229663.46 | M29: =+L29*E29*D29 -> 459326.92 | O29: =J29+(J29*4.4%) -> 201486.26 | P29: =O29*19% -> 38282.39 | Q29: =+P29+O29 -> 239768.65 | R29: =+Q29*F29*D29 -> 7672596.9 | T29: =O29+(O29*3%) -> 207530.85 | U29: =T29*19% -> 39430.862 | V29: =+U29+T29 -> 246961.71 | W29: =+V29*G29*D29 -> 7408851.4 | Y29: =+W29+R29+M29 -> 15540775
A30: 1.4.4 | B30: MMD-AP0486HP1-E | C30: BIMENSUAL | D30: 3 | E30: =3/D30 -> 1 | F30: 4 | G30: 3 | H30: =+G30+F30+E30 -> 8 | J30: =+'ANEXO 3 - PROY COSTOS'!N30 -> 192994.59 | K30: =J30*19% -> 36668.971 | L30: =+K30+J30 -> 229663.56 | M30: =+L30*E30*D30 -> 688990.67 | O30: =J30+(J30*4.4%) -> 201486.35 | P30: =O30*19% -> 38282.406 | Q30: =+P30+O30 -> 239768.75 | R30: =+Q30*F30*D30 -> 2877225 | T30: =O30+(O30*3%) -> 207530.94 | U30: =T30*19% -> 39430.878 | V30: =+U30+T30 -> 246961.82 | W30: =+V30*G30*D30 -> 2222656.3 | Y30: =+W30+R30+M30 -> 5788872
A31: 1.4.5 | B31: MMD-AP0566HP1-E | C31: BIMENSUAL | D31: 4 | E31: 0 | F31: 4 | G31: =(3+(4/4)) -> 4 | H31: =+G31+F31+E31 -> 8 | J31: =+'ANEXO 3 - PROY COSTOS'!N31 -> 192994.56 | K31: =J31*19% -> 36668.966 | L31: =+K31+J31 -> 229663.53 | M31: =+L31*E31*D31 -> 0 | O31: =J31+(J31*4.4%) -> 201486.32 | P31: =O31*19% -> 38282.401 | Q31: =+P31+O31 -> 239768.72 | R31: =+Q31*F31*D31 -> 3836299.5 | T31: =O31+(O31*3%) -> 207530.91 | U31: =T31*19% -> 39430.873 | V31: =+U31+T31 -> 246961.78 | W31: =+V31*G31*D31 -> 3951388.5 | Y31: =+W31+R31+M31 -> 7787688.1
