Workbook

Sheet Solicitud cotizaciones
A1: ANEXO 1
A3: Apreciados Señores: De manera atenta la Fiscalía General de la Nación Nivel Central, requiere cotizar con ustedes lo siguiente:
A5: ITEM | B5: SOLICITUD COTIZACIÓN
A6: 1 | B6: ADVERTENCIA | C6: La cotización solicitada servirá de base para REVALIDAR los precios indicativos del mercado; para compra y por tanto NO CONSTITUYE en sí misma una oferta y consecuentemente NO OBLIGA a las partes.
A7: 2 | B7: OBJETO | C7: OBJETO DEL CONTRATO
A8: 3 | B8: VALIDEZ DE LA COTIZACIÓN | C8: La validez de oferta debe ser mínima de NOVENTA (90) DIAS, especificando si los días de la validez son hábiles o calendario.
A9: 4 | B9: ESPECIFICACIONES TÉCNICAS | C9: VER ARCHIVO ADJUNTO (EN WORD SE ENVIA LA FICHA TECNICA)
A14: 5 | B14: CONDICIONES DE LA COTRATACIÓN | C14: PLAZO DE EJECUCIÓN
C15: FORMA DE PAGO | D15: La Fiscalía General de la Nación cancelará el valor del contrato, mediante pagos parciales por la ejecución de objeto del contrato, dentro de los treinta (30) días calendarios siguientes a la fecha en que el contratista radique la factura comercial, acompañada de la certificación donde conste el cumplimiento del contrato expedida por el supervisor del contrato y de la certificación que acredite el pago por parte del contratista de las obligaciones al sistema general de seguridad social (salud, pensiones y riesgos profesionales) y aportes parafiscales (cajas de compensación familiar, SENA e ICBF).
C16: MECANISMOS DE COBERTURA DE LOS RIESGOS | D16: AMPAROS
A19: 6 | B19: VALOR OFRECIDO | C19: DESCRIPCION DEL OBJETO DEL CONTRATO | E19: VALOR UNITARIO | F19: IVA DE VLR UNI. | G19: VALOR UNI. + IVA
A20: 7 | B20: PLAZO PARA PRESENTAR LA COTIZACIÓN | C20: TRES (3) DIAS HABILES.
A21: NOTA:
A22: Agradecemos su gentil colaboración y estaremos atentos a responder cualquier inquietud al respecto, quedamos atentos al envío de su propuesta por este mismo medio dentro del plazo establecido para su presentación.
A24: Cordial saludo,
A26: NOMBRE
A27: GRUPO DE ANALISIS DEL SECTOR ECONOMICO Y DE OFERENTES
A28: TELEFONO

Sheet GENERAL
A1: No. Estudio | B1: DIA Y MES | C1: valor estudios previos | D1: Dependencia solicitante | E1: Destino | F1: Plazo de Ejecución | G1: No. COTIZACIONES | H1: No. COTIZACIONES LETRAS | I1: EMPRESA 1 | J1: EMPRESA 2 | K1: EMPRESA 3 | L1: EMPRESA 4 | M1: NUMERO DE EMPRESAS SECOP | N1: OBJETO DEL CONTRATO | O1: PROCESO HISTORICO ANALIZADO | P1: OBJETO | Q1: IPC INICIAL | R1: IPC FINAL | S1: OFERTAS DEL HISTORICO | T1: CONTRATISTA HISTORICO | U1: VALOR DEL CONTRATO | V1: TERMINO DE EJECUCION | W1: LINK | X1: MODALIAD DE CONTRATACION | Y1: FECHA DE SUSCRIPCION DEL CONTRATO | Z1: FECHA DE INICIO DEL CONTRATO | AA1: OFERTAS DEL HISTORICO | AB1: V/R ESTUDIO | AC1: BIEN O SERVICIO | AD1: FORMULA UTILIZADA | AF1: CODIGOS CUPS UTILIZADOS | AG1: DESCRIPCION SEGMENTO | AH1: # EMPRESAS POTENCIALES | AI1: # DE EMPRESAS INTERESADAS
A2: 200 | B2: 44764 | C2: =+AB2 -> #REF! | D2: Jefe Departamento de Seguridad y el Director Protección y Asistencia de la Fiscalía General de la Nación | E2: El contrato se ejecutará en los lugares relacionados en las “FICHA TÉCNICA DE BIENES Y SERVICIOS DE CARACTERÍSTICAS TÉCNICAS UNIFORMES Y DE COMÚN UTILIZACIÓN”, de cada una de las Regionales, anexas al presente proceso contractual. | F2: desde el 01 de diciembre de 2020 hasta el 31 de julio de 2022 | I2: COLVISEG | J2: SEGURIDAD HORUS LTDA | K2: COSEQUIN LTDA | N2: PRESTAR LOS SERVICIOS DE VIGILANCIA Y SEGURIDAD PRIVADA FIJA Y MOVIL, CON MEDIOS TECNOLÓGICOS Y PERSONAL UNIFORMADO CON Y SIN ARMAS, PARA LA ADECUADA PROTECCIÓN, CUSTODIA, AMPARO Y SALVAGUARDA DE LAS PERSONAS QUE LABORAN E INGRESAN A LAS INSTALACIONES, Y LOS BIENES MUEBLES E INMUEBLES DEL NIVEL CENTRAL | O2: PROCESO FGN-IPSE-040-2018 NC | P2: PRESTAR LOS SERVICIOS DE VIGILANCIA Y SEGURIDAD PRIVADA FIJA Y MOVIL, CON MEDIOS TECNOLÓGICOS Y PERSONAL UNIFORMADO CON Y SIN ARMAS, PARA LA ADECUADA PROTECCIÓN, CUSTODIA, AMPARO Y SALVAGUARDA DE LAS PERSONAS QUE LABORAN E INGRESAN A LAS INSTALACIONES, Y LOS BIENES MUEBLES E INMUEBLES DE LAS DIFERENTES REGIONALES QUE CONFORMAN LA FISCALIA GENERAL DE LA NACIÓN- GRUPO 9: NIVEL CENTRAL | Q2: 99.7 | R2: 105.36 | T2: SU OPORTUNO SERVICIO LTDA. | U2: 29,379,751,963 | V2: 60 DIAS | W2: https://www.contratos.gov.co/consultas/detalleProceso.do?numConstancia=18-9-449535 | X2: SUBASTA INVERSA | Y2: =+O3 -> 01 de diciembre de 2020 | Z2: 01 DE DICIEMBRE DE 2018 | AB2: =#REF! -> #REF! | AC2: BIENES | AD2: PARA CALCULAR EL VALOR QUE CORRESPONDE AL FACTOR HUMANO SE EMPLEARON LOS VALORES ESTABLECIDOS POR LA SUPERINTENDENCIA DE VIGILANCIA Y SEGURIDAD PARA EL AÑO 2020 SEGÚN CIRCULAR EXTERNA Nº 20201300000015 Y PARA EL FACTOR TECNOLOGICO SE EMPLEARON LOS VALORES DE REFERENCIA. | AE2: IVA INCLUIDO Y TODOS LOS COSTOS DIRECTOS E INDIRECTOS
O3: 01 de diciembre de 2020

Sheet Anexo 1
B1: ANEXO 1
B4: LISTADO DE POSIBLES PROVEEDORES
B5: No. | C5: Nombre Empresa | D5: Telefono Fijo y/o celular | E5: Correo electronico
B6: 1 | C6: =+GENERAL!K2 -> COSEQUIN LTDA | D6: 4343584 | E6: auxiliarcomercial.cosequin@gmail.com
B7: 2 | C7: =+GENERAL!J2 -> SEGURIDAD HORUS LTDA | D7: 6311500 | E7: comercial2@horusseguridad.com
B8: 3 | C8: =+GENERAL!I2 -> COLVISEG | D8: 5189191 | E8: dircomercial@colviseg.com

Sheet Anexo 2
A1: ANEXO 2
A3: EXPERIENCIA EN CONTRATACIÓN EN LOS ÚLTIMOS AÑOS
A5: Con el fin de conocer la experiencia con la que cuentan las empresas del sector relacionadas con el objeto del presente estudio de mercado, agradecemos diligenciar el cuadro relacionado a continuación con base en los contratos suscritos en los ultimos 5 años
A6: EMPRESA | B6: OBJETO DEL CONTRATO | C6: FECHA DE SUSCRIPCIÓN | D6: % DE PARTICIPACIÓN | E6: VALOR TOTAL EJECUTADO DEL CONTRATO DE ACUERDO AL % DE PARTICIPACIÓN
A7: =+GENERAL!K2 -> COSEQUIN LTDA
A8: NO SE EVIDENCIAN PROCESOS DE CONTRATACION PUBLICA ADELANTADOS POR ESTE OFERENTE
A9: =+GENERAL!J2 -> SEGURIDAD HORUS LTDA
A10: NO SE EVIDENCIAN PROCESOS DE CONTRATACION PUBLICA ADELANTADOS POR ESTE OFERENTE
A11: =+'Anexo 1'!C8 -> COLVISEG
A12: NO SE EVIDENCIAN PROCESOS DE CONTRATACION PUBLICA ADELANTADOS POR ESTE OFERENTE

Sheet DISTRIBUCION MEDIO HUMANO
B1: =SUM('[1]VALORES 2024-2025 6 MESES 14 DI'!B2) -> 0
B2: PRESTAR LOS SERVICIOS DE VIGILANCIA Y SEGURIDAD PRIVADA, FIJA Y MÓVIL, MEDIANTE EL USO DE MEDIOS TECNOLÓGICOS Y PERSONAL UNIFORMADO, CON Y SIN ARMAS, CON EL FIN DE GARANTIZAR LA PROTECCIÓN, CUSTODIA, AMPARO Y SALVAGUARDA DE LAS PERSONAS QUE LABORAN E INGRESAN A LAS INSTALACIONES, AL IGUAL QUE DE LOS BIENES MUEBLES E INMUEBLES DE LA FISCALÍA GENERAL DE LA NACIÓN Y DEL FONDO ESPECIAL PARA LA ADMINISTRACIÓN DE BIENES (FEAB), EN LA REGIONAL NORORIENTAL, CONFORMADA POR LAS SECCIONALES: I) SANTANDER, II) NORTE DE SANTANDER, III) ARAUCA.
A4: FACTOR HUMANO FGN
B6: MODALIDAD DE SERVICIO FGN | C6: CANTIDAD SANTANDER | D6: CANTIDAD NORTE DE SANTANDER | E6: CANTIDAD ARAUCA | F6: TOTAL REGIONAL NORORIENTAL | G6: VALOR SERVICIO | H6: VALOR MENSUAL
A7: 1 | B7: 24 HRS CON ARMA DOMINGO A DOMINGO | C7: 30 | D7: 13 | E7: 8 | F7: =SUM(C7:E7) -> 51 | G7: 20039719 | H7: =SUM(F7*G7) -> 1.0220257e+09
A8: 2 | B8: 12 HRS NOCTURNO CON ARMA LUNES A VIERNES SIN FESTIVO | C8: 1 | D8: 0 | E8: 0 | F8: =SUM(C8:E8) -> 1 | G8: 7490950 | H8: =SUM(F8*G8)+21845 -> 7512795
A9: 3 | B9: 12 HRS DIURNO CON ARMA LUNES A VIERNES CON FESTIVOS | C9: 2 | D9: 4 | E9: 0 | F9: =SUM(C9:E9) -> 6 | G9: 6455749 | H9: =SUM(F9*G9) -> 38734494
A10: 4 | B10: 12 HRS DIURNO CON ARMA LUNES A VIERNES SIN FESTIVOS | C10: 13 | D10: 4 | E10: 0 | F10: =SUM(C10:E10) -> 17 | G10: 5868863 | H10: =SUM(F10*G10) -> 99770671
A11: 5 | B11: 12 HRS DIURNO SIN ARMA LUNES A VIERNES SIN FESTIVOS | C11: 6 | D11: 3 | E11: 1 | F11: =SUM(C11:E11) -> 10 | G11: 5762156.5 | H11: =SUM(F11*G11) -> 57621565
A12: 6 | B12: 12 HRS DIURNO CON ARMA DOMIGO A DOMINGO | C12: 0 | D12: 0 | E12: 2 | F12: =SUM(C12:E12) -> 2 | G12: 8803295 | H12: =SUM(F12*G12) -> 17606590
A13: 7 | B13: 24 HRS SIN ARMA DOMINGO A DOMINGO | C13: 0 | D13: 0 | E13: 1 | F13: =SUM(C13:E13) -> 1 | G13: 19675361 | H13: =SUM(F13*G13) -> 19675361
A14: TOTAL | C14: =SUM(C7:C13) -> 52 | D14: =SUM(D7:D13) -> 24 | E14: =SUM(E7:E13) -> 12 | F14: =SUM(F7:F13) -> 88 | H14: =SUM(H7:H13) -> 1.2629472e+09
B16: MODALIDAD DE SERVICIO -FEAB | C16: CANTIDAD SANTANDER | D16: CANTIDAD NORTE DE SANTANDER | E16: CANTIDAD ARAUCA | F16: TOTAL REGIONAL NORORIENTAL | G16: VALOR SERVICIO | H16: VALOR MENSUAL
A17: 1 | B17: 24 HRS CON ARMA DOMINGO A DOMINGO | C17: 2 | D17: 4 | E17: 3 | F17: =SUM(C17:E17) -> 9 | G17: 20039719 | H17: =SUM(F17*G17) -> 1.8035747e+08
A18: 2 | B18: 12 HRS NOCTURNO CON ARMA LUNES A VIERNES CON FESTIVOS | C18: 1 | D18: 0 | E18: 0 | F18: =SUM(C18:E18) -> 1 | G18: =8240045.49+4548.49 -> 8244594 | H18: =SUM(F18*G18) -> 8244594
A19: TOTAL | C19: =SUM(C17:C18) -> 3 | D19: =SUM(D17:D18) -> 4 | E19: =SUM(E17:E18) -> 3 | F19: =SUM(F17:F18) -> 10 | H19: =SUM(H17:H18) -> 1.8860207e+08
C26: Fecha de elaboración: | D26: 46302
C27: Estudio del Sector No. | D27: 45

Sheet ANEXO 1. VALOR 2026 (1 MES)
A1: ANEXO 1 - FACTOR HUMANO - VIGENCIA 2026 (1 MES)
B3: PRESTAR LOS SERVICIOS DE VIGILANCIA Y SEGURIDAD PRIVADA, FIJA Y MÓVIL, MEDIANTE EL USO DE MEDIOS TECNOLÓGICOS Y PERSONAL UNIFORMADO, CON Y SIN ARMAS, CON EL FIN DE GARANTIZAR LA PROTECCIÓN, CUSTODIA, AMPARO Y SALVAGUARDA DE LAS PERSONAS QUE LABORAN E INGRESAN A LAS INSTALACIONES, AL IGUAL QUE DE LOS BIENES MUEBLES E INMUEBLES DE LA FISCALÍA GENERAL DE LA NACIÓN Y DEL FONDO ESPECIAL PARA LA ADMINISTRACIÓN DE BIENES (FEAB), EN LA REGIONAL NORORIENTAL, CONFORMADA POR LAS SECCIONALES: I) SANTANDER, II) NORTE DE SANTANDER, III) ARAUCA.
A4: VARIABLES ESTABLECIDAS POR LA SUPERINTENDENCIA DE VIGILANCIA Y SEGURIDAD PARA EL AÑO 2026 SEGÚN CIRCULAR EXTERNA Nº 202513000001105CS DEL 30 DE DICIEMBRE DE 2025
A5: SALARIO MINIMO 2026 | D5: 1750905
A6: TARIFA MINIMA SECTOR PUBLICO | D6: 10.21
A7: VALOR TARIFA MINIMA SECTOR PUBLICO | D7: =ROUND(D5*D6,2) -> 17876740
A8: VALOR PRIMA SEGURO DE VIDA | D8: 1500
A9: VALOR TARIFA MÍNIMA MAS PRIMA SEGURO DE VIDA | D9: =D7+D8 -> 17878240
A11: MODALIDAD DE MEDIO, TARIFA, PORCENTAJE ADMINISTRACION Y SUPERVISION.
A12: MODALIDAD MEDIO | B12: TARIFA | C12: PORCENTAJE A Y S | D12: VALOR A Y S | E12: TARIFA + A Y S
A13: 24 HORAS 30 DIAS AL MES MEDIO HUMANO SIN ARMA | B13: =D9 -> 17878240 | C13: 0.08 | D13: =ROUND(B13*C13,2) -> 1430259.2 | E13: =ROUND(B13+D13,2) -> 19308499
A14: 24 HORAS 30 DIAS AL MES MEDIO HUMANO CON ARMA | B14: =D9 -> 17878240 | C14: 0.1 | D14: =ROUND(B14*C14,2) -> 1787824 | E14: =ROUND(B14+D14,2) -> 19666064
A19: DIAS A TENER EN CUENTA PARA EL COBRO DE LAS TARIFAS MINIMAS EN LA PRESTACION DE LOS SERVICIOS DE VIGILANCIA Y SEGURIDAD PRIVADA PARA 2026
A20: LUNES A VIERNES SIN FESTIVOS | D20: 20
A21: LUNES A VIERNES CON FESTIVOS | D21: 22
A22: LUNES A SABADO SIN FESTIVOS | D22: 24
A23: LUNES A SABADO CON FESTIVOS | D23: 26
A24: FESTIVOS | D24: 2
A25: SABADOS Y DOMINGOS | D25: 8
A26: SABADOS, DOMINGOS Y FESTIVOS | D26: 10
A29: VARIABLE DE PROPORCIONALIDAD SOBRE EL VALOR DEL SERVICIO ESTABLECIDO PARA UN SERVICIO DE VEINTICUATRO (24) HORAS Y TREINTA (30) DÍAS AL MES Y EN LOS TÉRMINOS DE LA JORNADA LABORAL VIGENTE.
A30: JORNADA LABORAL | C30: VARIABLE DE PROPORCIONALIDAD
A31: 6:00:00 a. m. a 7:00 p.m. (Turno de 13 horas Diurnas) | C31: 0.4759
A33: 7:00 a 6:00 a.m. (Turno de 11 horas Nocturnas) | C33: 0.5241
A35: b. Tomar el valor resultante de la aplicación de la variable de proporcionalidad anteriormente establecida, dividirlo por treinta (30) días y multiplicarlo por el número de días en que se prestará el servicio, luego dividirlo por la jornada laboral y el resultado multiplicarlo por las horas requeridas del servicio.
A36: Lo anterior, corresponde a la aplicación de la siguiente fórmula matemática: (SMLMV x TARIFA DE SERVICIOS) x VARIABLE PROPORCIONALIDAD) /30) x DÍAS QUE SE REQUIERE EL SERVICIO) /JORNADA LABORAL) x HORAS REQUERIDAS DEL SERVICIO.
A39: NECESIDAD FGN ( VALORES UNITARIOS MES) | K39: VALIDACION TOTAL DE CIFRAS
A40: MODALIDAD /MEDIO | B40: JORNADA LABORAL | C40: DIAS AL MES SEGÚN CIRCULAR DE SUPERVIGILANCIA | D40: VALOR MES | E40: % ADMINISTRACION Y SUPERVISION | G40: VALOR MES ADMINISTRACION Y SUPERVISION | H40: VALOR MES INCLUIDO ADMINISTRACION Y SUPERVISION | I40: IVA | J40: VALOR MES INCLUIDO AYS E IVA | K40: CONSOLIDADO PUESTOS | L40: VALOR 2026 1 MES
A41: 24 HRS CON ARMA | B41: DOMINGO A DOMINGO | C41: 30 | D41: =+B13 -> 17878240 | E41: 0.1 | G41: =ROUND(D41*E41,2) -> 1787824 | H41: =ROUND(D41+G41,2) -> 19666064 | I41: =ROUND(H41*10%*19%,2) -> 373655.22 | J41: =ROUND(H41+I41,2) -> 20039719 | K41: 51 | L41: =ROUND(K41*J41,2)*1+10 -> 1.0220257e+09
A42: 24 HRS SIN ARMA | B42: DOMINGO A DOMINGO | C42: 30 | D42: =+B13 -> 17878240 | E42: 0.08 | G42: =ROUND(D42*E42,2) -> 1430259.2 | H42: =ROUND(D42+G42,2) -> 19308499 | I42: =ROUND(H42*10%*19%,2) -> 366861.49 | J42: =ROUND(H42+I42,2) -> 19675361 | K42: 1 | L42: =ROUND(K42*J42,2)*1 -> 19675361
A43: 12 HRS DIURNO CON ARMA | B43: LUNES A VIERNES SIN FESTIVOS | C43: 20 | D43: =ROUND($D$9*$C$31/30*C43/13*12,0) -> 5235849 | E43: 0.1 | G43: =ROUND(D43*E43,2) -> 523584.9 | H43: =ROUND(D43+G43,2) -> 5759433.9 | I43: =ROUND(H43*10%*19%,2) -> 109429.24 | J43: =ROUND(H43+I43,2) -> 5868863.1 | K43: 17 | L43: =ROUND(K43*J43,2)*1-2 -> 99770671
A44: 12 HRS DIURNO SIN ARMA | B44: LUNES A VIERNES SIN FESTIVOS | C44: 20 | D44: =ROUND($D$9*$C$31/30*C44/13*12,0) -> 5235849 | E44: 0.08 | G44: =ROUND(D44*E44,2) -> 418867.92 | H44: =ROUND(D44+G44,2) -> 5654716.9 | I44: =ROUND(H44*10%*19%,2) -> 107439.62 | J44: =ROUND(H44+I44,2) -> 5762156.5 | K44: 10 | L44: =ROUND(K44*J44,2)*1 -> 57621565
A45: 12 HRS DIURNO CON ARMA | B45: LUNES A VIERNES CON FESTIVOS | C45: 22 | D45: =ROUND($D$9*$C$31/30*C45/13*12,0) -> 5759434 | E45: 0.1 | G45: =ROUND(D45*E45,2) -> 575943.4 | H45: =ROUND(D45+G45,2) -> 6335377.4 | I45: =ROUND(H45*10%*19%,2) -> 120372.17 | J45: =ROUND(H45+I45,2) -> 6455749.6 | K45: 6 | L45: =ROUND(K45*J45,2)*1-3 -> 38734494
A46: 12 HRS DIURNO CON ARMA | B46: DOMIGO A DOMINGO | C46: 30 | D46: =ROUND($D$9*$C$31/30*C46/13*12,0) -> 7853773 | E46: 0.1 | G46: =ROUND(D46*E46,2) -> 785377.3 | H46: =ROUND(D46+G46,2) -> 8639150.3 | I46: =ROUND(H46*10%*19%,2) -> 164143.86 | J46: =ROUND(H46+I46,2) -> 8803294.2 | K46: 2 | L46: =ROUND(K46*J46,2)*1+3 -> 17606591
A47: 12 HRS NOCTURNO CON ARMA | B47: LUNES A VIERNES SIN FESTIVOS | C47: 20 | D47: 6702466.5 | E47: 0.1 | G47: =ROUND(D47*E47,2) -> 670246.65 | H47: =ROUND(D47+G47,2) -> 7372713.2 | I47: =ROUND(H47*10%*19%,2) -> 140081.55 | J47: =ROUND(H47+I47,2) -> 7512794.7 | K47: 1 | L47: =ROUND(K47*J47,2)*1 -> 7512794.7
K48: =SUM(K41:K47) -> 88 | L48: =SUM(L41:L47) -> 1.2629472e+09
A50: NECESIDAD FEAB ( VALORES UNITARIOS MES) | K50: VALIDACION TOTAL DE CIFRAS
A51: MODALIDAD /MEDIO | B51: JORNADA LABORAL | C51: DIAS AL MES SEGÚN CIRCULAR DE SUPERVIGILANCIA | D51: VALOR MES | E51: % ADMINISTRACION Y SUPERVISION | G51: VALOR MES ADMINISTRACION Y SUPERVISION | H51: VALOR MES INCLUIDO ADMINISTRACION Y SUPERVISION | I51: IVA | J51: VALOR MES INCLUIDO AYS E IVA | K51: CONSOLIDADO PUESTOS | L51: VALOR 2026 1 MES
A52: 24 HRS CON ARMA | B52: DOMINGO A DOMINGO | C52: 30 | D52: =+D9 -> 17878240 | E52: 0.1 | G52: =ROUND(D52*E52,2) -> 1787824 | H52: =ROUND(D52+G52,2) -> 19666064 | I52: =ROUND(H52*10%*19%,2) -> 373655.22 | J52: =ROUND(H52+I52,2) -> 20039719 | K52: 9 | L52: =ROUND(K52*J52,2)*1+1 -> 1.8035747e+08
A53: 12 HRS NOCTURNO CON ARMA | B53: LUNES A VIERNES CON FESTIVOS | C53: 30 | D53: 7355333.6 | E53: 0.1 | G53: =ROUND(D53*E53,2) -> 735533.36 | H53: =ROUND(D53+G53,2) -> 8090867 | I53: =ROUND(H53*10%*19%,2) -> 153726.47 | J53: =ROUND(H53+I53,2) -> 8244593.5 | K53: 1 | L53: =ROUND(K53*J53,2)*1 -> 8244593.5
...

Sheet ANEXO 1.1.VALOR 2027 (I SEMES)
A1: ANEXO 1.1. - FACTOR HUMANO - VIGENCIA 2027 (6 MESES) (1 DE ENERO A 30 DE JUNIO DE 2027)
B3: PRESTAR LOS SERVICIOS DE VIGILANCIA Y SEGURIDAD PRIVADA, FIJA Y MÓVIL, MEDIANTE EL USO DE MEDIOS TECNOLÓGICOS Y PERSONAL UNIFORMADO, CON Y SIN ARMAS, CON EL FIN DE GARANTIZAR LA PROTECCIÓN, CUSTODIA, AMPARO Y SALVAGUARDA DE LAS PERSONAS QUE LABORAN E INGRESAN A LAS INSTALACIONES, AL IGUAL QUE DE LOS BIENES MUEBLES E INMUEBLES DE LA FISCALÍA GENERAL DE LA NACIÓN Y DEL FONDO ESPECIAL PARA LA ADMINISTRACIÓN DE BIENES (FEAB), EN LA REGIONAL NORORIENTAL, CONFORMADA POR LAS SECCIONALES: I) SANTANDER, II) NORTE DE SANTANDER, III) ARAUCA.
A4: VARIABLES ESTABLECIDAS POR LA SUPERINTENDENCIA DE VIGILANCIA Y SEGURIDAD PARA EL AÑO 2026 SEGÚN CIRCULAR EXTERNA Nº 202513000001105CS DEL 30 DE DICIEMBRE DE 2025
A5: SALARIO MINIMO 2026 | D5: =(1750905+(1750905*4.4%)) -> 1827944.8
A6: TARIFA MINIMA SECTOR PUBLICO | D6: 10.21 | F6: (Enero 1 a Junio 30)
A7: VALOR TARIFA MINIMA SECTOR PUBLICO | D7: =ROUND(D5*D6,2) -> 18663317
A8: VALOR PRIMA SEGURO DE VIDA | D8: 1500
A9: VALOR TARIFA MÍNIMA MAS PRIMA SEGURO DE VIDA | D9: =D7+D8 -> 18664817
A12: MODALIDAD DE MEDIO, TARIFA, PORCENTAJE ADMINISTRACION Y SUPERVISION.
A13: MODALIDAD MEDIO | B13: TARIFA | C13: PORCENTAJE A Y S | D13: VALOR A Y S | E13: TARIFA + A Y S
A14: 24 HORAS 30 DIAS AL MES MEDIO HUMANO SIN ARMA | B14: =$D$9 -> 18664817 | C14: 0.08 | D14: =ROUND(B14*C14,2) -> 1493185.3 | E14: =ROUND(B14+D14,2) -> 20158002
A15: 24 HORAS 30 DIAS AL MES MEDIO HUMANO CON ARMA | B15: =$D$9 -> 18664817 | C15: 0.1 | D15: =ROUND(B15*C15,2) -> 1866481.7 | E15: =ROUND(B15+D15,2) -> 20531298
A18: DIAS A TENER EN CUENTA PARA EL COBRO DE LAS TARIFAS MINIMAS EN LA PRESTACION DE LOS SERVICIOS DE VIGILANCIA Y SEGURIDAD PRIVADA PARA 2027
A19: LUNES A VIERNES SIN FESTIVOS | D19: 20
A20: LUNES A VIERNES CON FESTIVOS | D20: 22
A21: LUNES A SABADO SIN FESTIVOS | D21: 24
A22: LUNES A SABADO CON FESTIVOS | D22: 26
A23: FESTIVOS | D23: 2
A24: SABADOS Y DOMINGOS | D24: 8
A25: SABADOS, DOMINGOS Y FESTIVOS | D25: 10
A28: VARIABLE DE PROPORCIONALIDAD SOBRE EL VALOR DEL SERVICIO ESTABLECIDO PARA UN SERVICIO DE VEINTICUATRO (24) HORAS Y TREINTA (30) DÍAS AL MES Y EN LOS TÉRMINOS DE LA JORNADA LABORAL VIGENTE.
A29: JORNADA LABORAL | C29: VARIABLE DE PROPORCIONALIDAD
A30: 6:00:00 a. m. a 7:00 p.m. (Turno de 13 horas Diurnas) | C30: 0.4759
A32: 7:00 a 6:00 a.m. (Turno de 11 horas Nocturnas) | C32: 0.5241
A34: b. Tomar el valor resultante de la aplicación de la variable de proporcionalidad anteriormente establecida, dividirlo por treinta (30) días y multiplicarlo por el número de días en que se prestará el servicio, luego dividirlo por la jornada laboral y el resultado multiplicarlo por las horas requeridas del servicio.
A35: Lo anterior, corresponde a la aplicación de la siguiente fórmula matemática: (SMLMV x TARIFA DE SERVICIOS) x VARIABLE PROPORCIONALIDAD) /30) x DÍAS QUE SE REQUIERE EL SERVICIO) /JORNADA LABORAL) x HORAS REQUERIDAS DEL SERVICIO.
A38: NECESIDAD DE LA ENTIDAD ( VALORES UNITARIOS MES) | K38: VALIDACION TOTAL DE CIFRAS
A39: MODALIDAD /MEDIO | B39: JORNADA LABORAL | C39: DIAS AL MES SEGÚN CIRCULAR DE SUPERVIGILANCIA | D39: VALOR MES | E39: % ADMINISTRACION Y SUPERVISION | G39: VALOR MES ADMINISTRACION Y SUPERVISION | H39: VALOR MES INCLUIDO ADMINISTRACION Y SUPERVISION | I39: IVA | J39: VALOR MES INCLUIDO AYS E IVA | K39: CONSOLIDADO PUESTOS | L39: VALOR 2027 6 MESES (Enero 1 a junio 30)
A40: 24 HRS CON ARMA | B40: DOMINGO A DOMINGO | C40: 30 | D40: =+B14 -> 18664817 | E40: 0.1 | G40: =ROUND(D40*E40,2) -> 1866481.7 | H40: =ROUND(D40+G40,2) -> 20531298 | I40: =ROUND(H40*10%*19%,2) -> 390094.67 | J40: =ROUND(H40+I40,2) -> 20921393 | K40: 51 | L40: =ROUND(((K40*J40)*6),2) -> 6.4019462e+09
A41: 24 HRS SIN ARMA | B41: DOMINGO A DOMINGO | C41: 30 | D41: =+B14 -> 18664817 | E41: 0.08 | G41: =ROUND(D41*E41,2) -> 1493185.3 | H41: =ROUND(D41+G41,2) -> 20158002 | I41: =ROUND(H41*10%*19%,2) -> 383002.04 | J41: =ROUND(H41+I41,2) -> 20541004 | K41: 1 | L41: =ROUND(((K41*J41)*6),2) -> 1.2324602e+08
A42: 12 HRS DIURNO CON ARMA | B42: LUNES A VIERNES SIN FESTIVOS | C42: 20 | D42: =ROUND($D$9*$C$30/30*C42/13*12,2) -> 5466206.9 | E42: 0.1 | G42: =ROUND(D42*E42,2) -> 546620.69 | H42: =ROUND(D42+G42,2) -> 6012827.6 | I42: =ROUND(H42*10%*19%,2) -> 114243.72 | J42: =ROUND(H42+I42,2) -> 6127071.3 | K42: 17 | L42: =ROUND(((K42*J42)*6),2) -> 6.2496127e+08
A43: 12 HRS DIURNO SIN ARMA | B43: LUNES A VIERNES SIN FESTIVOS | C43: 20 | D43: =ROUND($D$9*$C$30/30*C43/13*12,2) -> 5466206.9 | E43: 0.08 | G43: =ROUND(D43*E43,2) -> 437296.55 | H43: =ROUND(D43+G43,2) -> 5903503.5 | I43: =ROUND(H43*10%*19%,2) -> 112166.57 | J43: =ROUND(H43+I43,2) -> 6015670 | K43: 10 | L43: =ROUND(((K43*J43)*6),2) -> 3.609402e+08
A44: 12 HRS DIURNO CON ARMA | B44: LUNES A VIERNES CON FESTIVOS | C44: 22 | D44: =ROUND($D$9*$C$30/30*C44/13*12,0) -> 6012828 | E44: 0.1 | G44: =ROUND(D44*E44,2) -> 601282.8 | H44: =ROUND(D44+G44,2) -> 6614110.8 | I44: =ROUND(H44*10%*19%,2) -> 125668.11 | J44: =ROUND(H44+I44,2) -> 6739778.9 | K44: 6 | L44: =ROUND(((K44*J44)*6),2) -> 2.4263204e+08
A45: 12 HRS DIURNO CON ARMA | B45: DOMIGO A DOMINGO | C45: 30 | D45: =ROUND($D$9*$C$30/30*C45/13*12,0) -> 8199310 | E45: 0.1 | G45: =ROUND(D45*E45,2) -> 819931 | H45: =ROUND(D45+G45,2) -> 9019241 | I45: =ROUND(H45*10%*19%,2) -> 171365.58 | J45: =ROUND(H45+I45,2) -> 9190606.6 | K45: 2 | L45: =ROUND(((K45*J45)*6),2) -> 1.1028728e+08
A46: 12 HRS NOCTURNO CON ARMA | B46: LUNES A VIERNES SIN FESTIVOS | C46: 20 | D46: =6702466.5*1.044 -> 6997375 | E46: 0.1 | G46: =ROUND(D46*E46,2) -> 699737.5 | H46: =ROUND(D46+G46,2) -> 7697112.5 | I46: =ROUND(H46*10%*19%,2) -> 146245.14 | J46: =ROUND(H46+I46,2) -> 7843357.7 | K46: 1 | L46: =ROUND(((K46*J46)*6),2) -> 47060146
K47: =SUM(K40:K46) -> 88 | L47: =ROUND(SUM(L40:L46),2) -> 7.9110732e+09
A49: NECESIDAD FEAB ( VALORES UNITARIOS MES) | K49: VALIDACION TOTAL DE CIFRAS
A50: MODALIDAD /MEDIO | B50: JORNADA LABORAL | C50: DIAS AL MES SEGÚN CIRCULAR DE SUPERVIGILANCIA | D50: VALOR MES | E50: % ADMINISTRACION Y SUPERVISION | G50: VALOR MES ADMINISTRACION Y SUPERVISION | H50: VALOR MES INCLUIDO ADMINISTRACION Y SUPERVISION | I50: IVA | J50: VALOR MES INCLUIDO AYS E IVA | K50: CONSOLIDADO PUESTOS | L50: VALOR 2027 6 MESES (Enero 1 a junio 30)
A51: 24 HRS CON ARMA | B51: DOMINGO A DOMINGO | C51: 30 | D51: =+B14 -> 18664817 | E51: 0.1 | G51: =ROUND(D51*E51,2) -> 1866481.7 | H51: =ROUND(D51+G51,2) -> 20531298 | I51: =ROUND(H51*10%*19%,2) -> 390094.67 | J51: =ROUND(H51+I51,2) -> 20921393 | K51: 9 | L51: =ROUND(K51*J51,2)*6 -> 1.1297552e+09
A52: 12 HRS NOCTURNO CON ARMA | B52: LUNES A VIERNES CON FESTIVOS | C52: 30 | D52: =7355333.8*1.044 -> 7678968.5 | E52: 0.1 | G52: =ROUND(D52*E52,2) -> 767896.85 | H52: =ROUND(D52+G52,2) -> 8446865.3 | I52: =ROUND(H52*10%*19%,2) -> 160490.44 | J52: =ROUND(H52+I52,2) -> 8607355.8 | K52: 1 | L52: =ROUND(K52*J52,2)*6 -> 51644135
...

Sheet ANEXO 1.1.VALOR 2027 (II SEMES)
A1: ANEXO 1.1. - FACTOR HUMANO - VIGENCIA 2027 (6 MESES) (1 DE JULIO AL 31 DE DICIEMBRE DE 2027)
B3: PRESTAR LOS SERVICIOS DE VIGILANCIA Y SEGURIDAD PRIVADA, FIJA Y MÓVIL, MEDIANTE EL USO DE MEDIOS TECNOLÓGICOS Y PERSONAL UNIFORMADO, CON Y SIN ARMAS, CON EL FIN DE GARANTIZAR LA PROTECCIÓN, CUSTODIA, AMPARO Y SALVAGUARDA DE LAS PERSONAS QUE LABORAN E INGRESAN A LAS INSTALACIONES, AL IGUAL QUE DE LOS BIENES MUEBLES E INMUEBLES DE LA FISCALÍA GENERAL DE LA NACIÓN Y DEL FONDO ESPECIAL PARA LA ADMINISTRACIÓN DE BIENES (FEAB), EN LA REGIONAL NORORIENTAL, CONFORMADA POR LAS SECCIONALES: I) SANTANDER, II) NORTE DE SANTANDER, III) ARAUCA.
A4: VARIABLES ESTABLECIDAS POR LA SUPERINTENDENCIA DE VIGILANCIA Y SEGURIDAD PARA EL AÑO 2026 SEGÚN CIRCULAR EXTERNA Nº 202513000001105CS DEL 30 DE DICIEMBRE DE 2025
A5: SALARIO MINIMO 2026 | D5: =(1750905+(1750905*4.4%)) -> 1827944.8
A6: TARIFA MINIMA SECTOR PUBLICO | D6: 10.38 | F6: (Julio 1 a Diciembre 31 de 2027)
A7: VALOR TARIFA MINIMA SECTOR PUBLICO | D7: =ROUND(D5*D6,2) -> 18974067
A8: VALOR PRIMA SEGURO DE VIDA | D8: 1500
A9: VALOR TARIFA MÍNIMA MAS PRIMA SEGURO DE VIDA | D9: =D7+D8 -> 18975567
A12: MODALIDAD DE MEDIO, TARIFA, PORCENTAJE ADMINISTRACION Y SUPERVISION.
A13: MODALIDAD MEDIO | B13: TARIFA | C13: PORCENTAJE A Y S | D13: VALOR A Y S | E13: TARIFA + A Y S
A14: 24 HORAS 30 DIAS AL MES MEDIO HUMANO SIN ARMA | B14: =$D$9 -> 18975567 | C14: 0.08 | D14: =ROUND(B14*C14,2) -> 1518045.4 | E14: =ROUND(B14+D14,2) -> 20493613
A15: 24 HORAS 30 DIAS AL MES MEDIO HUMANO CON ARMA | B15: =$D$9 -> 18975567 | C15: 0.1 | D15: =ROUND(B15*C15,2) -> 1897556.7 | E15: =ROUND(B15+D15,2) -> 20873124
A18: DIAS A TENER EN CUENTA PARA EL COBRO DE LAS TARIFAS MINIMAS EN LA PRESTACION DE LOS SERVICIOS DE VIGILANCIA Y SEGURIDAD PRIVADA PARA 2027
A19: LUNES A VIERNES SIN FESTIVOS | D19: 20
A20: LUNES A VIERNES CON FESTIVOS | D20: 22
A21: LUNES A SABADO SIN FESTIVOS | D21: 24
A22: LUNES A SABADO CON FESTIVOS | D22: 26
A23: FESTIVOS | D23: 2
A24: SABADOS Y DOMINGOS | D24: 8
A25: SABADOS, DOMINGOS Y FESTIVOS | D25: 10
A28: VARIABLE DE PROPORCIONALIDAD SOBRE EL VALOR DEL SERVICIO ESTABLECIDO PARA UN SERVICIO DE VEINTICUATRO (24) HORAS Y TREINTA (30) DÍAS AL MES Y EN LOS TÉRMINOS DE LA JORNADA LABORAL VIGENTE.
A29: JORNADA LABORAL | C29: VARIABLE DE PROPORCIONALIDAD
A30: 6:00:00 a. m. a 7:00 p.m. (Turno de 13 horas Diurnas) | C30: 0.4759
A32: 7:00 a 6:00 a.m. (Turno de 11 horas Nocturnas) | C32: 0.5241
A34: b. Tomar el valor resultante de la aplicación de la variable de proporcionalidad anteriormente establecida, dividirlo por treinta (30) días y multiplicarlo por el número de días en que se prestará el servicio, luego dividirlo por la jornada laboral y el resultado multiplicarlo por las horas requeridas del servicio.
A35: Lo anterior, corresponde a la aplicación de la siguiente fórmula matemática: (SMLMV x TARIFA DE SERVICIOS) x VARIABLE PROPORCIONALIDAD) /30) x DÍAS QUE SE REQUIERE EL SERVICIO) /JORNADA LABORAL) x HORAS REQUERIDAS DEL SERVICIO.
A38: NECESIDAD DE LA ENTIDAD ( VALORES UNITARIOS MES) | K38: VALIDACION TOTAL DE CIFRAS | M38: VALOR TOTAL VIGENCIA 2027 (Enero 1 a Diciembre 31)
A39: MODALIDAD /MEDIO | B39: JORNADA LABORAL | C39: DIAS AL MES SEGÚN CIRCULAR DE SUPERVIGILANCIA | D39: VALOR MES | E39: % ADMINISTRACION Y SUPERVISION | G39: VALOR MES ADMINISTRACION Y SUPERVISION | H39: VALOR MES INCLUIDO ADMINISTRACION Y SUPERVISION | I39: IVA | J39: VALOR MES INCLUIDO AYS E IVA | K39: CONSOLIDADO PUESTOS | L39: VALOR 2027 6 MESES (Julio 1 a Diciembre 31)
A40: 24 HRS CON ARMA | B40: DOMINGO A DOMINGO | C40: 30 | D40: =+B14 -> 18975567 | E40: 0.1 | G40: =ROUND(D40*E40,2) -> 1897556.7 | H40: =ROUND(D40+G40,2) -> 20873124 | I40: =ROUND(H40*10%*19%,2) -> 396589.36 | J40: =ROUND(H40+I40,2) -> 21269713 | K40: 51 | L40: =ROUND(((K40*J40)*6),2) -> 6.5085323e+09 | M40: =SUM('ANEXO 1.1.VALOR 2027 (I SEMES)'!$L$40)+'ANEXO 1.1.VALOR 2027 (II SEMES)'!L40 -> 1.2910479e+10
A41: 24 HRS SIN ARMA | B41: DOMINGO A DOMINGO | C41: 30 | D41: =+B14 -> 18975567 | E41: 0.08 | G41: =ROUND(D41*E41,2) -> 1518045.4 | H41: =ROUND(D41+G41,2) -> 20493613 | I41: =ROUND(H41*10%*19%,2) -> 389378.64 | J41: =ROUND(H41+I41,2) -> 20882991 | K41: 1 | L41: =ROUND(((K41*J41)*6),2) -> 1.2529795e+08 | M41: =SUM('ANEXO 1.1.VALOR 2027 (I SEMES)'!$L$41)+'ANEXO 1.1.VALOR 2027 (II SEMES)'!L41 -> 2.4854397e+08
A42: 12 HRS DIURNO CON ARMA | B42: LUNES A VIERNES SIN FESTIVOS | C42: 20 | D42: =ROUND($D$9*$C$30/30*C42/13*12,2) -> 5557213.8 | E42: 0.1 | G42: =ROUND(D42*E42,2) -> 555721.38 | H42: =ROUND(D42+G42,2) -> 6112935.2 | I42: =ROUND(H42*10%*19%,2) -> 116145.77 | J42: =ROUND(H42+I42,2) -> 6229081 | K42: 17 | L42: =ROUND(((K42*J42)*6),2) -> 6.3536626e+08 | M42: =SUM('ANEXO 1.1.VALOR 2027 (I SEMES)'!$L$42)+'ANEXO 1.1.VALOR 2027 (II SEMES)'!L42 -> 1.2603275e+09
A43: 12 HRS DIURNO SIN ARMA | B43: LUNES A VIERNES SIN FESTIVOS | C43: 20 | D43: =ROUND($D$9*$C$30/30*C43/13*12,2) -> 5557213.8 | E43: 0.08 | G43: =ROUND(D43*E43,2) -> 444577.1 | H43: =ROUND(D43+G43,2) -> 6001790.9 | I43: =ROUND(H43*10%*19%,2) -> 114034.03 | J43: =ROUND(H43+I43,2) -> 6115824.9 | K43: 10 | L43: =ROUND(((K43*J43)*6),2) -> 3.669495e+08 | M43: =SUM('ANEXO 1.1.VALOR 2027 (I SEMES)'!$L$43)+'ANEXO 1.1.VALOR 2027 (II SEMES)'!L43 -> 7.278897e+08
A44: 12 HRS DIURNO CON ARMA | B44: LUNES A VIERNES CON FESTIVOS | C44: 22 | D44: =ROUND($D$9*$C$30/30*C44/13*12,0) -> 6112935 | E44: 0.1 | G44: =ROUND(D44*E44,2) -> 611293.5 | H44: =ROUND(D44+G44,2) -> 6724228.5 | I44: =ROUND(H44*10%*19%,2) -> 127760.34 | J44: =ROUND(H44+I44,2) -> 6851988.8 | K44: 6 | L44: =ROUND(((K44*J44)*6),2) -> 2.466716e+08 | M44: =SUM('ANEXO 1.1.VALOR 2027 (I SEMES)'!$L$44)+'ANEXO 1.1.VALOR 2027 (II SEMES)'!L44 -> 489303639
A45: 12 HRS DIURNO CON ARMA | B45: DOMIGO A DOMINGO | C45: 30 | D45: =ROUND($D$9*$C$30/30*C45/13*12,0) -> 8335821 | E45: 0.1 | G45: =ROUND(D45*E45,2) -> 833582.1 | H45: =ROUND(D45+G45,2) -> 9169403.1 | I45: =ROUND(H45*10%*19%,2) -> 174218.66 | J45: =ROUND(H45+I45,2) -> 9343621.8 | K45: 2 | L45: =ROUND(((K45*J45)*6),2) -> 1.1212346e+08 | M45: =SUM('ANEXO 1.1.VALOR 2027 (I SEMES)'!$L$45)+'ANEXO 1.1.VALOR 2027 (II SEMES)'!L45 -> 2.2241074e+08
A46: 12 HRS NOCTURNO CON ARMA | B46: LUNES A VIERNES SIN FESTIVOS | C46: 20 | D46: =6852466.5*1.044 -> 7153975 | E46: 0.1 | G46: =ROUND(D46*E46,2) -> 715397.5 | H46: =ROUND(D46+G46,2) -> 7869372.5 | I46: =ROUND(H46*10%*19%,2) -> 149518.08 | J46: =ROUND(H46+I46,2) -> 8018890.6 | K46: 1 | L46: =ROUND(((K46*J46)*6),2) -> 48113344 | M46: =SUM('ANEXO 1.1.VALOR 2027 (I SEMES)'!$L$46)+'ANEXO 1.1.VALOR 2027 (II SEMES)'!L46 -> 95173490
K47: =SUM(K40:K46) -> 88 | L47: =ROUND(SUM(L40:L46),2) -> 8.0430544e+09 | M47: =SUM(M40:M46) -> 1.5954128e+10 | N47: 16310971002 | O47: =SUM(N47)-M47 -> 3.5684342e+08
A49: NECESIDAD FEAB ( VALORES UNITARIOS MES) | K49: VALIDACION TOTAL DE CIFRAS | M49: VALOR TOTAL VIGENCIA 2027 (Enero 1 a Diciembre 31)
A50: MODALIDAD /MEDIO | B50: JORNADA LABORAL | C50: DIAS AL MES SEGÚN CIRCULAR DE SUPERVIGILANCIA | D50: VALOR MES | E50: % ADMINISTRACION Y SUPERVISION | G50: VALOR MES ADMINISTRACION Y SUPERVISION | H50: VALOR MES INCLUIDO ADMINISTRACION Y SUPERVISION | I50: IVA | J50: VALOR MES INCLUIDO AYS E IVA | K50: CONSOLIDADO PUESTOS | L50: VALOR 2027 6 MESES (Julio 1 a Diciembre 31)
A51: 24 HRS CON ARMA | B51: DOMINGO A DOMINGO | C51: 30 | D51: =+B14 -> 18975567 | E51: 0.1 | G51: =ROUND(D51*E51,2) -> 1897556.7 | H51: =ROUND(D51+G51,2) -> 20873124 | I51: =ROUND(H51*10%*19%,2) -> 396589.36 | J51: =ROUND(H51+I51,2) -> 21269713 | K51: 9 | L51: =ROUND(K51*J51,2)*6 -> 1.1485645e+09 | M51: =SUM('ANEXO 1.1.VALOR 2027 (I SEMES)'!$L$51)+'ANEXO 1.1.VALOR 2027 (II SEMES)'!L51 -> 2.2783197e+09
A52: 12 HRS NOCTURNO CON ARMA | B52: LUNES A VIERNES CON FESTIVOS | C52: 30 | D52: =7505333.8*1.044 -> 7835568.5 | E52: 0.1 | G52: =ROUND(D52*E52,2) -> 783556.85 | H52: =ROUND(D52+G52,2) -> 8619125.3 | I52: =ROUND(H52*10%*19%,2) -> 163763.38 | J52: =ROUND(H52+I52,2) -> 8782888.7 | K52: 1 | L52: =ROUND(K52*J52,2)*6 -> 52697332 | M52: =SUM('ANEXO 1.1.VALOR 2027 (I SEMES)'!$L$52)+'ANEXO 1.1.VALOR 2027 (II SEMES)'!L52 -> 104341467
...

Sheet ANEXO 1.2.VALOR 2028 (11 MESES)
A1: ANEXO 1.2. - FACTOR HUMANO - VIGENCIA 2028
B3: PRESTAR LOS SERVICIOS DE VIGILANCIA Y SEGURIDAD PRIVADA, FIJA Y MÓVIL, MEDIANTE EL USO DE MEDIOS TECNOLÓGICOS Y PERSONAL UNIFORMADO, CON Y SIN ARMAS, CON EL FIN DE GARANTIZAR LA PROTECCIÓN, CUSTODIA, AMPARO Y SALVAGUARDA DE LAS PERSONAS QUE LABORAN E INGRESAN A LAS INSTALACIONES, AL IGUAL QUE DE LOS BIENES MUEBLES E INMUEBLES DE LA FISCALÍA GENERAL DE LA NACIÓN Y DEL FONDO ESPECIAL PARA LA ADMINISTRACIÓN DE BIENES (FEAB), EN LA REGIONAL NORORIENTAL, CONFORMADA POR LAS SECCIONALES: I) SANTANDER, II) NORTE DE SANTANDER, III) ARAUCA.
A4: VARIABLES ESTABLECIDAS POR LA SUPERINTENDENCIA DE VIGILANCIA Y SEGURIDAD PARA EL AÑO 2026 SEGÚN CIRCULAR EXTERNA Nº 202513000001105CS DEL 30 DE DICIEMBRE DE 2025
A5: SALARIO MINIMO 2026 | D5: =1827945+(1827945*3%) -> 1882783.4
A6: TARIFA MINIMA SECTOR PUBLICO | D6: 10.38
A7: VALOR TARIFA MINIMA SECTOR PUBLICO | D7: =ROUND(D5*D6,2) -> 19543291
A8: VALOR PRIMA SEGURO DE VIDA | D8: 1500
A9: VALOR TARIFA MÍNIMA MAS PRIMA SEGURO DE VIDA | D9: =D7+D8 -> 19544791
A12: MODALIDAD DE MEDIO, TARIFA, PORCENTAJE ADMINISTRACION Y SUPERVISION.
A13: MODALIDAD MEDIO | B13: TARIFA | C13: PORCENTAJE A Y S | D13: VALOR A Y S | E13: TARIFA + A Y S
A14: 24 HORAS 30 DIAS AL MES MEDIO HUMANO SIN ARMA | B14: =$D$9 -> 19544791 | C14: 0.08 | D14: =ROUND(B14*C14,2) -> 1563583.3 | E14: =ROUND(B14+D14,2) -> 21108374
A15: 24 HORAS 30 DIAS AL MES MEDIO HUMANO CON ARMA | B15: =$D$9 -> 19544791 | C15: 0.1 | D15: =ROUND(B15*C15,0) -> 1954479 | E15: =ROUND(B15+D15,2) -> 21499270
A18: DIAS A TENER EN CUENTA PARA EL COBRO DE LAS TARIFAS MINIMAS EN LA PRESTACION DE LOS SERVICIOS DE VIGILANCIA Y SEGURIDAD PRIVADA PARA 2028
A19: LUNES A VIERNES SIN FESTIVOS | D19: 20
A20: LUNES A VIERNES CON FESTIVOS | D20: 22
A21: LUNES A SABADO SIN FESTIVOS | D21: 24
A22: LUNES A SABADO CON FESTIVOS | D22: 26
A23: FESTIVOS | D23: 2
A24: SABADOS Y DOMINGOS | D24: 8
A25: SABADOS, DOMINGOS Y FESTIVOS | D25: 10
A28: VARIABLE DE PROPORCIONALIDAD SOBRE EL VALOR DEL SERVICIO ESTABLECIDO PARA UN SERVICIO DE VEINTICUATRO (24) HORAS Y TREINTA (30) DÍAS AL MES Y EN LOS TÉRMINOS DE LA JORNADA LABORAL VIGENTE.
A29: JORNADA LABORAL | C29: VARIABLE DE PROPORCIONALIDAD
A30: 6:00:00 a. m. a 7:00 p.m. (Turno de 13 horas Diurnas) | C30: 0.4759
A32: 7:00 a 6:00 a.m. (Turno de 11 horas Nocturnas) | C32: 0.5241
A34: b. Tomar el valor resultante de la aplicación de la variable de proporcionalidad anteriormente establecida, dividirlo por treinta (30) días y multiplicarlo por el número de días en que se prestará el servicio, luego dividirlo por la jornada laboral y el resultado multiplicarlo por las horas requeridas del servicio.
A35: Lo anterior, corresponde a la aplicación de la siguiente fórmula matemática: (SMLMV x TARIFA DE SERVICIOS) x VARIABLE PROPORCIONALIDAD) /30) x DÍAS QUE SE REQUIERE EL SERVICIO) /JORNADA LABORAL) x HORAS REQUERIDAS DEL SERVICIO.
A38: NECESIDAD DE LA ENTIDAD ( VALORES UNITARIOS MES) | K38: VALIDACION TOTAL DE CIFRAS
A39: MODALIDAD /MEDIO | B39: JORNADA LABORAL | C39: DIAS AL MES SEGÚN CIRCULAR DE SUPERVIGILANCIA | D39: VALOR MES | E39: % ADMINISTRACION Y SUPERVISION | G39: VALOR MES ADMINISTRACION Y SUPERVISION | H39: VALOR MES INCLUIDO ADMINISTRACION Y SUPERVISION | I39: IVA | J39: VALOR MES INCLUIDO AYS E IVA | K39: CONSOLIDADO PUESTOS | L39: VALOR TOTAL 2028 11 MESES
A40: 24 HRS CON ARMA | B40: DOMINGO A DOMINGO | C40: 30 | D40: =+B14 -> 19544791 | E40: 0.1 | G40: =ROUND(D40*E40,2) -> 1954479.1 | H40: =ROUND(D40+G40,2) -> 21499270 | I40: =ROUND(H40*10%*19%,2) -> 408486.14 | J40: =ROUND(H40+I40,2) -> 21907756 | K40: ='ANEXO 1.1.VALOR 2027 (I SEMES)'!K40 -> 51 | L40: =ROUND(K40*J40,2)*11 -> 1.2290251e+10
A41: 24 HRS SIN ARMA | B41: DOMINGO A DOMINGO | C41: 30 | D41: =+B14 -> 19544791 | E41: 0.08 | G41: =ROUND(D41*E41,2) -> 1563583.3 | H41: =ROUND(D41+G41,2) -> 21108374 | I41: =ROUND(H41*10%*19%,2) -> 401059.11 | J41: =ROUND(H41+I41,2) -> 21509434 | K41: ='ANEXO 1.1.VALOR 2027 (I SEMES)'!K41 -> 1 | L41: =ROUND(K41*J41,2)*11 -> 2.3660377e+08
A42: 12 HRS DIURNO CON ARMA | B42: LUNES A VIERNES SIN FESTIVOS | C42: 20 | D42: =ROUND($D$9*$C$30/30*C42/13*12,2) -> 5723917.6 | E42: 0.1 | G42: =ROUND(D42*E42,2) -> 572391.76 | H42: =ROUND(D42+G42,2) -> 6296309.4 | I42: =ROUND(H42*10%*19%,2) -> 119629.88 | J42: =ROUND(H42+I42,2) -> 6415939.2 | K42: ='ANEXO 1.1.VALOR 2027 (I SEMES)'!K42 -> 17 | L42: =ROUND(K42*J42,2)*11 -> 1.1997806e+09
A43: 12 HRS DIURNO SIN ARMA | B43: LUNES A VIERNES SIN FESTIVOS | C43: 20 | D43: =ROUND($D$9*$C$30/30*C43/13*12,2) -> 5723917.6 | E43: 0.08 | G43: =ROUND(D43*E43,2) -> 457913.41 | H43: =ROUND(D43+G43,2) -> 6181831 | I43: =ROUND(H43*10%*19%,2) -> 117454.79 | J43: =ROUND(H43+I43,2) -> 6299285.8 | K43: ='ANEXO 1.1.VALOR 2027 (I SEMES)'!K43 -> 10 | L43: =ROUND(K43*J43,2)*11 -> 6.9292144e+08
A44: 12 HRS DIURNO CON ARMA | B44: LUNES A VIERNES CON FESTIVOS | C44: 22 | D44: =ROUND($D$9*$C$30/30*C44/13*12,0) -> 6296309 | E44: 0.1 | G44: =ROUND(D44*E44,2) -> 629630.9 | H44: =ROUND(D44+G44,2) -> 6925939.9 | I44: =ROUND(H44*10%*19%,2) -> 131592.86 | J44: =ROUND(H44+I44,2) -> 7057532.8 | K44: ='ANEXO 1.1.VALOR 2027 (I SEMES)'!K44 -> 6 | L44: =ROUND(K44*J44,2)*11 -> 4.6579716e+08
A45: 12 HRS DIURNO CON ARMA | B45: DOMIGO A DOMINGO | C45: 30 | D45: =ROUND($D$9*$C$30/30*C45/13*12,0) -> 8585876 | E45: 0.1 | G45: =ROUND(D45*E45,2) -> 858587.6 | H45: =ROUND(D45+G45,2) -> 9444463.6 | I45: =ROUND(H45*10%*19%,2) -> 179444.81 | J45: =ROUND(H45+I45,2) -> 9623908.4 | K45: ='ANEXO 1.1.VALOR 2027 (I SEMES)'!K45 -> 2 | L45: =ROUND(K45*J45,2)*11 -> 2.1172599e+08
A46: 12 HRS NOCTURNO CON ARMA | B46: LUNES A VIERNES SIN FESTIVOS | C46: 20 | D46: =(6852466.5*1.044)*1.03 -> 7368594.3 | E46: 0.1 | G46: =ROUND(D46*E46,2) -> 736859.43 | H46: =ROUND(D46+G46,2) -> 8105453.7 | I46: =ROUND(H46*10%*19%,2) -> 154003.62 | J46: =ROUND(H46+I46,2) -> 8259457.3 | K46: ='ANEXO 1.1.VALOR 2027 (I SEMES)'!K46 -> 1 | L46: =ROUND(K46*J46,2)*11 -> 90854031
K47: =SUM(K40:K46) -> 88 | L47: =ROUND(SUM(L40:L46),2) -> 1.5187934e+10 | M47: 15753253587 | N47: =SUM(M47)-L47 -> 5.653192e+08
A49: NECESIDAD FEAB ( VALORES UNITARIOS MES) | K49: VALIDACION TOTAL DE CIFRAS
A50: MODALIDAD /MEDIO | B50: JORNADA LABORAL | C50: DIAS AL MES SEGÚN CIRCULAR DE SUPERVIGILANCIA | D50: VALOR MES | E50: % ADMINISTRACION Y SUPERVISION | G50: VALOR MES ADMINISTRACION Y SUPERVISION | H50: VALOR MES INCLUIDO ADMINISTRACION Y SUPERVISION | I50: IVA | J50: VALOR MES INCLUIDO AYS E IVA | K50: CONSOLIDADO PUESTOS | L50: VALOR 2028 11 MES
A51: 24 HRS CON ARMA | B51: DOMINGO A DOMINGO | C51: 30 | D51: =B14 -> 19544791 | E51: 0.1 | G51: =ROUND(D51*E51,2) -> 1954479.1 | H51: =ROUND(D51+G51,2) -> 21499270 | I51: =ROUND(H51*10%*19%,2) -> 408486.14 | J51: =ROUND(H51+I51,2) -> 21907756 | K51: 9 | L51: =ROUND(K51*J51,2)*11 -> 2.1688679e+09
A52: 12 HRS NOCTURNO CON ARMA | B52: LUNES A VIERNES CON FESTIVOS | C52: 30 | D52: =(7505333.8*1.044)*1.03 -> 8070635.5 | E52: 0.1 | G52: =ROUND(D52*E52,2) -> 807063.55 | H52: =ROUND(D52+G52,2) -> 8877699.1 | I52: =ROUND(H52*10%*19%,2) -> 168676.28 | J52: =ROUND(H52+I52,2) -> 9046375.4 | K52: 1 | L52: =ROUND(K52*J52,2)*11 -> 99510129
...

Sheet ANEXO 2 COTIZAC.MEDIOS TECNOL
A2: ANEXO 2 - ANÁLISIS DE COTIZACIONES 2026 - 2028 - MEDIOS TECNOLOGICOS
C3: PRESTAR LOS SERVICIOS DE VIGILANCIA Y SEGURIDAD PRIVADA, FIJA Y MÓVIL, MEDIANTE EL USO DE MEDIOS TECNOLÓGICOS Y PERSONAL UNIFORMADO, CON Y SIN ARMAS, CON EL FIN DE GARANTIZAR LA PROTECCIÓN, CUSTODIA, AMPARO Y SALVAGUARDA DE LAS PERSONAS QUE LABORAN E INGRESAN A LAS INSTALACIONES, AL IGUAL QUE DE LOS BIENES MUEBLES E INMUEBLES DE LA FISCALÍA GENERAL DE LA NACIÓN Y DEL FONDO ESPECIAL PARA LA ADMINISTRACIÓN DE BIENES (FEAB), EN LA REGIONAL NORORIENTAL, CONFORMADA POR LAS SECCIONALES: I) SANTANDER, II) NORTE DE SANTANDER, III) ARAUCA.
F6: SEGURIDAD CAMALEÓN LTDA. | R6: SEGURIDAD NUEVA ERA LTDA | AD6: VIGILANCIA SUPERIOR
A7: ITEM | B7: DESCRIPCION | C7: UBICACIÓN | D7: CANTIDAD | F7: COTIZACIÓN 1 | R7: COTIZACIÓN 2 | AD7: COTIZACIÓN 3 | AQ7: ANÁLISIS DE VARIABLES | AV7: ANÁLISIS DE VARIABLES | BA7: ANÁLISIS DE VARIABLES | BF7: VALORES TOMADOS
F8: VALORES DEFINITIVOS 2026 INCLUIDO AIU E IVA | J8: VALORES DEFINITIVOS 2027 INCLUIDO AIU E IVA | N8: VALORES DEFINITIVOS 2028 INCLUIDO AIU E IVA | R8: VALORES DEFINITIVOS 2026 INCLUIDO AIU E IVA | V8: VALORES DEFINITIVOS 2027 INCLUIDO AIU E IVA | Z8: VALORES DEFINITIVOS 2028 INCLUIDO AIU E IVA | AD8: VALORES DEFINITIVOS 2026 INCLUIDO AIU E IVA | AH8: VALORES DEFINITIVOS 2027 INCLUIDO AIU E IVA | AL8: VALORES DEFINITIVOS 2028 INCLUIDO AIU E IVA | AQ8: VALOR UNITARIO CON AIU E IVA 2026 | AV8: VALOR UNITARIO CON AIU E IVA 2027 | BA8: VALOR UNITARIO CON AIU E IVA 2028 | BF8: VALORES DEFINITIVOS 2026 INCLUIDO AIU E IVA | BJ8: VALORES DEFINITIVOS 2027 INCLUIDO AIU E IVA | BN8: VALORES DEFINITIVOS 2028 INCLUIDO AIU E IVA
F9: MESES | H9: 1 | J9: MESES | L9: 12 | N9: MESES | P9: 11 | R9: MESES | T9: 1 | V9: MESES | X9: 12 | Z9: MESES | AB9: 11 | AD9: MESES | AF9: 1 | AH9: MESES | AJ9: 12 | AL9: MESES | AN9: 11 | BF9: MESES | BH9: 1 | BJ9: MESES | BL9: 12 | BN9: MESES | BP9: 11
F10: SUBTOTAL UNITARIO MENSUAL INCLUIDO AIU E IVA | G10: SUBTOTAL MES POR TOTALES REQUERIDOS INCLUIDO AIU E IVA | H10: VALOR TOTAL 1 MES INCLUIDO AIU E IVA | J10: SUBTOTAL UNITARIO MENSUAL INCLUIDO AIU E IVA | K10: SUBTOTAL MES POR TOTALES REQUERIDOS INCLUIDO AIU E IVA | L10: VALOR TOTAL 12 MESES INCLUIDO AIU E IVA | N10: SUBTOTAL UNITARIO MENSUAL INCLUIDO AIU E IVA | O10: SUBTOTAL MES POR TOTALES REQUERIDOS INCLUIDO AIU E IVA | P10: VALOR TOTAL 11 MESES INCLUIDO AIU E IVA | R10: SUBTOTAL UNITARIO MENSUAL INCLUIDO AIU E IVA | S10: SUBTOTAL MES POR TOTALES REQUERIDOS INCLUIDO AIU E IVA | T10: VALOR TOTAL 1 MES INCLUIDO AIU E IVA | V10: SUBTOTAL UNITARIO MENSUAL INCLUIDO AIU E IVA | W10: SUBTOTAL MES POR TOTALES REQUERIDOS INCLUIDO AIU E IVA | X10: VALOR TOTAL 12 MESES INCLUIDO AIU E IVA | Z10: SUBTOTAL UNITARIO MENSUAL INCLUIDO AIU E IVA | AA10: SUBTOTAL MES POR TOTALES REQUERIDOS INCLUIDO AIU E IVA | AB10: VALOR TOTAL 11 MESES INCLUIDO AIU E IVA | AD10: SUBTOTAL UNITARIO MENSUAL INCLUIDO AIU E IVA | AE10: SUBTOTAL MES POR TOTALES REQUERIDOS INCLUIDO AIU E IVA | AF10: VALOR TOTAL 1 MES INCLUIDO AIU E IVA | AH10: SUBTOTAL UNITARIO MENSUAL INCLUIDO AIU E IVA | AI10: SUBTOTAL MES POR TOTALES REQUERIDOS INCLUIDO AIU E IVA | AJ10: VALOR TOTAL 12 MESES INCLUIDO AIU E IVA | AL10: SUBTOTAL UNITARIO MENSUAL INCLUIDO AIU E IVA | AM10: SUBTOTAL MES POR TOTALES REQUERIDOS INCLUIDO AIU E IVA | AN10: VALOR TOTAL 11 MESES INCLUIDO AIU E IVA | AQ10: COTIZACIÓN MÁS BAJA | AR10: COTIZACIÓN MÁS ALTA | AS10: PROMEDIO | AT10: MEDIA ARITMÉTICA BAJA | AV10: COTIZACIÓN MÁS BAJA | AW10: COTIZACIÓN MÁS ALTA | AX10: PROMEDIO | AY10: MEDIA ARITMÉTICA BAJA | BA10: COTIZACIÓN MÁS BAJA | BB10: COTIZACIÓN MÁS ALTA | BC10: PROMEDIO | BD10: MEDIA ARITMÉTICA BAJA | BF10: SUBTOTAL UNITARIO MENSUAL INCLUIDO AIU E IVA | BG10: SUBTOTAL MES POR TOTALES REQUERIDOS INCLUIDO AIU E IVA | BH10: VALOR TOTAL 1 MES INCLUIDO AIU E IVA | BJ10: SUBTOTAL UNITARIO MENSUAL INCLUIDO AIU E IVA | BK10: SUBTOTAL MES POR TOTALES REQUERIDOS INCLUIDO AIU E IVA | BL10: VALOR TOTAL 12 MESES INCLUIDO AIU E IVA | BN10: SUBTOTAL UNITARIO MENSUAL INCLUIDO AIU E IVA | BO10: SUBTOTAL MES POR TOTALES REQUERIDOS INCLUIDO AIU E IVA | BP10: VALOR TOTAL 11 MESES INCLUIDO AIU E IVA
A11: SECCIONAL SANTANDER
A12: 1 | B12: MONITOR DE 43" LED FULL HD, Resolución: Full HD 1920x1080, Brillo de 400 cd/m2, Entradas HDMI, VGA, USB. Salida de audio. Capacidad de trabajo 7/24. | C12: CONFORME A LO ESPECIFICADO EN LA FICHA TÉCNICA | D12: 49 | F12: 166250 | G12: =ROUND(F12*$D12,2) -> 8146250 | H12: =ROUND(G12*$H$9,2) -> 8146250 | J12: 168254.98 | K12: =ROUND(J12*$D12,2) -> 8244494 | L12: =ROUND(K12*$L$9,2) -> 98933928 | N12: 170380.85 | O12: =ROUND(N12*$D12,2) -> 8348661.7 | P12: =ROUND(O12*$P$9,2) -> 91835278 | R12: 202500 | S12: =ROUND(R12*$D12,2) -> 9922500 | T12: =ROUND(S12*$T$9,2) -> 9922500 | V12: 202500 | W12: =ROUND(V12*$D12,2) -> 9922500 | X12: =ROUND(W12*$X$9,2) -> 119070000 | Z12: 202500 | AA12: =ROUND(Z12*$D12,2) -> 9922500 | AB12: =ROUND(AA12*$AB$9,2) -> 109147500 | AD12: 104365 | AE12: =ROUND(AD12*$D12,2) -> 5113885 | AF12: =ROUND(AE12*$AF$9,2) -> 5113885 | AH12: 104761 | AI12: =ROUND(AH12*$D12,2) -> 5133289 | AJ12: =ROUND(AI12*$AJ$9,2) -> 61599468 | AL12: 105103 | AM12: =ROUND(AL12*$D12,2) -> 5150047 | AN12: =ROUND(AM12*$AN$9,2) -> 56650517 | AQ12: =ROUND(MIN(F12,R12,AD12),2) -> 104365 | AR12: =ROUND(MAX(F12,R12,AD12),2) -> 202500 | AS12: =ROUND(AVERAGE(F12,R12,AD12),2) -> 157705 | AT12: =ROUND(AVERAGE(AQ12,AS12),2) -> 131035 | AV12: =ROUND(MIN(J12,V12,AH12),2) -> 104761 | AW12: =ROUND(MAX(J12,V12,AH12),2) -> 202500 | AX12: =ROUND(AVERAGE(J12,V12,AH12),2) -> 158505.33 | AY12: =ROUND(AVERAGE(AV12,AX12),2) -> 131633.17 | BA12: =ROUND(MIN(N12,Z12,AL12),2) -> 105103 | BB12: =ROUND(MAX(N12,Z12,AL12),2) -> 202500 | BC12: =ROUND(AVERAGE(N12,Z12,AL12),2) -> 159327.95 | BD12: =ROUND(AVERAGE(BA12,BC12),2) -> 132215.48 | BF12: =AT12 -> 131035 | BG12: =ROUND(BF12*$D12,2) -> 6420715 | BH12: =ROUND(BG12*$BH$9,2) -> 6420715 | BJ12: =AY12 -> 131633.17 | BK12: =ROUND(BJ12*$D12,2) -> 6450025.3 | BL12: =ROUND(BK12*$BL$9,2) -> 77400304 | BN12: =BD12 -> 132215.48 | BO12: =ROUND(BN12*$D12,2) -> 6478558.5 | BP12: =ROUND(BO12*$BP$9,2) -> 71264144
A13: 2 | B13: CÁMARAS FIJA TIPO MINI DOMO IP Resolución (4 Megapíxeles 30 fps 2688x1520), Iluminación mínima 0.01lux B/N 0 Lux, Día/Noche Real con filtro ICR, Distancia Focal 2.8 mm/4mm/6mm, Iluminación IR 30 mts Compresión de video H264+/H265, Detección de movimiento. Protección Ip67, Puerto de red RJ45 10M/100M/1000M, PoE (Power over Ethernet), Protocolos TCP/IP, ICMP, HTTP, HTTPS, DHCP, DNS, RTP, RTSP, RTCP, NTP, IGMP, QoS, UDP. EL TIPO DE CÁMARA DEPENDERÁ DEL SITIO EN EL QUE SE INSTALARÁ (DOMO INTERIORES, BALA EXTERIORES). | C13: CONFORME A LO ESPECIFICADO EN LA FICHA TÉCNICA | D13: 352 | F13: 74812.5 | G13: =ROUND(F13*$D13,2) -> 26334000 | H13: =ROUND(G13*$H$9,2) -> 26334000 | J13: 75714.74 | K13: =ROUND(J13*$D13,2) -> 26651588 | L13: =ROUND(K13*$L$9,2) -> 3.1981906e+08 | N13: 76671.38 | O13: =ROUND(N13*$D13,2) -> 26988326 | P13: =ROUND(O13*$P$9,2) -> 2.9687158e+08 | R13: 49500 | S13: =ROUND(R13*$D13,2) -> 17424000 | T13: =ROUND(S13*$T$9,2) -> 17424000 | V13: 49500 | W13: =ROUND(V13*$D13,2) -> 17424000 | X13: =ROUND(W13*$X$9,2) -> 209088000 | Z13: 49500 | AA13: =ROUND(Z13*$D13,2) -> 17424000 | AB13: =ROUND(AA13*$AB$9,2) -> 191664000 | AD13: 42130 | AE13: =ROUND(AD13*$D13,2) -> 14829760 | AF13: =ROUND(AE13*$AF$9,2) -> 14829760 | AH13: 42228 | AI13: =ROUND(AH13*$D13,2) -> 14864256 | AJ13: =ROUND(AI13*$AJ$9,2) -> 178371072 | AL13: 42313 | AM13: =ROUND(AL13*$D13,2) -> 14894176 | AN13: =ROUND(AM13*$AN$9,2) -> 163835936 | AQ13: =ROUND(MIN(F13,R13,AD13),2) -> 42130 | AR13: =ROUND(MAX(F13,R13,AD13),2) -> 74812.5 | AS13: =ROUND(AVERAGE(F13,R13,AD13),2) -> 55480.83 | AT13: =ROUND(AVERAGE(AQ13,AS13),2) -> 48805.42 | AV13: =ROUND(MIN(J13,V13,AH13),2) -> 42228 | AW13: =ROUND(MAX(J13,V13,AH13),2) -> 75714.74 | AX13: =ROUND(AVERAGE(J13,V13,AH13),2) -> 55814.25 | AY13: =ROUND(AVERAGE(AV13,AX13),2) -> 49021.13 | BA13: =ROUND(MIN(N13,Z13,AL13),2) -> 42313 | BB13: =ROUND(MAX(N13,Z13,AL13),2) -> 76671.38 | BC13: =ROUND(AVERAGE(N13,Z13,AL13),2) -> 56161.46 | BD13: =ROUND(AVERAGE(BA13,BC13),2) -> 49237.23 | BF13: =AT13 -> 48805.42 | BG13: =ROUND(BF13*$D13,2) -> 17179508 | BH13: =ROUND(BG13*$BH$9,2) -> 17179508 | BJ13: =AY13 -> 49021.13 | BK13: =ROUND(BJ13*$D13,2) -> 17255438 | BL13: =ROUND(BK13*$BL$9,2) -> 2.0706525e+08 | BN13: =BD13 -> 49237.23 | BO13: =ROUND(BN13*$D13,2) -> 17331505 | BP13: =ROUND(BO13*$BP$9,2) -> 1.9064655e+08
A14: 3 | B14: CÁMARAS IP TIPO BALA ANTIVANDALICO Resolución (4 Megapíxeles 30 fps 2688x1520), Iluminación mínima 0.01lux B/N 0 Lux, Día/Noche Real con filtro ICR, Distancia Focal 2.8 mm/4mm, Iluminación IR 30 m, Compresión de video H264+/H265, Detección de movimiento. Protección Ip67, Puerto de red RJ45 10M/100M/1000M, PoE (Power over Ethernet) Protocolos TCP/IP, ICMP, HTTP, HTTPS, DHCP, DNS, RTP, RTSP, RTCP, NTP, IGMP, QoS, UDP. | C14: CONFORME A LO ESPECIFICADO EN LA FICHA TÉCNICA | D14: 111 | F14: 74812.5 | G14: =ROUND(F14*$D14,2) -> 8304187.5 | H14: =ROUND(G14*$H$9,2) -> 8304187.5 | J14: 75714.74 | K14: =ROUND(J14*$D14,2) -> 8404336.1 | L14: =ROUND(K14*$L$9,2) -> 1.0085203e+08 | N14: 76671.38 | O14: =ROUND(N14*$D14,2) -> 8510523.2 | P14: =ROUND(O14*$P$9,2) -> 93615755 | R14: 146250 | S14: =ROUND(R14*$D14,2) -> 16233750 | T14: =ROUND(S14*$T$9,2) -> 16233750 | V14: 146250 | W14: =ROUND(V14*$D14,2) -> 16233750 | X14: =ROUND(W14*$X$9,2) -> 194805000 | Z14: 146250 | AA14: =ROUND(Z14*$D14,2) -> 16233750 | AB14: =ROUND(AA14*$AB$9,2) -> 178571250 | AD14: 47466 | AE14: =ROUND(AD14*$D14,2) -> 5268726 | AF14: =ROUND(AE14*$AF$9,2) -> 5268726 | AH14: 47575 | AI14: =ROUND(AH14*$D14,2) -> 5280825 | AJ14: =ROUND(AI14*$AJ$9,2) -> 63369900 | AL14: 47670 | AM14: =ROUND(AL14*$D14,2) -> 5291370 | AN14: =ROUND(AM14*$AN$9,2) -> 58205070 | AQ14: =ROUND(MIN(F14,R14,AD14),2) -> 47466 | AR14: =ROUND(MAX(F14,R14,AD14),2) -> 146250 | AS14: =ROUND(AVERAGE(F14,R14,AD14),2) -> 89509.5 | AT14: =ROUND(AVERAGE(AQ14,AS14),2) -> 68487.75 | AV14: =ROUND(MIN(J14,V14,AH14),2) -> 47575 | AW14: =ROUND(MAX(J14,V14,AH14),2) -> 146250 | AX14: =ROUND(AVERAGE(J14,V14,AH14),2) -> 89846.58 | AY14: =ROUND(AVERAGE(AV14,AX14),2) -> 68710.79 | BA14: =ROUND(MIN(N14,Z14,AL14),2) -> 47670 | BB14: =ROUND(MAX(N14,Z14,AL14),2) -> 146250 | BC14: =ROUND(AVERAGE(N14,Z14,AL14),2) -> 90197.13 | BD14: =ROUND(AVERAGE(BA14,BC14),2) -> 68933.57 | BF14: =AT14 -> 68487.75 | BG14: =ROUND(BF14*$D14,2) -> 7602140.2 | BH14: =ROUND(BG14*$BH$9,2) -> 7602140.2 | BJ14: =AY14 -> 68710.79 | BK14: =ROUND(BJ14*$D14,2) -> 7626897.7 | BL14: =ROUND(BK14*$BL$9,2) -> 91522772 | BN14: =BD14 -> 68933.57 | BO14: =ROUND(BN14*$D14,2) -> 7651626.3 | BP14: =ROUND(BO14*$BP$9,2) -> 84167889
A15: 4 | B15: CIBERDOMO IP PTZ cámara Tipo Domo IP Resolución (2 Megapíxeles 1920x1080). Iluminación IR 150 m, zoom óptico de 25x, Zoom digital 16x, Sensor de imagen 1/2.8”, Distancia focal 4.8mm a 120mm, Sistema de señal PAL/NTSC, Balance de blancos: Auto/Manual ATW/interior/ exterior/Día/Noche ICR, Compresión de video H264+/H265, Puerto de red Rj45 10M/100M/1000M Ethernet PoE+, Alimentación 24VAC & PoE. Protección Ip66 • Incluye fuente y soporte para pared. | C15: CONFORME A LO ESPECIFICADO EN LA FICHA TÉCNICA | D15: 6 | F15: 288166.67 | G15: =ROUND(F15*$D15,2) -> 1729000 | H15: =ROUND(G15*$H$9,2) -> 1729000 | J15: 291641.96 | K15: =ROUND(J15*$D15,2) -> 1749851.8 | L15: =ROUND(K15*$L$9,2) -> 20998221 | N15: 295326.81 | O15: =ROUND(N15*$D15,2) -> 1771960.9 | P15: =ROUND(O15*$P$9,2) -> 19491569 | R15: 360000 | S15: =ROUND(R15*$D15,2) -> 2160000 | T15: =ROUND(S15*$T$9,2) -> 2160000 | V15: 360000 | W15: =ROUND(V15*$D15,2) -> 2160000 | X15: =ROUND(W15*$X$9,2) -> 25920000 | Z15: 360000 | AA15: =ROUND(Z15*$D15,2) -> 2160000 | AB15: =ROUND(AA15*$AB$9,2) -> 23760000 | AD15: 153440 | AE15: =ROUND(AD15*$D15,2) -> 920640 | AF15: =ROUND(AE15*$AF$9,2) -> 920640 | AH15: 154194 | AI15: =ROUND(AH15*$D15,2) -> 925164 | AJ15: =ROUND(AI15*$AJ$9,2) -> 11101968 | AL15: 154846 | AM15: =ROUND(AL15*$D15,2) -> 929076 | AN15: =ROUND(AM15*$AN$9,2) -> 10219836 | AQ15: =ROUND(MIN(F15,R15,AD15),2) -> 153440 | AR15: =ROUND(MAX(F15,R15,AD15),2) -> 360000 | AS15: =ROUND(AVERAGE(F15,R15,AD15),2) -> 267202.22 | AT15: =ROUND(AVERAGE(AQ15,AS15),2) -> 210321.11 | AV15: =ROUND(MIN(J15,V15,AH15),2) -> 154194 | AW15: =ROUND(MAX(J15,V15,AH15),2) -> 360000 | AX15: =ROUND(AVERAGE(J15,V15,AH15),2) -> 268611.99 | AY15: =ROUND(AVERAGE(AV15,AX15),2) -> 211403 | BA15: =ROUND(MIN(N15,Z15,AL15),2) -> 154846 | BB15: =ROUND(MAX(N15,Z15,AL15),2) -> 360000 | BC15: =ROUND(AVERAGE(N15,Z15,AL15),2) -> 270057.6 | BD15: =ROUND(AVERAGE(BA15,BC15),2) -> 212451.8 | BF15: =AT15 -> 210321.11 | BG15: =ROUND(BF15*$D15,2) -> 1261926.7 | BH15: =ROUND(BG15*$BH$9,2) -> 1261926.7 | BJ15: =AY15 -> 211403 | BK15: =ROUND(BJ15*$D15,2) -> 1268418 | BL15: =ROUND(BK15*$BL$9,2) -> 15221016 | BN15: =BD15 -> 212451.8 | BO15: =ROUND(BN15*$D15,2) -> 1274710.8 | BP15: =ROUND(BO15*$BP$9,2) -> 14021819
A16: 5 | B16: CONTROL JOYSTICK. Joystick tridimensional para el control de Cámaras PTZ. Funciones: Posición Predeterminada, Auto Scan, Auto Pan, Auto Tour. | C16: CONFORME A LO ESPECIFICADO EN LA FICHA TÉCNICA | D16: 2 | F16: 138541.67 | G16: =ROUND(F16*$D16,2) -> 277083.34 | H16: =ROUND(G16*$H$9,2) -> 277083.34 | J16: 140212.48 | K16: =ROUND(J16*$D16,2) -> 280424.96 | L16: =ROUND(K16*$L$9,2) -> 3365099.5 | N16: 141984.04 | O16: =ROUND(N16*$D16,2) -> 283968.08 | P16: =ROUND(O16*$P$9,2) -> 3123648.9 | R16: 180000 | S16: =ROUND(R16*$D16,2) -> 360000 | T16: =ROUND(S16*$T$9,2) -> 360000 | V16: 180000 | W16: =ROUND(V16*$D16,2) -> 360000 | X16: =ROUND(W16*$X$9,2) -> 4320000 | Z16: 180000 | AA16: =ROUND(Z16*$D16,2) -> 360000 | AB16: =ROUND(AA16*$AB$9,2) -> 3960000 | AD16: 57403 | AE16: =ROUND(AD16*$D16,2) -> 114806 | AF16: =ROUND(AE16*$AF$9,2) -> 114806 | AH16: 57620 | AI16: =ROUND(AH16*$D16,2) -> 115240 | AJ16: =ROUND(AI16*$AJ$9,2) -> 1382880 | AL16: 57807 | AM16: =ROUND(AL16*$D16,2) -> 115614 | AN16: =ROUND(AM16*$AN$9,2) -> 1271754 | AQ16: =ROUND(MIN(F16,R16,AD16),2) -> 57403 | AR16: =ROUND(MAX(F16,R16,AD16),2) -> 180000 | AS16: =ROUND(AVERAGE(F16,R16,AD16),2) -> 125314.89 | AT16: =ROUND(AVERAGE(AQ16,AS16),2) -> 91358.95 | AV16: =ROUND(MIN(J16,V16,AH16),2) -> 57620 | AW16: =ROUND(MAX(J16,V16,AH16),2) -> 180000 | AX16: =ROUND(AVERAGE(J16,V16,AH16),2) -> 125944.16 | AY16: =ROUND(AVERAGE(AV16,AX16),2) -> 91782.08 | BA16: =ROUND(MIN(N16,Z16,AL16),2) -> 57807 | BB16: =ROUND(MAX(N16,Z16,AL16),2) -> 180000 | BC16: =ROUND(AVERAGE(N16,Z16,AL16),2) -> 126597.01 | BD16: =ROUND(AVERAGE(BA16,BC16),2) -> 92202.01 | BF16: =AT16 -> 91358.95 | BG16: =ROUND(BF16*$D16,2) -> 182717.9 | BH16: =ROUND(BG16*$BH$9,2) -> 182717.9 | BJ16: =AY16 -> 91782.08 | BK16: =ROUND(BJ16*$D16,2) -> 183564.16 | BL16: =ROUND(BK16*$BL$9,2) -> 2202769.9 | BN16: =BD16 -> 92202.01 | BO16: =ROUND(BN16*$D16,2) -> 184404.02 | BP16: =ROUND(BO16*$BP$9,2) -> 2028444.2
A17: 6 | B17: GRABADOR DE 8/16/32 CANALES PENTAHIBRIDO 8/16/32 Canales Pentahibrido. Video Grabador Digital. Procesador Embebido Compresión de Video H.265+/H.265/H.264+. Entradas de video Max 10/16/32 canales IP. Cada canal hasta 5MP Min. Ancho de Banda 200/260Mbps. Búsqueda Inteligente. Función RAID 0, RAID 1, RAID 5, RAID 6 and RAID 10. Puerto de red Rj45 10M/100M/1000M Ethernet. 4 bahías SATA con soporte de discos hasta de 10TB por cada disco. LA CANTIDAD DE CANALES DE ENTRADA DEPENDERÁ DE LA SEDE EN LA QUE SE INSTALE EL EQUIPO. (DE AUERDO CON LA CANTIDAD DE CÁMARAS). | C17: CONFORME A LO ESPECIFICADO EN LA FICHA TÉCNICA | D17: 48 | F17: 243833.33 | G17: =ROUND(F17*$D17,2) -> 11704000 | H17: =ROUND(G17*$H$9,2) -> 11704000 | J17: 246773.96 | K17: =ROUND(J17*$D17,2) -> 11845150 | L17: =ROUND(K17*$L$9,2) -> 1.421418e+08 | N17: 249891.91 | O17: =ROUND(N17*$D17,2) -> 11994812 | P17: =ROUND(O17*$P$9,2) -> 1.3194293e+08 | R17: 371250 | S17: =ROUND(R17*$D17,2) -> 17820000 | T17: =ROUND(S17*$T$9,2) -> 17820000 | V17: 371250 | W17: =ROUND(V17*$D17,2) -> 17820000 | X17: =ROUND(W17*$X$9,2) -> 213840000 | Z17: 371250 | AA17: =ROUND(Z17*$D17,2) -> 17820000 | AB17: =ROUND(AA17*$AB$9,2) -> 196020000 | AD17: 140387 | AE17: =ROUND(AD17*$D17,2) -> 6738576 | AF17: =ROUND(AE17*$AF$9,2) -> 6738576 | AH17: 141096 | AI17: =ROUND(AH17*$D17,2) -> 6772608 | AJ17: =ROUND(AI17*$AJ$9,2) -> 81271296 | AL17: 141707 | AM17: =ROUND(AL17*$D17,2) -> 6801936 | AN17: =ROUND(AM17*$AN$9,2) -> 74821296 | AQ17: =ROUND(MIN(F17,R17,AD17),2) -> 140387 | AR17: =ROUND(MAX(F17,R17,AD17),2) -> 371250 | AS17: =ROUND(AVERAGE(F17,R17,AD17),2) -> 251823.44 | AT17: =ROUND(AVERAGE(AQ17,AS17),2) -> 196105.22 | AV17: =ROUND(MIN(J17,V17,AH17),2) -> 141096 | AW17: =ROUND(MAX(J17,V17,AH17),2) -> 371250 | AX17: =ROUND(AVERAGE(J17,V17,AH17),2) -> 253039.99 | AY17: =ROUND(AVERAGE(AV17,AX17),2) -> 197068 | BA17: =ROUND(MIN(N17,Z17,AL17),2) -> 141707 | BB17: =ROUND(MAX(N17,Z17,AL17),2) -> 371250 | BC17: =ROUND(AVERAGE(N17,Z17,AL17),2) -> 254282.97 | BD17: =ROUND(AVERAGE(BA17,BC17),2) -> 197994.99 | BF17: =AT17 -> 196105.22 | BG17: =ROUND(BF17*$D17,2) -> 9413050.6 | BH17: =ROUND(BG17*$BH$9,2) -> 9413050.6 | BJ17: =AY17 -> 197068 | BK17: =ROUND(BJ17*$D17,2) -> 9459264 | BL17: =ROUND(BK17*$BL$9,2) -> 113511168 | BN17: =BD17 -> 197994.99 | BO17: =ROUND(BN17*$D17,2) -> 9503759.5 | BP17: =ROUND(BO17*$BP$9,2) -> 1.0454135e+08
A18: 7 | B18: SISTEMA DE IDENTIFICACIÓN BIOMÉTRICA PARA INGRESO DE FUNCIONARIOS. Lectores duales Biométrico y RFID (lectora de tarjetas de proximidad). Debe soportar tarjetas con el protocolo MIFARE PLUS X 4K (Carné Institucional). Software de administración y configuración del sistema. El software debe permitir la generación de reportes tanto de ingreso como de salida. El sistema debe soportar hasta 20.000 plantillas de huellas digitales, 60.000 tarjetas y almacenar hasta 100.000 eventos y transacciones. La información debe permanecer guardada en la memoria interna en caso de pérdida de energía. El controlador deberá continuar operando aún si se interrumpe la conexión de red. Deberá incluir: panel gabinete, batería transformador, lectoras requeridas para el bloqueo de puertas, electroimán de 350lb, brazo, anti remanente y pulsador. El sistema debe contar con una UPS de respaldo de energía diferente a la del sistema de CCTV. | C18: CONFORME A LO ESPECIFICADO EN LA FICHA TÉCNICA | D18: 28 | F18: 554166.67 | G18: =ROUND(F18*$D18,2) -> 15516667 | H18: =ROUND(G18*$H$9,2) -> 15516667 | J18: 560849.92 | K18: =ROUND(J18*$D18,2) -> 15703798 | L18: =ROUND(K18*$L$9,2) -> 1.8844557e+08 | N18: 567936.17 | O18: =ROUND(N18*$D18,2) -> 15902213 | P18: =ROUND(O18*$P$9,2) -> 1.7492434e+08 | R18: 191250 | S18: =ROUND(R18*$D18,2) -> 5355000 | T18: =ROUND(S18*$T$9,2) -> 5355000 | V18: 191250 | W18: =ROUND(V18*$D18,2) -> 5355000 | X18: =ROUND(W18*$X$9,2) -> 64260000 | Z18: 191250 | AA18: =ROUND(Z18*$D18,2) -> 5355000 | AB18: =ROUND(AA18*$AB$9,2) -> 58905000 | AD18: 302035 | AE18: =ROUND(AD18*$D18,2) -> 8456980 | AF18: =ROUND(AE18*$AF$9,2) -> 8456980 | AH18: 303712 | AI18: =ROUND(AH18*$D18,2) -> 8503936 | AJ18: =ROUND(AI18*$AJ$9,2) -> 102047232 | AL18: 305160 | AM18: =ROUND(AL18*$D18,2) -> 8544480 | AN18: =ROUND(AM18*$AN$9,2) -> 93989280 | AQ18: =ROUND(MIN(F18,R18,AD18),2) -> 191250 | AR18: =ROUND(MAX(F18,R18,AD18),2) -> 554166.67 | AS18: =ROUND(AVERAGE(F18,R18,AD18),2) -> 349150.56 | AT18: =ROUND(AVERAGE(AQ18,AS18),2) -> 270200.28 | AV18: =ROUND(MIN(J18,V18,AH18),2) -> 191250 | AW18: =ROUND(MAX(J18,V18,AH18),2) -> 560849.92 | AX18: =ROUND(AVERAGE(J18,V18,AH18),2) -> 351937.31 | AY18: =ROUND(AVERAGE(AV18,AX18),2) -> 271593.66 | BA18: =ROUND(MIN(N18,Z18,AL18),2) -> 191250 | BB18: =ROUND(MAX(N18,Z18,AL18),2) -> 567936.17 | BC18: =ROUND(AVERAGE(N18,Z18,AL18),2) -> 354782.06 | BD18: =ROUND(AVERAGE(BA18,BC18),2) -> 273016.03 | BF18: =AT18 -> 270200.28 | BG18: =ROUND(BF18*$D18,2) -> 7565607.8 | BH18: =ROUND(BG18*$BH$9,2) -> 7565607.8 | BJ18: =AY18 -> 271593.66 | BK18: =ROUND(BJ18*$D18,2) -> 7604622.5 | BL18: =ROUND(BK18*$BL$9,2) -> 91255470 | BN18: =BD18 -> 273016.03 | BO18: =ROUND(BN18*$D18,2) -> 7644448.8 | BP18: =ROUND(BO18*$BP$9,2) -> 84088937
