Workbook
Name \X: [0]!ERR
Name \X: [0]!ERR
Name \X: [0]!ERR
Name \X: [0]!ERR
Name \X: [0]!ERR
Name \Z: [0]!ERR
Name \Z: [0]!ERR
Name \Z: [0]!ERR
Name \Z: [0]!ERR
Name \Z: [0]!ERR
Name _F: [0]!ERR
Name _F: [0]!ERR
Name _F: [0]!ERR
Name _F: [0]!ERR
Name _F: [0]!ERR
Name _ff2005: [0]!ERR
Name _ff2005: [0]!ERR
Name _ff2005: [0]!ERR
Name _ff2005: [0]!ERR
Name _ff2005: [0]!ERR
Name _FS01: [0]!ERR
Name _FS01: [0]!ERR
Name _FS01: [0]!ERR
Name _FS01: [0]!ERR
Name _FS01: [0]!ERR
Name _mun2: #REF!
Name _num10: #REF!
Name _num2: #REF!
Name _num3: #REF!
Name _num4: #REF!
Name _num5: #REF!
Name _num6: #REF!
Name _num7: #REF!
Name _num8: #REF!
Name _num9: #REF!
Name _ref4: #REF!
Name A: '[1]BASE DATOS'!$B$7
Name A_impresión_IM: #REF!
Name AAA: [0]!ERR
Name AAA: [0]!ERR
Name AAA: [0]!ERR
Name AAA: [0]!ERR
Name AAA: [0]!ERR
Name Adm: [2]PRESUPUESTO!$F$135
Name ADMINISTRACION: [3]PRESUPUESTO!$D$2037
Name APROBO: [3]PRESUPUESTO!$D$2036
Name Base_datos_IM: #REF!
Name BB: [0]!ERR
Name BB: [0]!ERR
Name BB: [0]!ERR
Name BB: [0]!ERR
Name BB: [0]!ERR
Name BuscHSeguim: [4]SEGUIMIENTO!$P$27:$PS$57
Name BuscHSeguim2: [4]SEGUIMIENTO!$P$29:$PS$57
Name CDCT: [4]PRESUPUESTO!$A$2
Name CDSeguim: [4]SEGUIMIENTO!$G$30
Name cesse: [0]!ERR
Name cesse: [0]!ERR
Name cesse: [0]!ERR
Name cesse: [0]!ERR

Sheet PRESUPUESTO V3R
B2: ALCALDIA DE TIBASOSA - BOYACA
B5: EJECUCION DE LAS OBRAS DE OPTIMIZACION, REHABILITACION Y ADECUACION DE LAS DIFERENTES UNIDADES DE TRATAMIENTO DEL SISTEMA DE AGUAS RESIDUALES DEL MUNIPIO DE TIBASOSA, BOYACA.
B7: 1. PRELIMINARES, ACTIVIDADES DE LIMPIEZA, LAVADO Y RECUPERACION
B8: N° | C8: APU | D8: ITEM | E8: UND | F8: CANT. | G8: VLR/UNITARIO | H8: VALOR TOTAL
B9: 1.1 | C9: APU | D9: LIMPIEZA, LAVADO Y DESINFECCIÓN MANUAL Y/O MECÁNICA DE LAS UNIDADES QUE CONFORMAN LA PTAR (CÁMARA DE ALIVIADERO DE EXCESOS, ESTACIÓN DE BOMBEO, SISTEMA DE PRETRATAMIENTO, REACTORES ANAEROBIOS UASB, SEDIMENTADORES, BIODIGESTOR DE LODOS Y POZOS DE DESAGÜE), PARA RECUPERAR LA CAPACIDAD HIDRÁULICA Y LAS CONDICIONES SANITARIAS DE OPERACIÓN DE LAS ESTRUCTURAS DE TRATAMIENTO DE AGUAS RESIDUALES. | E9: M2 | F9: =643.44 -> 643.44 | G9: =+'APU 1.1'!I43 -> 82004.91 | H9: =+ROUND((F9*G9),2) -> 52765239
B10: 1.2 | C10: APU | D10: LIMPIEZA, LAVADO Y DESINFECCIÓN DE LAS REDES DE CONDUCCIÓN Y DE DESAGÜE QUE INTERCONECTAN LAS UNIDADES DE TRATAMIENTO DE LA PTAR, PARA ELIMINAR OBSTRUCCIONES, INCRUSTACIONES Y SEDIMENTOS Y RESTABLECER EL FLUJO HIDRÁULICO ENTRE ESTRUCTURAS DEL SISTEMA DE AGUAS RESIDUALES(RED DE ALCANTARILLADO QUE CONECTA CON EL ALIVIADERO DE EXCESOS; RED DE CONDUCCIÓN ENTRE EL ALIVIADERO DE EXCESOS Y LA ESTACIÓN DE BOMBEO; DOS (2) POZOS DE DESAGÜE; Y RED DE CONDUCCIÓN QUE CONECTA LOS POZOS DE DESAGÜE CON EL VALLADO DE DESCARGA). | E10: ML | F10: =99.5 -> 99.5 | G10: =+'APU 1.2'!I53 -> 47082.72 | H10: =+ROUND((F10*G10),2) -> 4684730.6
B11: 1.3 | C11: APU | D11: CARACTERIZACIÓN FISICOQUÍMICA DE LOS LODOS GENERADOS EN LOS SEDIMENTADORES Y EN EL BIODIGESTOR DE LA PTAR, PARA DETERMINAR SU MANEJO Y DISPOSICIÓN Y VERIFICAR LAS CONDICIONES DEL PROCESO DE TRATAMIENTO DE AGUAS RESIDUALES.(CERTIFICADO SEGUN NORMATIVA) | E11: UND | F11: 1 | G11: =+'APU 1.3'!I55 -> 1856753.5 | H11: =+ROUND((F11*G11),2) -> 1856753.5
B12: 2. REHABILITACION
B13: 2.1 | C13: APU | D13: REHABILITACIÓN MEDIANTE MANTENIMIENTO, INSPECCIÓN, LIMPIEZA, REVISIÓN,VERIFICACIÓN Y AJUSTE DEL ESTADO OPERATIVO DE LAS BOMBAS SUMERGIBLES DE LA ESTACIÓN DE BOMBEO DE LA PTAR, ( Incluye revisión de sus componentes mecánios y eléctricos); AUTOMATIZACIÓN DEL SISTEMA DE BOMBEO, (Contempla la inspección, revisión, ajuste y verificación del tablero de control eléctrico y los demás componentes asociados al sistema de bombeo, incluyendo conexiones, elementos de protección y maniobra); INSTALACIÓN DE CELDAS DE PROTECCIÓN EN ELECTROBOMBAS SUMERGIBLES, (Fabricadas en material especialmente resistente a las condiciones de humedad, corrosión, contacto con aguas residuales y demás condiciones a las que se encuentran expuestas las mismas dentro del la estación de bombeo). | E13: GL | F13: 1 | G13: ='APU 2,1'!I59 -> 26052525 | H13: =ROUND(F13*G13,2) -> 26052525
B14: 2.2 | C14: APU | D14: REHABILITACIÓN MEDIANTE MANTENIMIENTO DE LOS PUENTES GIRATORIOS DE LOS SEDIMENTADORES,ASÍ COMO LA CORRECTA OPERACIÓN Y ROTACIÓN DEL BIODIGESTOR INCLUYENDO EL SISTEMA DE ROTACIÓN DEL BIODIGESTOR DE LODOS DE LA PTAR, INCLUYENDO PALETAS, RASCADORES, BALINERAS, ELEMENTOS DE TRANSMISIÓN Y DEMÁS COMPONENTES MECÁNICOS ASOCIADOS, (Se realizará el reemplazo de las balineras existentes por rodachines de uso industrial, de tipo metálico combinado con goma, de acuerdo con las dimensiones y características requeridas para garantizar un adecuado desplazamiento y soporte de los elementos móviles del sistema. se incluye el reemplazo o cambio de los componentes que presenten desgaste, deterioro o fallas que afecten su funcionamiento, así como las demás actividades necesarias para garantizar el correcto funcionamiento del sistema, la adecuada impulsión de las aguas residuales y la operación eficiente de las bombas hacia las unidades de tratamiento,con el fin de restablecer y garantizar el adecuado funcionamiento de los sistemas de barrido, arrastre y evacuación de lodo). | E14: UND | F14: 3 | G14: ='APU 2,2'!I55 -> 4802370.6 | H14: =ROUND(F14*G14,2) -> 14407112
B15: 2.3 | C15: APU | D15: CALIBRACIÓN DE EQUIPOS DE LABORATORIO (TURBIDÍMETRO, PH-METRO Y BALANZA), INCLUYENDO INSPECCIÓN, REVISIÓN, VERIFICACIÓN METROLÓGICA, AJUSTE, PROVISIÓN DE LOS INSUMOS, PATRONES Y SOLUCIONES DE REFERENCIA REQUERIDOS, TALES COMO PAPEL TORNASOL Y DEMÁS ELEMENTOS NECESARIOS SEGÚN EL EQUIPO, EJECUCIÓN DE PRUEBAS DE FUNCIONAMIENTO, COMPROBACIÓN DE EXACTITUD Y REPETIBILIDAD, EMISIÓN DE LOS RESPECTIVOS CERTIFICADOS DE CALIBRACIÓN Y DEMÁS ACTIVIDADES NECESARIAS PARA GARANTIZAR LA CORRECTA OPERACIÓN Y CONFIABILIDAD DE LAS MEDICIONES. | E15: UND | F15: 3 | G15: ='APU 2,3'!I53 -> 1798291 | H15: =F15*G15 -> 5394873
B16: 2.4 | C16: APU | D16: REHABILITACIÓN DE VÁLVULAS DE COMPUERTA Y CONTROL HIDRÁULICO DE 2 PULGADAS (2") DE LA PTAR, (Mediante actividades de mantenimiento, limpieza, lubricación, ajuste y verificación de su estado operativo, incluyendo la inspección y revisión de sus componentes, accesorios y mecanismos de accionamiento); CAMBIO DE EMPAQUETADURAS EXISTENTES POR EMPAQUETADURAS EN MATERIAL DE NEOPRENO, DE ACUERDO CON LAS DIMENSIONES Y CARACTERÍSTICAS PROPIAS DE LOS ELEMENTOS, CON EL FIN DE GARANTIZAR UN ADECUADO SELLADO Y EVITAR FUGAS. (Se contempla igualmente el reemplazo de componentes y accesorios que presenten desgaste, deterioro o fallas que afecten su funcionamiento , cuando se requieran, garantizando el correcto control y regulación de los caudales y la adecuada operación hidráulica entre las diferentes unidades de tratamiento). | E16: UND | F16: 6 | G16: ='APU 2,4'!I54 -> 487000 | H16: =F16*G16 -> 2922000
B17: 2.5 | C17: APU | D17: REHABILITACIÓN DE VÁLVULAS DE COMPUERTA Y CONTROL HIDRÁULICO DE 3 PULGADAS (3") DE LA PTAR, (Mediante actividades de mantenimiento, limpieza, lubricación, ajuste y verificación de su estado operativo, incluyendo la inspección y revisión de sus componentes, accesorios y mecanismos de accionamiento); CAMBIO DE EMPAQUETADURAS EXISTENTES POR EMPAQUETADURAS EN MATERIAL DE NEOPRENO, DE ACUERDO CON LAS DIMENSIONES Y CARACTERÍSTICAS PROPIAS DE LOS ELEMENTOS, CON EL FIN DE GARANTIZAR UN ADECUADO SELLADO Y EVITAR FUGAS. (Se contempla igualmente el reemplazo de componentes y accesorios que presenten desgaste, deterioro o fallas que afecten su funcionamiento , cuando se requieran, garantizando el correcto control y regulación de los caudales y la adecuada operación hidráulica entre las diferentes unidades de tratamiento). | E17: UND | F17: 9 | G17: ='APU 2,5'!I54 -> 505000 | H17: =F17*G17 -> 4545000
B18: 2.6 | C18: APU | D18: REHABILITACIÓN DE VÁLVULAS DE COMPUERTA TIPO MARIPOSA Y CONTROL HIDRÁULICO DE 4 PULGADAS (4") DE LA PTAR, (Mediante actividades de mantenimiento, limpieza, lubricación, ajuste y verificación de su estado operativo, incluyendo la inspección y revisión de sus componentes, accesorios y mecanismos de accionamiento); CAMBIO DE EMPAQUETADURAS EXISTENTES POR EMPAQUETADURAS EN MATERIAL DE NEOPRENO, DE ACUERDO CON LAS DIMENSIONES Y CARACTERÍSTICAS PROPIAS DE LOS ELEMENTOS, CON EL FIN DE GARANTIZAR UN ADECUADO SELLADO Y EVITAR FUGAS. (Se contempla igualmente el reemplazo de componentes y accesorios que presenten desgaste, deterioro o fallas que afecten su funcionamiento , cuando se requieran, garantizando el correcto control y regulación de los caudales y la adecuada operación hidráulica entre las diferentes unidades de tratamiento). | E18: UND | F18: 10 | G18: ='APU 2,6'!I54 -> 545000 | H18: =F18*G18 -> 5450000
B19: 2.7 | C19: APU | D19: REHABILITACIÓN DE VÁLVULAS DE REGULACIÓN Y CONTROL HIDRÁULICO DE 6 PULGADAS (6") DE LA PTAR, (Mediante actividades de mantenimiento, limpieza, lubricación, ajuste y verificación de su estado operativo, incluyendo la inspección y revisión de sus componentes, accesorios y mecanismos de accionamiento); CAMBIO DE EMPAQUETADURAS EXISTENTES POR EMPAQUETADURAS EN MATERIAL DE NEOPRENO, DE ACUERDO CON LAS DIMENSIONES Y CARACTERÍSTICAS PROPIAS DE LOS ELEMENTOS, CON EL FIN DE GARANTIZAR UN ADECUADO SELLADO Y EVITAR FUGAS. (Se contempla igualmente el reemplazo de componentes y accesorios que presenten desgaste, deterioro o fallas que afecten su funcionamiento , cuando se requieran, garantizando el correcto control y regulación de los caudales y la adecuada operación hidráulica entre las diferentes unidades de tratamiento). | E19: UND | F19: 2 | G19: ='APU 2,7'!I54 -> 621000 | H19: =F19*G19 -> 1242000
B20: 2.8 | C20: APU | D20: REHABILITACIÓN DE VÁLVULAS DE REGULACIÓN TIPO MARIPOSA Y CONTROL HIDRÁULICO DE 8 PULGADAS (8") DE LA PTAR, (Mediante actividades de mantenimiento, limpieza, lubricación, ajuste y verificación de su estado operativo, incluyendo la inspección y revisión de sus componentes, accesorios y mecanismos de accionamiento); CAMBIO DE EMPAQUETADURAS EXISTENTES POR EMPAQUETADURAS EN MATERIAL DE NEOPRENO, DE ACUERDO CON LAS DIMENSIONES Y CARACTERÍSTICAS PROPIAS DE LOS ELEMENTOS, CON EL FIN DE GARANTIZAR UN ADECUADO SELLADO Y EVITAR FUGAS. (Se contempla igualmente el reemplazo de componentes y accesorios que presenten desgaste, deterioro o fallas que afecten su funcionamiento , cuando se requieran, garantizando el correcto control y regulación de los caudales y la adecuada operación hidráulica entre las diferentes unidades de tratamiento). | E20: UND | F20: 2 | G20: ='APU 2,8'!I54 -> 710000 | H20: =ROUND(F20*G20,2) -> 1420000
B21: 3. PUESTA EN MARCHA
B22: 4.1 | C22: APU | D22: ARRANQUE, PUESTA EN MARCHA Y ESTABILIZACIÓN DE LA PTAR, INCLUYENDO LA PUESTA EN RÉGIMEN Y ESTABILIZACIÓN DEL PROCESO BIOLÓGICO EN LOS REACTORES UASB, ASÍ COMO EL ACOMPAÑAMIENTO TÉCNICO PARA LA ADECUADA OPERACIÓN DEL SISTEMA DE TRATAMIENTO, MEDIANTE LA ORIENTACIÓN, VERIFICACIÓN Y SEGUIMIENTO DE LAS ACTIVIDADES OPERATIVAS Y DE CONTROL NECESARIAS PARA RESTABLECER PROGRESIVAMENTE LAS CONDICIONES DEL PROCESO BIOLÓGICO, OPTIMIZAR EL FUNCIONAMIENTO DE LAS DIFERENTES UNIDADES Y GARANTIZAR LA CONTINUIDAD Y EFICIENCIA DEL SISTEMA, UNA VEZ FINALIZADAS LAS OBRAS DE REHABILITACIÓN, MANTENIMIENTO Y ADECUACIÓN. | E22: DIAS | F22: 30 | G22: ='APU 4,1'!I52 -> 462500 | H22: =ROUND(F22*G22,2) -> 13875000
B23: SUBTOTAL | H23: =ROUND(SUM(H9:H22),2) -> 1.3461523e+08
B24: ADMINISTRACION 22% | H24: =ROUND(H23*22%,0) -> 29615351
B25: IMPREVISTOS 3% | H25: =ROUND(H23*3%,0) -> 4038457
B26: UTILIDAD 5% | H26: =ROUND(H23*5%,0) -> 6730762
B27: VALOR TOTAL REDONDEADO AL PESO | H27: =ROUND(SUM(H23:H26),0) -> 174999803

Sheet APU 1.1
C6: ANÁLISIS DE PRECIOS UNITARIOS
C8: No. CAPÍTULO | D8: C A P Í T U L O
C9: 1 | D9: 1. PRELIMINARES, ACTIVIDADES DE LIMPIEZA, LAVADO Y RECUPERACION
C10: No. SUB-CAPÍTULO | D10: S U B - C A P Í T U L O
C11: 1.1 | D11: N/A
D12: DESCRIPCIÓN DE LA ACTIVIDAD | I12: Unidad
D14: LIMPIEZA, LAVADO Y DESINFECCIÓN MANUAL Y/O MECÁNICA DE LAS UNIDADES QUE CONFORMAN LA PTAR (CÁMARA DE ALIVIADERO DE EXCESOS, ESTACIÓN DE BOMBEO, SISTEMA DE PRETRATAMIENTO, REACTORES ANAEROBIOS UASB, SEDIMENTADORES, BIODIGESTOR DE LODOS Y POZOS DE DESAGÜE), PARA RECUPERAR LA CAPACIDAD HIDRÁULICA Y LAS CONDICIONES SANITARIAS DE OPERACIÓN DE LAS ESTRUCTURAS DE TRATAMIENTO DE AGUAS RESIDUALES. | I14: M2
C17: 1. MATERIAL
C18: Descripción | F18: Unidad | G18: Vr. Unitario | H18: Cantidad | I18: Valor parcial
C19: CLORO | F19: GL | G19: 8000 | H19: 0.3 | I19: =ROUND((+IF(C19="","",G19*H19)),2) -> 2400
C20: AGUA POTABLE | F20: M3 | G20: 5700 | H20: 0.5 | I20: =+IF(C20="","",G20*H20) -> 2850
C21: HIPLOCLORITO DE SODIO | F21: GL | G21: 8500 | H21: 0.4 | I21: =+IF(C21="","",G21*H21) -> 3400
I22: =+IF(C22="","",G22*H22)
I23: =+IF(C23="","",G23*H23)
I24: =+IF(C24="","",G24*H24)
I25: =+IF(C25="","",G25*H25)
F26: SUBTOTAL MATERIALES | I26: =+ROUND(SUM(I19:I25),2) -> 8650
C28: 2. EQUIPO
C29: Descripción | F29: Unidad | G29: Vr. Unitario | H29: Cantidad | I29: Valor parcial
C30: HERRAMIENTA Y EQUIPO MENOR (%M.O.) | F30: % | G30: 8767.41 | H30: 1 | I30: =+IF(C30="","",G30*H30) -> 8767.41
C31: HIDROLAVADORA | F31: DIA | G31: 60000 | H31: 0.3 | I31: =+IF(C31="","",G31*H31) -> 18000
C32: VACTOR | F32: HORA | G32: 600000 | H32: 0.01 | I32: =+IF(C32="","",G32*H32) -> 6000
F33: SUBTOTAL EQUIPO | I33: =ROUND(+SUM(I30:I32),2) -> 32767.41
C35: 3. MANO DE OBRA
C36: Descripción | F36: Unidad | G36: Vr. Unitario | H36: Cantidad | I36: Valor parcial
C37: CUADRILLA ASEO (KK) | F37: HC | G37: =54116.67*1.5 -> 81175.005 | H37: 0.5 | I37: =(+IF(C37="","",(G37*H37))) -> 40587.503
I38: =(+IF(C38="","",(G38*H38)))
I39: =(+IF(C39="","",(G39*H39)))
F41: SUBTOTAL MANO DE OBRA | I41: =+ROUND(SUM(I37:I40),2) -> 40587.5
C43: COSTO DIRECTO | I43: =ROUND((SUM(+I26+I33+I41)),2) -> 82004.91
C45: INCREMENTO POR DISTANCIA (F.I.D.) | I45: =+I43*H45 -> 0
C46: TOTAL COSTO DIRECTO + INCREMENTO POR DISTANCIA | I46: =+ROUND(SUM(I45+I43),2) -> 82004.91
C48: ADMINISTRACIÓN | H48: 0 | I48: =+I46*H48 -> 0
C49: IMPREVISTOS | H49: 0 | I49: =+I46*H49 -> 0
C50: UTILIDAD | H50: 0 | I50: =+I46*H50 -> 0
C51: TOTAL COSTOS INDIRECTOS | I51: =ROUND(SUM(I48:I50),2) -> 0
C53: TOTAL COSTOS ACTIVIDAD (INCLUYE AIU E INCREMENTO POR DISTANCIA) | I53: =ROUND(SUM(I46+I51),2) -> 82004.91
C55: OBSERVACIONES:
F57: =REALIZO
F58: Realizó
...

Sheet APU 1.2
C6: ANÁLISIS DE PRECIOS UNITARIOS
C8: No. CAPÍTULO | D8: C A P Í T U L O
C9: 1 | D9: 1. PRELIMINARES, ACTIVIDADES DE LIMPIEZA, LAVADO Y RECUPERACION
C10: No. SUB-CAPÍTULO | D10: S U B - C A P Í T U L O
C11: 1.2 | D11: N/A
D12: DESCRIPCIÓN DE LA ACTIVIDAD | I12: Unidad
D14: LIMPIEZA, LAVADO Y DESINFECCIÓN DE LAS REDES DE CONDUCCIÓN Y DE DESAGÜE QUE INTERCONECTAN LAS UNIDADES DE TRATAMIENTO DE LA PTAR, PARA ELIMINAR OBSTRUCCIONES, INCRUSTACIONES Y SEDIMENTOS Y RESTABLECER EL FLUJO HIDRÁULICO ENTRE ESTRUCTURAS DEL SISTEMA DE AGUAS RESIDUALES(RED DE ALCANTARILLADO QUE CONECTA CON EL ALIVIADERO DE EXCESOS; RED DE CONDUCCIÓN ENTRE EL ALIVIADERO DE EXCESOS Y LA ESTACIÓN DE BOMBEO; DOS (2) POZOS DE DESAGÜE; Y RED DE CONDUCCIÓN QUE CONECTA LOS POZOS DE DESAGÜE CON EL VALLADO DE DESCARGA).. | I14: M2
C17: 1. MATERIAL
C18: Descripción | F18: Unidad | G18: Vr. Unitario | H18: Cantidad | I18: Valor parcial
C19: CLORO | F19: GL | G19: 8000 | H19: 0.3 | I19: =ROUND((+IF(C19="","",G19*H19)),2) -> 2400
C20: AGUA POTABLE | F20: M3 | G20: 5500 | H20: 0.6 | I20: =+IF(C20="","",G20*H20) -> 3300
C21: HIPLOCLORITO DE SODIO | F21: GL | G21: 8000 | H21: 0.3 | I21: =+IF(C21="","",G21*H21) -> 2400
I22: =+IF(C22="","",G22*H22)
I23: =+IF(C23="","",G23*H23)
I24: =+IF(C24="","",G24*H24)
I25: =+IF(C25="","",G25*H25)
F26: SUBTOTAL MATERIALES | I26: =+ROUND(SUM(I19:I25),2) -> 8100
C28: 2. EQUIPO
C29: Descripción | F29: Unidad | G29: Vr. Unitario | H29: Cantidad | I29: Valor parcial
C30: HERRAMIENTA Y EQUIPO MENOR (%M.O.) | F30: % | G30: 8767.41 | H30: 0.3 | I30: =+IF(C30="","",G30*H30) -> 2630.223
C31: HIDROLAVADORA | F31: DIA | G31: 60000 | H31: 0.1 | I31: =+IF(C31="","",G31*H31) -> 6000
C32: VACTOR | F32: HORA | G32: 600000 | H32: 0.01 | I32: =+IF(C32="","",G32*H32) -> 6000
F33: SUBTOTAL EQUIPO | I33: =ROUND(+SUM(I30:I32),2) -> 14630.22
C35: 3. MANO DE OBRA
C36: Descripción | F36: Unidad | G36: Vr. Unitario | H36: Cantidad | I36: Valor parcial
C37: CUADRILLA ASEO (KK) | F37: HC | G37: =54116.67*1.5 -> 81175.005 | H37: 0.3 | I37: =(+IF(C37="","",(G37*H37))) -> 24352.502
I38: =(+IF(C38="","",(G38*H38)))
I39: =(+IF(C39="","",(G39*H39)))
F41: SUBTOTAL MANO DE OBRA | I41: =+ROUND(SUM(I37:I40),2) -> 24352.5
C43: COSTO DIRECTO | I43: =ROUND((SUM(+I26+I33+I41)),2) -> 47082.72
C45: INCREMENTO POR DISTANCIA (F.I.D.) | H45: 0 | I45: =+I43*H45 -> 0
C46: TOTAL COSTO DIRECTO + INCREMENTO POR DISTANCIA | I46: =ROUND(I45+I43,2) -> 47082.72
C48: ADMINISTRACIÓN | H48: 0 | I48: =+I46*H48 -> 0
C49: IMPREVISTOS | H49: 0 | I49: =+I46*H49 -> 0
C50: UTILIDAD | H50: 0 | I50: =+I46*H50 -> 0
C51: TOTAL COSTOS INDIRECTOS | I51: =ROUND(SUM(I48:I50),2) -> 0
C53: TOTAL COSTOS ACTIVIDAD (INCLUYE AIU E INCREMENTO POR DISTANCIA) | I53: =SUM(I46+I51) -> 47082.72
C55: OBSERVACIONES:
F57: =REALIZO
F58: Realizó
...

Sheet APU 1.3
C6: ANÁLISIS DE PRECIOS UNITARIOS
C8: No. CAPÍTULO | D8: C A P Í T U L O
C9: 1 | D9: 1. PRELIMINARES, ACTIVIDADES DE LIMPIEZA, LAVADO Y RECUPERACION
C10: No. SUB-CAPÍTULO | D10: S U B - C A P Í T U L O
C11: 1.3 | D11: N/A
D12: DESCRIPCIÓN DE LA ACTIVIDAD | I12: Unidad
D14: CARACTERIZACIÓN FISICOQUÍMICA DE LOS LODOS GENERADOS EN LOS SEDIMENTADORES Y EN EL BIODIGESTOR DE LA PTAR, PARA DETERMINAR SU MANEJO Y DISPOSICIÓN Y VERIFICAR LAS CONDICIONES DEL PROCESO DE TRATAMIENTO DE AGUAS RESIDUALES.(CERTIFICADO SEGUN NORMATIVA) | I14: UND
C17: 1. MATERIAL
C18: Descripción | F18: Unidad | G18: Vr. Unitario | H18: Cantidad | I18: Valor parcial
C19: BALDE | F19: UND | G19: 29000 | H19: 3 | I19: =ROUND((+IF(C19="","",G19*H19)),2) -> 87000
C20: AZADON | F20: UND | G20: 49000 | H20: 3 | I20: =+IF(C20="","",G20*H20) -> 147000
C21: TOALLAS ABSORBENTES | F21: UND | G21: 10000 | H21: 15 | I21: =+IF(C21="","",G21*H21) -> 150000
C22: HIELO | F22: UND | G22: 20000 | H22: 15 | I22: =+IF(C22="","",G22*H22) -> 300000
C23: NEVERA PORTATIL | F23: UND | G23: 210000 | H23: 2 | I23: =+IF(C23="","",G23*H23) -> 420000
C24: ALCOHOL | F24: ML | G24: 12000 | H24: 15 | I24: =+IF(C24="","",G24*H24) -> 180000
C25: FRASCOS DE MUESTRA | F25: UND | G25: 1800 | H25: 15 | I25: =+IF(C25="","",G25*H25) -> 27000
F26: SUBTOTAL MATERIALES | I26: =+ROUND(SUM(I19:I25),2) -> 1311000
C28: 2. EQUIPO
C29: Descripción | F29: Unidad | G29: Vr. Unitario | H29: Cantidad | I29: Valor parcial
C30: BALANZA | F30: UND | G30: 50000 | H30: 0.2 | I30: =+IF(C30="","",G30*H30) -> 10000
C31: PHIMETRO | F31: UND | G31: 50000 | H31: 0.2 | I31: =+IF(C31="","",G31*H31) -> 10000
C32: TERMOMETRO | F32: UND | G32: 35000 | H32: 0.2 | I32: =+IF(C32="","",G32*H32) -> 7000
C33: HERRAMIENTA Y EQUIPO MENOR (%M.O.) | F33: % | G33: 8767.41 | H33: 0.2 | I33: =G33*H33 -> 1753.482
C34: CONDUCTIMETRO | F34: UND | G34: 60000 | H34: 0.2 | I34: =+IF(C34="","",G34*H34) -> 12000
F35: SUBTOTAL EQUIPO | I35: =ROUND(SUM(I30:I34),2) -> 40753.48
C37: 3. MANO DE OBRA
C38: Descripción | F38: Unidad | G38: Vr. Unitario | H38: Cantidad | I38: Valor parcial
C39: LABORATORISTA AUXILIAR | F39: DIA | G39: 10375 | H39: 20 | I39: =(+IF(C39="","",(G39*H39))) -> 207500
C40: LABORATORISTA INSPECTOR | F40: DIA | G40: 14875 | H40: 20 | I40: =(+IF(C40="","",(G40*H40))) -> 297500
I41: =(+IF(C41="","",(G41*H41)))
F43: SUBTOTAL MANO DE OBRA | I43: =+ROUND(SUM(I39:I42),2) -> 505000
C45: COSTO DIRECTO | I45: =ROUND((SUM(+I26+I35+I43)),2) -> 1856753.5
C47: INCREMENTO POR DISTANCIA (F.I.D.) | H47: 0 | I47: =+I45*H47 -> 0
C48: TOTAL COSTO DIRECTO + INCREMENTO POR DISTANCIA | I48: =ROUND(I47+I45,2) -> 1856753.5
C50: ADMINISTRACIÓN | H50: 0 | I50: =+I48*H50 -> 0
C51: IMPREVISTOS | H51: 0 | I51: =+I48*H51 -> 0
C52: UTILIDAD | H52: 0 | I52: =+I48*H52 -> 0
C53: TOTAL COSTOS INDIRECTOS | I53: =ROUND(SUM(I50:I52),2) -> 0
C55: TOTAL COSTOS ACTIVIDAD (INCLUYE AIU E INCREMENTO POR DISTANCIA) | I55: =SUM(I48+I53) -> 1856753.5
C57: OBSERVACIONES:
...

Sheet APU 2,1
C6: ANÁLISIS DE PRECIOS UNITARIOS
C8: No. CAPÍTULO | D8: C A P Í T U L O
C9: 2 | D9: 2 REHABILITACION
C10: No. SUB-CAPÍTULO | D10: S U B - C A P Í T U L O
C11: 2.1 | D11: N/A
D12: DESCRIPCIÓN DE LA ACTIVIDAD | I12: Unidad
D14: REHABILITACIÓN MEDIANTE MANTENIMIENTO, INSPECCIÓN, LIMPIEZA, REVISIÓN,VERIFICACIÓN Y AJUSTE DEL ESTADO OPERATIVO DE LAS ELECTROBOMBAS SUMERGIBLES DE LA ESTACIÓN DE BOMBEO DE LA PTAR, ( Incluye revisión de sus componentes mecánios y eléctricos); AUTOMATIZACIÓN DEL SISTEMA DE BOMBEO, (Contempla la inspección, revisión, ajuste y verificación del tablero de control eléctrico y los demás componentes asociados al sistema de bombeo, incluyendo conexiones, elementos de protección y maniobra); INSTALACIÓN DE CELDAS DE PROTECCIÓN EN ELECTROBOMBAS SUMERGIBLES, (Fabricadas en material especialmente resistente a las condiciones de humedad, corrosión, contacto con aguas residuales y demás condiciones a las que se encuentran expuestas las mismas dentro del la estación de bombeo). | I14: GL
C17: 1. MATERIAL
C18: Descripción | F18: Unidad | G18: Vr. Unitario | H18: Cantidad | I18: Valor parcial
C19: GRASA | F19: UND | G19: 20000 | H19: 11 | I19: =ROUND((+IF(C19="","",G19*H19)),2) -> 220000
C20: DESENGRASANTE | F20: L | G20: 20000 | H20: 12 | I20: =+IF(C20="","",G20*H20) -> 240000
C21: CEPILLOS Y ELEMENTOS DE LIMPIEZA | F21: GL | G21: 11000 | H21: 15 | I21: =+IF(C21="","",G21*H21) -> 165000
C22: LIMPIADOR DIELECTRICO | F22: UND | G22: 25000 | H22: 3 | I22: =+IF(C22="","",G22*H22) -> 75000
C23: CINTA AISLANTE | F23: UND | G23: 7000 | H23: 12 | I23: =+IF(C23="","",G23*H23) -> 84000
C24: CONECTORES ELECTRICOS | F24: GL | G24: 15000 | H24: 15 | I24: =+IF(C24="","",G24*H24) -> 225000
C25: TORNILLERIA Y ELEMENTOS DE FIJACION | F25: UND | G25: 50000 | H25: 10 | I25: =G25*H25 -> 500000
C26: CABLE ELECTRICO | F26: M | G26: 12000 | H26: 10 | I26: =+IF(C26="","",G26*H26) -> 120000
F27: SUBTOTAL MATERIALES | I27: =+ROUND(SUM(I19:I26),2) -> 1629000
C29: 2. EQUIPO
C30: Descripción | F30: Unidad | G30: Vr. Unitario | H30: Cantidad | I30: Valor parcial
C31: HIDROLAVADORA | F31: DIA | G31: 60 | H31: 0.6 | I31: =+IF(C31="","",G31*H31) -> 36
C32: POLIPASTO | F32: DIA | G32: 25 | H32: 0.5 | I32: =+IF(C32="","",G32*H32) -> 12.5
C33: PINZA AMPERIMETRICA | F33: DIA | G33: 8 | H33: 0.5 | I33: =+IF(C33="","",G33*H33) -> 4
C34: MULTIMETRO | F34: DIA | G34: 60000 | H34: 0.8 | I34: =+IF(C34="","",G34*H34) -> 48000
C35: PINZA AMPERIMETRICA | F35: DIA | G35: 70000 | H35: 0.8 | I35: =+IF(C35="","",G35*H35) -> 56000
C36: MEGOMETRO | F36: DIA | G36: 100000 | H36: 0.8 | I36: =+IF(C36="","",G36*H36) -> 80000
C37: HERRAMIENTA DE ELECTRICISTA | F37: DIA | G37: 80000 | H37: 0.8 | I37: =+IF(C37="","",G37*H37) -> 64000
C38: HERRAMIENTA Y EQUIPO MENOR (%M.O.) | F38: % | G38: 65463.31 | H38: 50 | I38: =+IF(C38="","",G38*H38) -> 3273165.5
F39: SUBTOTAL EQUIPO | I39: =ROUND(+SUM(I31:I38),2) -> 3521218
C41: 3. MANO DE OBRA
C42: Descripción | F42: Unidad | G42: Vr. Unitario | H42: Cantidad | I42: Valor parcial
C43: CUADRILLA (BB), OFICIAL | F43: DIA | G43: 21041.78 | H43: 15 | I43: =(+IF(C43="","",(G43*H43))) -> 315626.7
C44: CUADRILLA (BB), AYUDANTE | F44: DIA | G44: 14027.85 | H44: 15 | I44: =(+IF(C44="","",(G44*H44))) -> 210417.75
C45: TECNICO ELECTRICISTA | F45: DIA | G45: 300000 | H45: 15 | I45: =(+IF(C45="","",(G45*H45))) -> 4500000
C46: AUXILIAR ELECTRICISTA | F46: DIA | G46: 190000 | H46: 15 | I46: =(+IF(C46="","",(G46*H46))) -> 2850000
F47: SUBTOTAL MANO DE OBRA | I47: =+ROUND(SUM(I43:I46),2) -> 7876044.5
C49: COSTO DIRECTO | I49: =ROUND((SUM(+I27+I39+I47)),2) -> 13026262
C51: INCREMENTO POR DISTANCIA (F.I.D.) | H51: 0 | I51: =+I49*H51 -> 0
C52: TOTAL COSTO DIRECTO + INCREMENTO POR DISTANCIA | I52: =ROUND(I51+I49,2) -> 13026262
C54: ADMINISTRACIÓN | H54: 0 | I54: =+I52*H54 -> 0
...

Sheet APU 2,2
C6: ANÁLISIS DE PRECIOS UNITARIOS
C8: No. CAPÍTULO | D8: C A P Í T U L O
C9: 2 | D9: 2 REHABILITACION
C10: No. SUB-CAPÍTULO | D10: S U B - C A P Í T U L O
C11: 2.2 | D11: N/A
D12: DESCRIPCIÓN DE LA ACTIVIDAD | I12: Unidad
D14: REHABILITACIÓN MEDIANTE MANTENIMIENTO DE LOS PUENTES GIRATORIOS DE LOS SEDIMENTADORES,ASÍ COMO LA CORRECTA OPERACIÓN Y ROTACIÓN DEL BIODIGESTOR INCLUYENDO EL SISTEMA DE ROTACIÓN DEL BIODIGESTOR DE LODOS DE LA PTAR, INCLUYENDO PALETAS, RASCADORES, BALINERAS, ELEMENTOS DE TRANSMISIÓN Y DEMÁS COMPONENTES MECÁNICOS ASOCIADOS, (Se realizará el reemplazo de las balineras existentes por rodachines de uso industrial, de tipo metálico combinado con goma, de acuerdo con las dimensiones y características requeridas para garantizar un adecuado desplazamiento y soporte de los elementos móviles del sistema. se incluye el reemplazo o cambio de los componentes que presenten desgaste, deterioro o fallas que afecten su funcionamiento, así como las demás actividades necesarias para garantizar el correcto funcionamiento del sistema, la adecuada impulsión de las aguas residuales y la operación eficiente de las bombas hacia las unidades de tratamiento,con el fin de restablecer y garantizar el adecuado funcionamiento de los sistemas de barrido, arrastre y evacuación de lodo). | I14: UND
C17: 1. MATERIAL
C18: Descripción | F18: Unidad | G18: Vr. Unitario | H18: Cantidad | I18: Valor parcial
C19: GRASA INDUSTRIAL | F19: KG | G19: 35000 | H19: 1 | I19: =ROUND((+IF(C19="","",G19*H19)),2) -> 35000
C20: ANTICORROSIVO | F20: GALON | G20: 180000 | H20: 1 | I20: =+IF(C20="","",G20*H20) -> 180000
C21: CABLEADO, TERMINALES Y ACCESORIOS | F21: UND | G21: 180000 | H21: 1 | I21: =+IF(C21="","",G21*H21) -> 180000
C22: ELECTRODOS, SOLDADURA | F22: UND | G22: 120000 | H22: 1 | I22: =+IF(C22="","",G22*H22) -> 120000
C23: TORNILLERIA | F23: UND | G23: 160000 | H23: 1 | I23: =+IF(C23="","",G23*H23) -> 160000
C24: RODAMIENTOS | F24: UND | G24: 160000 | H24: 1 | I24: =+IF(C24="","",G24*H24) -> 160000
I25: =+IF(C25="","",G25*H25)
F26: SUBTOTAL MATERIALES | I26: =+ROUND(SUM(I19:I25),2) -> 835000
C28: 2. EQUIPO
C29: Descripción | F29: Unidad | G29: Vr. Unitario | H29: Cantidad | I29: Valor parcial
C30: HIDROLAVADORA INDUSTRIAL | F30: H | G30: 30000 | H30: 0.6 | I30: =+IF(C30="","",G30*H30) -> 18000
C31: EQUIPO SOLDADURA | F31: DIA | G31: 120000 | H31: 0.4 | I31: =+IF(C31="","",G31*H31) -> 48000
C32: MULTIMETRO | F32: DIA | G32: 80000 | H32: 0.4 | I32: =+IF(C32="","",G32*H32) -> 32000
C33: HERRAMIENTA Y EQUIPO MENOR (%M.O.) | F33: % | G33: 65463.31 | H33: 0.4 | I33: =+IF(C33="","",G33*H33) -> 26185.324
C34: PULIDORA | F34: DIA | G34: 80000 | H34: 0.4 | I34: =+IF(C34="","",G34*H34) -> 32000
F35: SUBTOTAL EQUIPO | I35: =ROUND(+SUM(I30:I34),2) -> 156185.32
C37: 3. MANO DE OBRA
C38: Descripción | F38: Unidad | G38: Vr. Unitario | H38: Cantidad | I38: Valor parcial
C39: CUADRILLA DE INSTALACIONES BB
C40: OFICIAL – CUADRILLA BB | F40: DIA | G40: 280000 | H40: 2 | I40: =(+IF(C40="","",(G40*H40))) -> 560000
C41: AYUDANTE – CUADRILLA BB | F41: DIA | G41: 180000 | H41: 2 | I41: =(+IF(C41="","",(G41*H41))) -> 360000
C42: TECNICO ELECTROMECANICO ESPECIALIZADO | F42: DIA | G42: 245000 | H42: 2 | I42: =(+IF(C42="","",(G42*H42))) -> 490000
F43: SUBTOTAL MANO DE OBRA | I43: =+ROUND(SUM(I39:I42),2) -> 1410000
C45: COSTO DIRECTO | I45: =ROUND((SUM(+I26+I35+I43)),2) -> 2401185.3
C47: INCREMENTO POR DISTANCIA (F.I.D.) | H47: 0 | I47: =+I45*H47 -> 0
C48: TOTAL COSTO DIRECTO + INCREMENTO POR DISTANCIA | I48: =ROUND(I47+I45,2) -> 2401185.3
C50: ADMINISTRACIÓN | H50: 0 | I50: =+I48*H50 -> 0
C51: IMPREVISTOS | H51: 0 | I51: =+I48*H51 -> 0
C52: UTILIDAD | H52: 0 | I52: =+I48*H52 -> 0
C53: TOTAL COSTOS INDIRECTOS | I53: =ROUND(SUM(I50:I52),2) -> 0
C55: TOTAL COSTOS ACTIVIDAD (INCLUYE AIU E INCREMENTO POR DISTANCIA) | I55: =SUM(I48+I53)*2 -> 4802370.6
...

Sheet APU 2,3
C6: ANÁLISIS DE PRECIOS UNITARIOS
C8: No. CAPÍTULO | D8: C A P Í T U L O
C9: 2 | D9: 4. PUESTA EN MARCHA
C10: No. SUB-CAPÍTULO | D10: S U B - C A P Í T U L O
C11: 2.3 | D11: N/A
D12: DESCRIPCIÓN DE LA ACTIVIDAD | I12: Unidad
D14: CALIBRACIÓN DE EQUIPOS DE LABORATORIO (TURBIDÍMETRO, PH-METRO Y BALANZA), INCLUYENDO INSPECCIÓN, REVISIÓN, VERIFICACIÓN METROLÓGICA, AJUSTE, PROVISIÓN DE LOS INSUMOS, PATRONES Y SOLUCIONES DE REFERENCIA REQUERIDOS, TALES COMO PAPEL TORNASOL Y DEMÁS ELEMENTOS NECESARIOS SEGÚN EL EQUIPO, EJECUCIÓN DE PRUEBAS DE FUNCIONAMIENTO, COMPROBACIÓN DE EXACTITUD Y REPETIBILIDAD, EMISIÓN DE LOS RESPECTIVOS CERTIFICADOS DE CALIBRACIÓN Y DEMÁS ACTIVIDADES NECESARIAS PARA GARANTIZAR LA CORRECTA OPERACIÓN Y CONFIABILIDAD DE LAS MEDICIONES. | I14: UND
C17: 1. MATERIAL
C18: Descripción | F18: Unidad | G18: Vr. Unitario | H18: Cantidad | I18: Valor parcial
C19: SOLUCIONES BUFFER | F19: UND | G19: 180000 | H19: 1 | I19: =ROUND((+IF(C19="","",G19*H19)),2) -> 180000
C20: SOLUCION PATRON DE CONDUCTIVIDAD | F20: UND | G20: 120000 | H20: 1 | I20: =+IF(C20="","",G20*H20) -> 120000
C21: SOLUCIONES PARA OXIGENO DISUELTO | F21: UND | G21: 100000 | H21: 2 | I21: =+IF(C21="","",G21*H21) -> 200000
C22: RECTIVOS PARA ANALISIS EN SITU | F22: UND | G22: 350000 | H22: 1 | I22: =+IF(C22="","",G22*H22) -> 350000
C23: TUBOS, RECIPIENTES Y CONSUMIBLES | F23: UND | G23: 180000 | H23: 1 | I23: =+IF(C23="","",G23*H23) -> 180000
I24: =+IF(C24="","",G24*H24)
I25: =+IF(C25="","",G25*H25)
F26: SUBTOTAL MATERIALES | I26: =+ROUND(SUM(I19:I25),2) -> 1030000
C28: 2. EQUIPO
C29: Descripción | F29: Unidad | G29: Vr. Unitario | H29: Cantidad | I29: Valor parcial
C30: EQUIPOS PORTATILES DE MEDICION | F30: UND | G30: 250000 | H30: 0.8 | I30: =+IF(C30="","",G30*H30) -> 200000
C31: HERRAMIENTA MENOR | F31: UND | G31: 200000 | H31: 0.8 | I31: =+IF(C31="","",G31*H31) -> 160000
I32: =+IF(C32="","",G32*H32)
F33: SUBTOTAL EQUIPO | I33: =ROUND(+SUM(I30:I32),2) -> 360000
C35: 3. MANO DE OBRA
C36: Descripción | F36: Unidad | G36: Vr. Unitario | H36: Cantidad | I36: Valor parcial
C37: TECNICO DE LABORATORIO | F37: DIA | G37: 350000 | H37: 0.87 | I37: =(+IF(C37="","",(G37*H37))) -> 304500
C38: LABORATORISTA AUXILIAR | F38: DIA | G38: 119300 | H38: 0.87 | I38: =(+IF(C38="","",(G38*H38))) -> 103791
I39: =(+IF(C39="","",(G39*H39)))
F41: SUBTOTAL MANO DE OBRA | I41: =+ROUND(SUM(I37:I40),2) -> 408291
C43: COSTO DIRECTO | I43: =ROUND((SUM(+I26+I33+I41)),2) -> 1798291
C45: INCREMENTO POR DISTANCIA (F.I.D.) | H45: 0 | I45: =+I43*H45 -> 0
C46: TOTAL COSTO DIRECTO + INCREMENTO POR DISTANCIA | I46: =ROUND(I45+I43,2) -> 1798291
C48: ADMINISTRACIÓN | H48: 0 | I48: =+I46*H48 -> 0
C49: IMPREVISTOS | H49: 0 | I49: =+I46*H49 -> 0
C50: UTILIDAD | H50: 0 | I50: =+I46*H50 -> 0
C51: TOTAL COSTOS INDIRECTOS | I51: =ROUND(SUM(I48:I50),2) -> 0
C53: TOTAL COSTOS ACTIVIDAD (INCLUYE AIU E INCREMENTO POR DISTANCIA) | I53: =SUM(I46+I51) -> 1798291
C55: OBSERVACIONES:
F57: =REALIZO
F58: Realizó
...

Sheet APU 2,4
C6: ANÁLISIS DE PRECIOS UNITARIOS
C8: No. CAPÍTULO | D8: C A P Í T U L O
C9: 2 | D9: 2 REHABILITACION
C10: No. SUB-CAPÍTULO | D10: S U B - C A P Í T U L O
C11: 2.4 | D11: N/A
D12: DESCRIPCIÓN DE LA ACTIVIDAD | I12: Unidad
D14: REHABILITACIÓN DE VÁLVULAS DE COMPUERTA Y CONTROL HIDRÁULICO DE 2 PULGADAS (2") DE LA PTAR, (Mediante actividades de mantenimiento, limpieza, lubricación, ajuste y verificación de su estado operativo, incluyendo la inspección y revisión de sus componentes, accesorios y mecanismos de accionamiento); CAMBIO DE EMPAQUETADURAS EXISTENTES POR EMPAQUETADURAS EN MATERIAL DE NEOPRENO, DE ACUERDO CON LAS DIMENSIONES Y CARACTERÍSTICAS PROPIAS DE LOS ELEMENTOS, CON EL FIN DE GARANTIZAR UN ADECUADO SELLADO Y EVITAR FUGAS. (Se contempla igualmente el reemplazo de componentes y accesorios que presenten desgaste, deterioro o fallas que afecten su funcionamiento , cuando se requieran, garantizando el correcto control y regulación de los caudales y la adecuada operación hidráulica entre las diferentes unidades de tratamiento). | I14: UND
C17: 1. MATERIAL
C18: Descripción | F18: Unidad | G18: Vr. Unitario | H18: Cantidad | I18: Valor parcial
C19: GRASA, LUBRICANTE INDUSTRIAL | F19: KG | G19: 35000 | H19: 2 | I19: =ROUND((+IF(C19="","",G19*H19)),2) -> 70000
C20: ACEITE LUBRICANTES | F20: L | G20: 45000 | H20: 3 | I20: =+IF(C20="","",G20*H20) -> 135000
C21: EMPAQUES Y SELLOS | F21: UND | G21: 60000 | H21: 2 | I21: =+IF(C21="","",G21*H21) -> 120000
C22: TORNILLERIA | F22: UND | G22: 35000 | H22: 3 | I22: =+IF(C22="","",G22*H22) -> 105000
I23: =+IF(C23="","",G23*H23)
I24: =+IF(C24="","",G24*H24)
I25: =+IF(C25="","",G25*H25)
F26: SUBTOTAL MATERIALES | I26: =+ROUND(SUM(I19:I25),2) -> 430000
C28: 2. EQUIPO
C29: Descripción | F29: Unidad | G29: Vr. Unitario | H29: Cantidad | I29: Valor parcial
C30: HERRAMIENTA MENOR | F30: UND | G30: 60000 | H30: 0.5 | I30: =+IF(C30="","",G30*H30) -> 30000
C31: EQUIPO DE LIMPIEZA | F31: UND | G31: 30000 | H31: 0.3 | I31: =+IF(C31="","",G31*H31) -> 9000
I32: =+IF(C32="","",G32*H32)
I33: =+IF(C33="","",G33*H33)
F34: SUBTOTAL EQUIPO | I34: =ROUND(+SUM(I30:I33),2) -> 39000
C36: 3. MANO DE OBRA
C37: Descripción | F37: Unidad | G37: Vr. Unitario | H37: Cantidad | I37: Valor parcial
C38: OFICIAL MANTENIMIENTO HIDRAULICO | F38: DIA | G38: 35000 | H38: 0.3 | I38: =(+IF(C38="","",(G38*H38))) -> 10500
C39: AYUDANTE MANTENIMIENTO | F39: DIA | G39: 25000 | H39: 0.3 | I39: =(+IF(C39="","",(G39*H39))) -> 7500
I40: =(+IF(C40="","",(G40*H40)))
F42: SUBTOTAL MANO DE OBRA | I42: =+ROUND(SUM(I38:I41),2) -> 18000
C44: COSTO DIRECTO | I44: =ROUND((SUM(+I26+I34+I42)),2) -> 487000
C46: INCREMENTO POR DISTANCIA (F.I.D.) | H46: 0 | I46: =+I44*H46 -> 0
C47: TOTAL COSTO DIRECTO + INCREMENTO POR DISTANCIA | I47: =ROUND(I46+I44,2) -> 487000
C49: ADMINISTRACIÓN | H49: 0 | I49: =+I47*H49 -> 0
C50: IMPREVISTOS | H50: 0 | I50: =+I47*H50 -> 0
C51: UTILIDAD | H51: 0 | I51: =+I47*H51 -> 0
C52: TOTAL COSTOS INDIRECTOS | I52: =ROUND(SUM(I49:I51),2) -> 0
C54: TOTAL COSTOS ACTIVIDAD (INCLUYE AIU E INCREMENTO POR DISTANCIA) | I54: =SUM(I47+I52) -> 487000
C56: OBSERVACIONES:
F58: =REALIZO
...

Sheet APU 2,5
C6: ANÁLISIS DE PRECIOS UNITARIOS
C8: No. CAPÍTULO | D8: C A P Í T U L O
C9: 2 | D9: 2 REHABILITACION
C10: No. SUB-CAPÍTULO | D10: S U B - C A P Í T U L O
C11: 2.5 | D11: N/A
D12: DESCRIPCIÓN DE LA ACTIVIDAD | I12: Unidad
D14: REHABILITACIÓN DE VÁLVULAS DE COMPUERTA Y CONTROL HIDRÁULICO DE 3 PULGADAS (3") DE LA PTAR, (Mediante actividades de mantenimiento, limpieza, lubricación, ajuste y verificación de su estado operativo, incluyendo la inspección y revisión de sus componentes, accesorios y mecanismos de accionamiento); CAMBIO DE EMPAQUETADURAS EXISTENTES POR EMPAQUETADURAS EN MATERIAL DE NEOPRENO, DE ACUERDO CON LAS DIMENSIONES Y CARACTERÍSTICAS PROPIAS DE LOS ELEMENTOS, CON EL FIN DE GARANTIZAR UN ADECUADO SELLADO Y EVITAR FUGAS. (Se contempla igualmente el reemplazo de componentes y accesorios que presenten desgaste, deterioro o fallas que afecten su funcionamiento , cuando se requieran, garantizando el correcto control y regulación de los caudales y la adecuada operación hidráulica entre las diferentes unidades de tratamiento). | I14: UND
C17: 1. MATERIAL
C18: Descripción | F18: Unidad | G18: Vr. Unitario | H18: Cantidad | I18: Valor parcial
C19: GRASA, LUBRICANTE INDUSTRIAL | F19: KG | G19: 35000 | H19: 2 | I19: =ROUND((+IF(C19="","",G19*H19)),2) -> 70000
C20: ACEITE LUBRICANTES | F20: L | G20: 45000 | H20: 3 | I20: =+IF(C20="","",G20*H20) -> 135000
C21: EMPAQUES Y SELLOS | F21: UND | G21: 60000 | H21: 2 | I21: =+IF(C21="","",G21*H21) -> 120000
C22: TORNILLERIA | F22: UND | G22: 35000 | H22: 3 | I22: =+IF(C22="","",G22*H22) -> 105000
I23: =+IF(C23="","",G23*H23)
I24: =+IF(C24="","",G24*H24)
I25: =+IF(C25="","",G25*H25)
F26: SUBTOTAL MATERIALES | I26: =+ROUND(SUM(I19:I25),2) -> 430000
C28: 2. EQUIPO
C29: Descripción | F29: Unidad | G29: Vr. Unitario | H29: Cantidad | I29: Valor parcial
C30: HERRAMIENTA MENOR | F30: UND | G30: 60000 | H30: 0.8 | I30: =+IF(C30="","",G30*H30) -> 48000
C31: EQUIPO DE LIMPIEZA | F31: UND | G31: 30000 | H31: 0.3 | I31: =+IF(C31="","",G31*H31) -> 9000
I32: =+IF(C32="","",G32*H32)
I33: =+IF(C33="","",G33*H33)
F34: SUBTOTAL EQUIPO | I34: =ROUND(+SUM(I30:I33),2) -> 57000
C36: 3. MANO DE OBRA
C37: Descripción | F37: Unidad | G37: Vr. Unitario | H37: Cantidad | I37: Valor parcial
C38: OFICIAL MANTENIMIENTO HIDRAULICO | F38: DIA | G38: 35000 | H38: 0.3 | I38: =(+IF(C38="","",(G38*H38))) -> 10500
C39: AYUDANTE MANTENIMIENTO | F39: DIA | G39: 25000 | H39: 0.3 | I39: =(+IF(C39="","",(G39*H39))) -> 7500
I40: =(+IF(C40="","",(G40*H40)))
F42: SUBTOTAL MANO DE OBRA | I42: =+ROUND(SUM(I38:I41),2) -> 18000
C44: COSTO DIRECTO | I44: =ROUND((SUM(+I26+I34+I42)),2) -> 505000
C46: INCREMENTO POR DISTANCIA (F.I.D.) | H46: 0 | I46: =+I44*H46 -> 0
C47: TOTAL COSTO DIRECTO + INCREMENTO POR DISTANCIA | I47: =ROUND(I46+I44,2) -> 505000
C49: ADMINISTRACIÓN | H49: 0 | I49: =+I47*H49 -> 0
C50: IMPREVISTOS | H50: 0 | I50: =+I47*H50 -> 0
C51: UTILIDAD | H51: 0 | I51: =+I47*H51 -> 0
C52: TOTAL COSTOS INDIRECTOS | I52: =ROUND(SUM(I49:I51),2) -> 0
C54: TOTAL COSTOS ACTIVIDAD (INCLUYE AIU E INCREMENTO POR DISTANCIA) | I54: =SUM(I47+I52) -> 505000
C56: OBSERVACIONES:
F58: =REALIZO
...

Sheet APU 2,6
C6: ANÁLISIS DE PRECIOS UNITARIOS
C8: No. CAPÍTULO | D8: C A P Í T U L O
C9: 2 | D9: 2 REHABILITACION
C10: No. SUB-CAPÍTULO | D10: S U B - C A P Í T U L O
C11: 2.6 | D11: N/A
D12: DESCRIPCIÓN DE LA ACTIVIDAD | I12: Unidad
D14: REHABILITACIÓN DE VÁLVULAS DE COMPUERTA TIPO MARIPOSA Y CONTROL HIDRÁULICO DE 4 PULGADAS (4") DE LA PTAR, (Mediante actividades de mantenimiento, limpieza, lubricación, ajuste y verificación de su estado operativo, incluyendo la inspección y revisión de sus componentes, accesorios y mecanismos de accionamiento); CAMBIO DE EMPAQUETADURAS EXISTENTES POR EMPAQUETADURAS EN MATERIAL DE NEOPRENO, DE ACUERDO CON LAS DIMENSIONES Y CARACTERÍSTICAS PROPIAS DE LOS ELEMENTOS, CON EL FIN DE GARANTIZAR UN ADECUADO SELLADO Y EVITAR FUGAS. (Se contempla igualmente el reemplazo de componentes y accesorios que presenten desgaste, deterioro o fallas que afecten su funcionamiento , cuando se requieran, garantizando el correcto control y regulación de los caudales y la adecuada operación hidráulica entre las diferentes unidades de tratamiento). | I14: UND
C17: 1. MATERIAL
C18: Descripción | F18: Unidad | G18: Vr. Unitario | H18: Cantidad | I18: Valor parcial
C19: GRASA, LUBRICANTE INDUSTRIAL | F19: KG | G19: 35000 | H19: 2 | I19: =ROUND((+IF(C19="","",G19*H19)),2) -> 70000
C20: ACEITE LUBRICANTES | F20: L | G20: 45000 | H20: 2 | I20: =+IF(C20="","",G20*H20) -> 90000
C21: EMPAQUES Y SELLOS | F21: UND | G21: 60000 | H21: 4 | I21: =+IF(C21="","",G21*H21) -> 240000
C22: TORNILLERIA | F22: UND | G22: 35000 | H22: 2 | I22: =+IF(C22="","",G22*H22) -> 70000
I23: =+IF(C23="","",G23*H23)
I24: =+IF(C24="","",G24*H24)
I25: =+IF(C25="","",G25*H25)
F26: SUBTOTAL MATERIALES | I26: =+ROUND(SUM(I19:I25),2) -> 470000
C28: 2. EQUIPO
C29: Descripción | F29: Unidad | G29: Vr. Unitario | H29: Cantidad | I29: Valor parcial
C30: HERRAMIENTA MENOR | F30: UND | G30: 60000 | H30: 0.6 | I30: =+IF(C30="","",G30*H30) -> 36000
C31: EQUIPO DE LIMPIEZA | F31: UND | G31: 30000 | H31: 0.3 | I31: =+IF(C31="","",G31*H31) -> 9000
I32: =+IF(C32="","",G32*H32)
I33: =+IF(C33="","",G33*H33)
F34: SUBTOTAL EQUIPO | I34: =ROUND(+SUM(I30:I33),2) -> 45000
C36: 3. MANO DE OBRA
C37: Descripción | F37: Unidad | G37: Vr. Unitario | H37: Cantidad | I37: Valor parcial
C38: OFICIAL MANTENIMIENTO HIDRAULICO | F38: DIA | G38: 35000 | H38: 0.5 | I38: =(+IF(C38="","",(G38*H38))) -> 17500
C39: AYUDANTE MANTENIMIENTO | F39: DIA | G39: 25000 | H39: 0.5 | I39: =(+IF(C39="","",(G39*H39))) -> 12500
I40: =(+IF(C40="","",(G40*H40)))
F42: SUBTOTAL MANO DE OBRA | I42: =+ROUND(SUM(I38:I41),2) -> 30000
C44: COSTO DIRECTO | I44: =ROUND((SUM(+I26+I34+I42)),2) -> 545000
C46: INCREMENTO POR DISTANCIA (F.I.D.) | H46: 0 | I46: =+I44*H46 -> 0
C47: TOTAL COSTO DIRECTO + INCREMENTO POR DISTANCIA | I47: =ROUND(I46+I44,2) -> 545000
C49: ADMINISTRACIÓN | H49: 0 | I49: =+I47*H49 -> 0
C50: IMPREVISTOS | H50: 0 | I50: =+I47*H50 -> 0
C51: UTILIDAD | H51: 0 | I51: =+I47*H51 -> 0
C52: TOTAL COSTOS INDIRECTOS | I52: =ROUND(SUM(I49:I51),2) -> 0
C54: TOTAL COSTOS ACTIVIDAD (INCLUYE AIU E INCREMENTO POR DISTANCIA) | I54: =SUM(I47+I52) -> 545000
C56: OBSERVACIONES:
F58: =REALIZO
...

Sheet APU 2,7
C6: ANÁLISIS DE PRECIOS UNITARIOS
C8: No. CAPÍTULO | D8: C A P Í T U L O
C9: 2 | D9: 2 REHABILITACION
C10: No. SUB-CAPÍTULO | D10: S U B - C A P Í T U L O
C11: 2.7 | D11: N/A
D12: DESCRIPCIÓN DE LA ACTIVIDAD | I12: Unidad
D14: REHABILITACIÓN DE VÁLVULAS DE REGULACIÓN Y CONTROL HIDRÁULICO DE 6 PULGADAS (6") DE LA PTAR, (Mediante actividades de mantenimiento, limpieza, lubricación, ajuste y verificación de su estado operativo, incluyendo la inspección y revisión de sus componentes, accesorios y mecanismos de accionamiento); CAMBIO DE EMPAQUETADURAS EXISTENTES POR EMPAQUETADURAS EN MATERIAL DE NEOPRENO, DE ACUERDO CON LAS DIMENSIONES Y CARACTERÍSTICAS PROPIAS DE LOS ELEMENTOS, CON EL FIN DE GARANTIZAR UN ADECUADO SELLADO Y EVITAR FUGAS. (Se contempla igualmente el reemplazo de componentes y accesorios que presenten desgaste, deterioro o fallas que afecten su funcionamiento , cuando se requieran, garantizando el correcto control y regulación de los caudales y la adecuada operación hidráulica entre las diferentes unidades de tratamiento). | I14: UND
C17: 1. MATERIAL
C18: Descripción | F18: Unidad | G18: Vr. Unitario | H18: Cantidad | I18: Valor parcial
C19: GRASA, LUBRICANTE INDUSTRIAL | F19: KG | G19: 35000 | H19: 3 | I19: =ROUND((+IF(C19="","",G19*H19)),2) -> 105000
C20: ACEITE LUBRICANTES | F20: L | G20: 45000 | H20: 3 | I20: =+IF(C20="","",G20*H20) -> 135000
C21: EMPAQUES Y SELLOS | F21: UND | G21: 60000 | H21: 3 | I21: =+IF(C21="","",G21*H21) -> 180000
C22: TORNILLERIA | F22: UND | G22: 35000 | H22: 3 | I22: =+IF(C22="","",G22*H22) -> 105000
I23: =+IF(C23="","",G23*H23)
I24: =+IF(C24="","",G24*H24)
I25: =+IF(C25="","",G25*H25)
F26: SUBTOTAL MATERIALES | I26: =+ROUND(SUM(I19:I25),2) -> 525000
C28: 2. EQUIPO
C29: Descripción | F29: Unidad | G29: Vr. Unitario | H29: Cantidad | I29: Valor parcial
C30: HERRAMIENTA MENOR | F30: UND | G30: 60000 | H30: 0.4 | I30: =+IF(C30="","",G30*H30) -> 24000
C31: EQUIPO DE LIMPIEZA | F31: UND | G31: 30000 | H31: 0.8 | I31: =+IF(C31="","",G31*H31) -> 24000
I32: =+IF(C32="","",G32*H32)
I33: =+IF(C33="","",G33*H33)
F34: SUBTOTAL EQUIPO | I34: =ROUND(+SUM(I30:I33),2) -> 48000
C36: 3. MANO DE OBRA
C37: Descripción | F37: Unidad | G37: Vr. Unitario | H37: Cantidad | I37: Valor parcial
C38: OFICIAL MANTENIMIENTO HIDRAULICO | F38: DIA | G38: 35000 | H38: 0.8 | I38: =(+IF(C38="","",(G38*H38))) -> 28000
C39: AYUDANTE MANTENIMIENTO | F39: DIA | G39: 25000 | H39: 0.8 | I39: =(+IF(C39="","",(G39*H39))) -> 20000
I40: =(+IF(C40="","",(G40*H40)))
F42: SUBTOTAL MANO DE OBRA | I42: =+ROUND(SUM(I38:I41),2) -> 48000
C44: COSTO DIRECTO | I44: =ROUND((SUM(+I26+I34+I42)),2) -> 621000
C46: INCREMENTO POR DISTANCIA (F.I.D.) | H46: 0 | I46: =+I44*H46 -> 0
C47: TOTAL COSTO DIRECTO + INCREMENTO POR DISTANCIA | I47: =ROUND(I46+I44,2) -> 621000
C49: ADMINISTRACIÓN | H49: 0 | I49: =+I47*H49 -> 0
C50: IMPREVISTOS | H50: 0 | I50: =+I47*H50 -> 0
C51: UTILIDAD | H51: 0 | I51: =+I47*H51 -> 0
C52: TOTAL COSTOS INDIRECTOS | I52: =ROUND(SUM(I49:I51),2) -> 0
C54: TOTAL COSTOS ACTIVIDAD (INCLUYE AIU E INCREMENTO POR DISTANCIA) | I54: =SUM(I47+I52) -> 621000
C56: OBSERVACIONES:
F58: =REALIZO
...

Sheet APU 2,8
C6: ANÁLISIS DE PRECIOS UNITARIOS
C8: No. CAPÍTULO | D8: C A P Í T U L O
C9: 2 | D9: 2 REHABILITACION
C10: No. SUB-CAPÍTULO | D10: S U B - C A P Í T U L O
C11: 2.8 | D11: N/A
D12: DESCRIPCIÓN DE LA ACTIVIDAD | I12: Unidad
D14: REHABILITACIÓN DE VÁLVULAS DE REGULACIÓN TIPO MARIPOSA Y CONTROL HIDRÁULICO DE 8 PULGADAS (8") DE LA PTAR, (Mediante actividades de mantenimiento, limpieza, lubricación, ajuste y verificación de su estado operativo, incluyendo la inspección y revisión de sus componentes, accesorios y mecanismos de accionamiento); CAMBIO DE EMPAQUETADURAS EXISTENTES POR EMPAQUETADURAS EN MATERIAL DE NEOPRENO, DE ACUERDO CON LAS DIMENSIONES Y CARACTERÍSTICAS PROPIAS DE LOS ELEMENTOS, CON EL FIN DE GARANTIZAR UN ADECUADO SELLADO Y EVITAR FUGAS. (Se contempla igualmente el reemplazo de componentes y accesorios que presenten desgaste, deterioro o fallas que afecten su funcionamiento , cuando se requieran, garantizando el correcto control y regulación de los caudales y la adecuada operación hidráulica entre las diferentes unidades de tratamiento). | I14: UND
C17: 1. MATERIAL
C18: Descripción | F18: Unidad | G18: Vr. Unitario | H18: Cantidad | I18: Valor parcial
C19: GRASA, LUBRICANTE INDUSTRIAL | F19: KG | G19: 35000 | H19: 3 | I19: =ROUND((+IF(C19="","",G19*H19)),2) -> 105000
C20: ACEITE LUBRICANTES | F20: L | G20: 45000 | H20: 4 | I20: =+IF(C20="","",G20*H20) -> 180000
C21: EMPAQUES Y SELLOS | F21: UND | G21: 60000 | H21: 3 | I21: =+IF(C21="","",G21*H21) -> 180000
C22: TORNILLERIA | F22: UND | G22: 35000 | H22: 4 | I22: =+IF(C22="","",G22*H22) -> 140000
I23: =+IF(C23="","",G23*H23)
I24: =+IF(C24="","",G24*H24)
I25: =+IF(C25="","",G25*H25)
F26: SUBTOTAL MATERIALES | I26: =+ROUND(SUM(I19:I25),2) -> 605000
C28: 2. EQUIPO
C29: Descripción | F29: Unidad | G29: Vr. Unitario | H29: Cantidad | I29: Valor parcial
C30: HERRAMIENTA MENOR | F30: UND | G30: 60000 | H30: 0.55 | I30: =+IF(C30="","",G30*H30) -> 33000
C31: EQUIPO DE LIMPIEZA | F31: UND | G31: 30000 | H31: 0.8 | I31: =+IF(C31="","",G31*H31) -> 24000
I32: =+IF(C32="","",G32*H32)
I33: =+IF(C33="","",G33*H33)
F34: SUBTOTAL EQUIPO | I34: =ROUND(+SUM(I30:I33),2) -> 57000
C36: 3. MANO DE OBRA
C37: Descripción | F37: Unidad | G37: Vr. Unitario | H37: Cantidad | I37: Valor parcial
C38: OFICIAL MANTENIMIENTO HIDRAULICO | F38: DIA | G38: 35000 | H38: 0.8 | I38: =(+IF(C38="","",(G38*H38))) -> 28000
C39: AYUDANTE MANTENIMIENTO | F39: DIA | G39: 25000 | H39: 0.8 | I39: =(+IF(C39="","",(G39*H39))) -> 20000
I40: =(+IF(C40="","",(G40*H40)))
F42: SUBTOTAL MANO DE OBRA | I42: =+ROUND(SUM(I38:I41),2) -> 48000
C44: COSTO DIRECTO | I44: =ROUND((SUM(+I26+I34+I42)),2) -> 710000
C46: INCREMENTO POR DISTANCIA (F.I.D.) | H46: 0 | I46: =+I44*H46 -> 0
C47: TOTAL COSTO DIRECTO + INCREMENTO POR DISTANCIA | I47: =ROUND(I46+I44,2) -> 710000
C49: ADMINISTRACIÓN | H49: 0 | I49: =+I47*H49 -> 0
C50: IMPREVISTOS | H50: 0 | I50: =+I47*H50 -> 0
C51: UTILIDAD | H51: 0 | I51: =+I47*H51 -> 0
C52: TOTAL COSTOS INDIRECTOS | I52: =ROUND(SUM(I49:I51),2) -> 0
C54: TOTAL COSTOS ACTIVIDAD (INCLUYE AIU E INCREMENTO POR DISTANCIA) | I54: =SUM(I47+I52) -> 710000
C56: OBSERVACIONES:
F58: =REALIZO
...

Sheet APU 4,1
C6: ANÁLISIS DE PRECIOS UNITARIOS
C8: No. CAPÍTULO | D8: C A P Í T U L O
C9: 4 | D9: 4. PUESTA EN MARCHA
C10: No. SUB-CAPÍTULO | D10: S U B - C A P Í T U L O
C11: 4.1 | D11: N/A
D12: DESCRIPCIÓN DE LA ACTIVIDAD | I12: Unidad
D14: ARRANQUE, PUESTA EN MARCHA Y ESTABILIZACIÓN DE LA PTAR, INCLUYENDO LA PUESTA EN RÉGIMEN Y ESTABILIZACIÓN DEL PROCESO BIOLÓGICO EN LOS REACTORES UASB, ASÍ COMO EL ACOMPAÑAMIENTO TÉCNICO PARA LA ADECUADA OPERACIÓN DEL SISTEMA DE TRATAMIENTO, MEDIANTE LA ORIENTACIÓN, VERIFICACIÓN Y SEGUIMIENTO DE LAS ACTIVIDADES OPERATIVAS Y DE CONTROL NECESARIAS PARA RESTABLECER PROGRESIVAMENTE LAS CONDICIONES DEL PROCESO BIOLÓGICO, OPTIMIZAR EL FUNCIONAMIENTO DE LAS DIFERENTES UNIDADES Y GARANTIZAR LA CONTINUIDAD Y EFICIENCIA DEL SISTEMA, UNA VEZ FINALIZADAS LAS OBRAS DE REHABILITACIÓN, MANTENIMIENTO Y ADECUACIÓN. | I14: MES
C17: 1. MATERIAL
C18: Descripción | F18: Unidad | G18: Vr. Unitario | H18: Cantidad | I18: Valor parcial
C19: REACTIVOS E INSUMOS PARA CONTROL DE PROCESO | F19: UND | G19: 1050000 | H19: 0.2 | I19: =ROUND((+IF(C19="","",G19*H19)),2) -> 210000
C20: ELEMENTOS DE LIMPIEZA | F20: UND | G20: 300000 | H20: 0.2 | I20: =+IF(C20="","",G20*H20) -> 60000
I21: =+IF(C21="","",G21*H21)
I22: =+IF(C22="","",G22*H22)
I23: =+IF(C23="","",G23*H23)
I24: =+IF(C24="","",G24*H24)
I25: =+IF(C25="","",G25*H25)
F26: SUBTOTAL MATERIALES | I26: =+ROUND(SUM(I19:I25),2) -> 270000
C28: 2. EQUIPO
C29: Descripción | F29: Unidad | G29: Vr. Unitario | H29: Cantidad | I29: Valor parcial
C30: EQUIPOS PARA PARAMETROS | F30: UND | G30: 600000 | H30: 0.15 | I30: =+IF(C30="","",G30*H30) -> 90000
C31: HERRAMIENTA MENOR | F31: UND | G31: 200000 | H31: 0.15 | I31: =+IF(C31="","",G31*H31) -> 30000
I32: =+IF(C32="","",G32*H32)
F33: SUBTOTAL EQUIPO | I33: =ROUND(+SUM(I30:I32),2) -> 120000
C35: 3. MANO DE OBRA
C36: Descripción | F36: Unidad | G36: Vr. Unitario | H36: Cantidad | I36: Valor parcial
C37: TECNICO OPERADOR PTAR | F37: DIA | G37: 220000 | H37: 0.2 | I37: =(+IF(C37="","",(G37*H37))) -> 44000
C38: AUXILIAR OPERATIVO | F38: DIA | G38: 190000 | H38: 0.15 | I38: =(+IF(C38="","",(G38*H38))) -> 28500
F40: SUBTOTAL MANO DE OBRA | I40: =+ROUND(SUM(I37:I39),2) -> 72500
C42: COSTO DIRECTO | I42: =ROUND((SUM(+I26+I33+I40)),2) -> 462500
C44: INCREMENTO POR DISTANCIA (F.I.D.) | H44: 0 | I44: =+I42*H44 -> 0
C45: TOTAL COSTO DIRECTO + INCREMENTO POR DISTANCIA | I45: =ROUND(I44+I42,2) -> 462500
C47: ADMINISTRACIÓN | H47: 0 | I47: =+I45*H47 -> 0
C48: IMPREVISTOS | H48: 0 | I48: =+I45*H48 -> 0
C49: UTILIDAD | H49: 0 | I49: =+I45*H49 -> 0
C50: TOTAL COSTOS INDIRECTOS | I50: =ROUND(SUM(I47:I49),2) -> 0
C52: TOTAL COSTOS ACTIVIDAD (INCLUYE AIU E INCREMENTO POR DISTANCIA) | I52: =SUM(I45+I50) -> 462500
C54: OBSERVACIONES:
F56: =REALIZO
F57: Realizó
F59: =APROBO
...

Sheet A.I.U 
E2: FORMATO | K2: VERSIÓN: 0
K3: CÓDIGO: E-DE-FP-F-065
C5: COMPOSICIÓN DEL PORCENTAJE DE AIU | K5: FECHA: 30/11/2023
C8: PROYECTO | D8: EJECUCION DE LAS OBRAS DE OPTIMIZACION, REHABILITACION Y ADECUACION DE LAS DIFERENTES UNIDADES DE TRATAMIENTO DEL SISTEMA DE AGUAS RESIDUALES DEL MUNIPIO DE TIBASOSA, BOYACA. | J8: COSTO DIRECTO | K8: =#REF! -> #REF! | N8: 6.6851063e+09
J9: DURACIÓN (Meses) | K9: 3
C11: 1. ADMINISTRACIÓN
C13: 1.1. PERSONAL ADMINISTRATIVO
C14: ITEM GOBER | D14: DESCRIPCIÓN | F14: CANT | G14: TIEMPO | H14: PRESTAC. | I14: % DISPONIB | J14: BÁSICO | K14: VALOR TOTAL | L14: %
C15: 5.01.13 | D15: DIRECTOR DE OBRA: ESPECIALISTA EN ESTRUCTURAS (INCLUYE SALARIO BASE + FACTOR PRESTACIONAL DEL 72.81% | F15: 1 | G15: 3 | H15: 0 | I15: 0.3 | J15: 5119377 | K15: =+J15*(1+H15)*G15*F15*I15 -> 4607439.3 | L15: =IF(K15>0,(K15/K$8),0) -> #REF!
C16: 5.01.28 | D16: ING ELECTRICO: PROFESIONAL CATEGORIA 4 (EXPERIENCIA PROFESIONAL MINIMO 6 AÑOS - EXPERIENCIA ESPECIFICA MINIMO 4 AÑOS) (INCLUYE SALARIO BASE + FACTOR PRESTACIONAL DEL 72.81%) | F16: 1 | G16: 3 | H16: 0 | I16: 0.1 | J16: 4725581 | K16: =+J16*(1+H16)*G16*F16*I16 -> 1417674.3 | L16: =IF(K16>0,(K16/K$8),0) -> #REF!
C17: 5,01,07 | D17: COORDINADOR SST (INCLUYE SALARIO BASE + FACTOR PRESTACIONAL DEL 72.81%) | F17: 1 | G17: 3 | H17: 0 | I17: 0.5 | J17: 4038073.1 | K17: =+J17*(1+H17)*G17*F17*I17 -> 6057109.7 | L17: =IF(K17>0,(K17/K$8),0) -> #REF!
C18: 5,01,37 | D18: ESPECIALISTA AMBIENTAL (INCLUYE SALARIO BASE + FACTOR PRESTACIONAL DEL 72.81% | F18: 1 | G18: 3 | H18: 0 | I18: 0.1 | J18: 4495717.8 | K18: =+J18*(1+H18)*G18*F18*I18 -> 1348715.3 | L18: =IF(K18>0,(K18/K$8),0) -> #REF!
C19: 5.01.26 | D19: RESIDENTE DE OBRA : PROFESIONAL CATEGORIA 7 (EXPERIENCIA PROFESIONAL MINIMO 2 AÑOS - EXPERIENCIA ESPECIFICA MINIMO 1 AÑO) (INCLUYE SALARIO BASE + FACTOR PRESTACIONAL DE 72,81%) | F19: 1 | G19: 3 | H19: 0 | I19: 1 | J19: 4330041.7 | K19: =+J19*(1+H19)*G19*F19*I19 -> 12990125 | L19: =IF(K19>0,(K19/K$8),0) -> #REF!
K22: =+J22*(1+H22)*G22*F22*I22 -> 0 | L22: =IF(K22>0,(K22/K$8),0) -> 0
K23: =+J23*(1+H23)*G23*F23*I23 -> 0 | L23: =IF(K23>0,(K23/K$8),0) -> 0
K24: =+J24*(1+H24)*G24*F24*I24 -> 0 | L24: =IF(K24>0,(K24/K$8),0) -> 0
D25: TOTAL PERSONAL ADMINISTRATIVO | K25: =SUM(K15:K24) -> 26421064 | L25: =SUM(L15:L24) -> #REF!
C26: 1.2. EQUIPOS GENERALES, MOVILIZACIÓN E INSTALACIÓN
C27: ITEM | D27: DESCRIPCIÓN | G27: UNID | H27: CANTIDAD | I27: TIEMPO | J27: TARIFA | K27: VALOR TOTAL | L27: % | O27: ACLARAR QUE MUESTRAS
C28: 1.2.1 | D28: Alquiler computador | G28: unidad | H28: 1 | I28: 1 | J28: 120000 | K28: =+ROUND(H28*I28*J28,2) -> 120000 | L28: =IF(K28>0,(K28/K$8),0) -> #REF!
K30: =+ROUND(H30*I30*J30,2) -> 0 | L30: =IF(K30>0,(K30/K$8),0) -> 0
K31: =+ROUND(H31*I31*J31,2) -> 0 | L31: =IF(K31>0,(K31/K$8),0) -> 0
K32: =+ROUND(H32*I32*J32,2) -> 0 | L32: =IF(K32>0,(K32/K$8),0) -> 0
K33: =+ROUND(H33*I33*J33,2) -> 0 | L33: =IF(K33>0,(K33/K$8),0) -> 0
K34: =+ROUND(H34*I34*J34,2) -> 0 | L34: =IF(K34>0,(K34/K$8),0) -> 0
K35: =+ROUND(H35*I35*J35,2) -> 0 | L35: =IF(K35>0,(K35/K$8),0) -> 0 | N35: Proctor-Humedad-Masa unitaria seca
D36: TOTAL EQUIPOS GENERALES, MOVILIZACIÓN E INSTALACIÓN | K36: =ROUND(SUM(K28:K35),2) -> 120000 | L36: =SUM(L28:L35) -> #REF!
C38: 1.3. GASTOS GENERALES
C39: ITEM | D39: DESCRIPCIÓN | G39: UNID | H39: CANTIDAD | I39: TIEMPO | J39: TARIFA | K39: VALOR TOTAL | L39: %
C40: 1.3.1 | D40: Servicios publicos | G40: mes | H40: 1 | I40: 1 | J40: 394685.23 | K40: =+ROUND(H40*I40*J40,2) -> 394685.23 | L40: =IF(K40>0,(K40/K$8),0) -> #REF!
C41: 1.3.2 | D41: Gastos de papelería (informes) | G41: mes | H41: 1 | I41: 3 | J41: 120000 | K41: =+ROUND(H41*I41*J41,2) -> 360000 | L41: =IF(K41>0,(K41/K$8),0) -> #REF!
C42: 1.3.3 | D42: Comunicaciones | G42: mes | H42: 1 | I42: 3 | J42: 100000 | K42: =+ROUND(H42*I42*J42,2) -> 300000 | L42: =IF(K42>0,(K42/K$8),0) -> #REF!
C43: 1.3.4 | D43: Pólizas (cumplimento, salarios prestaciones sociales, responsabilidad civil) | G43: porcentaje | H43: 1.5 | I43: 0 | J43: =K8*H43% -> #REF! | K43: =J43 -> #REF! | L43: =IF(K43>0,(K43/K$8),0) -> #REF!
D44: TOTAL GASTOS GENERALES | K44: =ROUND(SUM(K40:K43),2) -> #REF! | L44: =SUM(L40:L43) -> #REF!
C46: 1.4. GASTOS LEGALES
C47: ITEM | D47: DESCRIPCION | G47: UNID | H47: PORCENTANJE | I47: CANTIDAD | J47: TARIFA | K47: VALOR TOTAL | L47: % | N47: =+K8*0.3 -> #REF!
O54: =+K8*0.22 -> #REF!
K55: =+H55*I55*J55 -> 0 | L55: =IF(K55>0,(K55/K$8),0) -> 0
D56: TOTAL GASTOS LEGALES | K56: =ROUND(SUM(K48:K55),2) -> 0 | L56: =SUM(L48:L55) -> 0 | O56: =+K8*0.03 -> #REF!
C58: RESUMEN DE COSTOS - COMPONENTE ADMINISTRACIÓN | J58: COMPOSICIÓN AIU | O58: =+K8*0.05 -> #REF!
...
