Workbook
Name contratación: 'IDENTIFICACION Y ANALISIS'!$B$31:$B$34
Name ejecución: 'IDENTIFICACION Y ANALISIS'!$B$36:$B$59
Name OPCIONES: 'ASIGNACION Y TRATAMIENTO'!$B$74:$B$76
Name planeación: 'IDENTIFICACION Y ANALISIS'!$B$19:$B$20
Name selección: 'IDENTIFICACION Y ANALISIS'!$B$23:$B$29

Sheet CONTEXTO
C2: MATRIZ DE RIESGOS EN CONTRATACIÓN | F2: Código: GCO-GCI-F164 Versión: 02 Vigencia: 01 de diciembre de 2022 Caso HOLA: 280117
B6: ESTABLECER EL CONTEXTO
B7: El punto inicial es identificar el contexto en el cual interactúa la Entidad Estatal para conocer el ambiente social, económico y político, e identificar (i) sus propios Riesgos; (ii) los Riesgos comunes a sus Procesos de Contratación; y (iii) los Riesgos del Proceso de Contratación en particular. (Aplica igual para contratos interadministrativos) En este paso la Entidad Estatal debe identificar los aspectos que se mencionan a continuación y los posibles efectos adversos que estos pueden generar.
B8: Objeto del Proceso de Contratación: “REALIZAR EL SUMINISTRO E INSTALACION DEL MOBILIARIO, ELEMENTOS DE SISTEMA DE TRANSPORTE VERTICAL Y COMPLEMENTARIOS PARA LA DOTACIÓN DE LA CASA DE LA CULTURA DE LA LOCALIDAD DE SUBA”
B9: Partícipes del Proceso de Contratación: Agentes externos (Organismos de control, veedurías ciudadanas), agentes internos (supervisores, funcionarios y demás usuarios).
B10: Ciudadanía que se beneficia del Proceso de Contratación: Agentes externos: Contraloría y otros entes de control Veeduría Distrital; JAL Suba, grupos culturales de interés . Agentes internos: supervisor del contrato; apoyo a la supervisión
B11: Capacidad de la Entidad Estatal entendida como la disponibilidad de recursos y conocimientos para el Proceso de Contratación: Participan las áreas que requieren los procesos de contratación, como Planeación y Participación (Etapa de Estudios previos), de los equipos de Contratación y Planeación de la Alcaldía Local, el superviso y a quien delegue como apoyo a la supervisión (Etapa contractual), los evaluadores designados, idóneos y con experiencia en el tema.
B12: Suficiencia del presupuesto oficial del Proceso de Contratación: De acuerdo al Plan Anual de Adquisiciones se deben estimar los recursos necesarios para el desarrollo del proceso de la contratación, el cual tendrá el soporte presupuestal suficiente para su desarrollo.
B13: Condiciones geográficas y de acceso del lugar en el cual se debe cumplir el objeto del Proceso de Contratación: El suministro, obra o servicio se prestará principalmente en la localidad de Suba con la cobertura de sus 6 UPL.
B14: Entorno socio ambiental: Existe aceptación por parte de la comunidad e interés en participar en dichas actividades.
B15: Condiciones políticas: N/A
B16: Factores ambientales.El Estudio previo cuenta con las cláusulas ambientales y Fichas ambientales que debe cumplir el Contratista durante la ejecución.
B17: Sector del objeto del Proceso de Contratación y su mercado. El estudio de sector deportivo cuenta con el analisis de la oferta y demanda para el proceso contractual, encontrando una amplia oferta de empresas privadas y públicas que prestan el servicio.
... B19: Experiencia propia y de otras Entidades Estatales en Procesos de Contratación del mismo tipo. El Fondo cuenta con la experiencia adquirida en el adelantamiento de este tipo de procesos.

Sheet IDENTIFICACION Y ANALISIS
C2: MATRIZ DE RIESGOS DE CONTRATACIÓN | F2: Código: GCO-GCI-F164 Versión: 02 Vigencia: 01 de diciembre de 2022 Caso HOLA: 280117
B6: DEFINICIONES
B7: RIESGO: Evento que puede generar efectos adversos y de distinta magnitud en el logro de los objetivos del Proceso de Contratación o en la ejecución de un contrato RIESGOS PREVISIBLES: Son los posibles hechos o circunstancias que por la naturaleza del contrato y de la actividad a ejecutar es factible su ocurrencia. ETAPA DE PLANEACIÓN: Está comprendida desde el momento en que se identifican las necesidades que debe satisfacer la Secretaría Distrital de Gobierno y los Fondos de Desarrollo Local, a través del abastecimiento de bienes, obras o servicios, la elaboración del Plan Anual de Adquisiciones y la estructuración de los documentos y estudios previos. ETAPA DE SELECCIÓN: Está comprendida entre el acto de Apertura del Proceso de Contratación y la Adjudicación o la declaración de desierto del Proceso de Contratación ETAPA DE CONTRATACIÓN: Una vez adjudicado el contrato objeto del Proceso de Contratación, inicia la etapa para la celebración del contrato y el cumplimiento de los requisitos para de perfeccionamiento y ejecución. ETAPA DE EJECUCIÓN: Inicia una vez cumplidos los requisitos previstos para iniciar la ejecución del contrato respectivo y termina con el vencimiento del plazo del contrato o la fecha de liquidación si hay lugar a ella. RIESGO GENERAL: Es un riesgo de todos los procesos de contratación adelantados por la Entidad Estatal, por lo cual está presente en toda su actividad contractual. RIEGO ESPECIFICO: Es un riesgo propio del proceso de contratación objeto de análisis. RIESGOS ECONÓMICOS: Son los derivados del comportamiento del mercado, tales como la fluctuación de los precios de los insumos, desabastecimiento y especulación de los mismos, entre otros. RIESGOS SOCIALES O POLÍTICOS: son los derivados de los cambios de las políticas gubernamentales y de cambios en las condiciones sociales que tengan impacto en la ejecución del contrato. RIESGOS OPERACIONALES: Son los asociados a la operatividad del contrato, tales como la suficiencia del presupuesto oficial, del plazo o los derivados de procesos, procedimientos, parámetros, sistemas de información y tecnológicos, equipos humanos o técnicos inadecuados o insuficientes. RIESGOS FINANCIEROS: Son (i) el riesgo de consecución de financiación o riesgo de liquidez para obtener recursos para cumplir con el objeto del contrato, y (ii) el riesgo de las condiciones financieras establecidas para la obtención de los recursos, tales como plazos, tasas, garantías, contragarantías, y refinanciaciones, entre otros. RIESGOS REGULATORIOS: Derivados de cambios regulatorios o reglamentarios que afecten la ecuación económica del contrato. RIESGOS DE LA NATURALEZA: Son los eventos naturales previsibles en los cuales no hay intervención humana que puedan tener impacto en la ejecución del contrato, por ejemplo los temblores, inundaciones, lluvias, sequías, entre otros. RIESGOS AMBIENTALES: Son los derivados de las obligaciones legales o reglamentarias de carácter ambiental, así como de las licencias, planes de manejo o de permisos y autorizaciones ambientales, incluyendo tasas retributivas y compensatorias, obligaciones de mitigación, tareas de monitoreo y control, entre otras. RIESGOS TECNOLÓGICOS: Son los derivados de fallas en los sistemas de comunicación de voz y de datos, suspensión de servicios públicos, nuevos desarrollos tecnológicos o estándares que deben ser tenidos en cuenta para la ejecución del contrato, obsolescencia tecnológica.
B15: INSTRUCCIONES PARA LA IDENTIFICACIÓN, ANALISIS, EVALUACIÓN , ASIGNACIÓN Y TRATAMIENTO DE RIESGOS EN LA CONTRATACIÓN
B16: 1) Identifique los riesgos previsibles que le apliquen al objeto contractual que se adelante. Los relacionados a continuación se establecen de manera general y como proforma. No obstante, si del objeto contractual se identifican otros riesgos diferentes a los aquí determinados, por favor reemplace el texto de la casilla teniendo en cuenta la etapa del proceso. Así mismo, seleccione la clase, fuente y el tipo (Operacional, Económico, Sociales o Políticos, Regulatorios, Financieros, Tecnológicos, De la naturaleza, Ambientales) 2) Continúe en la hoja de "EVALUACIÓN" (SI EXISTEN DUDAS CONCEPTUALES PARA LA ELABORACIÓN DE LA MATRIZ DE RIESGO CONSULTE EL MANUAL PARA LA IDENTIFICACIÓN Y COBERTURA DEL RIESGO EN LOS PROCESOS DE CONTRATACIÓN EXPEDIDO POR COLOMBIA COMPRA EFICIENTE Y LA GUÍA DE RIESGOS PREVISIBLES CONTRACTUALES, EXPEDIDA POR LA VEEDURÍA DISTRITAL)
C17: ETAPAS | D17: CLASE | E17: FUENTE | F17: TIPO
C18: PLANEACIÓN
B19: Inadecuada escogencia de la tipología de contratación | D19: General | E19: Interno | F19: Operacionales
B20: Requisitos ponderantes inapropiados para el proceso de selección | D20: Especifico | E20: Interno | F20: Operacionales
C21: SELECCIÓN
B22: Suspensión del Proceso de selección | D22: General | E22: Interno | F22: Regulatorios
B23: Inadecuada evaluación de las ofertas y/o verificación de requisitos habilitantes | D23: General | E23: Interno | F23: Operacionales
B24: Inadecuado manejo administrativo del proceso contractual | D24: General | E24: Interno | F24: Operacionales
B25: Falta de claridad en la elaboración de los actos administrativos | D25: General | E25: Interno | F25: Operacionales
B26: Contestación inoportuna a todas las observaciones formuladas a los documentos de la contratación | D26: General | E26: Interno | F26: Operacionales
B27: Declaratoria de desierta del Proceso de selección | D27: General | E27: Externo | F27: Operacionales
B28: Selección de contratista que no cuente con la capacidad financiera y/o técnica y/o jurídicas necesarias para la ejecución del contrato. | D28: General | E28: Externo | F28: Operacionales
B29: Aceptación viciada por error | D29: General | E29: Externo | F29: Operacionales
C30: CONTRATACIÓN
B31: Riesgo de que no se firme el contrato. | D31: General | E31: Externo | F31: Operacionales
B32: Falta de constitución o constitución tardía de la garantía única. Aceptación de garantías que no se ajustan a lo contemplado en el contrato | E32: Interno | F32: Operacionales
B33: Falta de solicitud o solicitud tardía del registro presupuestal | D33: General | E33: Interno | F33: Operacionales
B34: Presentación de reclamos de terceros sobre la selección del oferente que retrasen el perfeccionamiento del contrato. | D34: General | E34: Externo | F34: Operacionales
C35: EJECUCIÓN
B36: Fluctuaciones del valor de la moneda | D36: General | E36: Externo | F36: Economicos
B37: Cambio de precios en factores de producción. | D37: General | E37: Externo | F37: Economicos
B38: Variación de los precios del mercado | D38: General | E38: Externo | F38: Economicos
B39: Fluctuación de la moneda extranjera que afecte los previos del mercado | D39: General | E39: Externo | F39: Economicos
B40: Factores políticos o macroeconómicos. | D40: Estatal | E40: Externo | F40: Sociales o Políticos
B41: Incumplimiento del objeto o de las obligaciones contractuales | D41: General | E41: Externo | F41: Economicos
B42: Variación en la disponibilidad o en el costo de los insumos necesarios para prestar los servicios. | D42: General | E42: Externo | F42: Economicos
B43: Incumplimiento de compromisos adquiridos por el contratista seleccionado con sus subcontratistas, suministradores de bienes y servicios. | D43: General | E43: Externo | F43: Economicos
B44: Incumplimiento de la administración en los pagos. | D44: General | E44: Interno | F44: Economicos
B45: Defecto en la instalación de equipos | D45: Especifico | E45: Externo | F45: Operacionales
B46: Defectos en los equipos. | D46: Especifico | E46: Externo | F46: Operacionales
B47: Daños a los equipos objeto de mantenimiento y/o otros bienes | D47: Estatal | E47: Externo | F47: Operacionales
... B59: Incumplimiento derivado del trámite de los permisos con autoridades ambientales, la obtención de los mismos, paz y salvos | D59: General | E59: Externo | F59: Ambientales
B64: General
B65: Estatal
B66: Especifico
...

Sheet EVALUACION CON CONTROLES
C2: MATRIZ DE RIESGOS DE CONTRATACIÓN | Q2: Código: GCO-GCI-F164 Versión: 02 Vigencia: 01 de diciembre de 2022 Caso HOLA: 280117
B6: =+EVALUACION!B6 -> Objeto Contractual: “COMPRAR, INSTALAR Y PONER EN FUNCIONAMIENTO UN SISTEMA INTEGRAL DE GRADERÍA RETRÁCTIL PARA LA DOTACIÓN DEL AUDITORIO DE LA CASA DE LA CULTURA DE SUBA”
B7: INSTRUCCIONES PARA LA IDENTIFICACIÓN, ANALISIS, EVALUACIÓN , ASIGNACIÓN Y TRATAMIENTO DE RIESGOS EN LA CONTRATACIÓN
B8: 1) Describa el tratamiento/controles a ser implementados
B9: 2) Diligencie la información de las siguientes columnas, de acuerdo con el análisis realizado a cada riesgo: Afecta el equilibrio económico, persona responsable de implementar el tratamiento, fecha estimada de inicio del tratamiento, fecha estimada en la que se completa el tratamiento, cómo se realiza el monitoreo y la periodicidad.
B10: 3) Continúe en la hoja de "ASIGNACIÓN Y TRATAMIENTO" y diligencie las siguientes casillas: A quien se le asigna y el porcentaje que asume cada una de las partes en caso de que sea compartido.
B15: ETAPA | C15: Descripción (Que puede pasar y, cómo puede ocurrir) | G15: Tratamiento/Controles a ser implementados | I15: Probabilidad de Ocurrencia | J15: Impacto | K15: Calificación Total | L15: Prioridad | M15: ¿Afecta el equilibrio económico del contrato? | N15: Persona responsable por implementar el tratamiento | O15: Fecha estimada en que se inicia el tratamiento | P15: Fecha estimada en que se completa el tratamiento | Q15: ¿Cómo se realiza el monitoreo? | R15: Periodicidad ¿Cuándo?
B16: =+EVALUACION!B17 -> PLANEACIÓN | C16: =+EVALUACION!C17 -> Inadecuada escogencia de la tipología de contratación | G16: Establecimiento de un canal de comunicación abierto. Revisión de los plazos. Ajustes contractuales. Revisión legal de los documentos. Incorporación de cláusulas adicionales. Evaluación de viabilidad. Revisar las condiciones previas | I16: =+EVALUACION!I17 -> 1 | J16: =+EVALUACION!J17 -> 3 | K16: =+I16+J16 -> 4 | L16: =IF(K16<=4,"BAJO",IF(K16=5,"MEDIO",IF(K16=6,"ALTO",IF(K16=7,"ALTO","EXTREMO")))) -> BAJO | M16: NO | N16: Formuladores | O16: Etapa de planeación | P16: Antes de la selección del contratista | Q16: Revisión jurídica, técnica y económica del contrato durante la formulación, | R16: Durante la formulación de los pliegos.
B17: =+EVALUACION!B18 -> PLANEACIÓN | C17: =+EVALUACION!C18 -> Requisitos ponderantes inapropiados para el proceso de selección | G17: Revisión de pertinencia y alineación con el objeto del contrato. Ajustes basados en las necesidades del proyecto. Análisis de procesos de selección previos. Benchmarking. Asesoramiento legal. Equilibrio en los pesos asignados. Eliminar criterios irrelevantes. Revisión conjunta del equipo evaluador. Consulta con el mercado. Emisión de adendas o modificaciones: | I17: =+EVALUACION!I18 -> 1 | J17: =+EVALUACION!J18 -> 3 | K17: =+I17+J17 -> 4 | L17: =IF(K17<=4,"BAJO",IF(K17=5,"MEDIO",IF(K17=6,"ALTO",IF(K17=7,"ALTO","EXTREMO")))) -> BAJO | M17: NO | N17: Formulador | O17: Etapa de planeación | P17: Antes de la selección del contratista | Q17: Revisión jurídica, técnica y económica del contrato durante la formulación, | R17: Durante la formulación de los pliegos.
B18: =+EVALUACION!B19 -> SELECCIÓN | C18: =+EVALUACION!C19 -> Suspensión del Proceso de selección | G18: Análisis de cuasa raíz. Evaluación legal administrativa. Subsanación de requisitos. Reprogramación del cronograma. Validación técnica y legal de modificaciones. Consulta con entidades reguladoras. Seguimiento de la implementación de los cambios. Evaluación del impacto de la suspensión. Capacitación en normativas de contratación. | I18: =+EVALUACION!I19 -> 1 | J18: =+EVALUACION!J19 -> 5 | K18: =+I18+J18 -> 6 | L18: =IF(K18<=4,"BAJO",IF(K18=5,"MEDIO",IF(K18=6,"ALTO",IF(K18=7,"ALTO","EXTREMO")))) -> ALTO | M18: NO | N18: Formulador y Comité de contratación | O18: Etapa de planeación | P18: Etapa de selección | Q18: Revisión detallada del proceso por el comité de contratación | R18: Durante los comités de contratación
B19: =+EVALUACION!B20 -> SELECCIÓN | C19: =+EVALUACION!C20 -> Inadecuada evaluación de las ofertas y/o verificación de requisitos habilitantes | G19: Redefinición de los criterios. Entrenamiento en evaluación y verificación de requisitos. Auditoría de la evaluación. Checklists y matrices de verificación. Revisión legal especializada. Involucramiento de expertos técnicos. Ampliación del tiempo de evaluación. Informe de evaluación al ente de control. Revisión de los procedimientos internos. | I19: =+EVALUACION!I20 -> 1 | J19: =+EVALUACION!J20 -> 4 | K19: =+I19+J19 -> 5 | L19: =IF(K19<=4,"BAJO",IF(K19=5,"MEDIO",IF(K19=6,"ALTO",IF(K19=7,"ALTO","EXTREMO")))) -> MEDIO | M19: NO | N19: Evaluadores | O19: Etapa de selección | P19: Antes de la selección del contratista | Q19: Checklists y matrices de verificación para una correcta evaluación | R19: Durante la evaluación
B20: =+EVALUACION!B21 -> SELECCIÓN | C20: =+EVALUACION!C21 -> Inadecuado manejo administrativo del proceso contractual | G20: Estandarización de procedimientos administrativos. Sistema de seguimiento. Capacitación del personal administrativo. Designar a un coordinador o gestor administrativo que supervise de manera integral el cumplimiento de los trámite. Sistemas de gestión documental.Métricas administrativas. Sistemas de auditoría y garantizar una comunicación efectiva entre las áreas involucradas. | I20: =+EVALUACION!I21 -> 2 | J20: =+EVALUACION!J21 -> 4 | K20: =+I20+J20 -> 6 | L20: =IF(K20<=4,"BAJO",IF(K20=5,"MEDIO",IF(K20=6,"ALTO",IF(K20=7,"ALTO","EXTREMO")))) -> ALTO | M20: NO | N20: Supervisor y comité técnico . | O20: Etapa de selección | P20: Antes de la selección del contratista | Q20: Checklist proceso contractual. | R20: Semanalmente
B21: =+EVALUACION!B22 -> SELECCIÓN | C21: =+EVALUACION!C22 -> Falta de claridad en la elaboración de los actos administrativos | G21: Entrenamiento en lenguaje claro. Formación en negativas. Entrenamiento en lenguaje claro. Entrenamiento en lenguaje claro. Mejora continua y revisión de la calidad. Claridad en los fundamentos y la motivación de las decisiones. Lenguaje accesible y comprensible. Auditoría interna. Mecanismos de retroalimentación y corrección. Digitalización y automatización de procesos. Claridad en los plazos y términos. | I21: =+EVALUACION!I22 -> 2 | J21: =+EVALUACION!J22 -> 3 | K21: =+I21+J21 -> 5 | L21: =IF(K21<=4,"BAJO",IF(K21=5,"MEDIO",IF(K21=6,"ALTO",IF(K21=7,"ALTO","EXTREMO")))) -> MEDIO | M21: NO | N21: Supervisor y comité técnico . | O21: Etapa de selección | P21: Antes de la selección del contratista | Q21: Lineamientos claros de los actos administrativos | R21: Mensualmente
B22: =+EVALUACION!B23 -> SELECCIÓN | C22: =+EVALUACION!C23 -> Contestación inoportuna a todas las observaciones formuladas a los documentos de la contratación | G22: Establecimiento de plazos estrictos para la respuesta. Establecimiento de plazos estrictos para la respuesta. Asignación de responsabilidades. Priorizar las observaciones según su importancia. Procedimiento estandarizado para contestar observaciones. Capacitación del personal en la gestión de observaciones. Comunicación proactiva con los interesados. Auditoría de los tiempos de respuesta. | I22: =+EVALUACION!I23 -> 1 | J22: =+EVALUACION!J23 -> 3 | K22: =+I22+J22 -> 4 | L22: =IF(K22<=4,"BAJO",IF(K22=5,"MEDIO",IF(K22=6,"ALTO",IF(K22=7,"ALTO","EXTREMO")))) -> BAJO | M22: NO | N22: Formuladores y evaluadores | O22: Etapa de selección | P22: Antes de la selección del contratista | Q22: Comité de evaluación para respuesta orpotunas. | R22: Durante el periodo de observaciones
B23: =+EVALUACION!B24 -> SELECCIÓN | C23: =+EVALUACION!C24 -> Declaratoria de desierta del Proceso de selección | G23: Revisión y ajuste de los pliegos de condiciones. Análisis del mercado. Extensión de plazos. Socialización del proceso de selección. Revisión y corrección de observaciones. Estudios técnicos y financieros adecuados. . Reformulación del proceso . | I23: =+EVALUACION!I24 -> 1 | J23: =+EVALUACION!J24 -> 4 | K23: =+I23+J23 -> 5 | L23: =IF(K23<=4,"BAJO",IF(K23=5,"MEDIO",IF(K23=6,"ALTO",IF(K23=7,"ALTO","EXTREMO")))) -> MEDIO | M23: SI | N23: Formuladores y Comité de Contratación | O23: Etapa de planeación | P23: Al momento de la publicación del proceso | Q23: Revisión de los requisitos por parte del comité de contratación | R23: Acorde al cronograma del Comité de contratación.
B24: =+EVALUACION!B25 -> SELECCIÓN | C24: =+EVALUACION!C25 -> Selección de contratista que no cuente con la capacidad financiera y/o técnica y/o jurídicas necesarias para la ejecución del contrato. | G24: Requisitos específicos en los pliegos. Verificar criterios de selección. Evaluación técnica y financiera rigurosa. Revisión de cumplimiento normativo. Auditoría previa a la adjudicación. Monitoreo y seguimiento post-adjudicación. Requisitos de garantía y seguros. Revisión de historial de contratos anteriores. Procedimiento de corrección y sanción. | I24: =+EVALUACION!I25 -> 2 | J24: =+EVALUACION!J25 -> 4 | K24: =+I24+J24 -> 6 | L24: =IF(K24<=4,"BAJO",IF(K24=5,"MEDIO",IF(K24=6,"ALTO",IF(K24=7,"ALTO","EXTREMO")))) -> ALTO | M24: SI | N24: Evaluadores del proceso | O24: Etapa de Evaluación | P24: Aceptación de la oferta | Q24: Aplicación de los métodos de evaluación | R24: Etapa de evaluación
B25: =+EVALUACION!B26 -> SELECCIÓN | C25: =+EVALUACION!C26 -> Aceptación viciada por error | G25: Claridad y precisión en los documentos. Verificación de la oferta y documentación. Capacitación del personal. Notificación de errores. Revisión de acuerdos. Auditoría de control interno, Cláusulas de ajuste. Procedimiento de disputa. | I25: =+EVALUACION!I26 -> 1 | J25: =+EVALUACION!J26 -> 1 | K25: =+I25+J25 -> 2 | L25: =IF(K25<=4,"BAJO",IF(K25=5,"MEDIO",IF(K25=6,"ALTO",IF(K25=7,"ALTO","EXTREMO")))) -> BAJO | M25: SI | N25: Evaluadores del proceso | O25: Etapa de evaluación | P25: Al momento de la aceptación | Q25: Revisión de los requisitos por parte del comité evaluador | R25: Etapa de evaluación.
B26: =+EVALUACION!B27 -> CONTRATACIÓN | C26: =+EVALUACION!C27 -> Riesgo de que no se firme el contrato. | G26: Revisión exhaustiva de documentación Comunicación continua Establecimiento de plazos claros Negociación de términos Documentación de acuerdos previos Autorización adecuada Revisión legal Manejo de contingencias | I26: =+EVALUACION!I27 -> 1 | J26: =+EVALUACION!J27 -> 3 | K26: =+I26+J26 -> 4 | L26: =IF(K26<=4,"BAJO",IF(K26=5,"MEDIO",IF(K26=6,"ALTO",IF(K26=7,"ALTO","EXTREMO")))) -> BAJO | M26: SI | N26: Comité de contratación | O26: Etapa de selección | P26: Antes de la firma del contrato | Q26: Revisión del contrato y seguimiento al mismo. | R26: Durante la etapa de contrtación
B27: =+EVALUACION!B28 -> CONTRATACIÓN | C27: =+EVALUACION!C28 -> Falta de constitución o constitución tardía de la garantía única. Aceptación de garantías que no se ajustan a lo contemplado en el contrato | G27: Verificación de requisitos Plazos claros para la constitución Revisión de documentos de garantía Autorización previa Procedimientos de validación Comunicación proactiva Capacitación del personal Documentación de garantías | I27: =+EVALUACION!I28 -> 1 | J27: =+EVALUACION!J28 -> 4 | K27: =+I27+J27 -> 5 | L27: =IF(K27<=4,"BAJO",IF(K27=5,"MEDIO",IF(K27=6,"ALTO",IF(K27=7,"ALTO","EXTREMO")))) -> MEDIO | M27: SI | N27: Supervisión y comité de contratación | O27: Etapa de selección | P27: Antes de la firma del contrato | Q27: Validación de requisitos de la garantía. | R27: Durante la etapa de contrtación
... B32: =+EVALUACION!B33 -> EJECUCIÓN | C32: =+EVALUACION!C33 -> Variación de los precios del mercado | G32: Monitoreo de precios del mercado Revisión periódica del presupuesto Ajuste de precios de venta Diversificación de proveedores Contratos con cláusulas de ajuste de precios Estrategias de cobertura Optimización de la cadena de suministro Evaluación continua de costos | I32: =+EVALUACION!I33 -> 2 | J32: =+EVALUACION!J33 -> 4 | K32: =+I32+J32 -> 6 | L32: =IF(K32<=4,"BAJO",IF(K32=5,"MEDIO",IF(K32=6,"ALTO",IF(K32=7,"ALTO","EXTREMO")))) -> ALTO | M32: SI | N32: Contratista / Entidad | O32: Durante la ejecución del contrato | P32: Antes de la terminación del plazo contractual | Q32: Comunicación directa con el contratista por los medios a los que haya lugar | R32: Diario
B33: =+EVALUACION!B35 -> EJECUCIÓN | C33: Variacion de los precios de la moneda extranjera | G33: Monitoreo de precios del mercado de los elementos en moneda extrajera Revisión periódica del presupuesto Ajuste de precios de venta Diversificación de proveedores Contratos con cláusulas de ajuste de precios Estrategias de cobertura Optimización de la cadena de suministro Evaluación continua de costos | I33: =+EVALUACION!I35 -> 3 | J33: =+EVALUACION!J35 -> 3 | K33: =+I33+J33 -> 6 | L33: =IF(K33<=4,"BAJO",IF(K33=5,"MEDIO",IF(K33=6,"ALTO",IF(K33=7,"ALTO","EXTREMO")))) -> ALTO | M33: SI | N33: Contratista / Entidad | O33: Durante la ejecución del contrato | P33: Antes de la terminación del plazo contractual | Q33: Comunicación directa con el contratista por los medios a los que haya lugar | R33: Diario
B34: =+EVALUACION!B35 -> EJECUCIÓN | C34: =+EVALUACION!C35 -> Factores políticos o macroeconómicos. | G34: Monitoreo de indicadores macroeconómicos Análisis de riesgos políticos.Evaluación de impacto en el negocio Planificación de contingencias Consultoría con expertos en riesgos políticos Revisión y ajuste de estrategias financieras Uso de seguros de riesgo político Establecimiento de relaciones con autoridades locales | I34: =+EVALUACION!I35 -> 3 | J34: =+EVALUACION!J35 -> 3 | K34: =+I34+J34 -> 6 | L34: =IF(K34<=4,"BAJO",IF(K34=5,"MEDIO",IF(K34=6,"ALTO",IF(K34=7,"ALTO","EXTREMO")))) -> ALTO | M34: NO | N34: Contratista | O34: Durante la ejecución del contrato | P34: Antes de la terminación del plazo contractual | Q34: Monitoreo y control por parte del supervisor | R34: Semanalmente
B35: =+EVALUACION!B36 -> EJECUCIÓN | C35: =+EVALUACION!C36 -> Incumplimiento del objeto o de las obligaciones contractuales | G35: Definición clara de términos y obligaciones Establecimiento de plazos y cronogramas detallados Monitoreo continuo del cumplimiento Revisión y auditoría periódica Cláusulas contractuales de penalización Comunicación y coordinación regular Planificación de contingencias Capacitación y formación del personal | I35: =+EVALUACION!I36 -> 2 | J35: =+EVALUACION!J36 -> 4 | K35: =+I35+J35 -> 6 | L35: =IF(K35<=4,"BAJO",IF(K35=5,"MEDIO",IF(K35=6,"ALTO",IF(K35=7,"ALTO","EXTREMO")))) -> ALTO | M35: SI | N35: Contratista | O35: Desde la firma del contrato | P35: Cierre o liquidación del contrato | Q35: Mesa de trabajo | R35: Semanalmente
B36: =+EVALUACION!B37 -> EJECUCIÓN | C36: =+EVALUACION!C37 -> Variación en la disponibilidad o en el costo de los insumos necesarios para prestar los servicios. | G36: Monitoreo continuo de proveedores Diversificación de fuentes de suministro Negociación de contratos con cláusulas de ajuste Mantenimiento de inventarios de seguridad Evaluación periódica del mercado de insumos Desarrollo de relaciones sólidas con proveedores Revisión de presupuestos y costos Planificación de contingencias | I36: =+EVALUACION!I37 -> 1 | J36: =+EVALUACION!J37 -> 3 | K36: =+I36+J36 -> 4 | L36: =IF(K36<=4,"BAJO",IF(K36=5,"MEDIO",IF(K36=6,"ALTO",IF(K36=7,"ALTO","EXTREMO")))) -> BAJO | M36: SI | N36: Contratista | O36: Desde la firma del contrato | P36: Cierre o liquidación del contrato | Q36: Mesa de trabajo | R36: Mensualmente
B37: =+EVALUACION!B38 -> EJECUCIÓN | C37: =+EVALUACION!C38 -> Incumplimiento de compromisos adquiridos por el contratista seleccionado con sus subcontratistas, suministradores de bienes y servicios. | G37: Definición clara de compromisos contractuales Monitoreo regular del cumplimiento Revisión y gestión de contratos con subcontratistas Establecimiento de plazos y cronogramas detallados Auditorías y seguimientos periódicos Comunicación y coordinación efectiva Cláusulas de penalización por incumplimiento Planificación de contingencias | I37: =+EVALUACION!I38 -> 2 | J37: =+EVALUACION!J38 -> 4 | K37: =+I37+J37 -> 6 | L37: =IF(K37<=4,"BAJO",IF(K37=5,"MEDIO",IF(K37=6,"ALTO",IF(K37=7,"ALTO","EXTREMO")))) -> ALTO | M37: SI | N37: Contratista | O37: Desde la firma del contrato | P37: Cierre o liquidación del contrato | Q37: Informe de seguimiento | R37: Semanalmente
B38: =+EVALUACION!B39 -> EJECUCIÓN | C38: =+EVALUACION!C39 -> Incumplimiento de la administración en los pagos. | G38: Establecimiento de cronogramas de pagos claros Monitoreo regular de fechas de vencimiento Implementación de procedimientos de control interno Automatización de procesos de pago Revisión periódica del flujo de caja Política de pagos y gestión de proveedores Comunicación proactiva con proveedores | I38: =+EVALUACION!I39 -> 2 | J38: =+EVALUACION!J39 -> 3 | K38: =+I38+J38 -> 5 | L38: =IF(K38<=4,"BAJO",IF(K38=5,"MEDIO",IF(K38=6,"ALTO",IF(K38=7,"ALTO","EXTREMO")))) -> MEDIO | M38: SI | N38: Contabilidad/Financiera | O38: Desde la firma del contrato | P38: Cierre o liquidación del contrato | Q38: Informe de seguimiento | R38: Mensualmente
B39: =+EVALUACION!B40 -> EJECUCIÓN | C39: =+EVALUACION!C40 -> Defecto en la instalación de equipos | G39: Contratación de técnicos calificados Verificación de especificaciones Procedimientos de instalación estandarizados Inspección y pruebas previas a la aceptación Capacitación del personal de instalación Documentación y registro de la instalación Mantenimiento preventivo y correctivo Revisión de garantías y soporte técnico | I39: =+EVALUACION!I40 -> 2 | J39: =+EVALUACION!J40 -> 3 | K39: =+I39+J39 -> 5 | L39: =IF(K39<=4,"BAJO",IF(K39=5,"MEDIO",IF(K39=6,"ALTO",IF(K39=7,"ALTO","EXTREMO")))) -> MEDIO | M39: NO | N39: Contratista | O39: Desde la firma del contrato | P39: Cierre o liquidación del contrato | Q39: Mesa de trabajo | R39: Mensualmente
B40: =+EVALUACION!B41 -> EJECUCIÓN | C40: =+EVALUACION!C41 -> Defectos en los equipos. | G40: Selección de proveedores confiables Inspección y prueba de equipos antes de la compra Garantías y contratos de servicio Mantenimiento preventivo y correctivo regular Capacitación del personal en el uso y cuidado de equipos Registro y seguimiento de fallos y reparaciones Evaluación de calidad y cumplimiento de estándares Implementación de procedimientos de control de calidad Documentación detallada de defectos y acciones correctivas Revisión periódica del desempeño de los equipos | I40: =+EVALUACION!I41 -> 2 | J40: =+EVALUACION!J41 -> 3 | K40: =+I40+J40 -> 5 | L40: =IF(K40<=4,"BAJO",IF(K40=5,"MEDIO",IF(K40=6,"ALTO",IF(K40=7,"ALTO","EXTREMO")))) -> MEDIO | M40: NO | N40: Contratista | O40: Desde la firma del contrato | P40: Cierre o liquidación del contrato | Q40: Mesa de trabajo | R40: Mensualmente
B41: =+EVALUACION!B42 -> EJECUCIÓN | C41: =+EVALUACION!C42 -> Daños a los equipos objeto de mantenimiento y/o otros bienes | G41: Procedimientos de manejo y operación seguros Capacitación del personal en mantenimiento y manejo de equipos Revisión y seguimiento de las prácticas de mantenimiento Implementación de normas y procedimientos de seguridad Inspección previa y posterior a las actividades de mantenimiento Uso de equipos de protección personal (EPP) Documentación y registro de daños y reparaciones Establecimiento de protocolos para la gestión de incidentes Revisión de garantías y seguros Evaluación continua de las condiciones de trabajo | I41: =+EVALUACION!I42 -> 2 | J41: =+EVALUACION!J42 -> 3 | K41: =+I41+J41 -> 5 | L41: =IF(K41<=4,"BAJO",IF(K41=5,"MEDIO",IF(K41=6,"ALTO",IF(K41=7,"ALTO","EXTREMO")))) -> MEDIO | M41: NO | N41: Contratista | O41: Desde la firma del contrato | P41: Cierre o liquidación del contrato | Q41: Mesa de trabajo | R41: Mensualmente
B42: =+EVALUACION!B43 -> EJECUCIÓN | C42: =+EVALUACION!C43 -> Desequilibrio económico del contrato | G42: Revisión y ajuste de términos contractuales Cláusulas de ajuste de precios Monitoreo continuo de costos y gastos Evaluación periódica del equilibrio económico Documentación de cambios y justificaciones Negociación de modificaciones contractuales Planificación financiera y reservas Análisis de impacto de variaciones económicas Revisión de informes financieros y de progreso Consulta con asesores legales y financieros | I42: =+EVALUACION!I43 -> 3 | J42: =+EVALUACION!J43 -> 5 | K42: =+I42+J42 -> 8 | L42: =IF(K42<=4,"BAJO",IF(K42=5,"MEDIO",IF(K42=6,"ALTO",IF(K42=7,"ALTO","EXTREMO")))) -> EXTREMO | M42: SI | N42: Contratista | O42: Desde la firma del contrato | P42: Cierre o liquidación del contrato | Q42: Revisión del presupuesto | R42: Mensualmente
B43: =+EVALUACION!B44 -> EJECUCIÓN | C43: =+EVALUACION!C44 -> Imposición de nuevos tributos | G43: Monitoreo de cambios legislativos Consulta con asesores fiscales Revisión de normativa fiscal actual Evaluación del impacto financiero Ajuste en la planificación presupuestaria Documentación de obligaciones fiscales Capacitación en temas fiscales Uso de herramientas de gestión fiscal | I43: =+EVALUACION!I44 -> 3 | J43: =+EVALUACION!J44 -> 3 | K43: =+I43+J43 -> 6 | L43: =IF(K43<=4,"BAJO",IF(K43=5,"MEDIO",IF(K43=6,"ALTO",IF(K43=7,"ALTO","EXTREMO")))) -> ALTO | M43: SI | N43: Supervisión, apoyo jurídico y comité técnico | O43: Desde la firma del contrato | P43: Cierre o liquidación del contrato | Q43: Mesa de trabajo | R43: Mensualmente
B44: =+EVALUACION!B45 -> EJECUCIÓN | C44: =+EVALUACION!C45 -> Imposición de nuevos trámites o permisos | G44: Consulta con asesores legales y regulatorios Revisión y actualización de requisitos de permisos Documentación y seguimiento de trámites Capacitación del personal en nuevos procedimientos Establecimiento de un sistema de gestión de permisos Planificación anticipada y ajustes en el cronograma Comunicación con autoridades regulatorias | I44: =+EVALUACION!I45 -> 3 | J44: =+EVALUACION!J45 -> 3 | K44: =+I44+J44 -> 6 | L44: =IF(K44<=4,"BAJO",IF(K44=5,"MEDIO",IF(K44=6,"ALTO",IF(K44=7,"ALTO","EXTREMO")))) -> ALTO | M44: SI | N44: Supervisión y comité técnico | O44: Desde la firma del contrato | P44: Cierre o liquidación del contrato | Q44: Mesa de trabajo | R44: Mensualmente
B45: =+EVALUACION!B46 -> EJECUCIÓN | C45: =+EVALUACION!C46 -> Cambios en el marco regulatorio o normatividad aplicable al proyecto. | G45: Monitoreo continuo de cambios regulatorios Consulta con asesores legales y expertos en regulación Revisión y actualización periódica de la normativa aplicable Documentación de requisitos y cambios normativos Capacitación del personal sobre nuevas normativas Evaluación del impacto de los cambios en el proyecto Implementación de procedimientos para la adaptación a nuevas normativas | I45: =+EVALUACION!I46 -> 1 | J45: =+EVALUACION!J46 -> 3 | K45: =+I45+J45 -> 4 | L45: =IF(K45<=4,"BAJO",IF(K45=5,"MEDIO",IF(K45=6,"ALTO",IF(K45=7,"ALTO","EXTREMO")))) -> BAJO | M45: NO | N45: Supervisión, apoyo jurídico y comité técnico | O45: Desde la firma del contrato | P45: Cierre o liquidación del contrato | Q45: Mesa de trabajo | R45: Mensualmente
... B47: =+EVALUACION!B48 -> EJECUCIÓN | C47: =+EVALUACION!C48 -> Ejecución en tiempos distintos a los inicialmente programados por circunstancias no imputables a las partes. | G47: Revisión de cláusulas contractuales sobre plazos y demoras Desarrollo de un plan de contingencia para retrasos Monitoreo constante del progreso del proyecto Establecimiento de cronogramas flexibles Comunicación continua con todas las partes involucradas Documentación de causas y justificaciones de retrasos | I47: =+EVALUACION!I48 -> 3 | J47: =+EVALUACION!J48 -> 4 | K47: =+I47+J47 -> 7 | L47: =IF(K47<=4,"BAJO",IF(K47=5,"MEDIO",IF(K47=6,"ALTO",IF(K47=7,"ALTO","EXTREMO")))) -> ALTO | M47: SI | N47: Contratista / Entidad | O47: Desde la firma del contrato | P47: Cierre o liquidación del contrato | Q47: Reuniones de comité técnico quincenales para validación de eficacia del cronograma | R47: Semanalmente
B48: =+EVALUACION!B49 -> EJECUCIÓN | C48: Elementos de mala calidad y sin cumplimiento de los requerimientos tecnicos | G48: Establecimiento de estándares de calidad claros Revisión y aprobación de especificaciones técnicas Monitoreo continuo de la calidad durante la ejecución Implementación de procedimientos de control de calidad Capacitación y formación del personal en calidad Inspección y pruebas regulares de productos o servicios Documentación y registro de defectos y correcciones | I48: =+EVALUACION!I49 -> 2 | J48: =+EVALUACION!J49 -> 5 | K48: =+I48+J48 -> 7 | L48: =IF(K48<=4,"BAJO",IF(K48=5,"MEDIO",IF(K48=6,"ALTO",IF(K48=7,"ALTO","EXTREMO")))) -> ALTO | M48: NO | N48: Contratista | O48: Desde la firma del contrato | P48: Cierre o liquidación del contrato | Q48: Controles y seguimientos de calidad | R48: Mensualmente
B49: =+EVALUACION!B53 -> EJECUCIÓN | C49: =+EVALUACION!C53 -> Incumplimiento derivado del trámite de los permisos con autoridades ambientales, la obtención de los mismos, paz y salvos | G49: Revisión exhaustiva de requisitos legales y ambientales Desarrollo de un plan detallado para la obtención de permisos Consulta y coordinación con autoridades ambientales Documentación completa y precisa de todos los trámites Monitoreo continuo del estado de las solicitudes y permisos Establecimiento de plazos y cronogramas para la obtención de permisos Capacitación del personal en normativa ambiental | I49: =+EVALUACION!I53 -> 2 | J49: =+EVALUACION!J53 -> 3 | K49: =+I49+J49 -> 5 | L49: =IF(K49<=4,"BAJO",IF(K49=5,"MEDIO",IF(K49=6,"ALTO",IF(K49=7,"ALTO","EXTREMO")))) -> MEDIO | M49: SI | N49: Supervisión, apoyo jurídico y comité técnico | O49: Desde la firma del contrato | P49: Cierre o liquidación del contrato | Q49: Mesa de trabajo | R49: Semanalmente
B50: =+EVALUACION!B54 -> EJECUCIÓN | C50: Cambio en las medidas de los elementos necesario y que dentro de su descripcion tencica se daba a mediads de instalacion, | G50: Revision de los requerimientos tecnicos, revision de las areas de instalacin, revision de los planes determinados, revision de las neecsaidad y caracteristica tecnica. | I50: =+EVALUACION!I54 -> 2 | J50: =+EVALUACION!J54 -> 4 | K50: =+I50+J50 -> 6 | L50: =IF(K50<=4,"BAJO",IF(K50=5,"MEDIO",IF(K50=6,"ALTO",IF(K50=7,"ALTO","EXTREMO")))) -> ALTO | M50: SI | N50: Supervisión, apoyo jurídico y comité técnico | O50: Desde la firma del contrato | P50: Cierre o liquidación del contrato | Q50: Mesa de trabajo | R50: Semanalmente
B51: =+EVALUACION!B55 -> EJECUCIÓN | C51: retrasos en la entrega final de la instalacion dado a tiempos ejanos a los planeados en el presente proceso cotractual y que ocasionen el retraso en la ejecucion contractual. | G51: Revision de los tiempos de ejecucion, revision de los avances de ejecucion, revision contra los cronogramas establecidos. | I51: =+EVALUACION!I55 -> 3 | J51: =+EVALUACION!J55 -> 4 | K51: =+I51+J51 -> 7 | L51: =IF(K51<=4,"BAJO",IF(K51=5,"MEDIO",IF(K51=6,"ALTO",IF(K51=7,"ALTO","EXTREMO")))) -> ALTO | M51: SI | N51: Supervisión, apoyo jurídico y comité técnico | O51: Desde la firma del contrato | P51: Cierre o liquidación del contrato | Q51: Mesa de trabajo | R51: Semanalmente
B52: =+EVALUACION!B56 -> EJECUCIÓN | C52: ejecucion en e tiempo diferente a la contpemplada en los cronogramas por razones ajenas al ejecutor y que genera retrasos en la entrega final. | G52: Revision de los tiempos de ejecucion, revision de los avances de ejecucion, revision contra los cronogramas establecidos. | I52: =+EVALUACION!I56 -> 3 | J52: =+EVALUACION!J56 -> 2 | K52: =+I52+J52 -> 5 | L52: =IF(K52<=4,"BAJO",IF(K52=5,"MEDIO",IF(K52=6,"ALTO",IF(K52=7,"ALTO","EXTREMO")))) -> MEDIO | M52: SI | N52: Supervisión, apoyo jurídico y comité técnico | O52: Desde la firma del contrato | P52: Cierre o liquidación del contrato | Q52: Mesa de trabajo | R52: Semanalmente
B53: =+EVALUACION!B54 -> EJECUCIÓN | C53: =+EVALUACION!C54 -> Insolvencia del contratista | G53: Evaluación de la solvencia financiera antes de la contratación Revisión de informes financieros y antecedentes crediticios Requisitos de garantías y seguros adecuados Establecimiento de cláusulas contractuales para incumplimiento Monitoreo continuo de la salud financiera del contratista Revisión de referencias y antecedentes en proyectos anteriores Implementación de procedimientos de gestión de riesgos financieros Capacitación en gestión financiera y auditoría Planificación de contingencias para sustitución de contratistas | I53: =+EVALUACION!I54 -> 2 | J53: =+EVALUACION!J54 -> 4 | K53: =+I53+J53 -> 6 | L53: =IF(K53<=4,"BAJO",IF(K53=5,"MEDIO",IF(K53=6,"ALTO",IF(K53=7,"ALTO","EXTREMO")))) -> ALTO | M53: SI | N53: Contratista/Entidad | O53: Desde la firma del contrato | P53: Cierre o liquidación del contrato | Q53: Reportes periodicos financieros. | R53: Mensualmente
...

Sheet EVALUACION
C2: MATRIZ DE RIESGOS DE CONTRATACIÓN | K2: Código: GCO-GCI-F164 Versión: 02 Vigencia: 01 de diciembre de 2022 Caso HOLA: 280117
B6: Objeto Contractual: “COMPRAR, INSTALAR Y PONER EN FUNCIONAMIENTO UN SISTEMA INTEGRAL DE GRADERÍA RETRÁCTIL PARA LA DOTACIÓN DEL AUDITORIO DE LA CASA DE LA CULTURA DE SUBA”
B7: INSTRUCCIONES PARA LA IDENTIFICACIÓN, ANALISIS, EVALUACIÓN , ASIGNACIÓN Y TRATAMIENTO DE RIESGOS EN LA CONTRATACIÓN
B8: 1) Diligencie el objeto contractual y seleccione la(s) etapas y los riesgos que aplican al objeto contractual, de acuerdo a lo definido en la hoja de "IDENTIFICACIÓN Y ANÁLISIS"
B9: 2) Describa las consecuencias de la ocurrencia del Riesgo/evento.
B10: 3) Asigne la probabilidad de ocurrencia del riesgo, de conformidad con la tabla de probabilidad y la valoración del riesgo (Cualitativa o Monetaria)
B11: 4) Asigne el impacto que generaría la materialización del riesgo, de conformidad con la tabla de impacto y la valoración del riesgo (Cualitativa o Monetaria)
B12: 5) Al realizar las anteriores actividades se obtendrá la calificación total y la valoración del riesgo (prioridad).
B13: 6) Continúe en la hoja de "EVALUACIÓN DE CONTROLES"
B15: CALIFICACIÓN | H15: Cualitativa
B16: ETAPA | C16: Descripción (Que puede pasar y, cómo puede ocurrir) | H16: Consecuencias de la ocurrencia del evento | I16: Probabilidad de Ocurrencia | J16: Impacto | K16: Calificación Total | L16: Prioridad
B17: PLANEACIÓN | C17: Inadecuada escogencia de la tipología de contratación | H17: Retrasos en la ejecución, dificultades en la asignación de recursos, claúsulas deficientes, demandas, litigios, percepción negativa de la gestión pública. | I17: 1 | J17: 3 | K17: =I17+J17 -> 4 | L17: =IF(K17<=4,"BAJO",IF(K17=5,"MEDIO",IF(K17=6,"ALTO",IF(K17=7,"ALTO","EXTREMO")))) -> BAJO
B18: PLANEACIÓN | C18: Requisitos ponderantes inapropiados para el proceso de selección | H18: Contratistas seleccionados no cualificados, prioridad a facotres irrelevantes, baja calidad en el proyecto, exclusión de oferentes adecuados, ventajas sobre oferentes inadecuados, incumplimiento normativo y corrupción. | I18: 1 | J18: 3 | K18: =+I18+J18 -> 4 | L18: =IF(K18<=4,"BAJO",IF(K18=5,"MEDIO",IF(K18=6,"ALTO",IF(K18=7,"ALTO","EXTREMO")))) -> BAJO
B19: SELECCIÓN | C19: Suspensión del Proceso de selección | H19: Retraso en el cumplimiento de las metas de la entidad, demora en el cronograma, sobrecostos, reprocesios, aparación de impugnaciones, desconfianza en futuras contrataciones, deserción de oferentes, problemas en la asignación de recursos, afectaciones en la comunidad, | I19: 1 | J19: 5 | K19: =+I19+J19 -> 6 | L19: =IF(K19<=4,"BAJO",IF(K19=5,"MEDIO",IF(K19=6,"ALTO",IF(K19=7,"ALTO","EXTREMO")))) -> ALTO
B20: SELECCIÓN | C20: Inadecuada evaluación de las ofertas y/o verificación de requisitos habilitantes | H20: Selección de un proveedor inadecuado, desestimación de ofertas competitivas, ejecución del proyecto con baja calidad, costos incurrido por ineficiencia o incumplimiento, rescición de contratos, investigación por parte de entes de control, inhablitiación o multas, dificultades en la supervisión, modificaciones contractuales frecuentes, impacto negativo en la comunidad. | I20: 1 | J20: 4 | K20: =+I20+J20 -> 5 | L20: =IF(K20<=4,"BAJO",IF(K20=5,"MEDIO",IF(K20=6,"ALTO",IF(K20=7,"ALTO","EXTREMO")))) -> MEDIO
B21: SELECCIÓN | C21: Inadecuado manejo administrativo del proceso contractual | H21: Retrasos en los tiempos de entrega y aprobaciones, sobrecostos por retrasos y recargos administrativos, corrupción, falta de trazabilidad en los procesos, multas, sanciones o demandas, no se puede hacer efectiva la garantía del proyecto, pago injustificados, decisiones inadeacuada al objeto del contrato, investigaciones o sanciones por parte de los entes de control, | I21: 2 | J21: 4 | K21: =+I21+J21 -> 6 | L21: =IF(K21<=4,"BAJO",IF(K21=5,"MEDIO",IF(K21=6,"ALTO",IF(K21=7,"ALTO","EXTREMO")))) -> ALTO
B22: SELECCIÓN | C22: Falta de claridad en la elaboración de los actos administrativos | H22: Ambiguedad de los términos, errores en la ejecución de estos, dificultad en la exigibilidad, resistencia al cumplimiento, demandas, nulidad de los actos, dificultad de seguimiento, sanciones e investigaciones por parte de los órganos de control, imposibilidad de solictar garantías y dificultad para cerrar los contratos. | I22: 2 | J22: 3 | K22: =+I22+J22 -> 5 | L22: =IF(K22<=4,"BAJO",IF(K22=5,"MEDIO",IF(K22=6,"ALTO",IF(K22=7,"ALTO","EXTREMO")))) -> MEDIO
B23: SELECCIÓN | C23: Contestación inoportuna a todas las observaciones formuladas a los documentos de la contratación | H23: Postergación en las etapas del proceso, perdida de credibilidad entre los oferentes, demoras en la ejecución del contrato, desicentivo de la participación, reducción de la competencia, desigualdad entre los oferentes, impugnación y anulación del proceso, afectación del presupuesto, dificultades durante la ejecuión y sanciones de los órganos de control. | I23: 1 | J23: 3 | K23: =+I23+J23 -> 4 | L23: =IF(K23<=4,"BAJO",IF(K23=5,"MEDIO",IF(K23=6,"ALTO",IF(K23=7,"ALTO","EXTREMO")))) -> BAJO
B24: SELECCIÓN | C24: Declaratoria de desierta del Proceso de selección | H24: Incumplimiento en la satisfacción de las necesidades de la entidad. Incumplimiento de las metas propuestas por la entidad. | I24: 1 | J24: 4 | K24: =+I24+J24 -> 5 | L24: =IF(K24<=4,"BAJO",IF(K24=5,"MEDIO",IF(K24=6,"ALTO",IF(K24=7,"ALTO","EXTREMO")))) -> MEDIO
B25: SELECCIÓN | C25: Selección de contratista que no cuente con la capacidad financiera y/o técnica y/o jurídicas necesarias para la ejecución del contrato. | H25: Investigaciones disciplinarias, fiscales y penales. Demandas. Pone en riesgo la adecuada ejecución del contrato. sanciones disciplinarias, fiscales y/o penales. | I25: 2 | J25: 4 | K25: =+I25+J25 -> 6 | L25: =IF(K25<=4,"BAJO",IF(K25=5,"MEDIO",IF(K25=6,"ALTO",IF(K25=7,"ALTO","EXTREMO")))) -> ALTO
B26: SELECCIÓN | C26: Aceptación viciada por error | H26: Demandas Investigaciones disciplinarias, fiscales y penales | I26: 1 | J26: 1 | K26: =+I26+J26 -> 2 | L26: =IF(K26<=4,"BAJO",IF(K26=5,"MEDIO",IF(K26=6,"ALTO",IF(K26=7,"ALTO","EXTREMO")))) -> BAJO
B27: CONTRATACIÓN | C27: Riesgo de que no se firme el contrato. | H27: Incumplimiento preuspuestal, pérdida de oportunidades estratégicas, reasignación de recursos, costos adicionales con posible pérdidad de condiciones favorables, demandas, conflictos contractuales, perdida de confianza en los oferentes, necesidad de reiniciar el proyecto, responsabilidad administrativa o penal. | I27: 1 | J27: 3 | K27: =+I27+J27 -> 4 | L27: =IF(K27<=4,"BAJO",IF(K27=5,"MEDIO",IF(K27=6,"ALTO",IF(K27=7,"ALTO","EXTREMO")))) -> BAJO
B28: CONTRATACIÓN | C28: Falta de constitución o constitución tardía de la garantía única. Aceptación de garantías que no se ajustan a lo contemplado en el contrato | H28: Desequilibrio financiero, incapacidad para reclamaar daños, mayor probabilidad de incumplimiento del contratista, nulidad del contrato, sanciones y multas, riesgo de insolvencia del garante, dificultades legales para el cumplimiento de la garantía, competencia desleal, falta de respeto para ejecutar correcciones, dificultad para exigir responsabilidades, disputas contractuales y riesgo de terminación temprana del contrato. | I28: 1 | J28: 4 | K28: =+I28+J28 -> 5 | L28: =IF(K28<=4,"BAJO",IF(K28=5,"MEDIO",IF(K28=6,"ALTO",IF(K28=7,"ALTO","EXTREMO")))) -> MEDIO
B29: CONTRATACIÓN | C29: Falta de solicitud o solicitud tardía del registro presupuestal | H29: Retrasos en el cronograma, inhabilidad para comprometer recursos, riesgo de nulidad del contrato, sanciones, desajustes en la ejecución presupuestal, impacto en la liquidez del contratista, costos adicionales, reprocesos, percpeción de ineficiencia administrativa, reclamaciones, mutlas o sanciones, afectación en la calidad, riesgo de responsabilidad de administrativa. | I29: 1 | J29: 2 | K29: =+I29+J29 -> 3 | L29: =IF(K29<=4,"BAJO",IF(K29=5,"MEDIO",IF(K29=6,"ALTO",IF(K29=7,"ALTO","EXTREMO")))) -> BAJO
... B56: EJECUCIÓN | C56: Deterioro de las condiciones de seguridad y orden público que impidan el transporte de los funcionarios o el aplazamiento de recorridos | H56: Suspensión o aplazamiento de actividades, gastos adicionales de seguridad, demora en el cronograma, paralización de eventos, peligro para la vida y salud de los funcionarios, dificultades de acceso a la zonas de ejecución del contrato, reajuste de términos contractuales, penalidades por incumplimiento, percpeción pública negativa, | I56: 3 | J56: 2 | K56: =+I56+J56 -> 5 | L56: =IF(K56<=4,"BAJO",IF(K56=5,"MEDIO",IF(K56=6,"ALTO",IF(K56=7,"ALTO","EXTREMO")))) -> MEDIO
B59: Probabilidad | C59: Catagoria | E59: Valoración | G59: Impacto | H59: Categoria | I59: Valoración
C60: Raro (puede ocurrir excepcionalmente) | E60: 1 | H60: Insignificante | I60: 1
C61: Improbable (puede ocurrir ocasionalmente) | E61: 2 | H61: Menor | I61: 2
C62: Posible (puede ocurrir en cualquier momento futuro) | E62: 3 | H62: Moderado | I62: 3
C63: Probable (probablemente va a ocurrir) | E63: 4 | H63: Mayor | I63: 4
C64: Casi cierto (ocurre en la mayoria de circunstancias) | E64: 5 | H64: Catastrófico | I64: 5
C66: Valoración del Riesgo
C67: Calificación Cualitativa | F67: Obstruye la ejecución del contrato de manera intrascendente. | G67: Dificulta la ejecución del contrato de manera baja, aplicando medidas mínimas se pueden lograr el objeto contractual | H67: Afecta la ejecución del contrato sin alterar el beneficio para las partes | I67: Obstruye la ejecución del contrato sustancialmente pero aun así permite la consecución del objeto contractual | K67: Perturba la ejecución del contrato de manera grave imposibilitando la consecución del objeto contractual.
C68: Calificación Monetaria | F68: Los sobrecostos no representan más del uno por ciento (1%) del valor del contrato. | G68: Los sobrecostos no representan más del cinco por ciento (5%) del valor del contrato. | H68: Genera un impacto sobre el valor del contrato entre el cinco (5%) y el quince por ciento (15%). | I68: Incrementa el valor del contrato entre el quince (15%) y el treinta por ciento (30%). | K68: Impacto sobre el valor del contrato en más del treinta por ciento (30%).
C69: Categoría | E69: Valoración | F69: Insignificante | G69: Menor | H69: Moderado | I69: Mayor | K69: Catastrófico
F70: 1 | G70: 2 | H70: 3 | I70: 4 | K70: 5
C71: Raro (puede ocurrir excepcionalmente) | E71: 1 | F71: 2 | G71: 3 | H71: 4 | I71: 5 | K71: 6
C72: Improbable (puede ocurrir ocasionalmente) | E72: 2 | F72: 3 | G72: 4 | H72: 5 | I72: 6 | K72: 7
C73: Posible (puede ocurrir en cualquier momento futuro) | E73: 3 | F73: 4 | G73: 5 | H73: 6 | I73: 7 | K73: 8
C74: Probable (probablemente va a ocurrir) | E74: 4 | F74: 5 | G74: 6 | H74: 7 | I74: 8 | K74: 9
...

Sheet ASIGNACION Y TRATAMIENTO
C2: MATRIZ DE RIESGOS DE CONTRATACIÓN | W2: Código: GCO-GCI-F164 Versión: 02 Vigencia: 01 de diciembre de 2022 Caso HOLA: 280117
B6: “COMPRAR, INSTALAR Y PONER EN FUNCIONAMIENTO UN SISTEMA INTEGRAL DE GRADERÍA RETRÁCTIL PARA LA DOTACIÓN DEL AUDITORIO DE LA CASA DE LA CULTURA DE SUBA”
B7: Esta matriz es un documento anexo del Estudio Previo
B10: No | C10: Descripción (Que puede pasar y, cómo puede ocurrir) | D10: Etapa | E10: Clase | F10: Fuente | G10: Consecuencias de la ocurrencia del evento | H10: Probabilidad | I10: Impacto | J10: Calificación total | K10: Prioridad | L10: ¿A quien se le asigna? | M10: % | N10: Tratamiento/Controles a ser implementados | O10: Probabilidad | P10: Impacto | Q10: Calificación total | R10: Prioridad | S10: ¿Afecta el equilibrio económico del contrato? | T10: Persona responsable por implementar el tratamiento | U10: Fecha estimada en que se inicia el tratamiento | V10: Fecha estimada en que se completa el tratamiento | W10: ¿Cómo se realiza el monitoreo | X10: Periodicidad ¿Cuándo?
B11: 1 | C11: =+'EVALUACION CON CONTROLES'!C16:F16 -> Inadecuada escogencia de la tipología de contratación | D11: =+'EVALUACION CON CONTROLES'!B16 -> PLANEACIÓN | E11: =VLOOKUP(C11,'IDENTIFICACION Y ANALISIS'!$B$19:$F$59,3,FALSE) -> General | F11: =VLOOKUP(C11,'IDENTIFICACION Y ANALISIS'!$B$19:$F$59,4,FALSE) -> Interno | G11: =+EVALUACION!H17 -> Retrasos en la ejecución, dificultades en la asignación de recursos, claúsulas deficientes, demandas, litigios, percepción negativa de la gestión pública. | H11: =+EVALUACION!I17 -> 1 | I11: =+EVALUACION!J17 -> 3 | J11: =+EVALUACION!K17 -> 4 | K11: =+EVALUACION!L17 -> BAJO | N11: =+'EVALUACION CON CONTROLES'!G16 -> Establecimiento de un canal de comunicación abierto. Revisión de los plazos. Ajustes contractuales. Revisión legal de los documentos. Incorporación de cláusulas adicionales. Evaluación de viabilidad. Revisar las condiciones previas | O11: =+'EVALUACION CON CONTROLES'!I16 -> 1 | P11: =+'EVALUACION CON CONTROLES'!J16 -> 3 | Q11: =+'EVALUACION CON CONTROLES'!K16 -> 4 | R11: =+'EVALUACION CON CONTROLES'!L16 -> BAJO | S11: =+'EVALUACION CON CONTROLES'!M16 -> NO | T11: =+'EVALUACION CON CONTROLES'!N16 -> Formuladores | U11: =+'EVALUACION CON CONTROLES'!O16 -> Etapa de planeación | V11: =+'EVALUACION CON CONTROLES'!P16 -> Antes de la selección del contratista | ... X11: =+'EVALUACION CON CONTROLES'!R16 -> Durante la formulación de los pliegos.
B12: 2 | C12: =+'EVALUACION CON CONTROLES'!C17:F17 -> Requisitos ponderantes inapropiados para el proceso de selección | D12: =+'EVALUACION CON CONTROLES'!B17 -> PLANEACIÓN | E12: =VLOOKUP(C12,'IDENTIFICACION Y ANALISIS'!$B$19:$F$59,3,FALSE) -> Especifico | F12: =VLOOKUP(C12,'IDENTIFICACION Y ANALISIS'!$B$19:$F$59,4,FALSE) -> Interno | G12: =+EVALUACION!H18 -> Contratistas seleccionados no cualificados, prioridad a facotres irrelevantes, baja calidad en el proyecto, exclusión de oferentes adecuados, ventajas sobre oferentes inadecuados, incumplimiento normativo y corrupción. | H12: =+EVALUACION!I18 -> 1 | I12: =+EVALUACION!J18 -> 3 | J12: =+EVALUACION!K18 -> 4 | K12: =+EVALUACION!L18 -> BAJO | N12: =+'EVALUACION CON CONTROLES'!G17 -> Revisión de pertinencia y alineación con el objeto del contrato. Ajustes basados en las necesidades del proyecto. Análisis de procesos de selección previos. Benchmarking. Asesoramiento legal. Equilibrio en los pesos asignados. Eliminar criterios irrelevantes. Revisión conjunta del equipo evaluador. Consulta con el mercado. Emisión de adendas o modificaciones: | O12: =+'EVALUACION CON CONTROLES'!I17 -> 1 | P12: =+'EVALUACION CON CONTROLES'!J17 -> 3 | Q12: =+'EVALUACION CON CONTROLES'!K17 -> 4 | R12: =+'EVALUACION CON CONTROLES'!L17 -> BAJO | S12: =+'EVALUACION CON CONTROLES'!M17 -> NO | T12: =+'EVALUACION CON CONTROLES'!N17 -> Formulador | U12: =+'EVALUACION CON CONTROLES'!O17 -> Etapa de planeación | V12: =+'EVALUACION CON CONTROLES'!P17 -> Antes de la selección del contratista | ... X12: =+'EVALUACION CON CONTROLES'!R17 -> Durante la formulación de los pliegos.
B13: 3 | C13: =+'EVALUACION CON CONTROLES'!C18:F18 -> Suspensión del Proceso de selección | D13: =+'EVALUACION CON CONTROLES'!B18 -> SELECCIÓN | E13: =VLOOKUP(C13,'IDENTIFICACION Y ANALISIS'!$B$19:$F$59,3,FALSE) -> General | F13: =VLOOKUP(C13,'IDENTIFICACION Y ANALISIS'!$B$19:$F$59,4,FALSE) -> Interno | G13: =+EVALUACION!H19 -> Retraso en el cumplimiento de las metas de la entidad, demora en el cronograma, sobrecostos, reprocesios, aparación de impugnaciones, desconfianza en futuras contrataciones, deserción de oferentes, problemas en la asignación de recursos, afectaciones en la comunidad, | H13: =+EVALUACION!I19 -> 1 | I13: =+EVALUACION!J19 -> 5 | J13: =+EVALUACION!K19 -> 6 | K13: =+EVALUACION!L19 -> ALTO | N13: =+'EVALUACION CON CONTROLES'!G18 -> Análisis de cuasa raíz. Evaluación legal administrativa. Subsanación de requisitos. Reprogramación del cronograma. Validación técnica y legal de modificaciones. Consulta con entidades reguladoras. Seguimiento de la implementación de los cambios. Evaluación del impacto de la suspensión. Capacitación en normativas de contratación. | O13: =+'EVALUACION CON CONTROLES'!I18 -> 1 | P13: =+'EVALUACION CON CONTROLES'!J18 -> 5 | Q13: =+'EVALUACION CON CONTROLES'!K18 -> 6 | R13: =+'EVALUACION CON CONTROLES'!L18 -> ALTO | S13: =+'EVALUACION CON CONTROLES'!M18 -> NO | T13: =+'EVALUACION CON CONTROLES'!N18 -> Formulador y Comité de contratación | U13: =+'EVALUACION CON CONTROLES'!O18 -> Etapa de planeación | V13: =+'EVALUACION CON CONTROLES'!P18 -> Etapa de selección | ... X13: =+'EVALUACION CON CONTROLES'!R18 -> Durante los comités de contratación
B14: 4 | C14: =+'EVALUACION CON CONTROLES'!C19:F19 -> Inadecuada evaluación de las ofertas y/o verificación de requisitos habilitantes | D14: =+'EVALUACION CON CONTROLES'!B19 -> SELECCIÓN | E14: =VLOOKUP(C14,'IDENTIFICACION Y ANALISIS'!$B$19:$F$59,3,FALSE) -> General | F14: =VLOOKUP(C14,'IDENTIFICACION Y ANALISIS'!$B$19:$F$59,4,FALSE) -> Interno | G14: =+EVALUACION!H20 -> Selección de un proveedor inadecuado, desestimación de ofertas competitivas, ejecución del proyecto con baja calidad, costos incurrido por ineficiencia o incumplimiento, rescición de contratos, investigación por parte de entes de control, inhablitiación o multas, dificultades en la supervisión, modificaciones contractuales frecuentes, impacto negativo en la comunidad. | H14: =+EVALUACION!I20 -> 1 | I14: =+EVALUACION!J20 -> 4 | J14: =+EVALUACION!K20 -> 5 | K14: =+EVALUACION!L20 -> MEDIO | N14: =+'EVALUACION CON CONTROLES'!G19 -> Redefinición de los criterios. Entrenamiento en evaluación y verificación de requisitos. Auditoría de la evaluación. Checklists y matrices de verificación. Revisión legal especializada. Involucramiento de expertos técnicos. Ampliación del tiempo de evaluación. Informe de evaluación al ente de control. Revisión de los procedimientos internos. | O14: =+'EVALUACION CON CONTROLES'!I19 -> 1 | P14: =+'EVALUACION CON CONTROLES'!J19 -> 4 | Q14: =+'EVALUACION CON CONTROLES'!K19 -> 5 | R14: =+'EVALUACION CON CONTROLES'!L19 -> MEDIO | S14: =+'EVALUACION CON CONTROLES'!M19 -> NO | T14: =+'EVALUACION CON CONTROLES'!N19 -> Evaluadores | U14: =+'EVALUACION CON CONTROLES'!O19 -> Etapa de selección | V14: =+'EVALUACION CON CONTROLES'!P19 -> Antes de la selección del contratista | ... X14: =+'EVALUACION CON CONTROLES'!R19 -> Durante la evaluación
