Workbook

Sheet Resumen
A1: RFI-100-2026 – Estudio de mercado – Promedios unitarios
A3: Parámetro | B3: Valor
A4: IVA | B4: 0.19
A5: RFI | B5: RFI-100-2026
A8: Proveedor | B8: Agenda Juvenil | C8: Parque Renace | D8: Semana Juventudes | E8: Total cotización
A9: CPA ALIADOS S.A.S. | B9: 70267120 | C9: 283172876 | D9: 45004610 | E9: =SUM(B9:D9) -> 398444606
A10: MORIAH COMPANY S.A.S. | B10: 70234395 | C10: 277771823 | D10: 45112305 | E10: =SUM(B10:D10) -> 393118523
A11: FUNDACIÓN WR TEJIDO SOCIAL | B11: 69453517 | C11: 278568290 | D11: 44783270 | E11: =SUM(B11:D11) -> 392805077
A12: PROMEDIO ARITMÉTICO | B12: =AVERAGE(B9:B11) -> 69985011 | C12: =AVERAGE(C9:C11) -> 279837663 | D12: =AVERAGE(D9:D11) -> 44966728 | E12: =AVERAGE(E9:E11) -> 394789402
A15: Concepto | B15: Agenda Juvenil | C15: Parque Renace | D15: Semana Juventudes | E15: Total
A16: Total por promedio unitario | B16: ='Agenda Juvenil'!L20 -> 69985011 | C16: ='Parque Renace'!L28 -> 279837663 | D16: ='Semana Juventudes'!L12 -> 44966728 | E16: =SUM(B16:D16) -> 3.947894e+08
A21: Proveedor | B21: Agenda Juvenil | C21: Parque Renace | D21: Semana de Juventudes 2026 | E21: Valor total cotizado
A22: CPA ALIADOS S.A.S. | B22: 70267120 | C22: 283172876 | D22: 45004610 | E22: 398444606
A23: MORIAH COMPANY S.A.S. | B23: 70234395 | C23: 277771823 | D23: 45112305 | E23: 393118523
A24: FUNDACIÓN WR TEJIDO SOCIAL | B24: 69453517 | C24: 278568290 | D24: 44783270 | E24: 392805077
A25: Promedio aritmético | B25: 69985011 | C25: 279837663 | D25: 44966728 | E25: 394789402
A28: Componente | B28: Valor de referencia
A29: Agenda Juvenil | B29: 69985011
A30: Parque Renace | B30: 279837663
A31: Semana de Juventudes 2026 | B31: 44966728
A32: VALOR TOTAL DE REFERENCIA | B32: 394789402

Sheet Agenda Juvenil
A1: RFI-100-2026 – Agenda Juvenil – Cálculo de promedio unitario
A2: Metodología: promedio aritmético simple de los tres valores unitarios antes de IVA; IVA 19%; el total de referencia usa el promedio sin redondear para conservar la conciliación con el promedio de las cotizaciones.
A3: Ítem | B3: Descripción | C3: Unidad | D3: Días | E3: Cantidad | F3: CPA Aliados Unitario sin IVA | G3: Moriah Company Unitario sin IVA | H3: Fundación WR Unitario sin IVA | I3: Promedio unitario sin IVA | J3: IVA unitario promedio | K3: Promedio unitario incl. IVA | L3: Total referencia
A4: 1 | B4: Taller presencial: creación de contenido basado en storytelling | C4: TALLER | D4: 1 | E4: 1 | F4: 4015000 | G4: 3900000 | H4: 3800000 | I4: =AVERAGE(F4:H4) -> 3905000 | J4: =I4*Resumen!$B$4 -> 741950 | K4: =I4+J4 -> 4646950 | L4: =K4*D4*E4 -> 4646950
A5: 2 | B5: Taller presencial: liderazgo colaborativo – equipos en movimiento | C5: TALLER | D5: 1 | E5: 1 | F5: 4015000 | G5: 3900000 | H5: 3800000 | I5: =AVERAGE(F5:H5) -> 3905000 | J5: =I5*Resumen!$B$4 -> 741950 | K5: =I5+J5 -> 4646950 | L5: =K5*D5*E5 -> 4646950
A6: 3 | B6: Taller presencial: IA generativa – del prompt a la creación | C6: TALLER | D6: 1 | E6: 1 | F6: 4015000 | G6: 3900000 | H6: 3800000 | I6: =AVERAGE(F6:H6) -> 3905000 | J6: =I6*Resumen!$B$4 -> 741950 | K6: =I6+J6 -> 4646950 | L6: =K6*D6*E6 -> 4646950
A7: 4 | B7: Taller presencial: planeación financiera para jóvenes | C7: TALLER | D7: 1 | E7: 1 | F7: 4015000 | G7: 3900000 | H7: 3800000 | I7: =AVERAGE(F7:H7) -> 3905000 | J7: =I7*Resumen!$B$4 -> 741950 | K7: =I7+J7 -> 4646950 | L7: =K7*D7*E7 -> 4646950
A8: 5 | B8: Taller presencial: servicio al cliente | C8: TALLER | D8: 1 | E8: 1 | F8: 4015000 | G8: 3900000 | H8: 3800000 | I8: =AVERAGE(F8:H8) -> 3905000 | J8: =I8*Resumen!$B$4 -> 741950 | K8: =I8+J8 -> 4646950 | L8: =K8*D8*E8 -> 4646950
A9: 6 | B9: Alquiler de sistema de sonido profesional | C9: GLOBAL | D9: 1 | E9: 1 | F9: 4452000 | G9: 4200000 | H9: 4000000 | I9: =AVERAGE(F9:H9) -> 4217333.3 | J9: =I9*Resumen!$B$4 -> 801293.33 | K9: =I9+J9 -> 5018626.7 | L9: =K9*D9*E9 -> 5018626.7
A10: 7 | B10: Instalación de puente estructural | C10: GLOBAL | D10: 1 | E10: 1 | F10: 950000 | G10: 1304000 | H10: 1350000 | I10: =AVERAGE(F10:H10) -> 1201333.3 | J10: =I10*Resumen!$B$4 -> 228253.33 | K10: =I10+J10 -> 1429586.7 | L10: =K10*D10*E10 -> 1429586.7
A11: 8 | B11: Alquiler pantalla LED | C11: GLOBAL | D11: 1 | E11: 1 | F11: 4175000 | G11: 4400000 | H11: 4098000 | I11: =AVERAGE(F11:H11) -> 4224333.3 | J11: =I11*Resumen!$B$4 -> 802623.33 | K11: =I11+J11 -> 5026956.7 | L11: =K11*D11*E11 -> 5026956.7
A12: 9 | B12: Alquiler de sistema de iluminación profesional | C12: GLOBAL | D12: 1 | E12: 1 | F12: 3652000 | G12: 3401600 | H12: 3500000 | I12: =AVERAGE(F12:H12) -> 3517866.7 | J12: =I12*Resumen!$B$4 -> 668394.67 | K12: =I12+J12 -> 4186261.3 | L12: =K12*D12*E12 -> 4186261.3
A13: 10 | B13: Suministro almuerzo o cena | C13: ALMUERZO | D13: 1 | E13: 380 | F13: 32000 | G13: 34650 | H13: 36500 | I13: =AVERAGE(F13:H13) -> 34383.333 | J13: =I13*Resumen!$B$4 -> 6532.8333 | K13: =I13+J13 -> 40916.167 | L13: =K13*D13*E13 -> 15548143
A14: 11 | B14: Suministro refrigerio | C14: UNIDAD | D14: 1 | E14: 400 | F14: 20000 | G14: 18450 | H14: 17450 | I14: =AVERAGE(F14:H14) -> 18633.333 | J14: =I14*Resumen!$B$4 -> 3540.3333 | K14: =I14+J14 -> 22173.667 | L14: =K14*D14*E14 -> 8869466.7
A15: 12 | B15: Suministro hidratación | C15: UNIDAD | D15: 1 | E15: 440 | F15: 2350 | G15: 2800 | H15: 3000 | I15: =AVERAGE(F15:H15) -> 2716.6667 | J15: =I15*Resumen!$B$4 -> 516.16667 | K15: =I15+J15 -> 3232.8333 | L15: =K15*D15*E15 -> 1422446.7
... A18: 15 | B18: Servicio de personal – coordinación logística | C18: UNIDAD | D18: 1 | E18: 1 | F18: 460000 | G18: 465800 | H18: 446300 | I18: =AVERAGE(F18:H18) -> 457366.67 | J18: =I18*Resumen!$B$4 -> 86899.667 | K18: =I18+J18 -> 544266.33 | L18: =K18*D18*E18 -> 544266.33
A20: TOTAL COMPONENTE | L20: =SUM(L4:L18) -> 69985011

Sheet Parque Renace
A1: RFI-100-2026 – Parque Renace – Cálculo de promedio unitario
A2: Metodología: promedio aritmético simple de los tres valores unitarios antes de IVA; IVA 19%; el total de referencia usa el promedio sin redondear para conservar la conciliación con el promedio de las cotizaciones.
A3: Ítem | B3: Descripción | C3: Unidad | D3: Días | E3: Cantidad | F3: CPA Aliados Unitario sin IVA | G3: Moriah Company Unitario sin IVA | H3: Fundación WR Unitario sin IVA | I3: Promedio unitario sin IVA | J3: IVA unitario promedio | K3: Promedio unitario incl. IVA | L3: Total referencia
A4: 1 | B4: Instalación de techo y tarima | C4: UNIDAD | D4: 1 | E4: 1 | F4: 21450000 | G4: 18200000 | H4: 21000000 | I4: =AVERAGE(F4:H4) -> 20216667 | J4: =I4*Resumen!$B$4 -> 3841166.7 | K4: =I4+J4 -> 24057833 | L4: =K4*D4*E4 -> 24057833
A5: 2 | B5: Instalación sistema de sonido profesional | C5: GLOBAL | D5: 3 | E5: 1 | F5: 10500000 | G5: 11136000 | H5: 10950000 | I5: =AVERAGE(F5:H5) -> 10862000 | J5: =I5*Resumen!$B$4 -> 2063780 | K5: =I5+J5 -> 12925780 | L5: =K5*D5*E5 -> 38777340
A6: 3 | B6: Instalación pantalla LED | C6: GLOBAL | D6: 3 | E6: 1 | F6: 7500000 | G6: 7400000 | H6: 7000000 | I6: =AVERAGE(F6:H6) -> 7300000 | J6: =I6*Resumen!$B$4 -> 1387000 | K6: =I6+J6 -> 8687000 | L6: =K6*D6*E6 -> 26061000
A7: 4 | B7: Instalación de puente estructural | C7: GLOBAL | D7: 3 | E7: 1 | F7: 1200000 | G7: 1250000 | H7: 1200000 | I7: =AVERAGE(F7:H7) -> 1216666.7 | J7: =I7*Resumen!$B$4 -> 231166.67 | K7: =I7+J7 -> 1447833.3 | L7: =K7*D7*E7 -> 4343500
A8: 5 | B8: Backline profesional | C8: UNIDAD | D8: 3 | E8: 1 | F8: 1900000 | G8: 2000000 | H8: 2051000 | I8: =AVERAGE(F8:H8) -> 1983666.7 | J8: =I8*Resumen!$B$4 -> 376896.67 | K8: =I8+J8 -> 2360563.3 | L8: =K8*D8*E8 -> 7081690
A9: 6 | B9: Alquiler de planta eléctrica | C9: UNIDAD | D9: 3 | E9: 1 | F9: 3745000 | G9: 3946500 | H9: 4000000 | I9: =AVERAGE(F9:H9) -> 3897166.7 | J9: =I9*Resumen!$B$4 -> 740461.67 | K9: =I9+J9 -> 4637628.3 | L9: =K9*D9*E9 -> 13912885
A10: 7 | B10: Alquiler de bingo | C10: GLOBAL | D10: 3 | E10: 1 | F10: 5000000 | G10: 4800000 | H10: 4650000 | I10: =AVERAGE(F10:H10) -> 4816666.7 | J10: =I10*Resumen!$B$4 -> 915166.67 | K10: =I10+J10 -> 5731833.3 | L10: =K10*D10*E10 -> 17195500
A11: 8 | B11: Alquiler baño portátil | C11: UNIDAD | D11: 3 | E11: 2 | F11: 600000 | G11: 569000 | H11: 540000 | I11: =AVERAGE(F11:H11) -> 569666.67 | J11: =I11*Resumen!$B$4 -> 108236.67 | K11: =I11+J11 -> 677903.33 | L11: =K11*D11*E11 -> 4067420
A12: 9 | B12: Ambulancia básica | C12: UNIDAD | D12: 3 | E12: 1 | F12: 2850000 | G12: 2000000 | H12: 2540000 | I12: =AVERAGE(F12:H12) -> 2463333.3 | J12: =I12*Resumen!$B$4 -> 468033.33 | K12: =I12+J12 -> 2931366.7 | L12: =K12*D12*E12 -> 8794100
A13: 10 | B13: Personal – apoyo logístico, aseo y seguridad | C13: UNIDAD | D13: 3 | E13: 4 | F13: 241000 | G13: 262000 | H13: 265900 | I13: =AVERAGE(F13:H13) -> 256300 | J13: =I13*Resumen!$B$4 -> 48697 | K13: =I13+J13 -> 304997 | L13: =K13*D13*E13 -> 3659964
A14: 11 | B14: Suministro hidratación | C14: UNIDAD | D14: 3 | E14: 300 | F14: 2400 | G14: 2450 | H14: 2200 | I14: =AVERAGE(F14:H14) -> 2350 | J14: =I14*Resumen!$B$4 -> 446.5 | K14: =I14+J14 -> 2796.5 | L14: =K14*D14*E14 -> 2516850
A15: 12 | B15: Suministro almuerzo o cena | C15: UNIDAD | D15: 3 | E15: 100 | F15: 35000 | G15: 40000 | H15: 36000 | I15: =AVERAGE(F15:H15) -> 37000 | J15: =I15*Resumen!$B$4 -> 7030 | K15: =I15+J15 -> 44030 | L15: =K15*D15*E15 -> 13209000
... A26: 23 | B26: Porción de torta | C26: UNIDAD | D26: 1 | E26: 1000 | F26: 9000 | G26: 6800 | H26: 9000 | I26: =AVERAGE(F26:H26) -> 8266.6667 | J26: =I26*Resumen!$B$4 -> 1570.6667 | K26: =I26+J26 -> 9837.3333 | L26: =K26*D26*E26 -> 9837333.3
A28: TOTAL COMPONENTE | L28: =SUM(L4:L26) -> 279837663

Sheet Semana Juventudes
A1: RFI-100-2026 – Semana Juventudes – Cálculo de promedio unitario
A2: Metodología: promedio aritmético simple de los tres valores unitarios antes de IVA; IVA 19%; el total de referencia usa el promedio sin redondear para conservar la conciliación con el promedio de las cotizaciones.
A3: Ítem | B3: Descripción | C3: Unidad | D3: Días | E3: Cantidad | F3: CPA Aliados Unitario sin IVA | G3: Moriah Company Unitario sin IVA | H3: Fundación WR Unitario sin IVA | I3: Promedio unitario sin IVA | J3: IVA unitario promedio | K3: Promedio unitario incl. IVA | L3: Total referencia
A4: 1 | B4: Reconocimiento – placa 30 x 20 cm | C4: UNIDAD | D4: 1 | E4: 10 | F4: 228600 | G4: 200000 | H4: 231000 | I4: =AVERAGE(F4:H4) -> 219866.67 | J4: =I4*Resumen!$B$4 -> 41774.667 | K4: =I4+J4 -> 261641.33 | L4: =K4*D4*E4 -> 2616413.3
A5: 2 | B5: Sistema de sonido profesional | C5: UNIDAD | D5: 2 | E5: 1 | F5: 7800000 | G5: 8045000 | H5: 7690000 | I5: =AVERAGE(F5:H5) -> 7845000 | J5: =I5*Resumen!$B$4 -> 1490550 | K5: =I5+J5 -> 9335550 | L5: =K5*D5*E5 -> 18671100
A6: 3 | B6: Backline profesional | C6: UNIDAD | D6: 2 | E6: 1 | F6: 1960000 | G6: 2000000 | H6: 1846500 | I6: =AVERAGE(F6:H6) -> 1935500 | J6: =I6*Resumen!$B$4 -> 367745 | K6: =I6+J6 -> 2303245 | L6: =K6*D6*E6 -> 4606490
A7: 4 | B7: Grupo musical – rock, pop, latino o músicas modernas urbanas | C7: UNIDAD | D7: 1 | E7: 1 | F7: 5845000 | G7: 6200000 | H7: 6000000 | I7: =AVERAGE(F7:H7) -> 6015000 | J7: =I7*Resumen!$B$4 -> 1142850 | K7: =I7+J7 -> 7157850 | L7: =K7*D7*E7 -> 7157850
A8: 5 | B8: Suministro de pines | C8: UNIDAD | D8: 1 | E8: 130 | F8: 6400 | G8: 6150 | H8: 5000 | I8: =AVERAGE(F8:H8) -> 5850 | J8: =I8*Resumen!$B$4 -> 1111.5 | K8: =I8+J8 -> 6961.5 | L8: =K8*D8*E8 -> 904995
A9: 6 | B9: Grupo musical – dúo o trío | C9: UNIDAD | D9: 2 | E9: 3 | F9: 1056000 | G9: 945000 | H9: 1100000 | I9: =AVERAGE(F9:H9) -> 1033666.7 | J9: =I9*Resumen!$B$4 -> 196396.67 | K9: =I9+J9 -> 1230063.3 | L9: =K9*D9*E9 -> 7380380
A10: 7 | B10: Suministro agenda + esfero contramarcado | C10: UNIDAD | D10: 1 | E10: 150 | F10: 20000 | G10: 21000 | H10: 20000 | I10: =AVERAGE(F10:H10) -> 20333.333 | J10: =I10*Resumen!$B$4 -> 3863.3333 | K10: =I10+J10 -> 24196.667 | L10: =K10*D10*E10 -> 3629500
A12: TOTAL COMPONENTE | L12: =SUM(L4:L10) -> 44966728
