Workbook
Name ADMIN.TODO: [1]PERSONAL!$B$37:$H$42
Name CANTIDAD_ADMINISTRATIVOS: [1]PERSONAL!$D$37:$D$41
Name CANTIDAD_PROFESIONALES: [1]PERSONAL!$D$6:$D$24
Name CANTIDAD_TÉCNICOS: [1]PERSONAL!$D$30:$D$31
Name DEDICACIÓN_ADMINISTRATIVOS: [1]PERSONAL!$E$37:$E$41
Name DEDICACIÓN_PROFESIONALES: [1]PERSONAL!$E$6:$E$24
Name DEDICACIÓN_TÉCNICOS: [1]PERSONAL!$E$30:$E$31
Name ENSAYOS_ESTUDIOS_Y_RENDERS: [1]COTIZACIONES!$C$11:$G$52
Name FM: '[1]FACTOR MULTIPLICADOR'!$E$65
Name FP_ADMINISTRATIVOS: [1]PERSONAL!$G$37:$G$41
Name FP_PROFESIONALES: [1]PERSONAL!$G$6:$G$24
Name FP_PROMEDIO: '[1]FACTOR MULTIPLICADOR'!$E$9
Name FP_TÉCNICOS: [1]PERSONAL!$G$30:$G$31
Name IMPUESTOS: '[1]FACTOR MULTIPLICADOR'!$D$33:$D$38
Name PROF: [1]PERSONAL!$B$6:$B$24
Name PROF.TODO: [1]PERSONAL!$B$6:$H$24
Name SALARIOS_SDIS: '[1]SALARIOS SDIS'!$B$10:$G$66
Name SB_ADMINISTRATIVOS: [1]PERSONAL!$F$37:$F$41
Name SB_PROFESIONALES: [1]PERSONAL!$F$6:$F$24
Name SB_TÉCNICOS: [1]PERSONAL!$F$30:$F$31
Name TECN.TODO: [1]PERSONAL!$B$30:$H$31
Name TECNICO: [1]PERSONAL!$B$30:$B$31
Name TÉCNICOS: [1]PERSONAL!$B$30:$F$31
Name TOTAL_COSTEO: [1]COSTEO!$I$82
Name TOTAL_G_PERSONAL: [1]COSTEO!$I$75
Name VALOR_PARCIAL_ENSAYOS_Y_OTROS: '[1]ADMINISTRACIÓN Y OTROS'!$E$31:$E$48
Name VALOR_PARCIAL_EQUIPOS: '[1]ADMINISTRACIÓN Y OTROS'!$G$24:$G$25
Name VALOR_PARCIAL_OFICINA: '[1]ADMINISTRACIÓN Y OTROS'!$G$15:$G$18
Name SMMLV: 'AIU- ESTRUCTURA'!$H$15
Name PLAZO: 'AIU- ESTRUCTURA'!$C$15
Name CD: 'AIU- ESTRUCTURA'!$C$14
Name SALARIOS: SALARIOS!$B$6:$G$80
Name SMMLV: 'AIU- ESTRUCTURA (2)'!$H$15
Name CD: 'AIU- ESTRUCTURA (2)'!$C$14
Name PLAZO: 'AIU- ESTRUCTURA (2)'!$C$15

Sheet AIU- ESTRUCTURA
C1: FORMATO PRESENTACIÓN ESTRUCTURAS DE COSTO - AIU
B6: OBJETO DEL PROCESO: | C6: REALIZAR A MONTO AGOTABLE A PRECIOS UNITARIOS FIJOS LOS MANTENIMIENTOS LOCATIVOS REPARACIONES Y ADECUACIONES NECESARIAS A LA INFRAESTRUCTURA FÍSICA DE LAS SEDES ADMINISTRADAS POR LA SECRETARIA DISTRITAL DE MOVILIDAD
B7: PROYECTO ENCARGADO:
B8: FECHA DE ELABORACIÓN: | C8: 46266
C10: SE DEBEN DILIGENCIAR TODOS LOS ESPACIOS EN VERDE
A12: 1 | B12: DATOS DE LA OBRA
B14: COSTO DIRECTO DE OBRA (CD) | C14: 3.3330711e+09 | D14: COP
B15: TERMINO DE EJECUCION DE OBRA | C15: 7 | D15: MESES | F15: VALOR DEL SALARIO MINIMO LEGAL VIGENTE 2026 | H15: 1750905 | Y15: Artículo 2.2.1.2.3.1.17. Suficiencia del seguro de responsabilidad civil extracontractual. El valor asegurado por los contratos de seguro que amparan la responsabilidad civil extracontractual no debe ser inferior a:
B16: COSTO TOTAL DEL CONTRATO INCLUIDO AIU | C16: =+C18 -> 4398765492 | D16: COP | F16: DISPONIBILIDAD PRESUPUESTAL | H16: =+C18 -> 4398765492
B17: IVA SOBRE LA UTILIDAD | C17: =+J93 -> 0 | D17: COP
B18: VALOR TOTAL CONTRATO | C18: 4398765492 | D18: COP
B19: VALOR EN SMMLV DEL CONTRATO | C19: =ROUND(C18/$H$15,0) -> 2512 | D19: SMMLV
Y20: 2. Trescientos (300) smmlv para contratos cuyo valor sea superior a mil quinientos (1.500) smmlv e inferior o igual a dos mil quinientos (2.500) smmlv.
A21: 2 | B21: A. ADMINISTRACIÓN
B23: 1. COSTOS DE PERSONAL PROFESIONAL, TÉCNICO Y PERSONAL AUXILIAR TÉCNICO Y ADMINISTRATIVO
B24: Para la estimación de los costos de personal requeridos para la ejecución del contrato, se tomaron como referencia los perfiles definidos en la ficha técnica y los valores establecidos en la base de Análisis de Precios Unitarios – APU del Instituto de Desarrollo Urbano “Actualización 2025-I Fase + M.O. 2026”, utilizada como soporte técnico para la estructuración económica del proceso.
B25: CANTIDAD | C25: CARGO | D25: CATEGORIA - PERFILES IDU | E25: DEDICACIÓN MES | F25: TOPE MÁXIMO SALARIO MES (INCLUYE PRESTACIONES SOCIALES MES | G25: PLAZO | I25: SALARIO + PRESTACIONES
B26: A | E26: B | F26: C | G26: D | I26: F = A * B * C *D
B27: 1.1 PERSONAL PROFESIONAL Y ESPECIALISTA
B28: 1 | C28: DIRECTOR DE OBRA (TARIFA MES - PROFESIONAL CATEGORÍA 2 (INCLUYE FACTOR DE PRESTACIONES) | D28: 9466 | E28: 0.5 | F28: 19230337 | G28: =+PLAZO -> 7 | I28: =ROUND(IFERROR(B28*E28*F28*G28,""),) -> 67306180
B29: 1 | C29: RESIDENTE DE OBRA (TARIFA MES - PROFESIONAL CATEGORÍA 5 (INCLUYE FACTOR DE PRESTACIONES)) | D29: 9469 | E29: 1 | F29: 12480071 | G29: =+PLAZO -> 7 | I29: =ROUND(IFERROR(B29*E29*F29*G29,""),) -> 87360497
B30: 3 | C30: INSPECTOR DE OBRA (TARIFA MES - PERSONAL TÉCNICO - INSPECTOR 2 (INCLUYE FACTOR DE PRESTACIONES) | D30: 9484 | E30: 1 | F30: 3930288 | G30: =+PLAZO -> 7 | I30: =ROUND(IFERROR(B30*E30*F30*G30,""),) -> 82536048
B31: 1 | C31: PROFESIONAL SST (TARIFA MES - PROFESIONAL CATEGORÍA 6 (INCLUYE FACTOR DE PRESTACIONES) | D31: 9470 | E31: 1 | F31: 11133493 | G31: =+PLAZO -> 7 | I31: =ROUND(IFERROR(B31*E31*F31*G31,""),) -> 77934451
B32: 1 | C32: PROFESIONAL SST (TARIFA MES - PROFESIONAL CATEGORÍA 6 (INCLUYE FACTOR DE PRESTACIONES) | D32: 9470 | E32: 0.3 | F32: 11133493 | G32: =+PLAZO -> 7 | I32: =ROUND(IFERROR(B32*E32*F32*G32,""),) -> 23380335
B34: CANTIDAD | C34: CARGO | D34: CATEGORIA - PERFILES IDU | E34: DEDICACIÓN MES | F34: TOPE MÁXIMO SALARIO | G34: PLAZO | I34: SALARIO + PRESTACIONES
B35: A | E35: B | F35: C | G35: D | I35: F = A * B * C *D
B36: 1.2 PERSONAL TÉCNICO Y AUXILIAR
B37: 1 | C37: MAESTRO DE OBRA (TARIFA MES - PERSONAL DE OBRA - MAESTRO DE OBRA (INCLUYE FACTOR DE PRESTACIONES) | D37: 9492 | E37: 1 | F37: 6542098 | G37: =+PLAZO -> 7 | I37: =ROUND(IFERROR(B37*E37*F37*G37,""),) -> 45794686
B39: 1.3 PERSONAL ADMINISTRATIVO
B40: 1 | C40: MENSAJERO (TARIFA MES - PERSONAL AUXILIAR TÉCNICO - SECRETARIA - CONDUCTOR O MOTORISTA (INCLUYE FACTOR DE PRESTACIONES) | D40: 9491 | E40: 0.05 | F40: 2922389 | G40: =+PLAZO -> 7 | I40: =ROUND(IFERROR(B40*E40*F40*G40,""),) -> 1022836
B41: 1 | C41: SECRETARIA (TARIFA MES - PERSONAL ADMINISTRATIVO - SECRETARIA 2 (INCLUYE FACTOR DE PRESTACIONES) | D41: 9488 | E41: 0.05 | F41: 2922389 | G41: =+PLAZO -> 7 | I41: =ROUND(IFERROR(B41*E41*F41*G41,""),) -> 1022836
F42: =IFERROR(VLOOKUP(D42,SALARIOS,4,FALSE),"") | I42: =IFERROR(B42*E42*F42*G42*H42,"") -> 0
B43: SUBTOTAL COSTOS DE PERSONAL (1) | I43: =+SUM(I28:I41) -> 386357869
B44: 2. COSTOS ADMINISTRATIVOS
B45: CODIGO IDU | C45: DESCRIPCION | D45: CANTIDAD | E45: UNIDAD | F45: DEDICACIÓN | G45: COSTO ($) | H45: N. MESES | I45: VALOR ($)
B46: 9414 | C46: SILLA PLÁSTICA SIN BRAZOS | D46: 1 | E46: UN | F46: 0.8 | G46: 36607 | H46: =PLAZO -> 7 | I46: =ROUND(IFERROR(IF(D46<0,"",(F46*G46*D46*H46)),""),) -> 204999
B47: 9576 | C47: TARIFA MES - ARRIENDO OFICINA INCL. ADMINISTRACIÓN, SERVICIOS PÚBLICOS, COMUNICACIONES | D47: 1 | E47: M2/MES | F47: 0.3 | G47: 55270 | H47: =PLAZO -> 7 | I47: =ROUND(IFERROR(IF(D47<0,"",(F47*G47*D47*H47)),""),) -> 116067
B48: 9578 | C48: TARIFA MES - GASTOS OFICINA (PAPELERIA, FOTOCOPIAS Y OTROS) | D48: 1 | E48: GLB/MS | F48: 0.5 | G48: 1260967 | H48: =PLAZO -> 7 | I48: =ROUND(IFERROR(IF(D48<0,"",(F48*G48*D48*H48)),""),) -> 4413385
B50: SUBTOTAL COSTO ADMINISTRATIVOS (2) | I50: =SUM(I46:I48) -> 4734451
B52: TOTAL COSTOS PERSONAL + COSTOS ADMINISTRATIVOS | I52: =I50+I43 -> 391092320
...

Sheet AIU- ESTRUCTURA (2)
C1: FORMATO PRESENTACIÓN ESTRUCTURAS DE COSTO - AIU | N1: 1499984366
B6: OBJETO DEL PROCESO: | C6: REALIZAR A MONTO AGOTABLE A PRECIOS UNITARIOS FIJOS LOS MANTENIMIENTOS LOCATIVOS REPARACIONES Y ADECUACIONES NECESARIAS A LA INFRAESTRUCTURA FÍSICA DE LAS SEDES ADMINISTRADAS POR LA SECRETARIA DISTRITAL DE MOVILIDAD
B7: PROYECTO ENCARGADO:
B8: FECHA DE ELABORACIÓN: | C8: 46153
C10: SE DEBEN DILIGENCIAR TODOS LOS ESPACIOS EN VERDE
A12: 1 | B12: DATOS DE LA OBRA
B14: COSTO DIRECTO DE OBRA (CD) | C14: 2.3262179e+09 | D14: COP
B15: TERMINO DE EJECUCION DE OBRA | C15: 8 | D15: MESES | F15: VALOR DEL SALARIO MINIMO LEGAL VIGENTE 2026 | H15: 1750905 | Y15: Artículo 2.2.1.2.3.1.17. Suficiencia del seguro de responsabilidad civil extracontractual. El valor asegurado por los contratos de seguro que amparan la responsabilidad civil extracontractual no debe ser inferior a:
B16: COSTO TOTAL DEL CONTRATO INCLUIDO AIU | C16: =+C18 -> 3404727000 | D16: COP | F16: DISPONIBILIDAD PRESUPUESTAL | H16: =+C18 -> 3404727000
B17: IVA SOBRE LA UTILIDAD | C17: =+J93 -> 0 | D17: COP
B18: VALOR TOTAL CONTRATO | C18: 3404727000 | D18: COP
B19: VALOR EN SMMLV DEL CONTRATO | C19: =ROUND(C18/$H$15,0) -> 1945 | D19: SMMLV
Y20: 2. Trescientos (300) smmlv para contratos cuyo valor sea superior a mil quinientos (1.500) smmlv e inferior o igual a dos mil quinientos (2.500) smmlv.
A21: 2 | B21: A. ADMINISTRACIÓN
B23: 1. COSTOS DE PERSONAL PROFESIONAL, TÉCNICO Y PERSONAL AUXILIAR TÉCNICO Y ADMINISTRATIVO
B24: Para la estimación de los costos de personal requeridos para la ejecución del contrato, se tomaron como referencia los perfiles definidos en la ficha técnica y los valores establecidos en la base de Análisis de Precios Unitarios – APU del Instituto de Desarrollo Urbano “Actualización 2025-I Fase + M.O. 2026”, utilizada como soporte técnico para la estructuración económica del proceso.
B25: CANTIDAD | C25: CARGO | D25: CATEGORIA - PERFILES IDU | E25: DEDICACIÓN MES | F25: TOPE MÁXIMO SALARIO | G25: PLAZO | I25: SALARIO + PRESTACIONES
B26: A | E26: B | F26: C | G26: D | I26: F = A * B * C *D | J26: ESCENARIO 1 (actual) | M26: ESCENARIO 2 (propuesto)
B27: 1.1 PERSONAL PROFESIONAL Y ESPECIALISTA | J27: dedicación | K27: % de carga administrativa | L27: Valor total | M27: dedicación | N27: % de carga administrativa | O27: Valor total
B28: 1 | C28: DIRECTOR DE OBRA (TARIFA MES - PROFESIONAL CATEGORÍA 2 (INCLUYE FACTOR DE PRESTACIONES) | D28: 9466 | E28: 1 | F28: 19230337 | G28: =+'AIU- ESTRUCTURA (2)'!PLAZO -> 8 | I28: =ROUND(IFERROR(B28*E28*F28*G28,""),) -> 153842696 | J28: 1 | K28: 0.066134257 | L28: 153842696
B29: 1 | C29: RESIDENTE DE OBRA (TARIFA MES - PROFESIONAL CATEGORÍA 5 (INCLUYE FACTOR DE PRESTACIONES)) | D29: 9469 | E29: 1 | F29: 12480071 | G29: =+'AIU- ESTRUCTURA (2)'!PLAZO -> 8 | I29: =ROUND(IFERROR(B29*E29*F29*G29,""),) -> 99840568 | J29: 1 | K29: 0.042919697 | L29: 99840568
B30: 3 | C30: INSPECTOR DE OBRA (TARIFA MES - PERSONAL TÉCNICO - INSPECTOR 2 (INCLUYE FACTOR DE PRESTACIONES) | D30: 9484 | E30: 1 | F30: 3930288 | G30: =+'AIU- ESTRUCTURA (2)'!PLAZO -> 8 | I30: =ROUND(IFERROR(B30*E30*F30*G30,""),) -> 94326912 | J30: 1 | K30: 0.040549473 | L30: 94326912
B31: 1 | C31: PROFESIONAL SST (TARIFA MES - PROFESIONAL CATEGORÍA 6 (INCLUYE FACTOR DE PRESTACIONES) | D31: 9470 | E31: 1 | F31: 11133493 | G31: =+'AIU- ESTRUCTURA (2)'!PLAZO -> 8 | I31: =ROUND(IFERROR(B31*E31*F31*G31,""),) -> 89067944 | J31: 1 | K31: 0.038288736 | L31: 89067944
B32: 1 | C32: RESIDENTE AMBIENTAL (TARIFA MES - PROFESIONAL CATEGORÍA 6 (INCLUYE FACTOR DE PRESTACIONES) | D32: 9470 | E32: 0.5 | F32: 11133493 | G32: =+'AIU- ESTRUCTURA (2)'!PLAZO -> 8 | I32: =ROUND(IFERROR(B32*E32*F32*G32,""),) -> 44533972 | J32: 0.5 | K32: 0.019144368 | L32: 44533972
B34: CANTIDAD | C34: CARGO | D34: CATEGORIA - PERFILES IDU | E34: DEDICACIÓN MES | F34: TOPE MÁXIMO SALARIO | G34: PLAZO | I34: SALARIO + PRESTACIONES
B35: A | E35: B | F35: C | G35: D | I35: F = A * B * C *D | J35: ESCENARIO 1
B36: 1.2 PERSONAL TÉCNICO Y AUXILIAR | J36: dedicación | K36: % de carga administrativa | L36: Valor total
B37: 1 | C37: MAESTRO DE OBRA (TARIFA MES - PERSONAL DE OBRA - MAESTRO DE OBRA (INCLUYE FACTOR DE PRESTACIONES) | D37: 9492 | E37: 1 | F37: 6542098 | G37: =+'AIU- ESTRUCTURA (2)'!PLAZO -> 8 | I37: =ROUND(IFERROR(B37*E37*F37*G37,""),) -> 52336784 | J37: 1 | K37: 0.022498659 | L37: 52336784
B39: 1.3 PERSONAL ADMINISTRATIVO
B40: 1 | C40: MENSAJERO (TARIFA MES - PERSONAL AUXILIAR TÉCNICO - SECRETARIA - CONDUCTOR O MOTORISTA (INCLUYE FACTOR DE PRESTACIONES) | D40: 9491 | E40: 0.05 | F40: 2922389 | G40: =+'AIU- ESTRUCTURA (2)'!PLAZO -> 8 | I40: =ROUND(IFERROR(B40*E40*F40*G40,""),) -> 1168956
B41: 1 | C41: SECRETARIA (TARIFA MES - PERSONAL ADMINISTRATIVO - SECRETARIA 2 (INCLUYE FACTOR DE PRESTACIONES) | D41: 9488 | E41: 0.05 | F41: 2922389 | G41: =+'AIU- ESTRUCTURA (2)'!PLAZO -> 8 | I41: =ROUND(IFERROR(B41*E41*F41*G41,""),) -> 1168956
F42: =IFERROR(VLOOKUP(D42,SALARIOS,4,FALSE),"") | I42: =IFERROR(B42*E42*F42*G42*H42,"") -> 0
B43: SUBTOTAL COSTOS DE PERSONAL (1) | I43: =+SUM(I28:I41) -> 536286788
B44: 2. COSTOS ADMINISTRATIVOS
B45: CODIGO IDU | C45: DESCRIPCION | D45: CANTIDAD | E45: UNIDAD | F45: DEDICACIÓN | G45: COSTO ($) | H45: N. MESES | I45: VALOR ($)
B46: 9414 | C46: SILLA PLÁSTICA SIN BRAZOS | D46: 1 | E46: UN | F46: 0.8 | G46: 36607 | H46: ='AIU- ESTRUCTURA (2)'!PLAZO -> 8 | I46: =ROUND(IFERROR(IF(D46<0,"",(F46*G46*D46*H46)),""),) -> 234285
B47: 9576 | C47: TARIFA MES - ARRIENDO OFICINA INCL. ADMINISTRACIÓN, SERVICIOS PÚBLICOS, COMUNICACIONES | D47: 1 | E47: M2/MES | F47: 0.3 | G47: 55270 | H47: ='AIU- ESTRUCTURA (2)'!PLAZO -> 8 | I47: =ROUND(IFERROR(IF(D47<0,"",(F47*G47*D47*H47)),""),) -> 132648
B48: 9578 | C48: TARIFA MES - GASTOS OFICINA (PAPELERIA, FOTOCOPIAS Y OTROS) | D48: 1 | E48: GLB/MS | F48: 0.5 | G48: 1260967 | H48: ='AIU- ESTRUCTURA (2)'!PLAZO -> 8 | I48: =ROUND(IFERROR(IF(D48<0,"",(F48*G48*D48*H48)),""),) -> 5043868
B50: SUBTOTAL COSTO ADMINISTRATIVOS (2) | I50: =SUM(I46:I48) -> 5410801
B52: TOTAL COSTOS PERSONAL + COSTOS ADMINISTRATIVOS | I52: =I50+I43 -> 541697589
...

Sheet CALCULO AIU
A1: Concepto | B1: Valor / Fórmula | E1: presupuesto incial | F1: presupuesto nuevo
A2: Presupuesto Total | B2: 4398765492 | E2: 3404727000 | F2: 4485221430
A3: Administración fija APU (personal + administrativos) | B3: 391092320
A4: Pólizas e impuestos | B4: 474617809
A5: Imprevistos (%) | B5: 0.01
A6: Utilidad (%) | B6: 0.05
A7: IVA sobre utilidad (%)
A9: Costos Fijos (CF) | B9: =B3+B4 -> 865710129
A10: Factor variable | B10: =B5+B6+(B6*B7) -> 0.06
A11: Costo Directo (CD) | B11: =(B2-B9)/(1+B10) -> 3333071097
A12: Imprevistos ($) | B12: =B11*B5 -> 33330711
A13: Utilidad ($) | B13: =B11*B6 -> 1.6665355e+08
A14: IVA sobre utilidad ($) | B14: =B13*B7 -> 0
A15: Administración (%) | B15: =B9/B11 -> 0.25973347
A16: Total Verificación | B16: =B11+B9+B12+B13+B14 -> 4398765492

Sheet SALARIOS
A1: Origen | B1: Grupo de base de datos | C1: Código | D1: Nombre | E1: UM | F1: Precio | G1: Fecha de Actualización
A2: Demanda | B2: CONCRETOS Y MORTEROS PREMEZCLADOS | C2: 322 | D2: CONCRETO GRAVA COMÚN 2000 PSI 14 MPa (140 Kg/m2) | E2: M3 | F2: 536920 | G2: Actualización 2025-I Fase I
A3: Demanda | B3: CONCRETOS Y MORTEROS PREMEZCLADOS | C3: 323 | D3: CONCRETO GRAVA COMÚN 2500 PSI 17 MPa (175 Kg/cm2) | E3: M3 | F3: 575187 | G3: Actualización 2025-I Fase I
A4: Demanda | B4: CONCRETOS Y MORTEROS PREMEZCLADOS | C4: 324 | D4: CONCRETO GRAVA COMÚN 3000 PSI 21 MPa (210 Kg/cm2) | E4: M3 | F4: 573851 | G4: Actualización 2025-I Fase I
A5: Demanda | B5: CONCRETOS Y MORTEROS PREMEZCLADOS | C5: 325 | D5: CONCRETO GRAVA COMÚN 3500 PSI 24 MPa (245 Kg/cm2) | E5: M3 | F5: 589499 | G5: Actualización 2025-I Fase I
A6: Demanda | B6: CONCRETOS Y MORTEROS PREMEZCLADOS | C6: 326 | D6: CONCRETO GRAVA COMÚN 4000 PSI 28 MPa (280 Kg/cm2) | E6: M3 | F6: 610583 | G6: Actualización 2025-I Fase I
A7: Demanda | B7: CONCRETOS Y MORTEROS PREMEZCLADOS | C7: 328 | D7: CONCRETO GRAVA COMÚN 5000 PSI 34 MPa (350 Kg/cm2) | E7: M3 | F7: 637049 | G7: Actualización 2025-I Fase I
A8: Demanda | B8: CONCRETOS Y MORTEROS PREMEZCLADOS | C8: 333 | D8: CONCRETO GRAVA FINA 3000 PSI 21 MPa (210 Kg/cm2) | E8: M3 | F8: 586995 | G8: Actualización 2025-I Fase I
A9: Demanda | B9: CONCRETOS Y MORTEROS PREMEZCLADOS | C9: 366 | D9: MORTERO 2000 PSI 14 MPa (140 Kg/cm2) | E9: M3 | F9: 623456 | G9: Actualización 2025-I Fase I
A10: Demanda | B10: EQUIPO PESADO | C10: 1505 | D10: COMPACTADOR DE LLANTAS - MASA SIN LASTRES DE 9 A 11 TONELADAS - INCLUYE OPERARIO Y COMBUSTIBLE | E10: HR | F10: 189970 | G10: Actualización 2025-I Fase I
A11: Demanda | B11: ARBOLES-GRAMAS-VEGETACIÓN Y PLANTACIÓN PAISAJÍSTIC | C11: 1512 | D11: GRAMA | E11: M2 | F11: 18794 | G11: Actualización 2025-I Fase II + M.O. Ley 2101 de 2021
A12: Demanda | B12: FORMALETAS, ANDAMIOS Y ACCESORIOS | C12: 1515 | D12: FORMALETA METÁLICA SARDINEL | E12: ML/DI | F12: 1131 | G12: Actualización 2025-I Fase I
A13: Demanda | B13: MALLAS Y ACEROS PARA REFUERZO | C13: 1794 | D13: ALAMBRE RECOCIDO No.18 | E13: KG | F13: 5501 | G13: Actualización 2025-I Fase I
... A2744: Demanda | B2744: GEOSINTETICOS | C2744: 13590 | D2744: GEOMALLA BIAXIAL CON RESISTENCIA ULTIMA A LA TENSION, SENTIDO LONGITUDINAL Y TRANSVERSAL: ENTRE 100 KN/M Y 106 KN/M | E2744: M2 | F2744: 18568 | G2744: Actualización 2025-I Fase II + M.O. Ley 2101 de 2021

Sheet CATEGORIAS SALARIOS
A1: Análisis de precios unitarios: Elemento básico para la elaboración del presupuesto general, su base de cálculo es la unidad de medida correspondiente a cada ítem de dicho presupuesto.
A3: Artículo o insumo: corresponde al ítem al cual se le hace el seguimiento de precios periódicamente para poder actualizar la base de datos de precios de referencia.
A5: Categoría 1 (Profesional): Profesional calificado para llevar a cabo funciones de director o especialista de proyectos con experiencia profesional no menor de doce (12) años, de los cuales debe demostrar como mínimo diez (10) años de experiencia específica.
A7: Categoría 2 (Profesional): Profesional calificado para llevar a cabo funciones de director o especialista de proyectos con experiencia profesional no menor de diez (10) años, de los cuales debe demostrar como mínimo siete (7) años de experiencia específica.
A9: Categoría 3 (Profesional): Profesional con experiencia técnica y administrativa para desempeñar funciones de especialista de proyectos o residente de proyectos, con experiencia profesional no menor de ocho (8) años, de los cuales debe demostrar como mínimo cinco (5) años de experiencia específica.
A11: Categoría 4 (Profesional): Profesional con experiencia técnica y administrativa para desempeñar funciones de especialista de proyectos o residente de proyectos, con experiencia profesional no menor de seis (6) años, de los cuales debe demostrar como mínimo cuatro (4) años de experiencia específica.
A13: Categoría 5 (Profesional): Profesional con experiencia técnica y administrativa para desempeñar funciones de ingeniero residente de proyectos, con experiencia profesional no menor de cuatro (4) años, de los cuales debe demostrar como mínimo tres (3) años de experiencia específica.
A15: Categoría 6 (Profesional): Profesional con experiencia profesional no menor de tres (3) años, de los cuales debe demostrar como mínimo un (1) año de experiencia específica.
A17: Categoría 7 (Profesional): Profesional con experiencia profesional no menor de dos (2) años.
A19: Categoría 8 (Profesional): Profesional con experiencia profesional inferior a dos (2) años.
A21: Canasta por seguimiento de precios: Conjunto de insumos o artículos representativos obras de infraestructura vial y espacio público, cuya variación de precios permite la actualización de la Base de Datos.
A23: Cotización: Es el accionar y las consecuencias de cotizar (establecer un precio, realizar una estimación de algo, abonar una cuota). Esta palabra es usada para referirse a la documentación que indica valor real de un bien o de un servicio.

Sheet INSUMOS
A1: Origen | B1: Grupo de base de datos | C1: Código | D1: Nombre | E1: UM | F1: Precio | G1: Fecha de Actualización
A2: Demanda | B2: CONCRETOS Y MORTEROS PREMEZCLADOS | C2: 322 | D2: CONCRETO GRAVA COMÚN 2000 PSI 14 MPa (140 Kg/m2) | E2: M3 | F2: 536920 | G2: Actualización 2025-I Fase I
A3: Demanda | B3: CONCRETOS Y MORTEROS PREMEZCLADOS | C3: 323 | D3: CONCRETO GRAVA COMÚN 2500 PSI 17 MPa (175 Kg/cm2) | E3: M3 | F3: 575187 | G3: Actualización 2025-I Fase I
A4: Demanda | B4: CONCRETOS Y MORTEROS PREMEZCLADOS | C4: 324 | D4: CONCRETO GRAVA COMÚN 3000 PSI 21 MPa (210 Kg/cm2) | E4: M3 | F4: 573851 | G4: Actualización 2025-I Fase I
A5: Demanda | B5: CONCRETOS Y MORTEROS PREMEZCLADOS | C5: 325 | D5: CONCRETO GRAVA COMÚN 3500 PSI 24 MPa (245 Kg/cm2) | E5: M3 | F5: 589499 | G5: Actualización 2025-I Fase I
A6: Demanda | B6: CONCRETOS Y MORTEROS PREMEZCLADOS | C6: 326 | D6: CONCRETO GRAVA COMÚN 4000 PSI 28 MPa (280 Kg/cm2) | E6: M3 | F6: 610583 | G6: Actualización 2025-I Fase I
A7: Demanda | B7: CONCRETOS Y MORTEROS PREMEZCLADOS | C7: 328 | D7: CONCRETO GRAVA COMÚN 5000 PSI 34 MPa (350 Kg/cm2) | E7: M3 | F7: 637049 | G7: Actualización 2025-I Fase I
A8: Demanda | B8: CONCRETOS Y MORTEROS PREMEZCLADOS | C8: 333 | D8: CONCRETO GRAVA FINA 3000 PSI 21 MPa (210 Kg/cm2) | E8: M3 | F8: 586995 | G8: Actualización 2025-I Fase I
A9: Demanda | B9: CONCRETOS Y MORTEROS PREMEZCLADOS | C9: 366 | D9: MORTERO 2000 PSI 14 MPa (140 Kg/cm2) | E9: M3 | F9: 623456 | G9: Actualización 2025-I Fase I
A10: Demanda | B10: EQUIPO PESADO | C10: 1505 | D10: COMPACTADOR DE LLANTAS - MASA SIN LASTRES DE 9 A 11 TONELADAS - INCLUYE OPERARIO Y COMBUSTIBLE | E10: HR | F10: 189970 | G10: Actualización 2025-I Fase I
A11: Demanda | B11: ARBOLES-GRAMAS-VEGETACIÓN Y PLANTACIÓN PAISAJÍSTIC | C11: 1512 | D11: GRAMA | E11: M2 | F11: 18794 | G11: Actualización 2025-I Fase II + M.O. Ley 2101 de 2021
A12: Demanda | B12: FORMALETAS, ANDAMIOS Y ACCESORIOS | C12: 1515 | D12: FORMALETA METÁLICA SARDINEL | E12: ML/DI | F12: 1131 | G12: Actualización 2025-I Fase I
A13: Demanda | B13: MALLAS Y ACEROS PARA REFUERZO | C13: 1794 | D13: ALAMBRE RECOCIDO No.18 | E13: KG | F13: 5501 | G13: Actualización 2025-I Fase I
... A2744: Demanda | B2744: GEOSINTETICOS | C2744: 13590 | D2744: GEOMALLA BIAXIAL CON RESISTENCIA ULTIMA A LA TENSION, SENTIDO LONGITUDINAL Y TRANSVERSAL: ENTRE 100 KN/M Y 106 KN/M | E2744: M2 | F2744: 18568 | G2744: Actualización 2025-I Fase II + M.O. Ley 2101 de 2021

Sheet FACTOR PRESTACIONAL
B3: LOS VALORES ACÁ CONTENIDOS, FUERON ANALIZADOS A PARTIR DEL SALARIO MÍNIMO LEGAL VIGENTE PARA EL AÑO 2025, EL CUAL SE ESTABLECIÓ EN UN VALOR DE $ 1.423.500 DEBIDO A LO ANTERIOR, SE DEBERÁ ACTUALIZAR AÑO TRAS AÑO. ADICIOINALMENTE, LA VARIACIÓN DEL FACTOR PRESTACIONAL DESPUÉS DE 3,5 SALARIOS MÍNIMOS ES MUY PEQUEÑA, POR LO CUAL EL CÁLCULO SE REALIZA SOLO HASTA ESA INSTANCIA, ASUMINEDO EL MISMO FP PARA SALARIOS MAYORES
B11: ANÁLISIS MANO DE OBRA
C12: =D12&" MÍNIMO" -> 1 MÍNIMO | D12: 1 | E12: =F12&" MÍNIMO" -> 1,2 MÍNIMO | F12: 1.2 | G12: =H12&" MÍNIMO" -> 1,5 MÍNIMO | H12: 1.5 | I12: =J12&" MÍNIMO" -> 1,8 MÍNIMO | J12: 1.8 | K12: =L12&" MÍNIMO" -> 2 MÍNIMO | L12: 2 | M12: =N12&" MÍNIMO" -> 2,5 MÍNIMO | N12: 2.5 | O12: =P12&" MÍNIMO" -> 3 MÍNIMO | P12: 3 | Q12: =R12&" MÍNIMO" -> 4 MÍNIMO | R12: 4 | S12: =T12&" MÍNIMO" -> 4,5 MÍNIMO | T12: 4.5 | U12: =V12&" MÍNIMO" -> 5 MÍNIMO | V12: 5 | W12: 5.5 MINIMOS | X12: 5.5
B13: SALARIO | C13: VALOR | D13: REF. | E13: VALOR | F13: REF. | G13: VALOR | H13: REF. | I13: VALOR | J13: REF. | K13: VALOR | L13: REF. | M13: VALOR | N13: REF. | O13: VALOR | P13: REF. | Q13: VALOR | R13: REF. | S13: VALOR | T13: REF. | U13: VALOR | V13: REF. | W13: VALOR | X13: REF.
B14: Mensual | C14: 1423500 | D14: A | E14: =+$C$14*F12 -> 1708200 | F14: A | G14: =+$C$14*H12 -> 2135250 | H14: A | I14: =+$C$14*J12 -> 2562300 | J14: A | K14: =+$C$14*L12 -> 2847000 | L14: A | M14: =+$C$14*N12 -> 3558750 | N14: A | O14: =+$C$14*P12 -> 4270500 | P14: A | Q14: =+$C$14*R12 -> 5694000 | R14: A | S14: =+$C$14*T12 -> 6405750 | T14: A | U14: =+$C$14*V12 -> 7117500 | V14: A | W14: =+$C$14*X12 -> 7829250 | X14: A
B15: Subsidio de trasporte | C15: 200000 | D15: B | E15: =+C15 -> 200000 | F15: B | G15: =+C15 -> 200000 | H15: B | I15: =+C15 -> 200000 | J15: B | K15: =+C15 -> 200000 | L15: B | M15: 0 | N15: B | O15: 0 | P15: B | Q15: 0 | R15: B | S15: 0 | T15: B | U15: 0 | V15: B | W15: 0 | X15: B
B16: Total mensual | C16: =+C15+C14 -> 1623500 | D16: C | E16: =+E15+E14 -> 1908200 | F16: C | G16: =+G15+G14 -> 2335250 | H16: C | I16: =+I15+I14 -> 2762300 | J16: C | K16: =+K15+K14 -> 3047000 | L16: C | M16: =+M15+M14 -> 3558750 | N16: C | O16: =+O15+O14 -> 4270500 | P16: C | Q16: =+Q15+Q14 -> 5694000 | R16: C | S16: =+S15+S14 -> 6405750 | T16: C | U16: =+U15+U14 -> 7117500 | V16: C | W16: =+W15+W14 -> 7829250 | X16: C
B17: Anual (A/30X360) | C17: =+C14/30*360 -> 17082000 | D17: D | E17: =+E14/30*360 -> 20498400 | F17: D | G17: =+G14/30*360 -> 25623000 | H17: D | I17: =+I14/30*360 -> 30747600 | J17: D | K17: =+K14/30*360 -> 34164000 | L17: D | M17: =+M16/30*360 -> 42705000 | N17: D | O17: =+O16/30*360 -> 51246000 | P17: D | Q17: =+Q16/30*360 -> 68328000 | R17: D | S17: =+S16/30*360 -> 76869000 | T17: D | U17: =+U16/30*360 -> 85410000 | V17: D | W17: =+W16/30*360 -> 93951000 | X17: D
B18: Anual con subsidio de trasporte | C18: =+C17+C19 -> 19482000 | D18: E | E18: =+E17+E19 -> 22898400 | F18: E | G18: =+G17+G19 -> 28023000 | H18: E | I18: =+I17+I19 -> 33147600 | J18: E | K18: =+K17+K19 -> 36564000 | L18: E | M18: =+M17+M19 -> 42705000 | N18: E | O18: =+O17+O19 -> 51246000 | P18: E | Q18: =+Q17+Q19 -> 68328000 | R18: E | S18: =+S17+S19 -> 76869000 | T18: E | U18: =+U17+U19 -> 85410000 | V18: E | W18: =+W17+W19 -> 93951000 | X18: E
B19: Subsidio trasporte anual | C19: =+C15*12 -> 2400000 | E19: =+E15*12 -> 2400000 | G19: =+G15*12 -> 2400000 | I19: =+I15*12 -> 2400000 | K19: =+G19 -> 2400000 | M19: =+M15*11 -> 0 | O19: =+O15*11 -> 0 | Q19: =+Q15*11 -> 0 | S19: =+S15*11 -> 0 | U19: =+U15*11 -> 0 | W19: =+W15*11 -> 0
B21: SALARIO NOMINAL | C21: VALOR | E21: VALOR | G21: VALOR | I21: VALOR | K21: VALOR | M21: VALOR | O21: VALOR | Q21: VALOR | S21: VALOR | U21: VALOR | W21: VALOR
B22: Salario anual | C22: =+C17 -> 17082000 | D22: =+C22/C18 -> 0.87680936 | E22: =+E17 -> 20498400 | F22: =+E22/E18 -> 0.89518918 | G22: =+G17 -> 25623000 | H22: =+G22/G18 -> 0.91435606 | I22: =+I17 -> 30747600 | J22: =+I22/I18 -> 0.92759657 | K22: =+K17 -> 34164000 | L22: =+K22/K18 -> 0.93436167 | M22: =+M17 -> 42705000 | N22: =+M22/M18 -> 1 | O22: =+O17 -> 51246000 | P22: =+O22/O18 -> 1 | Q22: =+Q17 -> 68328000 | R22: =+Q22/Q18 -> 1 | S22: =+S17 -> 76869000 | T22: =+S22/S18 -> 1 | U22: =+U17 -> 85410000 | V22: =+U22/U18 -> 1 | W22: =+W17 -> 93951000 | X22: =+W22/W18 -> 1
B23: Subsidio trasporte anual | C23: =+C19 -> 2400000 | D23: =+C23/C18 -> 0.12319064 | E23: =+E19 -> 2400000 | F23: =+E23/E18 -> 0.10481082 | G23: =+G19 -> 2400000 | H23: =+G23/G18 -> 0.085643935 | I23: =+I19 -> 2400000 | J23: =+I23/I18 -> 0.072403432 | K23: =+K19 -> 2400000 | L23: =+K23/K18 -> 0.065638333
B25: PRESTACIONES
B26: Cesantias anual E36/365 | C26: =+C14 -> 1423500 | D26: =+C26/C18 -> 0.073067447 | E26: =+E14 -> 1708200 | F26: =+E26/E18 -> 0.074599099 | G26: =+G14 -> 2135250 | H26: =+G26/G18 -> 0.076196339 | I26: =+I14 -> 2562300 | J26: =+I26/I18 -> 0.077299714 | K26: =+K14 -> 2847000 | L26: =+K26/K18 -> 0.077863472 | M26: =+M14 -> 3558750 | N26: =+M26/M18 -> 0.083333333 | O26: =+O14 -> 4270500 | P26: =+O26/O18 -> 0.083333333 | Q26: =+Q14 -> 5694000 | R26: =+Q26/Q18 -> 0.083333333 | S26: =+S14 -> 6405750 | T26: =+S26/S18 -> 0.083333333 | U26: =+U14 -> 7117500 | V26: =+U26/U18 -> 0.083333333 | W26: =+W14 -> 7829250 | X26: =+W26/W18 -> 0.083333333
B27: Intereses cesantias 12% | C27: =+C26*0.12 -> 170820 | D27: =+C27/C18 -> 0.0087680936 | E27: =+E26*0.12 -> 204984 | F27: =+E27/E18 -> 0.0089518918 | G27: =+G26*0.12 -> 256230 | H27: =+G27/G18 -> 0.0091435606 | I27: =+I26*0.12 -> 307476 | J27: =+I27/I18 -> 0.0092759657 | K27: =+K26*0.12 -> 341640 | L27: =+K27/K18 -> 0.0093436167 | M27: =+M26*0.12 -> 427050 | N27: =+M27/M18 -> 0.01 | O27: =+O26*0.12 -> 512460 | P27: =+O27/O18 -> 0.01 | Q27: =+Q26*0.12 -> 683280 | R27: =+Q27/Q18 -> 0.01 | S27: =+S26*0.12 -> 768690 | T27: =+S27/S18 -> 0.01 | U27: =+U26*0.12 -> 854100 | V27: =+U27/U18 -> 0.01 | W27: =+W26*0.12 -> 939510 | X27: =+W27/W18 -> 0.01
B28: Vacaciones -15 dias A 0.50% | C28: =+C14/2 -> 711750 | D28: =+C28/C18 -> 0.036533723 | E28: =E14/2 -> 854100 | F28: =+E28/E18 -> 0.037299549 | G28: =+G14/2 -> 1067625 | H28: =+G28/G18 -> 0.038098169 | I28: =I14/2 -> 1281150 | J28: =+I28/I18 -> 0.038649857 | K28: =+K14/2 -> 1423500 | L28: =+K28/K18 -> 0.038931736 | M28: =M14/2 -> 1779375 | N28: =+M28/M18 -> 0.041666667 | O28: =+O14/2 -> 2135250 | P28: =+O28/O18 -> 0.041666667 | Q28: =Q14/2 -> 2847000 | R28: =+Q28/Q18 -> 0.041666667 | S28: =+S14/2 -> 3202875 | T28: =+S28/S18 -> 0.041666667 | U28: =U14/2 -> 3558750 | V28: =+U28/U18 -> 0.041666667 | W28: =+W14/2 -> 3914625 | X28: =+W28/W18 -> 0.041666667
B29: Prima-30 dias C 100% | C29: =+C14 -> 1423500 | D29: =+C29/C18 -> 0.073067447 | E29: =+E14 -> 1708200 | F29: =+E29/E18 -> 0.074599099 | G29: =+G14 -> 2135250 | H29: =+G29/G18 -> 0.076196339 | I29: =+I14 -> 2562300 | J29: =+I29/I18 -> 0.077299714 | K29: =+K14 -> 2847000 | L29: =+K29/K18 -> 0.077863472 | M29: =+M14 -> 3558750 | N29: =+M29/M18 -> 0.083333333 | O29: =+O14 -> 4270500 | P29: =+O29/O18 -> 0.083333333 | Q29: =+Q14 -> 5694000 | R29: =+Q29/Q18 -> 0.083333333 | S29: =+S14 -> 6405750 | T29: =+S29/S18 -> 0.083333333 | U29: =+U14 -> 7117500 | V29: =+U29/U18 -> 0.083333333 | W29: =+W14 -> 7829250 | X29: =+W29/W18 -> 0.083333333
B31: Otros costos
B32: Dotación | C32: 600000 | D32: =+C32/C18 -> 0.030797659 | E32: =+C32 -> 600000 | F32: =+E32/E18 -> 0.026202704 | G32: 600000 | H32: =+G32/G18 -> 0.021410984 | I32: =+G32 -> 600000 | J32: =+I32/I18 -> 0.018100858 | K32: 600000 | L32: =+K32/K18 -> 0.016409583
B34: Seguridad Social
B35: Pensiones D 12% | C35: =+C17*0.12 -> 2049840 | D35: =+C35/C18 -> 0.10521712 | E35: =+E17*0.12 -> 2459808 | F35: =+E35/E18 -> 0.1074227 | G35: =+G17*0.12 -> 3074760 | H35: =+G35/G18 -> 0.10972273 | I35: =+I17*0.12 -> 3689712 | J35: =+I35/I18 -> 0.11131159 | K35: =+K17*0.12 -> 4099680 | L35: =+K35/K18 -> 0.1121234 | M35: =+M17*0.12 -> 5124600 | N35: =+M35/M18 -> 0.12 | O35: =+O17*0.12 -> 6149520 | P35: =+O35/O18 -> 0.12 | Q35: =+Q17*0.12 -> 8199360 | R35: =+Q35/Q18 -> 0.12 | S35: =+S17*0.12 -> 9224280 | T35: =+S35/S18 -> 0.12 | U35: =+U17*0.12 -> 10249200 | V35: =+U35/U18 -> 0.12 | W35: =+W17*0.12 -> 11274120 | X35: =+W35/W18 -> 0.12
B36: Salud D 8.50% | C36: =+C17*0.085 -> 1451970 | D36: =+C36/C18 -> 0.074528796 | E36: =+E17*0.085 -> 1742364 | F36: =+E36/E18 -> 0.076091081 | G36: =+G17*0.085 -> 2177955 | H36: =+G36/G18 -> 0.077720265 | I36: =+I17*0.085 -> 2613546 | J36: =+I36/I18 -> 0.078845708 | K36: =+K17*0.085 -> 2903940 | L36: =+K36/K18 -> 0.079420742 | M36: =+M17*0.085 -> 3629925 | N36: =+M36/M18 -> 0.085 | O36: =+O17*0.085 -> 4355910 | P36: =+O36/O18 -> 0.085 | Q36: =+Q17*0.085 -> 5807880 | R36: =+Q36/Q18 -> 0.085 | S36: =+S17*0.085 -> 6533865 | T36: =+S36/S18 -> 0.085 | U36: =+U17*0.085 -> 7259850 | V36: =+U36/U18 -> 0.085 | W36: =+W17*0.085 -> 7985835 | X36: =+W36/W18 -> 0.085
B37: Riesgos Profesionales D 0.696% | C37: =+C17*0.0696 -> 1188907.2 | D37: =+C37/C18 -> 0.061025932 | E37: =+E17*0.0696 -> 1426688.6 | F37: =+E37/E18 -> 0.062305167 | G37: =+G17*0.0696 -> 1783360.8 | H37: =+G37/G18 -> 0.063639182 | I37: =+I17*0.0696 -> 2140033 | J37: =+I37/I18 -> 0.064560721 | K37: =+K17*0.0696 -> 2377814.4 | L37: =+K37/K18 -> 0.065031572 | M37: =+M17*0.0696 -> 2972268 | N37: =+M37/M18 -> 0.0696 | O37: =+O17*0.0696 -> 3566721.6 | P37: =+O37/O18 -> 0.0696 | Q37: =+Q17*0.0696 -> 4755628.8 | R37: =+Q37/Q18 -> 0.0696 | S37: =+S17*0.0696 -> 5350082.4 | T37: =+S37/S18 -> 0.0696 | U37: =+U17*0.0696 -> 5944536 | V37: =+U37/U18 -> 0.0696 | W37: =+W17*0.0696 -> 6538989.6 | X37: =+W37/W18 -> 0.0696
B39: Aportes
B40: FIC Fondo Nacional de Formación Profesional de la Industria de la Construcción | C40: =SMMLV*0.025 -> 43772.625 | D40: =+C40/C18 -> 0.002246824 | E40: =+E14*0.025 -> 42705 | F40: =+E40/E18 -> 0.0018649775 | G40: =+G14*0.025 -> 53381.25 | H40: =+G40/G18 -> 0.0019049085 | I40: =+I14*0.025 -> 64057.5 | J40: =+I40/I18 -> 0.0019324928 | K40: =+K14*0.025 -> 71175 | L40: =+K40/K18 -> 0.0019465868 | M40: =+M14*0.025 -> 88968.75 | N40: =+M40/M18 -> 0.0020833333 | O40: =+O14*0.025 -> 106762.5 | P40: =+O40/O18 -> 0.0020833333 | Q40: =+Q14*0.025 -> 142350 | R40: =+Q40/Q18 -> 0.0020833333 | S40: =+S14*0.025 -> 160143.75 | T40: =+S40/S18 -> 0.0020833333 | U40: =+U14*0.025 -> 177937.5 | V40: =+U40/U18 -> 0.0020833333 | W40: =+W14*0.025 -> 195731.25 | X40: =+W40/W18 -> 0.0020833333
B42: Otros aportes
B43: Caja de compensacion Familiar D | C43: =+C17*0.04 -> 683280 | D43: =+C43/C18 -> 0.035072375 | E43: =+E17*0.04 -> 819936 | F43: =+E43/E18 -> 0.035807567 | G43: =+G17*0.04 -> 1024920 | H43: =+G43/G18 -> 0.036574243 | I43: =+I17*0.04 -> 1229904 | J43: =+I43/I18 -> 0.037103863 | K43: =+K17*0.04 -> 1366560 | L43: =+K43/K18 -> 0.037374467 | M43: =+M17*0.04 -> 1708200 | N43: =+M43/M18 -> 0.04 | O43: =+O17*0.04 -> 2049840 | P43: =+O43/O18 -> 0.04 | Q43: =+Q17*0.04 -> 2733120 | R43: =+Q43/Q18 -> 0.04 | S43: =+S17*0.04 -> 3074760 | T43: =+S43/S18 -> 0.04 | U43: =+U17*0.04 -> 3416400 | V43: =+U43/U18 -> 0.04 | W43: =+W17*0.04 -> 3758040 | X43: =+W43/W18 -> 0.04
B45: VALOR REAL DEL SALARIO | C45: =+SUM(C22:C44) -> 29229340 | D45: =+(C45/C18) -> 1.5003254 | E45: =+SUM(E22:E44) -> 34465386 | F45: =+(E45/E18) -> 1.5051438 | G45: =+SUM(G22:G44) -> 42331732 | H45: =+(G45/G18) -> 1.5106067 | I45: =+SUM(I22:I44) -> 50198078 | J45: =+(I45/I18) -> 1.5143805 | K45: =+SUM(K22:K44) -> 55442309 | L45: =+(K45/K18) -> 1.5163086 | M45: =+SUM(M22:M44) -> 65552887 | N45: =+(M45/M18) -> 1.5350167 | O45: =+SUM(O22:O44) -> 78663464 | P45: =+(O45/O18) -> 1.5350167 | Q45: =+SUM(Q22:Q44) -> 1.0488462e+08 | R45: =+(Q45/Q18) -> 1.5350167 | S45: =+SUM(S22:S44) -> 1.179952e+08 | T45: =+(S45/S18) -> 1.5350167 | U45: =+SUM(U22:U44) -> 1.3110577e+08 | V45: =+(U45/U18) -> 1.5350167 | W45: =+SUM(W22:W44) -> 1.4421635e+08 | X45: =+(W45/W18) -> 1.5350167
B47: FACTOR DE SOBRECOSTO
C48: 1 MÍNIMO | E48: 1.2 MÍNIMOS | G48: 1.5 MINIMOS | I48: 1.8 MÍNIMOS | K48: 2 MINIMOS | M48: 2.5 MINIMOS | O48: 3 MINIMOS | Q48: 3.5 MINIMOS | S48: 3.5 MINIMOS | U48: 3.5 MINIMOS | W48: 3.5 MINIMOS
B49: FACTOR PRESTACIONAL + AFECTACIÓN HORA LABORAL | C49: =+D45+$I$62 -> 1.6360397 | E49: =+F45+$I$62 -> 1.6408581 | G49: =+H45+$I$62 -> 1.646321 | I49: =+J45+$I$62 -> 1.6500948 | K49: =+L45+$I$62 -> 1.6520229 | M49: =+N45+$I$62 -> 1.670731 | O49: =+P45+$I$62 -> 1.670731 | Q49: =+R45+$I$62 -> 1.670731 | S49: =+T45+$I$62 -> 1.670731 | U49: =+V45+$I$62 -> 1.670731 | W49: =+X45+$I$62 -> 1.670731
B50: INDICADOR | C50: NOMINAL | D50: PRESTACIONES | E50: NOMINAL | F50: PRESTACIONES | G50: NOMINAL | H50: PRESTACIONES | I50: NOMINAL | J50: PRESTACIONES | K50: NOMINAL | L50: PRESTACIONES | M50: NOMINAL | N50: PRESTACIONES | O50: NOMINAL | P50: PRESTACIONES | Q50: NOMINAL | R50: PRESTACIONES | S50: NOMINAL | T50: PRESTACIONES | U50: NOMINAL | V50: PRESTACIONES | W50: NOMINAL | X50: PRESTACIONES
B51: VALOR DIA | C51: =+(C22+C23)/360 -> 54116.667 | D51: =+C51*$C$49 -> 88537.015 | E51: =+(E22+E23)/360 -> 63606.667 | F51: =+E51*E49 -> 104369.52 | G51: =+(G22+G23)/360 -> 77841.667 | H51: =+G49*G51 -> 128152.37 | I51: =+(I22+I23)/360 -> 92076.667 | J51: =+I49*I51 -> 151935.23 | K51: =+(K22+K23)/360 -> 101566.67 | L51: =+K51*K49 -> 167790.46 | M51: =+(M22+M23)/360 -> 118625 | N51: =+M51*M49 -> 198190.46 | O51: =+(O22+O23)/360 -> 142350 | P51: =+O51*O49 -> 237828.55 | Q51: =+(Q22+Q23)/360 -> 189800 | R51: =+Q51*Q49 -> 317104.73 | S51: =+(S22+S23)/360 -> 213525 | T51: =+S51*S49 -> 356742.83 | U51: =+(U22+U23)/360 -> 237250 | V51: =+U51*U49 -> 396380.92 | W51: =+(W22+W23)/360 -> 260975 | X51: =+W51*W49 -> 436019.01
B52: VALOR HORA | C52: =+C51/8 -> 6764.5833 | D52: =+D51/8 -> 11067.127 | E52: =+E51/8 -> 7950.8333 | F52: =+F51/8 -> 13046.189 | G52: =+G51/8 -> 9730.2083 | H52: =+H51/8 -> 16019.046 | I52: =+I51/8 -> 11509.583 | J52: =+J51/8 -> 18991.903 | ... X52: =+X51/8 -> 54502.376
B54: CALCULO SOBRECOSTO HORAS EFECTIVAS TRABAJADAS - SMMLV 2022
B55: SALARIO MINIMO ANUAL CON PRESTACIONES (A) | G55: =+C45 -> 29229340
B56: HORAS CALENDARIO ANUALES (B) | D56: 365 DÍAS X 8 HORAS | G56: =365*8 -> 2920
B57: HORAS LABORALES ANUALES (C) | D57: 52 SEMANAS X 48 HORAS | G57: =53*48 -> 2544 | K57: CON SALUD | L57: NO
B58: HORAS EFECTIVAS ANUALES (D) | D58: 2920 - (52 DOMINGOS + 18 FESTIVOS + 15 DÍAS VACACIONES) *8 | G58: =365*8-(52+18+15)*8 -> 2240
...

Sheet Sheet1
A1: 1 | B1: 44562 | C1: sábado | D1: 52 | E1: - | F1: 0.0027 | H1: =COUNTIF(C:C,C2) -> 52
A2: 2 | B2: 44563 | C2: domingo | D2: 1 | E2: - | F2: 0.0055
A3: 3 | B3: 44564 | C3: lunes | D3: 1 | E3: - | F3: 0.0082
A4: 4 | B4: 44565 | C4: martes | D4: 1 | E4: - | F4: 0.011
A5: 5 | B5: 44566 | C5: miércoles | D5: 1 | E5: - | F5: 0.0137
A6: 6 | B6: 44567 | C6: jueves | D6: 1 | E6: - | F6: 0.0164
A7: 7 | B7: 44568 | C7: viernes | D7: 1 | E7: - | F7: 0.0192
A8: 8 | B8: 44569 | C8: sábado | D8: 1 | E8: - | F8: 0.0219
A9: 9 | B9: 44570 | C9: domingo | D9: 2 | E9: - | F9: 0.0247
A10: 10 | B10: 44571 | C10: lunes | D10: 2 | E10: - | F10: 0.0274
A11: 11 | B11: 44572 | C11: martes | D11: 2 | E11: - | F11: 0.0301
A12: 12 | B12: 44573 | C12: miércoles | D12: 2 | E12: - | F12: 0.0329
A13: 13 | B13: 44574 | C13: jueves | D13: 2 | E13: - | F13: 0.0356
... A93: 93 | B93: 44654 | C93: domingo | D93: 14 | E93: Hoy | F93: 0.2548
A94: 94 | B94: 44655 | C94: lunes | D94: 14 | E94: 1 | F94: 0.2575
A95: 95 | B95: 44656 | C95: martes | D95: 14 | E95: 2 | F95: 0.2603
A96: 96 | B96: 44657 | C96: miércoles | D96: 14 | E96: 3 | F96: 0.263
A97: 97 | B97: 44658 | C97: jueves | D97: 14 | E97: 4 | F97: 0.2658
A98: 98 | B98: 44659 | C98: viernes | D98: 14 | E98: 5 | F98: 0.2685
A99: 99 | B99: 44660 | C99: sábado | D99: 14 | E99: 6 | F99: 0.2712
A100: 100 | B100: 44661 | C100: domingo | D100: 15 | E100: 7 | F100: 0.274
A101: 101 | B101: 44662 | C101: lunes | D101: 15 | E101: 8 | F101: 0.2767
A102: 102 | B102: 44663 | C102: martes | D102: 15 | E102: 9 | F102: 0.2795
A103: 103 | B103: 44664 | C103: miércoles | D103: 15 | E103: 10 | F103: 0.2822
A104: 104 | B104: 44665 | C104: jueves | D104: 15 | E104: 11 | F104: 0.2849
A105: 105 | B105: 44666 | C105: viernes | D105: 15 | E105: 12 | F105: 0.2877
... A365: 365 | B365: 44926 | C365: sábado | D365: 52 | E365: 272 | F365: 1

Sheet Hoja1
A1: DESCRIPCIÓN | G1: IMPUESTO
A2: CONTRIBUCIÓN ESPECIAL (IMPUESTO DE GUERRA LEY 1738 DIC 18-2014 PRORROGA 4 AÑOS) | G2: 0.05
A3: ICA (LEY 146 JULIO 1983 RESOLUCION 219 DEL 25 FEBRERO DEL 2004) | G3: 0.0069
A4: RETENCION EN LA FUENTE | G4: 0.02
A5: ESTAMPILLA UNIVERSIDAD DISTRITAL | G5: 0.011
A6: ESTAMPILLA PROCULTURA (ACUERDO 187 DEL 20 DICIEMBRE 2005) | G6: 0.005
A7: ESTAMPILLA PRO PERSONAS MAYORES (ACUERDO 645 DE 9 JUNIO DE 2016) | G7: 0.02 | L7: 690000000 | M7: =(+L7*(1-$L$10))*N7 -> 455400000 | N7: 1
A8: ESTAMPILLA UNIVERSIDAD PEDAGÓGICA (DECRETO 584 DE 19 DICIEMBRE 2014) | G8: 0.005 | L8: 705000000 | M8: =(+L8*(1-$L$10))*N8 -> 465300000 | N8: 1
A9: GMF - 4X1000 (Ley 1739 de 2014) Movimientos Financieros | G9: 0.004 | L9: 900000000 | M9: =(+L9*(1-$L$10))*N9 -> 0 | N9: 0
L10: 0.34
L11: =SUM(L7:L10) -> 2295000000 | M11: =SUM(M7:M10) -> 920700000
L12: 3124293388
L13: =+L11/L12 -> 0.7345661 | M13: =+M11/L12 -> 0.29469063
L14: =+L12*30% -> 9.3728802e+08
