Workbook
Name _\0: #REF!
Name _\00: #REF!
Name _\a: #REF!
Name _\AA: [1]LIQUIDACION!#REF!
Name _\b: [2]STRSUMM0!#REF!
Name _\bb: [2]STRSUMM0!#REF!
Name _\E: #REF!
Name _\EE: #REF!
Name _\G: #REF!
Name _\k: '[3]7422CW00'!#REF!
Name _\l: [4]STRSUMM0!#REF!
Name _\M: #REF!
Name _\ñ: '[5]7422CW00'!#REF!
Name _\P: #REF!
Name _\R: #REF!
Name _\s: #REF!
Name _\V: #REF!
Name _\X: 'APU 1.1'!ERR
Name _\Z: 'APU 1.1'!ERR
Name __\a: #REF!
Name __\s: #REF!
Name __\X: ERR
Name __\Z: ERR
Name ___\a: #REF!
Name ___\s: #REF!
Name ___\X: ERR
Name ___\Z: ERR
Name ____\a: #REF!
Name ____\s: #REF!
Name ____\X: ERR
Name ____\Z: ERR
Name _____\a: #REF!
Name _____\s: #REF!
Name _____\X: ERR
Name _____\Z: ERR
Name ______\a: #REF!
Name ______\s: #REF!
Name ______\X: ERR
Name ______\Z: ERR
Name _______\a: #REF!
Name _______\a: #REF!
Name _______\a: #REF!
Name _______\a: #REF!
Name _______\a: #REF!
Name _______\s: #REF!
Name _______\s: #REF!
Name _______\s: #REF!
Name _______\s: #REF!
Name _______\s: #REF!
Name _______\X: [0]!ERR
Name _______\X: ERR
Name _______\X: [0]!ERR
Name _______\X: [0]!ERR
Name _______\X: [0]!ERR
Name _______\Z: [0]!ERR
Name _______\Z: ERR
Name _______\Z: [0]!ERR
Name _______\Z: [0]!ERR
Name _______\Z: [0]!ERR
Name _________AFC1: [6]INV!$A$25:$D$28

Sheet PRESUPUESTO OFICIAL (Entidad)
B1: Formulario 1 - Propuesta económica - Documento tipo de mínima cuantía de obra pública de infraestructura social
B2: Versión: 1 de 21 de agosto de 2025
C5: FORMULARIO 1
C6: PRESUPUESTO OFICIAL
C7: [La Entidad puede utilizar este formulario de detalle del presupuesto oficial para determinar las condiciones bajo las cuales los Proponentes analizarán y presentarán su propuesta económica de forma detallada, sin perjuicio que la Entidad pueda modificarlo o establecer la presentación de la oferta económica con un formulario distinto al indicado.] [El presente Formulario aplica para los Procesos de Contratación que tengan como forma de pago precios unitarios. Tratándose de otras modalidades de pago, la Entidad debe ajustarlo cuando corresponde a: precio global, llave en mano, administración delegada, reembolso de gastos o cualquier otra forma de pago.]
C9: Adicionalmente, cuando el proceso de contratación es estructurado por precios unitarios, la Entidad debe aplicar las notas 1, 2 y 3 del presente formulario y las casillas de "Descripción", "Porcentaje" de la Administración, Imprevisto, Utilidad y total A.I.U. resaltadas en color amarillo. Tratándose de otras modalidades de precio, la Entidad puede o no configurar los mismos aspectos.
C11: Nº | D11: ÍTEM DE PAGO | E11: ESPECIFICACIONES | G11: DESCRIPCIÓN | H11: UND. | I11: CANTIDAD | J11: VALOR UNITARIO | K11: VALOR TOTAL
E12: GENERAL | F12: PARTICULAR
D14: 1.1 | G14: RECORRIDO CUBIERTA, SUMINISTRO E INSTALACION DE GANCHOS EN HOJAS DE FIBROCEMENTO | H14: m2 | I14: 650 | J14: 3500 | K14: =+J14*I14 -> 2275000
D15: 1.2 | G15: CIELO FALSO E LAMINA PVC DEL SALON DE DANZAS | H15: m2 | I15: 32 | J15: 55000 | K15: =+J15*I15 -> 1760000
D16: 1.3 | G16: ENCHAPE PISO | H16: m2 | I16: 16 | J16: 80000 | K16: =+J16*I16 -> 1280000
D17: 1.4 | G17: DEMOLICION DE MAMPOSTERIA | H17: m2 | I17: 25 | J17: 15000 | K17: =+J17*I17 -> 375000
D18: 1.5 | G18: MAMPOSTERIA | H18: m2 | I18: 25 | J18: 85000 | K18: =+J18*I18 -> 2125000
D19: 1.6 | G19: CHAPAS PARA PUERTAS | H19: Und | I19: 3 | J19: 95000 | K19: =+J19*I19 -> 285000
D20: 1.7 | G20: VINILO TIPO 1 3M oficina | H20: m2 | I20: 60 | J20: 14500 | K20: =+J20*I20 -> 870000
D21: 1.8 | G21: ESTAMPILLADO PARA DIVISION DE ESPACIOS DE OFICINA CON SALON DE VESTUARIIO | H21: UND | I21: 1 | J21: 680000 | K21: =+J21*I21 -> 680000
D22: 1.9 | G22: VIDRIOS PARA VENTANAS | H22: Und | I22: 6 | J22: 60000 | K22: =+J22*I22 -> 360000
D23: 1.10 | G23: INSTALACION DE BARANDAS EN SALON DE VESTUARIO CON DIVISIONES | H23: Und | I23: 1 | J23: 500000 | K23: =+J23*I23 -> 500000
C24: Subtotal | K24: =+SUM(K14:K23) -> 10510000
G26: ADMINISTRACION | J26: 0.27 | K26: =+K24*J26 -> 2837700
G27: IMPREVISTOS | J27: 0.01 | K27: =+K24*J27 -> 105100
G28: UTILIDAD | J28: 0.04 | K28: =+K24*J28 -> 420400
G29: FACTOR DISTANCIA | J29: 0.1 | K29: =+K24*J29 -> 1051000
G30: VALOR TOTAL | K30: =+SUM(K24:K29) -> 14924200
C33: NOTA 1: Se debe tener en cuenta que el PRECIO UNITARIO incluye el valor de AIU. | H33: DESCRIPCION | K33: PORCENTAJE
C34: NOTA 2: Cuando la fracción decimal del peso sea igual o superior a 5 se aproximará por exceso al número entero siguiente del peso y cuando la fracción decimal del peso sea inferior a 5 se aproximará por defecto al número entero del peso. | H34: ADMINISTRACIÓN | J34: A= | K34: 0.27
C35: NOTA 3: El AIU y su discriminación deben estar en porcentaje (%). | H35: IMPREVISTO | J35: I= | K35: 0.01
H36: UTILIDAD | J36: U= | K36: 0.04
H37: TOTAL A.I.U | J37: A.I.U.= | K37: 0.32

Sheet APU 1.1
B1: Formulario 1 - Propuesta económica - Documento tipo de mínima cuantía de obra pública de infraestructura social
B2: Versión: 1 de 21 de agosto de 2025
C5: [La entidad podrá utilizar este formato para la presentación de los análisis de Precios Unitarios del Contratista en la oportunidad prevista en el numeral 8.2. de la invitación]
D8: MUNICIPIO DE EL DOVIO
L9: VERSIÓN
D10: [NÚMERO DEL PROCESO]
L11: PÁGINA | M11: 1 | N11: DE | O11: 1
D13: ANALISIS DE PRECIOS UNITARIOS
L15: FECHA | M15: DD | N15: MM | O15: AA
M16: 30 | N16: 9 | O16: 2026
C17: ÍTEMS DE LA PROPUESTA ECONÓMICA | I17: ÍTEMS NO PREVISTOS
C21: DATOS ESPECÍFICOS
C23: ÍTEM | D23: DESCRIPCIÓN | M23: UNIDAD | O23: CANTIDAD
C24: =+'PRESUPUESTO OFICIAL (Entidad)'!D14 -> 1.1 | D24: =+'PRESUPUESTO OFICIAL (Entidad)'!G14 -> RECORRIDO CUBIERTA, SUMINISTRO E INSTALACION DE GANCHOS EN HOJAS DE FIBROCEMENTO | M24: =+'PRESUPUESTO OFICIAL (Entidad)'!H14 -> m2 | O24: =+'PRESUPUESTO OFICIAL (Entidad)'!I14 -> 650
C25: I. EQUIPO
C28: DESCRIPCIÓN | H28: MARCA | J28: TIPO | L28: TARIFA/HORA | M28: RENDIMIENTO | O28: Vr. UNITARIO
C29: TALADRO ELECTRICO | H29: STIHL | J29: PERCUTOR | L29: 4000 | M29: 0.025 | O29: =+M29*L29 -> 100
C30: HERRAMIENTA MENOR | H30: N/A | J30: MANUAL | L30: 2000 | M30: 0.025 | O30: =+M30*L30 -> 50
C32: SUBTOTAL $ | O32: =SUM(O29:O31) -> 150
C33: II. MATERIALES
C36: DESCRIPCIÓN | K36: UNIDAD | L36: CANTIDAD | M36: PRECIO UNIT. | O36: Vr. UNITARIO
C37: GANCHOPARA TEJA FIBROCEMENTO | K37: UND | L37: 0.25 | M37: 2000 | O37: =+M37*L37 -> 500
C38: ARANDELA SELLO PARA FIJACION | K38: UND | L38: 0.25 | M38: 600 | O38: =+M38*L38 -> 150
C39: ELEMENTOS MENORES FIJACION | K39: GL | L39: 0.1 | M39: 1000 | O39: =+M39*L39 -> 100
C41: SUBTOTAL $ | O41: =+SUM(O37:O40) -> 750
C42: III. TRANSPORTES
C45: MATERIAL | J45: VOL. o PESO | K45: DISTANCIA | L45: M3 o Ton/Km | M45: TARIFA | O45: Vr. UNITARIO
C46: TRANSPORTE INTERNO DE MATERIALES | K46: 0.5 | L46: 0.01 | M46: 50000 | O46: =+M46*L46*K46 -> 250
C48: SUBTOTAL $ | O48: =+O46 -> 250
C49: IV. MANO DE OBRA
C52: TRABAJADOR | J52: JORNAL | K52: PRESTACIONES | L52: JORNAL TOTAL | M52: RENDIMIENTO | O52: Vr. UNITARIO
C53: OFICIAL DE CONSTRUCCION | J53: 90000 | K53: 54000 | L53: =+K53+J53 -> 144000 | M53: 0.01 | O53: =+L53*M53 -> 1440
C54: AYUDANTE | J54: 65000 | K54: 39000 | L54: =+K54+J54 -> 104000 | M54: 0.00875 | O54: =+L54*M54 -> 910
C57: SUBTOTAL $ | O57: =+SUM(O53:O56) -> 2350
C59: TOTAL COSTO DIRECTO $ | O59: =+O57+O48+O41+O32 -> 3500
C60: V. COSTOS INDIRECTOS
C63: Descripción | L63: Porcentaje | M63: Valor Total
C64: ADMINISTRACION | L64: 0.27 | M64: =+O59*L64 -> 945
C65: IMPREVISTOS | L65: 0.01 | M65: =+O59*L65 -> 35
C66: UTILIDAD | L66: 0.04 | M66: =+O59*L66 -> 140
...

Sheet APU 1.2
B1: Formulario 1 - Propuesta económica - Documento tipo de mínima cuantía de obra pública de infraestructura social
B2: Versión: 1 de 21 de agosto de 2025
C5: [La entidad podrá utilizar este formato para la presentación de los análisis de Precios Unitarios del Contratista en la oportunidad prevista en el numeral 8.2. de la invitación]
D8: MUNICIPIO DE EL DOVIO
L9: VERSIÓN
D10: [NÚMERO DEL PROCESO]
L11: PÁGINA | M11: 1 | N11: DE | O11: 1
D13: ANALISIS DE PRECIOS UNITARIOS
L15: FECHA | M15: DD | N15: MM | O15: AA
M16: =+'APU 1.1'!M16 -> 30 | N16: =+'APU 1.1'!N16 -> 9 | O16: 2026
C17: ÍTEMS DE LA PROPUESTA ECONÓMICA | I17: ÍTEMS NO PREVISTOS
N20: =10000/8 -> 1250
C21: DATOS ESPECÍFICOS
C23: ÍTEM | D23: DESCRIPCIÓN | M23: UNIDAD | O23: CANTIDAD
C24: =+'PRESUPUESTO OFICIAL (Entidad)'!D15 -> 1.2 | D24: =+'PRESUPUESTO OFICIAL (Entidad)'!G15 -> CIELO FALSO E LAMINA PVC DEL SALON DE DANZAS | M24: =+'PRESUPUESTO OFICIAL (Entidad)'!H14 -> m2 | O24: =+'PRESUPUESTO OFICIAL (Entidad)'!I15 -> 32
C25: I. EQUIPO
C28: DESCRIPCIÓN | H28: MARCA | J28: TIPO | L28: TARIFA/HORA | M28: RENDIMIENTO | O28: Vr. UNITARIO
C29: TALADRO ATORNILLADOR | H29: DEWALT | J29: ELECTRICO | L29: 8000 | M29: 0.1 | O29: =+M29*L29 -> 800
C30: ANDAMIO TUBULAR | H30: CONVENCIONAL | L30: 5000 | M30: 0.1 | O30: =+M30*L30 -> 500
C31: SUBTOTAL $ | O31: =SUM(O29:O30) -> 1300
C32: II. MATERIALES
C35: DESCRIPCIÓN | K35: UNIDAD | L35: CANTIDAD | M35: PRECIO UNIT. | O35: Vr. UNITARIO
C36: LAMINA PVC CIELO FALSO, | K36: m2 | L36: 1.05 | M36: 28000 | O36: =+M36*L36 -> 29400
C37: PERFIL OMEGA GALVANIZADO | K37: ml | L37: 2.5 | M37: 2500 | O37: =+M37*L37 -> 6250
C38: ANGULO PERIMETRALGALVANIZADO | K38: ml | L38: 0.45 | M38: 2500 | O38: =+M38*L38 -> 1125
C39: TORNILLOS AUTOPERFORANTES | K39: und | L39: 1 | M39: 1425 | O39: =+M39*L39 -> 1425
C40: SUBTOTAL $ | O40: =+SUM(O36:O39) -> 38200
C41: III. TRANSPORTES
C44: MATERIAL | J44: VOL. o PESO | K44: DISTANCIA | L44: M3 o Ton/Km | M44: TARIFA | O44: Vr. UNITARIO
C45: TRANSPORTE INTERNO DE MATERIALES | J45: 0.015 | K45: 20 | L45: 0.3 | M45: 5000 | O45: =+J45*K45*M45 -> 1500
C47: SUBTOTAL $ | O47: =+O45 -> 1500
C48: IV. MANO DE OBRA
C51: TRABAJADOR | J51: JORNAL | K51: PRESTACIONES | L51: JORNAL TOTAL | M51: RENDIMIENTO | O51: Vr. UNITARIO
C52: OFICIAL DE CONSTRUCCION | J52: 90000 | K52: 54000 | L52: =+K52+J52 -> 144000 | M52: 0.065 | O52: =+L52*M52 -> 9360
C53: AYUDANTE | J53: 65000 | K53: 39000 | L53: =+K53+J53 -> 104000 | M53: 0.0446 | O53: 4640
C56: SUBTOTAL $ | O56: =+SUM(O52:O55) -> 14000
C58: TOTAL COSTO DIRECTO $ | O58: =+O56+O47+O40+O31 -> 55000
C59: V. COSTOS INDIRECTOS
C62: Descripción | L62: Porcentaje | M62: Valor Total
C63: ADMINISTRACION | L63: 0.27 | M63: =+O58*L63 -> 14850
...

Sheet APU 1.3
B1: Formulario 1 - Propuesta económica - Documento tipo de mínima cuantía de obra pública de infraestructura social
B2: Versión: 1 de 21 de agosto de 2025
C5: [La entidad podrá utilizar este formato para la presentación de los análisis de Precios Unitarios del Contratista en la oportunidad prevista en el numeral 8.2. de la invitación]
D8: MUNICIPIO DE EL DOVIO
L9: VERSIÓN
D10: [NÚMERO DEL PROCESO]
L11: PÁGINA | M11: 1 | N11: DE | O11: 1
D13: ANALISIS DE PRECIOS UNITARIOS
L15: FECHA | M15: DD | N15: MM | O15: AA
M16: 17 | N16: 9 | O16: 2026
C17: ÍTEMS DE LA PROPUESTA ECONÓMICA | I17: ÍTEMS NO PREVISTOS
N20: =10000/8 -> 1250
C21: DATOS ESPECÍFICOS
C23: ÍTEM | D23: DESCRIPCIÓN | M23: UNIDAD | O23: CANTIDAD
C24: =+'PRESUPUESTO OFICIAL (Entidad)'!D16 -> 1.3 | D24: =+'PRESUPUESTO OFICIAL (Entidad)'!G16 -> ENCHAPE PISO | M24: =+'PRESUPUESTO OFICIAL (Entidad)'!H14 -> m2 | O24: =+'PRESUPUESTO OFICIAL (Entidad)'!I16 -> 16
C25: I. EQUIPO
C28: DESCRIPCIÓN | H28: MARCA | J28: TIPO | L28: TARIFA/HORA | M28: RENDIMIENTO | O28: Vr. UNITARIO
C29: CORTADORA DE CERAMICA | H29: RUBI | L29: 8000 | M29: 0.1 | O29: =+M29*L29 -> 800
C30: PULIDORA | H30: DEWALT | J30: ELECTRICO | L30: 6000 | M30: 0.05 | O30: =+M30*L30 -> 300
C31: ANDAMIO TUBULAR | H31: CONVENCIONAL | L31: 4000 | M31: 0.1 | O31: =+M31*L31 -> 400
C32: SUBTOTAL $ | O32: =SUM(O29:O31) -> 1500
C33: II. MATERIALES
C36: DESCRIPCIÓN | K36: UNIDAD | L36: CANTIDAD | M36: PRECIO UNIT. | O36: Vr. UNITARIO
C37: CERAMICA PISO | K37: m2 | L37: 1.05 | M37: 42000 | O37: =+M37*L37 -> 44100
C38: PEGA ENCHAPE | K38: KG | L38: 4.5 | M38: 1200 | O38: =+M38*L38 -> 5400
C39: BOQUILLA | K39: KG | L39: 0.3 | M39: 5000 | O39: =+M39*L39 -> 1500
C40: CRUCETAS Y ELEMENTOS MENORES | K40: GL | L40: 1 | M40: 500 | O40: =+M40*L40 -> 500
C41: SUBTOTAL $ | O41: =+SUM(O37:O40) -> 51500
C42: III. TRANSPORTES
C45: MATERIAL | J45: VOL. o PESO | K45: DISTANCIA | L45: M3 o Ton/Km | M45: TARIFA | O45: Vr. UNITARIO
C46: TRANSPORTE INTERNO DE MATERIALES | J46: 0.03 | K46: 10 | L46: 0.3 | M46: 5000 | O46: =+M46*J46*K46 -> 1500
C48: SUBTOTAL $ | O48: =+O46 -> 1500
C49: IV. MANO DE OBRA
C52: TRABAJADOR | J52: JORNAL | K52: PRESTACIONES | L52: JORNAL TOTAL | M52: RENDIMIENTO | O52: Vr. UNITARIO
C53: OFICIAL DE CONSTRUCCION | J53: 90000 | K53: 54000 | L53: =+K53+J53 -> 144000 | M53: 0.125 | O53: =+L53*M53 -> 18000
C54: AYUDANTE | J54: 65000 | K54: 39000 | L54: =+K54+J54 -> 104000 | M54: 0.0721 | O54: 7500
C57: SUBTOTAL $ | O57: =+SUM(O53:O56) -> 25500
C59: TOTAL COSTO DIRECTO $ | O59: =+O57+O48+O41+O32 -> 80000
C60: V. COSTOS INDIRECTOS
C63: Descripción | L63: Porcentaje | M63: Valor Total
...

Sheet APU 1.4
B1: Formulario 1 - Propuesta económica - Documento tipo de mínima cuantía de obra pública de infraestructura social
B2: Versión: 1 de 21 de agosto de 2025
C5: [La entidad podrá utilizar este formato para la presentación de los análisis de Precios Unitarios del Contratista en la oportunidad prevista en el numeral 8.2. de la invitación]
D8: MUNICIPIO DE EL DOVIO
L9: VERSIÓN
D10: [NÚMERO DEL PROCESO]
L11: PÁGINA | M11: 1 | N11: DE | O11: 1
D13: ANALISIS DE PRECIOS UNITARIOS
L15: FECHA | M15: DD | N15: MM | O15: AA
M16: 30 | N16: 9 | O16: 2026
C17: ÍTEMS DE LA PROPUESTA ECONÓMICA | I17: ÍTEMS NO PREVISTOS
N20: =10000/8 -> 1250
C21: DATOS ESPECÍFICOS
C23: ÍTEM | D23: DESCRIPCIÓN | M23: UNIDAD | O23: CANTIDAD
C24: =+'PRESUPUESTO OFICIAL (Entidad)'!D17 -> 1.4 | D24: =+'PRESUPUESTO OFICIAL (Entidad)'!G17 -> DEMOLICION DE MAMPOSTERIA | M24: m2 | O24: =+'PRESUPUESTO OFICIAL (Entidad)'!I17 -> 25
C25: I. EQUIPO
C28: DESCRIPCIÓN | H28: MARCA | J28: TIPO | L28: TARIFA/HORA | M28: RENDIMIENTO | O28: Vr. UNITARIO
C29: ROTOMARTILLO DEMOLEDOR | H29: DEWALT | J29: ELECTRICO | L29: 12000 | M29: 0.1 | O29: =+M29*L29 -> 1200
C30: HERRAMIENTA MENOR | H30: BROCHAS, BANDEJAS | L30: 4000 | M30: 0.1 | O30: =+M30*L30 -> 400
O31: =+M31*L31 -> 0
C32: SUBTOTAL $ | O32: =SUM(O29:O31) -> 1600
C33: II. MATERIALES
C36: DESCRIPCIÓN | K36: UNIDAD | L36: CANTIDAD | M36: PRECIO UNIT. | O36: Vr. UNITARIO
O41: =+M41*L41 -> 0
C42: SUBTOTAL $ | O42: =+SUM(O37:O41) -> 0
C43: III. TRANSPORTES
C46: MATERIAL | J46: VOL. o PESO | K46: DISTANCIA | L46: M3 o Ton/Km | M46: TARIFA | O46: Vr. UNITARIO
C47: TRANSPORTE INTERNO DE MATERIALES | J47: 0.01 | K47: 10 | L47: 0.1 | M47: 5000 | O47: =+M47*J47*K47 -> 500
C49: SUBTOTAL $ | O49: =+O47 -> 500
C50: IV. MANO DE OBRA
C53: TRABAJADOR | J53: JORNAL | K53: PRESTACIONES | L53: JORNAL TOTAL | M53: RENDIMIENTO | O53: Vr. UNITARIO
C54: OFICIAL DE CONSTRUCCION | J54: 90000 | K54: =+J54*60% -> 54000 | L54: =+K54+J54 -> 144000 | M54: 0.05 | O54: =+L54*M54 -> 7200
C55: AYUDANTE | J55: 65000 | K55: =+J55*60% -> 39000 | L55: =+K55+J55 -> 104000 | M55: 0.0548 | O55: 5700
C58: SUBTOTAL $ | O58: =+SUM(O54:O57) -> 12900
C60: TOTAL COSTO DIRECTO $ | O60: =+O58+O49+O42+O32 -> 15000
C61: V. COSTOS INDIRECTOS
C64: Descripción | L64: Porcentaje | M64: Valor Total
C65: ADMINISTRACION | L65: 0.27 | M65: =+O60*L65 -> 4050
C66: IMPREVISTOS | L66: 0.01 | M66: =+O60*L66 -> 150
C67: UTILIDAD | L67: 0.04 | M67: =+O60*L67 -> 600
...

Sheet APU 1.5
B1: Formulario 1 - Propuesta económica - Documento tipo de mínima cuantía de obra pública de infraestructura social
B2: Versión: 1 de 21 de agosto de 2025
C5: [La entidad podrá utilizar este formato para la presentación de los análisis de Precios Unitarios del Contratista en la oportunidad prevista en el numeral 8.2. de la invitación]
D8: MUNICIPIO DE EL DOVIO
L9: VERSIÓN
D10: [NÚMERO DEL PROCESO]
L11: PÁGINA | M11: 1 | N11: DE | O11: 1
D13: ANALISIS DE PRECIOS UNITARIOS
L15: FECHA | M15: DD | N15: MM | O15: AA
M16: 30 | N16: 9 | O16: 2026
C17: ÍTEMS DE LA PROPUESTA ECONÓMICA | I17: ÍTEMS NO PREVISTOS
N20: =10000/8 -> 1250
C21: DATOS ESPECÍFICOS
C23: ÍTEM | D23: DESCRIPCIÓN | M23: UNIDAD | O23: CANTIDAD
C24: =+'PRESUPUESTO OFICIAL (Entidad)'!D18 -> 1.5 | D24: =+'PRESUPUESTO OFICIAL (Entidad)'!G18 -> MAMPOSTERIA | M24: und | O24: =+'PRESUPUESTO OFICIAL (Entidad)'!I18 -> 25
C25: I. EQUIPO
C28: DESCRIPCIÓN | H28: MARCA | J28: TIPO | L28: TARIFA/HORA | M28: RENDIMIENTO | O28: Vr. UNITARIO
C29: MEZCLADORA CONCRETO | H29: DEWALT | J29: ELECTRICO | L29: 10000 | M29: 0.1 | O29: =+M29*L29 -> 1000
C30: HERRAMIENTA MENOR | H30: BROCHAS, BANDEJAS | L30: 5000 | M30: 0.1 | O30: =+M30*L30 -> 500
O31: =+M31*L31 -> 0
C32: SUBTOTAL $ | O32: =SUM(O29:O31) -> 1500
C33: II. MATERIALES
C36: DESCRIPCIÓN | K36: UNIDAD | L36: CANTIDAD | M36: PRECIO UNIT. | O36: Vr. UNITARIO
C37: LADRILLO COMUN | K37: UND | L37: 50 | M37: 850 | O37: =+M37*L37 -> 42500
C38: CEMENTO | K38: KG | L38: 5 | M38: 750 | O38: =+M38*L38 -> 3750
C39: ARENA | K39: M3 | L39: 0.025 | M39: 100000 | O39: =+M39*L39 -> 2500
C40: AGUA | K40: L | L40: 5 | M40: 50 | O40: =+M40*L40 -> 250
O41: =+M41*L41 -> 0
C42: SUBTOTAL $ | O42: =+SUM(O37:O41) -> 49000
C43: III. TRANSPORTES
C46: MATERIAL | J46: VOL. o PESO | K46: DISTANCIA | L46: M3 o Ton/Km | M46: TARIFA | O46: Vr. UNITARIO
C47: BLOQUE, CEMENTO Y ARENA | J47: 0.2 | K47: 10 | L47: 2 | M47: 1500 | O47: =+M47*J47*K47 -> 3000
C49: SUBTOTAL $ | O49: =+O47 -> 3000
C50: IV. MANO DE OBRA
C53: TRABAJADOR | J53: JORNAL | K53: PRESTACIONES | L53: JORNAL TOTAL | M53: RENDIMIENTO | O53: Vr. UNITARIO
C54: OFICIAL DE CONSTRUCCION | J54: 90000 | K54: =+J54*60% -> 54000 | L54: =+K54+J54 -> 144000 | M54: 0.14 | O54: =+L54*M54 -> 20160
C55: AYUDANTE | J55: 65000 | K55: =+J55*60% -> 39000 | L55: =+K55+J55 -> 104000 | M55: 0.109 | O55: 11340
C58: SUBTOTAL $ | O58: =+SUM(O54:O57) -> 31500
C60: TOTAL COSTO DIRECTO $ | O60: =+O58+O49+O42+O32 -> 85000
C61: V. COSTOS INDIRECTOS
...

Sheet APU 1.6
B1: Formulario 1 - Propuesta económica - Documento tipo de mínima cuantía de obra pública de infraestructura social
B2: Versión: 1 de 21 de agosto de 2025
C5: [La entidad podrá utilizar este formato para la presentación de los análisis de Precios Unitarios del Contratista en la oportunidad prevista en el numeral 8.2. de la invitación]
D8: MUNICIPIO DE EL DOVIO
L9: VERSIÓN
D10: [NÚMERO DEL PROCESO]
L11: PÁGINA | M11: 1 | N11: DE | O11: 1
D13: ANALISIS DE PRECIOS UNITARIOS
L15: FECHA | M15: DD | N15: MM | O15: AA
M16: 30 | N16: 9 | O16: 2026
C17: ÍTEMS DE LA PROPUESTA ECONÓMICA | I17: ÍTEMS NO PREVISTOS
N20: =10000/8 -> 1250
C21: DATOS ESPECÍFICOS
C23: ÍTEM | D23: DESCRIPCIÓN | M23: UNIDAD | O23: CANTIDAD
C24: =+'PRESUPUESTO OFICIAL (Entidad)'!D19 -> 1.6 | D24: =+'PRESUPUESTO OFICIAL (Entidad)'!G19 -> CHAPAS PARA PUERTAS | M24: =+'PRESUPUESTO OFICIAL (Entidad)'!H19 -> Und | O24: =+'PRESUPUESTO OFICIAL (Entidad)'!I19 -> 3
C25: I. EQUIPO
C28: DESCRIPCIÓN | H28: MARCA | J28: TIPO | L28: TARIFA/HORA | M28: RENDIMIENTO | O28: Vr. UNITARIO
C29: TALADRO ELECTRICO | H29: DEWALT | J29: ELECTRICO | L29: 8000 | M29: 0.25 | O29: =+M29*L29 -> 2000
C30: HERRAMIENTA MENOR | H30: BROCHAS, BANDEJAS | L30: 6000 | M30: 0.25 | O30: =+M30*L30 -> 1500
C31: ATORNILLADOR ELECTRICO | L31: 3000 | M31: 0.5 | O31: =+M31*L31 -> 1500
C32: SUBTOTAL $ | O32: =SUM(O29:O31) -> 5000
C33: II. MATERIALES
C36: DESCRIPCIÓN | K36: UNIDAD | L36: CANTIDAD | M36: PRECIO UNIT. | O36: Vr. UNITARIO
C37: CHAPA PARA PUERTA | K37: UND | L37: 1 | M37: 65000 | O37: =+M37*L37 -> 65000
C38: TORNILLOS Y ELEMENTOS DE FIJACION | K38: GL, | L38: 1 | M38: 1000 | O38: =+M38*L38 -> 1000
O42: =+M42*L42 -> 0
C43: SUBTOTAL $ | O43: =+SUM(O37:O42) -> 66000
C44: III. TRANSPORTES
C47: MATERIAL | J47: VOL. o PESO | K47: DISTANCIA | L47: M3 o Ton/Km | M47: TARIFA | O47: Vr. UNITARIO
C48: CHAPA Y ACCESORIOS | J48: 0.002 | K48: 10 | L48: 0.02 | M48: 50000 | O48: =+M48*J48*K48 -> 1000
C50: SUBTOTAL $ | O50: =+O48 -> 1000
C51: IV. MANO DE OBRA
C54: TRABAJADOR | J54: JORNAL | K54: PRESTACIONES | L54: JORNAL TOTAL | M54: RENDIMIENTO | O54: Vr. UNITARIO
C55: OFICIAL DE CONSTRUCCION | J55: 90000 | K55: =+J55*60% -> 54000 | L55: =+K55+J55 -> 144000 | M55: 0.125 | O55: =+L55*M55 -> 18000
C56: AYUDANTE | J56: 65000 | K56: =+J56*60% -> 39000 | L56: =+K56+J56 -> 104000 | M56: 0.0481 | O56: 5000
C59: SUBTOTAL $ | O59: =+SUM(O55:O58) -> 23000
C61: TOTAL COSTO DIRECTO $ | O61: =+O59+O50+O43+O32 -> 95000
C62: V. COSTOS INDIRECTOS
C65: Descripción | L65: Porcentaje | M65: Valor Total
C66: ADMINISTRACION | L66: 0.27 | M66: =+O61*L66 -> 25650
...

Sheet APU 1.7
B1: Formulario 1 - Propuesta económica - Documento tipo de mínima cuantía de obra pública de infraestructura social
B2: Versión: 1 de 21 de agosto de 2025
C5: [La entidad podrá utilizar este formato para la presentación de los análisis de Precios Unitarios del Contratista en la oportunidad prevista en el numeral 8.2. de la invitación]
D8: MUNICIPIO DE EL DOVIO
L9: VERSIÓN
D10: [NÚMERO DEL PROCESO]
L11: PÁGINA | M11: 1 | N11: DE | O11: 1
D13: ANALISIS DE PRECIOS UNITARIOS
L15: FECHA | M15: DD | N15: MM | O15: AA
M16: =+'APU 1.1'!M16 -> 30 | N16: =+'APU 1.1'!N16 -> 9 | O16: 2026
C17: ÍTEMS DE LA PROPUESTA ECONÓMICA | I17: ÍTEMS NO PREVISTOS
N20: =10000/8 -> 1250
C21: DATOS ESPECÍFICOS
C23: ÍTEM | D23: DESCRIPCIÓN | M23: UNIDAD | O23: CANTIDAD
C24: 1.7 | D24: =+'PRESUPUESTO OFICIAL (Entidad)'!G20 -> VINILO TIPO 1 3M oficina | M24: =+'PRESUPUESTO OFICIAL (Entidad)'!H20 -> m2 | O24: =+'PRESUPUESTO OFICIAL (Entidad)'!I20 -> 60
C25: I. EQUIPO
C28: DESCRIPCIÓN | H28: MARCA | J28: TIPO | L28: TARIFA/HORA | M28: RENDIMIENTO | O28: Vr. UNITARIO
C29: ESCALERA | H29: DEWALT | J29: ELECTRICO | L29: 2000 | M29: 0.1 | O29: =+M29*L29 -> 200
C30: HERRAMIENTA MENOR | H30: BROCHAS, BANDEJAS | L30: 3000 | M30: 0.1 | O30: =+M30*L30 -> 300
C32: SUBTOTAL $ | O32: =SUM(O29:O31) -> 500
C33: II. MATERIALES
C36: DESCRIPCIÓN | K36: UNIDAD | L36: CANTIDAD | M36: PRECIO UNIT. | O36: Vr. UNITARIO
C37: VINILO TIPO 1 | K37: GAL | L37: 0.075 | M37: 75000 | O37: =+M37*L37 -> 5625
C38: LIJA | K38: UND | L38: 0.1 | M38: 2500 | O38: =+M38*L38 -> 250
C39: CINTA DE ENMASCARAR Y PROTECCION | K39: GL | L39: 1 | M39: 125 | O39: =+M39*L39 -> 125
O40: =+M40*L40 -> 0
O41: =+M41*L41 -> 0
O42: =+M42*L42 -> 0
C43: SUBTOTAL $ | O43: =+SUM(O37:O42) -> 6000
C44: III. TRANSPORTES
C47: MATERIAL | J47: VOL. o PESO | K47: DISTANCIA | L47: M3 o Ton/Km | M47: TARIFA | O47: Vr. UNITARIO
C48: PINTURAS Y ACCESORIOS | J48: 0.003 | K48: 10 | L48: 0.03 | M48: 10000 | O48: =+M48*J48*K48 -> 300
C50: SUBTOTAL $ | O50: =+O48 -> 300
C51: IV. MANO DE OBRA
C54: TRABAJADOR | J54: JORNAL | K54: PRESTACIONES | L54: JORNAL TOTAL | M54: RENDIMIENTO | O54: Vr. UNITARIO
C55: OFICIAL DE CONSTRUCCION | J55: 90000 | K55: =+J55*60% -> 54000 | L55: =+K55+J55 -> 144000 | M55: 0.04 | O55: =+L55*M55 -> 5760
C56: AYUDANTE | J56: 65000 | K56: =+J56*60% -> 39000 | L56: =+K56+J56 -> 104000 | M56: 0.01865 | O56: 1940
C59: SUBTOTAL $ | O59: =+SUM(O55:O58) -> 7700
C61: TOTAL COSTO DIRECTO $ | O61: =+O59+O50+O43+O32 -> 14500
C62: V. COSTOS INDIRECTOS
...

Sheet APU 1.8
B1: Formulario 1 - Propuesta económica - Documento tipo de mínima cuantía de obra pública de infraestructura social
B2: Versión: 1 de 21 de agosto de 2025
C5: [La entidad podrá utilizar este formato para la presentación de los análisis de Precios Unitarios del Contratista en la oportunidad prevista en el numeral 8.2. de la invitación]
D8: MUNICIPIO DE EL DOVIO
L9: VERSIÓN
D10: [NÚMERO DEL PROCESO]
L11: PÁGINA | M11: 1 | N11: DE | O11: 1
D13: ANALISIS DE PRECIOS UNITARIOS
L15: FECHA | M15: DD | N15: MM | O15: AA
M16: =+'APU 1.1'!M16 -> 30 | N16: =+'APU 1.1'!N16 -> 9 | O16: 2026
C17: ÍTEMS DE LA PROPUESTA ECONÓMICA | I17: ÍTEMS NO PREVISTOS
N20: =10000/8 -> 1250
C21: DATOS ESPECÍFICOS
C23: ÍTEM | D23: DESCRIPCIÓN | M23: UNIDAD | O23: CANTIDAD
C24: 1.8 | D24: =+'PRESUPUESTO OFICIAL (Entidad)'!G21 -> ESTAMPILLADO PARA DIVISION DE ESPACIOS DE OFICINA CON SALON DE VESTUARIIO | M24: =+'PRESUPUESTO OFICIAL (Entidad)'!H21 -> UND | O24: =+'PRESUPUESTO OFICIAL (Entidad)'!I21 -> 1
C25: I. EQUIPO
C28: DESCRIPCIÓN | H28: MARCA | J28: TIPO | L28: TARIFA/HORA | M28: RENDIMIENTO | O28: Vr. UNITARIO
C29: TALADRO ELECTRICO | H29: DEWALT | J29: ELECTRICO | L29: 10000 | M29: 0.4 | O29: =+M29*L29 -> 4000
C30: HERRAMIENTA MENOR | H30: BROCHAS, BANDEJAS | L30: 5000 | M30: 0.4 | O30: =+M30*L30 -> 2000
C31: ATORNILLADOR ELECTRICO | L31: 10000 | M31: 0.3 | O31: =+M31*L31 -> 3000
C32: PULIDORA | H32: DEWALT | L32: 10000 | M32: 0.3 | O32: =+M32*L32 -> 3000
C33: SUBTOTAL $ | O33: =SUM(O29:O32) -> 12000
C34: II. MATERIALES
C37: DESCRIPCIÓN | K37: UNIDAD | L37: CANTIDAD | M37: PRECIO UNIT. | O37: Vr. UNITARIO
C38: PLACA SUPER BORAD | K38: M2 | L38: 2.1 | M38: 105000 | O38: =+M38*L38 -> 220500
C39: PARALES GALVANIZADOS | K39: Ml | L39: 2.5 | M39: 25000 | O39: =+M39*L39 -> 62500
C40: CANALES GALVANIZADOS | K40: ml | L40: 1 | M40: 25000 | O40: =+M40*L40 -> 25000
C41: TORNILLOS SUPER BORAD | K41: UND | L41: 20 | M41: 500 | O41: =+M41*L41 -> 10000
C42: CINTA MALLA JUNTAS | K42: ML | L42: 1.5 | M42: 4000 | O42: =+M42*L42 -> 6000
C43: MASILLA PARA JUNTAS | K43: KG | L43: 1 | M43: 10000 | O43: =+M43*L43 -> 10000
C44: SELLADOR Y ACCESORIOS | K44: GL | L44: 1 | M44: 6000 | O44: =+M44*L44 -> 6000
C45: SELLADOR PARA JUNTAS | O45: =+SUM(O38:O44) -> 340000
C46: III. TRANSPORTES
C49: MATERIAL | J49: VOL. o PESO | K49: DISTANCIA | L49: M3 o Ton/Km | M49: TARIFA | O49: Vr. UNITARIO
C50: SUPERBORAD, PERFILERIA Y ACCESORIOS | J50: 0.05 | K50: 20 | L50: 1 | M50: 8000 | O50: =+M50*J50*K50 -> 8000
C52: SUBTOTAL $ | O52: =+O50 -> 8000
C53: IV. MANO DE OBRA
C56: TRABAJADOR | J56: JORNAL | K56: PRESTACIONES | L56: JORNAL TOTAL | M56: RENDIMIENTO | O56: Vr. UNITARIO
C57: OFICIAL DE CONSTRUCCION | J57: 90000 | K57: =+J57*60% -> 54000 | L57: =+K57+J57 -> 144000 | M57: 1.5 | O57: =+L57*M57 -> 216000
C58: AYUDANTE | J58: 65000 | K58: =+J58*60% -> 39000 | L58: =+K58+J58 -> 104000 | M58: 1 | O58: =+L58*M58 -> 104000
...

Sheet APU 1.9
B1: Formulario 1 - Propuesta económica - Documento tipo de mínima cuantía de obra pública de infraestructura social
B2: Versión: 1 de 21 de agosto de 2025
C5: [La entidad podrá utilizar este formato para la presentación de los análisis de Precios Unitarios del Contratista en la oportunidad prevista en el numeral 8.2. de la invitación]
D8: MUNICIPIO DE EL DOVIO
L9: VERSIÓN
D10: [NÚMERO DEL PROCESO]
L11: PÁGINA | M11: 1 | N11: DE | O11: 1
D13: ANALISIS DE PRECIOS UNITARIOS
L15: FECHA | M15: DD | N15: MM | O15: AA
M16: =+'APU 1.1'!M16 -> 30 | N16: =+'APU 1.1'!N16 -> 9 | O16: 2026
C17: ÍTEMS DE LA PROPUESTA ECONÓMICA | I17: ÍTEMS NO PREVISTOS
N20: =10000/8 -> 1250
C21: DATOS ESPECÍFICOS
C23: ÍTEM | D23: DESCRIPCIÓN | M23: UNIDAD | O23: CANTIDAD
C24: 1.9 | D24: =+'PRESUPUESTO OFICIAL (Entidad)'!G22 -> VIDRIOS PARA VENTANAS | M24: =+'PRESUPUESTO OFICIAL (Entidad)'!H22 -> Und | O24: =+'PRESUPUESTO OFICIAL (Entidad)'!I22 -> 6
C25: I. EQUIPO
C28: DESCRIPCIÓN | H28: MARCA | J28: TIPO | L28: TARIFA/HORA | M28: RENDIMIENTO | O28: Vr. UNITARIO
C29: CORTADOR DE VIDRIO | J29: ELECTRICO | L29: 4000 | M29: 0.25 | O29: =+M29*L29 -> 1000
C30: HERRAMIENTA MENOR | L30: 4000 | M30: 0.25 | O30: =+M30*L30 -> 1000
C32: SUBTOTAL $ | O32: =SUM(O29:O31) -> 2000
C33: II. MATERIALES
C36: DESCRIPCIÓN | K36: UNIDAD | L36: CANTIDAD | M36: PRECIO UNIT. | O36: Vr. UNITARIO
C37: VIDRIO TRANSPARENT 4MM | K37: M2 | L37: 1.05 | M37: 35000 | O37: =+M37*L37 -> 36750
C38: SILICONA TRANSPARENTE | K38: UNIDAD | L38: 0.1 | M38: 20000 | O38: =+M38*L38 -> 2000
C39: EMPAQUE Y ELEMENTOS DE FIJACION | K39: GL | L39: 1 | M39: 1250 | O39: =+M39*L39 -> 1250
O42: =+M42*L42 -> 0
C43: SUBTOTAL $ | O43: =+SUM(O37:O42) -> 40000
C44: III. TRANSPORTES
C47: MATERIAL | J47: VOL. o PESO | K47: DISTANCIA | L47: M3 o Ton/Km | M47: TARIFA | O47: Vr. UNITARIO
C48: VIDRIO Y ACCESORIOS | J48: 0.011 | K48: 10 | L48: 0.11 | M48: 9090 | O48: 1000
C50: SUBTOTAL $ | O50: =+O48 -> 1000
C51: IV. MANO DE OBRA
C54: TRABAJADOR | J54: JORNAL | K54: PRESTACIONES | L54: JORNAL TOTAL | M54: RENDIMIENTO | O54: Vr. UNITARIO
C55: OFICIAL DE CONSTRUCCION | J55: 90000 | K55: =+J55*60% -> 54000 | L55: =+K55+J55 -> 144000 | M55: 0.0833 | O55: 12000
C56: AYUDANTE | J56: 65000 | K56: =+J56*60% -> 39000 | L56: =+K56+J56 -> 104000 | M56: 0.0481 | O56: 5000
C59: SUBTOTAL $ | O59: =+SUM(O55:O58) -> 17000
C61: TOTAL COSTO DIRECTO $ | O61: =+O59+O50+O43+O32 -> 60000
C62: V. COSTOS INDIRECTOS
C65: Descripción | L65: Porcentaje | M65: Valor Total
C66: ADMINISTRACION | L66: 0.27 | M66: =+O61*L66 -> 16200
...

Sheet APU 1.10
B1: Formulario 1 - Propuesta económica - Documento tipo de mínima cuantía de obra pública de infraestructura social
B2: Versión: 1 de 21 de agosto de 2025
C5: [La entidad podrá utilizar este formato para la presentación de los análisis de Precios Unitarios del Contratista en la oportunidad prevista en el numeral 8.2. de la invitación]
D8: MUNICIPIO DE EL DOVIO
L9: VERSIÓN
D10: [NÚMERO DEL PROCESO]
L11: PÁGINA | M11: 1 | N11: DE | O11: 1
D13: ANALISIS DE PRECIOS UNITARIOS
L15: FECHA | M15: DD | N15: MM | O15: AA
M16: =+'APU 1.1'!M16 -> 30 | N16: =+'APU 1.1'!N16 -> 9 | O16: 2026
C17: ÍTEMS DE LA PROPUESTA ECONÓMICA | I17: ÍTEMS NO PREVISTOS
N20: =10000/8 -> 1250
C21: DATOS ESPECÍFICOS
C23: ÍTEM | D23: DESCRIPCIÓN | M23: UNIDAD | O23: CANTIDAD
C24: 1.1 | D24: =+'PRESUPUESTO OFICIAL (Entidad)'!G23 -> INSTALACION DE BARANDAS EN SALON DE VESTUARIO CON DIVISIONES | M24: =+'PRESUPUESTO OFICIAL (Entidad)'!H23 -> Und | O24: =+'PRESUPUESTO OFICIAL (Entidad)'!I23 -> 1
C25: I. EQUIPO
C28: DESCRIPCIÓN | H28: MARCA | J28: TIPO | L28: TARIFA/HORA | M28: RENDIMIENTO | O28: Vr. UNITARIO
C29: TALADRO ELECTRICO | H29: DEWALT | J29: ELECTRICO | L29: 8000 | M29: 0.5 | O29: =+M29*L29 -> 4000
C30: HERRAMIENTA MENOR | H30: BROCHAS, BANDEJAS | L30: 4000 | M30: 1 | O30: =+M30*L30 -> 4000
C31: ATORNILLADOR ELECTRICO | L31: 8000 | M31: 1 | O31: =+M31*L31 -> 8000
C32: EQUIPO DE SOLDADURA | L32: 12000 | M32: 1 | O32: =+M32*L32 -> 12000
C33: SUBTOTAL $ | O33: =SUM(O29:O32) -> 28000
C34: II. MATERIALES
C37: DESCRIPCIÓN | K37: UNIDAD | L37: CANTIDAD | M37: PRECIO UNIT. | O37: Vr. UNITARIO
C38: TUBO METALICO PARA ESTRUCTURA Y DIVISIONES | K38: ML | L38: 8 | M38: 27000 | O38: =+M38*L38 -> 216000
C39: PLATINAS PARA ANCLAJE | K39: UNIDAD | L39: 4 | M39: 7000 | O39: =+M39*L39 -> 28000
C40: PERNOS DE EXPANSION | K40: UNIDAD | L40: 8 | M40: 3000 | O40: =+M40*L40 -> 24000
C41: ELECTRODOS PARA SOLDAR | K41: KG | L41: 0.5 | M41: 18000 | O41: =+M41*L41 -> 9000
C42: ANTICORROSIVO | K42: GAL | L42: 0.1 | M42: 60000 | O42: =+M42*L42 -> 6000
C43: ESMALTE PARA ACABADO | K43: GAL | L43: 0.1 | M43: 70000 | O43: =+M43*L43 -> 7000
C44: DISCOS Y COSUMIBLES | K44: GL | L44: 1 | M44: 10000 | O44: =+M44*L44 -> 10000
C45: SUBTOTAL $ | O45: =+SUM(O38:O44) -> 300000
C46: III. TRANSPORTES
C49: MATERIAL | J49: VOL. o PESO | K49: DISTANCIA | L49: M3 o Ton/Km | M49: TARIFA | O49: Vr. UNITARIO
C50: TUBOS Y ACCESORIOS | J50: 0.08 | K50: 10 | L50: 0.8 | M50: 10000 | O50: =+M50*J50*K50 -> 8000
C52: SUBTOTAL $ | O52: =+O50 -> 8000
C53: IV. MANO DE OBRA
C56: TRABAJADOR | J56: JORNAL | K56: PRESTACIONES | L56: JORNAL TOTAL | M56: RENDIMIENTO | O56: Vr. UNITARIO
C57: OFICIAL DE CONSTRUCCION | J57: 100000 | K57: =+J57*60% -> 60000 | L57: =+K57+J57 -> 160000 | M57: 0.75 | O57: =+L57*M57 -> 120000
C58: AYUDANTE | J58: 65000 | K58: =+J58*60% -> 39000 | L58: =+K58+J58 -> 104000 | M58: 0.423 | O58: 44000
...
