Workbook
Name Excel_BuiltIn__FilterDatabase_1: #REF!
Name HONORARIOS_VALOR_FIJO: #REF!
Name HONORARIOS_VALOR_FIJO_1: #REF!
Name IpsDatos: NA()
Name SEDE: PORTADA!$A$1:$A$6

Sheet PORTADA
A1: CLINICA AVIDANTI IBAGUÉ | C1: SEDE PRESTADORA | D1: CLINICA AVIDANTI MANIZALES | G1: =IF(LEFT($D$5,3)="ISS",I1,H1) -> ALGUNOS SERVICIOS CON TIPO DE TARIFA ISS+103,8% NO INCLUYEN INSUMOS NI MEDICAMENTOS UTILIZADOS EN LA REALIZACIÓN DEL PROCEDIMIENTO (PROCEDIMIENTOS CON UVR MAYOR A 170), ESTOS SE FACTURAN ADICIONAL A LA TARIFA DE ACUERDO A SU CONSUMO. | H1: ="ALGUNOS SERVICIOS CON TIPO DE TARIFA "&D5&" NO INCLUYEN INSUMOS NI MEDICAMENTOS UTILIZADOS EN LA REALIZACIÓN DEL PROCEDIMIENTO (GRUPOS QX 20, 21, 22 Y 23), ESTOS SE FACTURARAN ADICIONAL A LA TARIFA DE ACUERDO A SU CONSUMO." -> ALGUNOS SERVICIOS CON TIPO DE TARIFA ISS+103,8% NO INCLUYEN INSUMOS NI MEDICAMENTOS UTILIZADOS EN LA REALIZACIÓN DEL PROCEDIMIENTO (GRUPOS QX 20, 21, 22 Y 23), ESTOS SE FACTURARAN ADICIONAL A LA TARIFA DE ACUERDO A SU CONSUMO. | I1: ="ALGUNOS SERVICIOS CON TIPO DE TARIFA "&D5&" NO INCLUYEN INSUMOS NI MEDICAMENTOS UTILIZADOS EN LA REALIZACIÓN DEL PROCEDIMIENTO (PROCEDIMIENTOS CON UVR MAYOR A 170), ESTOS SE FACTURAN ADICIONAL A LA TARIFA DE ACUERDO A SU CONSUMO." -> ALGUNOS SERVICIOS CON TIPO DE TARIFA ISS+103,8% NO INCLUYEN INSUMOS NI MEDICAMENTOS UTILIZADOS EN LA REALIZACIÓN DEL PROCEDIMIENTO (PROCEDIMIENTOS CON UVR MAYOR A 170), ESTOS SE FACTURAN ADICIONAL A LA TARIFA DE ACUERDO A SU CONSUMO.
A2: CLINICA AVIDANTI MANIZALES | C2: NIT | G2: =IF(LEFT($D$5,3)="ISS",I2,H2) -> LOS PROCEDIMIENTOS CON TIPO DE TARIFA: "PROPIA" NO INCLUYE INSUMOS NI MEDICAMENTOS, ESTOS SE FACTURAN ADICIONAL A LA TARIFA DE ACUERDO A SU CONSUMO | H2: ="LOS PROCEDIMIENTOS DE HEMODINAMIA, INTERVENCIONISMO, ETC, CON TARIFA "&D5&" , NO INCLUYEN INSUMOS NI MEDICAMENTOS. ESTOS SE FACTURAN ADICIONAL DE ACUERDO A SU CONSUMO." -> LOS PROCEDIMIENTOS DE HEMODINAMIA, INTERVENCIONISMO, ETC, CON TARIFA ISS+103,8% , NO INCLUYEN INSUMOS NI MEDICAMENTOS. ESTOS SE FACTURAN ADICIONAL DE ACUERDO A SU CONSUMO. | I2: LOS PROCEDIMIENTOS CON TIPO DE TARIFA: "PROPIA" NO INCLUYE INSUMOS NI MEDICAMENTOS, ESTOS SE FACTURAN ADICIONAL A LA TARIFA DE ACUERDO A SU CONSUMO
A3: CLINICA AVIDANTI SANTA MARTA | C3: AÑO OFERTA | D3: 2026 | G3: =IF(LEFT($D$5,3)="ISS",I3,H3) -> MATERIAL DE OSTEOSÍNTESIS SE COBRARÁ CON FACTURA DE COMPRA MÁS EL 20% | H3: ="MATERIAL DE OSTEOSÍNTESIS SE COBRARÁ CON FACTURA DE COMPRA MÁS EL "&TEXT($D$6,"0.0%") -> MATERIAL DE OSTEOSÍNTESIS SE COBRARÁ CON FACTURA DE COMPRA MÁS EL 20% | I3: ="MATERIAL DE OSTEOSÍNTESIS SE COBRARÁ CON FACTURA DE COMPRA MÁS EL "&TEXT($D$6,"0.0%") -> MATERIAL DE OSTEOSÍNTESIS SE COBRARÁ CON FACTURA DE COMPRA MÁS EL 20%
A4: ANGIOGRAFÍA DE COLOMBIA VILLAVICENCIO | C4: EAPB | D4: REGIONAL DE ASEGURAMIENTO # 3 | G4: =IF(LEFT($D$5,3)="ISS",I4,H4) -> EL OXÍGENO SE FACTURARÁ A $26 LITRO/MINUTO. | H4: ="EL OXÍGENO SE FACTURARÁ A "&TEXT($D$7,"$0")&" LITRO/MINUTO." -> EL OXÍGENO SE FACTURARÁ A $26 LITRO/MINUTO. | I4: ="EL OXÍGENO SE FACTURARÁ A "&TEXT($D$7,"$0")&" LITRO/MINUTO." -> EL OXÍGENO SE FACTURARÁ A $26 LITRO/MINUTO.
A5: ANGIOGRAFÍA DE COLOMBIA BUCARAMANGA | C5: TARIFA BASE CONTRATO | D5: ISS+103,8% | G5: =IF(LEFT($D$5,3)="ISS",I5,H5) -> CUALQUIER PROCEDIMIENTO RELACIONADO EN ESTE LISTADO CON TARIFA DEFINIDA SE PUEDE PRESENTAR POR COTIZACIÓN EN CASO QUE LO REALICE LAS ESPECIALIDADES DE CX CABEZA Y CUELLO O CX TÓRAX. | H5: CUALQUIER PROCEDIMIENTO RELACIONADO EN ESTE LISTADO CON TARIFA DEFINIDA SE PUEDE PRESENTAR POR COTIZACIÓN EN CASO QUE LO REALICE LAS ESPECIALIDADES DE CX CABEZA Y CUELLO O CX TÓRAX. | I5: CUALQUIER PROCEDIMIENTO RELACIONADO EN ESTE LISTADO CON TARIFA DEFINIDA SE PUEDE PRESENTAR POR COTIZACIÓN EN CASO QUE LO REALICE LAS ESPECIALIDADES DE CX CABEZA Y CUELLO O CX TÓRAX.
A6: ANGIOGRAFÍA DE COLOMBIA BOGOTÁ | C6: INCREMENTO MAOS | D6: 0.2 | G6: =H6 -> LA HOJA DE GASTOS QUIRÚRGICOS SE CONSIDERA COMPLEMENTO DE LA DESCRIPCIÓN QUIRURGICA COMO SOPORTE PARA LOS INSUMOS UTILIZADOS EN EL ACTO QUIRÚRGICO. | H6: LA HOJA DE GASTOS QUIRÚRGICOS SE CONSIDERA COMPLEMENTO DE LA DESCRIPCIÓN QUIRURGICA COMO SOPORTE PARA LOS INSUMOS UTILIZADOS EN EL ACTO QUIRÚRGICO. | I6: LA HOJA DE GASTOS QUIRÚRGICOS SE CONSIDERA COMPLEMENTO DE LA DESCRIPCIÓN QUIRURGICA COMO SOPORTE PARA LOS INSUMOS UTILIZADOS EN EL ACTO QUIRÚRGICO.
C7: VALOR OXIGENO L/min | D7: 26
A8: AVD2021 | C8: VERSION | D8: 3.2
C9: FECHA VERSION | D9: 45441
C11: CONTROL DE VERSIONES
C12: VERSION | D12: DESCRIPCIÓN
C13: 2.1 | D13: SE ADICIONA OBSERVACION "LA HOJA DE GASTO QUIRURGICO SE CONSIDERA COMPLEMENTO DE LA DESCRIPCIÓN QUIRURGICA"
C14: 3 | D14: SE UNIFICA EN UN LISTADO MEDICAMENTOS REGULADOS Y NO REGULADOS SE ADICIONA OBSERVACIÓN DE COTIZACIÓN POR CX CABEZA Y CUELLO O CX TÓRAX SE CAMBIA DE UBICACIÓN LAS NOTAS DE ACLARACIONES Y GENERALIDADES
C15: 3.1 | D15: SE CAMBIA COLORES CORPORATIVOS
C16: 3.2 | D16: SE ADICIONA LA PALABRA UVT PARA ACTUALIZACIÓN DE TARIFAS EN EL ENCABEZADO

Sheet INDICE DE SERVICIOS
B2: ="OFERTA DE SERVICIOS " &PORTADA!D3 -> OFERTA DE SERVICIOS 2026
B3: =PORTADA!D1 -> CLINICA AVIDANTI MANIZALES
B4: OFERTA DE SERVICIOS
B5: ="LAS TARIFAS DE ESTE ANEXO SE AJUSTARÁN A PARTIR DEL 1 DE ENERO DE "&PORTADA!D3+1&", DE ACUERDO CON LAS DISTINTAS VARIABLES ECONOMICAS, ES DECIR IPC GENERAL, IPC EN SALUD, UPC, UVB E INCREMENTO EN EL SMMLV." -> LAS TARIFAS DE ESTE ANEXO SE AJUSTARÁN A PARTIR DEL 1 DE ENERO DE 2027, DE ACUERDO CON LAS DISTINTAS VARIABLES ECONOMICAS, ES DECIR IPC GENERAL, IPC EN SALUD, UPC, UVB E INCREMENTO EN EL SMMLV.
B6: SERVICIO | C6: HOJA
B7: CLAUSULA DE CONFIDENCIALIDAD | C7: 2
B8: ANEXO 1.1 - CUPS | C8: 3
B9: ANEXO 1.2 - PAQUETES | C9: 4
B10: ANEXO 2 - MEDICAMENTOS | C10: 5
B11: ANEXO 3 - INSUMOS | C11: 6

Sheet CLAUSULA DE CONFIDENCIALIDAD 
B3: CLÁUSULA DE CONFIDENCIALIDAD
B5: ="“La información contenida en este documento es de carácter confidencial y sólo puede ser empleada para los fines otorgados en la relación comercial con la "&PORTADA!$D$1&". Por lo cual, no es permitido modificar, copiar, reproducir, distribuir, o transmitir esta información por cualquier medio, en todo o en parte, sin el consentimiento previo, escrito y expreso de AVIDANTI.”" -> “La información contenida en este documento es de carácter confidencial y sólo puede ser empleada para los fines otorgados en la relación comercial con la CLINICA AVIDANTI MANIZALES. Por lo cual, no es permitido modificar, copiar, reproducir, distribuir, o transmitir esta información por cualquier medio, en todo o en parte, sin el consentimiento previo, escrito y expreso de AVIDANTI.”

Sheet ANEXO 1.1 - CUPS
D2: OFERTA DE SERVICIOS - ANEXO 1.2
D3: CLINICA AVIDANTI MANIZALES
D5: ANEXO 1.1 - TARIFAS CUPS PARA REGIONAL DE ASEGURAMIENTO # 3
D6: LAS TARIFAS DE ESTE ANEXO SE AJUSTARÁN A PARTIR DEL 1 DE ENERO DE 2027, DE ACUERDO CON LAS DISTINTAS VARIABLES ECONOMICAS, ES DECIR IPC GENERAL, IPC EN SALUD, UPC, UVT, UVB E INCREMENTO EN EL SMMLV.
B8: ACLARACIONES:
B9: ALGUNOS SERVICIOS CON TIPO DE TARIFA ISS+103,8% NO INCLUYEN INSUMOS NI MEDICAMENTOS UTILIZADOS EN LA REALIZACIÓN DEL PROCEDIMIENTO (PROCEDIMIENTOS CON UVR MAYOR A 170), ESTOS SE FACTURAN ADICIONAL A LA TARIFA DE ACUERDO A SU CONSUMO.
B10: LOS PROCEDIMIENTOS CON TIPO DE TARIFA: "PROPIA" NO INCLUYE INSUMOS NI MEDICAMENTOS, ESTOS SE FACTURAN ADICIONAL A LA TARIFA DE ACUERDO A SU CONSUMO
B11: CUALQUIER PROCEDIMIENTO RELACIONADO EN ESTE LISTADO CON TARIFA DEFINIDA SE PUEDE PRESENTAR POR COTIZACIÓN EN CASO QUE LO REALICE LAS ESPECIALIDADES DE CX CABEZA Y CUELLO O CX TÓRAX.
B12: LA HOJA DE GASTOS QUIRÚRGICOS SE CONSIDERA COMPLEMENTO DE LA DESCRIPCIÓN QUIRURGICA COMO SOPORTE PARA LOS INSUMOS UTILIZADOS EN EL ACTO QUIRÚRGICO.
B13: TODOS LOS PROCEDIMIENTOS QUIRÚRGICOS CON TARIFA PROPIA SE FACTURAN AL 100% DE LA TARIFA RELACIONADA SIN IMPORTAR SI SE HACEN DOS Ó MÁS PROCEDIMIENTOS EN EL MISMO ACTO QUIRÚRGICO
B14: GENERALIDADES:
B15: MATERIAL DE OSTEOSÍNTESIS SE COBRARÁ CON FACTURA DE COMPRA MÁS EL 20%
B16: EL OXÍGENO SE FACTURARÁ A $26 LITRO/MINUTO.
B17: CODIGO CUPS | C17: CODIGO IPS | D17: DESCRIPCIÓN IPS | E17: COD ISS | F17: TIPO TARIFA | G17: VALOR UNITARIO EN PESOS | H17: OBSERVACIONES | I17: OFERTA?
B18: 107M01 | C18: 107M01 | D18: INTERNACIÓN EN UNIDAD DE CUIDADO INTERMEDIO ADULTO | E18: s12203 | F18: ISS 2001 +103,8% | G18: 486694.78 | I18: SI
B19: 110A01 | C19: 110A01 | D19: INTERNACIÓN EN UNIDAD DE CUIDADO INTENSIVO ADULTOS | E19: s12103 | F19: ISS 2001 +103,8% | G19: 1106552.5 | I19: SI
B20: 129A01 | C20: 129A01 | D20: INTERNACIÓN ADULTOS COMPLEJIDAD ALTA HABITACION INDIVIDUAL (INCLUYE AISLAMIENTO GENERAL Y PARA TRASPLANTE DE CÉLULAS PROGENITORAS) | E20: s11301 | F20: ISS 2001 +103,8% | G20: 208945.95 | I20: SI
B21: 129A02 | C21: 129A02 | D21: INTERNACIÓN ADULTOS COMPLEJIDAD ALTA HABITACION MÚLTIPLE | F21: PROPIA | G21: 175520 | H21: TARIFA APLICA PARA INTERNACIÓN EN HABITACIÓN BIPERSONAL, DE TRES CAMAS, DE CUATRO O MÁS CAMAS | I21: SI
B22: 129M01 | C22: 129M01 | D22: INTERNACIÓN ADULTOS COMPLEJIDAD MEDIANA HABITACION INDIVIDUAL (INCLUYE AISLAMIENTO GENERAL Y PARA TRASPLANTE DE CÉLULAS PROGENITORAS) | E22: S11201 | F22: ISS 2001 +103,8% | G22: 150648.96 | I22: SI
B23: 129M02 | C23: 129M02 | D23: INTERNACIÓN ADULTOS COMPLEJIDAD MEDIANA HABITACION MÚLTIPLE | F23: PROPIA | G23: 134490 | H23: TARIFA APLICA PARA INTERNACIÓN EN HABITACIÓN BIPERSONAL, DE TRES CAMAS O DE CUATRO O MÁS CAMAS | I23: SI
B24: 340401 | C24: 340401 | D24: TORACOSTOMÍA CERRADA PARA DRENAJE | E24: 340400 | F24: ISS 2001 +103,8% | G24: 339490.04 | I24: SI
B25: 351101 | C25: 351101 | D25: VALVULOPLASTIA AÓRTICA VÍA ABIERTA | E25: 351100 | F25: ISS 2001 +103,8% | G25: 4042413.8 | I25: SI
B26: 351201 | C26: 351201 | D26: VALVULOPLASTIA MITRAL VÍA ABIERTA | E26: 351200 | F26: ISS 2001 +103,8% | G26: 3360193.3 | I26: SI
B27: 351401 | C27: 351401 | D27: VALVULOPLASTIA TRICUSPÍDEA VÍA ABIERTA | E27: 351400 | F27: ISS 2001 +103,8% | G27: 3137419.5 | I27: SI
B28: 356102 | C28: 356102 | D28: ATRIOSEPTOPLASTIA CON INJERTO (PARCHE) DE TEJIDO | E28: 356100 | F28: ISS 2001 +103,8% | G28: 2912944 | I28: SI
B29: 356202 | C29: 356202 | D29: REPARACIÓN DE DEFECTO INTERVENTRICULAR CON PARCHE A TRAVÉS DE VENTRICULOTOMÍA IZQUIERDA | E29: 356202 | F29: ISS 2001 +103,8% | G29: 3137419.5 | I29: SI
B30: 356203 | C30: 356203 | D30: REPARACIÓN DE DEFECTO DE TABIQUE INTERVENTRICULAR CON INJERTO DE TEJIDO | E30: 356201 | F30: ISS 2001 +103,8% | G30: 3137419.5 | I30: SI
B31: 359501 | C31: 359501 | D31: REINTERVENCIÓN POR SANGRADO, DESPUÉS DE CIRUGÍA CARDÍACA | E31: 359501 | F31: ISS 2001 +103,8% | G31: 1457231.1 | I31: SI
B32: 359504 | C32: 359504 | D32: REOPERACIÓN DE CONDUCTOS CARDÍACOS | E32: 359502 | F32: ISS 2001 +103,8% | G32: 5343636 | I32: SI
B33: 360401 | C33: 360401 | D33: INFUSION ARTERIAL INTRACORONARIA DE TROMBOLITICOS VÍA PERCUTÁNEA (ENDOVASCULAR) | E33: 360401 | F33: ISS 2001 +103,8% | G33: 1176272.5 | I33: SI
B34: 360601 | C34: 360601 | D34: INSERCIÓN O IMPLANTE DE DISPOSITIVO INTRACORONARIO (ESPECÍFICO) | E34: 360600 | F34: ISS 2001 +103,8% | G34: 472848.61 | I34: SI
B35: 361601 | C35: 361601 | D35: ANASTOMOSIS SIMPLE DE ARTERIA DESCENDENTE ANTERIOR CON INJERTO VENOSO VÍA ABIERTA | E35: 361501 | F35: ISS 2001 +103,8% | G35: 4406156 | I35: SI
... B73: 371202 | C73: 371202 | D73: PERICARDIOTOMÍA VÍA ABIERTA | E73: 371200 | F73: ISS 2001 +103,8% | G73: 1045188.3 | I73: SI
B74: 372102 | C74: 372102 | D74: CATETERISMO CARDÍACO DEL LADO DERECHO DEL CORAZÓN CON PRUEBA DE SUSTANCIA TERAPÉUTICA | F74: PROPIA | G74: 2220000 | H74: LA TARIFA DEL PROCEDIMIENTO INCLUYE HONORARIOS DE CIRUJANO, HONORARIOS DE ANESTESIOLOGO Y DERECHOS DE SALA. EXCLUYE MATERIALES, INSUMOS, DISPOSITIVOS Y MEDICAMENTOS UTILIZADOS EN LA REALIZACIÓN DEL PROCEDIMIENTO, MANEJO DE COMPLICACIONES, ESTANCIA HOSPITALARIA DE CUALQUIER TIPO, HEMODERIVADOS Y DEMÁS SERVICIOS Y PRODUCTOS REQUERIDOS POR EL PACIENTE ANTES O DESPUÉS A LA REALIZACIÓN DEL PROCEDIMIENTO. | I74: SI
B75: 372402 | C75: 372402 | D75: CATETERISMO TRANSEPTAL DEL CORAZÓN | E75: 372400 | F75: ISS 2001 +103,8% | G75: 1041423.1 | I75: SI
B76: 372501 | C76: 372501 | D76: ESTUDIO ELECTROFISIOLÓGICO CARDÍACO TRANS ESOFÁGICO | E76: 372501 | F76: ISS 2001 +103,8% | G76: 750330.46 | I76: SI
B77: 372601 | C77: 372601 | D77: BIOPSIA DE PERICARDIO VÍA ABIERTA | E77: 372600 | F77: ISS 2001 +103,8% | G77: 810492.22 | I77: SI
B78: 372701 | C78: 372701 | D78: BIOPSIA DE CORAZÓN VÍA ABIERTA | E78: 372700 | F78: ISS 2001 +103,8% | G78: 932935.26 | I78: SI
B79: 373104 | C79: 373104 | D79: PERICARDIECTOMIA VÍA ABIERTA | E79: 373100 | F79: ISS 2001 +103,8% | G79: 1915424.5 | H79: PROCEDIMIENTO POR COTIZACIÓN SI LO REALIZA LA ESPECIALIDAD DE CIRUGÍA DE TÓRAX | I79: SI
B80: 373307 | C80: 373307 | D80: RESECCIÓN DE HACES ANÓMALOS DEL SISTEMA DE CONDUCCIÓN VÍA ABIERTA | E80: 373302 | F80: ISS 2001 +103,8% | G80: 4042413.8 | I80: SI
...

Sheet ANEXO 1.2 - PAQUETES
D2: OFERTA DE SERVICIOS - ANEXO 1.2
D3: CLINICA AVIDANTI MANIZALES
D5: ANEXO 1.2 - TARIFAS PAQUETES PARA REGIONAL DE ASEGURAMIENTO # 3 .
D6: LAS TARIFAS DE ESTE ANEXO SE AJUSTARÁN A PARTIR DEL 1 DE ENERO DE 2027, DE ACUERDO CON LAS DISTINTAS VARIABLES ECONOMICAS, ES DECIR IPC GENERAL, IPC EN SALUD, UPC, UVT, UVB E INCREMENTO EN EL SMMLV.
B8: CODIGO CUPS | C8: CODIGO IPS | D8: DESCRIPCIÓN IPS | E8: TIPO TARIFA | F8: VALOR UNITARIO EN PESOS | G8: OBSERVACIONES | H8: OFERTA?
B9: 351103 | C9: P351103 | D9: VALVULOPLASTIA AÓRTICA PERCUTÁNEA (ENDOVASCULAR) | E9: PAQUETE | F9: 19879000 | G9: INCLUYE: Honorarios De Cirujano, Anestesiólogo y Derechos De Sala. INSUMOS ESPECIALES: Aguja De Puncion Angiografica (1), Cateter Arterial Leader Cath (1), Cateter Pigtail (1), Extension Del Inyector Rotable (2), Guia Diagnostica (1), Introductor (2), Introductor Radial (1). INSUMOS BÁSICOS: Los requeridos para la realización del procedimiento y definidos en el artículo 85 parágrafo 6 del Acuerdo 256 de 2001 o en el artículo 55 parágrafo 5 del Decreto 2423 de 1996. MEDICAMENTOS: Analgésicos, antibióticos y líquidos que se consuman en el acto Qx. EXCLUYE: Atención y manejo de complicaciones, estancia hospitalaria de cualquier tipo o adicional a la incluida en el contenido, aplicación de hemoderivados, ayudas diagnosticas y/o terapéuticas, insumos especiales y/o administración de medicamentos NOPBS no relacionados en el contenido del paquete o que superen la frecuencia definida. | H9: SI
B10: 351203 | C10: P351203 | D10: VALVULOPLASTIA MITRAL VÍA PERCUTÁNEA (ENDOVASCULAR) | E10: PAQUETE | F10: 19879000 | G10: INCLUYE: Honorarios De Cirujano, Anestesiólogo y Derechos De Sala. INSUMOS ESPECIALES: Aguja De Puncion Angiografica (1), Cateter Arterial Leader Cath (1), Cateter Pigtail (1), Extension Del Inyector Rotable (2), Guia Diagnostica (1), Introductor (2), Introductor Radial (1). INSUMOS BÁSICOS: Los requeridos para la realización del procedimiento y definidos en el artículo 85 parágrafo 6 del Acuerdo 256 de 2001 o en el artículo 55 parágrafo 5 del Decreto 2423 de 1996. MEDICAMENTOS: Analgésicos, antibióticos y líquidos que se consuman en el acto Qx. EXCLUYE: Atención y manejo de complicaciones, estancia hospitalaria de cualquier tipo o adicional a la incluida en el contenido, aplicación de hemoderivados, ayudas diagnosticas y/o terapéuticas, insumos especiales y/o administración de medicamentos NOPBS no relacionados en el contenido del paquete o que superen la frecuencia definida. | H10: SI
B11: 352101 | C11: P352101 | D11: REEMPLAZO DE LA VÁLVULA AÓRTICA VÍA ABIERTA | E11: PAQUETE | F11: 38610000 | G11: INCLUYE: Honorarios de cirujano cardiovascular, honorarios de anestesiólogo cardiovascular, perfusionista, honorarios de cirujano ayudante, derechos de sala, jefes de enfermería y demás recurso humano que se requiera para la realización de los procedimientos. INSUMOS ESPECIALES: Alambre Quirurgico (2), Canula Arterial Alargada De Una Pieza Eopa (1), Canula Cardioplejia Anterograda (1), Canula Perfusion Coronaria (2), Canula Venosa Cuerpo Anillado Doble Canastilla Conector (1), Canula Venosa Doble Canastilla (1), Cartucho Para Hr-Act (9), Hemoconcentrador Adulto (1), Hemostático Surgicel (5), Hemostatico Surgicel Fibrillar (4), Hemostatico Surgicel Un-Knit (3), Ligaclip (18), Pieza De Mano Para Ablacion Bipolar Cardioblate (1), Valvula Aortica Bilologica (1) INSUMOS BÁSICOS: Los requeridos para la realización del procedimiento definidos en el artículo 85 parágrafo 6 del Acuerdo 256 de 2001 o artículo 55 parágrafo 5 del Decreto 2423 de 1996. MEDICAMENTOS: Los medicamentos PBS requeridos para la realización del procedimiento. EXCLUYE: Atención y manejo de complicaciones cardiovasculares tales como sangrado, infecciones, rechazo de dispositivos, complicaciones de la técnica quirúrgica, reintervenciones, requerimiento de procedimientos adicionales por hallazgo intraoperatorio entre otras, estancia hospitalaria de cualquier tipo o adicional a la incluida en el contenido, aplicación de hemoderivados, ayudas diagnosticas y/o terapéuticas, insumos especiales y/o administración de medicamentos NOPBS no relacionados en el contenido del paquete o que superen la frecuencia definida. | H11: SI
B12: 352103 | C12: P352103 | D12: REEMPLAZO DE LA VÁLVULA AÓRTICA VÍA PERCUTÁNEA (ENDOVASCULAR) | E12: PAQUETE | F12: 109500000 | G12: INCLUYE: Honorarios de cirujano cardiovascular, honorarios de anestesiólogo cardiovascular, perfusionista, honorarios de cirujano ayudante, derechos de sala, jefes de enfermería y demás recurso humano que se requiera para la realización de los procedimientos. INSUMOS ESPECIALES: Aguja De Puncion Angiografica (1), Balon Valvuloplastia Aórtica (1), Cateter Arterial Leader (1), Cateter Coronario (2), Cateter Pigtail (2), Electrodo Temporal (1), Extension Del Inyector Rotable (3), Guia Amplatz (2), Guia Diagnostica (1), Guia Hidrofilica (1), Introductor (2), Introductor Para Válvula Percutanea (1), Introductor Percutaneo (1), Ligaclip (6), Set Sistema De Liberacion Ocluder (1), Sistema De Compresion Y Montaje Válvula Percutanea (1), Valvula Aortica Percutanea (1). INSUMOS BÁSICOS: Los requeridos para la realización del procedimiento definidos en el artículo 85 parágrafo 6 del Acuerdo 256 de 2001 o artículo 55 parágrafo 5 del Decreto 2423 de 1996. MEDICAMENTOS: Los medicamentos PBS requeridos para la realización del procedimiento. EXCLUYE: Atención y manejo de complicaciones cardiovasculares tales como sangrado, infecciones, rechazo de dispositivos, complicaciones de la técnica quirúrgica, reintervenciones, requerimiento de procedimientos adicionales por hallazgo intraoperatorio entre otras, estancia hospitalaria de cualquier tipo o adicional a la incluida en el contenido, aplicación de hemoderivados, ayudas diagnosticas y/o terapéuticas, insumos especiales y/o administración de medicamentos NOPBS no relacionados en el contenido del paquete o que superen la frecuencia definida. | H12: SI
B13: 352201 | C13: P352201 | D13: REEMPLAZO DE LA VÁLVULA MITRAL VÍA ABIERTA | E13: PAQUETE | F13: 38610000 | G13: INCLUYE: Honorarios de cirujano cardiovascular, honorarios de anestesiólogo cardiovascular, perfusionista, honorarios de cirujano ayudante, derechos de sala, jefes de enfermería y demás recurso humano que se requiera para la realización de los procedimientos. INSUMOS ESPECIALES: Alambre Quirurgico (2), Asa En Silicona (2), Cardioplejía Solucion (2), Cartucho Para Hr-Act (9), Cateter Arterial Leader Cath (1), Hemostático Surgicel (5), Hemostatico Surgicel Fibrillar (1), Hemostatico Surgicel Un-Knit (1), Ligaclip (18), Oxigenador Adulto (1), Valvula Mitral Mecanica (1). INSUMOS BÁSICOS: Los requeridos para la realización del procedimiento definidos en el artículo 85 parágrafo 6 del Acuerdo 256 de 2001 o artículo 55 parágrafo 5 del Decreto 2423 de 1996. MEDICAMENTOS: Los medicamentos PBS requeridos para la realización del procedimiento. EXCLUYE: Atención y manejo de complicaciones cardiovasculares tales como sangrado, infecciones, rechazo de dispositivos, complicaciones de la técnica quirúrgica, reintervenciones, requerimiento de procedimientos adicionales por hallazgo intraoperatorio entre otras, estancia hospitalaria de cualquier tipo o adicional a la incluida en el contenido, aplicación de hemoderivados, ayudas diagnosticas y/o terapéuticas, insumos especiales y/o administración de medicamentos NOPBS no relacionados en el contenido del paquete o que superen la frecuencia definida. | H13: SI
B14: 352301 | C14: P352301 | D14: REEMPLAZO DE LA VÁLVULA TRICUSPÍDEA VÍA ABIERTA | E14: PAQUETE | F14: 41263000 | G14: INCLUYE: Honorarios de cirujano cardiovascular, honorarios de anestesiólogo cardiovascular, perfusionista, honorarios de cirujano ayudante, derechos de sala, jefes de enfermería y demás recurso humano que se requiera para la realización de los procedimientos. INSUMOS ESPECIALES: Alambre Quirurgico (3), Anillo Tricúspide (1), Cardioplejía Solucion (2), Cartucho Para Hr-Act (9), Cateter Arterial Leader Cath (1), Hemoconcentrador Adulto (1), Hemostático Surgicel (5), Hemostatico Surgicel Fibrillar (4), Hemostatico Surgicel Un-Knit (4), Injerto Dacron (3), Ligaclip (1), Oxigenador Adulto (2), Pieza De Mano Para Ablacion Bipolar Cardioblate (1). INSUMOS BÁSICOS: Los requeridos para la realización del procedimiento definidos en el artículo 85 parágrafo 6 del Acuerdo 256 de 2001 o artículo 55 parágrafo 5 del Decreto 2423 de 1996. MEDICAMENTOS: Los medicamentos PBS requeridos para la realización del procedimiento. EXCLUYE: Atención y manejo de complicaciones cardiovasculares tales como sangrado, infecciones, rechazo de dispositivos, complicaciones de la técnica quirúrgica, reintervenciones, requerimiento de procedimientos adicionales por hallazgo intraoperatorio entre otras, estancia hospitalaria de cualquier tipo o adicional a la incluida en el contenido, aplicación de hemoderivados, ayudas diagnosticas y/o terapéuticas, insumos especiales y/o administración de medicamentos NOPBS no relacionados en el contenido del paquete o que superen la frecuencia definida. | H14: SI
B15: 352504 | C15: P352504 | D15: REINTERVENCIÓN DE DISPOSITIVO O VÁLVULA AÓRTICA VÍA ABIERTA | E15: PAQUETE | F15: 38610000 | G15: INCLUYE: Honorarios de cirujano cardiovascular, honorarios de anestesiólogo cardiovascular, perfusionista, honorarios de cirujano ayudante, derechos de sala, jefes de enfermería y demás recurso humano que se requiera para la realización de los procedimientos. INSUMOS ESPECIALES: Alambre Quirurgico (2), Cartucho Para Hr-Act (9), Hemoconcentrador Adulto (1), Hemostático Surgicel (5), Hemostatico Surgicel Fibrillar (4), Hemostatico Surgicel Un-Knit (3), Ligaclip (18), Oxigenador Adulto (1), Valvula Aortica Bilologica (1). INSUMOS BÁSICOS: Los requeridos para la realización del procedimiento definidos en el artículo 85 parágrafo 6 del Acuerdo 256 de 2001 o artículo 55 parágrafo 5 del Decreto 2423 de 1996. MEDICAMENTOS: Los medicamentos PBS requeridos para la realización del procedimiento. EXCLUYE: Atención y manejo de complicaciones cardiovasculares tales como sangrado, infecciones, rechazo de dispositivos, complicaciones de la técnica quirúrgica, reintervenciones, requerimiento de procedimientos adicionales por hallazgo intraoperatorio entre otras, estancia hospitalaria de cualquier tipo o adicional a la incluida en el contenido, aplicación de hemoderivados, ayudas diagnosticas y/o terapéuticas, insumos especiales y/o administración de medicamentos NOPBS no relacionados en el contenido del paquete o que superen la frecuencia definida. | H15: SI
B16: 352507 | C16: P352507 | D16: REINTERVENCIÓN DE DISPOSITIVO O VÁLVULA MITRAL VÍA ABIERTA | E16: PAQUETE | F16: 38610000 | G16: INCLUYE: Honorarios de cirujano cardiovascular, honorarios de anestesiólogo cardiovascular, perfusionista, honorarios de cirujano ayudante, derechos de sala, jefes de enfermería y demás recurso humano que se requiera para la realización de los procedimientos. INSUMOS ESPECIALES: Alambre Quirurgico (2), Cardioplejía Solucion (2), Hemoconcentrador Adulto (1), Hemostático Surgicel (5), Hemostatico Surgicel Fibrillar (1), Hemostatico Surgicel Un-Knit (1), Ligaclip (18), Oxigenador Adulto (1), Valvula Mitral Mecanica (1). INSUMOS BÁSICOS: Los requeridos para la realización del procedimiento definidos en el artículo 85 parágrafo 6 del Acuerdo 256 de 2001 o artículo 55 parágrafo 5 del Decreto 2423 de 1996. MEDICAMENTOS: Los medicamentos PBS requeridos para la realización del procedimiento. EXCLUYE: Atención y manejo de complicaciones cardiovasculares tales como sangrado, infecciones, rechazo de dispositivos, complicaciones de la técnica quirúrgica, reintervenciones, requerimiento de procedimientos adicionales por hallazgo intraoperatorio entre otras, estancia hospitalaria de cualquier tipo o adicional a la incluida en el contenido, aplicación de hemoderivados, ayudas diagnosticas y/o terapéuticas, insumos especiales y/o administración de medicamentos NOPBS no relacionados en el contenido del paquete o que superen la frecuencia definida. | H16: SI
B17: 352510 | C17: P352510 | D17: REINTERVENCIÓN DE DISPOSITIVO O VÁLVULA TRICUSPÍDEA VÍA ABIERTA | E17: PAQUETE | F17: 41263000 | G17: INCLUYE: Honorarios de cirujano cardiovascular, honorarios de anestesiólogo cardiovascular, perfusionista, honorarios de cirujano ayudante, derechos de sala, jefes de enfermería y demás recurso humano que se requiera para la realización de los procedimientos. INSUMOS ESPECIALES: Alambre Quirurgico (3), Anillo Tricúspide (1), Cardioplejía Solucion (2), Cartucho Para Hr-Act (9), Hemoconcentrador Adulto (1), Hemostático Surgicel (5), Hemostatico Surgicel Fibrillar (4), Hemostatico Surgicel Un-Knit (4), Oxigenador Adulto (2), Pieza De Mano Para Ablacion Bipolar Cardioblate (1). INSUMOS BÁSICOS: Los requeridos para la realización del procedimiento definidos en el artículo 85 parágrafo 6 del Acuerdo 256 de 2001 o artículo 55 parágrafo 5 del Decreto 2423 de 1996. MEDICAMENTOS: Los medicamentos PBS requeridos para la realización del procedimiento. EXCLUYE: Atención y manejo de complicaciones cardiovasculares tales como sangrado, infecciones, rechazo de dispositivos, complicaciones de la técnica quirúrgica, reintervenciones, requerimiento de procedimientos adicionales por hallazgo intraoperatorio entre otras, estancia hospitalaria de cualquier tipo o adicional a la incluida en el contenido, aplicación de hemoderivados, ayudas diagnosticas y/o terapéuticas, insumos especiales y/o administración de medicamentos NOPBS no relacionados en el contenido del paquete o que superen la frecuencia definida. | H17: SI
B18: 355102 | C18: P355102 | D18: REPARACIÓN DE DEFECTO DE TABIQUE INTERAURÍCULAR VÍA PERCUTÁNEA (ENDOVASCULAR) | E18: PAQUETE | F18: 23932000 | G18: INCLUYE: Honorarios de cirujano cardiovascular, honorarios de anestesiólogo cardiovascular, perfusionista, honorarios de cirujano ayudante, derechos de sala, jefes de enfermería y demás recurso humano que se requiera para la realización de los procedimientos. INSUMOS ESPECIALES: Aguja De Puncion Angiografica (1), Balon Medicion Cia (1), Cateter Pigtail (1), Dispositivo Cierre De Cia (1), Equipo Bomba Infusion (1), Extension Del Inyector Rotable (1), Guia Amplatz (1), Guia Hidrofilica (1), Introductor (2), Set Sistema De Liberacion Ocluder (1). INSUMOS BÁSICOS: Los requeridos para la realización del procedimiento definidos en el artículo 85 parágrafo 6 del Acuerdo 256 de 2001 o artículo 55 parágrafo 5 del Decreto 2423 de 1996. MEDICAMENTOS: Los medicamentos PBS requeridos para la realización del procedimiento. EXCLUYE: Atención y manejo de complicaciones cardiovasculares tales como sangrado, infecciones, rechazo de dispositivos, complicaciones de la técnica quirúrgica, reintervenciones, requerimiento de procedimientos adicionales por hallazgo intraoperatorio entre otras, estancia hospitalaria de cualquier tipo o adicional a la incluida en el contenido, aplicación de hemoderivados, ayudas diagnosticas y/o terapéuticas, insumos especiales y/o administración de medicamentos NOPBS no relacionados en el contenido del paquete o que superen la frecuencia definida. | H18: SI
B19: 355104 | C19: P355104 | D19: REPARACIÓN DE DEFECTO DE TABIQUE INTERAURÍCULAR VÍA ABIERTA | E19: PAQUETE | F19: 24286000 | G19: INCLUYE: Honorarios de cirujano cardiovascular, honorarios de anestesiólogo cardiovascular, perfusionista, honorarios de cirujano ayudante, derechos de sala, jefes de enfermería y demás recurso humano que se requiera para la realización de los procedimientos. INSUMOS ESPECIALES: Alambre Quirurgico 5 (3), Cateter Arterial Leader Cath (1), Hemoconcentrador Adulto (1), Hemostatico Surgicel (1), Hemostatico Surgicel Fibrillar (4), Hemostatico Surgicel Un-Knit (4), Ligaclip (18), Oxigenador Adulto (1), Parche De Pericardio Bovino (1). INSUMOS BÁSICOS: Los requeridos para la realización del procedimiento definidos en el artículo 85 parágrafo 6 del Acuerdo 256 de 2001 o artículo 55 parágrafo 5 del Decreto 2423 de 1996. MEDICAMENTOS: Los medicamentos PBS requeridos para la realización del procedimiento. EXCLUYE: Atención y manejo de complicaciones cardiovasculares tales como sangrado, infecciones, rechazo de dispositivos, complicaciones de la técnica quirúrgica, reintervenciones, requerimiento de procedimientos adicionales por hallazgo intraoperatorio entre otras, estancia hospitalaria de cualquier tipo o adicional a la incluida en el contenido, aplicación de hemoderivados, ayudas diagnosticas y/o terapéuticas, insumos especiales y/o administración de medicamentos NOPBS no relacionados en el contenido del paquete o que superen la frecuencia definida. | H19: SI
B20: 355205 | C20: P355205 | D20: REPARACIÓN DE DEFECTO DE TABIQUE INTERVENTRICULAR VÍA PERCUTÁNEA (ENDOVASCULAR) | E20: PAQUETE | F20: 24032000 | G20: INCLUYE: Honorarios de cirujano cardiovascular, honorarios de anestesiólogo cardiovascular, perfusionista, honorarios de cirujano ayudante, derechos de sala, jefes de enfermería y demás recurso humano que se requiera para la realización de los procedimientos. INSUMOS ESPECIALES: Aguja De Puncion Angiografica (1), Balon Medicion Cia (1), Cateter Pigtail (1), Dispositivo Cierre De Cia (1), Extension Del Inyector Rotable (1), Guia Amplatz (1), Guia Hidrofilica (1), Introductor (2), Set Sistema De Liberacion Ocluder (1). INSUMOS BÁSICOS: Los requeridos para la realización del procedimiento definidos en el artículo 85 parágrafo 6 del Acuerdo 256 de 2001 o artículo 55 parágrafo 5 del Decreto 2423 de 1996. MEDICAMENTOS: Los medicamentos PBS requeridos para la realización del procedimiento. EXCLUYE: Atención y manejo de complicaciones cardiovasculares tales como sangrado, infecciones, rechazo de dispositivos, complicaciones de la técnica quirúrgica, reintervenciones, requerimiento de procedimientos adicionales por hallazgo intraoperatorio entre otras, estancia hospitalaria de cualquier tipo o adicional a la incluida en el contenido, aplicación de hemoderivados, ayudas diagnosticas y/o terapéuticas, insumos especiales y/o administración de medicamentos NOPBS no relacionados en el contenido del paquete o que superen la frecuencia definida. | H20: SI
... B80: 878201 | C80: P878201 | D80: ARTERIOGRAFÍA PERIFÉRICA DE UNA EXTREMIDAD INFERIOR POR PUNCIÓN | E80: PAQUETE | F80: 1863000 | G80: INCLUYE: Honorarios De Cirujano, Anestesiólogo y Derechos De Sala. INSUMOS ESPECIALES: Aguja de Punción Angiográfica (1), Guia Dx Hidrofílica (1), Introductor (1), Catéter Multipropósito (1). INSUMOS BÁSICOS: Los requeridos para la realización del procedimiento y definidos en el artículo 85 parágrafo 6 del Acuerdo 256 de 2001 o en el artículo 55 parágrafo 5 del Decreto 2423 de 1996. MEDICAMENTOS: Analgésicos, antibióticos y líquidos que se consuman en el acto Qx. EXCLUYE: Atención y manejo de complicaciones, estancia hospitalaria de cualquier tipo o adicional a la incluida en el contenido, aplicación de hemoderivados, ayudas diagnosticas y/o terapéuticas, insumos especiales y/o administración de medicamentos NOPBS no relacionados en el contenido del paquete o que superen la frecuencia definida. | H80: SI

Sheet ANEXO 2 - MEDICAMENTOS
C2: OFERTA MEDICAMENTOS - ANEXO 2 | E2: FECHA CREACIÓN:
E3: 44222
C4: =PORTADA!$D$1 -> CLINICA AVIDANTI MANIZALES | E4: FECHA ACTUALIZACIÓN:
E5: 45169
C6: =PORTADA!$D$3 -> 2026 | E6: VERSIÓN:
E7: 3.1
B8: NOTA 1: LOS MEDICAMENTOS QUE NO SE ENCUENTREN EN ESTE LISTADO SERAN FACTURADOS A LA TARIFA PROPUESTA POR AVIDANTI, SALVO LOS MEDICAMENTOS REGULADOS QUE SERÁN FACTURADOS A LA TARIFA MÁXIMA ESTABLECIDA SEGÚN REGULACION VIGENTE, UNA VEZ SEA MODIFICADA LA NORMA AVIDANTI DE MANERA INMEDIATA MODIFICARÁ LA TARIFA AL VALOR MÁXIMO DE LA REGULACIÓN ESTABLECIDA; LOS MEDICAMENTOS NUEVOS CUYA DENOMINACION COMÚN INTERNACIONAL QUE SE ENCUENTREN DEFINIDOS EN ESTE MANUAL SERÁN FACTURADOS A LA TARIFA QUE YA SE TENGA ASIGNADA EN ÉL, INDEPENDIENTE DEL CUM DEL MEDICAMENTO.
B9: NOTA 2: AVIDANTI NO ENTREGA FACTURA DE COMPRA POR NINGUN TIPO DE MEDICAMENTO; ASI MISMO, NO PERMITE EL SUMINISTRO DE MEDICAMENTOS POR PARTE DE EL CONTRATANTE.
B10: NOTA 3: EL TARIFARIO SE PODRA ACTUALIZAR CONFORME A: 1) INTRODUCCION DE NUEVOS MEDICAMENTOS, 2) OTRAS VARIABLES QUE AFECTEN SENSIBLEMENTE LOS PRECIOS POR EQUILIBRIO ECONOMICO DEL CONTRATO, 3) ACTUALIZACIÓN DE TARIFAS DE MEDICAMENTOS REGULADOS PUBLICADA POR EL MINISTERIO DE SALUD QUE APLICA PARA LA FECHA DE ADMINISTRACIÓN DEL MEDICAMENTO AL PACIENTE ATENDIDO Y 4) EL CONTRATISTA PREVIA COTIZACIÓN Y APROBACIÓN DADA POR EL CONTRATANTE PODRÁ PRESTAR Y/O SUMINISTRAR LOS MEDICAMENTOS REQUERIDOS PARA LA ATENCIÓN DE LOS USUARIOS DEL CONTRATANTE, LOS CUALES SE ENTENDERÁN INCORPORADOS AL CONTRATO UNA VEZ APROBADAS DICHAS COTIZACIONES.
B11: NOTA 4: AVIDANTI RESPETARÁ O DARÁ CUMPLIMIENTO A LAS DISPOSISIONES DEL INVIMA EN MATERIA DE CANCELACIÓN O VENCIMIENTO DE LOS CUMS O EL REGISTRO INVIMA DE LOS MEDICAMENTOS Y TARIFAS DE LOS MEDICAMENTOS REGULADOS.
B12: Codigo interno | C12: Producto | D12: Tarifa 2026 | E12: Regulación
B13: 020065664-01 | C13: ABACAVIR 20 MG/ML SOLUCION ORAL FRASCO 240ML(ABACAR) HETERO LABS | D13: 101739 | E13: 1. NO REGULADO
B14: 020085315-02 | C14: ABACAVIR TAB 300 MG (ABACAVIR)- LAB EUROPACK | D14: 7852 | E14: 1. NO REGULADO
B15: 019974946-01 | C15: ABACAVIR TAB 300 MG (ABACAVIR)-HUMAX | D15: 7852 | E15: 1. NO REGULADO
B16: 019956215-01 | C16: ABACAVIR TABLETA 300 MG (ABANUME) - LAB BIOTOSCANA | D16: 7852 | E16: 1. NO REGULADO
B17: 019977782-08 | C17: ACEITE SOYA-OLIVA-PESCADO PURIFICADO- TRIGLICERIDOS CADENA MEDIANA FRASCO 250ML(SMOFLIPID 20%) FRESENIUS KABI | D17: 107139 | E17: 1. NO REGULADO
B18: 019977782-02 | C18: ACEITES SOYA-OLIVA-PESCADO-TRIGLICERIDOS CADENA MEDIANA EMULSION INYECTABLE (SMOFLIPID 20%) 500 ML - LAB FRESENIUS KABI COLOMBIA S.A.S | D18: 176231 | E18: 1. NO REGULADO
B19: 19977782-1 | C19: ACEITES SOYA-OLIVA-PESCADO-TRIGLICERIDOS CADENA MEDIANA EMULSION INYECTABLE (SMOFLIPID 20%) 500 ML- LAB FRESENIUS KABI COLOMBIA S.A.S | D19: 176231 | E19: 1. NO REGULADO
B20: 020046741-04 | C20: ACETAMINOFEN + CODEINA 500 MG + 30MG TAB/NODOL | D20: 224 | E20: 1. NO REGULADO
B21: 019931777-01 | C21: ACETAMINOFEN + FOSFATO DE CODEINA TAB 500 MG - 8 MG (APRIX)-NOVAMED | D21: 59 | E21: 1. NO REGULADO
B22: 020038519-01 | C22: ACETAMINOFEN + FOSFATO DE CODEINA TAB 500 MG-30 MG (APRIX -F) - LAB FARMACAPSULAS | D22: 224 | E22: 1. NO REGULADO
B23: 019931776-11 | C23: ACETAMINOFEN + FOSFATO DE CODEINA TAB 500 MG-30 MG (APRIX -F)(CAJA X10) - LAB NOVAMED | D23: 224 | E23: 1. NO REGULADO
B24: 000027363-02 | C24: ACETAMINOFEN + FOSFATO DE CODEINA TAB 500 MG-8 MG (WINADEINE)-SANOFI-SYNT | D24: 59 | E24: 1. NO REGULADO
... B3213: 020103345-01 | C3213: CISATRACURIO BESILATO SOL INY 10 MG (CISATRACURIO) - LAB LEGRAND | D3213: 12655 | E3213: 2. CIRCULAR 22
B3214: 20211000945 | C3214: CISATRACURIO BESILATO SOL INY 10 MG (CISATRACURIO) -BIO ESTERIL S.A.S | D3214: 12655 | E3214: 2. CIRCULAR 22
B3215: 1C10035410111 | C3215: CISATRACURIO BESILATO SOL INY 10 MG (CISATRACURIO)- BIO ESTERIL S.A.S | D3215: 12655 | E3215: 2. CIRCULAR 22
B3216: 020035302-01 | C3216: Citrato de Cafeina 20mg/ml amp 3 ml (Cafein nova) - Lab Cambridge | D3216: 339195 | E3216: 2. CIRCULAR 22
B3217: 020064602-01 | C3217: Clopidogrel 75 mg tabletas (Vicafidt) | D3217: 1525 | E3217: 2. CIRCULAR 22
B3218: 019994402-02 | C3218: Clopidogrel Tab 75 mg (Clopidogrel)-Lab Garmisch | D3218: 1525 | E3218: 2. CIRCULAR 22
B3219: 019933487-07 | C3219: Clopidogrel Tab 75 mg (Clopidogrel)-MK | D3219: 1525 | E3219: 2. CIRCULAR 22
B3220: 019996415-03 | C3220: CLOPIDOGREL TABLETA 300 MG (PLAVIX) - LAB SANOFI AVENTIS | D3220: 6102 | E3220: 2. CIRCULAR 22
B3221: 000054895-03 | C3221: Colagenasa Unguento 120 UI / 100 g (IRUXOL) - Lab abbott | D3221: 12691 | E3221: 2. CIRCULAR 22
B3222: 000102446-09 | C3222: Colagenasa unguento x 20 g (IRUXOL 80 U /100 G) - Lab abbott | D3222: 8460 | E3222: 2. CIRCULAR 22
B3223: 020037686-01 | C3223: Colistimetato Sodico Pol Rec 1.000.000 UI (Colomycin) | D3223: 16561 | E3223: 2. CIRCULAR 22
B3224: 020058962-01 | C3224: Colistimetato Sodico Sol Iny 1.000.000 UI Unidad | D3224: 16561 | E3224: 2. CIRCULAR 22
B3225: 019993896-02 | C3225: Dabigatran Etexilato Cap 75 mg (Pradaxa) - Lab Boehringer | D3225: 2804 | E3225: 2. CIRCULAR 22
B3226: 019993896-06 | C3226: Dabigatran Etexilato Cap 75 mg (Pradaxa) - Lab Boehringer | D3226: 2804 | E3226: 2. CIRCULAR 22
... B3455: 020002046-11 | C3455: FILGRASTIM SOL INY 300 MCG / 0.5 ML (FILGASTRIM) -MEGALABS COLOMBIA S.A.S | D3455: 136029 | E3455: 2. CIRCULAR 22

Sheet ANEXO 3 - INSUMOS
C2: OFERTA INSUMOS - ANEXO 3 | D2: FECHA CREACIÓN:
D3: 44222
C4: =PORTADA!$D$1 -> CLINICA AVIDANTI MANIZALES | D4: FECHA ACTUALIZACIÓN:
D5: 45169
C6: =PORTADA!$D$3 -> 2026 | D6: VERSIÓN:
D7: 3.1
B8: NOTA 1: LOS INSUMOS QUE NO SE ENCUENTREN EN ESTE LISTADO SERAN FACTURADOS A LA TARIFA PROPUESTA POR AVIDANTI.
B9: NOTA 2: AVIDANTI NO ENTREGA FACTURA DE COMPRA POR NINGUN TIPO DE INSUMO; ASI MISMO, NO PERMITE EL SUMINISTRO DE INSUMOS Y/O MATERIAL POR PARTE DEL CONTRATANTE.
B10: NOTA 3: EL TARIFARIO SE PODRA ACTUALIZAR CONFORME A: 1) INTRODUCCION DE NUEVOS INSUMOS, 2) OTRAS VARIABLES QUE AFECTEN SENSIBLEMENTE LOS PRECIOS POR EQUILIBRIO ECONOMICO DEL CONTRATO Y 3) EL CONTRATISTA PREVIA COTIZACIÓN Y APROBACIÓN DADA POR EL CONTRATANTE PODRÁ PRESTAR Y/O SUMINISTRAR LOS INSUMOS REQUERIDOS PARA LA ATENCIÓN DE LOS USUARIOS DEL CONTRATANTE, LOS CUALES SE ENTENDERÁN INCORPORADOS AL CONTRATO UNA VEZ APROBADAS DICHAS COTIZACIONES.
B11: NOTA 4: AVIDANTI RESPETARÁ O DARÁ CUMPLIMIENTO A LAS DISPOSISIONES DEL INVIMA EN MATERIA DE CANCELACIÓN O VENCIMIENTO DE EL REGISTRO INVIMA DE LOS INSUMOS Y TARIFAS DE INSUMOS REGULADOS.
B12: Codigo interno | C12: Producto | D12: ="Tarifa "&PORTADA!$D$3 -> Tarifa 2026
B13: I8096 | C13: ACERO MONOFILAMENTO 5 V-40 | D13: 49815
B14: I9696 | C14: ACIDO ACETICO SUKSES AL LEMON 45X (I9696) | D14: 53939
B15: I9081 | C15: ACIDO HIALURONICO 800 MG -CONDROITIN SULFATO 1G IALURIL PREFILL X 50ML UND (I9081) | D15: 1567507
B16: I8865 | C16: ACIDO TRICLOROACETICO 85% X 100ML FRASCO (I8865Y) | D16: 449400
B17: I9579 | C17: ADAPTADOR 1 PREFILTRO CYTOSORB (I9579) | D17: 150335
B18: I9580 | C18: ADAPTADOR 2 POSTFILTRO CYTOSORB (I9580) | D18: 128400
B19: I9581 | C19: ADAPTADOR 3 CPB BYPASS CYTOSORB (I9581) | D19: 126260
B20: I0325 | C20: ADAPTADOR DE MOUNT TERAPIA RESPIRATORIA (I0325) | D20: 53728
B21: I04323 | C21: ADAPTADOR EN T (I04323) | D21: 2521
B22: I8982 | C22: ADAPTADOR PARA SONDA DE GASTROSTOMIA KANGAROO Y-PORT /PEG (I8982) | D22: 44405
B23: I9126 | C23: ADAPTADOR PARA VALVULA ANTI-REFLUJO REF 800-01 (I9126) | D23: 14724
B24: I8858 | C24: ADAPTADOR REDUCTOR DE TROCAR DE 10MM A 5 MM REF. 8923802 (I8858) | D24: 533476
... B8419: I8398 | C8419: VORTEX PARA TRAQUEOSTOMIA | D8419: 318325
