Workbook
Name OLE_LINK1: 'Anexo1 cotizaciones2026'!#REF!

Sheet Solicitud cotizaciones
A1: ANEXO 1
A3: Apreciados Señores: De manera atenta la Fiscalía General de la Nación Nivel Central, requiere cotizar con ustedes lo siguiente:
A5: ITEM | B5: SOLICITUD COTIZACIÓN
A6: 1 | B6: ADVERTENCIA | C6: La cotización solicitada servirá de base para REVALIDAR los precios indicativos del mercado; para compra y por tanto NO CONSTITUYE en sí misma una oferta y consecuentemente NO OBLIGA a las partes.
A7: 2 | B7: OBJETO | C7: OBJETO DEL CONTRATO
A8: 3 | B8: VALIDEZ DE LA COTIZACIÓN | C8: La validez de oferta debe ser mínima de NOVENTA (90) DIAS, especificando si los días de la validez son hábiles o calendario.
A9: 4 | B9: ESPECIFICACIONES TÉCNICAS | C9: VER ARCHIVO ADJUNTO (EN WORD SE ENVIA LA FICHA TECNICA)
A14: 5 | B14: CONDICIONES DE LA COTRATACIÓN | C14: PLAZO DE EJECUCIÓN
C15: FORMA DE PAGO | D15: La Fiscalía General de la Nación cancelará el valor del contrato, mediante pagos parciales por la ejecución de objeto del contrato, dentro de los treinta (30) días calendarios siguientes a la fecha en que el contratista radique la factura comercial, acompañada de la certificación donde conste el cumplimiento del contrato expedida por el supervisor del contrato y de la certificación que acredite el pago por parte del contratista de las obligaciones al sistema general de seguridad social (salud, pensiones y riesgos profesionales) y aportes parafiscales (cajas de compensación familiar, SENA e ICBF).
C16: MECANISMOS DE COBERTURA DE LOS RIESGOS | D16: AMPAROS
A19: 6 | B19: VALOR OFRECIDO | C19: DESCRIPCION DEL OBJETO DEL CONTRATO | E19: VALOR UNITARIO | F19: IVA DE VLR UNI. | G19: VALOR UNI. + IVA
A20: 7 | B20: PLAZO PARA PRESENTAR LA COTIZACIÓN | C20: TRES (3) DIAS HABILES.
A21: NOTA:
A22: Agradecemos su gentil colaboración y estaremos atentos a responder cualquier inquietud al respecto, quedamos atentos al envío de su propuesta por este mismo medio dentro del plazo establecido para su presentación.
A24: Cordial saludo,
A26: NOMBRE
A27: GRUPO DE ANALISIS DEL SECTOR ECONOMICO Y DE OFERENTES
A28: TELEFONO

Sheet GENERAL
A1: No. Estudio | B1: DIA Y MES | C1: valor estudios previos | D1: Dependencia solicitante | E1: Destino | F1: Plazo de Ejecución | G1: No. COTIZACIONES | H1: No. COTIZACIONES LETRAS | I1: EMPRESA 1 | J1: EMPRESA 2 | K1: EMPRESA 3 | L1: EMPRESA 4 | M1: NUMERO DE EMPRESAS SECOP | N1: OBJETO DEL CONTRATO | O1: CODIGO CLASIFICACOR DE BIENES Y SERVICIOS | P1: NUMERO DE EMPRESAS REGISTRADAS | Q1: PROCESO HISTORICO ANALIZADO | R1: OBJETO | S1: IPC INICIAL | T1: IPC FINAL | U1: OFERTAS DEL HISTORICO | V1: CONTRATISTA HISTORICO | W1: VALOR DEL CONTRATO | X1: TERMINO DE EJECUCION | Y1: LINK | Z1: MODALIAD DE CONTRATACION | AA1: FECHA DE SUSCRIPCION DEL CONTRATO | AB1: FECHA DE INICIO DEL CONTRATO | AC1: OFERTAS DEL HISTORICO | AD1: RANGO DE OFERTAS | AE1: V/R ESTUDIO | AF1: Bolsa de Repuestos | AG1: SECTOR | AH1: BIEN O SERVICIO | AI1: FORMULA UTILIZADA ANEXO 3 | AJ1: FORMULA UTILIZADA ANEXO 5 | AL1: CODIGOS CUPS UTILIZADOS | AM1: DESCRIPCION SEGMENTO | AN1: # EMPRESAS POTENCIALES | AO1: # DE EMPRESAS INTERESADAS
A2: 137-A | B2: =TODAY() -> 46280 | C2: 43600000 | D2: Jefe Departamento de Construcciones y Administración de Sedes con el Visto Bueno del Director Ejecutivo | E2: DIFERENTES SEDES EN BOGOTÁ D.C. DE LA FISCALÍA GENERAL DE LA NACIÓN | F2: 31 de diciembre de 2019 | G2: 2 | H2: DOS | I2: EQUIBOMBAS SAS | J2: HIGH TECH FILTRACION INDUSTRIAL S.A.S. | N2: SERVICIO DE MANTENIMIENTO PREVENTIVO Y/O CORRECTIVO TECNICO INTEGRAL ESPECIALIZADO CON SUMINISTRO DE INSUMOS Y BOLSA PARA REPUESTOS PARA LA PLANTA DE TRATAMIENTO DE AGUA POTABLE (PTAP) Y PRUEBAS DE LABORATORIO DE AGUA POTABLE PARA LOS TANQUES DE ALMACENAMIENTO Y DISTRIBUCIÓN, INSTALADOS EN LAS DIFERENTES SEDES EN BOGOTÁ D.C. DE LA FISCALÍA GENERAL DE LA NACIÓN. | Q2: ACEPTACIÓN DE OFERTA CONTRATO No.0177 DE 2018 | R2: PRESTAR EL SERVICIO DE MANTENIMIENTO PREVENTIVO Y/O CORRECTIVO TÉCNICO INTEGRAL ESPECIALIZADO CON SUMINISTRO DE REPUESTOS E INSUMOS PARA LA PLANTA DE TRATAMIENTO DE AGUA POTABLE(PTAP), INSTALADA EN LA SEDE DE AQUIMINDIA DE LA FISCALIA GENERAL DE LA NACIÓN | S2: 99.59 | T2: 101.62 | U2: DOS (2) | V2: INGENIERÍA GLOBAL SOLUCIONES Y SERVICIOS S.A.S. | W2: 31,481,926 | X2: 60 Días | Y2: https://www.contratos.gov.co/consultas/detalleProceso.do?numConstancia=18-13-8547087 | Z2: Mínima Cuantía | AA2: =+Q3 -> 31 de octubre de 2018 | AB2: 43405 | AC2: DOS (2) | AE2: =+'ANEXO 2 historicovs cotizacio '!#REF! -> #REF! | AF2: =+C2-AE2 -> #REF! | AG2: servicios | AH2: servicios | AI2: VALORES DE REFERENCIA | AJ2: 1. PARA DETERMINAR EL VALOR DEFINITIVO SE EMPLEO LA INDEXACION DEL VALOR HISTORICO DE 2018 CON EXCEPCIÓN DEL ITEM 18, DONDE SE EMPLEAN LOS VALORES DE REFERENCIA. | AK2: IVA INCLUIDO Y TODOS LOS COSTOS DIRECTOS E INDIRECTOS | AN2: 860-11 INTERESADAS- 3 COTIZACIONES
Q3: 31 de octubre de 2018

Sheet Anexo 1
B1: ANEXO 1
B4: LISTADO DE POSIBLES PROVEEDORES
B5: No. | C5: Nombre Empresa | D5: Telefono Fijo y/o celular | E5: Correo electrónico
B7: 1 | C7: =+GENERAL!I2 -> EQUIBOMBAS SAS | D7: 3186070335 | E7: servicios@equibombas.com
B8: 2 | C8: =+GENERAL!J2 -> HIGH TECH FILTRACION INDUSTRIAL S.A.S. | D8: 3107743486 | E8: ventas@htfi.com.co

Sheet Anexo1 cotizaciones2026
B2: ANEXO 1
G4: ANALISIS COTIZACIONES
G5: PRESTAR EL SERVICIO DE MANTENIMIENTO PREVENTIVO Y CORRECTIVO TÉCNICO INTEGRAL ESPECIALIZADO CON SUMINISTRO DE INSUMOS Y BOLSA DE REPUESTOS PARA MOTORES, MOTOBOMBAS, REDES DE SUMINISTRO DE AGUA POTABLE, REDES CONTRA INCENDIOS, ELECTROBOMBAS SUMERGIBLES Y POZOS DE EYECCIÓN INSTALADOS EN LAS SEDES DEL NIVEL CENTRAL DE LA FISCALÍA GENERAL DE LA NACIÓN.
B7: ITEM | C7: NECESIDAD | D7: CANTIDAD EQUIPOS | E7: CANTIDAD MANTENIMIENTOS 2026 | G7: COTIZACIÓN 1 | L7: COTIZACIÓN 2 | Q7: COTIZACIÓN 3 | V7: COTIZACIÓN 4 | AA7: VALOR COTIZACIÓN HÁBIL MÁS BAJA | AB7: PROMEDIO | AC7: VALOR COTIZACIÓN HÁBIL MÁS ALTA | AD7: PORCENTAJE DIFERENCIAL (BAJA/PROMEDIO) | AE7: MEDIA ARITMETICA BAJA | AG7: PRECIO FINAL
G8: VALOR UNITARIO SIN IVA | H8: IVA | I8: VALOR UNITARIO IVA INCLUIDO | J8: VALOR TOTAL IVA INCLUIDO | L8: VALOR UNITARIO SIN IVA | M8: IVA | N8: VALOR UNITARIO IVA INCLUIDO | O8: VALOR TOTAL IVA INCLUIDO | Q8: VALOR UNITARIO SIN IVA | R8: IVA | S8: VALOR UNITARIO IVA INCLUIDO | T8: VALOR TOTAL INCLUIDO IVA | V8: VALOR UNITARIO SIN IVA | W8: IVA | X8: VALOR UNITARIO IVA INCLUIDO | Y8: VALOR TOTAL INCLUIDO IVA | AA8: VALOR UNITARIO SIN IVA | AB8: VALOR UNITARIO SIN IVA | AC8: VALOR UNITARIO SIN IVA | AE8: VALOR UNITARIO SIN IVA | AG8: VALOR UNITARIO SIN IVA | AH8: IVA | AI8: VALOR UNITARIO IVA INCLUIDO | AJ8: VALOR TOTAL IVA INCLUIDO (1 dic de 2026 al 31 julio de 2026)
B10: 1 | C10: SERVICIO MANTENIMIENTO PREVENTIVO Y CORRECTIVO MOTOBOMBAS CENTRIFUGAS - CONTRA INCENDIO MARCA FAIRBANKS MORSE POTENCIA: 60 HP MOTOR ELECTRICO TRIFASICO MODELO 6219 A RPM 3560. | D10: 2 | E10: 1 | H10: =+ROUND(G10*19%,2) -> 0 | I10: =ROUND(G10+H10,2) -> 0 | J10: =ROUND(+I10*E10*D10,2) -> 0 | M10: =+ROUND(L10*19%,2) -> 0 | N10: =ROUND(+L10+M10,2) -> 0 | O10: =ROUND(+N10*E10*D10,2) -> 0 | R10: =+ROUND(Q10*0.19,0) -> 0 | S10: =+Q10+R10 -> 0 | T10: =+S10*E10 -> 0 | V10: 0 | W10: =+ROUND(V10*0.19,0) -> 0 | X10: =+V10+W10 -> 0 | Y10: =+X10*E10 -> 0 | AA10: =ROUND(+MIN(G10,L10),2) -> 0 | AB10: =ROUND(AVERAGE(G10,L10),2) -> #DIV/0! | AC10: =ROUND(+MAX(G10,L10),2) -> 0 | AD10: =+AA10/AC10-1 -> #DIV/0! | AE10: =ROUND(+AVERAGE(AA10,AB10),2) -> #DIV/0! | AG10: =+AE10 -> #DIV/0! | AH10: =+ROUND(AG10*19%,2) -> #DIV/0! | AI10: =ROUND(+AH10+AG10,2) -> #DIV/0! | AJ10: =ROUND(+AI10*E10*D10,2) -> #DIV/0!
B11: 2 | C11: SERVICIO MANTENIMIENTO PREVENTIVO Y CORRECTIVO MOTOBOMBA CENTRIFUGA - CONTRA INCENDIO MARCA PPATERSSON POTENCIA 125 HP MOTOR ELECTRICO TRIFASICO MODELO MD404TSTDS1400BABAN RPM560 | D11: 1 | E11: 1 | H11: =+ROUND(G11*19%,2) -> 0 | I11: =ROUND(G11+H11,2) -> 0 | J11: =ROUND(+I11*E11*D11,2) -> 0 | M11: =+ROUND(L11*19%,2) -> 0 | N11: =ROUND(+L11+M11,2) -> 0 | O11: =ROUND(+N11*E11*D11,2) -> 0 | R11: =+ROUND(Q11*0.19,0) -> 0 | S11: =+Q11+R11 -> 0 | T11: =+S11*E11 -> 0 | W11: =+ROUND(V11*0.19,0) -> 0 | X11: =+V11+W11 -> 0 | Y11: =+X11*E11 -> 0 | AA11: =ROUND(+MIN(G11,L11),2) -> 0 | AB11: =ROUND(AVERAGE(G11,L11),2) -> #DIV/0! | AC11: =ROUND(+MAX(G11,L11),2) -> 0 | AD11: =+AA11/AC11-1 -> #DIV/0! | AE11: =ROUND(+AVERAGE(AA11,AB11),2) -> #DIV/0! | AG11: =+AE11 -> #DIV/0! | AH11: =+ROUND(AG11*19%,2) -> #DIV/0! | AI11: =ROUND(+AH11+AG11,2) -> #DIV/0! | AJ11: =ROUND(+AI11*E11*D11,2) -> #DIV/0!
B12: 3 | C12: SERVICIO MANTENIMIENTO PREVENTIVO Y CORRECTIVO MOTOBOMBA JOCKEY CONTRA INCENDIO MULTIETAPAS VERTICAL MARCA BALDOR POTENCIA: 5 HP MOTOR ELECTRICO TRIFASICO RPM 3450. | D12: 1 | E12: 1 | H12: =+ROUND(G12*19%,2) -> 0 | I12: =ROUND(G12+H12,2) -> 0 | J12: =ROUND(+I12*E12*D12,2) -> 0 | M12: =+ROUND(L12*19%,2) -> 0 | N12: =ROUND(+L12+M12,2) -> 0 | O12: =ROUND(+N12*E12*D12,2) -> 0 | R12: =+ROUND(Q12*0.19,0) -> 0 | S12: =+Q12+R12 -> 0 | T12: =+S12*E12 -> 0 | V12: 0 | W12: =+ROUND(V12*0.19,0) -> 0 | X12: =+V12+W12 -> 0 | Y12: =+X12*E12 -> 0 | AA12: =ROUND(+MIN(G12,L12),2) -> 0 | AB12: =ROUND(AVERAGE(G12,L12),2) -> #DIV/0! | AC12: =ROUND(+MAX(G12,L12),2) -> 0 | AD12: =+AA12/AC12-1 -> #DIV/0! | AE12: =ROUND(+AVERAGE(AA12,AB12),2) -> #DIV/0! | AG12: =+AE12 -> #DIV/0! | AH12: =+ROUND(AG12*19%,2) -> #DIV/0! | AI12: =ROUND(+AH12+AG12,2) -> #DIV/0! | AJ12: =ROUND(+AI12*E12*D12,2) -> #DIV/0!
B13: 4 | C13: SERVICIO MANTENIMIENTO PREVENTIVO Y CORRECTIVO MOTOBOMBA JOCKEY CONTRA INCENDIO MULTIETAPAS VERTICAL MARCA AURORA PUMP POTENCIA: 3 HP MOTOR ELECTRICO TRIFASICO RPM 3461. | D13: 1 | E13: 1 | H13: =+ROUND(G13*19%,2) -> 0 | I13: =ROUND(G13+H13,2) -> 0 | J13: =ROUND(+I13*E13*D13,2) -> 0 | M13: =+ROUND(L13*19%,2) -> 0 | N13: =ROUND(+L13+M13,2) -> 0 | O13: =ROUND(+N13*E13*D13,2) -> 0 | R13: =+ROUND(Q13*0.19,0) -> 0 | S13: =+Q13+R13 -> 0 | T13: =+S13*E13 -> 0 | V13: 0 | W13: =+ROUND(V13*0.19,0) -> 0 | X13: =+V13+W13 -> 0 | Y13: =+X13*E13 -> 0 | AA13: =ROUND(+MIN(G13,L13),2) -> 0 | AB13: =ROUND(AVERAGE(G13,L13),2) -> #DIV/0! | AC13: =ROUND(+MAX(G13,L13),2) -> 0 | AD13: =+AA13/AC13-1 -> #DIV/0! | AE13: =ROUND(+AVERAGE(AA13,AB13),2) -> #DIV/0! | AG13: =+AE13 -> #DIV/0! | AH13: =+ROUND(AG13*19%,2) -> #DIV/0! | AI13: =ROUND(+AH13+AG13,2) -> #DIV/0! | AJ13: =ROUND(+AI13*E13*D13,2) -> #DIV/0!
B14: 5 | C14: SERVICIO MANTENIMIENTO PREVENTIVO Y CORRECTIVO MOTOBOMBAS CENTRIFUGAS DE AGUA PPOTABLE MARCA IHM POTENCIA: 9 HP MOTOR ELECTRICO TRIFASICO RPM 3520. | D14: 2 | E14: 1 | H14: =+ROUND(G14*19%,2) -> 0 | I14: =ROUND(G14+H14,2) -> 0 | J14: =ROUND(+I14*E14*D14,2) -> 0 | M14: =+ROUND(L14*19%,2) -> 0 | N14: =ROUND(+L14+M14,2) -> 0 | O14: =ROUND(+N14*E14*D14,2) -> 0 | R14: =+ROUND(Q14*0.19,0) -> 0 | S14: =+Q14+R14 -> 0 | T14: =+S14*E14 -> 0 | W14: =+ROUND(V14*0.19,0) -> 0 | X14: =+V14+W14 -> 0 | Y14: =+X14*E14 -> 0 | AA14: =ROUND(+MIN(G14,L14),2) -> 0 | AB14: =ROUND(AVERAGE(G14,L14),2) -> #DIV/0! | AC14: =ROUND(+MAX(G14,L14),2) -> 0 | AD14: =+AA14/AC14-1 -> #DIV/0! | AE14: =ROUND(+AVERAGE(AA14,AB14),2) -> #DIV/0! | AG14: =+AE14 -> #DIV/0! | AH14: =+ROUND(AG14*19%,2) -> #DIV/0! | AI14: =ROUND(+AH14+AG14,2) -> #DIV/0! | AJ14: =ROUND(+AI14*E14*D14,2) -> #DIV/0!
B15: 6 | C15: SERVICIO MANTENIMIENTO PREVENTIVO Y CORRECTIVO MOTOBOMBAS CENTRIFUGAS DE AGUA POTABLE MARCA BARNES POTENCIA: 10 HP MOTOR ELECTRICO TRIFASICO RPM 3480 | D15: 1 | E15: 1 | H15: =+ROUND(G15*19%,2) -> 0 | I15: =ROUND(G15+H15,2) -> 0 | J15: =ROUND(+I15*E15*D15,2) -> 0 | M15: =+ROUND(L15*19%,2) -> 0 | N15: =ROUND(+L15+M15,2) -> 0 | O15: =ROUND(+N15*E15*D15,2) -> 0 | R15: =+ROUND(Q15*0.19,0) -> 0 | S15: =+Q15+R15 -> 0 | T15: =+S15*E15 -> 0 | V15: 0 | W15: =+ROUND(V15*0.19,0) -> 0 | X15: =+V15+W15 -> 0 | Y15: =+X15*E15 -> 0 | AA15: =ROUND(+MIN(G15,L15),2) -> 0 | AB15: =ROUND(AVERAGE(G15,L15),2) -> #DIV/0! | AC15: =ROUND(+MAX(G15,L15),2) -> 0 | AD15: =+AA15/AC15-1 -> #DIV/0! | AE15: =ROUND(+AVERAGE(AA15,AB15),2) -> #DIV/0! | AG15: =+AE15 -> #DIV/0! | AH15: =+ROUND(AG15*19%,2) -> #DIV/0! | AI15: =ROUND(+AH15+AG15,2) -> #DIV/0! | AJ15: =ROUND(+AI15*E15*D15,2) -> #DIV/0!
B16: 7 | C16: SERVICIO MANTENIMIENTO PREVENTIVO DE TANQUES PRESURIZADOS HIDRONEUMATICOS MARCA IHM (500 LT) PRESION DE TRABAJO :125 PSI (8.8 BAR). | D16: 2 | E16: 1 | H16: =+ROUND(G16*19%,2) -> 0 | I16: =ROUND(G16+H16,2) -> 0 | J16: =ROUND(+I16*E16*D16,2) -> 0 | M16: =+ROUND(L16*19%,2) -> 0 | N16: =ROUND(+L16+M16,2) -> 0 | O16: =ROUND(+N16*E16*D16,2) -> 0 | R16: =+ROUND(Q16*0.19,0) -> 0 | S16: =+Q16+R16 -> 0 | T16: =+S16*E16 -> 0 | W16: =+ROUND(V16*0.19,0) -> 0 | X16: =+V16+W16 -> 0 | Y16: =+X16*E16 -> 0 | AA16: =ROUND(+MIN(G16,L16),2) -> 0 | AB16: =ROUND(AVERAGE(G16,L16),2) -> #DIV/0! | AC16: =ROUND(+MAX(G16,L16),2) -> 0 | AD16: =+AA16/AC16-1 -> #DIV/0! | AE16: =ROUND(+AVERAGE(AA16,AB16),2) -> #DIV/0! | AG16: =+AE16 -> #DIV/0! | AH16: =+ROUND(AG16*19%,2) -> #DIV/0! | AI16: =ROUND(+AH16+AG16,2) -> #DIV/0! | AJ16: =ROUND(+AI16*E16*D16,2) -> #DIV/0!
B17: 8 | C17: SERVICIO MANTENIMIENTO PREVENTIVO Y CORRECTIVO MOTOBOMBAS CENTRIFUGAS DE AGUA POTABLE MARCA IHM POTENCIA: 12,5 HP MOTOR ELECTRICO TRIFASICO RPM 3580. | D17: 3 | E17: 1 | H17: =+ROUND(G17*19%,2) -> 0 | I17: =ROUND(G17+H17,2) -> 0 | J17: =ROUND(+I17*E17*D17,2) -> 0 | M17: =+ROUND(L17*19%,2) -> 0 | N17: =ROUND(+L17+M17,2) -> 0 | O17: =ROUND(+N17*E17*D17,2) -> 0 | R17: =+ROUND(Q17*0.19,0) -> 0 | S17: =+Q17+R17 -> 0 | T17: =+S17*E17 -> 0 | V17: 0 | W17: =+ROUND(V17*0.19,0) -> 0 | X17: =+V17+W17 -> 0 | Y17: =+X17*E17 -> 0 | AA17: =ROUND(+MIN(G17,L17),2) -> 0 | AB17: =ROUND(AVERAGE(G17,L17),2) -> #DIV/0! | AC17: =ROUND(+MAX(G17,L17),2) -> 0 | AD17: =+AA17/AC17-1 -> #DIV/0! | AE17: =ROUND(+AVERAGE(AA17,AB17),2) -> #DIV/0! | AG17: =+AE17 -> #DIV/0! | AH17: =+ROUND(AG17*19%,2) -> #DIV/0! | AI17: =ROUND(+AH17+AG17,2) -> #DIV/0! | AJ17: =ROUND(+AI17*E17*D17,2) -> #DIV/0!
B18: 9 | C18: SERVICIO MANTENIMIENTO PREVENTIVO Y CORRECTIVO DE TANQUES PRESURIZADOS HIDROACUMULADOR CON MEMBRANA MARCA IHM LA100H VOLUMEN 100 LT PRESION DE TRABAJO :150 PSI | D18: 1 | E18: 1 | H18: =+ROUND(G18*19%,2) -> 0 | I18: =ROUND(G18+H18,2) -> 0 | J18: =ROUND(+I18*E18*D18,2) -> 0 | M18: =+ROUND(L18*19%,2) -> 0 | N18: =ROUND(+L18+M18,2) -> 0 | O18: =ROUND(+N18*E18*D18,2) -> 0 | R18: =+ROUND(Q18*0.19,0) -> 0 | S18: =+Q18+R18 -> 0 | T18: =+S18*E18 -> 0 | V18: 0 | W18: =+ROUND(V18*0.19,0) -> 0 | X18: =+V18+W18 -> 0 | Y18: =+X18*E18 -> 0 | AA18: =ROUND(+MIN(G18,L18),2) -> 0 | AB18: =ROUND(AVERAGE(G18,L18),2) -> #DIV/0! | AC18: =ROUND(+MAX(G18,L18),2) -> 0 | AD18: =+AA18/AC18-1 -> #DIV/0! | AE18: =ROUND(+AVERAGE(AA18,AB18),2) -> #DIV/0! | AG18: =+AE18 -> #DIV/0! | AH18: =+ROUND(AG18*19%,2) -> #DIV/0! | AI18: =ROUND(+AH18+AG18,2) -> #DIV/0! | AJ18: =ROUND(+AI18*E18*D18,2) -> #DIV/0!
B19: 10 | C19: SERVICIO MANTENIMIENTO PREVENTIVO Y CORRECTIVO MOTOBOMBAS CENTRIFUGAS DE AGUA POTABLE MARCA BARNES POTENCIA: 10 HP MOTOR ELECTRICO TRIFASICO RPM 3500. | D19: 2 | E19: 1 | H19: =+ROUND(G19*19%,2) -> 0 | I19: =ROUND(G19+H19,2) -> 0 | J19: =ROUND(+I19*E19*D19,2) -> 0 | M19: =+ROUND(L19*19%,2) -> 0 | N19: =ROUND(+L19+M19,2) -> 0 | O19: =ROUND(+N19*E19*D19,2) -> 0 | R19: =+ROUND(Q19*0.19,0) -> 0 | S19: =+Q19+R19 -> 0 | T19: =+S19*E19 -> 0 | W19: =+ROUND(V19*0.19,0) -> 0 | X19: =+V19+W19 -> 0 | Y19: =+X19*E19 -> 0 | AA19: =ROUND(+MIN(G19,L19),2) -> 0 | AB19: =ROUND(AVERAGE(G19,L19),2) -> #DIV/0! | AC19: =ROUND(+MAX(G19,L19),2) -> 0 | AD19: =+AA19/AC19-1 -> #DIV/0! | AE19: =ROUND(+AVERAGE(AA19,AB19),2) -> #DIV/0! | AG19: =+AE19 -> #DIV/0! | AH19: =+ROUND(AG19*19%,2) -> #DIV/0! | AI19: =ROUND(+AH19+AG19,2) -> #DIV/0! | AJ19: =ROUND(+AI19*E19*D19,2) -> #DIV/0!
B20: 11 | C20: SERVICIO MANTENIMIENTO PREVENTIVO Y CORRECTIVO MOTOBOMBAS CENTRIFUGAS DE AGUA POTABLE MARCA BARNES POTENCIA: 1.0 HP MOTOR ELECTRICO BIFASICO RPM 3450. | D20: 2 | E20: 1 | H20: =+ROUND(G20*19%,2) -> 0 | I20: =ROUND(G20+H20,2) -> 0 | J20: =ROUND(+I20*E20*D20,2) -> 0 | M20: =+ROUND(L20*19%,2) -> 0 | N20: =ROUND(+L20+M20,2) -> 0 | O20: =ROUND(+N20*E20*D20,2) -> 0 | R20: =+ROUND(Q20*0.19,0) -> 0 | S20: =+Q20+R20 -> 0 | T20: =+S20*E20 -> 0 | V20: 0 | W20: =+ROUND(V20*0.19,0) -> 0 | X20: =+V20+W20 -> 0 | Y20: =+X20*E20 -> 0 | AA20: =ROUND(+MIN(G20,L20),2) -> 0 | AB20: =ROUND(AVERAGE(G20,L20),2) -> #DIV/0! | AC20: =ROUND(+MAX(G20,L20),2) -> 0 | AD20: =+AA20/AC20-1 -> #DIV/0! | AE20: =ROUND(+AVERAGE(AA20,AB20),2) -> #DIV/0! | AG20: =+AE20 -> #DIV/0! | AH20: =+ROUND(AG20*19%,2) -> #DIV/0! | AI20: =ROUND(+AH20+AG20,2) -> #DIV/0! | AJ20: =ROUND(+AI20*E20*D20,2) -> #DIV/0!
B21: 12 | C21: SERVICIO DE LAVADO Y LIMPIEZA DE POZOS DE EYECCION | D21: 20 | E21: 1 | H21: =+ROUND(G21*19%,2) -> 0 | I21: =ROUND(G21+H21,2) -> 0 | J21: =ROUND(+I21*E21*D21,2) -> 0 | M21: =+ROUND(L21*19%,2) -> 0 | N21: =ROUND(+L21+M21,2) -> 0 | O21: =ROUND(+N21*E21*D21,2) -> 0 | R21: =+ROUND(Q21*0.19,0) -> 0 | S21: =+Q21+R21 -> 0 | T21: =+S21*E21 -> 0 | W21: =+ROUND(V21*0.19,0) -> 0 | X21: =+V21+W21 -> 0 | Y21: =+X21*E21 -> 0 | AA21: =ROUND(+MIN(G21,L21),2) -> 0 | AB21: =ROUND(AVERAGE(G21,L21),2) -> #DIV/0! | AC21: =ROUND(+MAX(G21,L21),2) -> 0 | AD21: =+AA21/AC21-1 -> #DIV/0! | AE21: =ROUND(+AVERAGE(AA21,AB21),2) -> #DIV/0! | AG21: =+AE21 -> #DIV/0! | AH21: =+ROUND(AG21*19%,2) -> #DIV/0! | AI21: =ROUND(+AH21+AG21,2) -> #DIV/0! | AJ21: =ROUND(+AI21*E21*D21,2) -> #DIV/0!
B22: 13 | C22: SERVICIO MANTENIMIENTO PREVENTIVO Y CORRECTIVO ELECTROBOMBAS SUMERGIBLES AGUAS LLUVIAS Y AGUAS NEGRAS MARCA IHM POTENCIA: 2 HP | D22: 46 | E22: 1 | H22: =+ROUND(G22*19%,2) -> 0 | I22: =ROUND(G22+H22,2) -> 0 | J22: =ROUND(+I22*E22*D22,2) -> 0 | M22: =+ROUND(L22*19%,2) -> 0 | N22: =ROUND(+L22+M22,2) -> 0 | O22: =ROUND(+N22*E22*D22,2) -> 0 | R22: =+ROUND(Q22*0.19,0) -> 0 | S22: =+Q22+R22 -> 0 | T22: =+S22*E22 -> 0 | V22: 0 | W22: =+ROUND(V22*0.19,0) -> 0 | X22: =+V22+W22 -> 0 | Y22: =+X22*E22 -> 0 | AA22: =ROUND(+MIN(G22,L22),2) -> 0 | AB22: =ROUND(AVERAGE(G22,L22),2) -> #DIV/0! | AC22: =ROUND(+MAX(G22,L22),2) -> 0 | AD22: =+AA22/AC22-1 -> #DIV/0! | AE22: =ROUND(+AVERAGE(AA22,AB22),2) -> #DIV/0! | AG22: =+AE22 -> #DIV/0! | AH22: =+ROUND(AG22*19%,2) -> #DIV/0! | AI22: =ROUND(+AH22+AG22,2) -> #DIV/0! | AJ22: =ROUND(+AI22*E22*D22,2) -> #DIV/0!
B23: 14 | C23: SERVICIO MANTENIMIENTO PREVENTIVO Y CORRECTIVO MOTOBOMBA CENTRIFUGA MARCA BARNES POTENCIA: 6.6 HP MOTOR ELECTRICO 220 V | D23: 2 | E23: 1 | H23: =+ROUND(G23*19%,2) -> 0 | I23: =ROUND(G23+H23,2) -> 0 | J23: =ROUND(+I23*E23*D23,2) -> 0 | M23: =+ROUND(L23*19%,2) -> 0 | N23: =ROUND(+L23+M23,2) -> 0 | O23: =ROUND(+N23*E23*D23,2) -> 0 | R23: =+ROUND(Q23*0.19,0) -> 0 | S23: =+Q23+R23 -> 0 | T23: =+S23*E23 -> 0 | V23: 0 | W23: =+ROUND(V23*0.19,0) -> 0 | X23: =+V23+W23 -> 0 | Y23: =+X23*E23 -> 0 | AA23: =ROUND(+MIN(G23,L23),2) -> 0 | AB23: =ROUND(AVERAGE(G23,L23),2) -> #DIV/0! | AC23: =ROUND(+MAX(G23,L23),2) -> 0 | AD23: =+AA23/AC23-1 -> #DIV/0! | AE23: =ROUND(+AVERAGE(AA23,AB23),2) -> #DIV/0! | AG23: =+AE23 -> #DIV/0! | AH23: =+ROUND(AG23*19%,2) -> #DIV/0! | AI23: =ROUND(+AH23+AG23,2) -> #DIV/0! | AJ23: =ROUND(+AI23*E23*D23,2) -> #DIV/0!
B24: 15 | C24: SERVICIO MANTENIMIENTO PREVENTIVO Y CORRECTIVO DE TANQUE PRESURIZADO HIDROACUMULADOR CON MMEMBRANA MARCAIHM CAPACIDAD 300 L | D24: 1 | E24: 1 | H24: =+ROUND(G24*19%,2) -> 0 | I24: =ROUND(G24+H24,2) -> 0 | J24: =ROUND(+I24*E24*D24,2) -> 0 | M24: =+ROUND(L24*19%,2) -> 0 | N24: =ROUND(+L24+M24,2) -> 0 | O24: =ROUND(+N24*E24*D24,2) -> 0 | R24: =+ROUND(Q24*0.19,0) -> 0 | S24: =+Q24+R24 -> 0 | T24: =+S24*E24 -> 0 | W24: =+ROUND(V24*0.19,0) -> 0 | X24: =+V24+W24 -> 0 | Y24: =+X24*E24 -> 0 | AA24: =ROUND(+MIN(G24,L24),2) -> 0 | AB24: =ROUND(AVERAGE(G24,L24),2) -> #DIV/0! | AC24: =ROUND(+MAX(G24,L24),2) -> 0 | AD24: =+AA24/AC24-1 -> #DIV/0! | AE24: =ROUND(+AVERAGE(AA24,AB24),2) -> #DIV/0! | AG24: =+AE24 -> #DIV/0! | AH24: =+ROUND(AG24*19%,2) -> #DIV/0! | AI24: =ROUND(+AH24+AG24,2) -> #DIV/0! | AJ24: =ROUND(+AI24*E24*D24,2) -> #DIV/0!
B25: 16 | C25: SERVICIO MANTENIMIENTO PREVENTIVO Y CORRECTIVO DE MOTOBOMBA TIPO PEDROLLO POTENCIA 1/2 HP 120 V | D25: 1 | E25: 1 | H25: =+ROUND(G25*19%,2) -> 0 | I25: =ROUND(G25+H25,2) -> 0 | J25: =ROUND(+I25*E25*D25,2) -> 0 | M25: =+ROUND(L25*19%,2) -> 0 | N25: =ROUND(+L25+M25,2) -> 0 | O25: =ROUND(+N25*E25*D25,2) -> 0 | R25: =+ROUND(Q25*0.19,0) -> 0 | S25: =+Q25+R25 -> 0 | T25: =+S25*E25 -> 0 | V25: 0 | W25: =+ROUND(V25*0.19,0) -> 0 | X25: =+V25+W25 -> 0 | Y25: =+X25*E25 -> 0 | AA25: =ROUND(+MIN(G25,L25),2) -> 0 | AB25: =ROUND(AVERAGE(G25,L25),2) -> #DIV/0! | AC25: =ROUND(+MAX(G25,L25),2) -> 0 | AD25: =+AA25/AC25-1 -> #DIV/0! | AE25: =ROUND(+AVERAGE(AA25,AB25),2) -> #DIV/0! | AG25: =+AE25 -> #DIV/0! | AH25: =+ROUND(AG25*19%,2) -> #DIV/0! | AI25: =ROUND(+AH25+AG25,2) -> #DIV/0! | AJ25: =ROUND(+AI25*E25*D25,2) -> #DIV/0!
B26: 17 | C26: SERVICIO MANTENIMIENTO PREVENTIVO Y CORRECTIVO DE MOTOBOMBA TIPO HIDRO FLOW POTENCIA 1 HP | D26: 1 | E26: 1 | H26: =+ROUND(G26*19%,2) -> 0 | I26: =ROUND(G26+H26,2) -> 0 | J26: =ROUND(+I26*E26*D26,2) -> 0 | M26: =+ROUND(L26*19%,2) -> 0 | N26: =ROUND(+L26+M26,2) -> 0 | O26: =ROUND(+N26*E26*D26,2) -> 0 | R26: =+ROUND(Q26*0.19,0) -> 0 | S26: =+Q26+R26 -> 0 | T26: =+S26*E26 -> 0 | W26: =+ROUND(V26*0.19,0) -> 0 | X26: =+V26+W26 -> 0 | Y26: =+X26*E26 -> 0 | AA26: =ROUND(+MIN(G26,L26),2) -> 0 | AB26: =ROUND(AVERAGE(G26,L26),2) -> #DIV/0! | AC26: =ROUND(+MAX(G26,L26),2) -> 0 | AD26: =+AA26/AC26-1 -> #DIV/0! | AE26: =ROUND(+AVERAGE(AA26,AB26),2) -> #DIV/0! | AG26: =+AE26 -> #DIV/0! | AH26: =+ROUND(AG26*19%,2) -> #DIV/0! | AI26: =ROUND(+AH26+AG26,2) -> #DIV/0! | AJ26: =ROUND(+AI26*E26*D26,2) -> #DIV/0!
B27: TOTALES | J27: =ROUND(SUM(J10:J26),2) -> 0 | O27: =ROUND(SUM(O10:O26),2) -> 0 | T27: =SUM(#REF!) -> #REF! | Y27: =SUM(#REF!) -> #REF! | AJ27: =ROUND(SUM(AJ10:AJ26),2) -> #DIV/0!
C29: LISTA REPUESTOS RECURRENTES | G29: VALOR UNITARIO SIN IVA | H29: IVA | I29: VALOR UNITARIO IVA INCLUIDO | L29: VALOR UNITARIO SIN IVA | M29: IVA | N29: VALOR UNITARIO IVA INCLUIDO | AA29: VALOR COTIZACIÓN HÁBIL MÁS BAJA | AB29: PROMEDIO | AC29: VALOR COTIZACIÓN HÁBIL MÁS ALTA | AD29: PORCENTAJE DIFERENCIAL (BAJA/PROMEDIO) | AE29: MEDIA ARITMETICA BAJA | AG29: VALOR UNITARIO SIN IVA | AH29: IVA | AI29: VALOR UNITARIO IVA INCLUIDO | AJ29: VALOR TOTAL IVA INCLUIDO (1 dic de 2026 al 31 julio de 2026)
B30: 1 | C30: ABRAZADERA EN U DE 6" | D30: UN | E30: 1 | H30: =+ROUND(G30*19%,2) -> 0 | I30: =ROUND(G30+H30,2) -> 0 | M30: =+ROUND(L30*19%,2) -> 0 | N30: =ROUND(L30+M30,2) -> 0 | AA30: =ROUND(+MIN(G30,L30),2) -> 0 | AB30: =ROUND(AVERAGE(G30,L30),2) -> #DIV/0! | AC30: =ROUND(+MAX(G30,L30),2) -> 0 | AD30: =+AA30/AC30-1 -> #DIV/0! | AE30: =ROUND(+AVERAGE(AA30,AB30),2) -> #DIV/0! | AG30: =+AE30 -> #DIV/0! | AH30: =+ROUND(AG30*19%,2) -> #DIV/0! | AI30: =ROUND(+AH30+AG30,2) -> #DIV/0! | AJ30: =ROUND(+AI30*E30*D30,2) -> #DIV/0!
B31: =B30+1 -> 2 | C31: ADAPTADOR BRIDA 4" | D31: UN | E31: 1 | H31: =+ROUND(G31*19%,2) -> 0 | I31: =ROUND(G31+H31,2) -> 0 | M31: =+ROUND(L31*19%,2) -> 0 | N31: =ROUND(L31+M31,2) -> 0 | AA31: =ROUND(+MIN(G31,L31),2) -> 0 | AB31: =ROUND(AVERAGE(G31,L31),2) -> #DIV/0! | AC31: =ROUND(+MAX(G31,L31),2) -> 0 | AD31: =+AA31/AC31-1 -> #DIV/0! | AE31: =ROUND(+AVERAGE(AA31,AB31),2) -> #DIV/0! | AG31: =+AE31 -> #DIV/0! | AH31: =+ROUND(AG31*19%,2) -> #DIV/0! | AI31: =ROUND(+AH31+AG31,2) -> #DIV/0! | AJ31: =ROUND(+AI31*E31*D31,2) -> #DIV/0!
B32: =B31+1 -> 3 | C32: ADAPTADOR MACHO DE 1 1/2" | D32: UN | E32: 1 | H32: =+ROUND(G32*19%,2) -> 0 | I32: =ROUND(G32+H32,2) -> 0 | M32: =+ROUND(L32*19%,2) -> 0 | N32: =ROUND(L32+M32,2) -> 0 | AA32: =ROUND(+MIN(G32,L32),2) -> 0 | AB32: =ROUND(AVERAGE(G32,L32),2) -> #DIV/0! | AC32: =ROUND(+MAX(G32,L32),2) -> 0 | AD32: =+AA32/AC32-1 -> #DIV/0! | AE32: =ROUND(+AVERAGE(AA32,AB32),2) -> #DIV/0! | AG32: =+AE32 -> #DIV/0! | AH32: =+ROUND(AG32*19%,2) -> #DIV/0! | AI32: =ROUND(+AH32+AG32,2) -> #DIV/0! | AJ32: =ROUND(+AI32*E32*D32,2) -> #DIV/0!
B33: =B32+1 -> 4 | C33: ADAPTADOR MACHO DE 2" | D33: UN | E33: 1 | H33: =+ROUND(G33*19%,2) -> 0 | I33: =ROUND(G33+H33,2) -> 0 | M33: =+ROUND(L33*19%,2) -> 0 | N33: =ROUND(L33+M33,2) -> 0 | AA33: =ROUND(+MIN(G33,L33),2) -> 0 | AB33: =ROUND(AVERAGE(G33,L33),2) -> #DIV/0! | AC33: =ROUND(+MAX(G33,L33),2) -> 0 | AD33: =+AA33/AC33-1 -> #DIV/0! | AE33: =ROUND(+AVERAGE(AA33,AB33),2) -> #DIV/0! | AG33: =+AE33 -> #DIV/0! | AH33: =+ROUND(AG33*19%,2) -> #DIV/0! | AI33: =ROUND(+AH33+AG33,2) -> #DIV/0! | AJ33: =ROUND(+AI33*E33*D33,2) -> #DIV/0!
B34: =B33+1 -> 5 | C34: BORNERA PARA MOTOR DE 10 HP | D34: UN | E34: 1 | H34: =+ROUND(G34*19%,2) -> 0 | I34: =ROUND(G34+H34,2) -> 0 | M34: =+ROUND(L34*19%,2) -> 0 | N34: =ROUND(L34+M34,2) -> 0 | AA34: =ROUND(+MIN(G34,L34),2) -> 0 | AB34: =ROUND(AVERAGE(G34,L34),2) -> #DIV/0! | AC34: =ROUND(+MAX(G34,L34),2) -> 0 | AD34: =+AA34/AC34-1 -> #DIV/0! | AE34: =ROUND(+AVERAGE(AA34,AB34),2) -> #DIV/0! | AG34: =+AE34 -> #DIV/0! | AH34: =+ROUND(AG34*19%,2) -> #DIV/0! | AI34: =ROUND(+AH34+AG34,2) -> #DIV/0! | AJ34: =ROUND(+AI34*E34*D34,2) -> #DIV/0!
B35: =B34+1 -> 6 | C35: BUSHING DE 1" X 1/2" | D35: UN | E35: 1 | H35: =+ROUND(G35*19%,2) -> 0 | I35: =ROUND(G35+H35,2) -> 0 | M35: =+ROUND(L35*19%,2) -> 0 | N35: =ROUND(L35+M35,2) -> 0 | AA35: =ROUND(+MIN(G35,L35),2) -> 0 | AB35: =ROUND(AVERAGE(G35,L35),2) -> #DIV/0! | AC35: =ROUND(+MAX(G35,L35),2) -> 0 | AD35: =+AA35/AC35-1 -> #DIV/0! | AE35: =ROUND(+AVERAGE(AA35,AB35),2) -> #DIV/0! | AG35: =+AE35 -> #DIV/0! | AH35: =+ROUND(AG35*19%,2) -> #DIV/0! | AI35: =ROUND(+AH35+AG35,2) -> #DIV/0! | AJ35: =ROUND(+AI35*E35*D35,2) -> #DIV/0!
B36: =B35+1 -> 7 | C36: CABLE ENCAUCHETADO 4x12 | D36: ML | E36: 1 | H36: =+ROUND(G36*19%,2) -> 0 | I36: =ROUND(G36+H36,2) -> 0 | M36: =+ROUND(L36*19%,2) -> 0 | N36: =ROUND(L36+M36,2) -> 0 | AA36: =ROUND(+MIN(G36,L36),2) -> 0 | AB36: =ROUND(AVERAGE(G36,L36),2) -> #DIV/0! | AC36: =ROUND(+MAX(G36,L36),2) -> 0 | AD36: =+AA36/AC36-1 -> #DIV/0! | AE36: =ROUND(+AVERAGE(AA36,AB36),2) -> #DIV/0! | AG36: =+AE36 -> #DIV/0! | AH36: =+ROUND(AG36*19%,2) -> #DIV/0! | AI36: =ROUND(+AH36+AG36,2) -> #DIV/0! | AJ36: =ROUND(+AI36*E36*D36,2) -> #DIV/0!
B37: =B36+1 -> 8 | C37: CHEQUE CORTINA HELBERT DE 1 1/2" | D37: UN | E37: 1 | H37: =+ROUND(G37*19%,2) -> 0 | I37: =ROUND(G37+H37,2) -> 0 | M37: =+ROUND(L37*19%,2) -> 0 | N37: =ROUND(L37+M37,2) -> 0 | AA37: =ROUND(+MIN(G37,L37),2) -> 0 | AB37: =ROUND(AVERAGE(G37,L37),2) -> #DIV/0! | AC37: =ROUND(+MAX(G37,L37),2) -> 0 | AD37: =+AA37/AC37-1 -> #DIV/0! | AE37: =ROUND(+AVERAGE(AA37,AB37),2) -> #DIV/0! | AG37: =+AE37 -> #DIV/0! | AH37: =+ROUND(AG37*19%,2) -> #DIV/0! | AI37: =ROUND(+AH37+AG37,2) -> #DIV/0! | AJ37: =ROUND(+AI37*E37*D37,2) -> #DIV/0!
B38: =B37+1 -> 9 | C38: CHEQUE HIDRO HELBERT DE 2" | D38: UN | E38: 1 | H38: =+ROUND(G38*19%,2) -> 0 | I38: =ROUND(G38+H38,2) -> 0 | M38: =+ROUND(L38*19%,2) -> 0 | N38: =ROUND(L38+M38,2) -> 0 | AA38: =ROUND(+MIN(G38,L38),2) -> 0 | AB38: =ROUND(AVERAGE(G38,L38),2) -> #DIV/0! | AC38: =ROUND(+MAX(G38,L38),2) -> 0 | AD38: =+AA38/AC38-1 -> #DIV/0! | AE38: =ROUND(+AVERAGE(AA38,AB38),2) -> #DIV/0! | AG38: =+AE38 -> #DIV/0! | AH38: =+ROUND(AG38*19%,2) -> #DIV/0! | AI38: =ROUND(+AH38+AG38,2) -> #DIV/0! | AJ38: =ROUND(+AI38*E38*D38,2) -> #DIV/0!
B39: =B38+1 -> 10 | C39: CODO PVC 1" | D39: UN | E39: 1 | H39: =+ROUND(G39*19%,2) -> 0 | I39: =ROUND(G39+H39,2) -> 0 | M39: =+ROUND(L39*19%,2) -> 0 | N39: =ROUND(L39+M39,2) -> 0 | AA39: =ROUND(+MIN(G39,L39),2) -> 0 | AB39: =ROUND(AVERAGE(G39,L39),2) -> #DIV/0! | AC39: =ROUND(+MAX(G39,L39),2) -> 0 | AD39: =+AA39/AC39-1 -> #DIV/0! | AE39: =ROUND(+AVERAGE(AA39,AB39),2) -> #DIV/0! | AG39: =+AE39 -> #DIV/0! | AH39: =+ROUND(AG39*19%,2) -> #DIV/0! | AI39: =ROUND(+AH39+AG39,2) -> #DIV/0! | AJ39: =ROUND(+AI39*E39*D39,2) -> #DIV/0!
B40: =B39+1 -> 11 | C40: CODO PVC DE 1 1/2" | D40: UN | E40: 1 | H40: =+ROUND(G40*19%,2) -> 0 | I40: =ROUND(G40+H40,2) -> 0 | M40: =+ROUND(L40*19%,2) -> 0 | N40: =ROUND(L40+M40,2) -> 0 | AA40: =ROUND(+MIN(G40,L40),2) -> 0 | AB40: =ROUND(AVERAGE(G40,L40),2) -> #DIV/0! | AC40: =ROUND(+MAX(G40,L40),2) -> 0 | AD40: =+AA40/AC40-1 -> #DIV/0! | AE40: =ROUND(+AVERAGE(AA40,AB40),2) -> #DIV/0! | AG40: =+AE40 -> #DIV/0! | AH40: =+ROUND(AG40*19%,2) -> #DIV/0! | AI40: =ROUND(+AH40+AG40,2) -> #DIV/0! | AJ40: =ROUND(+AI40*E40*D40,2) -> #DIV/0!
B41: =B40+1 -> 12 | C41: COPA RANURADA DE 4" X 2" | D41: UN | E41: 1 | H41: =+ROUND(G41*19%,2) -> 0 | I41: =ROUND(G41+H41,2) -> 0 | M41: =+ROUND(L41*19%,2) -> 0 | N41: =ROUND(L41+M41,2) -> 0 | AA41: =ROUND(+MIN(G41,L41),2) -> 0 | AB41: =ROUND(AVERAGE(G41,L41),2) -> #DIV/0! | AC41: =ROUND(+MAX(G41,L41),2) -> 0 | AD41: =+AA41/AC41-1 -> #DIV/0! | AE41: =ROUND(+AVERAGE(AA41,AB41),2) -> #DIV/0! | AG41: =+AE41 -> #DIV/0! | AH41: =+ROUND(AG41*19%,2) -> #DIV/0! | AI41: =ROUND(+AH41+AG41,2) -> #DIV/0! | AJ41: =ROUND(+AI41*E41*D41,2) -> #DIV/0!
B42: =B41+1 -> 13 | C42: COPA RANURADA DE 4" x 3" | D42: UN | E42: 1 | H42: =+ROUND(G42*19%,2) -> 0 | I42: =ROUND(G42+H42,2) -> 0 | M42: =+ROUND(L42*19%,2) -> 0 | N42: =ROUND(L42+M42,2) -> 0 | AA42: =ROUND(+MIN(G42,L42),2) -> 0 | AB42: =ROUND(AVERAGE(G42,L42),2) -> #DIV/0! | AC42: =ROUND(+MAX(G42,L42),2) -> 0 | AD42: =+AA42/AC42-1 -> #DIV/0! | AE42: =ROUND(+AVERAGE(AA42,AB42),2) -> #DIV/0! | AG42: =+AE42 -> #DIV/0! | AH42: =+ROUND(AG42*19%,2) -> #DIV/0! | AI42: =ROUND(+AH42+AG42,2) -> #DIV/0! | AJ42: =ROUND(+AI42*E42*D42,2) -> #DIV/0!
... B54: =B53+1 -> 25 | C54: VALVULA EN BRONCE DE 3" | D54: UN | E54: 1 | H54: =+ROUND(G54*19%,2) -> 0 | I54: =ROUND(G54+H54,2) -> 0 | M54: =+ROUND(L54*19%,2) -> 0 | N54: =ROUND(L54+M54,2) -> 0 | AA54: =ROUND(+MIN(G54,L54),2) -> 0 | AB54: =ROUND(AVERAGE(G54,L54),2) -> #DIV/0! | AC54: =ROUND(+MAX(G54,L54),2) -> 0 | AD54: =+AA54/AC54-1 -> #DIV/0! | AE54: =ROUND(+AVERAGE(AA54,AB54),2) -> #DIV/0! | AG54: =+AE54 -> #DIV/0! | AH54: =+ROUND(AG54*19%,2) -> #DIV/0! | AI54: =ROUND(+AH54+AG54,2) -> #DIV/0! | AJ54: =ROUND(+AI54*E54*D54,2) -> #DIV/0!
I55: =SUM(I30:I54) -> 0 | N55: =SUM(N30:N54) -> 0
C56: PARA DETERMINAR EL VALOR DEL PRESENTE PROCESO SE UTILIZO LA FORMULA CONOCIDA COMO MEDIA ARITMETICA BAJA
...

Sheet historico 
B2: ANEXO 4
H4: ANEXO 2 - COSTOS HISTÓRICOS
H5: SERVICIO DE MANTENIMIENTO PREVENTIVO Y CORRECTIVO TÉCNICO INTEGRAL ESPECIALIZADO CON SUMINISTRO DE INSUMOS Y BOLSA PARA REPUESTOS DE AIRES ACONDICIONADOS, EQUIPOS DE VENTILACIÓN Y CUARTOS FRÍOS QUE SE ENCUENTRAN INSTALADOS EN EL NIVEL CENTRAL Y EN BARRANQUILLA DE LA FISCALÍA GENERAL DE LA NACIÓN.
B6: ITEM | C6: NECESIDAD | D6: CANTIDAD EQUIPOS | E6: UBICACIÓN | F6: CANTIDAD REFERENTE | H6: FGN-NC-IPSE-0047-2020 CONTRATO-FGN-BC-0219-2020 ESTILO INGENIERIA S.A. valor vigencia 2020 | L6: PROYECCIÓN VALOR UNITARIO SIN IVA (IPC / Indices - Serie de empalme) | O6: ANÁLISIS PROYECCIÓN COSTOS HISTÓRICOS
H7: VALOR UNITARIO SIN IVA | I7: IVA | J7: VALOR TOTAL IVA INCLUIDO | L7: 24/19/2019 | M7: 44378 | O7: CANTIDAD | P7: VALOR UNITARIO SIN IVA | Q7: IVA | R7: VALOR UNITARIO IVA INCLUIDO | S7: VALOR TOTAL IVA INCLUIDO
L8: 105.48 | M8: 109.14
B10: 1 | C10: Equipo de aire acondicionado | D10: 1 | E10: Bogotá. | F10: 1 | H10: 39000 | I10: =+ROUND(H10*0.19,0) -> 7410 | J10: =+H10+I10 -> 46410 | L10: =ROUND($M$8/$L$8*H10,0) -> 40353 | O10: =+#REF! -> #REF! | P10: =+L10 -> 40353 | Q10: =+ROUND(P10*0.19,0) -> 7667 | R10: =+P10+Q10 -> 48020 | S10: =+R10*O10 -> #REF!
B11: =B10+1 -> 2 | C11: Equipo de aire acondicionado | D11: 1 | E11: Bogotá. | F11: 1 | H11: 117000 | I11: =+ROUND(H11*0.19,0) -> 22230 | J11: =+H11+I11 -> 139230 | L11: =ROUND($M$8/$L$8*H11,0) -> 121060 | O11: =+#REF! -> #REF! | P11: =+L11 -> 121060 | Q11: =+ROUND(P11*0.19,0) -> 23001 | R11: =+P11+Q11 -> 144061 | S11: =+R11*O11 -> #REF!
B12: =B11+1 -> 3 | C12: Equipo de aire acondicionado | D12: 1 | E12: Bogotá. | F12: 1 | H12: 117000 | I12: =+ROUND(H12*0.19,0) -> 22230 | J12: =+H12+I12 -> 139230 | L12: =ROUND($M$8/$L$8*H12,0) -> 121060 | O12: =+#REF! -> #REF! | P12: =+L12 -> 121060 | Q12: =+ROUND(P12*0.19,0) -> 23001 | R12: =+P12+Q12 -> 144061 | S12: =+R12*O12 -> #REF!
B13: =B12+1 -> 4 | C13: Equipo de aire acondicionado | D13: 1 | E13: Bogotá. | F13: 1 | H13: 19500 | I13: =+ROUND(H13*0.19,0) -> 3705 | J13: =+H13+I13 -> 23205 | L13: =ROUND($M$8/$L$8*H13,0) -> 20177 | O13: =+#REF! -> #REF! | P13: =+L13 -> 20177 | Q13: =+ROUND(P13*0.19,0) -> 3834 | R13: =+P13+Q13 -> 24011 | S13: =+R13*O13 -> #REF!
B14: =B13+1 -> 5 | C14: Equipo de aire acondicionado | D14: 1 | E14: Bogotá. | F14: 1 | H14: 117000 | I14: =+ROUND(H14*0.19,0) -> 22230 | J14: =+H14+I14 -> 139230 | L14: =ROUND($M$8/$L$8*H14,0) -> 121060 | O14: =+#REF! -> #REF! | P14: =+L14 -> 121060 | Q14: =+ROUND(P14*0.19,0) -> 23001 | R14: =+P14+Q14 -> 144061 | S14: =+R14*O14 -> #REF!
S15: =SUM(S8:S14) -> #REF!
C16: 1) Se indexaron los valores correspondientes al proceso identificado como
C19: Fecha de elaboración:
C20: Estudio del Sector No.

Sheet historico 2022
B2: ANEXO 4
K4: ANEXO 4 - COSTOS HISTÓRICOS
K5: SERVICIO DE MANTENIMIENTO PREVENTIVO Y CORRECTIVO TÉCNICO INTEGRAL ESPECIALIZADO CON SUMINISTRO DE INSUMOS Y BOLSA PARA REPUESTOS DE AIRES ACONDICIONADOS, EQUIPOS DE VENTILACIÓN Y CUARTOS FRÍOS QUE SE ENCUENTRAN INSTALADOS EN EL NIVEL CENTRAL Y EN BARRANQUILLA DE LA FISCALÍA GENERAL DE LA NACIÓN.
B6: ITEM | C6: NECESIDAD | D6: TIPO | E6: MARCA | F6: CAPACIDAD | G6: CANTIDAD EQUIPOS | H6: UBICACIÓN | I6: CANTIDAD REFERENTE | K6: FGN-IPSE-046-2019 NC CONTRATO NO. 0190 DE 2019 | O6: PROYECCIÓN VALOR UNITARIO SIN IVA (IPC / Indices - Serie de empalme) | R6: ANÁLISIS PROYECCIÓN COSTOS HISTÓRICOS
K7: VALOR UNITARIO SIN IVA | L7: IVA | M7: VALOR TOTAL IVA INCLUIDO | O7: 44501 | P7: 44378 | R7: CANTIDAD | S7: VALOR UNITARIO SIN IVA | T7: IVA | U7: VALOR UNITARIO IVA INCLUIDO | V7: VALOR TOTAL IVA INCLUIDO
O8: 105.8 | P8: 109.14
B10: 1 | C10: Equipo de aire acondicionado | D10: Fancoil | E10: Samsung | F10: 18000 btu/h | G10: 6 | H10: Bogotá. | I10: 1 | K10: 35681 | L10: =+ROUND(K10*0.19,0) -> 6779 | M10: =+K10+L10 -> 42460 | O10: =ROUND($P$8/$O$8*K10,0) -> 36807 | R10: =+F10 -> 18000 btu/h | S10: =+O10 -> 36807 | T10: =+ROUND(S10*0.19,0) -> 6993 | U10: =+S10+T10 -> 43800 | V10: =+U10*R10 -> #VALUE!
B11: =B10+1 -> 2 | C11: Equipo de aire acondicionado | D11: Minisplit | E11: starlight | F11: 18000 btu/h | G11: 2 | H11: Bogotá. | I11: 1 | K11: 35681 | L11: =+ROUND(K11*0.19,0) -> 6779 | M11: =+K11+L11 -> 42460 | O11: =ROUND($P$8/$O$8*K11,0) -> 36807 | R11: =+F11 -> 18000 btu/h | S11: =+O11 -> 36807 | T11: =+ROUND(S11*0.19,0) -> 6993 | U11: =+S11+T11 -> 43800 | V11: =+U11*R11 -> #VALUE!
B12: =B11+1 -> 3 | C12: Equipo de aire acondicionado | D12: Minisplit | E12: trane | F12: 24000 btu/h | G12: 2 | H12: Bogotá. | I12: 1 | K12: 35721 | L12: =+ROUND(K12*0.19,0) -> 6787 | M12: =+K12+L12 -> 42508 | O12: =ROUND($P$8/$O$8*K12,0) -> 36849 | R12: =+F12 -> 24000 btu/h | S12: =+O12 -> 36849 | T12: =+ROUND(S12*0.19,0) -> 7001 | U12: =+S12+T12 -> 43850 | V12: =+U12*R12 -> #VALUE!
B13: =B12+1 -> 4 | C13: Equipo de aire acondicionado | D13: Minisplit | E13: York | F13: 24000 btu/h | G13: 12 | H13: Bogotá. | I13: 1 | K13: 35083 | L13: =+ROUND(K13*0.19,0) -> 6666 | M13: =+K13+L13 -> 41749 | O13: =ROUND($P$8/$O$8*K13,0) -> 36191 | R13: =+F13 -> 24000 btu/h | S13: =+O13 -> 36191 | T13: =+ROUND(S13*0.19,0) -> 6876 | U13: =+S13+T13 -> 43067 | V13: =+U13*R13 -> #VALUE!
B14: =B13+1 -> 5 | C14: Equipo de aire acondicionado | D14: Minisplit | E14: Trane | F14: 12000 btu/h | G14: 2 | H14: Bogotá. | I14: 1 | K14: 35602 | L14: =+ROUND(K14*0.19,0) -> 6764 | M14: =+K14+L14 -> 42366 | O14: =ROUND($P$8/$O$8*K14,0) -> 36726 | R14: =+F14 -> 12000 btu/h | S14: =+O14 -> 36726 | T14: =+ROUND(S14*0.19,0) -> 6978 | U14: =+S14+T14 -> 43704 | V14: =+U14*R14 -> #VALUE!
B15: =B14+1 -> 6 | C15: Equipo de aire acondicionado | D15: Portátil | E15: Blueline | F15: 60000 btu/h | G15: 2 | H15: Bogotá. | I15: 1 | K15: 42097 | L15: =+ROUND(K15*0.19,0) -> 7998 | M15: =+K15+L15 -> 50095 | O15: =ROUND($P$8/$O$8*K15,0) -> 43426 | R15: =+F15 -> 60000 btu/h | S15: =+O15 -> 43426 | T15: =+ROUND(S15*0.19,0) -> 8251 | U15: =+S15+T15 -> 51677 | V15: =+U15*R15 -> #VALUE! | Y15: https://www.dane.gov.co/index.php/estadisticas-por-tema/precios-y-costos/indice-de-precios-al-consumidor-ipc
B16: =B15+1 -> 7 | C16: Equipo de aire acondicionado | D16: VRF -DVM-S | E16: Samsung | F16: 140000 btu/h | G16: 2 | H16: Bogotá. | I16: 1 | K16: 39580 | L16: =+ROUND(K16*0.19,0) -> 7520 | M16: =+K16+L16 -> 47100 | O16: =ROUND($P$8/$O$8*K16,0) -> 40830 | R16: =+F16 -> 140000 btu/h | S16: =+O16 -> 40830 | T16: =+ROUND(S16*0.19,0) -> 7758 | U16: =+S16+T16 -> 48588 | V16: =+U16*R16 -> #VALUE!
B17: =B16+1 -> 8 | C17: Equipo de aire acondicionado | D17: VRF -DVM-S | E17: Samsung | F17: 172000 btu/h | G17: 2 | H17: Bogotá. | I17: 1 | K17: 39849 | L17: =+ROUND(K17*0.19,0) -> 7571 | M17: =+K17+L17 -> 47420 | O17: =ROUND($P$8/$O$8*K17,0) -> 41107 | R17: =+F17 -> 172000 btu/h | S17: =+O17 -> 41107 | T17: =+ROUND(S17*0.19,0) -> 7810 | U17: =+S17+T17 -> 48917 | V17: =+U17*R17 -> #VALUE!
B18: =B17+1 -> 9 | C18: Equipo de aire acondicionado | D18: Cassette cuatro vías | E18: LG | F18: 36000 btu/h | G18: 10 | H18: Bogotá. | I18: 1 | K18: 35441 | L18: =+ROUND(K18*0.19,0) -> 6734 | M18: =+K18+L18 -> 42175 | O18: =ROUND($P$8/$O$8*K18,0) -> 36560 | R18: =+F18 -> 36000 btu/h | S18: =+O18 -> 36560 | T18: =+ROUND(S18*0.19,0) -> 6946 | U18: =+S18+T18 -> 43506 | V18: =+U18*R18 -> #VALUE!
B19: =B18+1 -> 10 | C19: Equipo de aire acondicionado | D19: Cassette cuatro vías | E19: Trane | F19: 38000 btu/h | G19: 2 | H19: Bogotá. | I19: 1 | K19: 36081 | L19: =+ROUND(K19*0.19,0) -> 6855 | M19: =+K19+L19 -> 42936 | O19: =ROUND($P$8/$O$8*K19,0) -> 37220 | R19: =+F19 -> 38000 btu/h | S19: =+O19 -> 37220 | T19: =+ROUND(S19*0.19,0) -> 7072 | U19: =+S19+T19 -> 44292 | V19: =+U19*R19 -> #VALUE!
B20: =B19+1 -> 11 | C20: Equipo de aire acondicionado | D20: fancoil | E20: Samsung | F20: 36000 btu/h | G20: 2 | H20: Bogotá. | I20: 1 | K20: 36081 | L20: =+ROUND(K20*0.19,0) -> 6855 | M20: =+K20+L20 -> 42936 | O20: =ROUND($P$8/$O$8*K20,0) -> 37220 | R20: =+F20 -> 36000 btu/h | S20: =+O20 -> 37220 | T20: =+ROUND(S20*0.19,0) -> 7072 | U20: =+S20+T20 -> 44292 | V20: =+U20*R20 -> #VALUE!
B21: =B20+1 -> 12 | C21: Equipo de aire acondicionado | D21: Minisplit | E21: LG | F21: 18000 btu/h | G21: 1 | H21: Bogotá. | I21: 1 | K21: 35602 | L21: =+ROUND(K21*0.19,0) -> 6764 | M21: =+K21+L21 -> 42366 | O21: =ROUND($P$8/$O$8*K21,0) -> 36726 | R21: =+F21 -> 18000 btu/h | S21: =+O21 -> 36726 | T21: =+ROUND(S21*0.19,0) -> 6978 | U21: =+S21+T21 -> 43704 | V21: =+U21*R21 -> #VALUE!
B22: =B21+1 -> 13 | C22: Equipo de Ventilación | D22: Suministro | E22: soler & palau | F22: 2513 CFM | G22: 1 | H22: Bogotá. | I22: 1 | K22: 37069 | L22: =+ROUND(K22*0.19,0) -> 7043 | M22: =+K22+L22 -> 44112 | O22: =ROUND($P$8/$O$8*K22,0) -> 38239 | R22: =+F22 -> 2513 CFM | S22: =+O22 -> 38239 | T22: =+ROUND(S22*0.19,0) -> 7265 | U22: =+S22+T22 -> 45504 | V22: =+U22*R22 -> #VALUE!
B23: =B22+1 -> 14 | C23: Equipo de Ventilación | D23: Fancoil | E23: Samsung | F23: 24000 btu/h | G23: 5 | H23: Bogotá. | I23: 1 | K23: 35362 | L23: =+ROUND(K23*0.19,0) -> 6719 | M23: =+K23+L23 -> 42081 | O23: =ROUND($P$8/$O$8*K23,0) -> 36478 | R23: =+F23 -> 24000 btu/h | S23: =+O23 -> 36478 | T23: =+ROUND(S23*0.19,0) -> 6931 | U23: =+S23+T23 -> 43409 | V23: =+U23*R23 -> #VALUE!
B24: =B23+1 -> 15 | C24: Equipo de Ventilación | D24: Minisplit | E24: Samsung | F24: 18000 btu/h | G24: 1 | H24: Bogotá. | I24: 1 | K24: 36002 | L24: =+ROUND(K24*0.19,0) -> 6840 | M24: =+K24+L24 -> 42842 | O24: =ROUND($P$8/$O$8*K24,0) -> 37139 | R24: =+F24 -> 18000 btu/h | S24: =+O24 -> 37139 | T24: =+ROUND(S24*0.19,0) -> 7056 | U24: =+S24+T24 -> 44195 | V24: =+U24*R24 -> #VALUE!
B25: =B24+1 -> 16 | C25: Equipo de aire acondicionado | D25: Minisplit | E25: LG | F25: 24000 btu/h | G25: 6 | H25: Bogotá. | I25: 1 | K25: 35362 | L25: =+ROUND(K25*0.19,0) -> 6719 | M25: =+K25+L25 -> 42081 | O25: =ROUND($P$8/$O$8*K25,0) -> 36478 | R25: =+F25 -> 24000 btu/h | S25: =+O25 -> 36478 | T25: =+ROUND(S25*0.19,0) -> 6931 | U25: =+S25+T25 -> 43409 | V25: =+U25*R25 -> #VALUE!
B26: =B25+1 -> 17 | C26: Equipo de aire acondicionado | D26: Minisplit | E26: starlight | F26: 6000 btu/h | G26: 2 | H26: Bogotá. | I26: 1 | K26: 35602 | L26: =+ROUND(K26*0.19,0) -> 6764 | M26: =+K26+L26 -> 42366 | O26: =ROUND($P$8/$O$8*K26,0) -> 36726 | R26: =+F26 -> 6000 btu/h | S26: =+O26 -> 36726 | T26: =+ROUND(S26*0.19,0) -> 6978 | U26: =+S26+T26 -> 43704 | V26: =+U26*R26 -> #VALUE!
B27: =B26+1 -> 18 | C27: Equipo de aire acondicionado | D27: Minisplit | E27: starlight | F27: 12000 btu/h | G27: 2 | H27: Bogotá. | I27: 1 | K27: 35681 | L27: =+ROUND(K27*0.19,0) -> 6779 | M27: =+K27+L27 -> 42460 | O27: =ROUND($P$8/$O$8*K27,0) -> 36807 | R27: =+F27 -> 12000 btu/h | S27: =+O27 -> 36807 | T27: =+ROUND(S27*0.19,0) -> 6993 | U27: =+S27+T27 -> 43800 | V27: =+U27*R27 -> #VALUE!
... B35: =B34+1 -> 26 | C35: Equipo de aire acondicionado | D35: cassette cuatro vías | E35: Samsung | F35: 18000 btu/h | G35: 1 | H35: Bogotá. | I35: 1 | K35: 35681 | L35: =+ROUND(K35*0.19,0) -> 6779 | M35: =+K35+L35 -> 42460 | O35: =ROUND($P$8/$O$8*K35,0) -> 36807 | R35: =+F35 -> 18000 btu/h | S35: =+O35 -> 36807 | T35: =+ROUND(S35*0.19,0) -> 6993 | U35: =+S35+T35 -> 43800 | V35: =+U35*R35 -> #VALUE!
B36: =B35+1 -> 27 | C36: Equipo de aire acondicionado | D36: fancoil | E36: Samsung | F36: 96000 btu/h | G36: 1 | H36: Bogotá. | I36: 1 | K36: 37417 | L36: =+ROUND(K36*0.19,0) -> 7109 | M36: =+K36+L36 -> 44526 | O36: =ROUND($P$8/$O$8*K36,0) -> 38598 | R36: =+F36 -> 96000 btu/h | S36: =+O36 -> 38598 | T36: =+ROUND(S36*0.19,0) -> 7334 | U36: =+S36+T36 -> 45932 | V36: =+U36*R36 -> #VALUE! | Y36: https://www.dane.gov.co/index.php/estadisticas-por-tema/precios-y-costos/indice-de-precios-al-consumidor-ipc
B37: =B36+1 -> 28 | C37: Equipo de aire acondicionado | D37: VRF multi V | E37: LG | F37: 114700 btu/h | G37: 1 | H37: Bogotá. | I37: 1 | K37: 57155 | L37: =+ROUND(K37*0.19,0) -> 10859 | M37: =+K37+L37 -> 68014 | O37: =ROUND($P$8/$O$8*K37,0) -> 58959 | R37: =+F37 -> 114700 btu/h | S37: =+O37 -> 58959 | T37: =+ROUND(S37*0.19,0) -> 11202 | U37: =+S37+T37 -> 70161 | V37: =+U37*R37 -> #VALUE!
B38: =B37+1 -> 29 | C38: Equipo de aire acondicionado | D38: VRF multi V | E38: LG | F38: 152900 btu/h | G38: 1 | H38: Bogotá. | I38: 1 | K38: 57156 | L38: =+ROUND(K38*0.19,0) -> 10860 | M38: =+K38+L38 -> 68016 | O38: =ROUND($P$8/$O$8*K38,0) -> 58960 | R38: =+F38 -> 152900 btu/h | S38: =+O38 -> 58960 | T38: =+ROUND(S38*0.19,0) -> 11202 | U38: =+S38+T38 -> 70162 | V38: =+U38*R38 -> #VALUE!
B39: =B38+1 -> 30 | C39: Equipo de aire acondicionado | D39: Minisplit | E39: CIAC | F39: 24000 btu/h | G39: 2 | H39: Bogotá. | I39: 1 | K39: 36002 | L39: =+ROUND(K39*0.19,0) -> 6840 | M39: =+K39+L39 -> 42842 | O39: =ROUND($P$8/$O$8*K39,0) -> 37139 | R39: =+F39 -> 24000 btu/h | S39: =+O39 -> 37139 | T39: =+ROUND(S39*0.19,0) -> 7056 | U39: =+S39+T39 -> 44195 | V39: =+U39*R39 -> #VALUE!
B40: =B39+1 -> 31 | C40: Equipo de aire acondicionado | D40: Cassette cuatro vías | E40: LG | F40: 34000 btu/h | G40: 3 | H40: Bogotá. | I40: 1 | K40: 36081 | L40: =+ROUND(K40*0.19,0) -> 6855 | M40: =+K40+L40 -> 42936 | O40: =ROUND($P$8/$O$8*K40,0) -> 37220 | R40: =+F40 -> 34000 btu/h | S40: =+O40 -> 37220 | T40: =+ROUND(S40*0.19,0) -> 7072 | U40: =+S40+T40 -> 44292 | V40: =+U40*R40 -> #VALUE!
B41: =B40+1 -> 32 | C41: Equipo de aire acondicionado | D41: Precisión | E41: Data | F41: 7,5 TR | G41: 4 | H41: Bogotá. | I41: 1 | K41: 38338 | L41: =+ROUND(K41*0.19,0) -> 7284 | M41: =+K41+L41 -> 45622 | O41: =ROUND($P$8/$O$8*K41,0) -> 39548 | R41: =+F41 -> 7,5 TR | S41: =+O41 -> 39548 | T41: =+ROUND(S41*0.19,0) -> 7514 | U41: =+S41+T41 -> 47062 | V41: =+U41*R41 -> #VALUE!
B42: =B41+1 -> 33 | C42: Equipo de Extracción | D42: tipo hongo | E42: soler & palau | F42: 2500 CFM | G42: 6 | H42: Bogotá. | I42: 1 | K42: 36778 | L42: =+ROUND(K42*0.19,0) -> 6988 | M42: =+K42+L42 -> 43766 | O42: =ROUND($P$8/$O$8*K42,0) -> 37939 | R42: =+F42 -> 2500 CFM | S42: =+O42 -> 37939 | T42: =+ROUND(S42*0.19,0) -> 7208 | U42: =+S42+T42 -> 45147 | V42: =+U42*R42 -> #VALUE!
B43: =B42+1 -> 34 | C43: Equipo de Extracción | D43: tipo hongo | E43: soler & palau | F43: 5000 CFM | G43: 2 | H43: Bogotá. | I43: 1 | K43: 37417 | L43: =+ROUND(K43*0.19,0) -> 7109 | M43: =+K43+L43 -> 44526 | O43: =ROUND($P$8/$O$8*K43,0) -> 38598 | R43: =+F43 -> 5000 CFM | S43: =+O43 -> 38598 | T43: =+ROUND(S43*0.19,0) -> 7334 | U43: =+S43+T43 -> 45932 | V43: =+U43*R43 -> #VALUE!
B44: =B43+1 -> 35 | C44: Equipo de Ventilación | D44: Lavadores de aire | E44: soler & palau | F44: 10000 CFM | G44: 12 | H44: Bogotá. | I44: 1 | K44: 36459 | L44: =+ROUND(K44*0.19,0) -> 6927 | M44: =+K44+L44 -> 43386 | O44: =ROUND($P$8/$O$8*K44,0) -> 37610 | R44: =+F44 -> 10000 CFM | S44: =+O44 -> 37610 | T44: =+ROUND(S44*0.19,0) -> 7146 | U44: =+S44+T44 -> 44756 | V44: =+U44*R44 -> #VALUE!
B45: =B44+1 -> 36 | C45: Equipo de Ventilación | D45: Suministro | E45: Trane | F45: 9000 CFM | G45: 2 | H45: Bogotá. | I45: 1 | K45: 36661 | L45: =+ROUND(K45*0.19,0) -> 6966 | M45: =+K45+L45 -> 43627 | O45: =ROUND($P$8/$O$8*K45,0) -> 37818 | R45: =+F45 -> 9000 CFM | S45: =+O45 -> 37818 | T45: =+ROUND(S45*0.19,0) -> 7185 | U45: =+S45+T45 -> 45003 | V45: =+U45*R45 -> #VALUE!
B46: =B45+1 -> 37 | C46: Equipo de aire acondicionado | D46: Split Ducto | E46: Trane | F46: 5800 CFM | G46: 1 | H46: Bogotá. | I46: 1 | K46: 36661 | L46: =+ROUND(K46*0.19,0) -> 6966 | M46: =+K46+L46 -> 43627 | O46: =ROUND($P$8/$O$8*K46,0) -> 37818 | R46: =+F46 -> 5800 CFM | S46: =+O46 -> 37818 | T46: =+ROUND(S46*0.19,0) -> 7185 | U46: =+S46+T46 -> 45003 | V46: =+U46*R46 -> #VALUE!
B47: =B46+1 -> 38 | C47: Equipo de Extracción | D47: tipo hongo | E47: soler & palau | F47: 3000 CFM | G47: 6 | H47: Bogotá. | I47: 1 | K47: 36022 | L47: =+ROUND(K47*0.19,0) -> 6844 | M47: =+K47+L47 -> 42866 | O47: =ROUND($P$8/$O$8*K47,0) -> 37159 | R47: =+F47 -> 3000 CFM | S47: =+O47 -> 37159 | T47: =+ROUND(S47*0.19,0) -> 7060 | U47: =+S47+T47 -> 44219 | V47: =+U47*R47 -> #VALUE!
B48: =B47+1 -> 39 | C48: Equipo de Ventilación | D48: Suministro | E48: Trane | F48: 3600 CFM | G48: 1 | H48: Bogotá. | I48: 1 | K48: 36901 | L48: =+ROUND(K48*0.19,0) -> 7011 | M48: =+K48+L48 -> 43912 | O48: =ROUND($P$8/$O$8*K48,0) -> 38066 | R48: =+F48 -> 3600 CFM | S48: =+O48 -> 38066 | T48: =+ROUND(S48*0.19,0) -> 7233 | U48: =+S48+T48 -> 45299 | V48: =+U48*R48 -> #VALUE!
... B56: =B55+1 -> 47 | C56: Equipo de aire acondicionado | D56: Cassette cuatro vías | E56: Trane | F56: 24000 btu/h | G56: 1 | H56: Bogotá. | I56: 1 | K56: 36081 | L56: =+ROUND(K56*0.19,0) -> 6855 | M56: =+K56+L56 -> 42936 | O56: =ROUND($P$8/$O$8*K56,0) -> 37220 | R56: =+F56 -> 24000 btu/h | S56: =+O56 -> 37220 | T56: =+ROUND(S56*0.19,0) -> 7072 | U56: =+S56+T56 -> 44292 | V56: =+U56*R56 -> #VALUE!
B57: =B56+1 -> 48 | C57: Equipo de aire acondicionado | D57: precision | E57: compuaire | F57: 60000 btu/h | G57: 2 | H57: Bogotá. | I57: 1 | K57: 43143 | L57: =+ROUND(K57*0.19,0) -> 8197 | M57: =+K57+L57 -> 51340 | O57: =ROUND($P$8/$O$8*K57,0) -> 44505 | R57: =+F57 -> 60000 btu/h | S57: =+O57 -> 44505 | T57: =+ROUND(S57*0.19,0) -> 8456 | U57: =+S57+T57 -> 52961 | V57: =+U57*R57 -> #VALUE! | Y57: https://www.dane.gov.co/index.php/estadisticas-por-tema/precios-y-costos/indice-de-precios-al-consumidor-ipc
...

Sheet Anexo 1 HISTORICOS
B1: ANEXO 1
B3: ANÁLISIS PROYECCIÓN COSTOS HISTÓRICOS DE PROCESOS EN LA FISCALIA GENERAL DE LA NACIÓN
B4: =#REF! -> #REF!
B5: https://www.contratos.gov.co/consultas/detalleProceso.do?numConstancia=16-9-420890 | E5: CONTRATACIÓN | K5: PROYECCIÓN VALOR UNITARIO SIN IVA INCLUIDO (IPC / Indices - Serie de empalme)
B7: ITEM | C7: =#REF! -> #REF! | E7: CONTRATO No. FGN-NC-IPSE-0052- 2024 | K7: DICIEMBRE 2024 | L7: JULIO 2026 | M7: ANÁLISIS PROYECCIÓN COSTOS HISTÓRICOS (IPC / Indices - Serie de empalme) | R7: AUMENTO SALARIO MÍNIMO
E8: CANTIDAD | F8: VALOR UNITARIO SIN IVA | G8: IVA UNITARIO | H8: VALOR UNITARIO INCLUIDO IVA | I8: VALOR TOTAL INCLUIDO IVA | K8: 1.4488 | L8: 1.5953 | M8: CANTIDAD | N8: VALOR UNITARIO SIN IVA | O8: IVA UNITARIO | P8: VALOR UNITARIO INCLUIDO IVA | Q8: VALOR TOTAL INCLUIDO IVA | R8: 0.23
A10: 1 | B10: ='[2]ANEXO 1 -V. UNITARIOS '!B7 -> 1 | C10: ='Anexo1 cotizaciones2026'!C10 -> SERVICIO MANTENIMIENTO PREVENTIVO Y CORRECTIVO MOTOBOMBAS CENTRIFUGAS - CONTRA INCENDIO MARCA FAIRBANKS MORSE POTENCIA: 60 HP MOTOR ELECTRICO TRIFASICO MODELO 6219 A RPM 3560. | E10: 1 | F10: 5634.63 | G10: =F10*16% -> 901.5408 | H10: =F10+G10 -> 6536.1708 | I10: =H10*E10 -> 6536.1708 | K10: =+($L$8/$K$8) *F10 -> 6204.3935 | M10: =#REF! -> #REF! | N10: =K10 -> 6204.3935 | O10: =N10*19% -> 1178.8348 | P10: =N10+O10 -> 7383.2282 | Q10: =P10*M10 -> #REF! | R10: =(K10*23%)+K10 -> 7631.404
B11: ='[2]ANEXO 1 -V. UNITARIOS '!B8 -> 2 | C11: ='Anexo1 cotizaciones2026'!C11 -> SERVICIO MANTENIMIENTO PREVENTIVO Y CORRECTIVO MOTOBOMBA CENTRIFUGA - CONTRA INCENDIO MARCA PPATERSSON POTENCIA 125 HP MOTOR ELECTRICO TRIFASICO MODELO MD404TSTDS1400BABAN RPM560 | E11: 1 | F11: 5634.63 | G11: =F11*16% -> 901.5408 | H11: =F11+G11 -> 6536.1708 | I11: =H11*E11 -> 6536.1708 | K11: =+($L$8/$K$8)*F11 -> 6204.3935 | M11: =#REF! -> #REF! | N11: =K11 -> 6204.3935 | O11: =N11*19% -> 1178.8348 | P11: =N11+O11 -> 7383.2282 | Q11: =P11*M11 -> #REF! | R11: =(K11*23%)+K11 -> 7631.404
B12: ='[2]ANEXO 1 -V. UNITARIOS '!B9 -> 3 | C12: ='Anexo1 cotizaciones2026'!C12 -> SERVICIO MANTENIMIENTO PREVENTIVO Y CORRECTIVO MOTOBOMBA JOCKEY CONTRA INCENDIO MULTIETAPAS VERTICAL MARCA BALDOR POTENCIA: 5 HP MOTOR ELECTRICO TRIFASICO RPM 3450. | E12: 1 | F12: 5634.63 | G12: =F12*16% -> 901.5408 | H12: =F12+G12 -> 6536.1708 | I12: =H12*E12 -> 6536.1708 | K12: =+($L$8/$K$8)*F12 -> 6204.3935 | M12: =#REF! -> #REF! | N12: =K12 -> 6204.3935 | O12: =N12*19% -> 1178.8348 | P12: =N12+O12 -> 7383.2282 | Q12: =P12*M12 -> #REF! | R12: =(K12*23%)+K12 -> 7631.404
B13: ='[2]ANEXO 1 -V. UNITARIOS '!B10 -> 4 | C13: ='Anexo1 cotizaciones2026'!C13 -> SERVICIO MANTENIMIENTO PREVENTIVO Y CORRECTIVO MOTOBOMBA JOCKEY CONTRA INCENDIO MULTIETAPAS VERTICAL MARCA AURORA PUMP POTENCIA: 3 HP MOTOR ELECTRICO TRIFASICO RPM 3461. | E13: 1 | F13: 5634.63 | G13: =F13*16% -> 901.5408 | H13: =F13+G13 -> 6536.1708 | I13: =H13*E13 -> 6536.1708 | K13: =+($L$8/$K$8)*F13 -> 6204.3935 | M13: =#REF! -> #REF! | N13: =K13 -> 6204.3935 | O13: =N13*19% -> 1178.8348 | P13: =N13+O13 -> 7383.2282 | Q13: =P13*M13 -> #REF! | R13: =(K13*23%)+K13 -> 7631.404
B14: ='[2]ANEXO 1 -V. UNITARIOS '!B11 -> 5 | C14: ='Anexo1 cotizaciones2026'!C14 -> SERVICIO MANTENIMIENTO PREVENTIVO Y CORRECTIVO MOTOBOMBAS CENTRIFUGAS DE AGUA PPOTABLE MARCA IHM POTENCIA: 9 HP MOTOR ELECTRICO TRIFASICO RPM 3520. | E14: 1 | F14: 5634.63 | G14: =F14*16% -> 901.5408 | H14: =F14+G14 -> 6536.1708 | I14: =H14*E14 -> 6536.1708 | K14: =+($L$8/$K$8)*F14 -> 6204.3935 | M14: =#REF! -> #REF! | N14: =K14 -> 6204.3935 | O14: =N14*19% -> 1178.8348 | P14: =N14+O14 -> 7383.2282 | Q14: =P14*M14 -> #REF! | R14: =(K14*23%)+K14 -> 7631.404
B15: ='[2]ANEXO 1 -V. UNITARIOS '!B12 -> 6 | C15: ='Anexo1 cotizaciones2026'!C15 -> SERVICIO MANTENIMIENTO PREVENTIVO Y CORRECTIVO MOTOBOMBAS CENTRIFUGAS DE AGUA POTABLE MARCA BARNES POTENCIA: 10 HP MOTOR ELECTRICO TRIFASICO RPM 3480 | E15: 1 | F15: 5634.63 | G15: =F15*16% -> 901.5408 | H15: =F15+G15 -> 6536.1708 | I15: =H15*E15 -> 6536.1708 | K15: =+($L$8/$K$8)*F15 -> 6204.3935 | M15: =#REF! -> #REF! | N15: =K15 -> 6204.3935 | O15: =N15*19% -> 1178.8348 | P15: =N15+O15 -> 7383.2282 | Q15: =P15*M15 -> #REF! | R15: =(K15*23%)+K15 -> 7631.404
B16: ='[2]ANEXO 1 -V. UNITARIOS '!B13 -> 7 | C16: ='Anexo1 cotizaciones2026'!C16 -> SERVICIO MANTENIMIENTO PREVENTIVO DE TANQUES PRESURIZADOS HIDRONEUMATICOS MARCA IHM (500 LT) PRESION DE TRABAJO :125 PSI (8.8 BAR). | E16: 1 | F16: 5634.63 | G16: =F16*16% -> 901.5408 | H16: =F16+G16 -> 6536.1708 | I16: =H16*E16 -> 6536.1708 | K16: =+($L$8/$K$8)*F16 -> 6204.3935 | M16: =#REF! -> #REF! | N16: =K16 -> 6204.3935 | O16: =N16*19% -> 1178.8348 | P16: =N16+O16 -> 7383.2282 | Q16: =P16*M16 -> #REF! | R16: =(K16*23%)+K16 -> 7631.404 | T16: http://www.dane.gov.co/index.php/estadisticas-por-tema/precios-y-costos/indice-de-precios-al-consumidor-ipc
B17: ='[2]ANEXO 1 -V. UNITARIOS '!B14 -> 8 | C17: ='Anexo1 cotizaciones2026'!C17 -> SERVICIO MANTENIMIENTO PREVENTIVO Y CORRECTIVO MOTOBOMBAS CENTRIFUGAS DE AGUA POTABLE MARCA IHM POTENCIA: 12,5 HP MOTOR ELECTRICO TRIFASICO RPM 3580. | E17: 1 | F17: 5634.63 | G17: =F17*16% -> 901.5408 | H17: =F17+G17 -> 6536.1708 | I17: =H17*E17 -> 6536.1708 | K17: =+($L$8/$K$8)*F17 -> 6204.3935 | M17: =#REF! -> #REF! | N17: =K17 -> 6204.3935 | O17: =N17*19% -> 1178.8348 | P17: =N17+O17 -> 7383.2282 | Q17: =P17*M17 -> #REF! | R17: =(K17*23%)+K17 -> 7631.404
B18: ='[2]ANEXO 1 -V. UNITARIOS '!B15 -> 9 | C18: ='Anexo1 cotizaciones2026'!C18 -> SERVICIO MANTENIMIENTO PREVENTIVO Y CORRECTIVO DE TANQUES PRESURIZADOS HIDROACUMULADOR CON MEMBRANA MARCA IHM LA100H VOLUMEN 100 LT PRESION DE TRABAJO :150 PSI | E18: 1 | F18: 5634.63 | G18: =F18*16% -> 901.5408 | H18: =F18+G18 -> 6536.1708 | I18: =H18*E18 -> 6536.1708 | K18: =+($L$8/$K$8)*F18 -> 6204.3935 | M18: =#REF! -> #REF! | N18: =K18 -> 6204.3935 | O18: =N18*19% -> 1178.8348 | P18: =N18+O18 -> 7383.2282 | Q18: =P18*M18 -> #REF! | R18: =(K18*23%)+K18 -> 7631.404
B19: ='[2]ANEXO 1 -V. UNITARIOS '!B16 -> 10 | C19: ='Anexo1 cotizaciones2026'!C19 -> SERVICIO MANTENIMIENTO PREVENTIVO Y CORRECTIVO MOTOBOMBAS CENTRIFUGAS DE AGUA POTABLE MARCA BARNES POTENCIA: 10 HP MOTOR ELECTRICO TRIFASICO RPM 3500. | E19: 1 | F19: 5634.63 | G19: =F19*16% -> 901.5408 | H19: =F19+G19 -> 6536.1708 | I19: =H19*E19 -> 6536.1708 | K19: =+($L$8/$K$8)*F19 -> 6204.3935 | M19: =#REF! -> #REF! | N19: =K19 -> 6204.3935 | O19: =N19*19% -> 1178.8348 | P19: =N19+O19 -> 7383.2282 | Q19: =P19*M19 -> #REF! | R19: =(K19*23%)+K19 -> 7631.404
B20: ='[2]ANEXO 1 -V. UNITARIOS '!B17 -> 11 | C20: ='Anexo1 cotizaciones2026'!C20 -> SERVICIO MANTENIMIENTO PREVENTIVO Y CORRECTIVO MOTOBOMBAS CENTRIFUGAS DE AGUA POTABLE MARCA BARNES POTENCIA: 1.0 HP MOTOR ELECTRICO BIFASICO RPM 3450. | E20: 1 | F20: 5634.63 | G20: =F20*16% -> 901.5408 | H20: =F20+G20 -> 6536.1708 | I20: =H20*E20 -> 6536.1708 | K20: =+($L$8/$K$8)*F20 -> 6204.3935 | M20: =#REF! -> #REF! | N20: =K20 -> 6204.3935 | O20: =N20*19% -> 1178.8348 | P20: =N20+O20 -> 7383.2282 | Q20: =P20*M20 -> #REF! | R20: =(K20*23%)+K20 -> 7631.404
B21: ='[2]ANEXO 1 -V. UNITARIOS '!B18 -> 12 | C21: ='Anexo1 cotizaciones2026'!C21 -> SERVICIO DE LAVADO Y LIMPIEZA DE POZOS DE EYECCION | E21: 1 | F21: 5606.6 | G21: =F21*16% -> 897.056 | H21: =F21+G21 -> 6503.656 | I21: =H21*E21 -> 6503.656 | K21: =+($L$8/$K$8)*F21 -> 6173.5291 | M21: =#REF! -> #REF! | N21: =K21 -> 6173.5291 | O21: =N21*19% -> 1172.9705 | P21: =N21+O21 -> 7346.4996 | Q21: =P21*M21 -> #REF! | R21: =(K21*23%)+K21 -> 7593.4408
B22: ='[2]ANEXO 1 -V. UNITARIOS '!B19 -> 13 | C22: ='Anexo1 cotizaciones2026'!C22 -> SERVICIO MANTENIMIENTO PREVENTIVO Y CORRECTIVO ELECTROBOMBAS SUMERGIBLES AGUAS LLUVIAS Y AGUAS NEGRAS MARCA IHM POTENCIA: 2 HP | E22: 1 | F22: 5634.7 | G22: =F22*16% -> 901.552 | H22: =F22+G22 -> 6536.252 | I22: =H22*E22 -> 6536.252 | K22: =+($L$8/$K$8)*F22 -> 6204.4705 | M22: =#REF! -> #REF! | N22: =K22 -> 6204.4705 | O22: =N22*19% -> 1178.8494 | P22: =N22+O22 -> 7383.3199 | Q22: =P22*M22 -> #REF! | R22: =(K22*23%)+K22 -> 7631.4988
B23: ='[2]ANEXO 1 -V. UNITARIOS '!B20 -> 14 | C23: ='Anexo1 cotizaciones2026'!C23 -> SERVICIO MANTENIMIENTO PREVENTIVO Y CORRECTIVO MOTOBOMBA CENTRIFUGA MARCA BARNES POTENCIA: 6.6 HP MOTOR ELECTRICO 220 V | E23: 1 | F23: 5634.63 | G23: =F23*16% -> 901.5408 | H23: =F23+G23 -> 6536.1708 | I23: =H23*E23 -> 6536.1708 | K23: =+($L$8/$K$8)*F23 -> 6204.3935 | M23: =#REF! -> #REF! | N23: =K23 -> 6204.3935 | O23: =N23*19% -> 1178.8348 | P23: =N23+O23 -> 7383.2282 | Q23: =P23*M23 -> #REF! | R23: =(K23*23%)+K23 -> 7631.404
B24: ='[2]ANEXO 1 -V. UNITARIOS '!B21 -> 15 | C24: ='Anexo1 cotizaciones2026'!C24 -> SERVICIO MANTENIMIENTO PREVENTIVO Y CORRECTIVO DE TANQUE PRESURIZADO HIDROACUMULADOR CON MMEMBRANA MARCAIHM CAPACIDAD 300 L | E24: 1 | F24: 5634.63 | G24: =F24*16% -> 901.5408 | H24: =F24+G24 -> 6536.1708 | I24: =H24*E24 -> 6536.1708 | K24: =+($L$8/$K$8)*F24 -> 6204.3935 | M24: =#REF! -> #REF! | N24: =K24 -> 6204.3935 | O24: =N24*19% -> 1178.8348 | P24: =N24+O24 -> 7383.2282 | Q24: =P24*M24 -> #REF! | R24: =(K24*23%)+K24 -> 7631.404
B25: ='[2]ANEXO 1 -V. UNITARIOS '!B22 -> 16 | C25: ='Anexo1 cotizaciones2026'!C25 -> SERVICIO MANTENIMIENTO PREVENTIVO Y CORRECTIVO DE MOTOBOMBA TIPO PEDROLLO POTENCIA 1/2 HP 120 V | E25: 1 | F25: 5634.63 | G25: =F25*16% -> 901.5408 | H25: =F25+G25 -> 6536.1708 | I25: =H25*E25 -> 6536.1708 | K25: =+($L$8/$K$8)*F25 -> 6204.3935 | M25: =#REF! -> #REF! | N25: =K25 -> 6204.3935 | O25: =N25*19% -> 1178.8348 | P25: =N25+O25 -> 7383.2282 | Q25: =P25*M25 -> #REF! | R25: =(K25*23%)+K25 -> 7631.404
B26: ='[2]ANEXO 1 -V. UNITARIOS '!B23 -> 17 | C26: ='Anexo1 cotizaciones2026'!C26 -> SERVICIO MANTENIMIENTO PREVENTIVO Y CORRECTIVO DE MOTOBOMBA TIPO HIDRO FLOW POTENCIA 1 HP | E26: 1 | F26: 5634.63 | G26: =F26*16% -> 901.5408 | H26: =F26+G26 -> 6536.1708 | I26: =H26*E26 -> 6536.1708 | K26: =+($L$8/$K$8)*F26 -> 6204.3935 | M26: =#REF! -> #REF! | N26: =K26 -> 6204.3935 | O26: =N26*19% -> 1178.8348 | P26: =N26+O26 -> 7383.2282 | Q26: =P26*M26 -> #REF! | R26: =(K26*23%)+K26 -> 7631.404
B27: ='[2]ANEXO 1 -V. UNITARIOS '!B24 -> TOTALES | I27: =SUM(I10:I21) -> 78401.535 | Q27: =SUM(Q10:Q21) -> #REF!
B28: 1. Para traer a valor presente los precios unitarios, se toma el índice de serie del mes vigente dividido por el índice de serie del mes y año en que fue efectuada la compra. Este resultado se multiplica por el precio de la misma.
B29: 2. Para realizar la proyección se tomó el valor unitario antes de IVA.
C33: LISTADO DE REPUESTOS RECURRENTES
B34: LISTADO DE REPUESTOS RECURRENTES
B35: ÍTEM | C35: REPUESTO | D35: UNIDAD DE MEDIDA | E35: CANTIDAD REFERENTE | F35: VALOR UNITARIO SIN IVA | H35: VALOR UNITARIO SIN IVA | I35: IVA | K35: PROYECCIÓN VALOR UNITARIO SIN IVA INCLUIDO (IPC / Indices - Serie de empalme) | M35: VALOR UNITARIO CON IVA | O35: VALOR UNITARIO SIN IVA | P35: IVA | Q35: VALOR UNITARIO CON IVA | V35: VALOR TOTAL MANTENIMIENTOS CON IVA
B36: 1 | C36: ABRAZADERA EN U DE 6" | D36: UN | E36: 1 | F36: 24421.29 | H36: 24653.05 | I36: =ROUND(H36*19%,0) -> 4684 | K36: =+($L$8/$K$8)*F36 -> 26890.726 | N36: =K36 -> 26890.726 | O36: =ROUND(AVERAGE(K36,H36),0) -> 25772 | P36: =ROUND(O36*19%,0) -> 4897 | Q36: =+ROUND(O36+P36,0) -> 30669 | T36: =+(H36-K36)/K36 -> -0.083213673 | V36: =N36*E36 -> 26890.726
B37: 2 | C37: ADAPTADOR BRIDA 4" | D37: UN | E37: 1 | F37: 3726.7 | I37: =ROUND(H37*19%,0) -> 0 | K37: =+($L$8/$K$8)*F37 -> 4103.5371 | M37: =+ROUND(+K37+#REF!,0) -> #REF! | N37: =K37 -> 4103.5371 | O37: =ROUND(AVERAGE(K37,H37),0) -> 4104 | P37: =ROUND(O37*19%,0) -> 780 | Q37: =+ROUND(O37+P37,0) -> 4884 | T37: =+(H37-K37)/K37 -> -1 | V37: =N37*E37 -> 4103.5371
B38: 3 | C38: ADAPTADOR MACHO DE 1 1/2" | D38: UN | E38: 1 | F38: 1249.31 | I38: =ROUND(H38*19%,0) -> 0 | K38: =+($L$8/$K$8)*F38 -> 1375.6379 | M38: =+ROUND(+K38+#REF!,0) -> #REF! | N38: =K38 -> 1375.6379 | O38: =ROUND(AVERAGE(K38,H38),0) -> 1376 | P38: =ROUND(O38*19%,0) -> 261 | Q38: =+ROUND(O38+P38,0) -> 1637 | T38: =+(H38-K38)/K38 -> -1 | V38: =N38*E38 -> 1375.6379
B39: 4 | C39: ADAPTADOR MACHO DE 2" | D39: UN | E39: 1 | F39: 2213.44 | I39: =ROUND(H39*19%,0) -> 0 | K39: =+($L$8/$K$8)*F39 -> 2437.259 | M39: =+ROUND(+K39+#REF!,0) -> #REF! | N39: =K39 -> 2437.259 | O39: =ROUND(AVERAGE(K39,H39),0) -> 2437 | P39: =ROUND(O39*19%,0) -> 463 | Q39: =+ROUND(O39+P39,0) -> 2900 | T39: =+(H39-K39)/K39 -> -1 | V39: =N39*E39 -> 2437.259
B40: 5 | C40: BORNERA PARA MOTOR DE 10 HP | D40: UN | E40: 1 | F40: 26735.9 | I40: =ROUND(H40*19%,0) -> 0 | K40: =+($L$8/$K$8)*F40 -> 29439.385 | M40: =+ROUND(+K40+#REF!,0) -> #REF! | N40: =K40 -> 29439.385 | O40: =ROUND(AVERAGE(K40,H40),0) -> 29439 | P40: =ROUND(O40*19%,0) -> 5593 | Q40: =+ROUND(O40+P40,0) -> 35032 | T40: =+(H40-K40)/K40 -> -1 | V40: =N40*E40 -> 29439.385
