Workbook
Name _: #REF!
Name _: #REF!
Name _: #REF!
Name _: #REF!
Name _: #REF!
Name _: #REF!
Name _: #REF!
Name ___AFC1: [1]INV!$A$25:$D$28
Name ___AFC3: [1]INV!$F$25:$I$28
Name ___AFC5: [1]INV!$K$25:$N$28
Name ___BGC1: [1]INV!$A$5:$D$8
Name ___BGC3: [1]INV!$F$5:$I$8
Name ___BGC5: [1]INV!$K$5:$N$8
Name ___CAC1: [1]INV!$A$19:$D$22
Name ___CAC3: [1]INV!$F$19:$I$22
Name ___CAC5: [1]INV!$K$19:$N$22
Name ___EST1: #REF!
Name ___EST1: #REF!
Name ___EST1: #REF!
Name ___EST1: #REF!
Name ___EST1: #REF!
Name ___EST1: #REF!
Name ___EST10: #REF!
Name ___EST10: #REF!
Name ___EST10: #REF!
Name ___EST10: #REF!
Name ___EST10: #REF!
Name ___EST10: #REF!
Name ___EST11: #REF!
Name ___EST11: #REF!
Name ___EST11: #REF!
Name ___EST11: #REF!
Name ___EST11: #REF!
Name ___EST11: #REF!
Name ___EST12: #REF!
Name ___EST12: #REF!
Name ___EST12: #REF!
Name ___EST12: #REF!
Name ___EST12: #REF!
Name ___EST12: #REF!
Name ___EST13: #REF!
Name ___EST13: #REF!
Name ___EST13: #REF!
Name ___EST13: #REF!
Name ___EST13: #REF!
Name ___EST13: #REF!
Name ___EST14: #REF!
Name ___EST14: #REF!
Name ___EST14: #REF!
Name ___EST14: #REF!
Name ___EST14: #REF!
Name ___EST14: #REF!
Name ___EST15: #REF!
Name ___EST15: #REF!
Name ___EST15: #REF!
Name ___EST15: #REF!
Name ___EST15: #REF!
Name ___EST15: #REF!
Name ___EST16: #REF!
Name ___EST16: #REF!

Sheet Conformación
A1: =+'K-Kr Constructor'!A1 -> FONDO FINANCIERO DE PROYECTOS DE DESARROLLO – FONADE CLIENTE: MINISTERIO DE VIVIENDA, CIUDAD Y TERRITORIO OBJETO: “DIAGNÓSTICO, CONCERTACIÓN, PLAN DE INTERVENCIÓN Y EJECUCIÓN DE LA CONSTRUCCIÓN DEL PROGRAMA DE CONEXIONES INTRADOMICIALIARIAS, EN LOS MUNICIPIOS DE: PUERTO BERRIO – ANTIOQUIA, COTORRA Y LA APARTADA” CONVOCATORIA PÚBLICA CPU 022-2018 GRUPO N° 3 LA APARTADA - CORDOBA
A4: No. | B4: NOMBRE DEL OFERENTE | C4: REPRESENTANTE LEGAL | D4: INTEGRANTES | E4: Integrante 1 | F4: % Int. 1 | G4: Integrante 2 | H4: % Int. 2 | I4: INTEGRANTE 3 | J4: % Int. 3 | K4: INTEGRANTE 4 | L4: % Int. 4 | M4: INTEGRANTE 5 | N4: % Int. 5 | O4: Telefono | P4: FAX | Q4: Direccion | R4: Email | S4: Ciudad | T4: ANTICIPO | U4: APOYO INDUSTRIA NACIONAL
A5: 3 | B5: CONSORCIO INTRA | C5: LUIS RAFAEL CASTILLO VARGAS | D5: ="("&E5&" "&TEXT(F5,"##0%")&" - "&G5&" "&TEXT(H5,"##0%")&" - "&I5&" "&TEXT(J5,"##0%")&"-"&K5&" "&TEXT(L5,"##0%")&"-"&M5&" "&TEXT(N5,"##0%")&") " -> (Luis Rafael Castillo Vargas 60% - JORGE HEDDY MENESES RENGIFO 40% - 0%- 0%- 0%) | E5: Luis Rafael Castillo Vargas | F5: 0.6 | G5: JORGE HEDDY MENESES RENGIFO | H5: 0.4
A6: 4 | B6: CONSORCIO INTRADOMICILIARIAS 2018 | C6: WILLIAM CARDONA OLMOS | D6: ="("&E6&" "&TEXT(F6,"##0%")&" - "&G6&" "&TEXT(H6,"##0%")&" - "&I6&" "&TEXT(J6,"##0%")&"-"&K6&" "&TEXT(L6,"##0%")&"-"&M6&" "&TEXT(N6,"##0%")&") " -> (WILLIAM CARDONA OLMOS SAS 30% - William Cardona Olmos 70% - 0%- 0%- 0%) | E6: WILLIAM CARDONA OLMOS SAS | F6: 0.3 | G6: William Cardona Olmos | H6: 0.7
D7: ="("&E7&" "&TEXT(F7,"##0%")&" - "&G7&" "&TEXT(H7,"##0%")&" - "&I7&" "&TEXT(J7,"##0%")&"-"&K7&" "&TEXT(L7,"##0%")&"-"&M7&" "&TEXT(N7,"##0%")&") " -> ( 0% - 0% - 0%- 0%- 0%)
A8: 4 | D8: ="("&E8&" "&TEXT(F8,"##0%")&" - "&G8&" "&TEXT(H8,"##0%")&" - "&I8&" "&TEXT(J8,"##0%")&"-"&K8&" "&TEXT(L8,"##0%")&"-"&M8&" "&TEXT(N8,"##0%")&") " -> ( 0% - 0% - 0%- 0%- 0%)
A9: 5 | D9: ="("&E9&" "&TEXT(F9,"##0%")&" - "&G9&" "&TEXT(H9,"##0%")&" - "&I9&" "&TEXT(J9,"##0%")&"-"&K9&" "&TEXT(L9,"##0%")&"-"&M9&" "&TEXT(N9,"##0%")&") " -> ( 0% - 0% - 0%- 0%- 0%)

Sheet K-Kr Constructor
A1: FONDO FINANCIERO DE PROYECTOS DE DESARROLLO – FONADE CLIENTE: MINISTERIO DE VIVIENDA, CIUDAD Y TERRITORIO OBJETO: “DIAGNÓSTICO, CONCERTACIÓN, PLAN DE INTERVENCIÓN Y EJECUCIÓN DE LA CONSTRUCCIÓN DEL PROGRAMA DE CONEXIONES INTRADOMICIALIARIAS, EN LOS MUNICIPIOS DE: PUERTO BERRIO – ANTIOQUIA, COTORRA Y LA APARTADA” CONVOCATORIA PÚBLICA CPU 022-2018 GRUPO N° 3 LA APARTADA - CORDOBA
A2: REQUISITOS MINIMOS DE CARÁCTER TECNICO
A4: SMMLV AÑO ACTUAL | B4: 781242
A5: PRESUPUESTO EVALUABLE (PEE) | B5: 1194914256
A6: PRESUPUESTO EVALUABLE (PEE) - 80%
A7: PTO EXP. EN SMMLV | B7: =+B5/B4 -> 1529.5059 | G7: =150%*(B5/B4) -> 2294.2589 | H7: 150% POE (SMMLV)
A8: 80% PEE (SMMLV) | B8: =+B7*80% -> 1223.6047
A9: 80% PEE ($) | B9: =+B5*80% -> 9.559314e+08
H10: =+G7*B4 -> 1792371384
A11: Capacidad de Organización (CO) | D11: Cálculo de la Experiencia (E )
D12: Experiencia (E) =
D15: Mayor a | E15: Menor o igual a | F15: Puntaje
D16: 0 | E16: 3 | F16: 60
D17: 3 | E17: 6 | F17: 80
A18: DÓLAR | B18: MINIMO EN USD | C18: MINIMO EN PESOS | D18: 6 | E18: 10 | F18: 100
A19: 1853.3 | B19: 125000 | C19: =+B19*A19 -> 231662500 | D19: 10 | E19: Mayores | F19: 120
A22: Cálculo de la Capacidad Financiera (CF) | D22: Cálculo de la Capacidad Técnica (CT)
A23: Índice de liquidez = | D23: Capacidad técnica (CT) se asigna con base en la siguiente tabla:
A25: Mayor o igual a | B25: Menor a | C25: Puntaje | D25: Desde | E25: Hasta | F25: Puntaje
A26: 0 | B26: 0.5 | C26: 20 | D26: 1 | E26: 5 | F26: 20
A27: 0.5 | B27: 0.75 | C27: 25 | D27: 6 | E27: 10 | F27: 30
A28: 0.75 | B28: 1 | C28: 30 | D28: 11 | E28: Mayores | F28: 40
A29: 1 | B29: 1.5 | C29: 35
A30: 1.5 | B30: Mayores | C30: 40
A32: OFERENTE | B32: =VLOOKUP(A33,Conformación!$A$5:$N$129,2,FALSE) -> CONSORCIO INTRA
A33: 3 | B33: =VLOOKUP(A33,Conformación!$A$5:$N$129,4,FALSE) -> (Luis Rafael Castillo Vargas 60% - JORGE HEDDY MENESES RENGIFO 40% - 0%- 0%- 0%) | F33: ANTICIPO (SI / NO) | G33: SI
A36: DESCRIPCIÓN | B36: INTEGRANTE 1 | C36: INTEGRANTE 2 | D36: INTEGRANTE 3 | E36: INTEGRANTE 4 | F36: OBSERVACIONES
B37: =VLOOKUP(A33,Conformación!$A$5:$N$129,5,FALSE) -> Luis Rafael Castillo Vargas | C37: =VLOOKUP(A33,Conformación!$A$5:$N$129,7,FALSE) -> JORGE HEDDY MENESES RENGIFO | D37: =VLOOKUP(A33,Conformación!$A$5:$N$129,9,FALSE) -> 0 | E37: =VLOOKUP(A33,Conformación!$A$5:$N$129,11,FALSE) -> 0
B38: =VLOOKUP(A33,Conformación!$A$5:$N$129,6,FALSE) -> 0.6 | C38: =VLOOKUP(A33,Conformación!$A$5:$N$129,8,FALSE) -> 0.4 | D38: =VLOOKUP(A33,Conformación!$A$5:$N$129,10,FALSE) -> 0 | E38: =VLOOKUP(A33,Conformación!$A$5:$N$129,12,FALSE) -> 0
A39: Capacidad de Organización (CO) | B39: =B40 -> 4359621315 | C39: =+C40 -> 1464994000 | D39: =+D40 -> 0
A40: Mayor ingreso operacional | B40: 4359621315 | C40: 1464994000 | G40: FORMATO 18
A41: Puntos * experiencia (E ) | B41: =+IF(AND(B43>$D$16,B43<=$E$16),$F$16,IF(AND(B43>$D$17,B43<=$E$17),$F$17,IF(AND(B43>$D$18,B43<=$E$18),$F$18,IF(B43>$D$19,$F$19,"N/A")))) -> 120 | C41: =+IF(AND(C43>$D$16,C43<=$E$16),$F$16,IF(AND(C43>$D$17,C43<=$E$17),$F$17,IF(AND(C43>$D$18,C43<=$E$18),$F$18,IF(C43>$D$19,$F$19,"N/A")))) -> 120 | D41: =+IF(AND(D43>$D$16,D43<=$E$16),$F$16,IF(AND(D43>$D$17,D43<=$E$17),$F$17,IF(AND(D43>$D$18,D43<=$E$18),$F$18,IF(D43>$D$19,$F$19,"N/A")))) -> #DIV/0! | E41: =+IF(AND(E43>$D$16,E43<=$E$16),$F$16,IF(AND(E43>$D$17,E43<=$E$17),$F$17,IF(AND(E43>$D$18,E43<=$E$18),$F$18,IF(E43>$D$19,$F$19,"N/A")))) -> #DIV/0!
A42: Valor Total de los contratos (RUP) | B42: 2.9115433e+10 | C42: 7.5647147e+09 | G42: FORMATO 15 VALOR TOTAL (VERIFICAR CONTRATOS INSCRITOS EN EL RUP… EN EL SEGMENTO QUE INDIQUE LAS REGLAS
A43: Calculo de la Experiencia | B43: =+(B42/($B$5*B38)) -> 40.610213 | C43: =+(C42/($B$5*C38)) -> 15.826899 | D43: =+(D42/($B$5*D38)) -> #DIV/0! | E43: =+(E42/($B$5*E38)) -> #DIV/0!
A44: Puntos * capacidad Financiera (CF) | B44: =+IF(AND(B45>=$A$26,B45<$B$26),$C$26,IF(AND(B45>=$A$27,B45<$B$27),$C$27,IF(AND(B45>=$A$28,B45<$B$28),$C$28,IF(AND(B45>=$A$29,B45<$B$29),$C$29,IF(B45>=$A$30,$C$30,"N/A"))))) -> 40 | C44: =+IF(AND(C45>=$A$26,C45<$B$26),$C$26,IF(AND(C45>=$A$27,C45<$B$27),$C$27,IF(AND(C45>=$A$28,C45<$B$28),$C$28,IF(AND(C45>=$A$29,C45<$B$29),$C$29,IF(C45>=$A$30,$C$30,"N/A"))))) -> 40 | D44: =+IF(AND(D45>=$A$26,D45<$B$26),$C$26,IF(AND(D45>=$A$27,D45<$B$27),$C$27,IF(AND(D45>=$A$28,D45<$B$28),$C$28,IF(AND(D45>=$A$29,D45<$B$29),$C$29,IF(D45>=$A$30,$C$30,"N/A"))))) -> 20 | E44: =+IF(AND(E45>=$A$26,E45<$B$26),$C$26,IF(AND(E45>=$A$27,E45<$B$27),$C$27,IF(AND(E45>=$A$28,E45<$B$28),$C$28,IF(AND(E45>=$A$29,E45<$B$29),$C$29,IF(E45>=$A$30,$C$30,"N/A"))))) -> 20
A45: Indice de Liquidez | B45: 11.36 | C45: 237.61 | G45: RUP
A46: Puntos * Capacidad Técnica (CT) | B46: =+IF(AND(B47>=$D$26,B47<=$E$26),$F$26,IF(AND(B47>=$D$27,B47<=$E$27),$F$27,IF(B47>=$D$28,$F$28,"N/A"))) -> 40 | C46: =+IF(AND(C47>=$D$26,C47<=$E$26),$F$26,IF(AND(C47>=$D$27,C47<=$E$27),$F$27,IF(C47>=$D$28,$F$28,"N/A"))) -> 20 | D46: =+IF(AND(D47>=$D$26,D47<=$E$26),$F$26,IF(AND(D47>=$D$27,D47<=$E$27),$F$27,IF(D47>=$D$28,$F$28,"N/A"))) -> N/A | E46: =+IF(AND(E47>=$D$26,E47<=$E$26),$F$26,IF(AND(E47>=$D$27,E47<=$E$27),$F$27,IF(E47>=$D$28,$F$28,"N/A"))) -> N/A
A47: Numero de Profesionales | B47: 11 | C47: 4 | G47: FORMATO 16
A48: Saldo de contratos en ejecución (SCE) | B48: =+'Saldos de contratos (SCE)'!H21 -> 0 | C48: =+'Saldos de contratos (SCE)'!H41 -> 0 | D48: =+'Saldos de contratos (SCE)'!H59 -> #DIV/0! | E48: =+'Saldos de contratos (SCE)'!H76 -> #DIV/0!
A49: CAPACIDAD RESIDUAL DEL OFERENTE | B49: =+((B39*((B41+B44+B46)/100))-B48) -> 8719242630 | C49: =+((C39*((C41+C44+C46)/100))-C48) -> 2636989200 | D49: =+((D39*((D41+D44+D46)/100))-D48) -> #DIV/0! | E49: =+((E39*((E41+E44+E46)/100))-E48) -> #DIV/0!
...

Sheet Saldos de contratos (SCE)
A1: =+'K-Kr Constructor'!A1:F1 -> FONDO FINANCIERO DE PROYECTOS DE DESARROLLO – FONADE CLIENTE: MINISTERIO DE VIVIENDA, CIUDAD Y TERRITORIO OBJETO: “DIAGNÓSTICO, CONCERTACIÓN, PLAN DE INTERVENCIÓN Y EJECUCIÓN DE LA CONSTRUCCIÓN DEL PROGRAMA DE CONEXIONES INTRADOMICIALIARIAS, EN LOS MUNICIPIOS DE: PUERTO BERRIO – ANTIOQUIA, COTORRA Y LA APARTADA” CONVOCATORIA PÚBLICA CPU 022-2018 GRUPO N° 3 LA APARTADA - CORDOBA
A3: OFERENTE | B3: =VLOOKUP(A4,Conformación!$A$5:$N$129,2,FALSE) -> CONSORCIO INTRA
A4: 3 | B4: =VLOOKUP(A4,Conformación!$A$5:$N$129,4,FALSE) -> (Luis Rafael Castillo Vargas 60% - JORGE HEDDY MENESES RENGIFO 40% - 0%- 0%- 0%)
A6: INTEGRANTE 1
A7: =VLOOKUP(A4,Conformación!$A$5:$N$129,5,FALSE) -> Luis Rafael Castillo Vargas
A8: =VLOOKUP(A4,Conformación!$A$5:$N$129,6,FALSE) -> 0.6
A9: DESCRIPCIÓN | B9: CONTRATO 1 | C9: CONTRATO 2 | D9: CONTRATO 3 | E9: CONTRATO 4 | F9: CONTRATO 5 | G9: CONTRATO 6 | H9: CONTRATO 7 | I9: CONTRATO 8 | J9: CONTRATO 9
A10: Plazo | B10: =8.3*30 -> 249 | C10: =3*30 -> 90
A11: Valor | B11: 5.750025e+09 | C11: 4.357999e+08
A12: Fecha de inicio | B12: 43136 | C12: 43227
A13: Fecha de renicio
A14: Fecha de suspensión
A15: Porcentaje de participación: | B15: 0.6 | C15: 0.1
A16: Fecha de presentación de la oferta objeto del Proceso de Contratación | B16: 43249 | C16: 43249
A17: Días ejecutados | B17: =+B16-B12 -> 113 | C17: =+C16-C12 -> 22
A18: Días por ejecutar | B18: =B10-B17 -> 136 | C18: =+C10-C17 -> 68 | G18: =+G10-G17 -> 0 | H18: =+H10-H17 -> 0 | I18: =+I10-I17 -> 0 | J18: =+J10-J17 -> 0
A19: Saldo diario del contrato en ejecución | B19: =+(B11/(B10*30)) -> 769749 | C19: =+(C11/(C10*30)) -> 161407.37 | D19: =+(D11/(D10*30)) -> #DIV/0! | E19: =+(E11/(E10*30)) -> #DIV/0! | F19: =+(F11/(F10*30)) -> #DIV/0! | G19: =+(G11/(G10*30)) -> #DIV/0! | H19: =+(H11/(H10*30)) -> #DIV/0! | I19: =+(I11/(I10*30)) -> #DIV/0! | J19: =+(J11/(J10*30)) -> #DIV/0!
A20: SALDO DEL CONTRATO EN EJECUCIÓN | B20: =+B19*B18*B15 -> 62811518 | C20: =+C19*C18*C15 -> 1097570.1 | D20: =+D19*D18*D15 -> #DIV/0! | E20: =+E19*E18*E15 -> #DIV/0! | F20: =+F19*F18*F15 -> #DIV/0! | G20: =+G19*G18*G15 -> #DIV/0! | H20: =+H19*H18*H15 -> #DIV/0! | I20: =+I19*I18*I15 -> #DIV/0! | J20: =+J19*J18*J15 -> #DIV/0!
A21: TOTAL DE SALDOS DE CONTRATOS EN EJECUCIÓN | H21: 0 | J21: =SUM(B20:C20) -> 63909088
A23: Nota: En la casilla de los dias por ejecutar que superen los 360 dias. Se debe incluir 360 dias
A25: INTEGRANTE 2
A26: =VLOOKUP(A4,Conformación!$A$5:$N$129,7,FALSE) -> JORGE HEDDY MENESES RENGIFO
A27: =VLOOKUP(A4,Conformación!$A$5:$N$129,8,FALSE) -> 0.4
A28: DESCRIPCIÓN | B28: CONTRATO 1 | C28: CONTRATO 2 | D28: CONTRATO 3 | E28: CONTRATO 4 | F28: CONTRATO 5 | G28: CONTRATO 6 | H28: CONTRATO 7 | I28: CONTRATO 8
A29: Plazo (MESES)
A30: Plazo (DIAS)
A31: Valor
A32: Fecha de inicio
A33: Fecha de suspensión
A34: Fecha de reiensión
A35: Porcentaje de participación:
A36: Fecha de presentación de la oferta objeto del Proceso de Contratación
A37: Días ejecutados | B37: =+B36-B32-14 -> -14 | C37: =+C36-C32-72 -> -72 | D37: =+D36-D32 -> 0 | E37: =+E36-E32 -> 0 | F37: =+F36-F32 -> 0 | G37: =+G36-G32 -> 0 | H37: =+H36-H32 -> 0 | I37: =+I36-I32 -> 0
A38: Días por ejecutar | B38: =+B29-B37 -> 14 | C38: =+C29-C37 -> 72
A39: Saldo diario del contrato en ejecución | B39: =+(B31/(B29*30)) -> #DIV/0! | C39: =+(C31/(C29*30)) -> #DIV/0! | D39: =+(D31/(D29*30)) -> #DIV/0! | E39: =+(E31/(E29*30)) -> #DIV/0! | F39: =+(F31/(F29*30)) -> #DIV/0! | G39: =+(G31/(G29*30)) -> #DIV/0! | H39: =+(H31/(H29*30)) -> #DIV/0! | I39: =+(I31/(I29*30)) -> #DIV/0!
A40: SALDO DEL CONTRATO EN EJECUCIÓN | B40: =+B39*B38*B35 -> #DIV/0! | C40: =+C39*C38*C35 -> #DIV/0! | D40: =+D39*D38*D35 -> #DIV/0! | E40: =+E39*E38*E35 -> #DIV/0! | F40: =+F39*F38*F35 -> #DIV/0! | G40: =+G39*G38*G35 -> #DIV/0! | H40: =+H39*H38*H35 -> #DIV/0! | I40: =+I39*I38*I35 -> #DIV/0!
A41: TOTAL DE SALDOS DE CONTRATOS EN EJECUCIÓN | H41: 0
A43: Nota: En la casilla de los dias por ejecutar que superen los 360 dias. Se debe incluir 360 dias | E43: =+B34-B33 -> 0 | F43: =+C34-C33 -> 0
A44: Si el número de días por ejecutar en un contrato es superior a 12 meses, es decir 360 días, el Saldo del Contrato en Ejecución solo tendrá en cuenta la proporción lineal de 12 meses
A45: INTEGRANTE 3
...

Sheet Exp. oferente
A1: =+'K-Kr Constructor'!A1:F1 -> FONDO FINANCIERO DE PROYECTOS DE DESARROLLO – FONADE CLIENTE: MINISTERIO DE VIVIENDA, CIUDAD Y TERRITORIO OBJETO: “DIAGNÓSTICO, CONCERTACIÓN, PLAN DE INTERVENCIÓN Y EJECUCIÓN DE LA CONSTRUCCIÓN DEL PROGRAMA DE CONEXIONES INTRADOMICIALIARIAS, EN LOS MUNICIPIOS DE: PUERTO BERRIO – ANTIOQUIA, COTORRA Y LA APARTADA” CONVOCATORIA PÚBLICA CPU 022-2018 GRUPO N° 3 LA APARTADA - CORDOBA
T2: AÑO | U2: SMMLV
A3: EXPERIENCIA TÉCNICA DEL OFERENTE | T3: 1984 | U3: 11298
T4: 1985 | U4: 13557.6
T5: 1986 | U5: 16811.4
A6: El oferente debe acreditar en su oferta, que cuenta con experiencia específica en: CONSTRUCCIÓN DE EDIFICACIONES Y/O AMPLIACIÓN DE EDIFICACIONES Y/O DE MEJORAMIENTO INTEGRAL DE VIVIENDA Y/O CONSTRUCCIÓN DE REDES DE ALCANTARILLADO PLUVIAL Y/O AMPLIACIÓN DE REDES DE ALCANTARILLADO PLUVIAL, Y/O PROYECTOS DE CONSTRUCCIÓN DE REDES INTRADOMICILIARIA DE ACUEDUCTO Y/O PROYECTOS DE CONSTRUCCIÓN DE REDES INTRADOMICILIARIA DE ALCANTARILLADO Y/O CONSTRUCCIÓN DE REDES DOMICILIARIAS DE ACUEDUCTO Y/O CONSTRUCCIÓN DE REDES DOMICILIARIAS DE ALCANTARILLADO Y/O CONSTRUCCIÓN DE REDES ALCANTARILLADO Y/O AMPLIACIÓN Y/O OPTIMIZACIÓN DE REDES ALCANTARILLADO Y/O CONSTRUCCIÓN DE REDES DE ACUEDUCTO Y/O AMPLIACIÓN Y/U OPTIMIZACIÓN DE REDES ACUEDUCTO. | T6: 1987 | U6: 20509.8
A7: La experiencia debe ser acreditada con la ejecución de mínimo uno (01) y máximo cinco (05) contratos. | T7: 1987 | U7: 20509.8
A8: Los contratos aportados deben sumar, en su conjunto, un valor igual o superior a 2.0 veces el valor del POE para cada grupo, expresado en SMMLV. | T8: 1987 | U8: 20509.8
T9: 1987 | U9: 20509.8
A10: MÍNIMO uno de los contratos aportados, debe ser de valor igual o superior al POE para cada Grupo expresado en SMMLV. | T10: 1987 | U10: 20509.8
T12: 1988 | U12: 25637.4
I13: SMMLV | T13: 1989 | U13: 32559.6
E14: Mínimo uno de los contratos aportados deberá ser igual o superior a1 el valor del POE, expresado en SMMLV | F14: =(+H15/H16) -> 1529.5059 | I14: =H15/H16 -> 1529.5059 | T14: 1990 | U14: 41025
G15: presup.of | H15: =+'K-Kr Constructor'!B5 -> 1194914256 | I15: SMMLV | T15: 1991 | U15: 51716.1
G16: SMMLV 2017 | H16: =+'K-Kr Constructor'!B4 -> 781242 | I16: =+I14*2 -> 3059.0118 | T16: 1992 | U16: 65190
T17: 1993 | U17: 81510
T18: 1994 | U18: 98700
B19: Oferente | C19: 3 | D19: =VLOOKUP(C19,Conformación!$A$5:$N$129,2,FALSE) -> CONSORCIO INTRA | T19: 1995 | U19: 118933.5
D20: =VLOOKUP(C19,Conformación!$A$5:$N$129,4,FALSE) -> (Luis Rafael Castillo Vargas 60% - JORGE HEDDY MENESES RENGIFO 40% - 0%- 0%- 0%) | T20: 1996 | U20: 142125
N21: INTEGRANTES | T21: 1997 | U21: 172005
N22: =+F36 -> Luis Rafael Castillo Vargas | O22: =+F37 -> JORGE HEDDY MENESES RENGIFO | P22: =+F38 -> 0 | Q22: =+F39 -> 0 | R22: =+F40 -> 0 | T22: 1998 | U22: 203826
A23: No | B23: PROPIETARIO O ENTIDAD CONTRATANTE | C23: APORTADA POR | D23: % en Cto | E23: OBJETO | F23: Fecha de Terminación | G23: Folio | H23: VALOR | I23: =+I$13 -> SMMLV | J23: OBSERVACIONES | L23: RUP | N23: =+IF(C24=$N$22,I24,0) -> 0 | O23: =+IF(C24=$O$22,I24,0) -> 3734.1299 | P23: =+IF(C24=$P$22,I24,0) -> 0 | Q23: =+IF(C24=$Q$22,I24,0) -> 0 | R23: =+IF(C24=$R$22,I24,0) -> 0 | T23: 1999 | U23: 236460
A24: 1 | B24: FONADE | C24: JORGE HEDDY MENESES RENGIFO | D24: 1 | E24: LAS OBRAS DE CONSTRUCCION DE AULAS TEMPORALES, MANTENIMIENTO CORRECTIVO Y REPARACION ESTRUCTURAL, PARA ATENDER LAS AFECTACIONES DE LAS INFRAESTRUCTURAS EDUCATIVAS DEL DEPARTAMENTO DEL TOLIMA, PRODUCIDAS POR LA OLA INVERNAL DEL 2010, CONTRATACION QUE SE REALIZA EN EL MARCO DE LA FASE 1 Y 2 DEL PLAN DE ACCION DEL SECTOR EDUCATIVO, EMERGENCIA INVERNAL 2010-2011, DE ACUERDO CON LA DESCRIPCION, ESPECIFICACIONES Y DEMAS CONDICIONES ESTABLECIDAS EN EL PRESENTE DOCUMENTO E INFORMACION TECNICA SUMINISTRADA POR FONADE. | F24: 40771 | H24: 2000000000 | I24: =IF(F24=0,0,IF(F24<$F$13,"FUERA DE TIEMPO",H24*D24/VLOOKUP(YEAR(F24),$T$3:$U$41,2,0))) -> 3734.1299 | K24: =+IF(I24>=$I$14,1,0) -> 1 | L24: 12 | N24: =+IF(C25=$N$22,I25,0) -> 434.50195 | O24: =+IF(C25=$O$22,I25,0) -> 0 | P24: =+IF(C25=$P$22,I25,0) -> 0 | Q24: =+IF(C25=$Q$22,I25,0) -> 0 | R24: =+IF(C25=$R$22,I25,0) -> 0 | T24: 2000 | U24: 260100 | Y24: 275000000
A25: 2 | B25: MUNICIPIO DE AQUITANIA | C25: Luis Rafael Castillo Vargas | D25: 1 | E25: CONSTRUCCION ALCANTARILLADO PLUVIAL CARRERA 9 ENTRE CALLE 6 Y TRANSVERSAL 7 MUNICIPIO DE AQUITANIA. | F25: 40891 | H25: 2.3271924e+08 | I25: =IF(F25=0,0,IF(F25<$F$13,"FUERA DE TIEMPO",H25*D25/VLOOKUP(YEAR(F25),$T$3:$U$41,2,0))) -> 434.50195 | K25: 1 | L25: 20 | N25: =+IF(C26=$N$22,I26,0) -> 1245.1661 | O25: =+IF(C26=$O$22,I26,0) -> 0 | P25: =+IF(C26=$P$22,I26,0) -> 0 | Q25: =+IF(C26=$Q$22,I26,0) -> 0 | R25: =+IF(C26=$R$22,I26,0) -> 0 | T25: 2001 | U25: 286000
A26: 3 | B26: FONADE | C26: Luis Rafael Castillo Vargas | D26: 1 | E26: DISEÑOS, ESTUDIOS TECNICOS Y CONSTRUCCION DE DOCE (12) AULAS Y UNA (1) BATERIA SANITARIA EN EL INSTITUTO TECNICO AGROPECUARIO DEL MUNICIPIO DE UMBITABOYACA, POR EL SISTEMA DE PRECIO GLOBAL FIJO. | F26: 39714 | H26: 5.7464417e+08 | I26: =IF(F26=0,0,IF(F26<$F$13,"FUERA DE TIEMPO",H26*D26/VLOOKUP(YEAR(F26),$T$3:$U$41,2,0))) -> 1245.1661 | K26: 1 | L26: 36 | N26: =+IF(C27=$N$22,I27,0) -> 0 | O26: =+IF(C27=$O$22,I27,0) -> 0 | P26: =+IF(C27=$P$22,I27,0) -> 0 | Q26: =+IF(C27=$Q$22,I27,0) -> 0 | R26: =+IF(C27=$R$22,I27,0) -> 0 | T26: 2002 | U26: 309000
A27: 4 | I27: =IF(F27=0,0,IF(F27<$F$13,"FUERA DE TIEMPO",H27*D27/VLOOKUP(YEAR(F27),$T$3:$U$41,2,0))) -> 0 | K27: =+IF(I27>=$I$14,1,0) -> 0 | L27: 35 | N27: =+IF(C28=$N$22,I28,0) -> 0 | O27: =+IF(C28=$O$22,I28,0) -> 0 | P27: =+IF(C28=$P$22,I28,0) -> 0 | Q27: =+IF(C28=$Q$22,I28,0) -> 0 | R27: =+IF(C28=$R$22,I28,0) -> 0 | T27: 2003 | U27: 332000
A28: 5 | I28: =IF(F28=0,0,IF(F28<$F$13,"FUERA DE TIEMPO",H28*D28/VLOOKUP(YEAR(F28),$T$3:$U$41,2,0))) -> 0 | K28: =+IF(I28>=$I$14,1,0) -> 0 | L28: 36 | N28: =+IF(C29=$N$22,I29,0) -> 0 | O28: =+IF(C29=$O$22,I29,0) -> 0 | P28: =+IF(C29=$P$22,I29,0) -> 0 | Q28: =+IF(C29=$Q$22,I29,0) -> 0 | R28: =+IF(C29=$R$22,I29,0) -> 0 | T28: 2004 | U28: 358000
A29: 6 | I29: =IF(F29=0,0,IF(F29<$F$13,"FUERA DE TIEMPO",H29*D29/VLOOKUP(YEAR(F29),$T$3:$U$36,2,0))) -> 0 | K29: =+IF(I29>=$I$14,1,0) -> 0 | N29: =+IF(C30=$N$22,I30,0) -> 0 | O29: =+IF(C30=$O$22,I30,0) -> 0 | P29: =+IF(C30=$P$22,I30,0) -> 0 | Q29: =+IF(C30=$Q$22,I30,0) -> 0 | R29: =+IF(C30=$R$22,I30,0) -> 0 | T29: 2005 | U29: 381500
A30: 7 | I30: =IF(F30=0,0,IF(F30<$F$13,"FUERA DE TIEMPO",H30*D30/VLOOKUP(YEAR(F30),$T$3:$U$36,2,0))) -> 0 | K30: =+IF(I30>=$I$14,1,0) -> 0 | N30: =+IF(C31=$N$22,I31,0) -> 0 | O30: =+IF(C31=$O$22,I31,0) -> 0 | P30: =+IF(C31=$P$22,I31,0) -> 0 | Q30: =+IF(C31=$Q$22,I31,0) -> 0 | R30: =+IF(C31=$R$22,I31,0) -> 0 | T30: 2006 | U30: 408000
A31: 8 | I31: =IF(F31=0,0,IF(F31<$F$13,"FUERA DE TIEMPO",H31*D31/VLOOKUP(YEAR(F31),$T$3:$U$36,2,0))) -> 0 | K31: =+IF(I31>=$I$14,1,0) -> 0 | N31: =+IF(C32=$N$22,I32,0) -> 0 | O31: =+IF(C32=$O$22,I32,0) -> 0 | P31: =+IF(C32=$P$22,I32,0) -> 0 | Q31: =+IF(C32=$Q$22,I32,0) -> 0 | R31: =+IF(C32=$R$22,I32,0) -> 0 | T31: 2007 | U31: 433700
A32: 9 | I32: =IF(F32=0,0,IF(F32<$F$13,"FUERA DE TIEMPO",H32*D32/VLOOKUP(YEAR(F32),$T$3:$U$36,2,0))) -> 0 | K32: =+IF(I32>=$I$14,1,0) -> 0 | N32: =SUM(N23:N31) -> 1679.6681 | O32: =SUM(O23:O31) -> 3734.1299 | P32: =SUM(P23:P31) -> 0 | Q32: =SUM(Q23:Q31) -> 0 | R32: =SUM(R23:R31) -> 0 | T32: 2008 | U32: 461500
A33: 10 | I33: =IF(F33=0,0,IF(F33<$F$13,"FUERA DE TIEMPO",H33*D33/VLOOKUP(YEAR(F33),$T$3:$U$36,2,0))) -> 0 | K33: =+IF(I33>=$I$14,1,0) -> 0 | T33: 2009 | U33: 496900
H34: TOTAL | I34: =SUM(I24:I33) -> 5413.798 | K34: =SUM(K24:K33) -> 3 | T34: 2010 | U34: 515000
B35: NOTA: VERIFICAR QUE LOS CONTRATOS ESTEN EN EL RUP | I35: =+IF(OR(K34=0,I41>=1),"NO CUMPLE","CUMPLE") -> CUMPLE | J35: =IF(I35="NO CUMPLE","0",IF(I34>=$I$16,"CUMPLE SUMATORIA DE TODOS 2,0 DEL POE",IF(I34<$I$16,"NO CUMPLE SUMATORIA DE TODOS 2,0 DEL POE"))) -> CUMPLE SUMATORIA DE TODOS 2,0 DEL POE | T35: 2011 | U35: 535600
F36: =VLOOKUP(C19,Conformación!$A$5:$N$129,5,FALSE) -> Luis Rafael Castillo Vargas | G36: =VLOOKUP(C19,Conformación!$A$5:$N$129,6,FALSE) -> 0.6 | H36: =+N32 -> 1679.6681 | I36: =+IF(H36<MAX(H36:H40),"",IF(H36=MAX(H36:H40)*AND(SUM(H36:H40)>MAX(H36:H40))*AND((G36>=0.34)),"V.Bo.",IF(H36=MAX(H36:H40)*AND(H36=SUM(H36:H40))*AND(G36>=0.51),"V.Bo.","NO CUMPLE"))) | T36: 2012 | U36: 566700
F37: =VLOOKUP(C19,Conformación!$A$5:$N$129,7,FALSE) -> JORGE HEDDY MENESES RENGIFO | G37: =VLOOKUP(C19,Conformación!$A$5:$N$129,8,FALSE) -> 0.4 | H37: =+O32 -> 3734.1299 | T37: 2013 | U37: 589500
F38: =VLOOKUP(C19,Conformación!$A$5:$N$129,9,FALSE) -> 0 | G38: =VLOOKUP(C19,Conformación!$A$5:$N$129,10,FALSE) -> 0 | H38: =+P32 -> 0 | I38: =+IF(H38<MAX(H36:H40),"",IF(H38=MAX(H36:H40)*AND(SUM(H36:H40)>MAX(H36:H40))*AND((G38>0.34)),"V.Bo.",IF(H38=MAX(H36:H40)*AND(H38=SUM(H36:H40))*AND(G38>=0.51),"V.Bo.","NO CUMPLE"))) | T38: 2014 | U38: 616000
F39: =VLOOKUP(C19,Conformación!$A$5:$N$129,11,FALSE) -> 0 | G39: =VLOOKUP(C19,Conformación!$A$5:$N$129,12,FALSE) -> 0 | H39: =+Q32 -> 0 | I39: =+IF(H39<MAX(H36:H40),"",IF(H39=MAX(H36:H40)*AND(SUM(H36:H40)>MAX(H36:H40))*AND((G39>0.34)),"V.Bo.",IF(H39=MAX(H36:H40)*AND(H39=SUM(H36:H40))*AND(G39>=0.51),"V.Bo.","NO CUMPLE"))) | T39: 2015 | U39: 644350
F40: =VLOOKUP(C19,Conformación!$A$5:$N$129,13,FALSE) -> 0 | G40: =VLOOKUP(C19,Conformación!$A$5:$N$129,14,FALSE) -> 0 | H40: =+R32 -> 0 | I40: =+IF(H40<MAX(H36:H40),"",IF(H40=MAX(H36:H40)*AND(SUM(H36:H40)>MAX(H36:H40))*AND((G40>0.34)),"V.Bo.",IF(H40=MAX(H36:H40)*AND(H40=SUM(H36:H40))*AND(G40>=0.51),"V.Bo.","NO CUMPLE"))) | T40: 2016 | U40: 689454
I41: 0 | T41: 2017 | U41: 717737
...

Sheet Exp. profesionales
A1: =+'K-Kr Constructor'!A1:F1 -> FONDO FINANCIERO DE PROYECTOS DE DESARROLLO – FONADE CLIENTE: MINISTERIO DE VIVIENDA, CIUDAD Y TERRITORIO OBJETO: “DIAGNÓSTICO, CONCERTACIÓN, PLAN DE INTERVENCIÓN Y EJECUCIÓN DE LA CONSTRUCCIÓN DEL PROGRAMA DE CONEXIONES INTRADOMICIALIARIAS, EN LOS MUNICIPIOS DE: PUERTO BERRIO – ANTIOQUIA, COTORRA Y LA APARTADA” CONVOCATORIA PÚBLICA CPU 022-2018 GRUPO N° 3 LA APARTADA - CORDOBA | P1: 1957 | Q1: 155.4
P2: 1958 | Q2: 155.4
P3: 1959 | Q3: 155.4
A4: REQUISITOS MINIMOS - PERSONAL PRINCIPAL REQUERIDO - CUMPLE/ NO CUMPLE | P4: 1960 | Q4: 198
P5: 1961
A6: CARGO A DESEMPEÑAR | B6: FORMACIÓN ACADÉMICA | C6: TIEMPO MÍNIMO REQUERIDO DE HABER TERMINADO Y APROBADO ESTUDIOS (EN AÑOS) | E6: NUMERO DE PROYECTOS A ACREDITAR | F6: EXPERIENCIA ESPECÍFICA | H6: REQUERIMIENTO PARTICULAR | J6: REQUISITO MINIMO ENSMMLV | P6: 1962 | Q6: 300
A7: Residente de Obra | B7: Arquitecto Diseñador o Ingeniero Civil | C7: 3 | D7: 41805 | E7: 2 | F7: Residente de obra para la construcción y/o ampliación de parques y/o construcción y/o ampliación de canchas en pasto sintético y/o natural y/o escenarios deportivos | H7: El valor de uno de los proyectos aportados deberá ser mayor o igual al 100% del valor de presupuesto indicado en el numeral 4.2 etapa 2. Ejecución de la obra sin incluir costos de fiducia y prima de manejo de anticipo expresado en SMMLV | J7: 1252.89 | P7: 1963 | Q7: 420
L8: 899244696 | P8: 1964 | Q8: 420
L9: 717737 | P9: 1965 | Q9: 420
L10: =+L8/L9 -> 1252.8889 | P10: 1966 | Q10: 420
P11: 1967 | Q11: 420
P12: 1968 | Q12: 420
P13: 1969 | Q13: 519
P14: 1970 | Q14: 519
P15: 1971 | Q15: 519
P16: 1972 | Q16: 660
P17: 1973 | Q17: 660
P18: 1974 | Q18: 900
P19: 1975 | Q19: 1200
P20: 1976 | Q20: 1560
A21: OFERENTE | B21: 1 | C21: =VLOOKUP(B21,Conformación!$A$5:$N$129,2,FALSE) -> #N/A | P21: 1977 | Q21: 1770
C22: =VLOOKUP(B21,Conformación!$A$5:$N$129,4,FALSE) -> #N/A | P22: 1978 | Q22: 2580
P23: 1979 | Q23: 3450
P24: 1980 | Q24: 4500
A25: CARGO | B25: NOMBRE | C25: TARJETA PROFESIONAL | D25: FECHA EXPEDICIÓN | F25: PROFESION | G25: OBJETO | H25: FECHA TERMINACIÓN CONTRATO | I25: VALOR | K25: REQUERIMIENTO PARTICULAR QUE ACREDITA | L25: FOLIO | M25: OBSERVACIONES | P25: 1981 | Q25: 5700
A26: =+A7 -> Residente de Obra | B26: HENRY ALBERTO PEÑA PRADA | C26: A68071999-91257636 | D26: 36315 | E26: =IF(D26=0,0,IF(D26<D$7,"CUMPLE EL TIEMPO MÍNIMO REQUERIDO DE HABER TERMINADO Y APROBADO ESTUDIOS","NO CUMPLE EL TIEMPO MÍNIMO REQUERIDO DE HABER TERMINADO Y APROBADO ESTUDIOS")) -> CUMPLE EL TIEMPO MÍNIMO REQUERIDO DE HABER TERMINADO Y APROBADO ESTUDIOS | F26: ARQUITECTO ESPECIALISTA GERENCIA INTEGRAL DE OBRAS | G26: CONSTRUCCION ZONAS DEPORTIVAS DEL PARQUE PRINCIPAL DEL MUNICIPIO DE LA MESAD E LOS SANTOS | H26: 38533 | I26: 530000000 | J26: =IF(I26=0,0,IF(H26<D$26,"EXPERIENCIA ADQUIRIDA ANTES DEL GRADO",I26/VLOOKUP(YEAR(H26),$P$24:$Q$59,2,0))) -> 1389.2529 | K26: =IF(I26>=J$7,"cumple",0) -> cumple | L26: 136 | M26: PRESENTA VIGENCIA FECHAS DE LABORES | P26: 1982 | Q26: 7410
G27: AMPLIACION PARQUE PRINCIPAL DEL MUNICIPIO DEL VALLE DE SAN JOSE | H27: 38441 | I27: 400000000 | J27: =IF(I27=0,0,IF(H27<D$26,"EXPERIENCIA ADQUIRIDA ANTES DEL GRADO",I27/VLOOKUP(YEAR(H27),$P$24:$Q$59,2,0))) -> 1048.4928 | K27: =IF(I27>=J$7,"cumple",0) -> cumple | L27: 137 | M27: FECHAS DE LABORES | P27: 1983 | Q27: 9261
J28: =IF(I28=0,0,IF(H28<D$26,"EXPERIENCIA ADQUIRIDA ANTES DEL GRADO",I28/VLOOKUP(YEAR(H28),$P$24:$Q$59,2,0))) -> 0 | K28: =IF(I28>=J$7,"cumple",0) -> 0 | P28: 1984 | Q28: 11298
J29: =IF(I29=0,0,IF(H29<D$26,"EXPERIENCIA ADQUIRIDA ANTES DEL GRADO",I29/VLOOKUP(YEAR(H29),$P$24:$Q$59,2,0))) -> 0 | K29: =IF(I29>=J$7,"cumple",0) -> 0 | P29: 1980 | Q29: 4500
J30: =IF(I30=0,0,IF(H30<D$26,"EXPERIENCIA ADQUIRIDA ANTES DEL GRADO",I30/VLOOKUP(YEAR(H30),$P$24:$Q$59,2,0))) -> 0 | K30: =IF(I30>=J$7,"cumple",0) -> 0 | P30: 1981 | Q30: 5700
K31: =IF(I31>=J$7,"cumple",0) -> 0 | P31: 1985 | Q31: 13557
P32: 1986 | Q32: 16811.4
G33: TOTAL | J33: =SUM(J26:J32) -> 2437.7457 | P33: 1987 | Q33: 20510
P34: 1981 | Q34: 5700
P35: 1988 | Q35: 25637.4
P36: 1989 | Q36: 32559.6
P37: 1990 | Q37: 41025.1
P38: 1991 | Q38: 51720
P39: 1992 | Q39: 65190
P40: 1993 | Q40: 81510
...

Sheet Resumen Evaluación
A1: =+'K-Kr Constructor'!A1:F1 -> FONDO FINANCIERO DE PROYECTOS DE DESARROLLO – FONADE CLIENTE: MINISTERIO DE VIVIENDA, CIUDAD Y TERRITORIO OBJETO: “DIAGNÓSTICO, CONCERTACIÓN, PLAN DE INTERVENCIÓN Y EJECUCIÓN DE LA CONSTRUCCIÓN DEL PROGRAMA DE CONEXIONES INTRADOMICIALIARIAS, EN LOS MUNICIPIOS DE: PUERTO BERRIO – ANTIOQUIA, COTORRA Y LA APARTADA” CONVOCATORIA PÚBLICA CPU 022-2018 GRUPO N° 3 LA APARTADA - CORDOBA
B2: OFERENTE : | C2: 1 | D2: =VLOOKUP(C2,Conformación!$A$5:$N$129,2,FALSE) -> #N/A | H2: OFERENTE : | I2: 2 | J2: =VLOOKUP(I2,Conformación!$A$5:$N$129,2,FALSE) -> #N/A | N2: OFERENTE : | O2: 3 | P2: =VLOOKUP(O2,Conformación!$A$5:$N$129,2,FALSE) -> CONSORCIO INTRA | T2: OFERENTE : | U2: 4 | V2: =VLOOKUP(U2,Conformación!$A$5:$N$129,2,FALSE) -> CONSORCIO INTRADOMICILIARIAS 2018 | Z2: OFERENTE : | AA2: 5 | AB2: =VLOOKUP(AA2,Conformación!$A$5:$N$129,2,FALSE) -> 0
C3: =VLOOKUP(C2,Conformación!$A$5:$N$129,4,FALSE) -> #N/A | I3: =VLOOKUP(I2,Conformación!$A$5:$N$129,4,FALSE) -> #N/A | O3: =VLOOKUP(O2,Conformación!$A$5:$N$129,4,FALSE) -> (Luis Rafael Castillo Vargas 60% - JORGE HEDDY MENESES RENGIFO 40% - 0%- 0%- 0%) | U3: =VLOOKUP(U2,Conformación!$A$5:$N$129,4,FALSE) -> (WILLIAM CARDONA OLMOS SAS 30% - William Cardona Olmos 70% - 0%- 0%- 0%) | AA3: =VLOOKUP(AA2,Conformación!$A$5:$N$129,4,FALSE) -> ( 0% - 0% - 0%- 0%- 0%)
A6: DOCUMENTO | C6: SI | D6: NO | E6: Folio/fecha/valor/M2/SMMLV | F6: OBSERVACIONES | G6: DOCUMENTO | I6: SI | J6: NO | K6: Folio/fecha/valor/M2/SMMLV | L6: OBSERVACIONES | M6: DOCUMENTO | O6: SI | P6: NO | Q6: Folio/fecha/valor/M2/SMMLV | R6: OBSERVACIONES | S6: DOCUMENTO | U6: SI | V6: NO | W6: Folio/fecha/valor/M2/SMMLV | X6: OBSERVACIONES | Y6: DOCUMENTO | AA6: SI | AB6: NO | AC6: Folio/fecha/valor/M2/SMMLV | AD6: OBSERVACIONES
A7: REQUISITOS MÍNIMOS EXIGIDOS | G7: REQUISITOS MÍNIMOS EXIGIDOS | M7: REQUISITOS MÍNIMOS EXIGIDOS | S7: REQUISITOS MÍNIMOS EXIGIDOS | Y7: REQUISITOS MÍNIMOS EXIGIDOS
A8: 5,1,1 | B8: ASPECTOS JURIDICOS | G8: 5,1,1 | H8: ASPECTOS JURIDICOS | M8: 5,1,1 | N8: ASPECTOS JURIDICOS | S8: 5,1,1 | T8: ASPECTOS JURIDICOS | Y8: 5,1,1 | Z8: ASPECTOS JURIDICOS
A9: 5.1.1.1 | B9: Carta de Presentación de la Oferta | C9: X | E9: 2 A 4 | F9: =IF(C9="X","CUMPLE","NO CUMPLE") -> CUMPLE | G9: 5.1.1.1 | H9: Carta de Presentación de la Oferta | I9: X | K9: 1 A 3 | L9: =IF(I9="X","CUMPLE","NO CUMPLE") -> CUMPLE | M9: 5.1.1.1 | N9: Carta de Presentación de la Oferta | R9: =IF(O9="X","CUMPLE","NO CUMPLE") -> NO CUMPLE | S9: 5.1.1.1 | T9: Carta de Presentación de la Oferta | X9: =IF(U9="X","CUMPLE","NO CUMPLE") -> NO CUMPLE | Y9: 5.1.1.1 | Z9: Carta de Presentación de la Oferta | AD9: =IF(AA9="X","CUMPLE","NO CUMPLE") -> NO CUMPLE
A10: 5.1.1.2 | B10: Acreditación de la Existencia y Representación Legal | C10: X | E10: 10 A 21 | F10: =IF(C10="X","CUMPLE","NO CUMPLE") -> CUMPLE | G10: 5.1.1.2 | H10: Acreditación de la Existencia y Representación Legal | I10: X | K10: 8 A 12 | L10: =IF(I10="X","CUMPLE","NO CUMPLE") -> CUMPLE | M10: 5.1.1.2 | N10: Acreditación de la Existencia y Representación Legal | R10: =IF(O10="X","CUMPLE","NO CUMPLE") -> NO CUMPLE | S10: 5.1.1.2 | T10: Acreditación de la Existencia y Representación Legal | X10: =IF(U10="X","CUMPLE","NO CUMPLE") -> NO CUMPLE | Y10: 5.1.1.2 | Z10: Acreditación de la Existencia y Representación Legal | AD10: =IF(AA10="X","CUMPLE","NO CUMPLE") -> NO CUMPLE
A11: 5.1.1.3 | B11: Documento de Constitución del Consorcio o Unión Temporal | C11: X | E11: 22 A 23 | F11: =IF(C11="X","CUMPLE","NO CUMPLE") -> CUMPLE | G11: 5.1.1.3 | H11: Documento de Constitución del Consorcio o Unión Temporal | I11: X | K11: 13 A 14 | L11: =IF(I11="X","CUMPLE","NO CUMPLE") -> CUMPLE | M11: 5.1.1.3 | N11: Documento de Constitución del Consorcio o Unión Temporal | R11: =IF(O11="X","CUMPLE","NO CUMPLE") -> NO CUMPLE | S11: 5.1.1.3 | T11: Documento de Constitución del Consorcio o Unión Temporal | X11: =IF(U11="X","CUMPLE","NO CUMPLE") -> NO CUMPLE | Y11: 5.1.1.3 | Z11: Documento de Constitución del Consorcio o Unión Temporal | AD11: =IF(AA11="X","CUMPLE","NO CUMPLE") -> NO CUMPLE
A12: 5.1.1.4 | B12: RUP Registro Único del Proponente (30 Días) | C12: X | E12: 24 A 82 | F12: =IF(C12="X","CUMPLE","NO CUMPLE") -> CUMPLE | G12: 5.1.1.4 | H12: RUP Registro Único del Proponente (30 Días) | I12: X | K12: 15 A 39 | L12: =IF(I12="X","CUMPLE","NO CUMPLE") -> CUMPLE | M12: 5.1.1.4 | N12: RUP Registro Único del Proponente (30 Días) | R12: =IF(O12="X","CUMPLE","NO CUMPLE") -> NO CUMPLE | S12: 5.1.1.4 | T12: RUP Registro Único del Proponente (30 Días) | X12: =IF(U12="X","CUMPLE","NO CUMPLE") -> NO CUMPLE | Y12: 5.1.1.4 | Z12: RUP Registro Único del Proponente (30 Días) | AD12: =IF(AA12="X","CUMPLE","NO CUMPLE") -> NO CUMPLE
A13: 5.1.1.5 | B13: Garantia de Seriedad de la oferta | C13: X | E13: 84 A 90 | F13: =IF(C13="X","CUMPLE","NO CUMPLE") -> CUMPLE | G13: 5.1.1.5 | H13: Garantia de Seriedad de la oferta | I13: X | K13: 44 A 47 | L13: =IF(I13="X","CUMPLE","NO CUMPLE") -> CUMPLE | M13: 5.1.1.5 | N13: Garantia de Seriedad de la oferta | R13: =IF(O13="X","CUMPLE","NO CUMPLE") -> NO CUMPLE | S13: 5.1.1.5 | T13: Garantia de Seriedad de la oferta | X13: =IF(U13="X","CUMPLE","NO CUMPLE") -> NO CUMPLE | Y13: 5.1.1.5 | Z13: Garantia de Seriedad de la oferta | AD13: =IF(AA13="X","CUMPLE","NO CUMPLE") -> NO CUMPLE
A14: 5.1.1.6 | B14: Certificación de Pagos al Sistema de Seguridad Social y de Aportes Parafiscales | C14: X | E14: 92 A 96 | F14: =IF(C14="X","CUMPLE","NO CUMPLE") -> CUMPLE | G14: 5.1.1.6 | H14: Certificación de Pagos al Sistema de Seguridad Social y de Aportes Parafiscales | I14: X | K14: 40 A 43 | L14: =IF(I14="X","CUMPLE","NO CUMPLE") -> CUMPLE | M14: 5.1.1.6 | N14: Certificación de Pagos al Sistema de Seguridad Social y de Aportes Parafiscales | R14: =IF(O14="X","CUMPLE","NO CUMPLE") -> NO CUMPLE | S14: 5.1.1.6 | T14: Certificación de Pagos al Sistema de Seguridad Social y de Aportes Parafiscales | X14: =IF(U14="X","CUMPLE","NO CUMPLE") -> NO CUMPLE | Y14: 5.1.1.6 | Z14: Certificación de Pagos al Sistema de Seguridad Social y de Aportes Parafiscales | AD14: =IF(AA14="X","CUMPLE","NO CUMPLE") -> NO CUMPLE
A15: 5.1.1.8 | B15: Verificación de no inclusión en el boletín de responsables fiscales | C15: X | E15: 98 A 104 | F15: =IF(C15="X","CUMPLE","NO CUMPLE") -> CUMPLE | G15: 5.1.1.8 | H15: Verificación de no inclusión en el boletín de responsables fiscales | I15: X | K15: 48 A 49 | L15: =IF(I15="X","CUMPLE","NO CUMPLE") -> CUMPLE | M15: 5.1.1.8 | N15: Verificación de no inclusión en el boletín de responsables fiscales | R15: =IF(O15="X","CUMPLE","NO CUMPLE") -> NO CUMPLE | S15: 5.1.1.8 | T15: Verificación de no inclusión en el boletín de responsables fiscales | X15: =IF(U15="X","CUMPLE","NO CUMPLE") -> NO CUMPLE | Y15: 5.1.1.8 | Z15: Verificación de no inclusión en el boletín de responsables fiscales | AD15: =IF(AA15="X","CUMPLE","NO CUMPLE") -> NO CUMPLE
A16: 5.1.1.9 | B16: Verificación del sistema de información de registro de sanciones y causas de inhabilidad (SIRI) de la Procuraduría General De La Nación | C16: X | F16: =IF(C16="X","CUMPLE","NO CUMPLE") -> CUMPLE | G16: 5.1.1.9 | H16: Verificación del sistema de información de registro de sanciones y causas de inhabilidad (SIRI) de la Procuraduría General De La Nación | I16: X | L16: =IF(I16="X","CUMPLE","NO CUMPLE") -> CUMPLE | M16: 5.1.1.9 | N16: Verificación del sistema de información de registro de sanciones y causas de inhabilidad (SIRI) de la Procuraduría General De La Nación | R16: =IF(O16="X","CUMPLE","NO CUMPLE") -> NO CUMPLE | S16: 5.1.1.9 | T16: Verificación del sistema de información de registro de sanciones y causas de inhabilidad (SIRI) de la Procuraduría General De La Nación | X16: =IF(U16="X","CUMPLE","NO CUMPLE") -> NO CUMPLE | Y16: 5.1.1.9 | Z16: Verificación del sistema de información de registro de sanciones y causas de inhabilidad (SIRI) de la Procuraduría General De La Nación | AD16: =IF(AA16="X","CUMPLE","NO CUMPLE") -> NO CUMPLE
A17: 5.1.1.10 | B17: Verificación de antecedentes judiciales del Ministerio De Defensa Nacional – Policía Nacional. | C17: X | F17: =IF(C17="X","CUMPLE","NO CUMPLE") -> CUMPLE | G17: 5.1.1.10 | H17: Verificación de antecedentes judiciales del Ministerio De Defensa Nacional – Policía Nacional. | I17: X | L17: =IF(I17="X","CUMPLE","NO CUMPLE") -> CUMPLE | M17: 5.1.1.10 | N17: Verificación de antecedentes judiciales del Ministerio De Defensa Nacional – Policía Nacional. | R17: =IF(O17="X","CUMPLE","NO CUMPLE") -> NO CUMPLE | S17: 5.1.1.10 | T17: Verificación de antecedentes judiciales del Ministerio De Defensa Nacional – Policía Nacional. | X17: =IF(U17="X","CUMPLE","NO CUMPLE") -> NO CUMPLE | Y17: 5.1.1.10 | Z17: Verificación de antecedentes judiciales del Ministerio De Defensa Nacional – Policía Nacional. | AD17: =IF(AA17="X","CUMPLE","NO CUMPLE") -> NO CUMPLE
A18: DOCUMENTACIÓN ACLARATORIA ENTREGADA POR LOS OFERENTES DE LOS ASPECTOS JURÍDICOS | G18: DOCUMENTACIÓN ACLARATORIA ENTREGADA POR LOS OFERENTES DE LOS ASPECTOS JURÍDICOS | M18: DOCUMENTACIÓN ACLARATORIA ENTREGADA POR LOS OFERENTES DE LOS ASPECTOS JURÍDICOS | S18: DOCUMENTACIÓN ACLARATORIA ENTREGADA POR LOS OFERENTES DE LOS ASPECTOS JURÍDICOS | Y18: DOCUMENTACIÓN ACLARATORIA ENTREGADA POR LOS OFERENTES DE LOS ASPECTOS JURÍDICOS
A19: CONCLUSIÓN EVALUACION ASPECTOS JURÍDICOS | C19: =+IF(AND(F9="CUMPLE",F10="CUMPLE",F11="CUMPLE",F12="CUMPLE",F13="CUMPLE",F14="CUMPLE",F15="CUMPLE",F16="CUMPLE",F17="CUMPLE"),"CUMPLE","NO CUMPLE") -> CUMPLE | G19: CONCLUSIÓN EVALUACION ASPECTOS JURÍDICOS | I19: =+IF(AND(L9="CUMPLE",L10="CUMPLE",L11="CUMPLE",L12="CUMPLE",L13="CUMPLE",L14="CUMPLE",L15="CUMPLE",L16="CUMPLE",L17="CUMPLE"),"CUMPLE","NO CUMPLE") -> CUMPLE | M19: CONCLUSIÓN EVALUACION ASPECTOS JURÍDICOS | O19: =+IF(AND(R9="CUMPLE",R10="CUMPLE",R11="CUMPLE",R12="CUMPLE",R13="CUMPLE",R14="CUMPLE",R15="CUMPLE",R16="CUMPLE",R17="CUMPLE"),"CUMPLE","NO CUMPLE") -> NO CUMPLE | S19: CONCLUSIÓN EVALUACION ASPECTOS JURÍDICOS | U19: =+IF(AND(X9="CUMPLE",X10="CUMPLE",X11="CUMPLE",X12="CUMPLE",X13="CUMPLE",X14="CUMPLE",X15="CUMPLE",X16="CUMPLE",X17="CUMPLE"),"CUMPLE","NO CUMPLE") -> NO CUMPLE | Y19: CONCLUSIÓN EVALUACION ASPECTOS JURÍDICOS | AA19: =+IF(AND(AD9="CUMPLE",AD10="CUMPLE",AD11="CUMPLE",AD12="CUMPLE",AD13="CUMPLE",AD14="CUMPLE",AD15="CUMPLE",AD16="CUMPLE",AD17="CUMPLE"),"CUMPLE","NO CUMPLE") -> NO CUMPLE
A21: 5.1.2 | B21: REQUISITOS HABILITANTES FINANCIEROS | G21: 3.2.2. | H21: CAPACIDAD FINANCIERA | M21: 3.2.2. | N21: CAPACIDAD FINANCIERA | S21: 3.2.2. | T21: CAPACIDAD FINANCIERA | Y21: 3.2.2. | Z21: CAPACIDAD FINANCIERA
B22: RUP Registro Único del Proponente (30 Días) (FECHA DE CADA UNO DE LOS INTEGRANTES) | C22: X | E22: 42607 | F22: =IF(C22="X","CUMPLE","NO CUMPLE") -> CUMPLE | H22: RUP Registro Único del Proponente (30 Días) (FECHA DE CADA UNO DE LOS INTEGRANTES) | I22: X | K22: 03/08/2016 10/08/2016 | L22: =IF(I22="X","CUMPLE","NO CUMPLE") -> CUMPLE | N22: RUP Registro Único del Proponente (30 Días) (FECHA DE CADA UNO DE LOS INTEGRANTES) | R22: =IF(O22="X","CUMPLE","NO CUMPLE") -> NO CUMPLE | T22: RUP Registro Único del Proponente (30 Días) (FECHA DE CADA UNO DE LOS INTEGRANTES) | X22: =IF(U22="X","CUMPLE","NO CUMPLE") -> NO CUMPLE | Z22: RUP Registro Único del Proponente (30 Días) (FECHA DE CADA UNO DE LOS INTEGRANTES) | AD22: =IF(AA22="X","CUMPLE","NO CUMPLE") -> NO CUMPLE
B23: CT = ≥ 50% PEE (60% PEE SIN ANTICIPO) | C23: X | E23: SI | F23: =IF(E23="SI","CUMPLE","NO CUMPLE") -> CUMPLE | H23: CT = ≥ 50% PEE (60% PEE SIN ANTICIPO) | I23: x | K23: SI | L23: =IF(K23="SI","CUMPLE","NO CUMPLE") -> CUMPLE | N23: CT = ≥ 50% PEE (60% PEE SIN ANTICIPO) | O23: X | R23: =IF(Q23="SI","CUMPLE","NO CUMPLE") -> NO CUMPLE | T23: CT = ≥ 50% PEE (60% PEE SIN ANTICIPO) | U23: X | X23: =IF(W23="SI","CUMPLE","NO CUMPLE") -> NO CUMPLE | Z23: CT = ≥ 50% PEE (60% PEE SIN ANTICIPO) | AA23: X | AD23: =IF(AC23="SI","CUMPLE","NO CUMPLE") -> NO CUMPLE
B24: LIQ = AC / PC ≥ 2.0 | C24: X | E24: SI | F24: =IF(E24="SI","CUMPLE","NO CUMPLE") -> CUMPLE | H24: LIQ = AC / PC ≥ 2.0 | I24: x | K24: SI | L24: =IF(K24="SI","CUMPLE","NO CUMPLE") -> CUMPLE | N24: LIQ = AC / PC ≥ 2.0 | O24: X | R24: =IF(Q24="SI","CUMPLE","NO CUMPLE") -> NO CUMPLE | T24: LIQ = AC / PC ≥ 2.0 | U24: X | X24: =IF(W24="SI","CUMPLE","NO CUMPLE") -> NO CUMPLE | Z24: LIQ = AC / PC ≥ 1,0 | AA24: X | AD24: =IF(AC24="SI","CUMPLE","NO CUMPLE") -> NO CUMPLE
B25: NE = PT / AT ≤ 0.50 | C25: X | E25: SI | F25: =IF(E25="SI","CUMPLE","NO CUMPLE") -> CUMPLE | H25: NE = PT / AT ≤ 0.50 | I25: x | K25: SI | L25: =IF(K25="SI","CUMPLE","NO CUMPLE") -> CUMPLE | N25: NE = PT / AT ≤ 0.50 | O25: X | R25: =IF(Q25="SI","CUMPLE","NO CUMPLE") -> NO CUMPLE | T25: NE = PT / AT ≤ 0.50 | U25: X | X25: =IF(W25="SI","CUMPLE","NO CUMPLE") -> NO CUMPLE | Z25: NE = PT / AT ≤ 0,70 | AA25: X | AD25: =IF(AC25="SI","CUMPLE","NO CUMPLE") -> NO CUMPLE
B26: RCI = UO/GI ≥ 2.0 | C26: X | E26: SI | F26: =IF(E26="SI","CUMPLE","NO CUMPLE") -> CUMPLE | H26: RCI = UO/GI ≥ 2.0 | I26: x | K26: SI | L26: =IF(K26="SI","CUMPLE","NO CUMPLE") -> CUMPLE | N26: RCI = UO/GI ≥ 2.0 | O26: X | R26: =IF(Q26="SI","CUMPLE","NO CUMPLE") -> NO CUMPLE | T26: RCI = UO/GI ≥ 2.0 | U26: X | X26: =IF(W26="SI","CUMPLE","NO CUMPLE") -> NO CUMPLE | Z26: RCI = UO/GI ≥ 2.0 | AA26: X | AD26: =IF(AC26="SI","CUMPLE","NO CUMPLE") -> NO CUMPLE
B27: RP = UO/P ≥ 8% | C27: X | E27: SI | F27: =IF(E27="SI","CUMPLE","NO CUMPLE") -> CUMPLE | H27: RP = UO/P ≥ 8% | I27: x | K27: SI | L27: =IF(K27="SI","CUMPLE","NO CUMPLE") -> CUMPLE | N27: RP = UO/P ≥ 8% | O27: X | R27: =IF(Q27="SI","CUMPLE","NO CUMPLE") -> NO CUMPLE | T27: RP = UO/P ≥ 8% | U27: X | X27: =IF(W27="SI","CUMPLE","NO CUMPLE") -> NO CUMPLE | Z27: RP = UO/P ≥ 8% | AA27: X | AD27: =IF(AC27="SI","CUMPLE","NO CUMPLE") -> NO CUMPLE
B28: RA = UO/AT ≥ 5% | C28: X | E28: SI | F28: =IF(E28="SI","CUMPLE","NO CUMPLE") -> CUMPLE | H28: RA = UO/AT ≥ 5% | I28: x | K28: SI | L28: =IF(K28="SI","CUMPLE","NO CUMPLE") -> CUMPLE | N28: RA = UO/AT ≥ 5% | O28: X | R28: =IF(Q28="SI","CUMPLE","NO CUMPLE") -> NO CUMPLE | T28: RA = UO/AT ≥ 5% | U28: X | X28: =IF(W28="SI","CUMPLE","NO CUMPLE") -> NO CUMPLE | Z28: RA = UO/AT ≥ 5% | AA28: X | AD28: =IF(AC28="SI","CUMPLE","NO CUMPLE") -> NO CUMPLE
A29: DOCUMENTACIÓN ACLARATORIA ENTREGADA POR LOS OFERENTES DE LA CAPACIDAD FINANCIERA | C29: NO SE REQUIRIO | G29: DOCUMENTACIÓN ACLARATORIA ENTREGADA POR LOS OFERENTES DE LA CAPACIDAD FINANCIERA | M29: DOCUMENTACIÓN ACLARATORIA ENTREGADA POR LOS OFERENTES DE LA CAPACIDAD FINANCIERA | S29: DOCUMENTACIÓN ACLARATORIA ENTREGADA POR LOS OFERENTES DE LA CAPACIDAD FINANCIERA | Y29: DOCUMENTACIÓN ACLARATORIA ENTREGADA POR LOS OFERENTES DE LA CAPACIDAD FINANCIERA
A30: CONCLUSIÓN EVALUACION CAPACIDAD FINANCIERA | C30: =+IF(AND(F22="CUMPLE",F23="CUMPLE",F24="CUMPLE",F25="CUMPLE",F26="CUMPLE",F27="CUMPLE",F28="CUMPLE"),"CUMPLE","NO CUMPLE") -> CUMPLE | G30: CONCLUSIÓN EVALUACION CAPACIDAD FINANCIERA | I30: =+IF(AND(L22="CUMPLE",L23="CUMPLE",L24="CUMPLE",L25="CUMPLE",L26="CUMPLE",L27="CUMPLE",L28="CUMPLE"),"CUMPLE","NO CUMPLE") -> CUMPLE | M30: CONCLUSIÓN EVALUACION CAPACIDAD FINANCIERA | O30: =+IF(AND(R22="CUMPLE",R23="CUMPLE",R24="CUMPLE",R25="CUMPLE",R26="CUMPLE",R27="CUMPLE",R28="CUMPLE"),"CUMPLE","NO CUMPLE") -> NO CUMPLE | S30: CONCLUSIÓN EVALUACION CAPACIDAD FINANCIERA | U30: =+IF(AND(X22="CUMPLE",X23="CUMPLE",X24="CUMPLE",X25="CUMPLE",X26="CUMPLE",X27="CUMPLE",X28="CUMPLE"),"CUMPLE","NO CUMPLE") -> NO CUMPLE | Y30: CONCLUSIÓN EVALUACION CAPACIDAD FINANCIERA | AA30: =+IF(AND(AD22="CUMPLE",AD23="CUMPLE",AD24="CUMPLE",AD25="CUMPLE",AD26="CUMPLE",AD27="CUMPLE",AD28="CUMPLE"),"CUMPLE","NO CUMPLE") -> NO CUMPLE
B32: EXPERIENCIA ESPECÍFICA | G32: 3.2.3 | H32: EXPERIENCIA ESPECÍFICA | M32: 3.2.3 | N32: EXPERIENCIA ESPECÍFICA | S32: 3.2.3 | T32: EXPERIENCIA ESPECÍFICA | Y32: 3.2.3 | Z32: EXPERIENCIA ESPECÍFICA
A34: 3.2.3.3. | B34: Capacidad de contratación (K) y capacidad residual (Kr) – Formato 06 | G34: 3.2.3.3. | H34: Capacidad de contratación (K) y capacidad residual (Kr) – Formato 06 | M34: 3.2.3.3. | N34: Capacidad de contratación (K) y capacidad residual (Kr) – Formato 06 | S34: 3.2.3.3. | T34: Capacidad de contratación (K) y capacidad residual (Kr) – Formato 06 | Y34: 3.2.3.3. | Z34: Capacidad de contratación (K) y capacidad residual (Kr) – Formato 06
B35: 80% del valor del PEE (Para el caso que el oferente acepte el anticipo) 100% del valor del PEE (Para el caso que el oferente prescinda del anticipo) | C35: X | F35: =IF(C35="X","CUMPLE","NO CUMPLE") -> CUMPLE | H35: 80% del valor del PEE (Para el caso que el oferente acepte el anticipo) 100% del valor del PEE (Para el caso que el oferente prescinda del anticipo) | I35: X | L35: =IF(I35="X","CUMPLE","NO CUMPLE") -> CUMPLE | N35: 80% del valor del PEE (Para el caso que el oferente acepte el anticipo) 100% del valor del PEE (Para el caso que el oferente prescinda del anticipo) | R35: =IF(O35="X","CUMPLE","NO CUMPLE") -> NO CUMPLE | T35: 80% del valor del PEE (Para el caso que el oferente acepte el anticipo) 100% del valor del PEE (Para el caso que el oferente prescinda del anticipo) | X35: =IF(U35="X","CUMPLE","NO CUMPLE") -> NO CUMPLE | Z35: 80% del valor del PEE (Para el caso que el oferente acepte el anticipo) 100% del valor del PEE (Para el caso que el oferente prescinda del anticipo) | AD35: =IF(AA35="X","CUMPLE","NO CUMPLE") -> NO CUMPLE
A36: 5.1.3 | B36: EXPERIENCIA ESPECÍFICA DEL OFERENTE | H36: EXPERIENCIA ESPECÍFICA DEL OFERENTE | N36: EXPERIENCIA ESPECÍFICA DEL OFERENTE | T36: EXPERIENCIA ESPECÍFICA DEL OFERENTE | Z36: EXPERIENCIA ESPECÍFICA DEL OFERENTE
B37: =+'Exp. oferente'!A6 -> El oferente debe acreditar en su oferta, que cuenta con experiencia específica en: CONSTRUCCIÓN DE EDIFICACIONES Y/O AMPLIACIÓN DE EDIFICACIONES Y/O DE MEJORAMIENTO INTEGRAL DE VIVIENDA Y/O CONSTRUCCIÓN DE REDES DE ALCANTARILLADO PLUVIAL Y/O AMPLIACIÓN DE REDES DE ALCANTARILLADO PLUVIAL, Y/O PROYECTOS DE CONSTRUCCIÓN DE REDES INTRADOMICILIARIA DE ACUEDUCTO Y/O PROYECTOS DE CONSTRUCCIÓN DE REDES INTRADOMICILIARIA DE ALCANTARILLADO Y/O CONSTRUCCIÓN DE REDES DOMICILIARIAS DE ACUEDUCTO Y/O CONSTRUCCIÓN DE REDES DOMICILIARIAS DE ALCANTARILLADO Y/O CONSTRUCCIÓN DE REDES ALCANTARILLADO Y/O AMPLIACIÓN Y/O OPTIMIZACIÓN DE REDES ALCANTARILLADO Y/O CONSTRUCCIÓN DE REDES DE ACUEDUCTO Y/O AMPLIACIÓN Y/U OPTIMIZACIÓN DE REDES ACUEDUCTO. | F37: =+IF(AND(C38="X",C39="X",C40="X",C41="X",C42="X"),"CUMPLE","NO CUMPLE") -> CUMPLE | H37: =+'Exp. oferente'!A6 -> El oferente debe acreditar en su oferta, que cuenta con experiencia específica en: CONSTRUCCIÓN DE EDIFICACIONES Y/O AMPLIACIÓN DE EDIFICACIONES Y/O DE MEJORAMIENTO INTEGRAL DE VIVIENDA Y/O CONSTRUCCIÓN DE REDES DE ALCANTARILLADO PLUVIAL Y/O AMPLIACIÓN DE REDES DE ALCANTARILLADO PLUVIAL, Y/O PROYECTOS DE CONSTRUCCIÓN DE REDES INTRADOMICILIARIA DE ACUEDUCTO Y/O PROYECTOS DE CONSTRUCCIÓN DE REDES INTRADOMICILIARIA DE ALCANTARILLADO Y/O CONSTRUCCIÓN DE REDES DOMICILIARIAS DE ACUEDUCTO Y/O CONSTRUCCIÓN DE REDES DOMICILIARIAS DE ALCANTARILLADO Y/O CONSTRUCCIÓN DE REDES ALCANTARILLADO Y/O AMPLIACIÓN Y/O OPTIMIZACIÓN DE REDES ALCANTARILLADO Y/O CONSTRUCCIÓN DE REDES DE ACUEDUCTO Y/O AMPLIACIÓN Y/U OPTIMIZACIÓN DE REDES ACUEDUCTO. | L37: =+IF(AND(I38="X",I39="X",I40="X",I41="X",I42="X"),"CUMPLE","NO CUMPLE") -> CUMPLE | N37: =+'Exp. oferente'!A6 -> El oferente debe acreditar en su oferta, que cuenta con experiencia específica en: CONSTRUCCIÓN DE EDIFICACIONES Y/O AMPLIACIÓN DE EDIFICACIONES Y/O DE MEJORAMIENTO INTEGRAL DE VIVIENDA Y/O CONSTRUCCIÓN DE REDES DE ALCANTARILLADO PLUVIAL Y/O AMPLIACIÓN DE REDES DE ALCANTARILLADO PLUVIAL, Y/O PROYECTOS DE CONSTRUCCIÓN DE REDES INTRADOMICILIARIA DE ACUEDUCTO Y/O PROYECTOS DE CONSTRUCCIÓN DE REDES INTRADOMICILIARIA DE ALCANTARILLADO Y/O CONSTRUCCIÓN DE REDES DOMICILIARIAS DE ACUEDUCTO Y/O CONSTRUCCIÓN DE REDES DOMICILIARIAS DE ALCANTARILLADO Y/O CONSTRUCCIÓN DE REDES ALCANTARILLADO Y/O AMPLIACIÓN Y/O OPTIMIZACIÓN DE REDES ALCANTARILLADO Y/O CONSTRUCCIÓN DE REDES DE ACUEDUCTO Y/O AMPLIACIÓN Y/U OPTIMIZACIÓN DE REDES ACUEDUCTO. | R37: =+IF(AND(O38="X",O39="X",O40="X",O41="X",O42="X"),"CUMPLE","NO CUMPLE") -> NO CUMPLE | T37: =+'Exp. oferente'!A6 -> El oferente debe acreditar en su oferta, que cuenta con experiencia específica en: CONSTRUCCIÓN DE EDIFICACIONES Y/O AMPLIACIÓN DE EDIFICACIONES Y/O DE MEJORAMIENTO INTEGRAL DE VIVIENDA Y/O CONSTRUCCIÓN DE REDES DE ALCANTARILLADO PLUVIAL Y/O AMPLIACIÓN DE REDES DE ALCANTARILLADO PLUVIAL, Y/O PROYECTOS DE CONSTRUCCIÓN DE REDES INTRADOMICILIARIA DE ACUEDUCTO Y/O PROYECTOS DE CONSTRUCCIÓN DE REDES INTRADOMICILIARIA DE ALCANTARILLADO Y/O CONSTRUCCIÓN DE REDES DOMICILIARIAS DE ACUEDUCTO Y/O CONSTRUCCIÓN DE REDES DOMICILIARIAS DE ALCANTARILLADO Y/O CONSTRUCCIÓN DE REDES ALCANTARILLADO Y/O AMPLIACIÓN Y/O OPTIMIZACIÓN DE REDES ALCANTARILLADO Y/O CONSTRUCCIÓN DE REDES DE ACUEDUCTO Y/O AMPLIACIÓN Y/U OPTIMIZACIÓN DE REDES ACUEDUCTO. | X37: =+IF(AND(U38="X",U39="X",U40="X",U41="X",U42="X"),"CUMPLE","NO CUMPLE") -> NO CUMPLE | Z37: =+'Exp. oferente'!A6 -> El oferente debe acreditar en su oferta, que cuenta con experiencia específica en: CONSTRUCCIÓN DE EDIFICACIONES Y/O AMPLIACIÓN DE EDIFICACIONES Y/O DE MEJORAMIENTO INTEGRAL DE VIVIENDA Y/O CONSTRUCCIÓN DE REDES DE ALCANTARILLADO PLUVIAL Y/O AMPLIACIÓN DE REDES DE ALCANTARILLADO PLUVIAL, Y/O PROYECTOS DE CONSTRUCCIÓN DE REDES INTRADOMICILIARIA DE ACUEDUCTO Y/O PROYECTOS DE CONSTRUCCIÓN DE REDES INTRADOMICILIARIA DE ALCANTARILLADO Y/O CONSTRUCCIÓN DE REDES DOMICILIARIAS DE ACUEDUCTO Y/O CONSTRUCCIÓN DE REDES DOMICILIARIAS DE ALCANTARILLADO Y/O CONSTRUCCIÓN DE REDES ALCANTARILLADO Y/O AMPLIACIÓN Y/O OPTIMIZACIÓN DE REDES ALCANTARILLADO Y/O CONSTRUCCIÓN DE REDES DE ACUEDUCTO Y/O AMPLIACIÓN Y/U OPTIMIZACIÓN DE REDES ACUEDUCTO. | AD37: =+IF(AND(AA38="X",AA39="X",AA40="X",AA41="X",AA42="X"),"CUMPLE","NO CUMPLE") -> NO CUMPLE
B38: =+'Exp. oferente'!E24 -> LAS OBRAS DE CONSTRUCCION DE AULAS TEMPORALES, MANTENIMIENTO CORRECTIVO Y REPARACION ESTRUCTURAL, PARA ATENDER LAS AFECTACIONES DE LAS INFRAESTRUCTURAS EDUCATIVAS DEL DEPARTAMENTO DEL TOLIMA, PRODUCIDAS POR LA OLA INVERNAL DEL 2010, CONTRATACION QUE SE REALIZA EN EL MARCO DE LA FASE 1 Y 2 DEL PLAN DE ACCION DEL SECTOR EDUCATIVO, EMERGENCIA INVERNAL 2010-2011, DE ACUERDO CON LA DESCRIPCION, ESPECIFICACIONES Y DEMAS CONDICIONES ESTABLECIDAS EN EL PRESENTE DOCUMENTO E INFORMACION TECNICA SUMINISTRADA POR FONADE. | C38: X | E38: =+CONCATENATE('Exp. oferente'!G24,CHAR(10),TEXT('Exp. oferente'!F24,"DD"),"/",TEXT('Exp. oferente'!F24,"MMMM"),"/",TEXT('Exp. oferente'!F24,"YYYY"), CHAR(10),DOLLAR('Exp. oferente'!H24)) -> 16/agosto/2011 XDR2,000,000,000.00 | H38: =+'Exp. oferente'!#REF! -> #REF! | I38: X | K38: =+CONCATENATE('Exp. oferente'!G48,CHAR(10),TEXT('Exp. oferente'!F48,"DD"),"/",TEXT('Exp. oferente'!F48,"MMMM"),"/",TEXT('Exp. oferente'!F48,"YYYY"), CHAR(10),DOLLAR('Exp. oferente'!H48)) -> 08/agosto/2012 XDR3,978,496,918.00 | N38: =+'Exp. oferente'!E48 -> Construcción de la segunda etapa de la Unidad Intermedia de salud de los Barrios del Sur en el Municipio de Ibagué, Departamento del Tolima. | Q38: =+CONCATENATE('Exp. oferente'!G71,CHAR(10),TEXT('Exp. oferente'!F71,"DD"),"/",TEXT('Exp. oferente'!F71,"MMMM"),"/",TEXT('Exp. oferente'!F71,"YYYY"), CHAR(10),DOLLAR('Exp. oferente'!H71)) -> 00/enero/1900 XDR0.00 | T38: =+'Exp. oferente'!E90 -> 0 | W38: =+CONCATENATE('Exp. oferente'!G90,CHAR(10),TEXT('Exp. oferente'!F90,"DD"),"/",TEXT('Exp. oferente'!F90,"MMMM"),"/",TEXT('Exp. oferente'!F90,"YYYY"), CHAR(10),DOLLAR('Exp. oferente'!H90)) -> 00/enero/1900 XDR0.00 | Z38: =+'Exp. oferente'!E114 -> 0 | AC38: =+CONCATENATE('Exp. oferente'!G114,CHAR(10),TEXT('Exp. oferente'!F114,"DD"),"/",TEXT('Exp. oferente'!F114,"MMMM"),"/",TEXT('Exp. oferente'!F114,"YYYY"), CHAR(10),DOLLAR('Exp. oferente'!H114)) -> 00/enero/1900 XDR0.00
B39: =+'Exp. oferente'!E25 -> CONSTRUCCION ALCANTARILLADO PLUVIAL CARRERA 9 ENTRE CALLE 6 Y TRANSVERSAL 7 MUNICIPIO DE AQUITANIA. | C39: X | E39: =+CONCATENATE('Exp. oferente'!J25,CHAR(10),TEXT('Exp. oferente'!F25,"DD"),"/",TEXT('Exp. oferente'!F25,"MMMM"),"/",TEXT('Exp. oferente'!F25,"YYYY"), CHAR(10),DOLLAR('Exp. oferente'!H25)) -> 14/diciembre/2011 XDR232,719,242.12 | H39: =+'Exp. oferente'!#REF! -> #REF! | I39: X | K39: =+CONCATENATE('Exp. oferente'!G49,CHAR(10),TEXT('Exp. oferente'!F49,"DD"),"/",TEXT('Exp. oferente'!F49,"MMMM"),"/",TEXT('Exp. oferente'!F49,"YYYY"), CHAR(10),DOLLAR('Exp. oferente'!H49)) -> 23/marzo/2014 XDR3,089,446,186.00 | N39: =+'Exp. oferente'!E49 -> Ejecución de los diseños y estudios técnicos y construcción de un centro de desarrollo infantil (CDI) en el Municipio de Palmira - Valle del Cauca, para 500 cupos. | Q39: =+CONCATENATE('Exp. oferente'!G72,CHAR(10),TEXT('Exp. oferente'!F72,"DD"),"/",TEXT('Exp. oferente'!F72,"MMMM"),"/",TEXT('Exp. oferente'!F72,"YYYY"), CHAR(10),DOLLAR('Exp. oferente'!H72)) -> 00/enero/1900 XDR0.00 | T39: =+'Exp. oferente'!E91 -> 0 | W39: =+CONCATENATE('Exp. oferente'!G91,CHAR(10),TEXT('Exp. oferente'!F91,"DD"),"/",TEXT('Exp. oferente'!F91,"MMMM"),"/",TEXT('Exp. oferente'!F91,"YYYY"), CHAR(10),DOLLAR('Exp. oferente'!H91)) -> 00/enero/1900 XDR0.00 | Z39: =+'Exp. oferente'!E115 -> 0 | AC39: =+CONCATENATE('Exp. oferente'!G115,CHAR(10),TEXT('Exp. oferente'!F115,"DD"),"/",TEXT('Exp. oferente'!F115,"MMMM"),"/",TEXT('Exp. oferente'!F115,"YYYY"), CHAR(10),DOLLAR('Exp. oferente'!H115)) -> 00/enero/1900 XDR0.00
B40: =+'Exp. oferente'!E26 -> DISEÑOS, ESTUDIOS TECNICOS Y CONSTRUCCION DE DOCE (12) AULAS Y UNA (1) BATERIA SANITARIA EN EL INSTITUTO TECNICO AGROPECUARIO DEL MUNICIPIO DE UMBITABOYACA, POR EL SISTEMA DE PRECIO GLOBAL FIJO. | C40: X | E40: =+CONCATENATE('Exp. oferente'!G26,CHAR(10),TEXT('Exp. oferente'!F26,"DD"),"/",TEXT('Exp. oferente'!F26,"MMMM"),"/",TEXT('Exp. oferente'!F26,"YYYY"), CHAR(10),DOLLAR('Exp. oferente'!H26)) -> 23/septiembre/2008 XDR574,644,165.97 | H40: =+'Exp. oferente'!#REF! -> #REF! | I40: X | K40: =+CONCATENATE('Exp. oferente'!G50,CHAR(10),TEXT('Exp. oferente'!F50,"DD"),"/",TEXT('Exp. oferente'!F50,"MMMM"),"/",TEXT('Exp. oferente'!F50,"YYYY"), CHAR(10),DOLLAR('Exp. oferente'!H50)) -> 06/mayo/2013 XDR1,194,089,150.00 | N40: =+'Exp. oferente'!E50 -> Construcción de la Manija (A) San Antonio Carpeta 8-B 106/ Planos 1 de 2 y colector de la Tuza Carpeta 8-BG-9/ Planos 1 y 2 de 9 a cargo del convenio interadministrativo de cooperación No. 0073 del 23 de junio de 2011. | Q40: =+CONCATENATE('Exp. oferente'!G73,CHAR(10),TEXT('Exp. oferente'!F73,"DD"),"/",TEXT('Exp. oferente'!F73,"MMMM"),"/",TEXT('Exp. oferente'!F73,"YYYY"), CHAR(10),DOLLAR('Exp. oferente'!H73)) -> 00/enero/1900 XDR0.00 | T40: =+'Exp. oferente'!E92 -> 0 | W40: =+CONCATENATE('Exp. oferente'!G92,CHAR(10),TEXT('Exp. oferente'!F92,"DD"),"/",TEXT('Exp. oferente'!F92,"MMMM"),"/",TEXT('Exp. oferente'!F92,"YYYY"), CHAR(10),DOLLAR('Exp. oferente'!H92)) -> 00/enero/1900 XDR0.00 | Z40: =+'Exp. oferente'!E116 -> 0 | AC40: =+CONCATENATE('Exp. oferente'!G116,CHAR(10),TEXT('Exp. oferente'!F116,"DD"),"/",TEXT('Exp. oferente'!F116,"MMMM"),"/",TEXT('Exp. oferente'!F116,"YYYY"), CHAR(10),DOLLAR('Exp. oferente'!H116)) -> 00/enero/1900 XDR0.00
B41: =+'Exp. oferente'!E27 -> 0 | C41: X | E41: =+CONCATENATE('Exp. oferente'!G27,CHAR(10),TEXT('Exp. oferente'!F27,"DD"),"/",TEXT('Exp. oferente'!F27,"MMMM"),"/",TEXT('Exp. oferente'!F27,"YYYY"), CHAR(10),DOLLAR('Exp. oferente'!H27)) -> 00/enero/1900 XDR0.00 | H41: =+'Exp. oferente'!E51 -> Construccion del Parque Educativo en los Municipios de San Luis y San Francisco en el Departamneto de Antioquia | I41: X | K41: =+CONCATENATE('Exp. oferente'!G51,CHAR(10),TEXT('Exp. oferente'!F51,"DD"),"/",TEXT('Exp. oferente'!F51,"MMMM"),"/",TEXT('Exp. oferente'!F51,"YYYY"), CHAR(10),DOLLAR('Exp. oferente'!H51)) -> 04/julio/2015 XDR3,978,635,872.00 | N41: =+'Exp. oferente'!E74 -> 0 | Q41: =+CONCATENATE('Exp. oferente'!G74,CHAR(10),TEXT('Exp. oferente'!F74,"DD"),"/",TEXT('Exp. oferente'!F74,"MMMM"),"/",TEXT('Exp. oferente'!F74,"YYYY"), CHAR(10),DOLLAR('Exp. oferente'!H74)) -> 00/enero/1900 XDR0.00 | T41: =+'Exp. oferente'!E93 -> 0 | W41: =+CONCATENATE('Exp. oferente'!G93,CHAR(10),TEXT('Exp. oferente'!F93,"DD"),"/",TEXT('Exp. oferente'!F93,"MMMM"),"/",TEXT('Exp. oferente'!F93,"YYYY"), CHAR(10),DOLLAR('Exp. oferente'!H93)) -> 00/enero/1900 XDR0.00 | Z41: =+'Exp. oferente'!E117 -> 0 | AC41: =+CONCATENATE('Exp. oferente'!G117,CHAR(10),TEXT('Exp. oferente'!F117,"DD"),"/",TEXT('Exp. oferente'!F117,"MMMM"),"/",TEXT('Exp. oferente'!F117,"YYYY"),CHAR(10),DOLLAR('Exp. oferente'!H117)) -> 00/enero/1900 XDR0.00
B42: =+'Exp. oferente'!E28 -> 0 | C42: X | E42: =+CONCATENATE('Exp. oferente'!G28,CHAR(10),TEXT('Exp. oferente'!F28,"DD"),"/",TEXT('Exp. oferente'!F28,"MMMM"),"/",TEXT('Exp. oferente'!F28,"YYYY"), CHAR(10),DOLLAR('Exp. oferente'!H28)) -> 00/enero/1900 XDR0.00 | H42: =+'Exp. oferente'!E52 -> Construccion del Parque Educativo del Municipio de Arboletes en el Departamento de Antioquia | I42: X | K42: =+CONCATENATE('Exp. oferente'!G52,CHAR(10),TEXT('Exp. oferente'!F52,"DD"),"/",TEXT('Exp. oferente'!F52,"MMMM"),"/",TEXT('Exp. oferente'!F52,"YYYY"), CHAR(10),DOLLAR('Exp. oferente'!H52)) -> 31/diciembre/2015 XDR2,009,269,125.00 | N42: =+'Exp. oferente'!E75 -> 0 | Q42: =+CONCATENATE('Exp. oferente'!G75,CHAR(10),TEXT('Exp. oferente'!F75,"DD"),"/",TEXT('Exp. oferente'!F75,"MMMM"),"/",TEXT('Exp. oferente'!F75,"YYYY"), CHAR(10),DOLLAR('Exp. oferente'!H75)) -> 00/enero/1900 XDR0.00 | T42: =+'Exp. oferente'!E94 -> 0 | W42: =+CONCATENATE('Exp. oferente'!G94,CHAR(10),TEXT('Exp. oferente'!F94,"DD"),"/",TEXT('Exp. oferente'!F94,"MMMM"),"/",TEXT('Exp. oferente'!F94,"YYYY"), CHAR(10),DOLLAR('Exp. oferente'!H94)) -> 00/enero/1900 XDR0.00 | Z42: =+'Exp. oferente'!E118 -> 0 | AC42: =+CONCATENATE('Exp. oferente'!G118,CHAR(10),TEXT('Exp. oferente'!F118,"DD"),"/",TEXT('Exp. oferente'!F118,"MMMM"),"/",TEXT('Exp. oferente'!F118,"YYYY"), CHAR(10),DOLLAR('Exp. oferente'!H118)) -> 00/enero/1900 XDR0.00
B43: =+'Exp. oferente'!A7 -> La experiencia debe ser acreditada con la ejecución de mínimo uno (01) y máximo cinco (05) contratos. | F43: =+IF(AND(C44="X"),"CUMPLE","NO CUMPLE") -> CUMPLE | H43: =+'Exp. oferente'!A7 -> La experiencia debe ser acreditada con la ejecución de mínimo uno (01) y máximo cinco (05) contratos. | L43: =+IF(AND(I44="X"),"CUMPLE","NO CUMPLE") -> CUMPLE | N43: =+'Exp. oferente'!A7 -> La experiencia debe ser acreditada con la ejecución de mínimo uno (01) y máximo cinco (05) contratos. | R43: =+IF(AND(O44="X"),"CUMPLE","NO CUMPLE") -> NO CUMPLE | T43: =+'Exp. oferente'!A7 -> La experiencia debe ser acreditada con la ejecución de mínimo uno (01) y máximo cinco (05) contratos. | X43: =+IF(AND(U44="X"),"CUMPLE","NO CUMPLE") -> NO CUMPLE | Z43: =+'Exp. oferente'!A7 -> La experiencia debe ser acreditada con la ejecución de mínimo uno (01) y máximo cinco (05) contratos. | AD43: =+IF(AND(AA44="X"),"CUMPLE","NO CUMPLE") -> NO CUMPLE
C44: X | I44: X
B45: =+'Exp. oferente'!A8 -> Los contratos aportados deben sumar, en su conjunto, un valor igual o superior a 2.0 veces el valor del POE para cada grupo, expresado en SMMLV. | F45: =+IF(AND(C46="X"),"CUMPLE","NO CUMPLE") -> CUMPLE | H45: =+'Exp. oferente'!A8 -> Los contratos aportados deben sumar, en su conjunto, un valor igual o superior a 2.0 veces el valor del POE para cada grupo, expresado en SMMLV. | L45: =+IF(AND(I46="X"),"CUMPLE","NO CUMPLE") -> CUMPLE | N45: =+'Exp. oferente'!A8 -> Los contratos aportados deben sumar, en su conjunto, un valor igual o superior a 2.0 veces el valor del POE para cada grupo, expresado en SMMLV. | R45: =+IF(AND(O46="X"),"CUMPLE","NO CUMPLE") -> NO CUMPLE | T45: =+'Exp. oferente'!A8 -> Los contratos aportados deben sumar, en su conjunto, un valor igual o superior a 2.0 veces el valor del POE para cada grupo, expresado en SMMLV. | X45: =+IF(AND(U46="X"),"CUMPLE","NO CUMPLE") -> NO CUMPLE | Z45: =+'Exp. oferente'!A8 -> Los contratos aportados deben sumar, en su conjunto, un valor igual o superior a 2.0 veces el valor del POE para cada grupo, expresado en SMMLV. | AD45: =+IF(AND(AA46="X"),"CUMPLE","NO CUMPLE") -> NO CUMPLE
...

Sheet Exp. oferente ADICIONAL
A1: =+'K-Kr Constructor'!A1:F1 -> FONDO FINANCIERO DE PROYECTOS DE DESARROLLO – FONADE CLIENTE: MINISTERIO DE VIVIENDA, CIUDAD Y TERRITORIO OBJETO: “DIAGNÓSTICO, CONCERTACIÓN, PLAN DE INTERVENCIÓN Y EJECUCIÓN DE LA CONSTRUCCIÓN DEL PROGRAMA DE CONEXIONES INTRADOMICIALIARIAS, EN LOS MUNICIPIOS DE: PUERTO BERRIO – ANTIOQUIA, COTORRA Y LA APARTADA” CONVOCATORIA PÚBLICA CPU 022-2018 GRUPO N° 3 LA APARTADA - CORDOBA
T2: AÑO | U2: SMMLV
A3: EXPERIENCIA ADICIONAL TÉCNICA DEL OFERENTE | T3: 1984 | U3: 11298
