Workbook
Name \a: #REF!
Name \b: #REF!
Name \eliminar: [1]RESUM96!#REF!
Name \eliminar1: [1]RESUM96!#REF!
Name \q: #REF!
Name ______________________________AFC3: [2]INV!$F$25:$I$28
Name ______________________________AFC5: [2]INV!$K$25:$N$28
Name ______________________________BGC1: [2]INV!$A$5:$D$8
Name ______________________________BGC3: [2]INV!$F$5:$I$8
Name ______________________________BGC5: [2]INV!$K$5:$N$8
Name ______________________________CAC1: [2]INV!$A$19:$D$22
Name ______________________________CAC3: [2]INV!$F$19:$I$22
Name ______________________________CAC5: [2]INV!$K$19:$N$22
Name ______________________________rc: #REF!
Name ______________________________SBC1: [2]INV!$A$12:$D$15
Name ______________________________SBC3: [2]INV!$F$12:$I$15
Name ______________________________SBC5: [2]INV!$K$12:$N$15
Name _____________________________AFC1: [2]INV!$A$25:$D$28
Name _____________________________AFC3: [2]INV!$F$25:$I$28
Name _____________________________AFC5: [2]INV!$K$25:$N$28
Name _____________________________BGC1: [2]INV!$A$5:$D$8
Name _____________________________BGC3: [2]INV!$F$5:$I$8
Name _____________________________BGC5: [2]INV!$K$5:$N$8
Name _____________________________CAC1: [2]INV!$A$19:$D$22
Name _____________________________CAC3: [2]INV!$F$19:$I$22
Name _____________________________CAC5: [2]INV!$K$19:$N$22
Name _____________________________rc: #REF!
Name _____________________________rc: #REF!
Name _____________________________rc: #REF!
Name _____________________________rc: #REF!
Name _____________________________rc: #REF!
Name _____________________________rc: #REF!
Name _____________________________rc: #REF!
Name _____________________________rc: #REF!
Name _____________________________rc: #REF!
Name _____________________________rc: #REF!
Name _____________________________rc: #REF!
Name _____________________________rc: #REF!
Name _____________________________rc: #REF!
Name _____________________________rc: #REF!
Name _____________________________rc: #REF!
Name _____________________________rc: #REF!
Name _____________________________rc: #REF!
Name _____________________________SBC1: [2]INV!$A$12:$D$15
Name _____________________________SBC3: [2]INV!$F$12:$I$15
Name _____________________________SBC5: [2]INV!$K$12:$N$15
Name ____________________________AFC1: [2]INV!$A$25:$D$28
Name ____________________________AFC3: [2]INV!$F$25:$I$28
Name ____________________________AFC5: [2]INV!$K$25:$N$28
Name ____________________________BGC1: [2]INV!$A$5:$D$8
Name ____________________________BGC3: [2]INV!$F$5:$I$8
Name ____________________________BGC5: [2]INV!$K$5:$N$8
Name ____________________________CAC1: [2]INV!$A$19:$D$22
Name ____________________________CAC3: [2]INV!$F$19:$I$22
Name ____________________________CAC5: [2]INV!$K$19:$N$22
Name ____________________________rc: #REF!
Name ____________________________rc: #REF!
Name ____________________________rc: #REF!
Name ____________________________rc: #REF!
Name ____________________________rc: #REF!

Sheet Hoja1
A1: 38000000 | B1: 1
A2: 19520000 | B2: =+A2*B1/A1 -> 0.51368421
A3: 18377000 | B3: =+A3*B1/A1 -> 0.48360526
B4: =+B2+B3 -> 0.99728947
A7: =2154056103+787610706 -> 2941666809 | B7: 1
A9: 479333765 | B9: =+A9*B7/A7 -> 0.16294631
A10: 696790082 | B10: =+A10*B7/A7 -> 0.23686914
A11: 286694257 | B11: =+A11*B7/A7 -> 0.097459799
A12: 861643022 | B12: =+A12*B7/A7 -> 0.2929098

Sheet Cotización
A1: PRESUPUESTO ADECUACIÓN TERMALES
A2: TIPO DE OBRA: | B2: MEJORAMIENTO Y/O ADECUACIÓN TERMALES-TABIO
A3: OBJETO: | B3: MEJORAMIENTO Y/O ADECUACIÓN DE COCINA, AREAS SOCIALES , BAÑOS Y DUCHAS Y TUBERÍA DE TURCOS
A5: ÍTEM | C5: DESCRIPCIÓN | D5: UNIDAD | E5: VALOR UNITARIO | F5: CANTIDAD | G5: VALOR TOTAL
A6: CONSTRUCCIÓN
A7: 1 | C7: PRELIMINARES
A8: 1.1 | C8: CAMPAMENTO 18 M2 | D8: UN | E8: 2893745 | G8: 2880450
A9: 1.2 | C9: CAMPAMENTO 9 M2 | D9: UN | E9: 1695673 | G9: 1689026
A10: 1.3 | C10: CERCA EN ALAMBRE DE PUA 4 HILOS | D10: ML | E10: 23037 | G10: 23037
A11: 1.4 | C11: CERCA EN ALAMBRE DE PUA 5 HILOS | D11: ML | E11: 25876 | G11: 25876
A12: 1.5 | C12: CERCA EN ALAMBRE DE PUA 6 HILOS | D12: ML | E12: 30132 | G12: 30132
A13: 1.6 | C13: CERCA EN TABLA H=2.30 M | D13: ML | E13: 92528 | G13: 92528
A14: 1.7 | C14: CERCA EN TEJA DE ZINC H=1.80 M | D14: ML | E14: 64671 | G14: 64525
A15: 1.8 | C15: CERCA EN TELA VERDE H = 2.10 M | D15: ML | E15: 30607 | G15: 30461
A16: 1.9 | C16: DEMOLICIÓN ESCALERAS EN CONCRETO | D16: M2 | E16: 142372 | G16: 142372
A17: 1.1 | C17: DEMOLICIÓN BALDOSA DE PISO H=0.02 M | D17: M2 | E17: 11256 | G17: 11256
A18: 1.11 | C18: DEMOLICIÓN BALDOSA DE PISO H=0.04 M | D18: M2 | E18: 15877 | G18: 15877
A19: 1.12 | C19: DEMOLICIÓN ENCHAPE MURO | D19: M2 | E19: 12107 | G19: 12107
... A53: 1.46 | C53: RETIRO DE SOBRANTES A UNA DISTANCIA DE 5 KM (INCLUYE CARGUE Y BOTADERO AUTORIZADO) | D53: M3 | E53: 17343 | G53: 17343
A54: 2 | C54: CIMIENTOS
A55: 2.1 | C55: BASE AGREGADO PÉTREO (MATERIAL DE AFIRMADO) | D55: M3 | E55: 88733 | G55: 100010
A56: 2.2 | C56: BASE ARENA CEMENTO 1:20 | D56: M3 | E56: 182788 | G56: 174833
A57: 2.3 | C57: DEMOLICIÓN CABEZAS DE PILOTES | D57: M3 | E57: 488198 | G57: 488198
A58: 2.4 | C58: DEMOLICIÓN CIMIENTO ENTERRADO | D58: M3 | E58: 337196 | G58: 337196
A59: 2.5 | C59: IMPERMEABILIZACIÓN INTEGRAL MORTERO XYPEX | D59: M2 | E59: 51006 | G59: 51006
A60: 2.6 | C60: SOBRECIMIENTOS CONCRETO 3000 PSI 25x25 | D60: M3 | E60: 841038 | G60: 826761
A61: 2.7 | C61: VIGA DE AMARRE EN CONCRETO 3500 PSI | D61: M3 | E61: 842411 | G61: 827551
A62: 2.8 | C62: ZAPATAS EN CONCRETO 3500 PSI | D62: M3 | E62: 790258 | G62: 776343
A63: 2.9 | C63: PILOTE DE MADERA D=20 CM | D63: ML | E63: 66992 | G63: 66992
A64: 2.1 | C64: PILOTE PRE EXCAVADO D=20 CM (INCLUYE RETIRO DE SOBRANTES A UNA DISTANCIA MENOR DE 5 KM) | D64: ML | E64: 209544 | G64: 209544
A65: 2.11 | C65: PILOTE PRE EXCAVADO D=30 CM (INCLUYE RETIRO DE SOBRANTES A UNA DISTANCIA MENOR DE 5 KM) | D65: ML | E65: 259294 | G65: 259294
A66: 2.12 | C66: PILOTE PRE EXCAVADO D=40 CM (INCLUYE RETIRO DE SOBRANTES A UNA DISTANCIA MENOR DE 5 KM) | D66: ML | E66: 319457 | G66: 319457
... A71: 2.17 | C71: MICROPILOTE D=6" (INCLUYE RETIRO DE SOBRANTES A UNA DISTANCIA MENOR DE 5 KM) | D71: ML | E71: 127102 | G71: 127102
A72: 3 | C72: DESAGÜES E INSTALACIONES SUBTERRÁNEAS
A73: 3.1 | C73: SIFÓN PARA DRENAJE EN PVC DE 4" | D73: UN | E73: 56165 | G73: 56116
A74: 3.2 | C74: SIFÓN EN PVC 6" | D74: UN | E74: 268949 | G74: 268899
A75: 3.3 | C75: CAJA DE INSPECCIÓN DE 100X100 | D75: UN | E75: 625899 | G75: 625364
A76: 3.4 | C76: CAJA DE INSPECCIÓN DE 40X40 | D76: UN | E76: 324536 | G76: 323288
A77: 3.5 | C77: CAJA DE INSPECCIÓN DE 60X60 | D77: UN | E77: 370262 | G77: 368294
A78: 3.6 | C78: CAJA DE INSPECCIÓN DE 80X80 | D78: UN | E78: 469834 | G78: 466123
...

Sheet Cotización Termales
A1: PRESUPUESTO ADECUACIÓN TERMALES
A2: TIPO DE OBRA: | B2: MEJORAMIENTO Y/O ADECUACIÓN TERMALES-TABIO
A3: OBJETO: | B3: MEJORAMIENTO Y/O ADECUACIÓN DE COCINA, AREAS SOCIALES , BAÑOS Y DUCHAS Y TUBERÍA DE TURCOS
A5: ÍTEM | C5: DESCRIPCIÓN | D5: UNIDAD | E5: VALOR UNITARIO | F5: CANTIDAD | G5: VALOR TOTAL
A6: CONSTRUCCIÓN
A7: 1 | C7: PRELIMINARES
A8: 1.1 | C8: CAMPAMENTO 18 M2 | D8: UN | E8: 2893745 | G8: =+E8*F8 -> 0
A9: 1.2 | C9: CAMPAMENTO 9 M2 | D9: UN | E9: 1695673 | G9: =+E9*F9 -> 0
A10: 1.3 | C10: CERCA EN ALAMBRE DE PUA 4 HILOS | D10: ML | E10: 23037 | G10: =+E10*F10 -> 0
A11: 1.4 | C11: CERCA EN ALAMBRE DE PUA 5 HILOS | D11: ML | E11: 25876 | G11: =+E11*F11 -> 0
A12: 1.5 | C12: CERCA EN ALAMBRE DE PUA 6 HILOS | D12: ML | E12: 30132 | G12: =+E12*F12 -> 0
A13: 1.6 | C13: CERCA EN TABLA H=2.30 M | D13: ML | E13: 92528 | G13: =+E13*F13 -> 0
A14: 1.7 | C14: CERCA EN TEJA DE ZINC H=1.80 M | D14: ML | E14: 64671 | G14: =+E14*F14 -> 0
A15: 1.8 | C15: CERCA EN TELA VERDE H = 2.10 M | D15: ML | E15: 30607 | G15: =+E15*F15 -> 0
A16: 1.9 | C16: DEMOLICIÓN ESCALERAS EN CONCRETO | D16: M2 | E16: 142372 | F16: =+'Memorias Termales'!I13 -> 2.61 | G16: =+E16*F16 -> 371590.92 | H16: SPA | I16: RESTAURANTE EXT
A17: 1.1 | C17: DEMOLICIÓN BALDOSA DE PISO H=0.02 M | D17: M2 | E17: 11256 | F17: =+'Memorias Termales'!I22 -> 30 | G17: =+E17*F17 -> 337680 | H17: SPA | I17: RESTAURANTE EXT | J17: VESTIRES
A18: 1.12 | C18: DEMOLICIÓN ENCHAPE MURO | D18: M2 | E18: 12107 | F18: =+'Memorias Termales'!I31 -> 13.64 | G18: =+E18*F18 -> 165139.48 | I18: COCINA
A19: 1.14 | C19: DEMOLICIÓN CIELO RASO FALSO | D19: M2 | E19: 15566 | F19: =+'Memorias Termales'!I41 -> 74.4 | G19: =+E19*F19 -> 1158110.4 | I19: COCINA
A20: 1.15 | C20: DEMOLICIÓN ADOQUÍN SOBRE ARENA, H=0.15 m | D20: M2 | E20: 14746 | G20: =+E20*F20 -> 0
A21: 1.16 | C21: DEMOLICIÓN MUROS EN MAMPOSTERÍA 0.15 M | D21: M2 | E21: 22788 | G21: =+E21*F21 -> 0
A22: 1.17 | C22: DEMOLICIÓN MUROS EN MAMAPOSTERÍA 0.25 M | D22: M2 | E22: 30598 | F22: =+'Memorias Termales'!I50 -> 18.24 | G22: =+E22*F22 -> 558107.52 | I22: MATERAS
A23: 1.18 | C23: DEMOLICIÓN PLACA ALIGERADA 0.30 M | D23: M2 | E23: 46163 | G23: =+E23*F23 -> 0
A24: 1.19 | C24: DEMOLICIÓN PLACA ALIGERADA 0.40 M | D24: M2 | E24: 67582 | G24: =+E24*F24 -> 0
A25: 1.2 | C25: DEMOLICIÓN PLACA ALIGERADA 0.50 M | D25: M2 | E25: 83813 | G25: =+E25*F25 -> 0
A26: 1.21 | C26: DEMOLICIÓN PLACA MACIZA 0.15 M | D26: M2 | E26: 72547 | G26: =+E26*F26 -> 0
A27: 1.22 | C27: DEMOLICIÓN PLACA MACIZA 0.20 M | D27: M2 | E27: 101883 | G27: =+E27*F27 -> 0
A28: 1.23 | C28: DEMOLICIÓN PLACA MACIZA 0.25 M | D28: M2 | E28: 120600 | G28: =+E28*F28 -> 0
A29: 1.24 | C29: DEMOLICIÓN PLACA MACIZA 0.30 M | D29: M2 | E29: 147748 | G29: =+E29*F29 -> 0
A30: 1.25 | C30: DEMOLICIÓN PLACA PISO 0.05 M | D30: M2 | E30: 15947 | G30: =+E30*F30 -> 0 | I30: RESTAURANTE EXT
A31: 1.26 | C31: DEMOLICIÓN PLACA PISO 0.10 M | D31: M2 | E31: 25572 | G31: =+E31*F31 -> 0
A32: 1.27 | C32: DEMOLICIÓN PLACA PISO 0.15 M | D32: M2 | E32: 39050 | G32: =+E32*F32 -> 0
A33: 1.28 | C33: DEMOLICIÓN PLACA PISO 0.20 M | D33: M2 | E33: 64397 | G33: =+E33*F33 -> 0
A34: 1.29 | C34: DEMOLICIÓN VIGAS Y COLUMNAS | D34: M3 | E34: 386724 | G34: =+E34*F34 -> 0
A35: 1.3 | C35: DESCAPOTE A MAQUINA E=0.20 M | D35: M2 | E35: 2038 | G35: =+E35*F35 -> 0
A36: 1.31 | C36: DESCAPOTE MANUAL Y RETIRO E= 0.20 M APILE A 15 M | D36: M2 | E36: 10198 | G36: =+E36*F36 -> 0
A37: 1.32 | C37: DESMONTE APARATOS SANITARIOS | D37: UN | E37: 35121 | F37: =+'Memorias Termales'!I59 -> 19 | G37: =+E37*F37 -> 667299
A38: 1.33 | C38: DESMONTE DE CUBIERTAS (TEJA DE BARRO) | D38: M2 | E38: 18891 | G38: =+E38*F38 -> 0
A39: 1.34 | C39: DESMONTE DE CUBIERTAS (ASBESTO CEMENTO) | D39: M2 | E39: 19068 | G39: =+E39*F39 -> 0
A40: 1.35 | C40: DESMONTE DE CUBIERTAS (TERMOACÚSTICA) | D40: M2 | E40: 17561 | G40: =+E40*F40 -> 0
A41: 1.36 | C41: DESMONTE DE CUBIERTAS (TEJA DE ZINC) | D41: M2 | E41: 16327 | G41: =+E41*F41 -> 0
...

Sheet PRESUPUESTO V1
A1: PRESUPUESTO ADECUACIÓN TERMALES
A2: TIPO DE OBRA: | B2: MEJORAMIENTO Y/O ADECUACIÓN TERMALES-TABIO
A3: OBJETO: | B3: MEJORAMIENTO Y/O ADECUACIÓN DE COCINA, AREAS SOCIALES , BAÑOS Y DUCHAS Y TUBERÍA DE TURCOS
A5: ÍTEM | C5: DESCRIPCIÓN | D5: UNIDAD | E5: VALOR UNITARIO | F5: CANTIDAD | G5: VALOR TOTAL
A6: CONSTRUCCIÓN
A7: 1 | C7: PRELIMINARES
A8: 1.9 | C8: DEMOLICIÓN ESCALERAS EN CONCRETO | D8: M2 | E8: 101530 | F8: =+'Memorias Termales'!I13 -> 2.61 | G8: =+E8*F8 -> 264993.3
A9: 1.1 | C9: DEMOLICIÓN BALDOSA DE PISO H=0.02 M | D9: M2 | E9: 13166 | F9: =+'Memorias Termales'!I22 -> 30 | G9: =+E9*F9 -> 394980
A10: 1.12 | C10: DEMOLICIÓN ENCHAPE MURO | D10: M2 | E10: 14116 | F10: =O423 -> 20.7424 | G10: =+E10*F10 -> 292799.72
A11: 1.14 | C11: DEMOLICIÓN CIELO RASO FALSO | D11: M2 | E11: 19539 | F11: =+'Memorias Termales'!I41 -> 74.4 | G11: =+E11*F11 -> 1453701.6
A12: 1.15 | C12: DEMOLICIÓN ADOQUÍN SOBRE ARENA, H=0.15 m | D12: M2 | E12: 14746 | G12: =+E12*F12 -> 0
A13: 1.16 | C13: DEMOLICIÓN MUROS EN MAMPOSTERÍA 0.15 M | D13: M2 | E13: 26178 | F13: =P427 -> 1.68 | G13: =+E13*F13 -> 43979.04
A14: 1.17 | C14: DEMOLICIÓN MUROS EN MAMAPOSTERÍA 0.25 M | D14: M2 | E14: 34942 | F14: =+'Memorias Termales'!I50 -> 18.24 | G14: =+E14*F14 -> 637342.08
A15: 1.32 | C15: DESMONTE APARATOS SANITARIOS | D15: UN | E15: 40253 | F15: =+'Memorias Termales'!I59 -> 19 | G15: =+E15*F15 -> 764807
A16: 2 | C16: CIMIENTOS
A17: 2.7 | C17: VIGA DE AMARRE EN CONCRETO 3500 PSI | D17: M3 | E17: 974310 | F17: 3.5 | G17: =+E17*F17 -> 3410085
A18: 2.8 | C18: ZAPATAS EN CONCRETO 3500 PSI | D18: M3 | E18: 885987 | F18: 4 | G18: =+E18*F18 -> 3543948
A19: 3 | C19: DESAGÜES E INSTALACIONES SUBTERRÁNEAS
A20: 3.1 | C20: SIFÓN PARA DRENAJE EN PVC DE 4" | D20: UN | E20: 61823 | F20: =+'Memorias Termales'!R13 -> 7 | G20: =+E20*F20 -> 432761
A21: 3.5 | C21: CAJA DE INSPECCIÓN DE 60X60 | D21: UN | E21: 350322 | F21: =+'Memorias Termales'!R22 -> 2 | G21: =+E21*F21 -> 700644
A22: 3.11 | C22: TUBERÍA DRENAJE PVC 110 | D22: ML | E22: 33857 | F22: =+'Memorias Termales'!R31 -> 23 | G22: =+E22*F22 -> 778711
A23: 4 | C23: ESTRUCTURAS EN CONCRETO
A24: 4.19 | C24: PASOS PREFABRICADOS ESCALERAS EN CONRETO 2500 PSI (ANCHO 1 M) | D24: UN | E24: 93495 | F24: =+'Memorias Termales'!R41 -> 18 | G24: =+E24*F24 -> 1682910
A25: 4.23 | C25: REFUERZO MALLA ELECTROSOLDADA | D25: KG | E25: 10980 | F25: =+'Memorias Termales'!R50 -> 348.82 | G25: =+E25*F25 -> 3830043.6
A26: APU | C26: VIGUETAS Y COLUMNETAS INCLUYE ACERO DE REFUERZO | D26: ML | E26: 78686.55 | F26: =P1071 -> 39.72 | G26: =+E26*F26 -> 3125429.8
A27: 5 | C27: MAMPOSTERÍA
A28: 5.8 | C28: MESONES EN CONCRETO 2500 PSI, E=0.1M (INC. REFUERZO) | D28: M2 | E28: 152916 | F28: =+'Memorias Termales'!R54 -> 8.68 | G28: =+E28*F28 -> 1327310.9
A29: 5.17 | C29: MURO EN BLOQUE Nº 5 E=0.12 M | D29: M2 | E29: 63051 | F29: =+'Memorias Termales'!AA31 -> 58.79 | G29: =+E29*F29 -> 3706768.3
A30: 5.18 | C30: MURO EN BLOQUE No. 5 E=0.12 (LINEAL) | D30: ML | E30: 40263 | F30: =+'Memorias Termales'!AA22 -> 47.6 | G30: =+E30*F30 -> 1916518.8
A31: 5.37 | C31: MURO TOLETE COMÚN 0.06 M | D31: M2 | E31: 56307 | F31: =+'Memorias Termales'!AA31 -> 58.79 | G31: =+E31*F31 -> 3310288.5
A32: 5.38 | C32: MURO TOLETE COMÚN 0.06 M (LINEAL) | D32: ML | E32: 36380 | F32: =+'Memorias Termales'!AA41 -> 59.6 | G32: =+E32*F32 -> 2168248
A33: 5.52 | C33: DOVELA, GROUTING 3000 PSI | D33: ML | E33: 9040 | F33: =+'Memorias Termales'!AA50 -> 42 | G33: =+E33*F33 -> 379680
A34: 6 | C34: PAÑETES, REVOQUES Y REPELLOS
A35: 6.1 | C35: ENTRAMADO MADERA CIELO RASO | D35: M2 | E35: 34131 | F35: =+'Memorias Termales'!AA59 -> 36 | G35: =+E35*F35 -> 1228716
A36: 6.2 | C36: FILOS O DILATACIONES B/PLACA | D36: ML | E36: 7688 | F36: =+'Memorias Termales'!AJ13 -> 13 | G36: =+E36*F36 -> 99944
A37: 6.6 | C37: MALLA BAJO ENTRAMADO | D37: M2 | E37: 18314 | F37: =+'Memorias Termales'!AJ31 -> 36 | G37: =+E37*F37 -> 659304
A38: 6.15 | C38: PAÑETE IMPERMEABILIZADO MUROS 1:3, E=1.5 CM | D38: M2 | E38: 33310 | F38: =+'Memorias Termales'!AJ41 -> 72 | G38: =+E38*F38 -> 2398320
A39: 6.16 | C39: PAÑETE IMPERMEABILIZADO MUROS 1:3, E=1.5 CM (LINEAL) | D39: ML | E39: 22875 | F39: 15 | G39: =+E39*F39 -> 343125
A40: 6.17 | C40: PAÑETE LISO MUROS 1:4, E=1.5 CM | D40: M2 | E40: 27939 | F40: =+'Memorias Termales'!AJ50 -> 129.2 | G40: =+E40*F40 -> 3609718.8
A41: 6.18 | C41: PAÑETE LISO MUROS 1:4, E=1.5 CM (LINEAL) | D41: ML | E41: 18412 | F41: 20 | G41: =+E41*F41 -> 368240
...

Sheet PRESUPUESTO V2
A1: PRESUPUESTO ADECUACIÓN TERMALES | K1: SPA | L1: RESTAURANTE EXT
A2: TIPO DE OBRA: | B2: MEJORAMIENTO Y/O ADECUACIÓN TERMALES-TABIO | K2: SPA | L2: RESTAURANTE EXT | M2: VESTIRES | N2: cocina | O2: =3.11*10.38 -> 32.2818
A3: OBJETO: | B3: MEJORAMIENTO Y/O ADECUACIÓN DE COCINA, AREAS SOCIALES , BAÑOS Y DUCHAS Y TUBERÍA DE TURCOS DEL BALANEARIO TERMALES DEL ZIPA MUNICIPIO DE TABIO CUNDINAMARCA | L3: COCINA | N3: dem. Enchpe | O3: =2.24*9.26 -> 20.7424
L4: COCINA
A5: ÍTEM | B5: DESCRIPCIÓN | C5: UNIDAD | D5: VALOR UNITARIO | E5: CANTIDAD | F5: VALOR TOTAL | N5: dem. Muro taquilla
A6: 1 | B6: PRELIMINARES | N6: ancho | O6: altura | P6: total
A7: 1.9 | B7: DEMOLICIÓN ESCALERAS EN CONCRETO | C7: M2 | D7: 101530 | E7: =+'Memorias Termales'!I13 -> 2.61 | F7: =+D7*E7 -> 264993.3 | J7: MATERAS | N7: 1.4 | O7: 1.2 | P7: =N7*O7 -> 1.68
A8: 1.1 | B8: DEMOLICIÓN BALDOSA DE PISO H=0.02 M | C8: M2 | D8: 13166 | E8: =+'Memorias Termales'!I22 -> 30 | F8: =+D8*E8 -> 394980
A9: 1.12 | B9: DEMOLICIÓN ENCHAPE MURO | C9: M2 | D9: 14116 | E9: =O3 -> 20.7424 | F9: =+D9*E9 -> 292799.72
A10: 1.14 | B10: DEMOLICIÓN CIELO RASO FALSO | C10: M2 | D10: 19539 | E10: =+'Memorias Termales'!I41 -> 74.4 | F10: =+D10*E10 -> 1453701.6
A11: 1.16 | B11: DEMOLICIÓN MUROS EN MAMPOSTERÍA 0.15 M | C11: M2 | D11: 26178 | E11: =P7 -> 1.68 | F11: =+D11*E11 -> 43979.04
A12: 1.17 | B12: DEMOLICIÓN MUROS EN MAMAPOSTERÍA 0.25 M | C12: M2 | D12: 34942 | E12: =+'Memorias Termales'!I50 -> 18.24 | F12: =+D12*E12 -> 637342.08
A13: 1.32 | B13: DESMONTE APARATOS SANITARIOS | C13: UN | D13: 40253 | E13: =+'Memorias Termales'!I59 -> 19 | F13: =+D13*E13 -> 764807
A14: APU 012 | B14: DESMONTE CERRAMIENTO EXISITENTE PISCINAS | C14: M2 | D14: 2120 | E14: 120 | F14: =+D14*E14 -> 254400
A15: APU 011 | B15: DESMONTE DIVISIONES Y/O PANELES EN VIDRIO TEMPLADO | C15: M2 | D15: 22500 | E15: 28.36 | F15: =+D15*E15 -> 638100
A16: 2 | B16: CIMIENTOS | L16: RESTAURANTE EXT
A17: 2.7 | B17: VIGA DE AMARRE EN CONCRETO 3500 PSI | C17: M3 | D17: 974310 | E17: 3.5 | F17: =+D17*E17 -> 3410085
A18: 2.8 | B18: ZAPATAS EN CONCRETO 3500 PSI | C18: M3 | D18: 885987 | E18: 4 | F18: =+D18*E18 -> 3543948
A19: 3 | B19: DESAGÜES E INSTALACIONES SUBTERRÁNEAS
A20: 3.1 | B20: SIFÓN PARA DRENAJE EN PVC DE 4" | C20: UN | D20: 61823 | E20: =+'Memorias Termales'!R13 -> 7 | F20: =+D20*E20 -> 432761
A21: 3.5 | B21: CAJA DE INSPECCIÓN DE 60X60 | C21: UN | D21: 350322 | E21: =+'Memorias Termales'!R22 -> 2 | F21: =+D21*E21 -> 700644
A22: 3.11 | B22: TUBERÍA DRENAJE PVC 110 | C22: ML | D22: 33857 | E22: =+'Memorias Termales'!R31 -> 23 | F22: =+D22*E22 -> 778711 | J22: DESCRIP. | K22: ANCHO | L22: LONGITUD | M22: TOTAL
A23: 4 | B23: ESTRUCTURAS EN CONCRETO | J23: MATERA 1 SENTIDO 1 | K23: 0.8 | L23: 13.3 | M23: =K23*L23 -> 10.64
A24: 4.19 | B24: PASOS PREFABRICADOS ESCALERAS EN CONRETO 2500 PSI (ANCHO 1 M) | C24: UN | D24: 93495 | E24: =+'Memorias Termales'!R41 -> 18 | F24: =+D24*E24 -> 1682910 | J24: MATERA 1 SENTIDO 2 | M24: =K24*L24 -> 0
A25: 4.23 | B25: REFUERZO MALLA ELECTROSOLDADA | C25: KG | D25: 10980 | E25: =+'Memorias Termales'!R50 -> 348.82 | F25: =+D25*E25 -> 3830043.6 | J25: MATERA 1 SENTIDO 3 | M25: =K25*L25 -> 0
A26: 4.22 | B26: ACERO FIGURADO 60000 PSI | C26: KG | D26: 8378 | E26: 136 | F26: =+D26*E26 -> 1139408
A27: APU 001 | B27: VIGUETAS Y COLUMNETAS INCLUYE ACERO DE REFUERZO | C27: ML | D27: 78686.55 | E27: =L162 -> 39.72 | F27: =+D27*E27 -> 3125429.8 | J27: MATERA 1 SENTIDO 4 | M27: =K27*L27 -> 0
A28: 5 | B28: MAMPOSTERÍA | J28: MATERA 1 SENTIDO 5 | M28: =K28*L28 -> 0
A29: 5.8 | B29: MESONES EN CONCRETO 2500 PSI, E=0.1M (INC. REFUERZO) | C29: M2 | D29: 152916 | E29: =+'Memorias Termales'!R54 -> 8.68 | F29: =+D29*E29 -> 1327310.9 | J29: MATERA 1 SENTIDO 6 | M29: =K29*L29 -> 0
A30: 5.17 | B30: MURO EN BLOQUE Nº 5 E=0.12 M | C30: M2 | D30: 63051 | E30: =+'Memorias Termales'!AA31 -> 58.79 | F30: =+D30*E30 -> 3706768.3 | J30: MATERA 1 SENTIDO 7 | M30: =K30*L30 -> 0
A31: 5.18 | B31: MURO EN BLOQUE No. 5 E=0.12 (LINEAL) | C31: ML | D31: 40263 | E31: =+'Memorias Termales'!AA22 -> 47.6 | F31: =+D31*E31 -> 1916518.8 | J31: MATERA 1 SENTIDO 8 | M31: =K31*L31 -> 0
A32: 5.37 | B32: MURO TOLETE COMÚN 0.06 M | C32: M2 | D32: 56307 | E32: =+'Memorias Termales'!AA31 -> 58.79 | F32: =+D32*E32 -> 3310288.5 | J32: MATERA 1 SENTIDO 9 | M32: =K32*L32 -> 0
A33: 5.38 | B33: MURO TOLETE COMÚN 0.06 M (LINEAL) | C33: ML | D33: 36380 | E33: =+'Memorias Termales'!AA41 -> 59.6 | F33: =+D33*E33 -> 2168248 | J33: MATERA 1 SENTIDO 10 | M33: =K33*L33 -> 0
A34: 5.54 | B34: ANCLAJE 1/2" | C34: UN | D34: 20531 | E34: =12*4 -> 48 | F34: =+D34*E34 -> 985488
A35: 5.52 | B35: DOVELA, GROUTING 3000 PSI | C35: ML | D35: 9040 | E35: =+'Memorias Termales'!AA50 -> 42 | F35: =+D35*E35 -> 379680 | J35: MATERA 1 SENTIDO 11 | M35: =K35*L35 -> 0
A36: 6 | B36: PAÑETES, REVOQUES Y REPELLOS | J36: MATERA 1 SENTIDO 12 | M36: =K36*L36 -> 0
A37: 6.1 | B37: ENTRAMADO MADERA CIELO RASO | C37: M2 | D37: 34131 | E37: =+'Memorias Termales'!AA59 -> 36 | F37: =+D37*E37 -> 1228716 | J37: MATERA 1 SENTIDO 13 | M37: =K37*L37 -> 0
A38: 6.2 | B38: FILOS O DILATACIONES B/PLACA | C38: ML | D38: 7688 | E38: =+'Memorias Termales'!AJ13 -> 13 | F38: =+D38*E38 -> 99944 | J38: MATERA 1 SENTIDO 14 | M38: =K38*L38 -> 0
A39: 6.6 | B39: MALLA BAJO ENTRAMADO | C39: M2 | D39: 18314 | E39: =+'Memorias Termales'!AJ31 -> 36 | F39: =+D39*E39 -> 659304 | J39: MATERA 1 SENTIDO 15 | M39: =K39*L39 -> 0
A40: 6.15 | B40: PAÑETE IMPERMEABILIZADO MUROS 1:3, E=1.5 CM | C40: M2 | D40: 33310 | E40: =+'Memorias Termales'!AJ41 -> 72 | F40: =+D40*E40 -> 2398320 | J40: MATERA 1 SENTIDO 2 | K40: 0.8 | L40: 2.7 | M40: =K40*L40 -> 2.16
...

Sheet Memorias Termales
A2: MEMORIAS DE CANTIDADES | J2: MEMORIAS DE CANTIDADES | S2: MEMORIAS DE CANTIDADES | AB2: MEMORIAS DE CANTIDADES | AK2: MEMORIAS DE CANTIDADES | AT2: MEMORIAS DE CANTIDADES
A4: ITEM | B4: ACTIVIDAD | I4: UNIDAD | J4: ITEM | K4: ACTIVIDAD | R4: UNIDAD | S4: ITEM | T4: ACTIVIDAD | AA4: UNIDAD | AB4: ITEM | AC4: ACTIVIDAD | AJ4: UNIDAD | AK4: ITEM | AL4: ACTIVIDAD | AS4: UNIDAD | AT4: ITEM | AU4: ACTIVIDAD | BB4: UNIDAD
A5: 1.9 | B5: =+'Cotización Termales'!C16 -> DEMOLICIÓN ESCALERAS EN CONCRETO | I5: =+'Cotización Termales'!D16 -> M2 | J5: 3.1 | K5: =+'Cotización Termales'!C71 -> SIFÓN PARA DRENAJE EN PVC DE 4" | R5: =+'Cotización Termales'!D71 -> UN | S5: 5.17 | T5: =+'Cotización Termales'!C123 -> MURO EN BLOQUE Nº 5 E=0.12 M | AA5: =+'Cotización Termales'!D123 -> M2 | AB5: 6.2 | AC5: =+'Cotización Termales'!C167 -> FILOS O DILATACIONES B/PLACA | AJ5: =+'Cotización Termales'!D167 -> ML | AK5: 7.13 | AL5: =+'Cotización Termales'!C208 -> CANAL PVC AMAZONAS | AS5: =+'Cotización Termales'!D208 -> ML | AT5: 10.15 | AU5: =+'Cotización Termales'!C301 -> DIVISIÓN PARA BAÑO EN ACERO INOXIDABLE 304 CAL.20 (INCLUYE PUERTAS Y ACCESORIOS) | BB5: =+'Cotización Termales'!U167 -> 0
A6: CANTIDADES DE OBRA | J6: CANTIDADES DE OBRA | S6: CANTIDADES DE OBRA | AB6: CANTIDADES DE OBRA | AK6: CANTIDADES DE OBRA | AT6: CANTIDADES DE OBRA
A7: ITEM | B7: DESCRIPCION | C7: ANCHO | D7: LARGO | E7: PROFUNDIDAD | F7: CANT | I7: TOTAL | J7: ITEM | K7: DESCRIPCION | L7: ANCHO | M7: LARGO | N7: PROFUNDIDAD | O7: CANT | R7: TOTAL | S7: ITEM | T7: DESCRIPCION | U7: ANCHO | V7: LARGO | W7: PROFUNDIDAD | X7: CANT | AA7: TOTAL | AB7: ITEM | AC7: DESCRIPCION | AD7: ANCHO | AE7: LARGO | AF7: PROFUNDIDAD | AG7: CANT | AJ7: TOTAL | AK7: ITEM | AL7: DESCRIPCION | AM7: ANCHO | AN7: LARGO | AO7: PROFUNDIDAD | AP7: CANT | AS7: TOTAL | AT7: ITEM | AU7: DESCRIPCION | AV7: ANCHO | AW7: LARGO | AX7: PROFUNDIDAD | AY7: CANT | BB7: TOTAL
B8: SPA | C8: 0.3 | D8: 1.3 | F8: 3 | I8: =+C8*D8*F8 -> 1.17 | K8: Baños | O8: 3 | R8: =O8 -> 3 | T8: Baño | U8: 1.5 | V8: 2 | X8: 12 | AA8: =U8*V8*X8 -> 36 | AC8: Placa Kiosco | AD8: 4 | AE8: =+(3)*2 -> 6 | AG8: 3 | AJ8: =+AD8+AE8+AG8 -> 13 | AL8: Kiosco | AM8: 4 | AN8: =+(3)*2 -> 6 | AP8: 3 | AS8: =+AM8+AN8+AP8 -> 13 | AU8: Baños | AV8: 0.7 | AW8: 1.5 | AY8: 9 | BB8: =+AV8+AW8+AY8 -> 11.2
B9: RESTAURANTE EXT | C9: 0.3 | D9: 1.6 | F9: 3 | I9: =C9*D9*F9 -> 1.44 | K9: Cocina | O9: 2 | R9: =O9 -> 2 | T9: Mochetas mesones | U9: 0.7 | V9: 0.95 | X9: 6 | AA9: =U9*V9*X9 -> 3.99 | AJ9: =AD9*AE9*AG9 -> 0 | BB9: =AV9*AW9*AY9 -> 0
I10: =C10*D10*F10 -> 0 | K10: Kiosco | O10: 2 | R10: =O10 -> 2 | T10: Pedestales duchas | U10: =0.4*4 -> 1.6 | V10: 2.35 | X10: 5 | AA10: =U10*V10*X10 -> 18.8 | AJ10: =AD10*AE10*AG10 -> 0 | BB10: =AV10*AW10*AY10 -> 0
I11: =C11*D11*F11 -> 0 | R11: =L11*M11*O11 -> 0 | AA11: =U11*V11*X11 -> 0 | AJ11: =AD11*AE11*AG11 -> 0 | BB11: =AV11*AW11*AY11 -> 0
I12: =C12*D12*F12 -> 0 | R12: =L12*M12*O12 -> 0 | AA12: =U12*V12*X12 -> 0 | AJ12: =AD12*AE12*AG12 -> 0 | AS12: =AM12*AN12*AP12 -> 0 | BB12: =AV12*AW12*AY12 -> 0
A13: TOTAL | I13: =SUM(I8:I12) -> 2.61 | J13: TOTAL | R13: =SUM(R8:R12) -> 7 | S13: TOTAL | AA13: =SUM(AA8:AA12) -> 58.79 | AB13: TOTAL | AJ13: =SUM(AJ8:AJ12) -> 13 | AK13: TOTAL | AS13: =SUM(AS8:AS12) -> 13 | AT13: TOTAL | BB13: =SUM(BB8:BB12) -> 11.2
A14: 1.1 | B14: =+'Cotización Termales'!C17 -> DEMOLICIÓN BALDOSA DE PISO H=0.02 M | I14: =+'Cotización Termales'!D17 -> M2 | J14: 3.5 | K14: =+'Cotización Termales'!C75 -> CAJA DE INSPECCIÓN DE 60X60 | R14: =+'Cotización Termales'!D75 -> UN | S14: 5.18 | T14: =+'Cotización Termales'!C124 -> MURO EN BLOQUE No. 5 E=0.12 (LINEAL) | AA14: =+'Cotización Termales'!D124 -> ML | AB14: 6.5 | AC14: =+'Cotización Termales'!C170 -> IMPERMEABILIZACIÓN INTEGRAL MORTERO SIKA | AJ14: =+'Cotización Termales'!D170 -> M2 | AK14: 7.2 | AL14: =+'Cotización Termales'!C215 -> TEJA EN LÁMINA GALVANIZADA CAL 26 PINTADA | AS14: =+'Cotización Termales'!D215 -> M2 | AT14: 13.4 | AU14: =+'Cotización Termales'!C419 -> ALISTADO PISOS 1:3, E=0.04 | BB14: =+'Cotización Termales'!D419 -> M2
A15: CANTIDADES DE OBRA | J15: CANTIDADES DE OBRA | S15: CANTIDADES DE OBRA | AB15: CANTIDADES DE OBRA | AK15: CANTIDADES DE OBRA | AT15: CANTIDADES DE OBRA
A16: ITEM | B16: DESCRIPCION | C16: ANCHO | D16: LARGO | E16: PROFUNDIDAD | F16: CANT | I16: TOTAL | J16: ITEM | K16: DESCRIPCION | L16: ANCHO | M16: LARGO | N16: PROFUNDIDAD | O16: CANT | R16: TOTAL | S16: ITEM | T16: DESCRIPCION | U16: ANCHO | V16: LARGO | W16: PROFUNDIDAD | X16: CANT | AA16: TOTAL | AB16: ITEM | AC16: DESCRIPCION | AD16: ANCHO | AE16: LARGO | AF16: PROFUNDIDAD | AG16: CANT | AJ16: TOTAL | AK16: ITEM | AL16: DESCRIPCION | AM16: ANCHO | AN16: LARGO | AO16: PROFUNDIDAD | AP16: CANT | AS16: TOTAL | AT16: ITEM | AU16: DESCRIPCION | AV16: ANCHO | AW16: LARGO | AX16: PROFUNDIDAD | AY16: CANT | BB16: TOTAL
B17: COCINA | C17: 10 | D17: 3 | F17: 1 | I17: =+C17*D17 -> 30 | K17: Piscina | O17: 1 | R17: =O17 -> 1 | T17: Baños | V17: 13.6 | X17: 1 | AA17: =+V17*X17 -> 13.6 | AC17: Muro Bajo Cubierta Piscina Termal | AD17: 1.2 | AE17: 10.78 | AG17: 1 | AL17: Kiosco | AM17: 4 | AN17: =+(3)*2 -> 6 | AP17: 3 | AS17: =+AM17*AN17*AP17 -> 72 | AU17: Restaurante Exterior Matera | AV17: 3.3 | AW17: 13.3 | AY17: 1 | BB17: =+AV17*AW17 -> 43.89
B18: VESTIER ZONA 1 | C18: 20.8 | D18: 3.8 | K18: Cocina | O18: 1 | R18: 1 | T18: Lockers | V18: 9.8 | X18: 1 | AA18: =+V18*X18 -> 9.8 | AJ18: =AD18*AE18*AG18 -> 0 | AU18: Restaurante Exterior Matera | AV18: 3.5 | AW18: 2.8 | AY18: 1 | BB18: =AV18*AW18*AY18 -> 9.8
B19: VESTIER ZONA 2 | C19: 9.7 | D19: 3.8 | R19: =L19*M19*O19 -> 0 | T19: Cocina | V19: 6.2 | X19: 1 | AA19: =+V19*X19 -> 6.2 | AJ19: =AD19*AE19*AG19 -> 0 | AU19: Kioscos | AV19: 6 | AW19: 6 | AY19: 3 | BB19: =AV19*AW19*AY19 -> 108
I20: =C20*D20*F20 -> 0 | R20: =L20*M20*O20 -> 0 | T20: Plataforma Kiosco | V20: 6 | X20: 3 | AA20: =+V20*X20 -> 18 | AJ20: =AD20*AE20*AG20 -> 0 | AU20: Duchas | AV20: 2.5 | AW20: 2.5 | AY20: 2 | BB20: =AV20*AW20*AY20 -> 12.5
I21: =C21*D21*F21 -> 0 | R21: =L21*M21*O21 -> 0 | AA21: =U21*V21*X21 -> 0 | AJ21: =AD21*AE21*AG21 -> 0 | AS21: =AM21*AN21*AP21 -> 0 | BB21: =AV21*AW21*AY21 -> 0
A22: TOTAL | I22: =SUM(I17:I21) -> 30 | J22: TOTAL | R22: =SUM(R17:R21) -> 2 | S22: TOTAL | AA22: =SUM(AA17:AA21) -> 47.6 | AB22: TOTAL | AJ22: =SUM(AJ17:AJ21) -> 0 | AK22: TOTAL | AS22: =SUM(AS17:AS21) -> 72 | AT22: TOTAL | BB22: =SUM(BB17:BB21) -> 174.19
A23: 1.12 | B23: =+'Cotización Termales'!C18 -> DEMOLICIÓN ENCHAPE MURO | I23: =+'Cotización Termales'!D18 -> M2 | J23: 3.11 | K23: =+'Cotización Termales'!C81 -> TUBERÍA DRENAJE PVC 110 | R23: =+'Cotización Termales'!D81 -> ML | S23: 5.37 | T23: =+'Cotización Termales'!C143 -> MURO TOLETE COMÚN 0.06 M | AA23: =+'Cotización Termales'!D143 -> M2 | AB23: 6.6 | AC23: =+'Cotización Termales'!C171 -> MALLA BAJO ENTRAMADO | AJ23: =+'Cotización Termales'!D171 -> M2 | AK23: 7.32 | AL23: =+'Cotización Termales'!C225 -> ESTRUCTURA METÁLICA PARA TEJA DE FIBROCEMENTO (TUBO ESTRUCTURAL ABIERTO 4"x2", 15 MM) | AS23: =+'Cotización Termales'!D225 -> M2 | AT23: 14.1 | AU23: =+'Cotización Termales'!C434 -> BALDOSA CERÁMICA PISO-PARED 20X20 CALIDAD PRIMERA | BB23: =+'Cotización Termales'!D434 -> M2
A24: CANTIDADES DE OBRA | J24: CANTIDADES DE OBRA | S24: CANTIDADES DE OBRA | AB24: CANTIDADES DE OBRA | AK24: CANTIDADES DE OBRA | AT24: CANTIDADES DE OBRA
A25: ITEM | B25: DESCRIPCION | C25: ANCHO | D25: LARGO | E25: PROFUNDIDAD | F25: CANT | I25: TOTAL | J25: ITEM | K25: DESCRIPCION | L25: ANCHO | M25: LARGO | N25: PROFUNDIDAD | O25: CANT | R25: TOTAL | S25: ITEM | T25: DESCRIPCION | U25: ANCHO | V25: LARGO | W25: PROFUNDIDAD | X25: CANT | AA25: TOTAL | AB25: ITEM | AC25: DESCRIPCION | AD25: ANCHO | AE25: LARGO | AF25: PROFUNDIDAD | AG25: CANT | AJ25: TOTAL | AK25: ITEM | AL25: DESCRIPCION | AM25: ANCHO | AN25: LARGO | AO25: PROFUNDIDAD | AP25: CANT | AS25: TOTAL | AT25: ITEM | AU25: DESCRIPCION | AV25: ANCHO | AW25: LARGO | AX25: PROFUNDIDAD | AY25: CANT | BB25: TOTAL
B26: COCINA | C26: 6.2 | D26: 2.2 | F26: 1 | I26: =+C26*D26 -> 13.64 | K26: Piscina | M26: 15 | O26: 1 | R26: =M26 -> 15 | T26: Baño | U26: 1.5 | V26: 2 | X26: 12 | AA26: =U26*V26*X26 -> 36 | AC26: Placas para ducha | AD26: 3 | AE26: 3 | AG26: 4 | AJ26: =+AD26*AE26*AG26 -> 36 | AL26: Kiosco | AM26: 4 | AN26: =+(3)*2 -> 6 | AP26: 3 | AS26: =+AM26*AN26*AP26 -> 72 | AU26: COCINA | AV26: 4 | AW26: 12 | BB26: =+AV26*AW26 -> 48
I27: =C27*D27*F27 -> 0 | K27: Cocina | M27: 8 | R27: =M27 -> 8 | T27: Mochetas mesones | U27: 0.7 | V27: 0.95 | X27: 6 | AA27: =U27*V27*X27 -> 3.99 | AJ27: =AD27*AE27*AG27 -> 0 | AU27: MESONES | AV27: 13.3 | AW27: 0.8 | AY27: 2 | BB27: =AV27*AW27*AY27 -> 21.28
I28: =C28*D28*F28 -> 0 | R28: =L28*M28*O28 -> 0 | T28: Pedestales duchas | U28: =0.4*4 -> 1.6 | V28: 2.35 | X28: 5 | AA28: =U28*V28*X28 -> 18.8 | AJ28: =AD28*AE28*AG28 -> 0 | AU28: Baños | AV28: 1.5 | AW28: 2 | AY28: 12 | BB28: =AV28*AW28*AY28 -> 36
I29: =C29*D29*F29 -> 0 | R29: =L29*M29*O29 -> 0 | AA29: =U29*V29*X29 -> 0 | AJ29: =AD29*AE29*AG29 -> 0 | AS29: =AM29*AN29*AP29 -> 0 | AU29: Piso Baños | AV29: 13.6 | AW29: 9.5 | BB29: =+AV29*AW29 -> 129.2
I30: =C30*D30*F30 -> 0 | R30: =L30*M30*O30 -> 0 | AA30: =U30*V30*X30 -> 0 | AJ30: =AD30*AE30*AG30 -> 0 | AS30: =AM30*AN30*AP30 -> 0 | BB30: =+AV30*AW30 -> 0
A31: TOTAL | I31: =SUM(I26:I30) -> 13.64 | J31: TOTAL | R31: =SUM(R26:R30) -> 23 | S31: TOTAL | AA31: =SUM(AA26:AA30) -> 58.79 | AB31: TOTAL | AJ31: =SUM(AJ26:AJ30) -> 36 | AK31: TOTAL | AS31: =SUM(AS26:AS30) -> 72 | AT31: TOTAL | BB31: =SUM(BB26:BB30) -> 234.48
A32: ITEM | B32: ACTIVIDAD | I32: UNIDAD | J32: ITEM | K32: ACTIVIDAD | R32: UNIDAD | S32: ITEM | T32: ACTIVIDAD | AA32: UNIDAD | AB32: ITEM | AC32: ACTIVIDAD | AJ32: UNIDAD | AK32: ITEM | AL32: ACTIVIDAD | AS32: UNIDAD | AT32: ITEM | AU32: ACTIVIDAD | BB32: UNIDAD
A33: 1.14 | B33: =+'Cotización Termales'!C19 -> DEMOLICIÓN CIELO RASO FALSO | I33: =+'Cotización Termales'!D19 -> M2 | J33: 4.19 | K33: =+'Cotización Termales'!C108 -> PASOS PREFABRICADOS ESCALERAS EN CONRETO 2500 PSI (ANCHO 1 M) | R33: =+'Cotización Termales'!D108 -> UN | S33: 5.38 | T33: =+'Cotización Termales'!C144 -> MURO TOLETE COMÚN 0.06 M (LINEAL) | AA33: =+'Cotización Termales'!D144 -> ML | AB33: 6.15 | AC33: =+'Cotización Termales'!C180 -> PAÑETE IMPERMEABILIZADO MUROS 1:3, E=1.5 CM | AJ33: =+'Cotización Termales'!D180 -> M2 | AK33: 7.4 | AL33: =+'Cotización Termales'!C233 -> CUBIERTA EN POLICARBONATO ALVEOLAR | AS33: =+'Cotización Termales'!D233 -> M2 | AT33: 15.1 | AU33: =+'Cotización Termales'!C491 -> CIELO RASO EN PVC e=8 mm (INCLUYE ESTRUCTURA DE APOYO) | BB33: =+'Cotización Termales'!D491 -> M2
A34: CANTIDADES DE OBRA | J34: CANTIDADES DE OBRA | S34: CANTIDADES DE OBRA | AB34: CANTIDADES DE OBRA | AK34: CANTIDADES DE OBRA | AT34: CANTIDADES DE OBRA
A35: ITEM | B35: DESCRIPCION | C35: ANCHO | D35: LARGO | E35: PROFUNDIDAD | F35: CANT | I35: TOTAL | J35: ITEM | K35: DESCRIPCION | L35: ANCHO | M35: LARGO | N35: PROFUNDIDAD | O35: CANT | R35: TOTAL | S35: ITEM | T35: DESCRIPCION | U35: ANCHO | V35: LARGO | W35: PROFUNDIDAD | X35: CANT | AA35: TOTAL | AB35: ITEM | AC35: DESCRIPCION | AD35: ANCHO | AE35: LARGO | AF35: PROFUNDIDAD | AG35: CANT | AJ35: TOTAL | AK35: ITEM | AL35: DESCRIPCION | AM35: ANCHO | AN35: LARGO | AO35: PROFUNDIDAD | AP35: CANT | AS35: TOTAL | AT35: ITEM | AU35: DESCRIPCION | AV35: ANCHO | AW35: LARGO | AX35: PROFUNDIDAD | AY35: CANT | BB35: TOTAL
B36: COCINA | C36: 6.2 | D36: 12 | F36: 1 | I36: =+C36*D36 -> 74.4 | K36: SPA | O36: 6 | R36: =O36 -> 6 | T36: Baños | V36: 13.6 | X36: 1 | AA36: =+V36*X36 -> 13.6 | AC36: Baño | AD36: 1.5 | AE36: 2 | AG36: 12 | AH36: 2 | AJ36: =+AD36*AE36*AG36*AH36 -> 72 | AL36: Kiosco | AM36: 4 | AN36: =+(3)*2 -> 6 | AP36: 3 | AS36: =+AM36*AN36*AP36 -> 72 | AU36: COCINA | AV36: 4 | AW36: 12 | BB36: =+AV36*AW36 -> 48
I37: =C37*D37*F37 -> 0 | K37: Restaurante | O37: 6 | R37: =O37 -> 6 | T37: Lockers | V37: 9.8 | X37: 1 | AA37: =+V37*X37 -> 9.8 | AJ37: 0 | BB37: =+AV37*AW37 -> 0
I38: =C38*D38*F38 -> 0 | K38: Kiosco /Cafetería | O38: 6 | R38: =O38 -> 6 | T38: Cocina | V38: 6.2 | X38: 1 | AA38: =+V38*X38 -> 6.2 | AJ38: =AD38*AE38*AG38 -> 0 | BB38: =+AV38*AW38 -> 0
I39: =C39*D39*F39 -> 0 | R39: =L39*M39*O39 -> 0 | T39: Plataforma Kiosco | V39: 10 | X39: 3 | AA39: =+V39*X39 -> 30 | AJ39: =AD39*AE39*AG39 -> 0 | BB39: =+AV39*AW39 -> 0
I40: =C40*D40*F40 -> 0 | R40: =L40*M40*O40 -> 0 | AA40: =U40*V40*X40 -> 0 | AJ40: =AD40*AE40*AG40 -> 0 | AS40: =AM40*AN40*AP40 -> 0 | BB40: =AV40*AW40*AY40 -> 0
A41: TOTAL | I41: =SUM(I36:I40) -> 74.4 | J41: TOTAL | R41: =SUM(R36:R40) -> 18 | S41: TOTAL | AA41: =SUM(AA36:AA40) -> 59.6 | AB41: TOTAL | AJ41: =SUM(AJ36:AJ40) -> 72 | AK41: TOTAL | AS41: =SUM(AS36:AS40) -> 72 | AT41: TOTAL | BB41: =SUM(BB36:BB40) -> 48
A42: 1.17 | B42: =+'Cotización Termales'!C22 -> DEMOLICIÓN MUROS EN MAMAPOSTERÍA 0.25 M | I42: =+'Cotización Termales'!D22 -> M2 | J42: 4.23 | K42: =+'Cotización Termales'!C112 -> REFUERZO MALLA ELECTROSOLDADA | R42: =+'Cotización Termales'!D112 -> KG | S42: 5.52 | T42: =+'Cotización Termales'!C158 -> DOVELA, GROUTING 3000 PSI | AA42: =+'Cotización Termales'!D158 -> ML | AB42: 6.17 | AC42: =+'Cotización Termales'!C182 -> PAÑETE LISO MUROS 1:4, E=1.5 CM | AJ42: =+'Cotización Termales'!D182 -> M2 | AK42: 7.41 | AL42: =+'Cotización Termales'!C234 -> CORTASOL TIPO CELOSCREEN 110-M1, PASO 200 | AS42: =+'Cotización Termales'!D234 -> M2 | AU42: =+'PRESUPUESTO V2'!B90 -> PLACA BASE CONCRETO 0.10 2500 PSI | BB42: =+'Cotización Termales'!U182 -> 0
...

Sheet PRESUPUESTO V3
A1: PRESUPUESTO MEJORAMIENTO Y ADECUACIÓN TERMALES | N1: SPA | O1: RESTAURANTE EXT
A2: TIPO DE OBRA: | C2: MEJORAMIENTO Y ADECUACIÓN | N2: SPA | O2: RESTAURANTE EXT | P2: VESTIRES | Q2: cocina | R2: =3.11*10.38 -> 32.2818
A3: OBJETO: | C3: MEJORAMIENTO Y ADECUACIÓN DEL BALANEARIO TERMALES DEL ZIPA MUNICIPIO DE TABIO CUNDINAMARCA | O3: COCINA | Q3: dem. Enchpe | R3: =ROUND(2.24*9.26,2) -> 20.74
O4: COCINA
A5: ÍTEM | B5: ICCU | C5: DESCRIPCIÓN | D5: UNIDAD | E5: CANTIDAD | F5: VALOR UNITARIO | G5: CANTIDAD | H5: VALOR TOTAL | J5: CANTIDAD | Q5: dem. Muro taquilla
A6: 1 | B6: 1 | C6: PRELIMINARES | Q6: ancho | R6: altura | S6: total
A7: 1.1 | B7: 1.9 | C7: DEMOLICIÓN ESCALERAS EN CONCRETO | D7: M2 | E7: 2.61 | F7: 101530 | G7: =+'Memorias Termales'!I13 -> 2.61 | H7: =+ROUND(F7*G7,0) -> 264993 | I7: =ROUND(H7*1.33,0) -> 352441 | J7: 2.61 | M7: MATERAS | Q7: 1.4 | R7: 1.2 | S7: =Q7*R7 -> 1.68
A8: 1.2 | B8: 1.1 | C8: DEMOLICIÓN BALDOSA DE PISO H=0.02 M | D8: M2 | E8: 30 | F8: 13166 | G8: =+'Memorias Termales'!I22 -> 30 | H8: =+ROUND(F8*G8,0) -> 394980 | I8: =ROUND(H8*1.33,0) -> 525323 | J8: 30
A9: 1.3 | B9: 1.12 | C9: DEMOLICIÓN ENCHAPE MURO | D9: M2 | E9: 20.74 | F9: 14116 | G9: =R3 -> 20.74 | H9: =+ROUND(F9*G9,0) -> 292766 | I9: =ROUND(H9*1.33,0) -> 389379 | J9: 20.74
A10: 1.4 | B10: APU 001 | C10: CORTE Y RETIRO DE ESTERILLA | D10: M2 | E10: 150 | F10: 18894 | G10: 150 | H10: =+ROUND(F10*G10,0) -> 2834100 | I10: =ROUND(H10*1.33,0) -> 3769353 | J10: 150
A11: 1.5 | B11: 1.14 | C11: DEMOLICIÓN CIELO RASO FALSO | D11: M2 | E11: 74.4 | F11: 19539 | G11: =+'Memorias Termales'!I41 -> 74.4 | H11: =+ROUND(F11*G11,0) -> 1453702 | I11: =ROUND(H11*1.33,0) -> 1933424 | J11: 74.4
A12: 1.6 | B12: 1.16 | C12: DEMOLICIÓN MUROS EN MAMPOSTERÍA 0.15 M | D12: M2 | E12: 1.68 | F12: 26178 | G12: =S7 -> 1.68 | H12: =+ROUND(F12*G12,0) -> 43979 | I12: =ROUND(H12*1.33,0) -> 58492 | J12: 1.68
A13: 1.7 | B13: 1.17 | C13: DEMOLICIÓN MUROS EN MAMPOSTERÍA 0.25 M | D13: M2 | E13: 18.24 | F13: 34942 | G13: =+'Memorias Termales'!I50 -> 18.24 | H13: =+ROUND(F13*G13,0) -> 637342 | I13: =ROUND(H13*1.33,0) -> 847665 | J13: 18.24
A14: 1.8 | B14: 1.32 | C14: DESMONTE APARATOS SANITARIOS | D14: UN | E14: 3 | F14: 40253 | G14: 3 | H14: =+ROUND(F14*G14,0) -> 120759 | I14: =ROUND(H14*1.33,0) -> 160609 | J14: 3
A15: 1.9 | B15: APU 002 | C15: DESMONTE CERRAMIENTO EXISTENTE PISCINAS | D15: M2 | E15: 120 | F15: 2120 | G15: 120 | H15: =+ROUND(F15*G15,0) -> 254400 | I15: =ROUND(H15*1.33,0) -> 338352 | J15: 120
A16: 2 | B16: 2 | C16: CIMIENTOS | I16: =ROUND(H16*1.33,0) -> 0
A17: 2.1 | B17: 2.7 | C17: VIGA DE AMARRE EN CONCRETO 3500 PSI | D17: M3 | E17: 1 | F17: 974310 | G17: 1 | H17: =+ROUND(F17*G17,0) -> 974310 | I17: =ROUND(H17*1.33,0) -> 1295832 | J17: 1 | N17: RESTAURANTE EXT
A18: 2.2 | B18: 2.8 | C18: ZAPATAS EN CONCRETO 3500 PSI | D18: M3 | E18: 1 | F18: 885987 | G18: 1 | H18: =+ROUND(F18*G18,0) -> 885987 | I18: =ROUND(H18*1.33,0) -> 1178363 | J18: 1
A19: 3 | B19: 3 | C19: DESAGÜES E INSTALACIONES SUBTERRÁNEAS | I19: =ROUND(H19*1.33,0) -> 0
A20: 3.1 | B20: 3.1 | C20: SIFÓN PARA DRENAJE EN PVC DE 4" | D20: UN | E20: 7 | F20: 61823 | G20: =+'Memorias Termales'!R13 -> 7 | H20: =+ROUND(F20*G20,0) -> 432761 | I20: =ROUND(H20*1.33,0) -> 575572 | J20: 7
A21: 3.2 | B21: 3.5 | C21: CAJA DE INSPECCIÓN DE 60X60 | D21: UN | E21: 2 | F21: 350322 | G21: =+'Memorias Termales'!R22 -> 2 | H21: =+ROUND(F21*G21,0) -> 700644 | I21: =ROUND(H21*1.33,0) -> 931857 | J21: 2
A22: 4 | B22: 4 | C22: ESTRUCTURAS EN CONCRETO | I22: =ROUND(H22*1.33,0) -> 0
A23: 4.1 | B23: 4.23 | C23: REFUERZO MALLA ELECTROSOLDADA | D23: KG | E23: 348.82 | F23: 10980 | G23: =+'Memorias Termales'!R50 -> 348.82 | H23: =+ROUND(F23*G23,0) -> 3830044 | I23: =ROUND(H23*1.33,0) -> 5093959 | J23: 348.82 | M23: DESCRIP. | N23: ANCHO | O23: LONGITUD | P23: TOTAL
A24: 4.2 | B24: 4.22 | C24: ACERO FIGURADO 60000 PSI | D24: KG | E24: 50 | F24: 8378 | G24: 50 | H24: =+ROUND(F24*G24,0) -> 418900 | I24: =ROUND(H24*1.33,0) -> 557137 | J24: 50 | M24: MATERA 1 SENTIDO 1 | N24: 0.8 | O24: 13.3 | P24: =N24*O24 -> 10.64
A25: 5 | B25: 5 | C25: MAMPOSTERÍA | I25: =ROUND(H25*1.33,0) -> 0 | M25: MATERA 1 SENTIDO 2 | P25: =N25*O25 -> 0
A26: 5.1 | B26: 5.8 | C26: MESONES EN CONCRETO 2500 PSI, E=0.1M (INC. REFUERZO) | D26: M2 | E26: 8.68 | F26: 152916 | G26: =+'Memorias Termales'!R54 -> 8.68 | H26: =+ROUND(F26*G26,0) -> 1327311 | I26: =ROUND(H26*1.33,0) -> 1765324 | J26: 8.68 | M26: MATERA 1 SENTIDO 3 | P26: =N26*O26 -> 0
A27: 5.2 | B27: 5.37 | C27: MURO TOLETE COMÚN 0.06 M | D27: M2 | E27: 10 | F27: 56307 | G27: 10 | H27: =+ROUND(F27*G27,0) -> 563070 | I27: =ROUND(H27*1.33,0) -> 748883 | J27: 10
A28: 5.3 | B28: APU 003 | C28: PIEDRA MUÑECA PARA ACABADO | D28: ML | E28: 16 | F28: 207243 | G28: 16 | H28: =+ROUND(F28*G28,0) -> 3315888 | I28: =ROUND(H28*1.33,0) -> 4410131 | J28: 16 | M28: MATERA 1 SENTIDO 4 | P28: =N28*O28 -> 0
A29: 6 | B29: 6 | C29: PAÑETES, REVOQUES Y REPELLOS | I29: =ROUND(H29*1.33,0) -> 0 | M29: MATERA 1 SENTIDO 5 | P29: =N29*O29 -> 0
A30: 6.1 | B30: 6.2 | C30: FILOS O DILATACIONES B/PLACA | D30: ML | E30: 13 | F30: 7688 | G30: =+'Memorias Termales'!AJ13 -> 13 | H30: =+ROUND(F30*G30,0) -> 99944 | I30: =ROUND(H30*1.33,0) -> 132926 | J30: 13 | M30: MATERA 1 SENTIDO 6 | P30: =N30*O30 -> 0
A31: 6.2 | B31: 6.15 | C31: PAÑETE IMPERMEABILIZADO MUROS 1:3, E=1.5 CM | D31: M2 | E31: 20 | F31: 33310 | G31: 20 | H31: =+ROUND(F31*G31,0) -> 666200 | I31: =ROUND(H31*1.33,0) -> 886046 | J31: 20 | M31: MATERA 1 SENTIDO 7 | P31: =N31*O31 -> 0
A32: 6.3 | B32: 6.16 | C32: PAÑETE IMPERMEABILIZADO MUROS 1:3, E=1.5 CM (LINEAL) | D32: ML | E32: 13 | F32: 22875 | G32: 13 | H32: =+ROUND(F32*G32,0) -> 297375 | I32: =ROUND(H32*1.33,0) -> 395509 | J32: 13 | M32: MATERA 1 SENTIDO 8 | P32: =N32*O32 -> 0
A33: 6.4 | B33: 6.16 | C33: MEDIACAÑA EN MORTERO IMPERMEBILIZADO 1:3 (LINEAL) | D33: ML | E33: 10 | F33: 22875 | G33: 10 | H33: =+ROUND(F33*G33,0) -> 228750 | I33: =ROUND(H33*1.33,0) -> 304238 | J33: 10 | M33: MATERA 1 SENTIDO 9 | P33: =N33*O33 -> 0
A34: 6.5 | B34: 6.17 | C34: PAÑETE LISO MUROS 1:4, E=1.5 CM | D34: M2 | E34: 20 | F34: 27939 | G34: 20 | H34: =+ROUND(F34*G34,0) -> 558780 | I34: =ROUND(H34*1.33,0) -> 743177 | J34: 20 | M34: MATERA 1 SENTIDO 10 | P34: =N34*O34 -> 0
A35: 6.6 | B35: 6.18 | C35: PAÑETE LISO MUROS 1:4, E=1.5 CM (LINEAL) | D35: ML | E35: 5 | F35: 18412 | G35: 5 | H35: =+ROUND(F35*G35,0) -> 92060 | I35: =ROUND(H35*1.33,0) -> 122440 | J35: 5
A36: 7 | B36: 7 | C36: CUBIERTAS | I36: =ROUND(H36*1.33,0) -> 0 | M36: MATERA 1 SENTIDO 11 | P36: =N36*O36 -> 0
A37: 7.1 | B37: 7.32 | C37: ESTRUCTURA METÁLICA PARA TEJA DE FIBROCEMENTO (TUBO ESTRUCTURAL ABIERTO 4"x2", 15 MM) | D37: M2 | E37: 60 | F37: 92924 | G37: 60 | H37: =+ROUND(F37*G37,0) -> 5575440 | I37: =ROUND(H37*1.33,0) -> 7415335 | J37: 60 | M37: MATERA 1 SENTIDO 12 | P37: =N37*O37 -> 0
A38: 7.2 | B38: 7.4 | C38: CUBIERTA EN POLICARBONATO ALVEOLAR | D38: M2 | E38: 60 | F38: 205605 | G38: 60 | H38: =+ROUND(F38*G38,0) -> 12336300 | I38: =ROUND(H38*1.33,0) -> 16407279 | J38: 60 | M38: MATERA 1 SENTIDO 13 | P38: =N38*O38 -> 0
A39: 7.3 | B39: 7.41 | C39: CORTASOL TIPO CELOSCREEN 110-M1, PASO 200 | D39: M2 | E39: 60 | F39: 403908 | G39: 60 | H39: =+ROUND(F39*G39,0) -> 24234480 | I39: =ROUND(H39*1.33,0) -> 32231858 | J39: 60 | M39: MATERA 1 SENTIDO 14 | P39: =N39*O39 -> 0
A40: 8 | B40: 8 | C40: CARPINTERÍA EN MADERA | I40: =ROUND(H40*1.33,0) -> 0 | M40: MATERA 1 SENTIDO 15 | P40: =N40*O40 -> 0
...

Sheet PRESUPUESTO SEÑALIZACIÓN
A1: PRESUPUESTO MEJORAMIENTO Y ADECUACIÓN TERMALES
A2: TIPO DE OBRA: | C2: MEJORAMIENTO Y ADECUACIÓN
A3: OBJETO: | C3: MEJORAMIENTO Y ADECUACIÓN DEL BALANEARIO TERMALES DEL ZIPA MUNICIPIO DE TABIO CUNDINAMARCA
A5: ÍTEM | B5: ICCU | C5: DESCRIPCIÓN | D5: UNIDAD | E5: VALOR UNITARIO | F5: CANTIDAD | G5: VALOR TOTAL
A6: 19 | B6: 19 | C6: SEÑALIZACIÓN
A7: 19.8 | B7: APU 015 | C7: SISTEMA INTEGRAL DE SEÑALIZACIÓN SOSTENIBLE GRAN FORMATO | D7: GLB | E7: =+'APU 015'!G46 -> 1110000 | F7: 2 | G7: =+ROUND(E7*F7,0) -> 2220000
A8: 19.9 | B8: APU 016 | C8: SISTEMA INTEGRAL DE SEÑALIZACIÓN SOSTENIBLE FORMATO MEDIANO | D8: GLB | E8: =+'APU 016'!G46 -> 400000 | F8: 3 | G8: =+ROUND(E8*F8,0) -> 1200000
A9: 19.1 | B9: APU 017 | C9: SISTEMA INTEGRAL DE SEÑALIZACIÓN SOSTENIBLE FORMATO PEQUEÑO | D9: GLB | E9: =+'APU 017'!G46 -> 180000 | F9: 31 | G9: =+ROUND(E9*F9,0) -> 5580000
A10: TOTAL COSTOS DIRECTOS | G10: =SUM(G6:G9) -> 9000000
A11: ADMNISTRACION | F11: 0.25 | G11: =+ROUND(G10*F11,0) -> 2250000
A12: IMPREVISTOS | F12: 0.03 | G12: =+ROUND(G10*F12,0) -> 270000
A13: UTILIDAD | F13: 0.05 | G13: =+ROUND(G10*F13,0) -> 450000
A14: VALOR TOTAL | G14: =SUM(G10:G13) -> 11970000
I54: LONGITUD | J54: =11.1+28.1+27.9+28+14.1+2.6 -> 111.8
I57: AREA | J57: LONGITUD
I58: AREA 1 | J58: =10.5+4.7+3.05+46.16 -> 64.41
I59: AREA 2 | J59: =1.86*2 -> 3.72
I60: MALLA PISCINA | J60: 15
I61: REJA TAQUILLA | J61: 1.85
I67: 2509172980

Sheet APU 001
A2: DEPARTAMENTO DE CUNDINAMARCA
A3: MUNICIPIO DE TABIO | C3: ANÁLISIS DE PRECIOS UNITARIOS
A6: MEJORAMIENTO Y/O ADECUACIÓN DE COCINA, AREAS SOCIALES , BAÑOS Y DUCHAS Y TUBERÍA DE TURCOS | D6: ITEM : | E6: CORTE Y RETIRO DE ESTERILLA CUBIERTA RESTAURANTE Y COCINA
D8: UNIDAD : | E8: M2
A9: I. EQUIPO
A10: Descripción | C10: Tipo | D10: Tarifa/Dia | E10: Rendimiento | F10: Valor-Unit.
A11: HERRAMIENTA MENOR | C11: GL | D11: 1902.65 | E11: 1 | F11: =D11*E11 -> 1902.65
A12: SECCION DE 1,4 POR 1,4 H=2,0-ANDAMIO CERTIFICADO | C12: D | D12: 30178 | E12: 0.1 | F12: =D12*E12 -> 3017.8
A13: MOTOSIERRA | C13: H | D13: 15101 | E13: 0.1 | F13: =+D13*E13 -> 1510.1
A14: VOLQUETA | C14: H | D14: 83867 | E14: 0.01 | F14: =+D14*E14 -> 838.67
F15: =+D15*E15 -> 0
F17: Sub-Total | G17: =SUM(F11:F15) -> 7269.22
A18: II. MATERIALES EN OBRA
A19: Descripción | C19: Unidad | D19: Precio-Unit. | E19: Cantidad | F19: Valor-Unit.
F20: =+E20*D20 -> 0
F21: =+E21*D21 -> 0
F22: =+E22*D22 -> 0
F23: =+E23*D23 -> 0
F24: =+E24*D24 -> 0
F25: =+E25*D25 -> 0
F26: =+E26*D26 -> 0
F27: =+D27*E27 -> 0
F28: =+D28*E28 -> 0
F29: Sub-Total | G29: =+SUM(F20:F28) -> 0
A31: III. TRANSPORTES
A32: Material | B32: Vol-peso ó Cant. | C32: Distancia | D32: M3-Km | E32: Tarifa | F32: Valor-Unit.
F37: Sub-Total | G37: =+SUM(F33:F36) -> 0
A38: IV. MANO DE OBRA
A39: Trabajador | B39: HC | C39: Prestaciones | D39: HC Total | E39: Rendimiento | F39: Valor-Unit.
A40: CUADRILLA ALBAÑILERIA (AA) | C40: HC | D40: 41517 | E40: 0.28 | F40: =+D40*E40 -> 11624.76
F41: =+D41*E41 -> 0
F44: Sub-Total | G44: =+SUM(F40:F43) -> 11624.76
D46: Total Costo Directo | G46: =+G17+G29+G37+G44 -> 18893.98

Sheet APU 002
A2: DEPARTAMENTO DE CUNDINAMARCA
A3: MUNICIPIO DE TABIO | C3: ANÁLISIS DE PRECIOS UNITARIOS
A6: MEJORAMIENTO Y/O ADECUACIÓN DE COCINA, AREAS SOCIALES , BAÑOS Y DUCHAS Y TUBERÍA DE TURCOS | D6: ITEM : | E6: DESMONTE CERRAMIENTO EXISITENTE PISCINAS
D8: UNIDAD : | E8: M2
A9: I. EQUIPO
A10: Descripción | C10: Tipo | D10: Tarifa/Dia | E10: Rendimiento | F10: Valor-Unit.
A11: HERRAMIENTA MENOR 10% M.O. | C11: GL | F11: =0.1*G44 -> 192.72727
F12: =+D12*E12 -> 0
F13: =+D13*E13 -> 0
F14: =+D14*E14 -> 0
F15: =+D15*E15 -> 0
F17: Sub-Total | G17: =SUM(F11:F15) -> 192.72727
A18: II. MATERIALES EN OBRA
A19: Descripción | C19: Unidad | D19: Precio-Unit. | E19: Cantidad | F19: Valor-Unit.
F20: =+E20*D20 -> 0
F21: =+E21*D21 -> 0
F22: =+E22*D22 -> 0
F23: =+E23*D23 -> 0
F24: =+E24*D24 -> 0
F25: =+E25*D25 -> 0
F26: =+E26*D26 -> 0
F27: =+D27*E27 -> 0
F28: =+D28*E28 -> 0
F29: Sub-Total | G29: =+SUM(F20:F28) -> 0
A31: III. TRANSPORTES
A32: Material | B32: Vol-peso ó Cant. | C32: Distancia | D32: M3-Km | E32: Tarifa | F32: Valor-Unit.
F37: Sub-Total | G37: =+SUM(F33:F36) -> 0
A38: IV. MANO DE OBRA
A39: Trabajador | B39: HC | C39: Prestaciones | D39: HC Total | E39: Rendimiento | F39: Valor-Unit.
A40: CUADRILLA ALBAÑILERIA (AA) | C40: HC | D40: 41517 | E40: 0.046421291 | F40: =+D40*E40 -> 1927.2727
F41: =+D41*E41 -> 0
F44: Sub-Total | G44: =+SUM(F40:F43) -> 1927.2727
D46: Total Costo Directo | G46: =+G17+G29+G37+G44 -> 2120

Sheet APU 003
A2: DEPARTAMENTO DE CUNDINAMARCA
A3: MUNICIPIO DE TABIO | C3: ANÁLISIS DE PRECIOS UNITARIOS
A6: MEJORAMIENTO Y/O ADECUACIÓN DE COCINA, AREAS SOCIALES , BAÑOS Y DUCHAS Y TUBERÍA DE TURCOS | D6: ITEM : | E6: DESMONTE CERRAMIENTO EXISITENTE PISCINAS
D8: UNIDAD : | E8: ML
A9: I. EQUIPO
A10: Descripción | C10: Tipo | D10: Tarifa/Dia | E10: Rendimiento | F10: Valor-Unit.
A11: HERRAMIENTA MENOR 10% M.O. | C11: GL | F11: =0.1*G44 -> 2283.435
F12: =+D12*E12 -> 0
F13: =+D13*E13 -> 0
F14: =+D14*E14 -> 0
F15: =+D15*E15 -> 0
F17: Sub-Total | G17: =SUM(F11:F15) -> 2283.435
A18: II. MATERIALES EN OBRA
A19: Descripción | C19: Unidad | D19: Precio-Unit. | E19: Cantidad | F19: Valor-Unit.
A20: PIEDRA MUÑECA CREMA | C20: M2 | D20: 232900 | E20: 0.65 | F20: =+E20*D20 -> 151385
A21: PEGANTE PARA FACHADAS | C21: M2 | D21: 6756 | E21: =7*0.65 -> 4.55 | F21: =+E21*D21 -> 30739.8
F22: =+E22*D22 -> 0
F23: =+E23*D23 -> 0
F24: =+E24*D24 -> 0
F25: =+E25*D25 -> 0
F26: =+E26*D26 -> 0
F27: =+D27*E27 -> 0
F28: =+D28*E28 -> 0
F29: Sub-Total | G29: =+SUM(F20:F28) -> 182124.8
A31: III. TRANSPORTES
A32: Material | B32: Vol-peso ó Cant. | C32: Distancia | D32: M3-Km | E32: Tarifa | F32: Valor-Unit.
F37: Sub-Total | G37: =+SUM(F33:F36) -> 0
A38: IV. MANO DE OBRA
A39: Trabajador | B39: HC | C39: Prestaciones | D39: HC Total | E39: Rendimiento | F39: Valor-Unit.
A40: CUADRILLA ALBAÑILERIA (AA) | C40: HC | D40: 41517 | E40: 0.55 | F40: =+D40*E40 -> 22834.35
F41: =+D41*E41 -> 0
F44: Sub-Total | G44: =+SUM(F40:F43) -> 22834.35
D46: Total Costo Directo | G46: =+G17+G29+G37+G44 -> 207242.58

Sheet APU 004
A2: DEPARTAMENTO DE CUNDINAMARCA
A3: MUNICIPIO DE TABIO | C3: ANÁLISIS DE PRECIOS UNITARIOS
A6: MEJORAMIENTO Y/O ADECUACIÓN DE COCINA, AREAS SOCIALES , BAÑOS Y DUCHAS Y TUBERÍA DE TURCOS | D6: ITEM : | E6: SUMINISTRO E INSTALACION DE GARGOLA EN CONCRETO 0,50 M
D8: UNIDAD : | E8: UN
A9: I. EQUIPO
A10: Descripción | C10: Tipo | D10: Tarifa/Dia | E10: Rendimiento | F10: Valor-Unit.
A11: HERRAMIENTA MENOR 10% M.O. | C11: GL | F11: =0.1*G44 -> 2324.952
F12: =+D12*E12 -> 0
F13: =+D13*E13 -> 0
F14: =+D14*E14 -> 0
F15: =+D15*E15 -> 0
F17: Sub-Total | G17: =SUM(F11:F15) -> 2324.952
A18: II. MATERIALES EN OBRA
A19: Descripción | C19: Unidad | D19: Precio-Unit. | E19: Cantidad | F19: Valor-Unit.
A20: BLOQUE GARGOLA DE 0,50 M | C20: UN | D20: =294900/5 -> 58980 | E20: 1 | F20: =+E20*D20 -> 58980
A21: PEGANTE PARA FACHADAS | C21: M2 | D21: 6756 | E21: 2 | F21: =+E21*D21 -> 13512
F22: =+E22*D22 -> 0
F23: =+E23*D23 -> 0
F24: =+E24*D24 -> 0
F25: =+E25*D25 -> 0
F26: =+E26*D26 -> 0
F27: =+D27*E27 -> 0
F28: =+D28*E28 -> 0
F29: Sub-Total | G29: =+SUM(F20:F28) -> 72492
A31: III. TRANSPORTES
A32: Material | B32: Vol-peso ó Cant. | C32: Distancia | D32: M3-Km | E32: Tarifa | F32: Valor-Unit.
F37: Sub-Total | G37: =+SUM(F33:F36) -> 0
A38: IV. MANO DE OBRA
A39: Trabajador | B39: HC | C39: Prestaciones | D39: HC Total | E39: Rendimiento | F39: Valor-Unit.
A40: CUADRILLA ALBAÑILERIA (AA) | C40: HC | D40: 41517 | E40: 0.56 | F40: =+D40*E40 -> 23249.52
F41: =+D41*E41 -> 0
F44: Sub-Total | G44: =+SUM(F40:F43) -> 23249.52
D46: Total Costo Directo | G46: =+G17+G29+G37+G44 -> 98066.472

Sheet APU 005
A2: DEPARTAMENTO DE CUNDINAMARCA
A3: MUNICIPIO DE TABIO | C3: ANÁLISIS DE PRECIOS UNITARIOS
A6: MEJORAMIENTO Y/O ADECUACIÓN DE COCINA, AREAS SOCIALES , BAÑOS Y DUCHAS Y TUBERÍA DE TURCOS | D6: ITEM : | E6: GRIFERIA PARA LAVAPLATOS
D8: UNIDAD : | E8: UN
A9: I. EQUIPO
A10: Descripción | C10: Tipo | D10: Tarifa/Dia | E10: Rendimiento | F10: Valor-Unit.
A11: HERRAMIENTA MENOR 10% M.O. | C11: GL | F11: =0.1*G44 -> 2075.85
F12: =+D12*E12 -> 0
F13: =+D13*E13 -> 0
F14: =+D14*E14 -> 0
F15: =+D15*E15 -> 0
F17: Sub-Total | G17: =SUM(F11:F15) -> 2075.85
A18: II. MATERIALES EN OBRA
A19: Descripción | C19: Unidad | D19: Precio-Unit. | E19: Cantidad | F19: Valor-Unit.
A20: GRIFERIA LAVAPLATOS | C20: UN | D20: 63900 | E20: 1 | F20: =+E20*D20 -> 63900
A21: CANASTILLA FLEXIBLE | C21: UN | D21: 35900 | E21: 1 | F21: =+E21*D21 -> 35900
F22: =+E22*D22 -> 0
F23: =+E23*D23 -> 0
F24: =+E24*D24 -> 0
F25: =+E25*D25 -> 0
F26: =+E26*D26 -> 0
F27: =+D27*E27 -> 0
F28: =+D28*E28 -> 0
F29: Sub-Total | G29: =+SUM(F20:F28) -> 99800
A31: III. TRANSPORTES
A32: Material | B32: Vol-peso ó Cant. | C32: Distancia | D32: M3-Km | E32: Tarifa | F32: Valor-Unit.
F37: Sub-Total | G37: =+SUM(F33:F36) -> 0
A38: IV. MANO DE OBRA
A39: Trabajador | B39: HC | C39: Prestaciones | D39: HC Total | E39: Rendimiento | F39: Valor-Unit.
A40: CUADRILLA ALBAÑILERIA (AA) | C40: HC | D40: 41517 | E40: 0.5 | F40: =+D40*E40 -> 20758.5
F41: =+D41*E41 -> 0
F44: Sub-Total | G44: =+SUM(F40:F43) -> 20758.5
D46: Total Costo Directo | G46: =+G17+G29+G37+G44 -> 122634.35

Sheet APU 006
A2: DEPARTAMENTO DE CUNDINAMARCA
A3: MUNICIPIO DE TABIO | C3: ANÁLISIS DE PRECIOS UNITARIOS
A6: MEJORAMIENTO Y/O ADECUACIÓN DE COCINA, AREAS SOCIALES , BAÑOS Y DUCHAS Y TUBERÍA DE TURCOS | D6: ITEM : | E6: CIELORASO PLANO PLACA FIBROCEMENTO 4 MM (INCLUYE PINTURA)
D8: UNIDAD : | E8: M2
A9: I. EQUIPO
A10: Descripción | C10: Tipo | D10: Tarifa/Dia | E10: Rendimiento | F10: Valor-Unit.
A11: IGUAL AL PRECIO DE DRY WALL | F11: 4060.76
F12: =+D12*E12 -> 0
F13: =+D13*E13 -> 0
F14: =+D14*E14 -> 0
F15: =+D15*E15 -> 0
F17: Sub-Total | G17: =SUM(F11:F15) -> 4060.76
A18: II. MATERIALES EN OBRA
A19: Descripción | C19: Unidad | D19: Precio-Unit. | E19: Cantidad | F19: Valor-Unit.
A20: PLACA FIBROCEMENTO 4 MM | C20: M2 | D20: 14549 | E20: 1.05 | F20: =+E20*D20 -> 15276.45
A21: DEMAS MATERIALES IGUAL AL PRECIO EN DRYWALL | F21: 28550.31
F22: =+E22*D22 -> 0
F23: =+E23*D23 -> 0
F24: =+E24*D24 -> 0
F25: =+E25*D25 -> 0
F26: =+E26*D26 -> 0
F27: =+D27*E27 -> 0
F28: =+D28*E28 -> 0
F29: Sub-Total | G29: =+SUM(F20:F28) -> 43826.76
A31: III. TRANSPORTES
A32: Material | B32: Vol-peso ó Cant. | C32: Distancia | D32: M3-Km | E32: Tarifa | F32: Valor-Unit.
F37: Sub-Total | G37: =+SUM(F33:F36) -> 0
A38: IV. MANO DE OBRA
A39: Trabajador | B39: HC | C39: Prestaciones | D39: HC Total | E39: Rendimiento | F39: Valor-Unit.
A40: CUADRILLA CARPINTERIAS (DD) | C40: HC | D40: 61278 | E40: 0.7 | F40: =+D40*E40 -> 42894.6
F41: =+D41*E41 -> 0
F44: Sub-Total | G44: =+SUM(F40:F43) -> 42894.6
D46: Total Costo Directo | G46: =+G17+G29+G37+G44 -> 90782.12

Sheet APU 007
A2: DEPARTAMENTO DE CUNDINAMARCA
A3: MUNICIPIO DE TABIO | C3: ANÁLISIS DE PRECIOS UNITARIOS
A6: MEJORAMIENTO Y/O ADECUACIÓN DE COCINA, AREAS SOCIALES , BAÑOS Y DUCHAS Y TUBERÍA DE TURCOS | D6: ITEM : | E6: Campana en acero inoxidable CL 20 TIPO 304 TIPO ISLA DMS:2.50X1.20X0.60 SIN FILTROS (Incluye suministro e instalación)
D8: UNIDAD : | E8: UN
A9: I. EQUIPO
A10: Descripción | C10: Tipo | D10: Tarifa/Dia | E10: Rendimiento | F10: Valor-Unit.
F11: 0
F12: =+D12*E12 -> 0
F13: =+D13*E13 -> 0
F14: =+D14*E14 -> 0
F15: =+D15*E15 -> 0
F17: Sub-Total | G17: =SUM(F11:F15) -> 0
A18: II. MATERIALES EN OBRA
A19: Descripción | C19: Unidad | D19: Precio-Unit. | E19: Cantidad | F19: Valor-Unit.
A20: Campana en acero inoxidable CL 20 TIPO 304 TIPO ISLA DMS:2.50X1.20X0.60 SIN FILTROS (Incluye suministro e instalación) | C20: UN | D20: =6000000*1.19 -> 7140000 | E20: 1 | F20: =+E20*D20 -> 7140000
F21: =+E21*D21 -> 0
F22: =+E22*D22 -> 0
F23: =+E23*D23 -> 0
F24: =+E24*D24 -> 0
F25: =+E25*D25 -> 0
F26: =+E26*D26 -> 0
F27: =+D27*E27 -> 0
F28: =+D28*E28 -> 0
F29: Sub-Total | G29: =+SUM(F20:F28) -> 7140000
A31: III. TRANSPORTES
A32: Material | B32: Vol-peso ó Cant. | C32: Distancia | D32: M3-Km | E32: Tarifa | F32: Valor-Unit.
F37: Sub-Total | G37: =+SUM(F33:F36) -> 0
A38: IV. MANO DE OBRA
A39: Trabajador | B39: HC | C39: Prestaciones | D39: HC Total | E39: Rendimiento | F39: Valor-Unit.
F40: =+D40*E40 -> 0
F41: =+D41*E41 -> 0
F44: Sub-Total | G44: =+SUM(F40:F43) -> 0
D46: Total Costo Directo | G46: =+G17+G29+G37+G44 -> 7140000

Sheet APU 008
A2: DEPARTAMENTO DE CUNDINAMARCA
A3: MUNICIPIO DE TABIO | C3: ANÁLISIS DE PRECIOS UNITARIOS
A6: MEJORAMIENTO Y/O ADECUACIÓN DE COCINA, AREAS SOCIALES , BAÑOS Y DUCHAS Y TUBERÍA DE TURCOS | D6: ITEM : | E6: Extractor tipo hongo de 20" con un metro de ducto (Incluye suministro e instalación)
D8: UNIDAD : | E8: UN
A9: I. EQUIPO
A10: Descripción | C10: Tipo | D10: Tarifa/Dia | E10: Rendimiento | F10: Valor-Unit.
F11: 0
F12: =+D12*E12 -> 0
F13: =+D13*E13 -> 0
F14: =+D14*E14 -> 0
F15: =+D15*E15 -> 0
F17: Sub-Total | G17: =SUM(F11:F15) -> 0
A18: II. MATERIALES EN OBRA
A19: Descripción | C19: Unidad | D19: Precio-Unit. | E19: Cantidad | F19: Valor-Unit.
A20: Extractor tipo hongo de 20" con un metro de ducto (Incluye suministro e instalación) | C20: UN | D20: =6512605*1.19 -> 7749999.9 | E20: 1 | F20: =+E20*D20 -> 7749999.9
A21: Ducto lamiba galvanizada cal 22 40x40 | C21: UN | D21: =480000*1.19 -> 571200 | E21: 1 | F21: =+E21*D21 -> 571200
A22: Arrancador STAR/STOP | C22: UN | D22: =350000*1.19 -> 416500 | E22: 1 | F22: =+E22*D22 -> 416500
A23: Base para extractor en lamina galvanizada cal 22 | C23: UN | D23: =500000*1.19 -> 595000 | E23: 1 | F23: =+E23*D23 -> 595000
A24: Transporte, Instalacion y Cableado, Tabio Cundinamarca | C24: UN | D24: =3500000*1.19 -> 4165000 | E24: 1 | F24: =+E24*D24 -> 4165000
F25: =+E25*D25 -> 0
F26: =+E26*D26 -> 0
F27: =+D27*E27 -> 0
F28: =+D28*E28 -> 0
F29: Sub-Total | G29: =+SUM(F20:F28) -> 13497700
A31: III. TRANSPORTES
A32: Material | B32: Vol-peso ó Cant. | C32: Distancia | D32: M3-Km | E32: Tarifa | F32: Valor-Unit.
F37: Sub-Total | G37: =+SUM(F33:F36) -> 0
A38: IV. MANO DE OBRA
A39: Trabajador | B39: HC | C39: Prestaciones | D39: HC Total | E39: Rendimiento | F39: Valor-Unit.
F40: =+D40*E40 -> 0
F41: =+D41*E41 -> 0
F44: Sub-Total | G44: =+SUM(F40:F43) -> 0
D46: Total Costo Directo | G46: =+G17+G29+G37+G44 -> 13497700

Sheet APU 009
A2: DEPARTAMENTO DE CUNDINAMARCA
A3: MUNICIPIO DE TABIO | C3: ANÁLISIS DE PRECIOS UNITARIOS
A6: MEJORAMIENTO Y/O ADECUACIÓN DE COCINA, AREAS SOCIALES , BAÑOS Y DUCHAS Y TUBERÍA DE TURCOS | D6: ITEM : | E6: Meson en acero inoxidable CL 20 TIPO 304,patas en tubo redondo y su respectivo entrepaño.DMS:6.05m x0.65m x0.90 de alto (Incluye suministro e instalación)
D8: UNIDAD : | E8: UN
A9: I. EQUIPO
A10: Descripción | C10: Tipo | D10: Tarifa/Dia | E10: Rendimiento | F10: Valor-Unit.
F11: 0
F12: =+D12*E12 -> 0
F13: =+D13*E13 -> 0
F14: =+D14*E14 -> 0
F15: =+D15*E15 -> 0
F17: Sub-Total | G17: =SUM(F11:F15) -> 0
A18: II. MATERIALES EN OBRA
A19: Descripción | C19: Unidad | D19: Precio-Unit. | E19: Cantidad | F19: Valor-Unit.
A20: Meson en acero inoxidable CL 20 TIPO 304,patas en tubo redondo y su respectivo entrepaño.DMS:6.05m x0.65m x0.90 de alto (Incluye suministro e instalación) | C20: UN | D20: =5747500*1.19 -> 6839525 | E20: 1 | F20: =+E20*D20 -> 6839525
F21: =+E21*D21 -> 0
F22: =+E22*D22 -> 0
F23: =+E23*D23 -> 0
F24: =+E24*D24 -> 0
F25: =+E25*D25 -> 0
F26: =+E26*D26 -> 0
F27: =+D27*E27 -> 0
F28: =+D28*E28 -> 0
F29: Sub-Total | G29: =+SUM(F20:F28) -> 6839525
A31: III. TRANSPORTES
A32: Material | B32: Vol-peso ó Cant. | C32: Distancia | D32: M3-Km | E32: Tarifa | F32: Valor-Unit.
F37: Sub-Total | G37: =+SUM(F33:F36) -> 0
A38: IV. MANO DE OBRA
A39: Trabajador | B39: HC | C39: Prestaciones | D39: HC Total | E39: Rendimiento | F39: Valor-Unit.
F40: =+D40*E40 -> 0
F41: =+D41*E41 -> 0
F44: Sub-Total | G44: =+SUM(F40:F43) -> 0
D46: Total Costo Directo | G46: =+G17+G29+G37+G44 -> 6839525

Sheet APU 010
A2: DEPARTAMENTO DE CUNDINAMARCA
A3: MUNICIPIO DE TABIO | C3: ANÁLISIS DE PRECIOS UNITARIOS
A6: MEJORAMIENTO Y/O ADECUACIÓN DE COCINA, AREAS SOCIALES , BAÑOS Y DUCHAS Y TUBERÍA DE TURCOS | D6: ITEM : | E6: Meson de lavado con 2 pocetas en acero inoxidable CL 20 TIPO 304,patas en tubo redondo y su respectivo entrepaño (Incluye suministro e instalación)
D8: UNIDAD : | E8: UN
A9: I. EQUIPO
A10: Descripción | C10: Tipo | D10: Tarifa/Dia | E10: Rendimiento | F10: Valor-Unit.
F11: 0
F12: =+D12*E12 -> 0
F13: =+D13*E13 -> 0
F14: =+D14*E14 -> 0
F15: =+D15*E15 -> 0
F17: Sub-Total | G17: =SUM(F11:F15) -> 0
A18: II. MATERIALES EN OBRA
A19: Descripción | C19: Unidad | D19: Precio-Unit. | E19: Cantidad | F19: Valor-Unit.
A20: Meson de lavado con 2 pocetas en acero inoxidable CL 20 TIPO 304,patas en tubo redondo y su respectivo entrepaño (Incluye suministro e instalación) | C20: UN | D20: =1950000*1.19 -> 2320500 | E20: 1 | F20: =+E20*D20 -> 2320500
F21: =+E21*D21 -> 0
F22: =+E22*D22 -> 0
F23: =+E23*D23 -> 0
F24: =+E24*D24 -> 0
F25: =+E25*D25 -> 0
F26: =+E26*D26 -> 0
F27: =+D27*E27 -> 0
F28: =+D28*E28 -> 0
F29: Sub-Total | G29: =+SUM(F20:F28) -> 2320500
A31: III. TRANSPORTES
A32: Material | B32: Vol-peso ó Cant. | C32: Distancia | D32: M3-Km | E32: Tarifa | F32: Valor-Unit.
F37: Sub-Total | G37: =+SUM(F33:F36) -> 0
A38: IV. MANO DE OBRA
A39: Trabajador | B39: HC | C39: Prestaciones | D39: HC Total | E39: Rendimiento | F39: Valor-Unit.
F40: =+D40*E40 -> 0
F41: =+D41*E41 -> 0
F44: Sub-Total | G44: =+SUM(F40:F43) -> 0
D46: Total Costo Directo | G46: =+G17+G29+G37+G44 -> 2320500

Sheet APU 011
A2: DEPARTAMENTO DE CUNDINAMARCA
A3: MUNICIPIO DE TABIO | C3: ANÁLISIS DE PRECIOS UNITARIOS
A6: MEJORAMIENTO Y/O ADECUACIÓN DE COCINA, AREAS SOCIALES , BAÑOS Y DUCHAS Y TUBERÍA DE TURCOS | D6: ITEM : | E6: Trampa en acero inoxidable cl 20 tipo 304 DMS:0.35x0.40x0.40 (Incluye suministro e instalación)
D8: UNIDAD : | E8: UN
A9: I. EQUIPO
A10: Descripción | C10: Tipo | D10: Tarifa/Dia | E10: Rendimiento | F10: Valor-Unit.
F11: 0
F12: =+D12*E12 -> 0
F13: =+D13*E13 -> 0
F14: =+D14*E14 -> 0
F15: =+D15*E15 -> 0
