Workbook

Sheet DATOS DEL PROCESO
A2: ALCALDÍA LOCAL DE SUBA | B2: ALCALDÍA LOCAL DE SUBA
B3: OFICINA DE INFRAESTRUCTURA DEL FDLSUBA
A6: OBJETO DE LA LICITACIÓN: | B6: EJECUTAR POR EL SISTEMA DE PRECIOS UNITARIOS Y A MONTO AGOTABLE LAS ACTIVIDADES PARA LA CONSERVACION DE LA MALLA VIAL LOCAL E INTERMEDIA Y ESPACIO PÚBLICO EN LA LOCALIDAD DE SUBA EN LA CIUDAD DE BOGOTA D.C
A8: No. De proceso de contratacion | B8: -
A9: MODALIDAD DE PROYECTO | B9: CONTRATO DE OBRA PÚBLICA
A12: ACTIVIDADES | B12: MESES | C12: MONTOS
A13: EJECUCIÓN DE OBRAS MALLA VIAL COSTO DIRECTO | B13: 11 | C13: =+CostoDirecto[[#Totals],[COSTO DIRECTO MALLA VIAL ]] -> 7940847786
A14: EJECUCIÓN DE OBRAS ESPACIO PUBLICO COSTO DIRECTO | C14: =+CostoDirecto[[#Totals],[COSTO DIRECTO ESPACIO PUBLICO]] -> 934648359
A15: PROVISION ATENCION DE EMERGENCIAS | C15: 5.4112242e+08
A16: TOTAL PROYECTO CD | B16: =SUM(B13:B13) -> 11 | C16: =SUM(C13:C15) -> 9416618564
A18: AIU OBRA | B18: =+'AIU OBRA '!X75 -> 0.2714 | C18: =ROUND($C$16*B18,) -> 2555670278
A19: PMT (Incl. AIU) | B19: =+C19/C16 -> 0.02099344 | C19: =+PMT!V36 -> 197687213
A20: PGS (Incl. AIU) | B20: =+C20/C16 -> 0.035146147 | C20: =+PGS!L54 -> 330957863
A21: PGA Y SST (Incl. AIU) | B21: =+C21/C16 -> 0.03808257 | C21: =+'PGA Y SST'!N105 -> 358609035
A23: COSTOS ESTIMADOS PARA DIAGNOSTICOS, DISEÑOS Y ENSAYOS DE LABORATORIO (Incluye Iva) | C23: =+EYD!H35 -> 375198364
A24: PROVISIÓN POR CAMBIO DE VIGENCIA | C24: =+AjusteCambioVigencia!I30 -> 165258683
A26: COSTO TOTAL DEL PROYECTO | C26: =SUM(C16,C18,C19,C20,C21,C23,C24) -> 13400000000

Sheet Formulario
C2: Formulario 1 - Propuesta económica - Documento tipo de licitación de obra pública de infraestructura de transporte - versión 4
C3: Código | D3: CCE-EICP-FM-14 | E3: Versión | F3: 4
C4: FORMULARIO 1
C5: PRESUPUESTO OFICIAL
C6: [La entidad puede utilizar este formulario de detalle del presupuesto oficial para determinar las condiciones bajo las cuales los proponentes analizarán y presentarán su propuesta económica de forma detallada, sin perjuicio que la entidad pueda modificarlo o establecer la presentación de la oferta económica con un formulario distinto al indicado.]
C8: Adicionalmente, cuando el proceso de contratación es estructurado por precios unitarios, la Entidad debe aplicar las notas 1, 2 y 3 del presente formulario y las casillas de "Descripción", "Porcentaje" de la Administración, Imprevisto, Utilidad y total A.I.U. resaltadas en color amarillo. Tratándose de otras modalidades de precio, la Entidad puede o no configurar los mismos aspectos.
C10: Nº | D10: ÍTEM DE PAGO | E10: ESPECIFICACIONES | G10: DESCRIPCIÓN | H10: UND. | I10: CANTIDAD | J10: VALOR UNITARIO | K10: VALOR TOTAL
E11: GENERAL | F11: PARTICULAR
C12: 1 | D12: 3007 | E12: IDU | G12: =+_xlfn.XLOOKUP(D12,APU_IDU[Código],APU_IDU[Nombre],"",0) -> REPLANTEO GENERAL | H12: =+_xlfn.XLOOKUP(D12,APU_IDU[Código],APU_IDU[UM],"",0) -> M2 | I12: =ROUND(+VLOOKUP(D12,CantidadesConsolidadas[[#Headers],[#Data]],53,FALSE),2) -> 14702.38 | J12: =ROUND(_xlfn.XLOOKUP(D12,APU_IDU[Código],APU_IDU[Valor],"",0)*(1+$K$146),0) -> 1374 | K12: =ROUND(I12*J12,0) -> 20201070
C13: 2 | D13: 5360 | E13: IDU | G13: =+_xlfn.XLOOKUP(D13,APU_IDU[Código],APU_IDU[Nombre],"",0) -> ACOPIO Y TRASIEGO MECANICO DE MATERIAL DE FRESADO EN EL SITIO DE ALMACENAMIENTO TRANSITORIO. | H13: =+_xlfn.XLOOKUP(D13,APU_IDU[Código],APU_IDU[UM],"",0) -> HR | I13: =ROUND(+VLOOKUP(D13,CantidadesConsolidadas[[#Headers],[#Data]],53,FALSE),2) -> 49 | J13: =ROUND(_xlfn.XLOOKUP(D13,APU_IDU[Código],APU_IDU[Valor],"",0)*(1+$K$146),0) -> 232397 | K13: =ROUND(I13*J13,0) -> 11387453
C14: 3 | D14: 3010 | E14: IDU | G14: =+_xlfn.XLOOKUP(D14,APU_IDU[Código],APU_IDU[Nombre],"",0) -> DEMOLICION PAVIMENTO ASFALTICO (INCLUYE CARGUE). NO INCLUYE TRANSPORTE Y DISPOSICIÓN FINAL DE SOBRANTES. | H14: =+_xlfn.XLOOKUP(D14,APU_IDU[Código],APU_IDU[UM],"",0) -> M3 | I14: =ROUND(+VLOOKUP(D14,CantidadesConsolidadas[[#Headers],[#Data]],53,FALSE),2) -> 2126.83 | J14: =ROUND(_xlfn.XLOOKUP(D14,APU_IDU[Código],APU_IDU[Valor],"",0)*(1+$K$146),0) -> 55376 | K14: =ROUND(I14*J14,0) -> 117775338
C15: 4 | D15: 3710 | E15: IDU | G15: =+_xlfn.XLOOKUP(D15,APU_IDU[Código],APU_IDU[Nombre],"",0) -> EXCAVACIÓN MECÁNICA EN MATERIAL COMÚN (INCLUYE CARGUE) | H15: =+_xlfn.XLOOKUP(D15,APU_IDU[Código],APU_IDU[UM],"",0) -> M3 | I15: =ROUND(+VLOOKUP(D15,CantidadesConsolidadas[[#Headers],[#Data]],53,FALSE),2) -> 9954.6 | J15: =ROUND(_xlfn.XLOOKUP(D15,APU_IDU[Código],APU_IDU[Valor],"",0)*(1+$K$146),0) -> 7626 | K15: =ROUND(I15*J15,0) -> 75913780
C16: 5 | D16: 3017 | E16: IDU | G16: =+_xlfn.XLOOKUP(D16,APU_IDU[Código],APU_IDU[Nombre],"",0) -> TRANSPORTE Y DISPOSICIÓN FINAL DE ESCOMBROS EN SITIO AUTORIZADO (DISTANCIA DE TRANSPORTE 21 KM). A DISTANCIA MAYOR DEL ACARREO LIBRE (90 M) EN SITIO AUTORIZADO POR LA ENTIDAD AMBIENTAL COMPETENTE. | H16: =+_xlfn.XLOOKUP(D16,APU_IDU[Código],APU_IDU[UM],"",0) -> M3 | I16: =ROUND(+VLOOKUP(D16,CantidadesConsolidadas[[#Headers],[#Data]],53,FALSE),2) -> 23284.41 | J16: =ROUND(_xlfn.XLOOKUP(D16,APU_IDU[Código],APU_IDU[Valor],"",0)*(1+$K$146),0) -> 58146 | K16: =ROUND(I16*J16,0) -> 1353895304
C17: 6 | D17: 4015 | E17: IDU | G17: =+_xlfn.XLOOKUP(D17,APU_IDU[Código],APU_IDU[Nombre],"",0) -> GEOTEXTIL NO TEJIDO CON RESISTENCIA A LA TENSION GRAB: ENTRE 850 N Y 980 N. PARA SEPARACION SUBRASANTE/CAPAS GRANULARES. (INCLUYE SUMINISTRO E INSTALACION). | H17: =+_xlfn.XLOOKUP(D17,APU_IDU[Código],APU_IDU[UM],"",0) -> M2 | I17: =ROUND(+VLOOKUP(D17,CantidadesConsolidadas[[#Headers],[#Data]],53,FALSE),2) -> 14702.38 | J17: =ROUND(_xlfn.XLOOKUP(D17,APU_IDU[Código],APU_IDU[Valor],"",0)*(1+$K$146),0) -> 29144 | K17: =ROUND(I17*J17,0) -> 428486163
C18: 7 | D18: 6053 | E18: IDU | G18: =+_xlfn.XLOOKUP(D18,APU_IDU[Código],APU_IDU[Nombre],"",0) -> CAPA DE SUELO DE SUBRASANTE ESTABILIZADA CON CAL HIDRATADA TIPO N, IN SITU AL 4%. (SUMINISTRO, EXTENDIDO, NIVELACION, HUMEDECIMIENTO Y COMPACTACION). | H18: =+_xlfn.XLOOKUP(D18,APU_IDU[Código],APU_IDU[UM],"",0) -> M3 | I18: =ROUND(+VLOOKUP(D18,CantidadesConsolidadas[[#Headers],[#Data]],53,FALSE),2) -> 1261.21 | J18: =ROUND(_xlfn.XLOOKUP(D18,APU_IDU[Código],APU_IDU[Valor],"",0)*(1+$K$146),0) -> 163389 | K18: =ROUND(I18*J18,0) -> 206067841
C19: 8 | D19: 6016 | E19: IDU | G19: =+_xlfn.XLOOKUP(D19,APU_IDU[Código],APU_IDU[Nombre],"",0) -> ESTABILIZACIÓN DE SUBRASANTE CON RAJÓN, INCLUYE EQUIPO DE COMPACTACIÓN (SUMINISTRO, EXTENDIDO, NIVELACIÓN Y COMPACTACIÓN CON EQUIPO MECÁNICO. NO INCLUYE MATERIAL DE SELLO) | H19: =+_xlfn.XLOOKUP(D19,APU_IDU[Código],APU_IDU[UM],"",0) -> M3 | I19: =ROUND(+VLOOKUP(D19,CantidadesConsolidadas[[#Headers],[#Data]],53,FALSE),2) -> 477.77 | J19: =ROUND(_xlfn.XLOOKUP(D19,APU_IDU[Código],APU_IDU[Valor],"",0)*(1+$K$146),0) -> 189136 | K19: =ROUND(I19*J19,0) -> 90363507
C20: 9 | D20: 4142 | E20: IDU | G20: =+_xlfn.XLOOKUP(D20,APU_IDU[Código],APU_IDU[Nombre],"",0) -> SUBBASE GRANULAR SBG-A (SUMINISTRO, EXTENDIDO, NIVELACIÓN, HUMEDECIMIENTO Y COMPACTACIÓN CON VIBROCOMPACTADOR) | H20: =+_xlfn.XLOOKUP(D20,APU_IDU[Código],APU_IDU[UM],"",0) -> M3 | I20: =ROUND(+VLOOKUP(D20,CantidadesConsolidadas[[#Headers],[#Data]],53,FALSE),2) -> 37.75 | J20: =ROUND(_xlfn.XLOOKUP(D20,APU_IDU[Código],APU_IDU[Valor],"",0)*(1+$K$146),0) -> 282247 | K20: =ROUND(I20*J20,0) -> 10654824
C21: 10 | D21: 8617 | E21: IDU | G21: =+_xlfn.XLOOKUP(D21,APU_IDU[Código],APU_IDU[Nombre],"",0) -> AGREGADOS RECICLADOS PARA SUBBASE GRANULAR (AR_SBG50) (Suministro, Extendido, Nivelación, Humedecimiento y Compactación con vibrocompactador) | H21: =+_xlfn.XLOOKUP(D21,APU_IDU[Código],APU_IDU[UM],"",0) -> M3 | I21: =ROUND(+VLOOKUP(D21,CantidadesConsolidadas[[#Headers],[#Data]],53,FALSE),2) -> 142.44 | J21: =ROUND(_xlfn.XLOOKUP(D21,APU_IDU[Código],APU_IDU[Valor],"",0)*(1+$K$146),0) -> 260332 | K21: =ROUND(I21*J21,0) -> 37081690
C22: 11 | D22: 4140 | E22: IDU | G22: =+_xlfn.XLOOKUP(D22,APU_IDU[Código],APU_IDU[Nombre],"",0) -> BASE GRANULAR BG-A. (SUMINISTRO, EXTENDIDO, NIVELACIÓN Y HUMEDECIMIENTO MECÁNICO, COMPACTACIÓN MECÁNICA CON VIBROCOMPACTADOR TÁNDEM PEQUEÑO, INCLUYE OPERARIO Y COMBUSTIBLE). | H22: =+_xlfn.XLOOKUP(D22,APU_IDU[Código],APU_IDU[UM],"",0) -> M3 | I22: =ROUND(+VLOOKUP(D22,CantidadesConsolidadas[[#Headers],[#Data]],53,FALSE),2) -> 45.75 | J22: =ROUND(_xlfn.XLOOKUP(D22,APU_IDU[Código],APU_IDU[Valor],"",0)*(1+$K$146),0) -> 333994 | K22: =ROUND(I22*J22,0) -> 15280226
C23: 12 | D23: 4160 | E23: IDU | G23: =+_xlfn.XLOOKUP(D23,APU_IDU[Código],APU_IDU[Nombre],"",0) -> SUBBASE GRANULAR CLASE B (SBG_B) (SUMINISTRO, EXTENDIDO, NIVELACIÓN, HUMEDECIMIENTO Y COMPACTACIÓN CON VIBROCOMPACTADOR) | H23: =+_xlfn.XLOOKUP(D23,APU_IDU[Código],APU_IDU[UM],"",0) -> M3 | I23: =ROUND(+VLOOKUP(D23,CantidadesConsolidadas[[#Headers],[#Data]],53,FALSE),2) -> 2512.37 | J23: =ROUND(_xlfn.XLOOKUP(D23,APU_IDU[Código],APU_IDU[Valor],"",0)*(1+$K$146),0) -> 261680 | K23: =ROUND(I23*J23,0) -> 657436982
... C123: 112 | D123: 5426 | E123: IDU | G123: =+_xlfn.XLOOKUP(D123,APU_IDU[Código],APU_IDU[Nombre],"",0) -> CONCRETO 4000 PSI GRAVA COMÚN PARA RAMPAS Y ESCALERAS (PREMEZCLADO. INCL. SUMINISTRO, FORMALETEO Y COLOCACIÓN. NO INCL. REFUERZO, CURADO). | H123: =+_xlfn.XLOOKUP(D123,APU_IDU[Código],APU_IDU[UM],"",0) -> M3 | I123: =ROUND(+VLOOKUP(D123,CantidadesConsolidadas[[#Headers],[#Data]],53,FALSE),2) -> 3.6 | J123: =ROUND(_xlfn.XLOOKUP(D123,APU_IDU[Código],APU_IDU[Valor],"",0)*(1+$K$146),0) -> 1324150 | K123: =ROUND(I123*J123,0) -> 4766940
A124: =IF(I124=0,#REF!,#REF!+1) -> #REF! | C124: 113 | D124: 4051 | E124: IDU | G124: =+_xlfn.XLOOKUP(D124,APU_IDU[Código],APU_IDU[Nombre],"",0) -> ANDEN CONCRETO 3000 PSI (210 KG/CM2) HECHO EN OBRA E=0.10M (INCLUYE MEZCLA, FORMALETEO, FUNDIDA Y CURADO) | H124: =+_xlfn.XLOOKUP(D124,APU_IDU[Código],APU_IDU[UM],"",0) -> M2 | I124: =ROUND(+VLOOKUP(D124,CantidadesConsolidadas[[#Headers],[#Data]],53,FALSE),2) -> 2577.89 | J124: =ROUND(_xlfn.XLOOKUP(D124,APU_IDU[Código],APU_IDU[Valor],"",0)*(1+$K$146),0) -> 114000 | K124: =ROUND(I124*J124,0) -> 293879460
C125: SUBTOTAL VALORES OFERTADOS | K125: =SUM(K12:K124) -> 11284303262
G127: SUBTOTAL OBRAS (INCLUYE COSTOS DIRECTOS E INDIRECTOS) | K127: =K125 -> 11284303262
G129: PROVISION ATENCION DE EMERGENCIAS (INCLUYE A.I.U. (27,14%)) - VALOR NO OFERTABLE | K129: =ROUND('DATOS DEL PROCESO'!C15*(1+Formulario!$K$146)+2536,0) -> 687985580
G131: COMPONENTE GESTIÓN AMBIENTAL Y SST (INCLUYE A.I.U.) - VALOR NO OFERTABLE | I131: GLB | J131: 0.03808257 | K131: =+'DATOS DEL PROCESO'!C21 -> 358609035
G132: COMPONENTE GESTIÓN SOCIAL (INCLUYE A.I.U.) - VALOR NO OFERTABLE | I132: GLB | J132: 0.035146147 | K132: =+'DATOS DEL PROCESO'!C20 -> 330957863
G133: COMPONENTE PLAN DE MANEJO DE TRAFICO - PMT (INCLUYE A.I.U.) - VALOR NO OFERTABLE | I133: GLB | J133: 0.02099344 | K133: =+'DATOS DEL PROCESO'!C19 -> 197687213
G135: COSTOS ESTIMADOS PARA DIAGNOSTICOS, DISEÑOS Y ENSAYOS DE LABORATORIO (Incluye Iva) - VALOR NO OFERTABLE | I135: GLB | J135: 1 | K135: =+'DATOS DEL PROCESO'!C23 -> 375198364
G137: PROVISIÓN POR CAMBIO DE VIGENCIA - VALOR NO OFERTABLE | I137: GLB | J137: 1 | K137: =+'DATOS DEL PROCESO'!C24 -> 165258683
G139: VALOR TOTAL OFERTA ECONOMICA | K139: =K127+K129+K131+K132+K133+K135+K137 -> 13400000000
C142: NOTA 1: Se debe tener en cuenta que el PRECIO UNITARIO incluye el valor de A.I.U. | H142: DESCRIPCION | K142: PORCENTAJE
C143: NOTA 2: Cuando la fracción decimal del peso sea igual o superior a 5 se aproximará por exceso al número entero siguiente del peso y cuando la fracción decimal del peso sea inferior a 5 se aproximará por defecto al número entero del peso. | H143: ADMINISTRACIÓN | J143: A= | K143: =+'AIU OBRA '!X71 -> 0.2114
C144: NOTA 3: El A.I.U y su discriminación deben estar en porcentaje (%). | H144: IMPREVISTO | J144: I= | K144: =+'AIU OBRA '!X72 -> 0.01
H145: UTILIDAD | J145: U= | K145: =+'AIU OBRA '!X73 -> 0.05
H146: TOTAL A.I.U | J146: A.I.U.= | K146: =SUM(K143:K145) -> 0.2714

Sheet PRECIOS APU 2025
B2: Origen | C2: Capítulo | D2: Subcapítulo | E2: Código | F2: Nombre | G2: UM | H2: Valor | I2: Fecha de actualización
B3: Antiguo | C3: EXCAVACIONES | D3: EXC. CONFORMACIÓN DE SUBRASANTE | E3: 3007 | F3: REPLANTEO GENERAL | G3: M2 | H3: 1081 | I3: Actualización 2026-I Fase II + M.O. Ley 2101 de 2021
B4: Antiguo | C4: EXCAVACIONES | D4: EXC. ESTRUCTURAS Y REDES | E4: 3009 | F4: EXCAVACION MANUAL PARA REDES PROFUNDIDAD 0M - 2M (INCLUYE CARGUE) | G4: M3 | H4: 58471 | I4: Actualización 2026-I Fase II + M.O. Ley 2101 de 2021
B5: Antiguo | C5: DEMOLICIONES | D5: DEMOLICIONES | E5: 3010 | F5: DEMOLICION PAVIMENTO ASFALTICO (INCLUYE CARGUE). NO INCLUYE TRANSPORTE Y DISPOSICIÓN FINAL DE SOBRANTES. | G5: M3 | H5: 43555 | I5: Actualización 2026-I Fase II + M.O. Ley 2101 de 2021
B6: Antiguo | C6: DEMOLICIONES | D6: DEMOLICIONES | E6: 3011 | F6: DEMOLICION MANUAL SARDINEL EXISTENTE (INCLUYE CARGUE). NO INCLUYE TRANSPORTE Y DISPOSICIÓN FINAL DE SOBRANTES. | G6: ML | H6: 8176 | I6: Actualización 2026-I Fase II + M.O. Ley 2101 de 2021
B7: Antiguo | C7: DEMOLICIONES | D7: DEMOLICIONES | E7: 3012 | F7: DEMOLICIÓN PISOS DE CONCRETO (ESPESOR VARIABLE HASTA 0.10 M. INCLUYE CARGUE). NO INCLUYE TRANSPORTE Y DISPOSICIÓN FINAL DE SOBRANTES. | G7: M2 | H7: 9583 | I7: Actualización 2026-I Fase II + M.O. Ley 2101 de 2021
B8: Antiguo | C8: REDES ELECTRICAS | D8: RED ELECTRICA CODENSA | E8: 3015 | F8: RETIRO DE POSTES DE AP/LA (INCLUYE TRASLADO A SITIO DE ACOPIO) | G8: UN | H8: 256334 | I8: Actualización 2026-I Fase II + M.O. Ley 2101 de 2021
B9: Antiguo | C9: TRANSPORTES Y ACARREOS | D9: TRANSPORTES Y ACARREOS | E9: 3017 | F9: TRANSPORTE Y DISPOSICIÓN FINAL DE ESCOMBROS EN SITIO AUTORIZADO (DISTANCIA DE TRANSPORTE 21 KM). A DISTANCIA MAYOR DEL ACARREO LIBRE (90 M) EN SITIO AUTORIZADO POR LA ENTIDAD AMBIENTAL COMPETENTE. | G9: M3 | H9: 45734 | I9: Actualización 2026-I Fase I
B10: Antiguo | C10: RELLENOS Y CAPAS GRANULARES | D10: RELLENOS EN TIERRA | E10: 3018 | F10: RELLENO EN TIERRA NEGRA PARA EMPRADIZACION (SUMINISTRO Y EXTENDIDO) | G10: M3 | H10: 111152 | I10: Actualización 2026-I Fase II + M.O. Ley 2101 de 2021
B11: Antiguo | C11: DEMOLICIONES | D11: DEMOLICIONES | E11: 3021 | F11: DEMOLICION PAVIMENTO ASFALTICO (ESPESOR VARIABLE. INCLUYE CARGUE). NO INCLUYE TRANSPORTE Y DISPOSICIÓN FINAL DE SOBRANTES. | G11: M2 | H11: 8838 | I11: Actualización 2026-I Fase II + M.O. Ley 2101 de 2021
B12: Antiguo | C12: DEMOLICIONES | D12: DEMOLICIONES | E12: 3022 | F12: DEMOLICIÓN PISOS DE CONCRETO (INCLUYE CARGUE). NO INCLUYE TRANSPORTE Y DISPOSICIÓN FINAL DE SOBRANTES. | G12: M3 | H12: 64547 | I12: Actualización 2026-I Fase II + M.O. Ley 2101 de 2021
B13: Antiguo | C13: RELLENOS Y CAPAS GRANULARES | D13: RELLENOS PARA ANDENES Y REDES | E13: 3024 | F13: RELLENO PARA REDES EN ARENA DE PEÑA (SUMINISTRO, EXTENDIDO, HUMEDECIMIENTO Y COMPACTACIÓN) | G13: M3 | H13: 182185 | I13: Actualización 2026-I Fase II + M.O. Ley 2101 de 2021
B14: Antiguo | C14: ANDENES Y SARDINELES | D14: SARDINELES Y BORDILLOS | E14: 3027 | F14: SARDINEL TIPO A10 (SUMINISTRO E INSTALACIÓN. INCLUYE 3CM MORTERO 1:5) | G14: ML | H14: 90524 | I14: Actualización 2026-I Fase II + M.O. Ley 2101 de 2021
... B3173: Demanda | C3173: RELLENOS Y CAPAS GRANULARES | D3173: CAPAS GRANULARES | E3173: 10888 | F3173: SUBBASE GRANULAR CLASE A - Gr1 (SBGA_Gr1) ESTABILIZADA CON CEMENTO AL 4% (SUMINISTRO, EXTENDIDO, NIVELACIÓN, HUMEDECIMIENTO Y COMPACTACIÓN CON VIBROCOMPACTADOR), DISTANCIA DE TRANSPORTE A 21 KM | G3173: M3 | H3173: 264399 | I3173: Actualización 2026-I Fase II + M.O. Ley 2101 de 2021

Sheet INSUMOS 2025
B86: Origen | C86: Grupo de base de datos | D86: Código | E86: Nombre | F86: UM | G86: Precio | H86: Fecha de Actualización
B87: Demanda | C87: CONCRETOS Y MORTEROS PREMEZCLADOS | D87: 322 | E87: CONCRETO GRAVA COMÚN 2000 PSI 14 MPa (140 Kg/m2) | F87: M3 | G87: 564303 | H87: Actualización 2026-I Fase I
B88: Demanda | C88: CONCRETOS Y MORTEROS PREMEZCLADOS | D88: 323 | E88: CONCRETO GRAVA COMÚN 2500 PSI 17 MPa (175 Kg/cm2) | F88: M3 | G88: 599299 | H88: Actualización 2026-I Fase I
B89: Demanda | C89: CONCRETOS Y MORTEROS PREMEZCLADOS | D89: 324 | E89: CONCRETO GRAVA COMÚN 3000 PSI 21 MPa (210 Kg/cm2) | F89: M3 | G89: 603117 | H89: Actualización 2026-I Fase I
B90: Demanda | C90: CONCRETOS Y MORTEROS PREMEZCLADOS | D90: 325 | E90: CONCRETO GRAVA COMÚN 3500 PSI 24 MPa (245 Kg/cm2) | F90: M3 | G90: 619564 | H90: Actualización 2026-I Fase I
B91: Demanda | C91: CONCRETOS Y MORTEROS PREMEZCLADOS | D91: 326 | E91: CONCRETO GRAVA COMÚN 4000 PSI 28 MPa (280 Kg/cm2) | F91: M3 | G91: 637080 | H91: Actualización 2026-I Fase I
B92: Demanda | C92: CONCRETOS Y MORTEROS PREMEZCLADOS | D92: 328 | E92: CONCRETO GRAVA COMÚN 5000 PSI 34 MPa (350 Kg/cm2) | F92: M3 | G92: 663148 | H92: Actualización 2026-I Fase I
B93: Demanda | C93: CONCRETOS Y MORTEROS PREMEZCLADOS | D93: 333 | E93: CONCRETO GRAVA FINA 3000 PSI 21 MPa (210 Kg/cm2) | F93: M3 | G93: 616932 | H93: Actualización 2026-I Fase I
B94: Demanda | C94: CONCRETOS Y MORTEROS PREMEZCLADOS | D94: 366 | E94: MORTERO 2000 PSI 14 MPa (140 Kg/cm2) | F94: M3 | G94: 724353 | H94: Actualización 2026-I Fase I
B95: Demanda | C95: EQUIPO PESADO | D95: 1505 | E95: COMPACTADOR DE LLANTAS - MASA SIN LASTRES DE 9 A 11 TONELADAS - INCLUYE OPERARIO Y COMBUSTIBLE | F95: HR | G95: 196044 | H95: Actualización 2026-I Fase I
B96: Demanda | C96: ARBOLES-GRAMAS-VEGETACIÓN Y PLANTACIÓN PAISAJÍSTIC | D96: 1512 | E96: GRAMA | F96: M2 | G96: 19722 | H96: Actualización 2026-I Fase I
B97: Demanda | C97: FORMALETAS, ANDAMIOS Y ACCESORIOS | D97: 1515 | E97: FORMALETA METÁLICA SARDINEL | F97: ML/DI | G97: 1131 | H97: Actualización 2026-I Fase I
B98: Demanda | C98: MALLAS Y ACEROS PARA REFUERZO | D98: 1794 | E98: ALAMBRE RECOCIDO No.18 | F98: KG | G98: 5711 | H98: Actualización 2026-I Fase I
... B2814: Demanda | C2814: GEOSINTETICOS | D2814: 13590 | E2814: GEOMALLA BIAXIAL CON RESISTENCIA ULTIMA A LA TENSION, SENTIDO LONGITUDINAL Y TRANSVERSAL: ENTRE 100 KN/M Y 106 KN/M | F2814: M2 | G2814: 18568 | H2814: Actualización 2026-I Fase II + M.O. Ley 2101 de 2021

Sheet Filtro_Conservacion
A1: Código | B1: Subcapítulo | C1: Nombre | D1: UM | E1: Valor | F1: Malla vial | G1: EspacioPublico | H1: Cicloruta | I1: Local | J1: Intermedia | K1: Arterial | L1: Rigido | M1: Flexibe | N1: Adoquin concreto | O1: Adoquin Arcilla | P1: Mantenimiento Periodico | Q1: Mantenimiento Rutinario | R1: Rehabilitación | S1: Reconstrucción | T1: TipoEstructura | U1: Superficie | V1: TipoMalla | W1: TipoIntervencion | X1: Codigo unico
A2: 4583 | B2: REHABILITACION ZONA VERDE E=10 CM. INCLUYE DESCAPOTE, SIEMBRA DE GRAMA, TIERRA NEGRA Y RETIRO DE MATERIAL ORGANICO. NO INCLUYE REDES. | C2: REHABILITACION ZONA VERDE E=10 CM. INCLUYE DESCAPOTE, SIEMBRA DE GRAMA, TIERRA NEGRA Y RETIRO DE MATERIAL ORGANICO. NO INCLUYE REDES. | D2: M2 | E2: 46968 | T2: EP | U2: 04 | V2: XM | W2: 02 | X2: EP04XM02
A3: 7825 | B3: MANTENIMIENTO PERIODICO ESPACIO PÚBLICO EN ADOQUÍN DE CONCRETO TR LIVIANO SOBRE MORTERO. INCLUYE RETIRO Y LIMPIEZA ADOQUÍN E INSTALAR NUEVO. EMBOQUILLADA CON ARENA CEMENTO 5:1., TRANSPORTE Y DISPOSICION DE ESCOMBROS A 21KM. | C3: MANTENIMIENTO PERIODICO ESPACIO PÚBLICO EN ADOQUÍN DE CONCRETO TR LIVIANO SOBRE MORTERO. INCLUYE RETIRO Y LIMPIEZA ADOQUÍN E INSTALAR NUEVO. EMBOQUILLADA CON ARENA CEMENTO 5:1., TRANSPORTE Y DISPOSICION DE ESCOMBROS A 21KM. | D3: M2 | E3: 78995 | T3: MV | U3: XS | V3: RU | W3: 04 | X3: MVXSRU04
A4: 10094 | B4: RECONSTRUCCION DE MALLA VIAL TRONCAl EN PAVIMENTO FLEXIBLE e=0.26 (NO INCLUYE SARDINEL), INCLUYE DEMOLICIÓN RETIRO Y REEMPLAZO DEL MATERIAL, EXCAVACIÓN MECANICA, ESTABILIZACIÓN DE SUBRASANTE, IMPRIMACIÓN, RIEGO, DEMARCACIÓN, TRANSPORTE Y DISPOSICION DE ESCOMBROS A 21KM. | C4: RECONSTRUCCION DE MALLA VIAL TRONCAl EN PAVIMENTO FLEXIBLE e=0.26 (NO INCLUYE SARDINEL), INCLUYE DEMOLICIÓN RETIRO Y REEMPLAZO DEL MATERIAL, EXCAVACIÓN MECANICA, ESTABILIZACIÓN DE SUBRASANTE, IMPRIMACIÓN, RIEGO, DEMARCACIÓN, TRANSPORTE Y DISPOSICION DE ESCOMBROS A 21KM. | D4: M2 | E4: 637941 | T4: MV | U4: XS | V4: LO | W4: XI | X4: MVXSLOXI
A5: 10095 | B5: RECONSTRUCCIÓN DE MALLA VIAL TRONCAL EN PAVIMENTO RIGIDO MR 45 e=0.25 (NO INCLUYE SARDINEL), INCLUYE DEMOLICIÓN RETIRO Y REEMPLAZO DEL MATERIAL, EXCAVACIÓN MECANICA, ESTABILIZACIÓN DE SUBRASANTE, CURADO, SELLADO DE JUNTAS, DEMARCACIÓN, TRANSPORTE Y DISPOSICION DE ESCOMBROS A 21KM. | C5: RECONSTRUCCIÓN DE MALLA VIAL TRONCAL EN PAVIMENTO RIGIDO MR 45 e=0.25 (NO INCLUYE SARDINEL), INCLUYE DEMOLICIÓN RETIRO Y REEMPLAZO DEL MATERIAL, EXCAVACIÓN MECANICA, ESTABILIZACIÓN DE SUBRASANTE, CURADO, SELLADO DE JUNTAS, DEMARCACIÓN, TRANSPORTE Y DISPOSICION DE ESCOMBROS A 21KM. | D5: M2 | E5: 657579 | T5: MV | U5: XS | V5: IN | W5: 03 | X5: MVXSIN03
A6: 10096 | B6: REHABILITACION DE MALLA VIAL TRONCAL EN PAVIMENTO FLEXIBLE e=0.26 (NO INCLUYE SARDINEL), INCLUYE DEMOLICIÓN RETIRO Y REEMPLAZO DEL MATERIAL, EXCAVACIÓN MECANICA, ESTABILIZACIÓN DE SUBRASANTE, IMPRIMACIÓN, RIEGO, DEMARCACIÓN, TRANSPORTE Y DISPOSICION DE ESCOMBROS A 21KM. | C6: REHABILITACION DE MALLA VIAL TRONCAL EN PAVIMENTO FLEXIBLE e=0.26 (NO INCLUYE SARDINEL), INCLUYE DEMOLICIÓN RETIRO Y REEMPLAZO DEL MATERIAL, EXCAVACIÓN MECANICA, ESTABILIZACIÓN DE SUBRASANTE, IMPRIMACIÓN, RIEGO, DEMARCACIÓN, TRANSPORTE Y DISPOSICION DE ESCOMBROS A 21KM. | D6: M2 | E6: 581990 | T6: EP | U6: 01 | V6: XM | W6: 04 | X6: EP01XM04
A7: 10097 | B7: RECONSTRUCCIÓN DE ESPACIO PÚBLICO EN PAVIMENTO RIGIDO DE 3000 PSI, INCLUYE DEMOLICIÓN RETIRO Y REEMPLAZO DEL MATERIAL, EXCAVACIÓN MANUAL, SARDINEL, BORDILLO, TRANSPORTE Y DISPOSICION DE ESCOMBROS A 21KM. | C7: RECONSTRUCCIÓN DE ESPACIO PÚBLICO EN PAVIMENTO RIGIDO DE 3000 PSI, INCLUYE DEMOLICIÓN RETIRO Y REEMPLAZO DEL MATERIAL, EXCAVACIÓN MANUAL, SARDINEL, BORDILLO, TRANSPORTE Y DISPOSICION DE ESCOMBROS A 21KM. | D7: M2 | E7: 353402 | T7: MV | U7: XS | V7: EX | W7: 03 | X7: MVXSEX03
A8: 10098 | B8: REHABILITACION DE MALLA VIAL TRONCAL EN PAVIMENTO RIGIDO MR 45 e=0.25 (NO INCLUYE SARDINEL), INCLUYE DEMOLICIÓN RETIRO Y REEMPLAZO DEL MATERIAL, EXCAVACIÓN MECANICA, CURADO, SELLADO DE JUNTAS, DEMARCACIÓN, TRANSPORTE Y DISPOSICION DE ESCOMBROS A 21KM. | C8: REHABILITACION DE MALLA VIAL TRONCAL EN PAVIMENTO RIGIDO MR 45 e=0.25 (NO INCLUYE SARDINEL), INCLUYE DEMOLICIÓN RETIRO Y REEMPLAZO DEL MATERIAL, EXCAVACIÓN MECANICA, CURADO, SELLADO DE JUNTAS, DEMARCACIÓN, TRANSPORTE Y DISPOSICION DE ESCOMBROS A 21KM. | D8: M2 | E8: 605555 | T8: MV | U8: XS | V8: FD | W8: 02 | X8: MVXSFD02
A9: 10099 | B9: MANTENIMIENTO PERIODICO DE MALLA VIAL TRONCAL EN PAVIMENTO FLEXIBLE HORARIO NOCTURNO, INCLUYE DEMOLICIÓN RETIRO Y REEMPLAZO DEL MATERIAL, EXCAVACIÓN MANUAL, CURADO, SELLADO DE JUNTAS, RIEGO, IMPRIMACIÓN, DEMARCACIÓN, TRANSPORTE Y DISPOSICION DE ESCOMBROS A 21KM. | C9: MANTENIMIENTO PERIODICO DE MALLA VIAL TRONCAL EN PAVIMENTO FLEXIBLE HORARIO NOCTURNO, INCLUYE DEMOLICIÓN RETIRO Y REEMPLAZO DEL MATERIAL, EXCAVACIÓN MANUAL, CURADO, SELLADO DE JUNTAS, RIEGO, IMPRIMACIÓN, DEMARCACIÓN, TRANSPORTE Y DISPOSICION DE ESCOMBROS A 21KM. | D9: M2 | E9: 194033 | T9: MV | U9: XS | V9: XM | W9: 02 | X9: MVXSXM02
A10: 10100 | B10: MANTENIMIENTO PERIODICO DE MALLA VIAL TRONCAL EN CONCRETO RIGIDO HORARIO NOCTURNO, INCLUYE DEMOLICIÓN RETIRO Y REEMPLAZO DEL MATERIAL, EXCAVACIÓN MECANICA, CURADO, SELLADO DE JUNTAS, DEMARCACIÓN, TRANSPORTE Y DISPOSICION DE ESCOMBROS A 21KM. | C10: MANTENIMIENTO PERIODICO DE MALLA VIAL TRONCAL EN CONCRETO RIGIDO HORARIO NOCTURNO, INCLUYE DEMOLICIÓN RETIRO Y REEMPLAZO DEL MATERIAL, EXCAVACIÓN MECANICA, CURADO, SELLADO DE JUNTAS, DEMARCACIÓN, TRANSPORTE Y DISPOSICION DE ESCOMBROS A 21KM. | D10: M2 | E10: 440324 | T10: EP | U10: 01 | V10: XM | W10: 04 | X10: EP01XM04
A11: 10101 | B11: RECONSTRUCCIÓN DE ESPACIO PÚBLICO EN CONCRETO ESTAMPADO INCLUYE DEMOLICIÓN RETIRO Y REEMPLAZO DEL MATERIAL, SARDINEL, EXCAVACIÓN MANUAL, BORDILLO, JUEGO DE MOLDES, CURADOR, DESMOLDANTE, TRANSPORTE Y DISPOSICION DE ESCOMBROS A 21KM. | C11: RECONSTRUCCIÓN DE ESPACIO PÚBLICO EN CONCRETO ESTAMPADO INCLUYE DEMOLICIÓN RETIRO Y REEMPLAZO DEL MATERIAL, SARDINEL, EXCAVACIÓN MANUAL, BORDILLO, JUEGO DE MOLDES, CURADOR, DESMOLDANTE, TRANSPORTE Y DISPOSICION DE ESCOMBROS A 21KM. | D11: M2 | E11: 350461 | T11: EP | U11: 05 | V11: XM | W11: 04 | X11: EP05XM04
A12: 10102 | B12: RECONSTRUCCION ESPACIO PUBLICO ADOQUIN ARCILLA TRAFICO LIVIANO SOBRE MORTERO. INCL. RETIRO ADOQUIN E INSTALAR NUEVO. INCLUYE SARDINEL, BORDILLO, EXCAVACIÓN MANUAL, NIVELACIÓN Y COMPACTACIÓN DE SUBRASANTE, TRANSPORTE Y DISPOSICION DE ESCOMBROS A 21KM. | C12: RECONSTRUCCION ESPACIO PUBLICO ADOQUIN ARCILLA TRAFICO LIVIANO SOBRE MORTERO. INCL. RETIRO ADOQUIN E INSTALAR NUEVO. INCLUYE SARDINEL, BORDILLO, EXCAVACIÓN MANUAL, NIVELACIÓN Y COMPACTACIÓN DE SUBRASANTE, TRANSPORTE Y DISPOSICION DE ESCOMBROS A 21KM. | D12: M2 | E12: 368618 | T12: EP | U12: 05 | V12: XM | W12: 04 | X12: EP05XM04
A13: 10103 | B13: RECONSTRUCCION ESPACIO PÚBLICO ADOQUIN ARCILLA TRAFICO PESADO SOBRE MORTERO. INCL. RETIRO ADOQUIN E INSTALAR NUEVO, INCLUYE SARDINEL, BORDILLO, EXCAVACIÓN MANUAL, NIVELACIÓN Y COMPACTACIÓN DE SUBRASANTE, TRANSPORTE Y DISPOSICION DE ESCOMBROS A 21KM. | C13: RECONSTRUCCION ESPACIO PÚBLICO ADOQUIN ARCILLA TRAFICO PESADO SOBRE MORTERO. INCL. RETIRO ADOQUIN E INSTALAR NUEVO, INCLUYE SARDINEL, BORDILLO, EXCAVACIÓN MANUAL, NIVELACIÓN Y COMPACTACIÓN DE SUBRASANTE, TRANSPORTE Y DISPOSICION DE ESCOMBROS A 21KM. | D13: M2 | E13: 381286 | T13: CR | U13: XS | V13: XM | W13: 01 | X13: CRXSXM01
... A120: 10482 | B120: CONSTRUCCION ESPACIO PUBLICO EN ADOQUIN DE ARCILLA TRAFICO LIVIANO SOBRE MORTERO. CON ESTRUCTURA EN SUBBASE GRANULAR CLASE C (SBG_C) CON RECICLADO DE CONCRETO HIDRAULICO, INCLUYE FRANJA DE AJUSTE, GEOTEXTIL, SARDINEL, EXCAVACIÓN MANUAL, NIVELACIÓN Y COMPACTACIÓN DE SUBRASANTE, TRANSPORTE Y DISPOSICION DE ESCOMBROS A 21KM. NO INCLUYE BORDILLO | C120: CONSTRUCCION ESPACIO PUBLICO EN ADOQUIN DE ARCILLA TRAFICO LIVIANO SOBRE MORTERO. CON ESTRUCTURA EN SUBBASE GRANULAR CLASE C (SBG_C) CON RECICLADO DE CONCRETO HIDRAULICO, INCLUYE FRANJA DE AJUSTE, GEOTEXTIL, SARDINEL, EXCAVACIÓN MANUAL, NIVELACIÓN Y COMPACTACIÓN DE SUBRASANTE, TRANSPORTE Y DISPOSICION DE ESCOMBROS A 21KM. NO INCLUYE BORDILLO | D120: M2 | E120: 352965 | T120: CR | U120: XS | V120: LO | W120: XI | X120: CRXSLOXI
A121: 10483 | B121: CONSTRUCCION ESPACIO PUBLICO EN ADOQUIN DE ARCILLA TRAFICO LIVIANO SOBRE MORTERO. CON ESTRUCTURA EN SUBBASE GRANULAR CLASE C (SBG_C) CON RECICLADO DE CONCRETO HIDRAULICO, INCLUYE ZONA VERDE, FRANJA DE AJUSTE, GEOTEXTIL, SARDINEL, EXCAVACIÓN MANUAL, NIVELACIÓN Y COMPACTACIÓN DE SUBRASANTE, TRANSPORTE Y DISPOSICION DE ESCOMBROS A 21KM. NO INCLUYE BORDILLO | C121: CONSTRUCCION ESPACIO PUBLICO EN ADOQUIN DE ARCILLA TRAFICO LIVIANO SOBRE MORTERO. CON ESTRUCTURA EN SUBBASE GRANULAR CLASE C (SBG_C) CON RECICLADO DE CONCRETO HIDRAULICO, INCLUYE ZONA VERDE, FRANJA DE AJUSTE, GEOTEXTIL, SARDINEL, EXCAVACIÓN MANUAL, NIVELACIÓN Y COMPACTACIÓN DE SUBRASANTE, TRANSPORTE Y DISPOSICION DE ESCOMBROS A 21KM. NO INCLUYE BORDILLO | D121: M2 | E121: 328312
A122: 10592 | B122: MANTENIMIENTO PERIODICO DE BICICARRIL EN ADOQUÍN DE ARCILLA TR PESADO BASE MORTERO, SOBRE MALLA VIAL ARTERIAL, , INCLUYE RETIRO ADOQUIN E INSTALAR NUEVO, TRANSPORTE Y DISPOSICION DE ESCOMBROS A 21KM. | C122: MANTENIMIENTO PERIODICO DE BICICARRIL EN ADOQUÍN DE ARCILLA TR PESADO BASE MORTERO, SOBRE MALLA VIAL ARTERIAL, , INCLUYE RETIRO ADOQUIN E INSTALAR NUEVO, TRANSPORTE Y DISPOSICION DE ESCOMBROS A 21KM. | D122: M2 | E122: 146861
A123: 10928 | B123: MANTENIMIENTO RUTINARIO DE MALLA VIAL TRONCAL EN PAVIMENTO ASFALTICO, INCLUYE SELLO DE GRIETAS, SELLO DE FISURAS, LIMPIEZA DE POZOS, LIMPIEZA DE SUMIDEROS Y REALCE DE SARDINEL | C123: MANTENIMIENTO RUTINARIO DE MALLA VIAL TRONCAL EN PAVIMENTO ASFALTICO, INCLUYE SELLO DE GRIETAS, SELLO DE FISURAS, LIMPIEZA DE POZOS, LIMPIEZA DE SUMIDEROS Y REALCE DE SARDINEL | D123: M2 | E123: 43026
A124: 10929 | B124: RECONSTRUCCION DE CICLORRUTA SOBRE ANDÉN, EN ADOQUIN DE ARCILLA TRAFICO LIVIANO SOBRE MORTERO. INCLUYE RETIRO ADOQUIN E INSTALAR NUEVO, EXCAVACIÓN MANUAL, NIVELACIÓN Y COMPACTACIÓN, GEOTEXTIL, BORDILLO, SEÑALIZACIÓN, DEMARCACIÓN Y TRANSPORTE Y DISPOSICION DE ESCOMBROS A 21KM. ). | C124: RECONSTRUCCION DE CICLORRUTA SOBRE ANDÉN, EN ADOQUIN DE ARCILLA TRAFICO LIVIANO SOBRE MORTERO. INCLUYE RETIRO ADOQUIN E INSTALAR NUEVO, EXCAVACIÓN MANUAL, NIVELACIÓN Y COMPACTACIÓN, GEOTEXTIL, BORDILLO, SEÑALIZACIÓN, DEMARCACIÓN Y TRANSPORTE Y DISPOSICION DE ESCOMBROS A 21KM. ). | D124: M2 | E124: 288888
A125: 10930 | B125: RECONSTRUCCION DE CICLORRUTA SOBRE ANDÉN, EN PAVIMENTO RIGIDO. (INCLUYE DEMOLICIÓN RETIRO Y REEMPLAZO DEL MATERIAL, EXCAVACIÓN MANUAL, NIVELACIÓN Y COMPACTACIÓN, GEOTEXTIL, BORDILLO, SEÑALIZACIÓN, DEMARCACIÓN Y TRANSPORTE Y DISPOSICION DE ESCOMBROS A 21KM. ). | C125: RECONSTRUCCION DE CICLORRUTA SOBRE ANDÉN, EN PAVIMENTO RIGIDO. (INCLUYE DEMOLICIÓN RETIRO Y REEMPLAZO DEL MATERIAL, EXCAVACIÓN MANUAL, NIVELACIÓN Y COMPACTACIÓN, GEOTEXTIL, BORDILLO, SEÑALIZACIÓN, DEMARCACIÓN Y TRANSPORTE Y DISPOSICION DE ESCOMBROS A 21KM. ). | D125: M2 | E125: 288068
A126: 10931 | B126: RECONSTRUCCION DE CICLORRUTA SOBRE ANDÉN, EN ADOQUIN DE CONCRETO SOBRE MORTERO. INCLUYE RETIRO ADOQUIN E INSTALAR NUEVO, EXCAVACIÓN MANUAL, NIVELACIÓN Y COMPACTACIÓN, GEOTEXTIL, BORDILLO, SEÑALIZACIÓN, DEMARCACIÓN Y TRANSPORTE Y DISPOSICION DE ESCOMBROS A 21KM. ). | C126: RECONSTRUCCION DE CICLORRUTA SOBRE ANDÉN, EN ADOQUIN DE CONCRETO SOBRE MORTERO. INCLUYE RETIRO ADOQUIN E INSTALAR NUEVO, EXCAVACIÓN MANUAL, NIVELACIÓN Y COMPACTACIÓN, GEOTEXTIL, BORDILLO, SEÑALIZACIÓN, DEMARCACIÓN Y TRANSPORTE Y DISPOSICION DE ESCOMBROS A 21KM. ). | D126: M2 | E126: 325167
A127: 10932 | B127: RECONSTRUCCIÓN ESPACIO PUBLICO EN ADOQUIN DE PIEDRA. INCLUYE RETIRO ADOQUIN E INSTALAR NUEVO, EXCAVACIÓN MANUAL, BORDILLO, SARDINEL, TRANSPORTE Y DISPOSICION DE ESCOMBROS A 21KM. | C127: RECONSTRUCCIÓN ESPACIO PUBLICO EN ADOQUIN DE PIEDRA. INCLUYE RETIRO ADOQUIN E INSTALAR NUEVO, EXCAVACIÓN MANUAL, BORDILLO, SARDINEL, TRANSPORTE Y DISPOSICION DE ESCOMBROS A 21KM. | D127: M2 | E127: 461312
A128: 10933 | B128: MANTENIMIENTO PERIODICO DE MALLA VIAL ARTERIAL EN PAVIMENTO ASFALTICO (INCLUYE FRESADO Y REPOSICION CARPETA) HORARIO NOCTURNO, INCLUYE EXCAVACIÓN MANUAL, LIMPIEZA DE POZOS, LIMPIEZA DE SUMIDEROS, RIEGO, IMPRIMACIÓN, DEMARCACIÓN, TRANSPORTE Y DISPOSICION DE ESCOMBROS A 21KM. | C128: MANTENIMIENTO PERIODICO DE MALLA VIAL ARTERIAL EN PAVIMENTO ASFALTICO (INCLUYE FRESADO Y REPOSICION CARPETA) HORARIO NOCTURNO, INCLUYE EXCAVACIÓN MANUAL, LIMPIEZA DE POZOS, LIMPIEZA DE SUMIDEROS, RIEGO, IMPRIMACIÓN, DEMARCACIÓN, TRANSPORTE Y DISPOSICION DE ESCOMBROS A 21KM. | D128: M2 | E128: 191954
A129: 10934 | B129: MANTENIMIENTO RUTINARIO DE MALLA VIAL ARTERIAL EN PAVIMENTO ASFALTICO, INCLUYE LIMPIEZA DE POZOS, LIMPIEZA DE SUMIDEROS, SELLO DE GRIETAS, SELLO DE FISURAS Y REALCE DE SARDINEL. | C129: MANTENIMIENTO RUTINARIO DE MALLA VIAL ARTERIAL EN PAVIMENTO ASFALTICO, INCLUYE LIMPIEZA DE POZOS, LIMPIEZA DE SUMIDEROS, SELLO DE GRIETAS, SELLO DE FISURAS Y REALCE DE SARDINEL. | D129: M2 | E129: 41379
A130: 10935 | B130: MANTENIMIENTO RUTINARIO DE MALLA VIAL ARTERIAL EN PAVIMENTO RIGIDO, INCLUYE LIMPIEZA DE POZOS, LIMPIEZA DE SUMIDEROS, SELLADO DE JUNTAS, SELLO DE FISURAS Y REALCE DE SARDINEL. | C130: MANTENIMIENTO RUTINARIO DE MALLA VIAL ARTERIAL EN PAVIMENTO RIGIDO, INCLUYE LIMPIEZA DE POZOS, LIMPIEZA DE SUMIDEROS, SELLADO DE JUNTAS, SELLO DE FISURAS Y REALCE DE SARDINEL. | D130: M2 | E130: 22736
A131: 10936 | B131: MANTENIMIENTO PERIÓDICO DE MALLA VIAL INTERMEDIA EN PAVIMENTO ASFÁLTICO, (INCLUYE EXCAVACIÓN MANUAL, FRESADO, CORTE DE PAVIMENTO, SELLADO DE JUNTAS, RIEGO, LIMPIEZA DE SUMIDEROS, LIMPIEZA DE POZOS, DEMARCACIÓN, TRANSPORTE Y DISPOSICION DE ESCOMBROS A 21KM. HORARIO NOCTURNO | C131: MANTENIMIENTO PERIÓDICO DE MALLA VIAL INTERMEDIA EN PAVIMENTO ASFÁLTICO, (INCLUYE EXCAVACIÓN MANUAL, FRESADO, CORTE DE PAVIMENTO, SELLADO DE JUNTAS, RIEGO, LIMPIEZA DE SUMIDEROS, LIMPIEZA DE POZOS, DEMARCACIÓN, TRANSPORTE Y DISPOSICION DE ESCOMBROS A 21KM. HORARIO NOCTURNO | D131: M2 | E131: 129632
A132: 10937 | B132: MANTENIMIENTO RUTINARIO DE MALLA VIAL INTERMEDIA EN PAVIMENTO ASFÁLTICO (INCLUYE SELLO DE FISURAS, SELLO DE GRIETAS, LIMPIEZA DE SUMIDEROS, LIMPIEZA DE POZOS Y REALCE DE SARDINEL) | C132: MANTENIMIENTO RUTINARIO DE MALLA VIAL INTERMEDIA EN PAVIMENTO ASFÁLTICO (INCLUYE SELLO DE FISURAS, SELLO DE GRIETAS, LIMPIEZA DE SUMIDEROS, LIMPIEZA DE POZOS Y REALCE DE SARDINEL) | D132: M2 | E132: 14764
... A143: 10948 | B143: MANTENIMIENTO PERIODICO DE BICICARRIL EN PAVIMENTO FLEXIBLE SOBRE MALLA VIAL LOCAL. INCLUYE FRESADO Y REPOSICIÓN CARPETA, RIEGO DE LIGA, IMPRIMACIÓN,SELLO DE JUNTAS, DEMARCACION VIAL, ELEMENTO SEGREGADOR, TRANSPORTE Y DISPOSICION DE ESCOMBROS A 21KM. | C143: MANTENIMIENTO PERIODICO DE BICICARRIL EN PAVIMENTO FLEXIBLE SOBRE MALLA VIAL LOCAL. INCLUYE FRESADO Y REPOSICIÓN CARPETA, RIEGO DE LIGA, IMPRIMACIÓN,SELLO DE JUNTAS, DEMARCACION VIAL, ELEMENTO SEGREGADOR, TRANSPORTE Y DISPOSICION DE ESCOMBROS A 21KM. | D143: M2 | E143: 402228

Sheet TABLAS
A1: COD | B1: CARGO | C1: CATEGORÍA | D1: TOPE MÁXIMO SALARIO | E1: FACTOR PRESTACIONAL 2026
A2: 9084 | B2: =+_xlfn.XLOOKUP(A2,INSUMO_IDU[Código],INSUMO_IDU[Nombre],"",0) -> TARIFA MES - PERSONAL TÉCNICO-TECNÓLOGO EN ÁREAS DE INGENIERÍA (NO INCLUYE FACTOR DE PRESTACIONES) | C2: =+_xlfn.XLOOKUP(A2,INSUMO_IDU[Código],INSUMO_IDU[UM],"",0) -> MES | D2: =+_xlfn.XLOOKUP(A2,INSUMO_IDU[Código],INSUMO_IDU[Precio],"",0) -> 3584000 | E2: =+VLOOKUP(A2,F.P!$B$7:$H$44,7,FALSE) -> 1.451
A3: 9085 | B3: =+_xlfn.XLOOKUP(A3,INSUMO_IDU[Código],INSUMO_IDU[Nombre],"",0) -> TARIFA MES - PERSONAL TÉCNICO - AUXILIAR DE INGENIERÍA (NO INCLUYE FACTOR DE PRESTACIONES) | C3: =+_xlfn.XLOOKUP(A3,INSUMO_IDU[Código],INSUMO_IDU[UM],"",0) -> MES | D3: =+_xlfn.XLOOKUP(A3,INSUMO_IDU[Código],INSUMO_IDU[Precio],"",0) -> 3150000 | E3: =+VLOOKUP(A3,F.P!$B$7:$H$44,7,FALSE) -> 1.567
A4: 9086 | B4: =+_xlfn.XLOOKUP(A4,INSUMO_IDU[Código],INSUMO_IDU[Nombre],"",0) -> TARIFA MES - PERSONAL TÉCNICO - DIBUJANTE 1 (NO INCLUYE FACTOR DE PRESTACIONES) | C4: =+_xlfn.XLOOKUP(A4,INSUMO_IDU[Código],INSUMO_IDU[UM],"",0) -> MES | D4: =+_xlfn.XLOOKUP(A4,INSUMO_IDU[Código],INSUMO_IDU[Precio],"",0) -> 3303000 | E4: =+VLOOKUP(A4,F.P!$B$7:$H$44,7,FALSE) -> 1.567
A5: 9087 | B5: =+_xlfn.XLOOKUP(A5,INSUMO_IDU[Código],INSUMO_IDU[Nombre],"",0) -> TARIFA MES - PERSONAL TÉCNICO - DIBUJANTE 2 (NO INCLUYE FACTOR DE PRESTACIONES) | C5: =+_xlfn.XLOOKUP(A5,INSUMO_IDU[Código],INSUMO_IDU[UM],"",0) -> MES | D5: =+_xlfn.XLOOKUP(A5,INSUMO_IDU[Código],INSUMO_IDU[Precio],"",0) -> 2670000 | E5: =+VLOOKUP(A5,F.P!$B$7:$H$44,7,FALSE) -> 1.567
A6: 9088 | B6: =+_xlfn.XLOOKUP(A6,INSUMO_IDU[Código],INSUMO_IDU[Nombre],"",0) -> TARIFA MES - PERSONAL TÉCNICO - TOPÓGRAFO INSPECTOR (NO INCLUYE FACTOR DE PRESTACIONES) | C6: =+_xlfn.XLOOKUP(A6,INSUMO_IDU[Código],INSUMO_IDU[UM],"",0) -> MES | D6: =+_xlfn.XLOOKUP(A6,INSUMO_IDU[Código],INSUMO_IDU[Precio],"",0) -> 3736000 | E6: =+VLOOKUP(A6,F.P!$B$7:$H$44,7,FALSE) -> 1.451
A7: 9089 | B7: =+_xlfn.XLOOKUP(A7,INSUMO_IDU[Código],INSUMO_IDU[Nombre],"",0) -> TARIFA MES - PERSONAL TÉCNICO - LABORATORISTA INSPECTOR (NO INCLUYE FACTOR DE PRESTACIONES) | C7: =+_xlfn.XLOOKUP(A7,INSUMO_IDU[Código],INSUMO_IDU[UM],"",0) -> MES | D7: =+_xlfn.XLOOKUP(A7,INSUMO_IDU[Código],INSUMO_IDU[Precio],"",0) -> 3310000 | E7: =+VLOOKUP(A7,F.P!$B$7:$H$44,7,FALSE) -> 1.567
A8: 9090 | B8: =+_xlfn.XLOOKUP(A8,INSUMO_IDU[Código],INSUMO_IDU[Nombre],"",0) -> TARIFA MES - PERSONAL TÉCNICO - LABORATORISTA AUXILIAR (NO INCLUYE FACTOR DE PRESTACIONES) | C8: =+_xlfn.XLOOKUP(A8,INSUMO_IDU[Código],INSUMO_IDU[UM],"",0) -> MES | D8: =+_xlfn.XLOOKUP(A8,INSUMO_IDU[Código],INSUMO_IDU[Precio],"",0) -> 2316000 | E8: =+VLOOKUP(A8,F.P!$B$7:$H$44,7,FALSE) -> 1.567
A9: 9091 | B9: =+_xlfn.XLOOKUP(A9,INSUMO_IDU[Código],INSUMO_IDU[Nombre],"",0) -> TARIFA MES - PERSONAL TÉCNICO - OPERADOR EQUIPO PERFORACIÓN (INCLUYE FACTOR DE PRESTACIONES) | C9: =+_xlfn.XLOOKUP(A9,INSUMO_IDU[Código],INSUMO_IDU[UM],"",0) -> MES | D9: =+_xlfn.XLOOKUP(A9,INSUMO_IDU[Código],INSUMO_IDU[Precio],"",0) -> 4690453 | E9: =+VLOOKUP(A9,F.P!$B$7:$H$44,7,FALSE) -> 1.451
A10: 9092 | B10: =+_xlfn.XLOOKUP(A10,INSUMO_IDU[Código],INSUMO_IDU[Nombre],"",0) -> TARIFA MES - PERSONAL TÉCNICO - OPERADOR AUXILIAR DE EQUIPO (INCLUYE FACTOR DE PRESTACIONES) | C10: =+_xlfn.XLOOKUP(A10,INSUMO_IDU[Código],INSUMO_IDU[UM],"",0) -> MES | D10: =+_xlfn.XLOOKUP(A10,INSUMO_IDU[Código],INSUMO_IDU[Precio],"",0) -> 3264239 | E10: =+VLOOKUP(A10,F.P!$B$7:$H$44,7,FALSE) -> 1.567
A11: 9093 | B11: =+_xlfn.XLOOKUP(A11,INSUMO_IDU[Código],INSUMO_IDU[Nombre],"",0) -> TARIFA MES - PERSONAL TÉCNICO - INSPECTOR 1 (NO INCLUYE FACTOR DE PRESTACIONES) | C11: =+_xlfn.XLOOKUP(A11,INSUMO_IDU[Código],INSUMO_IDU[UM],"",0) -> MES | D11: =+_xlfn.XLOOKUP(A11,INSUMO_IDU[Código],INSUMO_IDU[Precio],"",0) -> 2718000 | E11: =+VLOOKUP(A11,F.P!$B$7:$H$44,7,FALSE) -> 1.567
A12: 9094 | B12: =+_xlfn.XLOOKUP(A12,INSUMO_IDU[Código],INSUMO_IDU[Nombre],"",0) -> TARIFA MES - PERSONAL TÉCNICO - INSPECTOR 2 (NO INCLUYE FACTOR DE PRESTACIONES) | C12: =+_xlfn.XLOOKUP(A12,INSUMO_IDU[Código],INSUMO_IDU[UM],"",0) -> MES | D12: =+_xlfn.XLOOKUP(A12,INSUMO_IDU[Código],INSUMO_IDU[Precio],"",0) -> 2447000 | E12: =+VLOOKUP(A12,F.P!$B$7:$H$44,7,FALSE) -> 1.567
A13: 9095 | B13: =+_xlfn.XLOOKUP(A13,INSUMO_IDU[Código],INSUMO_IDU[Nombre],"",0) -> TARIFA MES - PERSONAL TÉCNICO - TOPÓGRAFO AUXILIAR (NO INCLUYE FACTOR DE PRESTACIONES) | C13: =+_xlfn.XLOOKUP(A13,INSUMO_IDU[Código],INSUMO_IDU[UM],"",0) -> MES | D13: =+_xlfn.XLOOKUP(A13,INSUMO_IDU[Código],INSUMO_IDU[Precio],"",0) -> 3064000 | E13: =+VLOOKUP(A13,F.P!$B$7:$H$44,7,FALSE) -> 1.567
... A32: 9457 | B32: =+_xlfn.XLOOKUP(A32,INSUMO_IDU[Código],INSUMO_IDU[Nombre],"",0) -> TARIFA MES - PERSONAL DE OBRA - INSPECTOR 1 HORARIO NOCTURNO (NO INCLUYE FACTOR DE PRESTACIONES) | C32: =+_xlfn.XLOOKUP(A32,INSUMO_IDU[Código],INSUMO_IDU[UM],"",0) -> MES | D32: =+_xlfn.XLOOKUP(A32,INSUMO_IDU[Código],INSUMO_IDU[Precio],"",0) -> 3669300 | E32: =+VLOOKUP(A32,F.P!$B$7:$H$44,7,FALSE) -> 1.451
A33: 9575 | B33: =+_xlfn.XLOOKUP(A33,INSUMO_IDU[Código],INSUMO_IDU[Nombre],"",0) -> TARIFA MES - PERSONAL TÉCNICO - CELADOR ARMADO (24 horas por 30 dias dividos en 3 turnos de 8 horas diarias. Incluye prestaciones de ley, Administraciòn y servicios). | C33: =+_xlfn.XLOOKUP(A33,INSUMO_IDU[Código],INSUMO_IDU[UM],"",0) -> MES | D33: =+_xlfn.XLOOKUP(A33,INSUMO_IDU[Código],INSUMO_IDU[Precio],"",0) -> 18832062

Sheet F.P
A1: INSTITUTO DE DESARROLLO URBANO IDU
A2: "POR LA CUAL SE ESTABLECEN LOS TOPES MÁXIMOS PARA SUELDOS Y DEMÁS GASTOS QUE SE PUEDEN PAGAR EN LOS CONTRATOS DE CONSULTORÍA, POR EL SISTEMA DE COBRO DE COSTOS DIRECTOS MÁS SUELDOS AFECTADOS POR UN MULTIPLICADOR"
F4: AÑO 2026
F5: SALARIO | H5: FACTOR PRESTACIONAL | K5: 13400000000
B6: CODIGO IDU | C6: PERSONAL | D6: DESCRIPCIÓN | E6: CATEGORIA | F6: 1750905 | G6: SMLMV | H6: CALENDARIO SIN EXTRAS | J6: 500 | K6: =+J6*F6 -> 875452500
A7: PERSONAL PROFESIONAL | B7: 9107 | C7: Categoría 1 | D7: =+_xlfn.XLOOKUP(B7,INSUMO_IDU[Código],INSUMO_IDU[Nombre],"",0) -> TARIFA MES - PROFESIONAL CATEGORÍA 1 (NO INCLUYE FACTOR DE PRESTACIONES) | E7: 1 | F7: =+_xlfn.XLOOKUP(B7,INSUMO_IDU[Código],INSUMO_IDU[Precio],"",0) -> 17387000 | G7: =F7/$F$6 -> 9.9302932 | H7: 1.451 | K7: =+K5/F6 -> 7653.1851
B8: 9108 | C8: Categoría 2 | D8: =+_xlfn.XLOOKUP(B8,INSUMO_IDU[Código],INSUMO_IDU[Nombre],"",0) -> TARIFA MES - PROFESIONAL CATEGORÍA 2 (NO INCLUYE FACTOR DE PRESTACIONES) | E8: 2 | F8: =+_xlfn.XLOOKUP(B8,INSUMO_IDU[Código],INSUMO_IDU[Precio],"",0) -> 13251000 | G8: =F8/$F$6 -> 7.5680862 | H8: 1.451
B9: 9109 | C9: Categoría 3 | D9: =+_xlfn.XLOOKUP(B9,INSUMO_IDU[Código],INSUMO_IDU[Nombre],"",0) -> TARIFA MES - PROFESIONAL CATEGORÍA 3 (NO INCLUYE FACTOR DE PRESTACIONES) | E9: 3 | F9: =+_xlfn.XLOOKUP(B9,INSUMO_IDU[Código],INSUMO_IDU[Precio],"",0) -> 11183000 | G9: =F9/$F$6 -> 6.3869827 | H9: 1.451
B10: 9110 | C10: Categoría 4 | D10: =+_xlfn.XLOOKUP(B10,INSUMO_IDU[Código],INSUMO_IDU[Nombre],"",0) -> TARIFA MES - PROFESIONAL CATEGORÍA 4 (NO INCLUYE FACTOR DE PRESTACIONES) | E10: 4 | F10: =+_xlfn.XLOOKUP(B10,INSUMO_IDU[Código],INSUMO_IDU[Precio],"",0) -> 9522000 | G10: =F10/$F$6 -> 5.4383305 | H10: 1.451
B11: 9111 | C11: Categoría 5 | D11: =+_xlfn.XLOOKUP(B11,INSUMO_IDU[Código],INSUMO_IDU[Nombre],"",0) -> TARIFA MES - PROFESIONAL CATEGORÍA 5 (NO INCLUYE FACTOR DE PRESTACIONES) | E11: 5 | F11: =+_xlfn.XLOOKUP(B11,INSUMO_IDU[Código],INSUMO_IDU[Precio],"",0) -> 8589000 | G11: =F11/$F$6 -> 4.9054632 | H11: 1.451
B12: 9112 | C12: Categoría 6 | D12: =+_xlfn.XLOOKUP(B12,INSUMO_IDU[Código],INSUMO_IDU[Nombre],"",0) -> TARIFA MES - PROFESIONAL CATEGORÍA 6 (NO INCLUYE FACTOR DE PRESTACIONES) | E12: 6 | F12: =+_xlfn.XLOOKUP(B12,INSUMO_IDU[Código],INSUMO_IDU[Precio],"",0) -> 7659000 | G12: =F12/$F$6 -> 4.3743093 | H12: 1.451
B13: 9113 | C13: Categoría 7 | D13: =+_xlfn.XLOOKUP(B13,INSUMO_IDU[Código],INSUMO_IDU[Nombre],"",0) -> TARIFA MES - PROFESIONAL CATEGORÍA 7 (NO INCLUYE FACTOR DE PRESTACIONES) | E13: 7 | F13: =+_xlfn.XLOOKUP(B13,INSUMO_IDU[Código],INSUMO_IDU[Precio],"",0) -> 5791000 | G13: =F13/$F$6 -> 3.3074324 | H13: 1.451
E14: CODIGO IDU
A15: PERSONAL TECNICO | B15: 9084 | C15: Tecnólogo en áreas de Ingeniería | D15: =+_xlfn.XLOOKUP(B15,INSUMO_IDU[Código],INSUMO_IDU[Nombre],"",0) -> TARIFA MES - PERSONAL TÉCNICO-TECNÓLOGO EN ÁREAS DE INGENIERÍA (NO INCLUYE FACTOR DE PRESTACIONES) | E15: =+B15 -> 9084 | F15: =+_xlfn.XLOOKUP(B15,INSUMO_IDU[Código],INSUMO_IDU[Precio],"",0) -> 3584000 | G15: =F15/$F$6 -> 2.0469414 | H15: 1.451
B16: 9085 | C16: Auxiliar de Ingeniería | D16: =+_xlfn.XLOOKUP(B16,INSUMO_IDU[Código],INSUMO_IDU[Nombre],"",0) -> TARIFA MES - PERSONAL TÉCNICO - AUXILIAR DE INGENIERÍA (NO INCLUYE FACTOR DE PRESTACIONES) | E16: =+B16 -> 9085 | F16: =+_xlfn.XLOOKUP(B16,INSUMO_IDU[Código],INSUMO_IDU[Precio],"",0) -> 3150000 | G16: =F16/$F$6 -> 1.7990696 | H16: 1.567
B17: 9086 | C17: Dibujante 1 | D17: =+_xlfn.XLOOKUP(B17,INSUMO_IDU[Código],INSUMO_IDU[Nombre],"",0) -> TARIFA MES - PERSONAL TÉCNICO - DIBUJANTE 1 (NO INCLUYE FACTOR DE PRESTACIONES) | E17: =+B17 -> 9086 | F17: =+_xlfn.XLOOKUP(B17,INSUMO_IDU[Código],INSUMO_IDU[Precio],"",0) -> 3303000 | G17: =F17/$F$6 -> 1.886453 | H17: 1.567
B18: 9087 | C18: Dibujante 2 | D18: =+_xlfn.XLOOKUP(B18,INSUMO_IDU[Código],INSUMO_IDU[Nombre],"",0) -> TARIFA MES - PERSONAL TÉCNICO - DIBUJANTE 2 (NO INCLUYE FACTOR DE PRESTACIONES) | E18: =+B18 -> 9087 | F18: =+_xlfn.XLOOKUP(B18,INSUMO_IDU[Código],INSUMO_IDU[Precio],"",0) -> 2670000 | G18: =F18/$F$6 -> 1.5249257 | H18: 1.567
B19: 9088 | C19: Topógrafo Inspector | D19: =+_xlfn.XLOOKUP(B19,INSUMO_IDU[Código],INSUMO_IDU[Nombre],"",0) -> TARIFA MES - PERSONAL TÉCNICO - TOPÓGRAFO INSPECTOR (NO INCLUYE FACTOR DE PRESTACIONES) | E19: =+B19 -> 9088 | F19: =+_xlfn.XLOOKUP(B19,INSUMO_IDU[Código],INSUMO_IDU[Precio],"",0) -> 3736000 | G19: =F19/$F$6 -> 2.1337537 | H19: 1.451
B20: 9095 | C20: Topógrafo Auxiliar | D20: =+_xlfn.XLOOKUP(B20,INSUMO_IDU[Código],INSUMO_IDU[Nombre],"",0) -> TARIFA MES - PERSONAL TÉCNICO - TOPÓGRAFO AUXILIAR (NO INCLUYE FACTOR DE PRESTACIONES) | E20: =+B20 -> 9095 | F20: =+_xlfn.XLOOKUP(B20,INSUMO_IDU[Código],INSUMO_IDU[Precio],"",0) -> 3064000 | G20: =F20/$F$6 -> 1.7499522 | H20: 1.567
B21: 9096 | C21: Batimetrista Inspector | D21: =+_xlfn.XLOOKUP(B21,INSUMO_IDU[Código],INSUMO_IDU[Nombre],"",0) -> TARIFA MES - PERSONAL TÉCNICO - BATIMETRISTA INSPECTOR (NO INCLUYE FACTOR DE PRESTACIONES) | E21: =+B21 -> 9096 | F21: =+_xlfn.XLOOKUP(B21,INSUMO_IDU[Código],INSUMO_IDU[Precio],"",0) -> 3736000 | G21: =F21/$F$6 -> 2.1337537 | H21: 1.451
B22: 9097 | C22: Batimetrista Auxiliar | D22: =+_xlfn.XLOOKUP(B22,INSUMO_IDU[Código],INSUMO_IDU[Nombre],"",0) -> TARIFA MES - PERSONAL TÉCNICO - BATIMETRISTA AUXILIAR (NO INCLUYE FACTOR DE PRESTACIONES) | E22: =+B22 -> 9097 | F22: =+_xlfn.XLOOKUP(B22,INSUMO_IDU[Código],INSUMO_IDU[Precio],"",0) -> 3064000 | G22: =F22/$F$6 -> 1.7499522 | H22: 1.567
B23: 9089 | C23: Laboratorista Inspector | D23: =+_xlfn.XLOOKUP(B23,INSUMO_IDU[Código],INSUMO_IDU[Nombre],"",0) -> TARIFA MES - PERSONAL TÉCNICO - LABORATORISTA INSPECTOR (NO INCLUYE FACTOR DE PRESTACIONES) | E23: =+B23 -> 9089 | F23: =+_xlfn.XLOOKUP(B23,INSUMO_IDU[Código],INSUMO_IDU[Precio],"",0) -> 3310000 | G23: =F23/$F$6 -> 1.8904509 | H23: 1.567
B24: 9090 | C24: Laboratorista Auxiliar | D24: =+_xlfn.XLOOKUP(B24,INSUMO_IDU[Código],INSUMO_IDU[Nombre],"",0) -> TARIFA MES - PERSONAL TÉCNICO - LABORATORISTA AUXILIAR (NO INCLUYE FACTOR DE PRESTACIONES) | E24: =+B24 -> 9090 | F24: =+_xlfn.XLOOKUP(B24,INSUMO_IDU[Código],INSUMO_IDU[Precio],"",0) -> 2316000 | G24: =F24/$F$6 -> 1.3227445 | H24: 1.567
B25: 9091 | C25: Operador Equipo de Perforación | D25: =+_xlfn.XLOOKUP(B25,INSUMO_IDU[Código],INSUMO_IDU[Nombre],"",0) -> TARIFA MES - PERSONAL TÉCNICO - OPERADOR EQUIPO PERFORACIÓN (INCLUYE FACTOR DE PRESTACIONES) | E25: =+B25 -> 9091 | F25: =+_xlfn.XLOOKUP(B25,INSUMO_IDU[Código],INSUMO_IDU[Precio],"",0) -> 4690453 | G25: =F25/$F$6 -> 2.6788735 | H25: 1.451
B26: 9092 | C26: Operador Auxiliar de Equipo | D26: =+_xlfn.XLOOKUP(B26,INSUMO_IDU[Código],INSUMO_IDU[Nombre],"",0) -> TARIFA MES - PERSONAL TÉCNICO - OPERADOR AUXILIAR DE EQUIPO (INCLUYE FACTOR DE PRESTACIONES) | E26: =+B26 -> 9092 | F26: =+_xlfn.XLOOKUP(B26,INSUMO_IDU[Código],INSUMO_IDU[Precio],"",0) -> 3264239 | G26: =F26/$F$6 -> 1.8643153 | H26: 1.567
B27: 9093 | C27: Inspector 1 | D27: =+_xlfn.XLOOKUP(B27,INSUMO_IDU[Código],INSUMO_IDU[Nombre],"",0) -> TARIFA MES - PERSONAL TÉCNICO - INSPECTOR 1 (NO INCLUYE FACTOR DE PRESTACIONES) | E27: =+B27 -> 9093 | F27: =+_xlfn.XLOOKUP(B27,INSUMO_IDU[Código],INSUMO_IDU[Precio],"",0) -> 2718000 | G27: =F27/$F$6 -> 1.5523401 | H27: 1.567
... B29: 9094 | C29: Inspector 2 | D29: =+_xlfn.XLOOKUP(B29,INSUMO_IDU[Código],INSUMO_IDU[Nombre],"",0) -> TARIFA MES - PERSONAL TÉCNICO - INSPECTOR 2 (NO INCLUYE FACTOR DE PRESTACIONES) | E29: =+B29 -> 9094 | F29: =+_xlfn.XLOOKUP(B29,INSUMO_IDU[Código],INSUMO_IDU[Precio],"",0) -> 2447000 | G29: =F29/$F$6 -> 1.397563 | H29: 1.567
A31: PERSONAL ADMINISTRATIVO | B31: 9102 | C31: Administrador | D31: =+_xlfn.XLOOKUP(B31,INSUMO_IDU[Código],INSUMO_IDU[Nombre],"",0) -> TARIFA MES - PERSONAL ADMINISTRATIVO - ADMINISTRADOR (NO INCLUYE FACTOR DE PRESTACIONES) | E31: =+B31 -> 9102 | F31: =+_xlfn.XLOOKUP(B31,INSUMO_IDU[Código],INSUMO_IDU[Precio],"",0) -> 3479000 | G31: =F31/$F$6 -> 1.9869725 | H31: 1.567
B32: 9103 | C32: Auxiliar Administrativo | D32: =+_xlfn.XLOOKUP(B32,INSUMO_IDU[Código],INSUMO_IDU[Nombre],"",0) -> TARIFA MES - PERSONAL ADMINISTRATIVO - AUXILIAR ADMINISTRATIVO-ALMACENISTA (NO INCLUYE FACTOR DE PRESTACIONES) | E32: =+B32 -> 9103 | F32: =+_xlfn.XLOOKUP(B32,INSUMO_IDU[Código],INSUMO_IDU[Precio],"",0) -> 2481000 | G32: =F32/$F$6 -> 1.4169815 | H32: 1.567
B33: 9104 | C33: Secretaria 1 | D33: =+_xlfn.XLOOKUP(B33,INSUMO_IDU[Código],INSUMO_IDU[Nombre],"",0) -> TARIFA MES - PERSONAL ADMINISTRATIVO - SECRETARIA 1 (NO INCLUYE FACTOR DE PRESTACIONES) | E33: =+B33 -> 9104 | F33: =+_xlfn.XLOOKUP(B33,INSUMO_IDU[Código],INSUMO_IDU[Precio],"",0) -> 2018000 | G33: =F33/$F$6 -> 1.1525468 | H33: 1.567
B34: 9105 | C34: Secretaria 2 | D34: =+_xlfn.XLOOKUP(B34,INSUMO_IDU[Código],INSUMO_IDU[Nombre],"",0) -> TARIFA MES - PERSONAL ADMINISTRATIVO - SECRETARIA 2 (NO INCLUYE FACTOR DE PRESTACIONES) | E34: =+B34 -> 9105 | F34: =+_xlfn.XLOOKUP(B34,INSUMO_IDU[Código],INSUMO_IDU[Precio],"",0) -> 1750905 | G34: =F34/$F$6 -> 1 | H34: 1.567
A36: PERSONAL AUXILIAR TECNICO | B36: 9098 | C36: Cadenero 1 | D36: =+_xlfn.XLOOKUP(B36,INSUMO_IDU[Código],INSUMO_IDU[Nombre],"",0) -> TARIFA MES - PERSONAL AUXILIAR TÉCNICO - CADENERO 1 (NO INCLUYE FACTOR DE PRESTACIONES) | E36: =+B36 -> 9098 | F36: =+_xlfn.XLOOKUP(B36,INSUMO_IDU[Código],INSUMO_IDU[Precio],"",0) -> 2316000 | G36: =F36/$F$6 -> 1.3227445 | H36: 1.567
B37: 9099 | C37: Cadenero 2 | D37: =+_xlfn.XLOOKUP(B37,INSUMO_IDU[Código],INSUMO_IDU[Nombre],"",0) -> TARIFA MES - PERSONAL AUXILIAR TÉCNICO - CADENERO 2 (NO INCLUYE FACTOR DE PRESTACIONES) | E37: =+B37 -> 9099 | F37: =+_xlfn.XLOOKUP(B37,INSUMO_IDU[Código],INSUMO_IDU[Precio],"",0) -> 2018000 | G37: =F37/$F$6 -> 1.1525468 | H37: 1.567
B38: 9100 | C38: Secretaria o Motorista | D38: =+_xlfn.XLOOKUP(B38,INSUMO_IDU[Código],INSUMO_IDU[Nombre],"",0) -> TARIFA MES - PERSONAL AUXILIAR TÉCNICO - CONDUCTOR O MOTORISTA (NO INCLUYE FACTOR DE PRESTACIONES) | E38: =+B38 -> 9100 | F38: =+_xlfn.XLOOKUP(B38,INSUMO_IDU[Código],INSUMO_IDU[Precio],"",0) -> 1750905 | G38: =F38/$F$6 -> 1 | H38: 1.567
A40: PERSONAL DE OBRA | B40: 9101 | C40: Maestro de Obra | D40: =+_xlfn.XLOOKUP(B40,INSUMO_IDU[Código],INSUMO_IDU[Nombre],"",0) -> TARIFA MES - PERSONAL DE OBRA - MAESTRO DE OBRA (NO INCLUYE FACTOR DE PRESTACIONES) | E40: =+B40 -> 9101 | F40: =+_xlfn.XLOOKUP(B40,INSUMO_IDU[Código],INSUMO_IDU[Precio],"",0) -> 4488000 | G40: =F40/$F$6 -> 2.5632459 | H40: 1.451
B41: 9461 | C41: Oficial | D41: =+_xlfn.XLOOKUP(B41,INSUMO_IDU[Código],INSUMO_IDU[Nombre],"",0) -> TARIFA MES - PERSONAL DE OBRA - OFICIAL (NO INCLUYE FACTOR DE PRESTACIONES) | E41: =+B41 -> 9461 | F41: =+_xlfn.XLOOKUP(B41,INSUMO_IDU[Código],INSUMO_IDU[Precio],"",0) -> 2244000 | G41: =F41/$F$6 -> 1.2816229 | H41: 1.567
B42: 9455 | C42: Ayudante | D42: =+_xlfn.XLOOKUP(B42,INSUMO_IDU[Código],INSUMO_IDU[Nombre],"",0) -> TARIFA MES - PERSONAL DE OBRA - AYUDANTE (NO INCLUYE FACTOR DE PRESTACIONES) | E42: =+B42 -> 9455 | F42: =+_xlfn.XLOOKUP(B42,INSUMO_IDU[Código],INSUMO_IDU[Precio],"",0) -> 1750905 | G42: =F42/$F$6 -> 1 | H42: 1.567
B43: 9463 | C43: Plomero-Electrcista | D43: =+_xlfn.XLOOKUP(B43,INSUMO_IDU[Código],INSUMO_IDU[Nombre],"",0) -> TARIFA MES - PERSONAL DE OBRA - TÉCNICO ELÉCTRICO (NO INCLUYE FACTOR DE PRESTACIONES) | E43: =+B43 -> 9463 | F43: =+_xlfn.XLOOKUP(B43,INSUMO_IDU[Código],INSUMO_IDU[Precio],"",0) -> 2618000 | G43: =F43/$F$6 -> 1.4952268 | H43: 1.567
B44: 9464 | C44: Operario | D44: =+_xlfn.XLOOKUP(B44,INSUMO_IDU[Código],INSUMO_IDU[Nombre],"",0) -> TARIFA MES - PERSONAL DE OBRA - OPERARIO (NO INCLUYE FACTOR DE PRESTACIONES) | E44: =+B44 -> 9464 | F44: =+_xlfn.XLOOKUP(B44,INSUMO_IDU[Código],INSUMO_IDU[Precio],"",0) -> 2992000 | G44: =F44/$F$6 -> 1.7088306 | H44: 1.567
A46: CELADURIA | B46: 9575 | C46: CELADOR ARMADO | D46: =+_xlfn.XLOOKUP(B46,INSUMO_IDU[Código],INSUMO_IDU[Nombre],"",0) -> TARIFA MES - PERSONAL TÉCNICO - CELADOR ARMADO (24 horas por 30 dias dividos en 3 turnos de 8 horas diarias. Incluye prestaciones de ley, Administraciòn y servicios). | E46: =+B46 -> 9575 | F46: =+_xlfn.XLOOKUP(B46,INSUMO_IDU[Código],INSUMO_IDU[Precio],"",0) -> 18832062

Sheet CIV PRIO
A4: No. | B4: PK-ID | C4: CIV | D4: Tipo | E4: TRAMO | F4: DESDE | G4: HASTA | H4: Ancho (m) | I4: Largo (m) | J4: Área (m²) | K4: km-carril
A5: 1 | B5: 91013913 | C5: 11013106 | D5: Calzada | E5: DG 150 | F5: TV 142 | G5: KR 145 | H5: 7.75 | I5: 192.18 | J5: 1489.08 | K5: =+ROUND(PresupuestoOficial[[#This Row],[Área (m²)]]/3500,3) -> 0.425
A6: 2 | B6: 472330 | C6: 11014251 | D6: Calzada | E6: CL 96 | F6: KR 69B | G6: KR 69D | H6: 6.26 | I6: 115.95 | J6: 726 | K6: =+ROUND(PresupuestoOficial[[#This Row],[Área (m²)]]/3500,3) -> 0.207
A7: 3 | B7: 167810 | C7: 11009620 | D7: Calzada | E7: KR 58D | F7: CL 128B | G7: CL 128BBIS | H7: 6.2 | I7: 125.97 | J7: 781.12 | K7: =+ROUND(PresupuestoOficial[[#This Row],[Área (m²)]]/3500,3) -> 0.223
A8: 4 | B8: 166646 | C8: 11011333 | D8: Calzada | E8: CL 104C | F8: KR 47 | G8: Sin Establecer | H8: 5.35 | I8: 88.72 | J8: 474.81 | K8: =+ROUND(PresupuestoOficial[[#This Row],[Área (m²)]]/3500,3) -> 0.136
A9: 5 | B9: 167491 | C9: 11009523 | D9: Calzada | E9: CL 131A | F9: KR 49 | G9: KR 50 | H9: 5.16 | I9: 85.74 | J9: 442.11 | K9: =+ROUND(PresupuestoOficial[[#This Row],[Área (m²)]]/3500,3) -> 0.126
A10: 6 | B10: 167266 | C10: 11010015 | D10: Calzada | E10: CL 128A | F10: KR 53 | G10: KR 53A | H10: 6.33 | I10: 89.62 | J10: 567.01 | K10: =+ROUND(PresupuestoOficial[[#This Row],[Área (m²)]]/3500,3) -> 0.162
A11: 7 | B11: 170896 | C11: 11008605 | D11: Calzada | E11: KR 92 | F11: CL 128C | G11: CL 128CBIS | H11: 4.58 | I11: 24.59 | J11: 112.52 | K11: =+ROUND(PresupuestoOficial[[#This Row],[Área (m²)]]/3500,3) -> 0.032
A12: 8 | B12: 170897 | C12: 11008568 | D12: Calzada | E12: KR 92 | F12: CL 128CBIS | G12: CL 128D | H12: 5.19 | I12: 24.15 | J12: 125.44 | K12: =+ROUND(PresupuestoOficial[[#This Row],[Área (m²)]]/3500,3) -> 0.036
A13: 9 | B13: 170898 | C13: 11008512 | D13: Calzada | E13: KR 92 | F13: CL 128CBIS | G13: CL 128D | H13: 5.77 | I13: 8.64 | J13: 49.89 | K13: =+ROUND(PresupuestoOficial[[#This Row],[Área (m²)]]/3500,3) -> 0.014
A14: 10 | B14: 91064150 | C14: 11012053 | D14: Calzada | E14: KR 92 | F14: CL 128D | G14: CL 128F | H14: 5.78 | I14: 25.68 | J14: 148.31 | K14: =+ROUND(PresupuestoOficial[[#This Row],[Área (m²)]]/3500,3) -> 0.042
A15: 11 | B15: 168919 | C15: 11007985 | D15: Calzada | E15: CL 144 | F15: AK 45 | G15: KR 46 | H15: 7.27 | I15: 66.62 | J15: 484.43 | K15: =+ROUND(PresupuestoOficial[[#This Row],[Área (m²)]]/3500,3) -> 0.138
A16: 12 | B16: 168426 | C16: 11011099 | D16: Calzada | E16: CL 107 | F16: KR 70A | G16: KR 70B | H16: 6.03 | I16: 70.72 | J16: 426.72 | K16: =+ROUND(PresupuestoOficial[[#This Row],[Área (m²)]]/3500,3) -> 0.122
... A37: 33 | B37: 174353 | C37: 11004328 | D37: Calzada | E37: KR 136 | F37: CL 132A | G37: CL 132B | H37: 5.18 | I37: 101.44 | J37: 525.6 | K37: =+ROUND(PresupuestoOficial[[#This Row],[Área (m²)]]/3500,3) -> 0.15
A38: 1 | B38: 52531 | C38: 11007928 | D38: Anden | E38: KR 95 | F38: CL 129B | G38: CL 129C | H38: 2.02 | I38: 78.04 | J38: 157.38
A39: 2 | B39: 52456 | C39: 11008018 | D39: Anden | E39: KR 94B | F39: CL 129B | G39: CL 129C | H39: 1.7 | I39: 64.65 | J39: 110.14
A40: 3 | B40: 92058103 | C40: 11008018 | D40: Anden | E40: KR 94B | F40: CL 129B | G40: CL 129C | H40: 1.55 | I40: 20.01 | J40: 30.97
A41: 4 | B41: 20011114 | C41: 11007271 | D41: Anden | E41: KR 96 | F41: CL 130C | G41: CL 130CBIS | H41: 5.61 | I41: 27.67 | J41: 155.35
A42: 5 | B42: 20013540 | C42: 11007212 | D42: Anden | E42: KR 96 | F42: CL 130CBIS | G42: CL 130CBISA | H42: 5.34 | I42: 12.7 | J42: 67.83
A43: 6 | B43: 55337 | C43: 11006342 | D43: Anden | E43: CL 129 D | F43: KR 122 | G43: KR 122 D | H43: 4.16 | I43: 41.85 | J43: 174.27
A44: 7 | B44: 92087422 | C44: 11006703 | D44: Anden | E44: CL 128B | F44: KR 121C | G44: KR 122 | H44: 3 | I44: 86.68 | J44: 267.25
A45: 8 | B45: 55259 | C45: 11006438 | D45: Anden | E45: CL 129 D | F45: KR 121C | G45: KR 122 | H45: 4.61 | I45: 78.11 | J45: 360.09
A46: 9 | B46: 466904 | C46: 11011896 | D46: Anden | E46: KR 54C | F46: CL 167A | G46: CL 167A | H46: 2.57 | I46: 8 | J46: 19.02
A47: 10 | B47: 48591 | C47: 11002322 | D47: Anden | E47: CL 166BIS | F47: KR 54 C | G47: KR 55A | H47: 2.5 | I47: 172.21 | J47: 417.55
A48: 11 | B48: 48590 | C48: 11002322 | D48: Anden | E48: CL 166BIS | F48: KR 54 C | G48: KR 55A | H48: 2.5 | I48: 171.88 | J48: 430.38
A49: 12 | B49: 48561 | C49: 11002412 | D49: Anden | E49: CL 166 | F49: KR 54 C | G49: KR 55A | H49: 2.5 | I49: 176.66 | J49: 441.41
... A52: 15 | B52: 48655 | C52: 11002186 | D52: Anden | E52: CL 167A | F52: KR 54A | G52: KR 54B | H52: 1.7 | I52: 39.77 | J52: 67.69

Sheet Cantidades
E2: CIV | G2: 11013106 | H2: 11014251 | I2: 11009620 | J2: 11011333 | K2: 11009523 | L2: 11010015 | M2: 11008605 | N2: 11008568 | O2: 11008512 | P2: 11012053 | Q2: 11007985 | R2: 11011099 | S2: 11013411 | T2: 11004832 | U2: 11008637 | V2: 11000997 | W2: 11005322 | X2: 11009558 | Y2: 11009559 | Z2: 11009572 | AA2: 11009576 | AB2: 11007928 | AC2: 11011648 | AD2: 11009567 | AE2: 11005175 | AF2: 11007507 | AG2: 11005122 | AH2: 11003381 | AI2: 11014231 | AJ2: 11001707 | AK2: 11010961 | AL2: 11010967 | AM2: 11004328 | AN2: 11007928 | AO2: 11008018 | AP2: 11008018 | AQ2: 11007271 | AR2: 11007212 | AS2: 11006342 | AT2: 11006703 | AU2: 11006438 | AV2: 11011896 | AW2: 11002322 | AX2: 11002322 | AY2: 11002412 | AZ2: 11002412 | BA2: 11002180 | BB2: 11002186
E3: PK | G3: 91013913 | H3: 472330 | I3: 167810 | J3: 166646 | K3: 167491 | L3: 167266 | M3: 170896 | N3: 170897 | O3: 170898 | P3: 91064150 | Q3: 168919 | R3: 168426 | S3: 91020796 | T3: 176184 | U3: 167636 | V3: 176730 | W3: 173038 | X3: 170222 | Y3: 170229 | Z3: 170227 | AA3: 170226 | AB3: 171567 | AC3: 166632 | AD3: 170228 | AE3: 172926 | AF3: 171152 | AG3: 173058 | AH3: 174478 | AI3: 91010089 | AJ3: 176122 | AK3: 168536 | AL3: 166934 | AM3: 174353 | AN3: 52531 | AO3: 52456 | AP3: 92058103 | AQ3: 20011114 | AR3: 20013540 | AS3: 55337 | AT3: 92087422 | AU3: 55259 | AV3: 466904 | AW3: 48591 | AX3: 48590 | AY3: 48561 | AZ3: 48560 | BA3: 48657 | BB3: 48655
E4: Ancho (m) | G4: 7.75 | H4: 6.26 | I4: 6.2 | J4: 5.35 | K4: 5.16 | L4: 6.33 | M4: 4.58 | N4: 5.19 | O4: 5.77 | P4: 5.78 | Q4: 7.27 | R4: 6.03 | S4: 7.83 | T4: 7.63 | U4: 5.77 | V4: 3.78 | W4: 6.95 | X4: 6.71 | Y4: 5.77 | Z4: 5.19 | AA4: 4.92 | AB4: 6.46 | AC4: 5.39 | AD4: 5.38 | AE4: 5.5 | AF4: 7.37 | AG4: 3.32 | AH4: 8.89 | AI4: 5.37 | AJ4: 6.74 | AK4: 8.36 | AL4: 6.19 | AM4: 5.18 | AN4: 2.02 | AO4: 1.7 | AP4: 1.55 | AQ4: 5.61 | AR4: 5.34 | AS4: 4.16 | AT4: 3 | AU4: 4.61 | AV4: 2.57 | AW4: 2.5 | AX4: 2.5 | AY4: 2.5 | AZ4: 2.5 | BA4: 6.16 | BB4: 1.7
E5: Largo (m) | G5: 192.18 | H5: 115.95 | I5: 125.97 | J5: 88.72 | K5: 85.74 | L5: 89.62 | M5: 24.59 | N5: 24.15 | O5: 8.64 | P5: 25.68 | Q5: 66.62 | R5: 70.72 | S5: 14.92 | T5: 31.16 | U5: 92.52 | V5: 38.25 | W5: 71.32 | X5: 126.09 | Y5: 13.15 | Z5: 36.24 | AA5: 20.94 | AB5: 81.08 | AC5: 60.72 | AD5: 38.11 | AE5: 26.26 | AF5: 101.91 | AG5: 59.23 | AH5: 103.92 | AI5: 55.38 | AJ5: 102.93 | AK5: 72.49 | AL5: 151.83 | AM5: 101.44 | AN5: 78.04 | AO5: 64.65 | AP5: 20.01 | AQ5: 27.67 | AR5: 12.7 | AS5: 41.85 | AT5: 86.68 | AU5: 78.11 | AV5: 8 | AW5: 172.21 | AX5: 171.88 | AY5: 176.66 | AZ5: 177.87 | BA5: 35.14 | BB5: 39.77
E6: Area (m²) | G6: 1489.08 | H6: 726 | I6: 781.12 | J6: 474.81 | K6: 442.11 | L6: 567.01 | M6: 112.52 | N6: 125.44 | O6: 49.89 | P6: 148.31 | Q6: 484.43 | R6: 426.72 | S6: 116.78 | T6: 237.65 | U6: 533.41 | V6: 144.71 | W6: 495.42 | X6: 845.83 | Y6: 75.92 | Z6: 187.93 | AA6: 102.95 | AB6: 523.46 | AC6: 327.35 | AD6: 205.14 | AE6: 144.43 | AF6: 751.07 | AG6: 196.67 | AH6: 924.18 | AI6: 297.23 | AJ6: 693.96 | AK6: 606.14 | AL6: 939.11 | AM6: 525.6 | AN6: 157.38 | AO6: 110.14 | AP6: 30.97 | AQ6: 155.35 | AR6: 67.83 | AS6: 174.27 | AT6: 267.25 | AU6: 360.09 | AV6: 19.02 | AW6: 417.55 | AX6: 430.38 | AY6: 441.41 | AZ6: 445.04 | BA6: 216.48 | BB6: 67.69
E7: Tipo elemento | G7: Calzada | H7: Calzada | I7: Calzada | J7: Calzada | K7: Calzada | L7: Calzada | M7: Calzada | N7: Calzada | O7: Calzada | P7: Calzada | Q7: Calzada | R7: Calzada | S7: Calzada | T7: Calzada | U7: Calzada | V7: Calzada | W7: Calzada | X7: Calzada | Y7: Calzada | Z7: Calzada | AA7: Calzada | AB7: Calzada | AC7: Calzada | AD7: Calzada | AE7: Calzada | AF7: Calzada | AG7: Calzada | AH7: Calzada | AI7: Calzada | AJ7: Calzada | AK7: Calzada | AL7: Calzada | AM7: Calzada | AN7: Anden | AO7: Anden | AP7: Anden | AQ7: Anden | AR7: Anden | AS7: Anden | AT7: Anden | AU7: Anden | AV7: Anden | AW7: Anden | AX7: Anden | AY7: Anden | AZ7: Anden | BA7: Anden | BB7: Anden
