Workbook

Sheet PRORROGA  30-11-11 (3)
C3: 2579 - MUNICIPIO DE TOCANCIPA
C4: DESDE LAS 00:00 HORAS DEL 20 DE FEBRERO DE 2012 HASTA LAS 00:00 HORAS DEL 20 DE FEBRERO DE 2013
C5: RESUMEN GENERAL PRORROGA
C6: VIGENCIA: 365 DÍAS
B7: AMPAROS | C7: VR. ASEGURADO ANTERIOR | D7: VR. ASEGURADO INCLUISIÓN | E7: VR. ASEGURADO TOTAL | F7: TASA | G7: PRIMA | H7: IVA 16% | I7: TOTAL
B8: MANEJO | C8: 100000000 | D8: 0 | E8: =+C8+D8 -> 100000000 | F8: 4.49 | G8: =(E8*F8/100)/365*B81 -> 4490000 | H8: =+G8*0.16 -> 718400 | I8: =+G8+H8 -> 5208400
B9: INCENDIO
B10: EDIFICIO | C10: 44820157787 | D10: 1.0621763e+09 | E10: =+C10+D10 -> 4.5882334e+10 | F10: 0.47 | G10: =(E10*F10/1000)/365*B81 -> 21564697 | H10: =+G10*0.16 -> 3450351.5 | I10: =+G10+H10 -> 25015049
B11: INDICE VARIABLE (5%) | C11: =(+C10*5/100)/365*173 -> 1.0621763e+09 | E11: =(+E10*5/100)/365*90 -> 5.6567261e+08 | G11: =(E11*F11/1000)/365*B81 -> 0 | H11: =+G11*0.16 -> 0
B12: EDIFICIO + IND VARIABLE | C12: =+C10+C11 -> 4.5882334e+10 | G12: =(E12*F12/1000)/365*B81 -> 0 | H12: =+G12*0.16 -> 0
B13: AMIT Y HMACC | C13: =+C10 -> 44820157787 | D13: 1.0621763e+09 | E13: =+E10 -> 4.5882334e+10 | F13: 0.48 | G13: =(E13*F13/1000)/365*B81 -> 22023520 | H13: =+G13*0.16 -> 3523763.3 | I13: =+G13+H13 -> 25547284
B14: TERREMOTO | C14: =+C10 -> 44820157787 | D14: 1.0621763e+09 | E14: =+E13 -> 4.5882334e+10 | F14: 1.41 | G14: =(E14*F14/1000)/365*B81 -> 64694091 | H14: =+G14*0.16 -> 10351055 | I14: =+G14+H14 -> 75045146
B15: ADAPTACIÓN A NORMA | C15: 500000000 | E15: =+C15+D15 -> 500000000 | F15: 1 | G15: =(E15*F15/1000)/365*B81 -> 500000 | H15: =+G15*0.16 -> 80000 | I15: =+G15+H15 -> 580000
B16: CONTENIDOS | C16: 3575030333 | D16: 84723322 | E16: =+C16+D16 -> 3.6597537e+09 | F16: 0.47 | G16: =(E16*F16/1000)/365*B81 -> 1720084.2 | H16: =+G16*0.16 -> 275213.47 | I16: =+G16+H16 -> 1995297.7
B17: INDICE VARIABLE (5%) | C17: =(+C16*5/100)/365*173 -> 84723322 | E17: =(+E16*5/100)/365*90 -> 45120251 | G17: =(E17*F17/1000)/365*B87 -> 0 | H17: =+G17*0.16 -> 0
B18: AMIT Y HMACC | C18: =+C16 -> 3575030333 | E18: =+C18+D18 -> 3575030333 | F18: 0.48 | G18: =(E18*F18/1000)/365*B81 -> 1716014.6 | H18: =+G18*0.16 -> 274562.33 | I18: =+G18+H18 -> 1990576.9
B19: TERREMOTO | C19: =+C18 -> 3575030333 | E19: =+C19+D19 -> 3575030333 | F19: 1.41 | G19: =(E19*F19/1000)/365*B81 -> 5040792.8 | H19: =+G19*0.16 -> 806526.84 | I19: =+G19+H19 -> 5847319.6
B20: MAQUINARIA | C20: 641096929 | D20: 15193119 | E20: =+C20+D20 -> 6.5629005e+08 | F20: 0.47 | G20: =(E20*F20/1000)/365*B81 -> 308456.32 | H20: =+G20*0.16 -> 49353.012 | I20: =+G20+H20 -> 357809.33
B21: INDICE VARIABLE (5%) | C21: =(+C20*5/100)/365*173 -> 15193119 | E21: =(+E20*5/100)/365*90 -> 8091247.2 | G21: =(E21*F21/1000)/365*B90 -> 0 | H21: =+G21*0.16 -> 0
B22: AMIT Y HMACC | C22: 641096929 | E22: =+C22+D22 -> 641096929 | F22: 0.48 | G22: =(E22*F22/1000)/365*B81 -> 307726.53 | H22: =+G22*0.16 -> 49236.244 | I22: =+G22+H22 -> 356962.77
B23: TERREMOTO | C23: 641096929 | E23: =+C23+D23 -> 641096929 | F23: 1.41 | G23: =(E23*F23/1000)/365*B81 -> 903946.67 | H23: =+G23*0.16 -> 144631.47 | I23: =+G23+H23 -> 1048578.1
B24: DINEROS | C24: 20000000 | E24: =+C24+D24 -> 20000000 | F24: 0.47 | G24: =(E24*F24/1000)/365*B81 -> 9400 | H24: =+G24*0.16 -> 1504 | I24: =+G24+H24 -> 10904
B25: AMIT Y HMACC | C25: 20000000 | E25: =+C25+D25 -> 20000000 | F25: 0.48 | G25: =(E25*F25/1000)/365*B81 -> 9600 | H25: =+G25*0.16 -> 1536 | I25: =+G25+H25 -> 11136
B26: TERREMOTO | C26: 20000000 | E26: =+C26+D26 -> 20000000 | F26: 1.41 | G26: =(E26*F26/1000)/365*B81 -> 28200 | H26: =+G26*0.16 -> 4512 | I26: =+G26+H26 -> 32712
B27: SOFWARE | C27: 300000000 | E27: =+C27+D27 -> 300000000 | F27: 0.47 | G27: =(E27*F27/1000)/365*B81 -> 141000 | H27: =+G27*0.16 -> 22560 | I27: =+G27+H27 -> 163560
B28: AMIT Y HMACC | C28: 300000000 | E28: =+C28+D28 -> 300000000 | F28: 0.48 | G28: =(E28*F28/1000)/365*B81 -> 144000 | H28: =+G28*0.16 -> 23040 | I28: =+G28+H28 -> 167040
B29: TERREMOTO | C29: 300000000 | E29: =+C29+D29 -> 300000000 | F29: 1.41 | G29: =(E29*F29/1000)/365*B81 -> 423000 | H29: =+G29*0.16 -> 67680 | I29: =+G29+H29 -> 490680
B30: MERCANCIAS | C30: 100000000 | D30: 300000000 | E30: =+C30+D30 -> 400000000 | F30: 0.47 | G30: =(E30*F30/1000)/365*B81 -> 188000 | H30: =+G30*0.16 -> 30080 | I30: =+G30+H30 -> 218080
B31: AMIT Y HMACC | C31: 100000000 | D31: 300000000 | E31: =+C31+D31 -> 400000000 | F31: 0.48 | G31: =(E31*F31/1000)/365*B81 -> 192000 | H31: =+G31*0.16 -> 30720 | I31: =+G31+H31 -> 222720
B32: TERREMOTO | C32: 100000000 | D32: 300000000 | E32: =+C32+D32 -> 400000000 | F32: 1.41 | G32: =(E32*F32/1000)/365*B81 -> 564000 | H32: =+G32*0.16 -> 90240 | I32: =+G32+H32 -> 654240
B34: SUSTRACCIÓN
B35: CONTENIDOS | C35: 3575030333 | E35: =+C35+D35 -> 3575030333 | F35: 0.08 | G35: =(E35*F35/100)/365*B81 -> 2860024.3 | H35: =+G35*0.16 -> 457603.88 | I35: =+G35+H35 -> 3317628.1
B36: MAQUINARIA | C36: 641096929 | E36: =+C36+D36 -> 641096929 | F36: 0.08 | G36: =(E36*F36/100)/365*B81 -> 512877.54 | H36: =+G36*0.16 -> 82060.407 | I36: =+G36+H36 -> 594937.95
B37: DINEROS | C37: 20000000 | E37: =+C37+D37 -> 20000000 | F37: 0.08 | G37: =(E37*F37/100)/365*B81 -> 16000 | H37: =+G37*0.16 -> 2560 | I37: =+G37+H37 -> 18560
B38: MERCANCIAS | C38: 100000000 | D38: 300000000 | E38: =+C38+D38 -> 400000000 | F38: 0.08 | G38: =(E38*F38/100)/365*B81 -> 320000 | H38: =+G38*0.16 -> 51200 | I38: =+G38+H38 -> 371200
B39: OTROS (S.T.R) | C39: 870219194 | E39: =+C39+D39 -> 870219194 | F39: 1 | G39: =(E39*F39/100)/365*B81 -> 8702191.9 | H39: =+G39*0.16 -> 1392350.7 | I39: =+G39+H39 -> 10094543
B41: ROTURA DE MAQUINARIA
B42: OTRAS PLANTAS | C42: 641096929 | D42: 7903934.7 | E42: =+C42+D42 -> 6.4900086e+08 | F42: 1.6 | G42: =(E42*F42/1000)/365*B81 -> 1038401.4 | H42: =+G42*0.16 -> 166144.22 | I42: =+G42+H42 -> 1204545.6
B43: INDICE VARIABLE 5% | C43: =(+C42*5/100)/365*B81 -> 32054846 | E43: =(+E42*5/100)/365*90 -> 8001380.5 | F43: 0.0797817
B45: CORRIENTE DÉBIL
B46: EQUIPOS ELECTRONICOS | C46: 2706591089 | D46: =(10115000*50)+64142501.15 -> 5.698925e+08 | E46: =+C46+D46 -> 3.2764836e+09 | F46: 1 | G46: =(E46*F46/1000)/365*B81 -> 3276483.6 | H46: =+G46*0.16 -> 524237.37 | I46: =+G46+H46 -> 3800721
B47: INDICE VARIABLE 5% | C47: =(+C49*5/100)/365*173 -> 64142501 | D47: =(+D49*5/100)/365*173 -> 13505672 | E47: =(+E49*5/100)/365*90 -> 40395003 | G47: =(E47*F47/1000)/365*B81 -> 0 | H47: =+G47*0.16 -> 0
B48: AMIT Y HMACC | C48: =+C46 -> 2706591089 | D48: =+D49 -> 5.698925e+08 | E48: =+C48+D48 -> 3.2764836e+09 | F48: 0.9 | G48: =(E48*F48/1000)/365*B81 -> 2948835.2 | H48: =+G48*0.16 -> 471813.64 | I48: =+G48+H48 -> 3420648.9
B49: TERREMOTO | C49: =+C48 -> 2706591089 | D49: =+D46 -> 5.698925e+08 | E49: =+C49+D49 -> 3.2764836e+09 | F49: 1 | G49: =(E49*F49/1000)/365*B81 -> 3276483.6 | H49: =+G49*0.16 -> 524237.37 | I49: =+G49+H49 -> 3800721
B50: HURTO | C50: =+C49 -> 2706591089 | D50: =+D49 -> 5.698925e+08 | E50: =+C50+D50 -> 3.2764836e+09 | F50: 2.1 | G50: =(E50*F50/1000)/365*B81 -> 6880615.5 | H50: =+G50*0.16 -> 1100898.5 | I50: =+G50+H50 -> 7981514
B51: EQUIPOS MOVILES Y PORTATILES | C51: 181416692 | D51: =1398850*1000 -> 1398850000 | E51: =+C51+D51 -> 1580266692 | F51: 10 | G51: =(E51*F51/1000)/365*B81 -> 15802667 | H51: =+G51*0.16 -> 2528426.7 | I51: =+G51+H51 -> 18331094
B53: TODO RIESGO CONTRATISTA
B54: EQUIPO Y MAQUINARIA | C54: 836930971 | E54: =+C54+D54 -> 836930971 | F54: 1.6 | G54: =(E54*F54/1000)/365*B81 -> 1339089.6 | H54: =+G54*0.16 -> 214254.33 | I54: =+G54+H54 -> 1553343.9
B55: TERREMOTO | C55: 836930971 | E55: =+C55+D55 -> 836930971 | F55: 4.8 | G55: =(E55*F55/1000)/365*B81 -> 4017268.7 | H55: =+G55*0.16 -> 642762.99 | I55: =+G55+H55 -> 4660031.6
B56: AMIT Y HMACC | C56: 836930971 | E56: =+C56+D56 -> 836930971 | F56: 1.58 | G56: =(E56*F56/1000)/365*B81 -> 1322350.9 | H56: =+G56*0.16 -> 211576.15 | I56: =+G56+H56 -> 1533927.1
B58: RCE
B59: BÁSICO | C59: 200000000 | E59: =+C59+D59 -> 200000000 | F59: 0.898 | G59: =(E59*F59/100)/365*B81 -> 1796000 | H59: =+G59*0.16 -> 287360 | I59: =+G59+H59 -> 2083360
B62: AUTOMOVILES 1007195
B63: VEHICULOS Y MOTOS SEGÚN RELACION $200 / $200 / $ 400.000.000 | C63: 1061388000 | E63: 1040575281 | F63: 3 | G63: =(E63*F63/100)/365*B81 -> 31217258 | H63: =+G63*0.16 -> 4994761.3 | I63: =+G63+H63 -> 36212020
B65: RESPONSABILIDAD CIVIL SERVIDORES PÚBLICOS 1005454
B66: RESPONSABILIDAD CIVIL SERVIDORES PÚBLICOS | C66: 1061388000 | E66: 100000000 | G66: 2637295.3 | H66: =+G66*0.16 -> 421967.25 | I66: =+G66+H66 -> 3059262.6
B68: ACCIDENTES PERSONALES 1001306
B69: ACCIDENTES PERSONALES | C69: 1061388000 | E69: 2056704000 | G69: 1105491.3 | I69: =+G69 -> 1105491.3
B71: VIDA 1001411
B72: VIDA | C72: 1061388000 | E72: 204768920 | G72: 1457534.2 | I72: =+G72 -> 1457534.2
B74: TOTAL | G74: =SUM(G8:G72) -> 2.154954e+08 | H74: =SUM(H8:H72) -> 34069180 | I74: =SUM(I8:I72) -> 2.4956458e+08
B78: PRORROGA
B79: DESDE | E79: 40959
B80: HASTA | E80: 41325
B81: 365 | E81: DÍAS

Sheet autos
E3: 1 | F3: 20000000 | G3: 0.03 | H3: =(+F3*G3)/365*173 -> 284383.56
E4: 2 | F4: 35195964 | G4: 0.03 | H4: =(+F4*G4)/365*173 -> 500457.68
E5: 3 | F5: 2470000 | G5: 0.03 | H5: =(+F5*G5)/365*173 -> 35121.37
E6: 4 | F6: 1500000 | G6: 0.03 | H6: =(+F6*G6)/365*173 -> 21328.767
E7: 5 | F7: 1600000 | G7: 0.03 | H7: =(+F7*G7)/365*173 -> 22750.685
E8: 6 | F8: 2342600 | G8: 0.03 | H8: =(+F8*G8)/365*173 -> 33309.847
E9: 7 | F9: 3400000 | G9: 0.03 | H9: =(+F9*G9)/365*173 -> 48345.205
E10: 8 | F10: 2342600 | G10: 0.03 | H10: =(+F10*G10)/365*173 -> 33309.847
E11: 9 | F11: 3400000 | G11: 0.03 | H11: =(+F11*G11)/365*173 -> 48345.205
E12: 10 | F12: 2515001 | G12: 0.03 | H12: =(+F12*G12)/365*173 -> 35761.247
E13: 11 | F13: 4300000 | G13: 0.03 | H13: =(+F13*G13)/365*173 -> 61142.466
E14: 12 | F14: 4300000 | G14: 0.03 | H14: =(+F14*G14)/365*173 -> 61142.466
... E27: 25 | F27: 6000000 | G27: 0.03 | H27: =(+F27*G27)/365*173 -> 85315.068
E28: 26 | F28: 16636372 | G28: 0.03 | H28: =(+F28*G28)/365*165 -> 225616.55
E29: 27 | F29: 16636372 | G29: 0.03 | H29: =(+F29*G29)/365*165 -> 225616.55
E30: 28 | F30: 16636372 | G30: 0.03 | H30: =(+F30*G30)/365*165 -> 225616.55
F31: =SUM(F3:F30) -> 1040575281 | G31: 0.03 | H31: =SUM(H3:H30) -> 14763308 | I31: =(+F31*G31)/365*90 -> 7697406.2

Sheet Hoja3
D9: AP
D11: 566700 | E11: 60 | F11: =+D11*E11 -> 34002000 | G11: =+F11*2 -> 68004000 | H11: =+G11*64 -> 4352256000
F12: =+G12/60 -> 535600 | G12: =+H12/64 -> 32136000 | H12: 2056704000
C19: =+D19+E19+F19+G19+H19 -> 1555373.6 | D19: 1122725.9 | E19: 28940.568 | F19: 301808.79 | G19: 37424.196 | H19: 64474.196

Sheet COMPAÑIA UNO
B3: COMPAÑÍA UNO | C3: MUNICIPIO CARMEN DE CARUPA
C4: NIT. 899.999.367-7
C5: DESDE LAS 00:00 HORAS DEL 19-11-2026 HASTA LAS 00:00 HORAS DEL 19-11-2027
C6: RESUMEN GENERAL
C7: VIGENCIA: 365 DÍAS
B8: AMPAROS | C8: VR. ASEGURADO TOTAL | D8: TASA | E8: PRIMA | F8: IVA 19% | G8: TOTAL
B9: TODO RIESGO DAÑO MATERIAL
B10: Edificio | C10: 1.6738493e+10 | D10: 2 | E10: =(C10*D10/1000)/365*$B$38 -> 33476986 | F10: =+E10*0.19 -> 6360627.4 | G10: =+E10+F10 -> 39837614
B11: Maquinaria y equipo | C11: 6.4312701e+08 | D11: =D10 -> 2 | E11: =(C11*D11/1000)/365*$B$38 -> 1286254 | F11: =+E11*0.19 -> 244388.26 | G11: =+E11+F11 -> 1530642.3
B12: Muebles y Enseres | C12: 368235745 | D12: =D10 -> 2 | E12: =(C12*D12/1000)/365*$B$38 -> 736471.49 | F12: =+E12*0.19 -> 139929.58 | G12: =+E12+F12 -> 876401.07
B13: Bienes en Reposo | C13: 2.0523317e+08 | D13: =D10 -> 2 | E13: =(C13*D13/1000)/365*$B$38 -> 410466.35 | F13: =+E13*0.19 -> 77988.606 | G13: =+E13+F13 -> 488454.95
B14: Contenidos especiales: Instr. Musicales, Equipos de Comunicación | C14: 118680761 | D14: =D10 -> 2 | E14: =(C14*D14/1000)/365*$B$38 -> 237361.52 | F14: =+E14*0.19 -> 45098.689 | G14: =+E14+F14 -> 282460.21
B15: Equipo Electrónico Fijo | C15: 2.8906159e+08 | D15: =D10 -> 2 | E15: =(C15*D15/1000)/365*$B$38 -> 578123.18 | F15: =+E15*0.19 -> 109843.4 | G15: =+E15+F15 -> 687966.58
B16: Equipo Móvil y Portatil | C16: 72444160 | D16: =D10 -> 2 | E16: =(C16*D16/1000)/365*$B$38 -> 144888.32 | F16: =+E16*0.19 -> 27528.781 | G16: =+E16+F16 -> 172417.1
B17: Dineros y/o Titulos Valores | C17: 10000000 | D17: =D10 -> 2 | E17: =(C17*D17/1000)/365*$B$38 -> 20000 | F17: =+E17*0.19 -> 3800 | G17: =+E17+F17 -> 23800
B18: Mercancias y/o Inventarios | C18: 50000000 | D18: =D10 -> 2 | E18: =(C18*D18/1000)/365*$B$38 -> 100000 | F18: =+E18*0.19 -> 19000 | G18: =+E18+F18 -> 119000
B19: Adecuacion de Construcciones a Normas Sismoresistentes | C19: 1000000000 | D19: 2 | E19: =(C19*D19/1000)/365*$B$38 -> 2000000 | F19: =+E19*0.19 -> 380000 | G19: =+E19+F19 -> 2380000
B20: Cobertura Para Terrenos | C20: 1000000000 | D20: =D10 -> 2 | E20: =(C20*D20/1000)/365*$B$38 -> 2000000 | F20: =+E20*0.19 -> 380000 | G20: =+E20+F20 -> 2380000
B21: TOTALES | C21: =SUM(C10:C20) -> 2.0495276e+10 | E21: =SUM(E10:E20) -> 40990551 | F21: =SUM(F10:F20) -> 7788204.7 | G21: =SUM(G10:G20) -> 48778756
B22: SEGURO TODO RIESGO EQUIPO Y MAQUINARIA | C22: 1343004265 | D22: 7 | E22: =(C22*D22/1000)/365*$B$38 -> 9401029.9 | F22: =+E22*0.19 -> 1786195.7 | G22: =+E22+F22 -> 11187226
B23: SEGURO DE MANEJO GLOBAL ESTATAL | C23: 100000000 | D23: 5 | E23: =(C23*D23/100)/365*$B$38 -> 5000000 | F23: =+E23*0.19 -> 950000 | G23: =+E23+F23 -> 5950000
B24: SEGURO DE RESPONSABILIDAD CIVIL EXTRACONTRACTUAL | C24: 100000000 | D24: 2.86 | E24: =((C24*D24/100)/365)*$B$38 -> 2860000 | F24: =+E24*0.19 -> 543400 | G24: =+E24+F24 -> 3403400
B25: SEGURO DE RESPONSABILIDAD CIVIL SERVIDORES PUBLICOS | C25: 100000000 | D25: 4 | E25: =((C25*D25/100)/365)*$B$38 -> 4000000 | F25: =+E25*0.19 -> 760000 | G25: =+E25+F25 -> 4760000
B26: SEGURO COLECTIVO DE AUTOMOVILES | C26: 1582900000 | D26: 4 | E26: =(C26*D26/100)/365*$B$38 -> 63316000 | F26: =+E26*0.19 -> 12030040 | G26: =+E26+F26 -> 75346040
B27: POLIZA DE RC CONTRACTUAL (PASAJEROS DE TRANSPORTE PUBLICO) | C27: 100 SMMLV | E27: 1100000 | F27: =+E27*0.19 -> 209000 | G27: =+E27+F27 -> 1309000
B28: SEGURO VIDA GRUPO | C28: 1501441040 | D28: 0.84 | E28: =(C28*D28/100)/365*$B$38 -> 12612105 | F28: 0 | G28: =+E28+F28+75709 -> 12687814
B29: SEGURO OBLIGATORIO ACCIDENTES DE TRANSITO (SOAT) | C29: 13578390 | E29: =C29 -> 13578390 | F29: 0 | G29: =+E29+F29 -> 13578390
B30: BOLSA PARA FUTURAS INCLUSIONES | C30: 5000000 | E30: =C30 -> 5000000 | F30: 0 | G30: =C30 -> 5000000
B31: TOTALES | C31: =SUM(C22:C30) -> 4745923695 | E31: =SUM(E22:E30) -> 1.1686752e+08 | F31: =SUM(F22:F30) -> 16278636 | G31: =SUM(G22:G30) -> 1.3322187e+08
B32: GRAN TOTAL | C32: =C21+C31 -> 2.5241199e+10 | E32: =E21+E31 -> 1.5785808e+08 | F32: =F21+F31 -> 24066840 | G32: =G21+G31 -> 1.8200063e+08
B36: DESDE | C36: 46345
B37: HASTA | C37: 46710
B38: =C37-C36 -> 365 | C38: DÍAS

Sheet COMPAÑIA DOS
B3: COMPAÑÍA UNO | C3: MUNICIPIO CARMEN DE CARUPA
C4: NIT. 899.999.367-7
C5: DESDE LAS 00:00 HORAS DEL 19-11-2026 HASTA LAS 00:00 HORAS DEL 19-11-2027
C6: RESUMEN GENERAL
C7: VIGENCIA: 365 DÍAS
B8: AMPAROS | C8: VR. ASEGURADO TOTAL | D8: TASA | E8: PRIMA | F8: IVA 19% | G8: TOTAL
B9: TODO RIESGO DAÑO MATERIAL
B10: Edificio | C10: 1.6738493e+10 | D10: 1.8 | E10: =(C10*D10/1000)/365*$B$38 -> 30129288 | F10: =+E10*0.19 -> 5724564.6 | G10: =+E10+F10 -> 35853852
B11: Maquinaria y equipo | C11: 6.4312701e+08 | D11: =D10 -> 1.8 | E11: =(C11*D11/1000)/365*$B$38 -> 1157628.6 | F11: =+E11*0.19 -> 219949.44 | G11: =+E11+F11 -> 1377578.1
B12: Muebles y Enseres | C12: 368235745 | D12: =D10 -> 1.8 | E12: =(C12*D12/1000)/365*$B$38 -> 662824.34 | F12: =+E12*0.19 -> 125936.62 | G12: =+E12+F12 -> 788760.97
B13: Bienes en Reposo | C13: 2.0523317e+08 | D13: =D10 -> 1.8 | E13: =(C13*D13/1000)/365*$B$38 -> 369419.71 | F13: =+E13*0.19 -> 70189.745 | G13: =+E13+F13 -> 439609.46
B14: Contenidos especiales: Instr. Musicales, Equipos de Comunicación | C14: 118680761 | D14: =D10 -> 1.8 | E14: =(C14*D14/1000)/365*$B$38 -> 213625.37 | F14: =+E14*0.19 -> 40588.82 | G14: =+E14+F14 -> 254214.19
B15: Equipo Electrónico Fijo | C15: 2.8906159e+08 | D15: =D10 -> 1.8 | E15: =(C15*D15/1000)/365*$B$38 -> 520310.86 | F15: =+E15*0.19 -> 98859.064 | G15: =+E15+F15 -> 619169.93
B16: Equipo Móvil y Portatil | C16: 72444160 | D16: =D10 -> 1.8 | E16: =(C16*D16/1000)/365*$B$38 -> 130399.49 | F16: =+E16*0.19 -> 24775.903 | G16: =+E16+F16 -> 155175.39
B17: Dineros y/o Titulos Valores | C17: 10000000 | D17: =D10 -> 1.8 | E17: =(C17*D17/1000)/365*$B$38 -> 18000 | F17: =+E17*0.19 -> 3420 | G17: =+E17+F17 -> 21420
B18: Mercancias y/o Inventarios | C18: 50000000 | D18: =D10 -> 1.8 | E18: =(C18*D18/1000)/365*$B$38 -> 90000 | F18: =+E18*0.19 -> 17100 | G18: =+E18+F18 -> 107100
B19: Adecuacion de Construcciones a Normas Sismoresistentes | C19: 1000000000 | D19: 1.8 | E19: =(C19*D19/1000)/365*$B$38 -> 1800000 | F19: =+E19*0.19 -> 342000 | G19: =+E19+F19 -> 2142000
B20: Cobertura Para Terrenos | C20: 1000000000 | D20: =D10 -> 1.8 | E20: =(C20*D20/1000)/365*$B$38 -> 1800000 | F20: =+E20*0.19 -> 342000 | G20: =+E20+F20 -> 2142000
B21: TOTALES | C21: =SUM(C10:C20) -> 2.0495276e+10 | E21: =SUM(E10:E20) -> 36891496 | F21: =SUM(F10:F20) -> 7009384.2 | G21: =SUM(G10:G20) -> 43900880
B22: SEGURO TODO RIESGO EQUIPO Y MAQUINARIA | C22: 1343004265 | D22: 8 | E22: =(C22*D22/1000)/365*$B$38 -> 10744034 | F22: =+E22*0.19 -> 2041366.5 | G22: =+E22+F22 -> 12785401
B23: SEGURO DE MANEJO GLOBAL ESTATAL | C23: 100000000 | D23: 6 | E23: =(C23*D23/100)/365*$B$38 -> 6000000 | F23: =+E23*0.19 -> 1140000 | G23: =+E23+F23 -> 7140000
B24: SEGURO DE RESPONSABILIDAD CIVIL EXTRACONTRACTUAL | C24: 100000000 | D24: 3.016 | E24: =((C24*D24/100)/365)*$B$38 -> 3016000 | F24: =+E24*0.19 -> 573040 | G24: =+E24+F24 -> 3589040
B25: SEGURO DE RESPONSABILIDAD CIVIL SERVIDORES PUBLICOS | C25: 100000000 | D25: 5.6 | E25: =((C25*D25/100)/365)*$B$38 -> 5600000 | F25: =+E25*0.19 -> 1064000 | G25: =+E25+F25 -> 6664000
B26: SEGURO COLECTIVO DE AUTOMOVILES | C26: 1582900000 | D26: 4 | E26: =(C26*D26/100)/365*$B$38 -> 63316000 | F26: =+E26*0.19 -> 12030040 | G26: =+E26+F26 -> 75346040
B27: POLIZA DE RC CONTRACTUAL (PASAJEROS DE TRANSPORTE PUBLICO) | C27: 100SMMLV | E27: 1100000 | F27: =+E27*0.19 -> 209000 | G27: =+E27+F27 -> 1309000
B28: SEGURO VIDA GRUPO | C28: 1501441040 | D28: 0.84 | E28: =(C28*D28/100)/365*$B$38 -> 12612105 | F28: 0 | G28: =+E28+F28+75709 -> 12687814
B29: SEGURO OBLIGATORIO ACCIDENTES DE TRANSITO (SOAT) | C29: 13578390 | E29: =C29 -> 13578390 | F29: 0 | G29: =+E29+F29 -> 13578390
B30: BOLSA PARA FUTURAS INCLUSIONES | C30: 5000000 | E30: =C30 -> 5000000 | F30: 0 | G30: =C30 -> 5000000
B31: TOTALES | C31: =SUM(C22:C30) -> 4745923695 | E31: =SUM(E22:E30) -> 1.2096653e+08 | F31: =SUM(F22:F30) -> 17057446 | G31: =SUM(G22:G30) -> 1.3809968e+08
B32: GRAN TOTAL | C32: =C21+C31 -> 2.5241199e+10 | E32: =E21+E31 -> 1.5785802e+08 | F32: =F21+F31 -> 24066831 | G32: =G21+G31 -> 1.8200056e+08
B36: DESDE | C36: 46345
B37: HASTA | C37: 46710
B38: =C37-C36 -> 365 | C38: DÍAS

Sheet COMPAÑIA TRES
B1: Versión Agosto 2019
C3: MUNICIPIO CARMEN DE CARUPA NIT. 899999367-7
C4: SELECCIÓN ABREVIADA MENOR CUANTIA.
C5: Desde las 24:00 horas local del | D5: 46345
C6: Hasta las 24:00 horas local del | D6: 46710
C7: Dias de Cobertura Mínimos Exigidos en el Pliego | D7: =+D6-D5 -> 365
C8: Dias de Cobertura Adicionales ofertados | D8: 0
C9: Días de Cobertura Totales Ofertados | D9: =+D6-D5 -> 365
C11: Item Asegurable | D11: Valor Asegurado | E11: Valor Asegurado Indice Variable | F11: % Indice Variable | G11: Tasa Anual | I11: Prima Neta | J11: Prima Neta Indice Variable | K11: IVA | L11: Prima Total
C13: GRUPO UNICO
C14: SEGURO TODO RIESGO DAÑO MATERIAL -
C15: Edificio | D15: =[1]RESUMEN!D7 -> 1.6738493e+10 | E15: =((D15*F15)/365)*$D$9 -> 1.0043096e+09 | F15: 0.06 | G15: 2 | H15: ‰ (por mil) | I15: =(((D15*(G15)/1000)/365)*$D$9) -> 33476986 | J15: =(((E15*(G15/2))/1000)/365)*$D$9 -> 1004309.6 | K15: =(I15+J15)*(19/100) -> 6551446.2 | L15: =(I15+J15)+K15 -> 41032742
C16: Maquinaria y equipo | D16: =[1]RESUMEN!D13 -> 6.4312701e+08 | E16: =((D16*F16)/365)*$D$9 -> 38587621 | F16: 0.06 | G16: =$G$15 -> 2 | H16: ‰ (por mil) | I16: =(((D16*(G16)/1000)/365)*$D$9) -> 1286254 | J16: =(((E16*(G16/2))/1000)/365)*$D$9 -> 38587.621 | K16: =(I16+J16)*(19/100) -> 251719.91 | L16: =(I16+J16)+K16 -> 1576561.6
C17: Muebles y Enseres | D17: =[1]RESUMEN!D8 -> 368235745 | E17: =((D17*F17)/365)*$D$9 -> 22094145 | F17: 0.06 | G17: =$G$15 -> 2 | H17: ‰ (por mil) | I17: =(((D17*(G17)/1000)/365)*$D$9) -> 736471.49 | J17: =(((E17*(G17/2))/1000)/365)*$D$9 -> 22094.145 | K17: =(I17+J17)*(19/100) -> 144127.47 | L17: =(I17+J17)+K17 -> 902693.11
C18: Bienes en Reposo | D18: =[1]RESUMEN!D9 -> 2.0523317e+08 | G18: =$G$15 -> 2 | H18: ‰ (por mil) | I18: =(((D18*(G18)/1000)/365)*$D$9) -> 410466.35 | K18: =(I18+J18)*(19/100) -> 77988.606 | L18: =(I18+J18)+K18 -> 488454.95
C19: Contenidos especiales: Instr. Musicales, Equipos de Comunicación | D19: =[1]RESUMEN!D10 -> 118680761 | G19: =$G$15 -> 2 | H19: ‰ (por mil) | I19: =(((D19*(G19)/1000)/365)*$D$9) -> 237361.52 | K19: =(I19+J19)*(19/100) -> 45098.689 | L19: =(I19+J19)+K19 -> 282460.21
C20: Equipo Electrónico Fijo | D20: =[1]RESUMEN!D14 -> 2.8906159e+08 | E20: =((D20*F20)/365)*$D$9 -> 17343695 | F20: =$F$15 -> 0.06 | G20: =$G$15 -> 2 | H20: ‰ (por mil) | I20: =(((D20*(G20)/1000)/365)*$D$9) -> 578123.18 | J20: =(((E20*(G20/2))/1000)/365)*$D$9 -> 17343.695 | K20: =(I20+J20)*(19/100) -> 113138.71 | L20: =(I20+J20)+K20 -> 708605.58
C21: Equipo Móvil y Portatil | D21: =[1]RESUMEN!D15 -> 72444160 | E21: =((D21*F21)/365)*$D$9 -> 4346649.6 | F21: 0.06 | G21: =$G$15 -> 2 | H21: ‰ (por mil) | I21: =(((D21*(G21)/1000)/365)*$D$9) -> 144888.32 | J21: =(((E21*(G21/2))/1000)/365)*$D$9 -> 4346.6496 | K21: =(I21+J21)*(19/100) -> 28354.644 | L21: =(I21+J21)+K21 -> 177589.61
C22: Dineros y/o Titulos Valores | D22: 10000000 | G22: =$G$15 -> 2 | H22: ‰ (por mil) | I22: =(((D22*(G22)/1000)/365)*$D$9) -> 20000 | K22: =(I22+J22)*(19/100) -> 3800 | L22: =(I22+J22)+K22 -> 23800
C23: Mercancias y/o Inventarios | D23: 50000000 | G23: =$G$15 -> 2 | H23: ‰ (por mil) | I23: =(((D23*(G23)/1000)/365)*$D$9) -> 100000 | K23: =(I23+J23)*(19/100) -> 19000 | L23: =(I23+J23)+K23 -> 119000
C24: Adecuacion de Construcciones a Normas Sismoresistentes | D24: 1000000000 | G24: =G15 -> 2 | H24: =H15 -> ‰ (por mil) | I24: =(((D24*(G24)/1000)/365)*$D$9) -> 2000000 | K24: =(I24+J24)*(19/100) -> 380000 | L24: =(I24+J24)+K24 -> 2380000
C25: Cobertura Para Terrenos | D25: 1000000000 | G25: =G15 -> 2 | H25: =H15 -> ‰ (por mil) | I25: =(((D25*(G25)/1000)/365)*$D$9) -> 2000000 | K25: =(I25+J25)*(19/100) -> 380000 | L25: =(I25+J25)+K25 -> 2380000
C26: TOTAL | D26: =SUM(D15:D25) -> 2.0495276e+10 | E26: =SUM(E15:E25) -> 1.0866817e+09 | I26: =SUM(I15:I25) -> 40990551 | J26: =SUM(J15:J25) -> 1086681.7 | K26: =SUM(K15:K25) -> 7994674.2 | L26: =SUM(L15:L25) -> 50071907
C28: SEGURO TODO RIESGO EQUIPO Y MAQUINARIA (CONTRATISTAS)
C29: Equipo y Maquinaria según relación detallada y valorizada | D29: =[1]RESUMEN!D22 -> 1143004265 | E29: =((D29*F29)/365)*$D$9 -> 80010299 | F29: 0.07 | G29: 8.3 | H29: ‰ (por mil) | I29: =(((D29*(G29)/1000)/365)*$D$9) -> 9486935.4 | J29: =(((E29*(G29/2))/1000)/365)*$D$9 -> 332042.74 | K29: =(I29+J29)*(19/100) -> 1865605.8 | L29: =(I29+J29)+K29 -> 11684584
C30: Limite de RC Extracontractual Por Evento | D30: 200000000 | G30: 3.6 | H30: ‰ (por mil) | I30: =(((D30*(G30)/1000)/365)*$D$9) -> 720000 | K30: =(I30+J30)*(19/100) -> 136800 | L30: =(I30+J30)+K30 -> 856800
C31: TOTAL | D31: =SUM(D29:D30) -> 1343004265 | E31: =SUM(E29:E30) -> 80010299 | I31: =SUM(I29:I30) -> 10206935 | J31: =SUM(J29:J30) -> 332042.74 | K31: =SUM(K29:K30) -> 2002405.8 | L31: =SUM(L29:L30) -> 12541384
C33: SEGURO DE MANEJO GLOBAL ESTATAL
C34: Limite Básico Asegurado por Evento y Vigencia | D34: =[1]RESUMEN!D18 -> 100000000 | G34: 4 | H34: % (por ciento) | I34: =(((D34*(G34)/100)/365)*$D$9) -> 4000000 | K34: =(I34+J34)*(19/100) -> 760000 | L34: =(I34+J34)+K34 -> 4760000
C35: TOTAL | K35: TOTAL | L35: =+L34 -> 4760000
C37: SEGURO DE RESPONSABILIDAD CIVIL EXTRACONTRACTUAL
C38: Limite Básico Asegurado por Evento y Vigencia | D38: =[1]RESUMEN!D17 -> 100000000 | G38: 1 | H38: % (por ciento) | I38: =(((D38*(G38)/100)/365)*$D$9) -> 1000000 | K38: =(I38+J38)*(19/100) -> 190000 | L38: =(I38+J38)+K38 -> 1190000
C39: TOTAL | L39: =+L38 -> 1190000
C41: SEGURO DE RESPONSABILIDAD CIVIL SERVIDORES PUBLICOS
C42: Limite Básico Asegurado por Evento y Vigencia | D42: =[1]RESUMEN!D23 -> 100000000 | G42: 5 | H42: % (por ciento) | I42: =(((D42*(G42)/100)/365)*$D$9) -> 5000000 | K42: =(I42+J42)*(19/100) -> 950000 | L42: =(I42+J42)+K42 -> 5950000
C43: TOTAL | L43: =+L42 -> 5950000
C45: SEGURO COLECTIVO DE AUTOMOVILES
C46: Automotores según relación detallada y valorizada | D46: =[1]RESUMEN!D20 -> 1530900000 | G46: 4 | H46: % (por ciento) | I46: =(((D46*G46)/100)/365)*$D$9 -> 61236000 | K46: =(I46+J46)*(19/100) -> 11634840 | L46: =(I46+J46)+K46 -> 72870840
C47: Motociletas según relación detallada y valorizada | D47: =[1]RESUMEN!D21 -> 52000000 | G47: 7 | H47: % (por ciento) | I47: =(((D47*G47)/100)/365)*$D$9 -> 3640000 | K47: =(I47+J47)*(19/100) -> 691600 | L47: =(I47+J47)+K47 -> 4331600
D48: =SUM(D46:D47) -> 1582900000 | K48: TOTAL | L48: =SUM(L46:L47) -> 77202440
C50: POLIZA DE RC CONTRACTUAL (ACCIDENTES A PASAJEROS DE TRANSPORTE PUBLICO)
C51: Automotores según relación detallada y valorizada | D51: 100 SMMLV | I51: 1000000 | K51: =(I51+J51)*(19/100) -> 190000 | L51: =(I51+J51)+K51 -> 1190000
C52: TOTAL | L52: =+L51 -> 1190000
C54: SEGURO VIDA GRUPO
C55: Funcionarios según relación detallada y valorizada | D55: =+[2]RESUMEN!D26 -> 1501441040 | G55: 7 | H55: ‰ (por mil) | I55: =(((D55*G55)/1000)/365)*$D$9 -> 10510087 | L55: =I55 -> 10510087
C56: TOTAL | L56: =+L55 -> 10510087
C58: SEGURO OBLIGATORIO DE ACCIDENTES DE TRANSITO (SOAT) -
C59: Automotores según relación detallada y valorizada | L59: =[1]RESUMEN!D25 -> 13578390
C60: TOTAL | L60: =+L59 -> 13578390
C62: RUBRO PRESUPUESTAL PARA POLIZAS DE CUMPLIMIENTO, DEMAS POLIZAS, Y/O INCLUSIONES Y/O AUMENTOS DE VALOR ASEGURADO BOLSA | O62: GRUPO I | P62: =+L26+L31+L35+L39+L43+L48+L52 -> 1.5290573e+08
C63: Cuantía destinada | L63: 5000000 | O63: GRUPO II | P63: =+L56 -> 10510087
C64: TOTAL | L64: =+L63 -> 5000000 | O64: GRUPO III | P64: =+L60 -> 13578390
O65: BOLSA | P65: =+L64 -> 5000000
C66: OFERTA TOTAL DE PRIMAS IVA INCLUIDO | L66: =L26+L31+L35+L39+L43+L48+L52+L56+L60+L64 -> 1.8199421e+08 | O66: TOTAL | P66: =SUM(P62:P65) -> 1.8199421e+08
C67: PRESUPUESTO DEL PROCESO LICITATORIO | L67: 182000000 | O67: SMMLV | P67: =+P66/1300000 -> 139.99554
C68: DIFERENCIA | L68: =L66-L67 -> -5791.7023

Sheet COMPARATIVO
C3: MUNICIPIO DE CARMEN DE CARUPA
C4: DESDE LAS 00:00 HORAS DEL 19-11-2026 HASTA LAS 00:00 HORAS DEL 19-11-2027
C5: RESUMEN GENERAL
C6: VIGENCIA: 365 DÍAS
B7: AMPAROS | C7: VR. ASEGURADO TOTAL | D7: COMPAÑÍA 1 VALOR PRIMA | E7: COMPAÑÍA 2 VALOR PRIMA | F7: COMPAÑÍA 3 VALOR PRIMA | G7: PROMEDIO
B8: TODO RIESGO DAÑO MATERIAL
B9: Edificio | C9: 1.6738493e+10 | D9: ='COMPAÑIA UNO'!G10 -> 39837614 | E9: ='COMPAÑIA DOS'!G10 -> 35853852 | F9: ='COMPAÑIA TRES'!L15 -> 41032742 | G9: =(D9+E9+F9)/3 -> 38908069
B10: Maquinaria y equipo | C10: 6.4312701e+08 | D10: ='COMPAÑIA UNO'!G11 -> 1530642.3 | E10: ='COMPAÑIA DOS'!G11 -> 1377578.1 | F10: ='COMPAÑIA TRES'!L16 -> 1576561.6 | G10: =(D10+E10+F10)/3 -> 1494927.3
B11: Muebles y Enseres | C11: 368235745 | D11: ='COMPAÑIA UNO'!G12 -> 876401.07 | E11: ='COMPAÑIA DOS'!G12 -> 788760.97 | F11: ='COMPAÑIA TRES'!L17 -> 902693.11 | G11: =(D11+E11+F11)/3 -> 855951.71
B12: Bienes en Reposo | C12: 2.0523317e+08 | D12: ='COMPAÑIA UNO'!G13 -> 488454.95 | E12: ='COMPAÑIA DOS'!G13 -> 439609.46 | F12: ='COMPAÑIA TRES'!L18 -> 488454.95 | G12: =(D12+E12+F12)/3 -> 472173.12
B13: Contenidos especiales: Instr. Musicales, Equipos de Comunicación | C13: 118680761 | D13: ='COMPAÑIA UNO'!G14 -> 282460.21 | E13: ='COMPAÑIA DOS'!G14 -> 254214.19 | F13: ='COMPAÑIA TRES'!L19 -> 282460.21 | G13: =(D13+E13+F13)/3 -> 273044.87
B14: Equipo Electrónico Fijo | C14: 2.8906159e+08 | D14: ='COMPAÑIA UNO'!G15 -> 687966.58 | E14: ='COMPAÑIA DOS'!G15 -> 619169.93 | F14: ='COMPAÑIA TRES'!L20 -> 708605.58 | G14: =(D14+E14+F14)/3 -> 671914.03
B15: Equipo Móvil y Portatil | C15: 72444160 | D15: ='COMPAÑIA UNO'!G16 -> 172417.1 | E15: ='COMPAÑIA DOS'!G16 -> 155175.39 | F15: ='COMPAÑIA TRES'!L21 -> 177589.61 | G15: =(D15+E15+F15)/3 -> 168394.04
B16: Dineros y/o Titulos Valores | C16: 10000000 | D16: ='COMPAÑIA UNO'!G17 -> 23800 | E16: ='COMPAÑIA DOS'!G17 -> 21420 | F16: ='COMPAÑIA TRES'!L22 -> 23800 | G16: =(D16+E16+F16)/3 -> 23006.667
B17: Mercancias y/o Inventarios | C17: 50000000 | D17: ='COMPAÑIA UNO'!G18 -> 119000 | E17: ='COMPAÑIA DOS'!G18 -> 107100 | F17: ='COMPAÑIA TRES'!L23 -> 119000 | G17: =(D17+E17+F17)/3 -> 115033.33
B18: Adecuacion de Construcciones a Normas Sismoresistentes | C18: 1000000000 | D18: ='COMPAÑIA UNO'!G19 -> 2380000 | E18: ='COMPAÑIA DOS'!G19 -> 2142000 | F18: ='COMPAÑIA TRES'!L24 -> 2380000 | G18: =(D18+E18+F18)/3 -> 2300666.7
B19: Cobertura Para Terrenos | C19: 1000000000 | D19: ='COMPAÑIA UNO'!G20 -> 2380000 | E19: ='COMPAÑIA DOS'!G20 -> 2142000 | F19: ='COMPAÑIA TRES'!L25 -> 2380000 | G19: =(D19+E19+F19)/3 -> 2300666.7
B20: TOTALES | C20: =SUM(C9:C19) -> 2.0495276e+10 | D20: =SUM(D9:D19) -> 48778756 | E20: =SUM(E9:E19) -> 43900880 | F20: =SUM(F9:F19) -> 50071907 | G20: =SUM(G9:G19) -> 47583848
B21: SEGURO TODO RIESGO EQUIPO Y MAQUINARIA | C21: 1343004265 | D21: ='COMPAÑIA UNO'!G22 -> 11187226 | E21: ='COMPAÑIA DOS'!G22 -> 12785401 | F21: ='COMPAÑIA TRES'!L31 -> 12541384 | G21: =(D21+E21+F21)/3 -> 12171337
B22: SEGURO DE MANEJO GLOBAL ESTATAL | C22: 100000000 | D22: ='COMPAÑIA UNO'!G23 -> 5950000 | E22: ='COMPAÑIA DOS'!G23 -> 7140000 | F22: ='COMPAÑIA TRES'!L35 -> 4760000 | G22: =(D22+E22+F22)/3 -> 5950000
B23: SEGURO DE RESPONSABILIDAD CIVIL EXTRACONTRACTUAL | C23: 100000000 | D23: ='COMPAÑIA UNO'!G24 -> 3403400 | E23: ='COMPAÑIA DOS'!G24 -> 3589040 | F23: ='COMPAÑIA TRES'!L39 -> 1190000 | G23: =(D23+E23+F23)/3 -> 2727480
B24: SEGURO DE RESPONSABILIDAD CIVIL SERVIDORES PUBLICOS | C24: 100000000 | D24: ='COMPAÑIA UNO'!G25 -> 4760000 | E24: ='COMPAÑIA DOS'!G25 -> 6664000 | F24: ='COMPAÑIA TRES'!L43 -> 5950000 | G24: =(D24+E24+F24)/3 -> 5791333.3
B25: SEGURO COLECTIVO DE AUTOMOVILES | C25: 1582900000 | D25: ='COMPAÑIA UNO'!G26 -> 75346040 | E25: ='COMPAÑIA DOS'!G26 -> 75346040 | F25: ='COMPAÑIA TRES'!L48 -> 77202440 | G25: =(D25+E25+F25)/3 -> 75964840
B26: POLIZA DE RC CONTRACTUAL (PASAJEROS DE TRANSPORTE PUBLICO) | C26: 100 SMMLV | D26: ='COMPAÑIA UNO'!G27 -> 1309000 | E26: ='COMPAÑIA DOS'!G27 -> 1309000 | F26: ='COMPAÑIA TRES'!L52 -> 1190000 | G26: =(D26+E26+F26)/3 -> 1269333.3
B27: SEGURO VIDA GRUPO | C27: 1501441040 | D27: ='COMPAÑIA UNO'!G28 -> 12687814 | E27: ='COMPAÑIA DOS'!G28 -> 12687814 | F27: ='COMPAÑIA TRES'!L56 -> 10510087 | G27: =(D27+E27+F27)/3 -> 11961905
B28: SEGURO OBLIGATORIO ACCIDENTES DE TRANSITO (SOAT) | C28: 13578390 | D28: ='COMPAÑIA UNO'!G29 -> 13578390 | E28: ='COMPAÑIA DOS'!G29 -> 13578390 | F28: ='COMPAÑIA TRES'!L60 -> 13578390 | G28: =(D28+E28+F28)/3 -> 13578390
B29: BOLSA PARA FUTURAS INCLUSIONES | C29: 5000000 | D29: ='COMPAÑIA UNO'!G30 -> 5000000 | E29: ='COMPAÑIA DOS'!G30 -> 5000000 | F29: ='COMPAÑIA TRES'!L64 -> 5000000 | G29: =(D29+E29+F29)/3 -> 5000000
B30: TOTALES | C30: =SUM(C21:C29) -> 4745923695 | D30: =SUM(D21:D29) -> 1.3322187e+08 | E30: =SUM(E21:E29) -> 1.3809968e+08 | F30: =SUM(F21:F29) -> 1.319223e+08 | G30: =(D30+E30+F30)/3 -> 1.3441462e+08
B31: GRAN TOTAL | C31: =C20+C30 -> 2.5241199e+10 | D31: =D20+D30 -> 1.8200063e+08 | E31: =E20+E30 -> 1.8200056e+08 | F31: =F20+F30 -> 1.8199421e+08 | G31: =(D31+E31+F31)/3+1534 -> 1.82e+08 | H31: SMMLV | I31: =G31/1750905 -> 103.94624
