Workbook

Sheet PPTO
C2: CONSTRUCCIÓN CENTRO DÍA GERONTOLÓGICO CORREGIMIENTO SAN JOSÉ DEL NUS DEL MUNICIPIO DE SAN ROQUE ANTIOQUIA | G2: FECHA
C3: MUNICIPIO DE SAN ROQUE - ANTIOQUIA, CORREGIMIENTO DE SAN JOSÉ DEL NÚS. | G3: JUNIO DE 2026
C4: CONSTRUCCIÓN DE CENTRO DIA - MUNICIPIO DE SAN ROQUE
B6: ITEM | C6: DESCRIPCION NUEVOS APUS | D6: UNIDAD | E6: MEMORIAS DE CALCULO | F6: VALOR UNITARIO APUS NUEVOS | G6: TOTAL
B8: 1 | C8: REPLANTEO Y PRELIMINARES
B9: 1.1 | C9: Localizacion, trazado y Replanteo, se incluye suministro de cuadrilla topografíca para rectificación de cartera, verificación de alineamientos, desarrollo de planos. | D9: DIA | E9: ='1.1'!J36 -> 3 | F9: ='APU''S'!G12 -> 583075 | G9: =E9*F9 -> 1749225
B10: 1.2 | C10: Excavación mecanica de capa organica Incluye: (Excavacion mecanica, cargue y votada de material sobrante a la escombrera) | D10: M3 | E10: ='1.2'!J36 -> 67.07 | F10: ='APU''S'!G29 -> 114541 | G10: =E10*F10 -> 7682264.9
B11: 1.3 | C11: Instalación de CERRAMIENTO PROVISIONAL en tela verde con una altura de 2,1 m. Incluye suministro, transporte, instalación y desmonte de la tela y estructura en larguero común, excavación manual en cualquier material y todos los demás elementos necesarios para su correcta instalación. | D11: ML | E11: ='1.3'!J38 -> 168.07 | F11: ='APU''S'!G46 -> 37142 | G11: =E11*F11 -> 6242455.9
B12: 2 | C12: EXCAVACIONES Y LLENOS
B13: 2.1 | C13: EXCAVACIÓN de material heterogéneo DE 0-2 m., bajo cualquier grado de humedad. Incluye: roca descompuesta, bolas de roca de volumen inferior a 0.035 m³. Incluye botada | D13: M3 | E13: ='2.1'!J36 -> 124.67 | F13: ='APU''S'!G65 -> 73235 | G13: =E13*F13 -> 9130207.4
B14: 2.2 | C14: LLENOS CON MATERIAL DE PRESTAMO, compactados mecánicamente hasta obtener una densidad del 98% de la máxima obtenida en el ensayo del Próctor modificado. Incluye el suministro, transporte, colocación de la arenilla, la compactación de la misma y transporte interno. Y su medida será en sitio ya compactado. | D14: M3 | E14: ='2.2'!J36 -> 122.05 | F14: ='APU''S'!G82 -> 134804 | G14: =E14*F14 -> 16452828
B15: 3 | C15: ESTRUCTURA Y CONCRETOS
B16: 3.1 | C16: CIMENTACIONES
B17: 3,1,1 | C17: Suministro, transporte y colocación de concreto de 14 Mpa para SOLADO, con un espesor DE 0.05 m. Incluye el suministro y el transporte del concreto y todos los demás elementos necesarios para su correcta construcción, incluye acarreo interno. | D17: M2 | E17: ='3.1.1'!J36 -> 82.98 | F17: ='APU''S'!G98 -> 57121 | G17: =E17*F17 -> 4739900.6
B18: 3,1,2 | C18: Construcción de LOSA MACIZA en concreto de 21 MPa., con un ESPESOR DE 10 cm. Incluye suministro, transporte y la colocación del concreto, vibrado, protección y curado para estructuras, de acuerdo a las diferentes dimensiones establecidas en los planos y todos los demás elementos necesarios para su correcto vaciado, se incluye acero de refuerzo con doble malla electrosoldada D084 y plastico para evitar el contacto directo de la losa con el terreno | D18: M2 | E18: ='3.1.2'!J36 -> 405.36 | F18: ='APU''S'!G118 -> 242084 | G18: =E18*F18 -> 98131170
B19: 3,1,3 | C19: Suministro, transporte y colocación de concreto para vigas de fundación 0,3 x 0,3 IIncluye: concreto 21MPa, vibrado y todo para su correcta construcción. El acero se pagará en su respectivo ITEM. | D19: ML | E19: ='3.1.3'!J36 -> 183.25 | F19: ='APU''S'!G136 -> 108824 | G19: =E19*F19 -> 19941998
B20: 3,1,4 | C20: Suministro, transporte y colocación de concreto para cimentación superficilaes tipo zapatas, incluye pedestales de 0,40 x 0,40 x 1,30: y bases de 1,0 x 1,0 x 0,3 Incluye concreto 21MPa. El acero se pagará en su respectivo ITEM. | D20: M3 | E20: ='3.1.4'!J36 -> 14.22 | F20: ='APU''S'!G154 -> 596612 | G20: =E20*F20 -> 8483822.6
B21: 3.2 | C21: ESTRUCTURA
B22: 3,2,1 | C22: Suministro, transporte y colocación de concreto para columnas de 0.30 x 0.30, h= 2.70m, Incluye: formaleta, concreto 21MPa, vibrado y todo para su correcta instalación. El acero se pagará en su respectivo ITEM. | D22: ML | E22: ='3.2.1'!J8 -> 75.6 | F22: ='APU''S'!G173 -> 204169 | G22: =E22*F22 -> 15435176
B23: 3,2,2 | C23: Suministro, transporte y colocación de concreto para vigas de amarre, de 0.25 x 0.30, Incluye: ( formaleta y concreto 21MPa), el acero se pagará en su respectivo ITEM. | D23: ML | E23: ='3.2.2'!J36 -> 183.25 | F23: ='APU''S'!G196 -> 227690 | G23: =E23*F23 -> 41724192
B24: 3,2,3 | C24: Dovelas en concreto GRAUTING para amarre de mampostería 10x15x30 incluye acero de refuerzo con varilla de 1/2 | D24: ML | E24: ='3.2.3'!J47 -> 361.8 | F24: ='APU''S'!G214 -> 32266 | G24: =E24*F24 -> 11673839
B25: 3.3 | C25: CUBIERTA
B26: 3,3,1 | C26: Suministro, transporte e instalación de estructura metalica para cubierta, suministro y transporte de perfiles tipo PHR 254X67X2mm, platinas, uniones, soldaduras de acabado o presentación, anclajes y pernos a estructura de concreto. Incluye transporte a sitio e izaje. Todos los elementos deben llevar dos manos de pintura anticorrosiva, color por definir. tambien incluye obra falsa y todo el equipo y la herramienta necesaria para el montaje. | D26: KG | E26: ='3.3.1'!J47 -> 6000.92 | F26: ='APU''S'!G235 -> 26995 | G26: =E26*F26 -> 1.6199484e+08
B27: 3,3,2 | C27: Suministro, transporte e instalación de cubierta tipo Teja Termoacustica Ecoroof UPVC 2.5mm Blanco 1.07 x 5.90 Mts. Incluye remates internos y externos de cubierta, tornillos autoroscantes y todo lo necesario para su correcta instalación. Según diseño. | D27: M2 | E27: ='3.3.2'!J47 -> 444.48 | F27: ='APU''S'!G252 -> 111640 | G27: =E27*F27 -> 49621747
B28: 3.4 | C28: ACERO DE REFUERZO
B29: 3,4,1 | C29: Suministro, figurado y armado de Acero de refuerzo 6000PSI, (se incluyen zapatas, vigas de fundación y vigas de amarre y columnas). | D29: KG | E29: ='3.4.1'!J47 -> 8091.81 | F29: ='APU''S'!G269 -> 12038 | G29: =E29*F29 -> 97409209
B30: 4 | C30: MAMPOSTERIA
B31: 4.1 | C31: Construcción de mampostería en ladrillo a la vista, de 10x15x30cm. Espesor de 15 cm. Incluye el suministro y transporte del ladrillo, el mortero de pega 1:4 espesor max=0.01 m y todos los demás elementos necesarios para su correcta construcción y funcionamiento. | D31: M2 | E31: ='4.1'!J53 -> 485.46 | F31: ='APU''S'!G285 -> 187443 | G31: =E31*F31 -> 90996079
B32: 4.2 | C32: Impermeabilización Sobrecimientos en bloque por medio de IGOL denso plus o similar. Incluye mortero 1:4 espesor 2cm para revoque, pendientes, emulsión asfáltica, mediacaña, regata y todo lo necesario para su correcta construcción.. PRIMER NIVEL 80 cm | D32: M2 | E32: ='4.2'!J53 -> 287.68 | F32: ='APU''S'!G301 -> 59120 | G32: =E32*F32 -> 17007642
B33: 4.3 | C33: Colocación de revoque con mortero 1:4 impermeabilizado con sika 1 o equivalente en muros. Incluye suministro y transporte de materiales, fajas, ranuras, filetes y todos los demas elementos para su correcta construcció. | D33: M2 | E33: ='4.3'!J53 -> 706.54 | F33: ='APU''S'!G334 -> 31990 | G33: =E33*F33 -> 22602215
B34: 4.4 | C34: Suministro, transporte y aplicación de hidrófugo impermeabilizante del tipo siliconite (Sika transparente o equivalente) o equivalente para mampostería de fachadas, con todos los elementos necesarios para su correcta instalación y funcionamiento, incluye a su vez lavado con aplicación de ácido nítrico e hidrosolve proporción 1:1:5 para lavada de muros interiores | D34: M2 | E34: ='4.4'!J53 -> 264.38 | F34: ='APU''S'!G316 -> 24661 | G34: =E34*F34 -> 6519875.2
B35: 4.5 | C35: Suministro, transporte y colocación de estuco en muros. Incluye fajas, ranuras, filetes, y todos los demás elementos necesarios para su correcta construcción. | D35: M2 | E35: =+'4.5'!J53 -> 706.54 | F35: =+'APU''S'!G351 -> 29511 | G35: =E35*F35 -> 20850702
B36: 4.6 | C36: Suministro y aplicación de pintura tipo 1, tres manos, incluye la preparación de la superficie y todos los insumos necesarios para el desarrollo de la actividad. | D36: M2 | E36: ='4.6'!J53 -> 706.54 | F36: ='APU''S'!G369 -> 31431 | G36: =E36*F36 -> 22207259
B37: 5 | C37: OBRA BLANCA
B38: 5.1 | C38: Enchape de piso antideslizante incluye: mortero, pegante, cerámica antideslizante y lechada de limpieza. | D38: M2 | E38: ='5.1'!J47 -> 340.86 | F38: ='APU''S'!G388 -> 129661 | G38: =F38*E38 -> 44196248
B39: 5.2 | C39: Enchape cocina pared sobre mesón incluye: pegante, cerámica y lechada de limpieza | D39: M2 | E39: ='5.2'!J47 -> 216.44 | F39: ='APU''S'!G407 -> 97951 | G39: =F39*E39 -> 21200514
B40: 5.3 | C40: Cielo en drywall local con fajas y dilatadores incluye: (estructura, placa, macilla y pintura) | D40: M2 | E40: ='5.3'!J47 -> 265.38 | F40: ='APU''S'!G427 -> 103072.31 | G40: =F40*E40 -> 27353331
B41: 5.4 | C41: Suministro transporte e instalación de guarda escoba o zocalo en piso en baldosa del mismo color de la baldosa , incluye pega lechada y demás elementos necesarios para su correcta instalación. | D41: ML | E41: ='5.4'!J47 -> 152.72 | F41: =+'APU''S'!G446 -> 36912.315 | G41: =F41*E41 -> 5637248.7
B42: 6 | C42: INSTALACIONES ELECTRICAS
B43: 6.1 | C43: Suministro, transporte e instalación de salida para toma doble p/t. Incluye en tubería IMC, accesorios, alambre de cobre THHN-AWG- LS#12, según cuadro de cargas y notas en planos, elementos para el correcto funcionamiento y aparato línea Génesis. | D43: UN | E43: ='6.1'!J46 -> 23 | F43: ='APU''S'!G468 -> 96826.664 | G43: =E43*F43 -> 2227013.3
...

Sheet AU
B3: =+PPTO!C2 -> CONSTRUCCIÓN CENTRO DÍA GERONTOLÓGICO CORREGIMIENTO SAN JOSÉ DEL NUS DEL MUNICIPIO DE SAN ROQUE ANTIOQUIA
B4: =PPTO!C3 -> MUNICIPIO DE SAN ROQUE - ANTIOQUIA, CORREGIMIENTO DE SAN JOSÉ DEL NÚS.
A8: AIU SAN ROQUE | G8: COSTOS DIRECTOS: | I8: =+PPTO!G98 -> 1.2033251e+09
G9: AIU ESTIMADO : | I9: =+H47+H49 -> 0.31123857
G10: COSTO TOTAL | I10: =+PPTO!G98 -> 1.2033251e+09
G11: PLAZO EN MESES: | I11: 6
A12: Item | B12: Nombre | D12: Unidad | E12: Cant | F12: Dedicación | G12: Valor (Incluye FM) | H12: Porcentaje sobre el contrato | I12: Subtotal
A13: 1 | B13: Personal de Admón. del Contrato
A14: 1.1 | B14: Director de Obra | D14: Mes | E14: 6 | F14: 0.15 | G14: =+'FACTOR PRESTACIONAL'!J4 -> 8678266.7 | H14: =+I14/$I$8 -> 0.0064907147 | I14: =ROUNDUP((E14*F14*G14),0) -> 7810440
A15: 1.2 | B15: Ingeniero residente obra civil | D15: Mes | E15: 6 | F15: 1 | G15: =+'FACTOR PRESTACIONAL'!J5 -> 5995893.3 | H15: =+I15/$I$8 -> 0.029896625 | I15: =ROUNDUP((E15*F15*G15),0) -> 35975360
A16: 1.3 | B16: Auxiliar ambiental | D16: Mes | E16: 6 | F16: 0.1 | G16: =+'FACTOR PRESTACIONAL'!J6 -> 4816372.7 | H16: =+I16/$I$8 -> 0.0024015322 | I16: =ROUNDUP((E16*F16*G16),0) -> 2889824
A17: 1.4 | B17: Tecnologo SST. | D17: Mes | E17: 6 | F17: 1 | G17: =+'FACTOR PRESTACIONAL'!J7 -> 4816372.7 | H17: =+I17/$I$8 -> 0.024015319 | I17: =ROUNDUP((E17*F17*G17),0) -> 28898236
A19: 2 | B19: Instalaciones provisionales
A20: 2.1 | B20: Zona de acopio de material (incluye construcción y cerradura) | D20: gl | E20: 1 | F20: 1 | G20: 2000000 | H20: =+I20/$I$8 -> 0.0016620612 | I20: =ROUNDUP((E20*F20*G20),0) -> 2000000
A21: 2.2 | B21: Costos oficina (construcción campamento, con pago de servicios púlbicos, aseo, seguridad, dotación) | D21: gl | E21: 1 | F21: 1 | G21: 6000000 | H21: =+I21/$I$8 -> 0.0049861836 | I21: =ROUNDUP((E21*F21*G21),0) -> 6000000
A22: 2.3 | B22: Desmonte de provisionales y adecuación final | D22: gl | E22: 1 | F22: 1 | G22: 1000000 | H22: =+I22/$I$8 -> 0.00083103061 | I22: =ROUNDUP((E22*F22*G22),0) -> 1000000
A24: 3 | B24: Gastos administrativos
A25: 3.1 | B25: Gastos de papelería y permisos | D25: Mes | E25: =+E17 -> 6 | F25: 1 | G25: 100000 | H25: =+I25/$I$8 -> 0.00049861836 | I25: =ROUNDUP((E25*F25*G25),0) -> 600000
A26: 3.2 | B26: Computadores y software | D26: un/mes | E26: =+E25 -> 6 | F26: 1 | G26: 200000 | H26: =+I26/$I$8 -> 0.00099723673 | I26: =ROUNDUP((E26*F26*G26),0) -> 1200000
A27: 3.3 | B27: Medio de comunicación (celular, Internet) | D27: un/mes | E27: =+E25 -> 6 | F27: 1 | G27: 120000 | H27: =+I27/$I$8 -> 0.00059834204 | I27: =ROUNDUP((E27*F27*G27),0) -> 720000
A28: 3.10 | B28: Mantenimiento de equipo/herramientas | D28: mes | E28: =+E26 -> 6 | F28: 1 | G28: 250000 | H28: =+I28/$I$8 -> 0.0012465459 | I28: =ROUNDUP((E28*F28*G28),0) -> 1500000
A29: 3.13 | B29: Vallas de obra | D29: un | E29: 2 | F29: 1 | G29: 600000 | H29: =+I29/$I$8 -> 0.00099723673 | I29: =+G29*E29 -> 1200000
K30: Valor total del proyecto | L30: 1.7210906e+09
A31: 4 | B31: Cargos sobre el valor de la oferta | K31: Valor contrato de obra/ Base estampillas municipales | L31: =+PPTO!G104 -> 1.5977513e+09
B32: Estampilla pro deporte | K32: Valor contrato de obra- Pro Deporte | L32: =+L31-I33 -> 1.5977513e+09
A33: 4 | B33: Tasa Pro-Deporte y Recreación – Departamento de Antioquia | D33: % | H33: 0.025 | K33: Aporte gobernación 90% | L33: =+L30*90% -> 1.5489816e+09
B34: Estampillas municipios | K34: Aporte Municipio 10% | L34: =+L30*10% -> 1.7210906e+08
A35: 4.1 | B35: Impuesto de contribución especial (5%) | D35: % | H35: 0.05 | I35: =+H35*($L$31) -> 79887565
A36: 4.2 | B36: Estampilla adulto mayor | D36: % | H36: 0.04 | I36: =+H36*($L$31) -> 63910052
A37: 4.3 | B37: Estampilla Pro Cultura | D37: % | H37: 0.015 | I37: =+H37*($L$31) -> 23966270
A38: 4.5 | B38: Estampilla Pro Hospital | D38: % | H38: 0.01 | I38: =+H38*($L$31) -> 15977513
A39: 4.6 | B39: Pro justicia familiar | D39: =+D38 -> % | H39: 0.02 | I39: =+H39*($L$31) -> 31955026
A41: 5 | B41: Polizas
A42: 5.1 | B42: Pólizas del proyecto | I42: =+'PÓLIZAS OBRA'!I37 -> 8864643.5
F47: TOTAL ADMINISTRACIÓN (A) | H47: =+I47/I8 -> 0.26123857 | I47: =SUM(I13:I46) -> 3.1435493e+08
F48: TOTAL IMPREVISTOS (I) | I48: 0
F49: TOTAL UTILIDADES (U) | H49: 0.05 | I49: =+H49*PPTO!G98 -> 60166256
C52: ________________________________________________________
B53: Nombre | C53: Carlos Holguín
B54: Cargo | C54: Secretario de planeación.
...

Sheet PÓLIZAS OBRA
A1: COTIZACIÓN PÓLIZA DE SEGURO DE CUMPLIMIENTO A FAVOR DE | AA1: TIPO DE PÓLIZA
C2: ENTIDADES ESTATALES | AA2: ENTIDADES ESTATALES
AA3: PARTICULARES
A5: Convenio/Contrato:
A6: Tomador/Afianzado: | B6: GOBERNACION DE ANTIOQUIA
A7: C.C./NIT: | B7: 900348805
A8: Asegurado/Beneficiario: | B8: MUNICIPIO DE SAN ROQUE
A9: C.C./NIT: | B9: 890884595-7
A11: Plazo: 6meses
A13: Objeto del Contrato:
A14: CONSTRUCCIÓN CENTRO DÍA GERONTOLÓGICO CORREGIMIENTO SAN JOSÉ DEL NUS DEL MUNICIPIO DE SAN ROQUE ANTIOQUIA
A15: {=A15:I37} -> #VALUE!
A16: Valor del Contrato | B16: Desde | C16: Hasta | D16: Dias | E16: Meses
A17: =+PPTO!G104 -> 1.5977513e+09 | B17: 46249 | C17: 46433 | D17: =C17-B17 -> 184 | E17: =D17/30 -> 6.1333333
A19: Garantía | B19: Porcentaje | C19: Vr. Asegurado | D19: Desde | E19: Hasta | F19: Días | G19: Tasa | H19: Prorrata | I19: Prima
A20: Seriedad | B20: 0.1 | C20: =+$A$17*B20 -> 1.5977513e+08 | D20: =B17 -> 46249 | E20: =C17 -> 46433 | F20: =+E20-D20 -> 184 | G20: 0.002 | H20: =+(C20*G20)*F20/365 -> 161088.35 | AH20: =I20*19% -> 0
A21: Cumplimiento | B21: 0.2 | C21: =+$A$17*B21 -> 3.1955026e+08 | D21: =B17 -> 46249 | E21: 46614 | F21: =+E21-D21 -> 365 | G21: 0.0022 | H21: =+(C21*G21)*F21/365 -> 703010.57 | I21: =IF(H21=0,0,IF(H21<30000,30000,H21)) -> 703010.57 | AH21: =I20+AH20 -> 0
A22: Buen manejo del anticipo | B22: 0.4 | C22: =A17*B22 -> 6.3910052e+08 | D22: =B17 -> 46249 | E22: 46614 | F22: =+E22-D22 -> 365 | G22: 0.0022 | H22: =+(C22*G22)*F22/365 -> 1406021.1 | I22: =IF(H22=0,0,IF(H22<30000,30000,H22)) -> 1406021.1
A23: Pago de Salarios | B23: 0.1 | C23: =+$A$17*B23 -> 1.5977513e+08 | D23: =B17 -> 46249 | E23: 47529 | F23: =+E23-D23 -> 1280 | G23: 0.0021 | H23: =+(C23*G23)*F23/365 -> 1176645.3 | I23: =IF(H23=0,0,IF(H23<30000,30000,H23)) -> 1176645.3
A24: Estabilidad | B24: 0.2 | C24: =+$A$17*B24 -> 3.1955026e+08 | D24: =B17 -> 46249 | E24: 48259 | F24: =+E24-D24 -> 2010 | G24: 0.002102 | H24: =+(C24*G24)*F24/365 -> 3698921.2 | I24: =IF(H24=0,0,IF(H24<30000,30000,H24)) -> 3698921.2
A25: Calidad del Servicio | C25: =+$A$17*B25 -> 0 | D25: =B17 -> 46249 | E25: 46381 | F25: =+E25-D25 -> 132 | G25: 0.003 | H25: =+(C25*G25)*F25/365 -> 0 | I25: =IF(H25=0,0,IF(H25<30000,30000,H25)) -> 0
G26: Subtotal | I26: =IF(SUM(I20:I25)<=60000,60000,SUM(I20:I25)) -> 6984598.3
C27: =SUM(C20:C25) -> 1.5977513e+09 | G27: Gastos Expedición | I27: 11000
A28: IVA | G28: IVA | I28: =(I26+I27)*19% -> 1329163.7
G29: Total | I29: =+I26+I27+I28 -> 8324761.9
A31: Garantía | B31: Porcentaje | C31: Vr. Asegurado | D31: Desde | E31: Hasta | F31: Días | G31: 1 | H31: Prorrata | I31: Prima
A32: R.C.E. | C32: 350181000 | D32: =B17 -> 46249 | E32: =C17 -> 46433 | F32: =+E32-D32 -> 184 | G32: 0.0025 | H32: =+(C32*G32)*F32/365 -> 441324 | I32: =IF(H32=0,0,IF(H32<50000,50000,H32)) -> 441324
G33: Subtotal | I33: =+I32 -> 441324
A34: DEDUCIBLE: | B34: =IF(C32<=10000000,"10% mínimo 1 SMMLV",IF(AND(C32>10000000,C32<=30000000),"10% mínimo 2 SMMLV",IF(AND(C32>30000000,C32<=50000000),"10% mínimo 3 SMMLV","15% mínimo 3 SMMLV"))) -> 15% mínimo 3 SMMLV | G34: GASTOS | I34: 12358
G35: IVA | I35: =(I33+I34)*19% -> 86199.58
G36: Total | I36: =+I33+I35+I34 -> 539881.58
I37: =I29+I36 -> 8864643.5
A39: REQUISITOS:
A40: Persona Jurídica | D40: Persona Natural
A41: 1. Diligenciamiento y firma correcta de las contragarantías. | D41: 1. Diligenciamiento y firma correcta de las contragarantías.
A42: 2. Estados Financieros de los últimos dos años, Balance y P&G. | D42: 2. Declaración de Renta.
A43: 3. Certificado de Constitución y Gerencia vigente. | D43: 3. Certificado de Libertad y Tradición de los bienes inmuebles, no superior a 30 días.
A44: 4. Declaración de Renta (cuando el objeto del contrato es un suministro de bienes no elaborados por el contratista).
D45: 4. Solicitud de Seguro de Cumplimiento y Circular Básica Reglamentaria.
A46: 5. Certificado de Libertad y Tradición de los bienes inmuebles, no superior a 30 días. | D46: 5. Fotocopia de la cédula de ciudadanía.
...

Sheet APU'S
A1: =PPTO!B9 -> 1.1 | B1: =PPTO!C9 -> Localizacion, trazado y Replanteo, se incluye suministro de cuadrilla topografíca para rectificación de cartera, verificación de alineamientos, desarrollo de planos. | C1: UND | D1: D% | E1: CANT | F1: VALOR UNI. | G1: VALOR
B2: MATERIALES
B3: EQUIPO ESTACIÓN TOTAL | C3: =VLOOKUP(B3,INSUMOS!$B$2:$D$299,2,0) -> DIA | D3: 0.05 | E3: 0.25 | F3: =VLOOKUP(B3,INSUMOS!$B$2:$D$299,3,0) -> 108625 | G3: =+ROUND((1+D3)*E3*F3,0) -> 28514
B4: ESTACAS Y PUNTILLAS | C4: DIA | E4: 1 | F4: =VLOOKUP(B4,INSUMOS!$B$2:$D$562,3,0) -> 10312.5 | G4: =+ROUND((1+D4)*E4*F4,0) -> 10313
G5: =+ROUND((1+D5)*E5*F5,0) -> 0
B6: MANO DE OBRA
B7: M. de O. CUADRILLA TOPOGRAFICA (1 TOP + 2 CAD) | C7: gl | E7: 1 | F7: =+'FACTOR PRESTACIONAL'!K12+'FACTOR PRESTACIONAL'!K13+'FACTOR PRESTACIONAL'!K14 -> 451664.66 | G7: =+ROUND((1+D7)*E7*F7,0) -> 451665
B8: TRANSPORTE
B9: TRANSPORTE DE CUADRILLA Y EQUIPO | C9: DÍA | E9: 1 | F9: 70000 | G9: =+ROUND((1+D9)*E9*F9,0) -> 70000
B10: HERRAMIENTA MENOR
B11: HERRAMIENTA MENOR | C11: % | E11: 0.05 | F11: =F7 -> 451664.66 | G11: =+ROUND(E11*F11,0) -> 22583
D12: SUBTOTAL | G12: =SUM(G3:G11) -> 583075
D13: ADMINISTRACION | F13: 0.25 | G13: =+ROUND(G12*F13,0) -> 145769
D14: IMPREVISTOS | F14: =AU!$I$48 -> 0 | G14: =+ROUND(G12*F14,0) -> 0
D15: UTILIDADES | F15: 0.05 | G15: =+ROUND(G12*F15,0) -> 29154
D16: TOTAL | G16: =SUM(G12:G15) -> 757998
A18: =PPTO!B10 -> 1.2 | B18: =VLOOKUP(A18,PPTO!$B$8:$D$94,2,0) -> Excavación mecanica de capa organica Incluye: (Excavacion mecanica, cargue y votada de material sobrante a la escombrera) | C18: UND | D18: D% | E18: CANT | F18: VALOR UNI. | G18: VALOR
B19: MATERIALES
B20: RETROEXCAVADORA | C20: =VLOOKUP(B20,INSUMOS!$B$2:$D$299,2,0) -> HR | E20: 0.2 | F20: =VLOOKUP(B20,INSUMOS!$B$2:$D$299,3,0) -> 160000 | G20: =+ROUND((1+D20)*E20*F20,0) -> 32000
B21: DERECHOS DE EXPLOTACIÓN Y/O DISPOSICIÓN DE MATERIALES | C21: =VLOOKUP(B21,INSUMOS!$B$2:$D$299,2,0) -> M3 | E21: 1 | F21: =VLOOKUP(B21,INSUMOS!$B$2:$D$299,3,0) -> 6187.5 | G21: =+ROUND((1+D21)*E21*F21,0) -> 6188
G22: =+ROUND((1+D22)*E22*F22,0) -> 0
B23: MANO DE OBRA
B24: M. de O. CUADRILLA MOVIMIENTO DE TIERRAS (2 AYUDANTES) | C24: gl | E24: 1 | F24: =+'FACTOR PRESTACIONAL'!L10*2 -> 25098.247 | G24: =+ROUND((1+D24)*E24*F24,0) -> 25098
B25: TRANSPORTE
B26: TRANSPORTE DE ESCOMBROS | C26: gl | E26: 1 | F26: =350000/7 -> 50000 | G26: =+ROUND((1+D26)*E26*F26,0) -> 50000
B27: HERRAMIENTA MENOR
B28: HERRAMIENTA MENOR | C28: % | E28: 0.05 | F28: =G24 -> 25098 | G28: =+ROUND(E28*F28,0) -> 1255
D29: SUBTOTAL | G29: =SUM(G20:G28) -> 114541
D30: ADMINISTRACION | F30: =+F13 -> 0.25 | G30: =+ROUND(G29*F30,0) -> 28635
D31: IMPREVISTOS | F31: =+F14 -> 0 | G31: =+ROUND(G29*F31,0) -> 0
D32: UTILIDADES | F32: =+F15 -> 0.05 | G32: =+ROUND(G29*F32,0) -> 5727
D33: TOTAL | G33: =SUM(G29:G32) -> 148903
A35: =PPTO!B11 -> 1.3 | B35: =VLOOKUP(A35,PPTO!$B$8:$D$94,2,0) -> Instalación de CERRAMIENTO PROVISIONAL en tela verde con una altura de 2,1 m. Incluye suministro, transporte, instalación y desmonte de la tela y estructura en larguero común, excavación manual en cualquier material y todos los demás elementos necesarios para su correcta instalación. | C35: UND | D35: D% | E35: CANT | F35: VALOR UNI. | G35: VALOR
B36: MATERIALES
B37: Larguero madera común 4cmx8cmx2.80m. | C37: =VLOOKUP(B37,INSUMOS!$B$2:$D$299,2,0) -> und | E37: 0.5 | F37: =VLOOKUP(B37,INSUMOS!$B$2:$D$299,3,0) -> 17000 | G37: =+ROUND((1+D37)*E37*F37,0) -> 8500
B38: Rollo tela verde 50m x 2.10m ancho 55gr/m2 | C38: =VLOOKUP(B38,INSUMOS!$B$2:$D$299,2,0) -> und | E38: =1.5/50 -> 0.03 | F38: =VLOOKUP(B38,INSUMOS!$B$2:$D$299,3,0) -> 238000 | G38: =+ROUND((1+D38)*E38*F38,0) -> 7140
B39: CONCRETO 2000 PSI (140 MPA) EN OBRA | C39: =VLOOKUP(B39,INSUMOS!$B$2:$D$299,2,0) -> M3 | E39: =0.2*0.2*0.2 -> 0.008 | F39: =VLOOKUP(B39,INSUMOS!$B$2:$D$299,3,0) -> 391965 | G39: =+ROUND((1+D39)*E39*F39,0) -> 3136
B40: MANO DE OBRA
B41: M. de O. CUADRILLA (2 AYUDANTES) | C41: m2 | E41: 0.08 | F41: =+'FACTOR PRESTACIONAL'!K10*2 -> 200785.98 | G41: =+ROUND((1+D41)*E41*F41,0) -> 16063
B42: TRANSPORTE
...

Sheet Hoja1

Sheet INSUMOS
A1: CODIGO | B1: MATERIALES | C1: UNIDAD | D1: PRECIO PROMEDIO
B2: CONCRETO 2000 PSI (140 MPA) EN OBRA | C2: M3 | D2: =+'M-C'!E102 -> 391965
B3: CONCRETO 2500 PSI (175 MPA) EN OBRA | C3: M3 | D3: =+'M-C'!E103 -> 420962.5
B4: CONCRETO 3000 PSI (210 MPA) EN OBRA | C4: M3 | D4: =+'M-C'!E104 -> 460985
B5: CONCRETO 3500 PSI (245 MPA) EN OBRA | C5: M3 | D5: =+'M-C'!E105 -> 505412.5
B6: CONCRETO 4000 PSI (280 MPA) EN OBRA | C6: M3 | D6: =+'M-C'!E106 -> 539631.25
B7: MORTERO 1:2 EN OBRA | C7: M3 | D7: =+'M-C'!E107 -> 657590
B8: MORTERO 1:3 EN OBRA | C8: M3 | D8: =+'M-C'!E108 -> 523982.5
B9: MORTERO 1:4 EN OBRA | C9: M3 | D9: =+'M-C'!E109 -> 401525
B10: MORTERO 1:5 EN OBRA | C10: M3 | D10: =+'M-C'!E110 -> 353787.5
B11: FORMALETA PARA MUROS, ALETAS, DISIPADORES Y ESTRIBOS | C11: M2 | D11: 75625
B12: Larguero madera común 4cmx8cmx2.80m. | C12: und | D12: 17000
B13: Rollo tela verde 50m x 2.10m ancho 55gr/m2 | C13: und | D13: 238000
B14: RETROEXCAVADORA | C14: HR | D14: 160000
B15: EQUIPO ESTACIÓN TOTAL | C15: DIA | D15: 108625
B16: DERECHOS DE EXPLOTACIÓN Y/O DISPOSICIÓN DE MATERIALES | C16: M3 | D16: 6187.5
B17: arenilla | C17: m3 | D17: 35282.5
B18: base granular | C18: M3 | D18: 143687.5
B19: grava TIPO FILTRO 2 " | C19: un | D19: 143687.5
B20: TRITURADO 3/4" | C20: M3 | D20: 116875
B21: TRITURADO 1" | C21: M3 | D21: 194906.25
B22: Arena de pega | C22: M3 | D22: 180468.75
... B43: DISOLVENTE PARA PINTURAS A BASE DE ACEITE | C43: GLN | D43: 103125
B44: TEJA TERMOACUSTICA ECOROOF 2.5mm | C44: M2 | D44: =275000/(1.07*5.9) -> 43560.906
B45: Pintulux 1 Galón Blanco 3en1 Metal y Maderas | C45: Gln | D45: 155000
B46: Alambre Recocido C17 | C46: KG | D46: 8600
B47: Teja Termoacustica Ecoroof UPVC 2.5mm Blanco 1.07 x 5.90 Mts | C47: m2 | D47: =+D44 -> 43560.906
B48: Set de Fijación Teja Maxter Azul x 10 Pares Mathiesen | C48: und | D48: 23237.5
B49: Sección completa de andamio (1.2m-1.5m) x 1.5 m. (+ 4 ruedas) Incluye transporte. | C49: DIA | D49: 3025
B50: Meson en quartzon | C50: ml | D50: 400000
B51: Ladrillo 10x15x30 | C51: un | D51: =4854*1.19 -> 5776.26
B52: pintura tipo 1 | C52: gal | D52: 78000
B53: estuco | C53: gal | D53: 25000
B54: Pegacor | C54: kg | D54: 1000
B55: Concretadora | C55: día | D55: 120000
B56: COMPRESOR | C56: DIA | D56: 108625
B57: SET DE ACCESORIOS PARA TEJAS | C57: UND | D57: 23375
B58: PLACA DRYWALL DE MEDIA PULGADA | C58: und | D58: 55000
B59: Estructura tipo perfileria | C59: un | D59: 11687.5
B60: Tornilleria | C60: un | D60: 121
...

Sheet FACTOR PRESTACIONAL
B3: GOBERNACIÓN DE ANTIOQUIA | G3: CARGO | H3: SALARIO | I3: FM | J3: SALARIO CON FM INCLUIDO | K3: JORNAL | L3: V/HORA
B4: MUNICIPIO DE SAN ROQUE | G4: Director de obra/Interventoría | H4: 5500000 | I4: =+IF(H4>$H$22,$E$32,$E$33) -> 1.5778667 | J4: =+H4*I4 -> 8678266.7 | K4: =+J4/30 -> 289275.56 | L4: =+K4/8 -> 36159.444
B5: FACTOR MULTIPLICADOR | G5: Ingeniero residente | H5: 3800000 | I5: =+IF(H5>$H$22,$E$32,$E$33) -> 1.5778667 | J5: =+H5*I5 -> 5995893.3 | K5: =+J5/30 -> 199863.11 | L5: =+K5/8 -> 24982.889
B6: 1 | C6: Sueldo Básico | E6: 1 | G6: Auxiliar ambiental | H6: 2800000 | I6: =+IF(H6>$H$22,$E$32,$E$33) -> 1.7201331 | J6: =+H6*I6 -> 4816372.7 | K6: =+J6/30 -> 160545.76 | L6: =+K6/8 -> 20068.219
C7: Subtotal 1 | E7: 1 | G7: Tecnologo SST | H7: 2800000 | I7: =+IF(H7>$H$22,$E$32,$E$33) -> 1.7201331 | J7: =+H7*I7 -> 4816372.7 | K7: =+J7/30 -> 160545.76 | L7: =+K7/8 -> 20068.219
G8: Almacenista de obra | H8: 2400000 | I8: =+IF(H8>$H$22,$E$32,$E$33) -> 1.7201331 | J8: =+H8*I8 -> 4128319.4 | K8: =+J8/30 -> 137610.65 | L8: =+K8/8 -> 17201.331
B9: 2 | C9: Prestaciones Sociales, aporte a Seguridad social, Aportes parafiscales y descanso remunerado | G9: Oficial | H9: 3000000 | I9: =+IF(H9>$H$22,$E$32,$E$33) -> 1.7201331 | J9: =+H9*I9 -> 5160399.3 | K9: =+J9/30 -> 172013.31 | L9: =+K9/8 -> 21501.664
B10: 2.1 | C10: Prestaciones sociales | G10: Ayudante | H10: =+H21 -> 1750905 | I10: =+IF(H10>$H$22,$E$32,$E$33) -> 1.7201331 | J10: =+H10*I10 -> 3011789.6 | K10: =+J10/30 -> 100392.99 | L10: =+K10/8 -> 12549.123
C11: Prima anual | E11: 0.0833 | G11: Ayudante Entendido | H11: 2400000 | I11: =+IF(H11>$H$22,$E$32,$E$33) -> 1.7201331 | J11: =+H11*I11 -> 4128319.4 | K11: =+J11/30 -> 137610.65 | L11: =+K11/8 -> 17201.331
C12: Cesantía anual | E12: 0.0833 | G12: Topografo | H12: 3500000 | I12: =+IF(H12>$H$22,$E$32,$E$33) -> 1.7201331 | J12: =+H12*I12 -> 6020465.8 | K12: =+J12/30 -> 200682.19 | L12: =+K12/8 -> 25085.274
C13: Interés a las cesantías | E13: 0.01 | G13: Cadenero 1 | H13: =+H21*1.5 -> 2626357.5 | I13: =+IF(H13>$H$22,$E$32,$E$33) -> 1.7201331 | J13: =+H13*I13 -> 4517684.5 | K13: =+J13/30 -> 150589.48 | L13: =+K13/8 -> 18823.685
B14: 2.2 | C14: Aportes a la Seguridad social | G14: Cadenero 2 | H14: =+H21 -> 1750905 | I14: =+IF(H14>$H$22,$E$32,$E$33) -> 1.7201331 | J14: =+H14*I14 -> 3011789.6 | K14: =+J14/30 -> 100392.99 | L14: =+K14/8 -> 12549.123
C15: Salud (EPS) | E15: 0.085
C16: Pensiones (AFP) | E16: 0.12
C17: Riesgos (ARL) 6,96 % (obra civil) | E17: 0.0696
B18: 2.3 | C18: Aportes parafiscales
C19: Servicio Nacional de Aprendizaje (SENA) | E19: 0
C20: Instituto Colombiano de Bienestar Familiar (ICBF) | E20: 0 | G20: ANÁLISIS MANO DE OBRA
C21: Cajas de compensación familiar | E21: 0.04 | G21: 1SMMLV 2026 | H21: 1750905
B22: 2.4 | C22: Descanso remunerado (vacaciones) | G22: 2SMMLV 2026 | H22: =+H21*2 -> 3501810
C23: Vacaciones anuales | E23: =+(0.0416666666666667)*100% -> 0.041666667 | G23: Subsidio de Transporte (salario <= 2 SMMLV) | H23: 249095 | I23: (Incluido en FM)
B24: 2.5 | C24: Otros
C25: Dotación EPP | E25: 0.025
C26: Exámenes de ingreso y egreso | E26: 0.02
C27: Subtotal 2 | E27: =SUM(E11:E26) -> 0.57786667
B28: 2.6 | C28: Auxilio de transporte
C29: Auxilio de transporte (Sueldo inferior o igual a 2SMMLV) | E29: =(249095/1750905)*100% -> 0.14226643
C30: Subtotal 3 | E30: =+E27+E29 -> 0.72013309
C32: Factor Multiplicador ajustado a dos cifras decimales (para personal que gana Menos o hasta 2SMMLV) | E32: =+E7+E27 -> 1.5778667
C33: Factor Multiplicador ajustado a dos cifras decimales (para personal que gana más de 2SMMLV) | E33: =+E30+E7 -> 1.7201331
C40: ________________________________________________________
B41: Nombre | C41: Carlos Holguín
B42: Cargo | C42: Secretario de planeación.
B43: Correo Electrónico | C43: planeacionsanrque@antioquia.gov.cocom
B44: Teléfono Celular | C44: 3147222958

Sheet PMA
A1: PLAN DE MANEJO AMBIENTAL Y SOCIAL
A2: ITEM | B2: DESCRIPCION | C2: UNIDAD | D2: CANTIDAD | E2: PRECIO UNITARIO | F2: VALOR
A3: 1.1 | B3: Desarrollo y aplicación del sistema de gestion ambiental
A4: 1.1.1 | B4: Capacitacion al personal de la obra (incluye fotocopias y material de explicación) | C4: un | D4: 18 | E4: 30000 | F4: =+E4*D4 -> 540000
A6: 1.2 | B6: Actividades Constructivas | F6: =+E6*D6 -> 0
A7: 1.2.1 | B7: Señalizacion frentes de obra y sitios temporales | C7: un | D7: 3 | E7: 60000 | F7: =+E7*D7 -> 180000
A8: 1.2.2 | B8: Pendondes de identificacion | C8: un | D8: 5 | E8: 350000 | F8: =+E8*D8 -> 1750000
A9: 1.2.6 | B9: Marcación de identificacion zona de residuos | C9: un | D9: 2 | E9: 250000 | F9: =+E9*D9 -> 500000
A10: 1.2.7 | B10: Señalizacion preventiva interna. | C10: paquetes | D10: 3 | E10: 350000 | F10: =+E10*D10 -> 1050000
A11: 1.2.8 | B11: Punto de encuentro | C11: un | D11: 3 | E11: 60000 | F11: =+E11*D11 -> 180000
A12: 1.2.10 | B12: Salida de emergencia | C12: un | D12: 3 | E12: 35000 | F12: =+E12*D12 -> 105000
A13: 1.2.12 | B13: Carpas para cubrir centros de acopio de escombros | C13: un | D13: 3 | E13: 150000 | F13: =+E13*D13 -> 450000
A14: 1.3 | B14: Programa de gestion hidrica | F14: =+E14*D14 -> 0
A15: 1.3.1 | B15: Manejo de residuos (incluye 3 canecas de 40L para manejo de basura, bolsas de diferentes colores con señalización pertinente) | C15: und | D15: 1 | E15: 500000 | F15: =+E15*D15 -> 500000
A16: 1.3.2 | B16: Alquiler de baño portatil | C16: mes | D16: 7 | E16: 650000 | F16: =+E16*D16 -> 4550000
A17: 1.4 | B17: Programa Manejo de Instalaciones Temporales, de Maquinaria y Equipos | F17: =+E17*D17 -> 0
A18: 1.4.1 | B18: Señalización de Manejo de maquinaria, equipos y vehículos | C18: un | D18: 1 | E18: 100000 | F18: =+E18*D18 -> 100000
A19: 1.4.2 | B19: Kit emergencia (Botiquin, Extintor y Camilla) | C19: un | D19: 2 | E19: 350000 | F19: =+E19*D19 -> 700000
A20: 1.5 | B20: Programas de Gestión Social | F20: =+E20*D20 -> 0
A21: 1.5.1 | B21: Talleres para cuidado y sostenibilidad Ambiental in Situ. | C21: un | D21: 2 | E21: 150000 | F21: =+E21*D21 -> 300000
A22: 1.5.2 | B22: Proyecto de Información y Divulgación de inicio y fin de obra | C22: un | D22: 2 | E22: 200000 | F22: =+E22*D22 -> 400000
A23: 1.5.3 | B23: Plegables para Pedagogia Ambiental durante toda la duración del proyecto | C23: un | D23: 300 | E23: 2000 | F23: =+E23*D23 -> 600000
A24: TOTAL PLAN DE MANEJO AMBIENTAL | F24: =SUM(F4:F23) -> 11905000
C34: Nombre | D34: Carlos Holguín
C35: Cargo | D35: Secretario de planeación.
C36: Correo Electrónico | D36: planeacionsanrque@antioquia.gov.cocom
C37: Teléfono Celular | D37: 3147222958

Sheet INT
B2: DEPARTAMENTO DE ANTIOQUIA
B3: MUNICIPIO DE SAN ROQUE
B4: INTERVENTORÍA TÉCNICA, JURÍDICA Y FINANCIERA PARA LA CONSTRUCCIÓN CENTRO DÍA GERONTOLÓGICO CORREGIMIENTO SAN JOSÉ DEL NUS DEL MUNICIPIO DE SAN ROQUE ANTIOQUIA
B7: CANT | C7: CARGO/OFICIO | D7: Unidad | E7: Cant | F7: Dedicación | G7: Valor (Incluye Factor prestacional) | H7: Subtotal
B8: 1 | C8: Personal de interventoría
B9: 1.1 | C9: Director de Interventoría | D9: Mes | E9: 6 | F9: 0.2 | G9: =+'FACTOR PRESTACIONAL'!J4 -> 8678266.7 | H9: =+G9*F9*E9 -> 10413920
B10: 1.2 | C10: Ingeniero Residente de Interventoría | D10: Mes | E10: 6 | F10: 1 | G10: =+'FACTOR PRESTACIONAL'!J5 -> 5995893.3 | H10: =+G10*F10*E10 -> 35975360
B11: 1.3 | C11: Auxiliar Ambiental | D11: Mes | E11: 6 | F11: 0.1 | G11: =+'FACTOR PRESTACIONAL'!J6 -> 4816372.7 | H11: =+G11*F11*E11 -> 2889823.6
B12: 1.4 | C12: Tecnologo SST | D12: Mes | E12: 6 | F12: 0.6 | G12: =+'FACTOR PRESTACIONAL'!J7 -> 4816372.7 | H12: =+G12*F12*E12 -> 17338942
G14: Aplicación factor multiplicador
G15: Subtotal costos del personal | H15: =+SUM(H9:H12) -> 66618045
G16: Factor Multiplicador | H16: 0.3391 | J16: =+'FM INT'!H25 -> 0.30372127
G17: Valor total costos personal | H17: =+H15*(100%+H16) -> 89208224
B19: 2 | C19: Otros
B20: 2.1 | C20: Ensayos de laboratorio, según la necesidad | D20: mes-unidad | E20: 6 | F20: 15 | G20: 40000 | H20: =+G20*F20*E20 -> 3600000
B21: 2.2 | C21: Mano de obra Comisión de topografía, incluye equipos | D21: mes-unidad | E21: 1 | F21: 3 | G21: =+'FACTOR PRESTACIONAL'!K12+'FACTOR PRESTACIONAL'!K13+'FACTOR PRESTACIONAL'!K14 -> 451664.66 | H21: =+G21*F21*E21 -> 1354994
E24: TOTAL INTERVENTORÍA | G24: =+H24/AU!I8 -> 0.078252516 | H24: =SUM(H17:H23) -> 94163218
E25: IVA | G25: 0.19 | H25: =+H24*G25 -> 17891011
E26: Polizas | G26: =+H26/H27 -> 0.010087184 | H26: =+'PÓLIZAS INT'!I37 -> 1141829.5
E27: TOTAL INTERVENTORÍA CON IVA | G27: =+H27/AU!I8 -> 0.09406939 | H27: =+H25+H24+H26 -> 1.1319606e+08
B30: ______________________________________________
B31: Nombre | C31: Carlos Holguín
B32: Cargo | C32: Secretario de planeación.
B33: Correo Electrónico | C33: planeacionsanrque@antioquia.gov.cocom
B34: Teléfono Celular | C34: 3147222958

Sheet FM INT
B3: =+PPTO!C2 -> CONSTRUCCIÓN CENTRO DÍA GERONTOLÓGICO CORREGIMIENTO SAN JOSÉ DEL NUS DEL MUNICIPIO DE SAN ROQUE ANTIOQUIA
B4: =PPTO!C3 -> MUNICIPIO DE SAN ROQUE - ANTIOQUIA, CORREGIMIENTO DE SAN JOSÉ DEL NÚS.
A8: INTERVENTORÍA TÉCNICA, JURÍDICA Y FINANCIERA PARA LA CONSTRUCCIÓN CENTRO DÍA GERONTOLÓGICO CORREGIMIENTO SAN JOSÉ DEL NUS DEL MUNICIPIO DE SAN ROQUE ANTIOQUIA
A11: VALOR PERSONAL DE INTERVENTORÍA | C11: =+SUM(INT!H9:H12) -> 66618045 | F11: VALOR INTERVENTORÍA ANTES DE IVA | H11: =+INT!H24 -> 94163218
A12: Estampillas municipios
A13: Tasa Pro-Deporte y Recreación – Departamento de Antioquia | C13: % | D13: 0.025 | H13: =+E13/$C$11 -> 0
A14: Estampilla adulto mayor | C14: % | D14: 0.04 | E14: =+$H$11*D14 -> 3766528.7 | H14: =+E14/$C$11 -> 0.056539166
A15: Estampilla Pro Cultura | C15: % | D15: 0.015 | E15: =+$H$11*D15 -> 1412448.3 | H15: =+E15/$C$11 -> 0.021202187
A16: Estampilla Pro Hospital | C16: % | D16: 0.01 | E16: =+$H$11*D16 -> 941632.18 | H16: =+E16/$C$11 -> 0.014134792
A17: Pro justicia familiar | C17: =+C16 -> % | D17: 0.02 | E17: =+$H$11*D17 -> 1883264.4 | H17: =+E17/$C$11 -> 0.028269583
A18: Costos indirectos
A19: Costos oficina (construcción oficina, con seguridad, incluye dotación como escritorio, mesa y sillas, también incluye 2 equipos de computo para uso de residente y SST) | C19: % | E19: 3500000 | H19: =+E19/$C$11 -> 0.052538317
A20: Papeleria general: Fotocopias, edición informes, registros fotográficos entre otros | C20: % | E20: 400000 | H20: =+E20/$C$11 -> 0.0060043791
A21: Muebles y equipos de oficina, programas y sistematización | C21: % | E21: =150000*6 -> 900000 | H21: =+E21/$C$11 -> 0.013509853
A22: Asesoría medica, contable, tributaria (revisor fiscal) | C22: % | E22: =350000*6 -> 2100000 | H22: =+E22/$C$11 -> 0.03152299
A23: HONORARIOS
A24: HONORARIOS | C24: % | E24: 8%-12% | H24: 0.08
A25: FACTOR MULTIPLICADOR | H25: =SUM(H13:H24) -> 0.30372127

Sheet PÓLIZAS INT
A1: COTIZACIÓN PÓLIZA DE SEGURO DE CUMPLIMIENTO A FAVOR DE | AA1: TIPO DE PÓLIZA
C2: ENTIDADES ESTATALES | AA2: ENTIDADES ESTATALES
AA3: PARTICULARES
A5: Convenio/Contrato:
A6: Tomador/Afianzado: | B6: GOBERNACION DE ANTIOQUIA
A7: C.C./NIT: | B7: 900348805
A8: Asegurado/Beneficiario: | B8: MUNICIPIO DE SAN ROQUE
A9: C.C./NIT: | B9: 890884595-7
A11: Plazo: 6meses
A13: Objeto del Contrato:
A14: INTERVENTORIA - CONSTRUCCIÓN CENTRO DÍA GERONTOLÓGICO CORREGIMIENTO SAN JOSÉ DEL NUS DEL MUNICIPIO DE SAN ROQUE ANTIOQUIA
A15: {=A15:I37} -> #VALUE!
A16: Valor del Contrato | B16: Desde | C16: Hasta | D16: Dias | E16: Meses
A17: =+INT!H27 -> 1.1319606e+08 | B17: 46249 | C17: 46433 | D17: =C17-B17 -> 184 | E17: =D17/30 -> 6.1333333
A19: Garantía | B19: Porcentaje | C19: Vr. Asegurado | D19: Desde | E19: Hasta | F19: Días | G19: Tasa | H19: Prorrata | I19: Prima
A20: Seriedad | B20: 0.1 | C20: =+$A$17*B20 -> 11319606 | D20: =B17 -> 46249 | E20: =C17 -> 46433 | F20: =+E20-D20 -> 184 | G20: 0.002 | H20: =+(C20*G20)*F20/365 -> 11412.644 | AH20: =I20*19% -> 0
A21: Cumplimiento | B21: 0.2 | C21: =+$A$17*B21 -> 22639212 | D21: =B17 -> 46249 | E21: 46614 | F21: =+E21-D21 -> 365 | G21: 0.0022 | H21: =+(C21*G21)*F21/365 -> 49806.266 | I21: =IF(H21=0,0,IF(H21<30000,30000,H21)) -> 49806.266 | AH21: =I20+AH20 -> 0
A22: Buen manejo del anticipo | B22: 0.4 | C22: =A17*B22 -> 45278424 | D22: =B17 -> 46249 | E22: 46614 | F22: =+E22-D22 -> 365 | G22: 0.0022 | H22: =+(C22*G22)*F22/365 -> 99612.532 | I22: =IF(H22=0,0,IF(H22<30000,30000,H22)) -> 99612.532
A23: Pago de Salarios | B23: 0.1 | C23: =+$A$17*B23 -> 11319606 | D23: =B17 -> 46249 | E23: 47529 | F23: =+E23-D23 -> 1280 | G23: 0.0021 | H23: =+(C23*G23)*F23/365 -> 83361.92 | I23: =IF(H23=0,0,IF(H23<30000,30000,H23)) -> 83361.92
A24: Calidad del Servicio | B24: 0.2 | C24: =+$A$17*B24 -> 22639212 | D24: =B17 -> 46249 | E24: 48259 | F24: =+E24-D24 -> 2010 | G24: 0.002102 | H24: =+(C24*G24)*F24/365 -> 262057.87 | I24: =IF(H24=0,0,IF(H24<30000,30000,H24)) -> 262057.87
A25: Calidad del Servicio | C25: =+$A$17*B25 -> 0 | D25: =B17 -> 46249 | E25: 46381 | F25: =+E25-D25 -> 132 | G25: 0.003 | H25: =+(C25*G25)*F25/365 -> 0 | I25: =IF(H25=0,0,IF(H25<30000,30000,H25)) -> 0
G26: Subtotal | I26: =IF(SUM(I20:I25)<=60000,60000,SUM(I20:I25)) -> 494838.59
C27: =SUM(C20:C25) -> 1.1319606e+08 | G27: Gastos Expedición | I27: 11000
A28: IVA | G28: IVA | I28: =(I26+I27)*19% -> 96109.332
G29: Total | I29: =+I26+I27+I28 -> 601947.92
A31: Garantía | B31: Porcentaje | C31: Vr. Asegurado | D31: Desde | E31: Hasta | F31: Días | G31: 1 | H31: Prorrata | I31: Prima
A32: R.C.E. | C32: 350181000 | D32: =B17 -> 46249 | E32: =C17 -> 46433 | F32: =+E32-D32 -> 184 | G32: 0.0025 | H32: =+(C32*G32)*F32/365 -> 441324 | I32: =IF(H32=0,0,IF(H32<50000,50000,H32)) -> 441324
G33: Subtotal | I33: =+I32 -> 441324
A34: DEDUCIBLE: | B34: =IF(C32<=10000000,"10% mínimo 1 SMMLV",IF(AND(C32>10000000,C32<=30000000),"10% mínimo 2 SMMLV",IF(AND(C32>30000000,C32<=50000000),"10% mínimo 3 SMMLV","15% mínimo 3 SMMLV"))) -> 15% mínimo 3 SMMLV | G34: GASTOS | I34: 12358
G35: IVA | I35: =(I33+I34)*19% -> 86199.58
G36: Total | I36: =+I33+I35+I34 -> 539881.58
I37: =I29+I36 -> 1141829.5
A39: REQUISITOS:
A40: Persona Jurídica | D40: Persona Natural
A41: 1. Diligenciamiento y firma correcta de las contragarantías. | D41: 1. Diligenciamiento y firma correcta de las contragarantías.
A42: 2. Estados Financieros de los últimos dos años, Balance y P&G. | D42: 2. Declaración de Renta.
A43: 3. Certificado de Constitución y Gerencia vigente. | D43: 3. Certificado de Libertad y Tradición de los bienes inmuebles, no superior a 30 días.
A44: 4. Declaración de Renta (cuando el objeto del contrato es un suministro de bienes no elaborados por el contratista).
D45: 4. Solicitud de Seguro de Cumplimiento y Circular Básica Reglamentaria.
A46: 5. Certificado de Libertad y Tradición de los bienes inmuebles, no superior a 30 días. | D46: 5. Fotocopia de la cédula de ciudadanía.
...

Sheet Cronograma
A2: PROGRAMACIÓN
A3: =+PPTO!C2 -> CONSTRUCCIÓN CENTRO DÍA GERONTOLÓGICO CORREGIMIENTO SAN JOSÉ DEL NUS DEL MUNICIPIO DE SAN ROQUE ANTIOQUIA
A7: ACTIVIDADES | G7: MES1 | H7: MES2 | I7: MES3 | J7: MES4 | K7: MES5 | L7: MES6 | M7: MES7 | N7: MES8 | O7: MES9 | P7: MES 10
A8: PRE CONTRACTUAL
A9: 0 | B9: PROCESO DE SELECCIÓN CONTRATISTA E INTERVENTORÍA
B10: PRELIMINARES
A11: =+PPTO!B9 -> 1.1 | B11: =+PPTO!C9 -> Localizacion, trazado y Replanteo, se incluye suministro de cuadrilla topografíca para rectificación de cartera, verificación de alineamientos, desarrollo de planos. | C11: =+PPTO!D9 -> DIA | D11: =+PPTO!E9 -> 3 | E11: =+PPTO!F9 -> 583075 | F11: =+PPTO!G9 -> 1749225 | I11: =+F11 -> 1749225
A12: =+PPTO!B10 -> 1.2 | B12: =+PPTO!C10 -> Excavación mecanica de capa organica Incluye: (Excavacion mecanica, cargue y votada de material sobrante a la escombrera) | C12: =+PPTO!D10 -> M3 | D12: =+PPTO!E10 -> 67.07 | E12: =+PPTO!F10 -> 114541 | F12: =+PPTO!G10 -> 7682264.9 | I12: =+F12 -> 7682264.9
A13: =+PPTO!B11 -> 1.3 | B13: =+PPTO!C11 -> Instalación de CERRAMIENTO PROVISIONAL en tela verde con una altura de 2,1 m. Incluye suministro, transporte, instalación y desmonte de la tela y estructura en larguero común, excavación manual en cualquier material y todos los demás elementos necesarios para su correcta instalación. | C13: =+PPTO!D11 -> ML | D13: =+PPTO!E11 -> 168.07 | E13: =+PPTO!F11 -> 37142 | F13: =+PPTO!G11 -> 6242455.9 | I13: =+F13 -> 6242455.9
A14: =+PPTO!B12 -> 2 | B14: =+PPTO!C12 -> EXCAVACIONES Y LLENOS | C14: =+PPTO!D12 -> 0 | D14: =+PPTO!E12 -> 0 | E14: =+PPTO!F12 -> 0 | F14: =+PPTO!G12 -> 0
A15: =+PPTO!B13 -> 2.1 | B15: =+PPTO!C13 -> EXCAVACIÓN de material heterogéneo DE 0-2 m., bajo cualquier grado de humedad. Incluye: roca descompuesta, bolas de roca de volumen inferior a 0.035 m³. Incluye botada | C15: =+PPTO!D13 -> M3 | D15: =+PPTO!E13 -> 124.67 | E15: =+PPTO!F13 -> 73235 | F15: =+PPTO!G13 -> 9130207.4 | I15: =+F15 -> 9130207.4
A16: =+PPTO!B14 -> 2.2 | B16: =+PPTO!C14 -> LLENOS CON MATERIAL DE PRESTAMO, compactados mecánicamente hasta obtener una densidad del 98% de la máxima obtenida en el ensayo del Próctor modificado. Incluye el suministro, transporte, colocación de la arenilla, la compactación de la misma y transporte interno. Y su medida será en sitio ya compactado. | C16: =+PPTO!D14 -> M3 | D16: =+PPTO!E14 -> 122.05 | E16: =+PPTO!F14 -> 134804 | F16: =+PPTO!G14 -> 16452828 | I16: =+F16 -> 16452828
A17: =+PPTO!B15 -> 3 | B17: =+PPTO!C15 -> ESTRUCTURA Y CONCRETOS | C17: =+PPTO!D15 -> 0 | D17: =+PPTO!E15 -> 0 | E17: =+PPTO!F15 -> 0 | F17: =+PPTO!G15 -> 0 | I17: =+F17/2 -> 0 | J17: =+I17 -> 0
A18: =+PPTO!B16 -> 3.1 | B18: =+PPTO!C16 -> CIMENTACIONES | C18: =+PPTO!D16 -> 0 | D18: =+PPTO!E16 | E18: =+PPTO!F16 -> 0 | F18: =+PPTO!G16 -> 0
A19: =+PPTO!B17 -> 3,1,1 | B19: =+PPTO!C17 -> Suministro, transporte y colocación de concreto de 14 Mpa para SOLADO, con un espesor DE 0.05 m. Incluye el suministro y el transporte del concreto y todos los demás elementos necesarios para su correcta construcción, incluye acarreo interno. | C19: =+PPTO!D17 -> M2 | D19: =+PPTO!E17 -> 82.98 | E19: =+PPTO!F17 -> 57121 | F19: =+PPTO!G17 -> 4739900.6 | J19: =+F19 -> 4739900.6
A20: =+PPTO!B18 -> 3,1,2 | B20: =+PPTO!C18 -> Construcción de LOSA MACIZA en concreto de 21 MPa., con un ESPESOR DE 10 cm. Incluye suministro, transporte y la colocación del concreto, vibrado, protección y curado para estructuras, de acuerdo a las diferentes dimensiones establecidas en los planos y todos los demás elementos necesarios para su correcto vaciado, se incluye acero de refuerzo con doble malla electrosoldada D084 y plastico para evitar el contacto directo de la losa con el terreno | C20: =+PPTO!D18 -> M2 | D20: =+PPTO!E18 -> 405.36 | E20: =+PPTO!F18 -> 242084 | F20: =+PPTO!G18 -> 98131170 | J20: =+K20 -> 49065585 | K20: =+F20/2 -> 49065585
A21: =+PPTO!B19 -> 3,1,3 | B21: =+PPTO!C19 -> Suministro, transporte y colocación de concreto para vigas de fundación 0,3 x 0,3 IIncluye: concreto 21MPa, vibrado y todo para su correcta construcción. El acero se pagará en su respectivo ITEM. | C21: =+PPTO!D19 -> ML | D21: =+PPTO!E19 -> 183.25 | E21: =+PPTO!F19 -> 108824 | F21: =+PPTO!G19 -> 19941998 | J21: =+F21/2 -> 9970999 | K21: =+J21 -> 9970999
A22: =+PPTO!B20 -> 3,1,4 | B22: =+PPTO!C20 -> Suministro, transporte y colocación de concreto para cimentación superficilaes tipo zapatas, incluye pedestales de 0,40 x 0,40 x 1,30: y bases de 1,0 x 1,0 x 0,3 Incluye concreto 21MPa. El acero se pagará en su respectivo ITEM. | C22: =+PPTO!D20 -> M3 | D22: =+PPTO!E20 -> 14.22 | E22: =+PPTO!F20 -> 596612 | F22: =+PPTO!G20 -> 8483822.6 | J22: =+F22 -> 8483822.6
A23: =+PPTO!B21 -> 3.2 | B23: =+PPTO!C21 -> ESTRUCTURA | C23: =+PPTO!D21 -> 0 | D23: =+PPTO!E21 | E23: =+PPTO!F21 -> 0 | F23: =+PPTO!G21 -> 0 | I23: =+F23/2 -> 0 | J23: =+I23 -> 0
A24: =+PPTO!B22 -> 3,2,1 | B24: =+PPTO!C22 -> Suministro, transporte y colocación de concreto para columnas de 0.30 x 0.30, h= 2.70m, Incluye: formaleta, concreto 21MPa, vibrado y todo para su correcta instalación. El acero se pagará en su respectivo ITEM. | C24: =+PPTO!D22 -> ML | D24: =+PPTO!E22 -> 75.6 | E24: =+PPTO!F22 -> 204169 | F24: =+PPTO!G22 -> 15435176 | K24: =+F24 -> 15435176
A25: =+PPTO!B23 -> 3,2,2 | B25: =+PPTO!C23 -> Suministro, transporte y colocación de concreto para vigas de amarre, de 0.25 x 0.30, Incluye: ( formaleta y concreto 21MPa), el acero se pagará en su respectivo ITEM. | C25: =+PPTO!D23 -> ML | D25: =+PPTO!E23 -> 183.25 | E25: =+PPTO!F23 -> 227690 | F25: =+PPTO!G23 -> 41724192 | K25: =+E25 -> 227690
A26: =+PPTO!B24 -> 3,2,3 | B26: =+PPTO!C24 -> Dovelas en concreto GRAUTING para amarre de mampostería 10x15x30 incluye acero de refuerzo con varilla de 1/2 | C26: =+PPTO!D24 -> ML | D26: =+PPTO!E24 -> 361.8 | E26: =+PPTO!F24 -> 32266 | F26: =+PPTO!G24 -> 11673839 | K26: =+F26/2 -> 5836919.4 | L26: =+F26/2 -> 5836919.4
A27: =+PPTO!B25 -> 3.3 | B27: =+PPTO!C25 -> CUBIERTA | C27: =+PPTO!D25 -> 0 | D27: =+PPTO!E25 | E27: =+PPTO!F25 -> 0 | F27: =+PPTO!G25 -> 0 | L27: =+F27/2 -> 0 | M27: =+L27 -> 0
A28: =+PPTO!B26 -> 3,3,1 | B28: =+PPTO!C26 -> Suministro, transporte e instalación de estructura metalica para cubierta, suministro y transporte de perfiles tipo PHR 254X67X2mm, platinas, uniones, soldaduras de acabado o presentación, anclajes y pernos a estructura de concreto. Incluye transporte a sitio e izaje. Todos los elementos deben llevar dos manos de pintura anticorrosiva, color por definir. tambien incluye obra falsa y todo el equipo y la herramienta necesaria para el montaje. | C28: =+PPTO!D26 -> KG | D28: =+PPTO!E26 -> 6000.92 | E28: =+PPTO!F26 -> 26995 | F28: =+PPTO!G26 -> 1.6199484e+08 | L28: =+F28 -> 1.6199484e+08
A29: =+PPTO!B27 -> 3,3,2 | B29: =+PPTO!C27 -> Suministro, transporte e instalación de cubierta tipo Teja Termoacustica Ecoroof UPVC 2.5mm Blanco 1.07 x 5.90 Mts. Incluye remates internos y externos de cubierta, tornillos autoroscantes y todo lo necesario para su correcta instalación. Según diseño. | C29: =+PPTO!D27 -> M2 | D29: =+PPTO!E27 -> 444.48 | E29: =+PPTO!F27 -> 111640 | F29: =+PPTO!G27 -> 49621747 | L29: =+F29 -> 49621747
A30: =+PPTO!B28 -> 3.4 | B30: =+PPTO!C28 -> ACERO DE REFUERZO | C30: =+PPTO!D28 -> 0 | D30: =+PPTO!E28 | E30: =+PPTO!F28 -> 0 | F30: =+PPTO!G28 -> 0 | N30: =+F30 -> 0
A31: =+PPTO!B29 -> 3,4,1 | B31: =+PPTO!C29 -> Suministro, figurado y armado de Acero de refuerzo 6000PSI, (se incluyen zapatas, vigas de fundación y vigas de amarre y columnas). | C31: =+PPTO!D29 -> KG | D31: =+PPTO!E29 -> 8091.81 | E31: =+PPTO!F29 -> 12038 | F31: =+PPTO!G29 -> 97409209 | I31: =+$F$31/4 -> 24352302 | J31: =+$F$31/4 -> 24352302 | K31: =+$F$31/4 -> 24352302 | L31: =+$F$31/4 -> 24352302
A32: =+PPTO!B30 -> 4 | B32: =+PPTO!C30 -> MAMPOSTERIA | C32: =+PPTO!D30 -> 0 | D32: =+PPTO!E30 | E32: =+PPTO!F30 -> 0 | F32: =+PPTO!G30 -> 0 | I32: =+F32/2 -> 0 | J32: =+I32 -> 0
A33: =+PPTO!B31 -> 4.1 | B33: =+PPTO!C31 -> Construcción de mampostería en ladrillo a la vista, de 10x15x30cm. Espesor de 15 cm. Incluye el suministro y transporte del ladrillo, el mortero de pega 1:4 espesor max=0.01 m y todos los demás elementos necesarios para su correcta construcción y funcionamiento. | C33: =+PPTO!D31 -> M2 | D33: =+PPTO!E31 -> 485.46 | E33: =+PPTO!F31 -> 187443 | F33: =+PPTO!G31 -> 90996079 | K33: =+F33/2 -> 45498039 | L33: =+F33/2 -> 45498039
A34: =+PPTO!B32 -> 4.2 | B34: =+PPTO!C32 -> Impermeabilización Sobrecimientos en bloque por medio de IGOL denso plus o similar. Incluye mortero 1:4 espesor 2cm para revoque, pendientes, emulsión asfáltica, mediacaña, regata y todo lo necesario para su correcta construcción.. PRIMER NIVEL 80 cm | C34: =+PPTO!D32 -> M2 | D34: =+PPTO!E32 -> 287.68 | E34: =+PPTO!F32 -> 59120 | F34: =+PPTO!G32 -> 17007642 | K34: =+F34/2 -> 8503820.8 | L34: =+K34 -> 8503820.8
A35: =+PPTO!B33 -> 4.3 | B35: =+PPTO!C33 -> Colocación de revoque con mortero 1:4 impermeabilizado con sika 1 o equivalente en muros. Incluye suministro y transporte de materiales, fajas, ranuras, filetes y todos los demas elementos para su correcta construcció. | C35: =+PPTO!D33 -> M2 | D35: =+PPTO!E33 -> 706.54 | E35: =+PPTO!F33 -> 31990 | F35: =+PPTO!G33 -> 22602215 | K35: =+F35/3 -> 7534071.5 | L35: =+F35/3 -> 7534071.5 | M35: =+F35/3 -> 7534071.5
A36: =+PPTO!B34 -> 4.4 | B36: =+PPTO!C34 -> Suministro, transporte y aplicación de hidrófugo impermeabilizante del tipo siliconite (Sika transparente o equivalente) o equivalente para mampostería de fachadas, con todos los elementos necesarios para su correcta instalación y funcionamiento, incluye a su vez lavado con aplicación de ácido nítrico e hidrosolve proporción 1:1:5 para lavada de muros interiores | C36: =+PPTO!D34 -> M2 | D36: =+PPTO!E34 -> 264.38 | E36: =+PPTO!F34 -> 24661 | F36: =+PPTO!G34 -> 6519875.2 | L36: =+F36 -> 6519875.2
A37: =+PPTO!B35 -> 4.5 | B37: =+PPTO!C35 -> Suministro, transporte y colocación de estuco en muros. Incluye fajas, ranuras, filetes, y todos los demás elementos necesarios para su correcta construcción. | C37: =+PPTO!D35 -> M2 | D37: =+PPTO!E35 -> 706.54 | E37: =+PPTO!F35 -> 29511 | F37: =+PPTO!G35 -> 20850702 | L37: =+F37/2 -> 10425351 | M37: =+F37/2 -> 10425351
A38: =+PPTO!B36 -> 4.6 | B38: =+PPTO!C36 -> Suministro y aplicación de pintura tipo 1, tres manos, incluye la preparación de la superficie y todos los insumos necesarios para el desarrollo de la actividad. | C38: =+PPTO!D36 -> M2 | D38: =+PPTO!E36 -> 706.54 | E38: =+PPTO!F36 -> 31431 | F38: =+PPTO!G36 -> 22207259 | L38: =+F38/2 -> 11103629 | M38: =+F38/2 -> 11103629
A39: =+PPTO!B37 -> 5 | B39: =+PPTO!C37 -> OBRA BLANCA | C39: =+PPTO!D37 -> 0 | D39: =+PPTO!E37 | E39: =+PPTO!F37 -> 0 | F39: =+PPTO!G37 -> 0
A40: =+PPTO!B38 -> 5.1 | B40: =+PPTO!C38 -> Enchape de piso antideslizante incluye: mortero, pegante, cerámica antideslizante y lechada de limpieza. | C40: =+PPTO!D38 -> M2 | D40: =+PPTO!E38 -> 340.86 | E40: =+PPTO!F38 -> 129661 | F40: =+PPTO!G38 -> 44196248 | K40: =+F40/3 -> 14732083 | L40: =+F40/3 -> 14732083 | M40: =+F40/3 -> 14732083
A41: =+PPTO!B39 -> 5.2 | B41: =+PPTO!C39 -> Enchape cocina pared sobre mesón incluye: pegante, cerámica y lechada de limpieza | C41: =+PPTO!D39 -> M2 | D41: =+PPTO!E39 -> 216.44 | E41: =+PPTO!F39 -> 97951 | F41: =+PPTO!G39 -> 21200514 | K41: =+F41/2 -> 10600257 | L41: =+F41/2 -> 10600257
A42: =+PPTO!B40 -> 5.3 | B42: =+PPTO!C40 -> Cielo en drywall local con fajas y dilatadores incluye: (estructura, placa, macilla y pintura) | C42: =+PPTO!D40 -> M2 | D42: =+PPTO!E40 -> 265.38 | E42: =+PPTO!F40 -> 103072.31 | F42: =+PPTO!G40 -> 27353331 | M42: =+F42/2 -> 13676665 | N42: =+F42/2 -> 13676665
A43: =+PPTO!B41 -> 5.4 | B43: =+PPTO!C41 -> Suministro transporte e instalación de guarda escoba o zocalo en piso en baldosa del mismo color de la baldosa , incluye pega lechada y demás elementos necesarios para su correcta instalación. | C43: =+PPTO!D41 -> ML | D43: =+PPTO!E41 -> 152.72 | E43: =+PPTO!F41 -> 36912.315 | F43: =+PPTO!G41 -> 5637248.7 | M43: =+F43/2 -> 2818624.4 | N43: =+F43/2 -> 2818624.4
A44: =+PPTO!B42 -> 6 | B44: =+PPTO!C42 -> INSTALACIONES ELECTRICAS | C44: =+PPTO!D42 -> 0 | D44: =+PPTO!E42 | E44: =+PPTO!F42 -> 0 | F44: =+PPTO!G42 -> 0 | N44: =+F44 -> 0
...

Sheet APU GIMNASIO
C4: DESCRIPCION | D4: CANT | E4: VALOR UNIT | F4: VR CON IVA | G4: DESC 5 % | H4: SUB TOTAL | I4: BASE GRAVABLE 10 % UTILIDAD | J4: IVA UTILIDAD 19% | K4: TOTAL | M4: DESCRIPCION | N4: CANT | O4: VALOR UNIT | P4: VR CON IVA
C5: ZONA CARDIOVASCULAR | M5: ZONA CARDIOVASCULAR
C6: BICICLETA ESTATICA MAGNETICA | D6: 1 | E6: 6552000 | F6: =E6+E6*0.19 -> 7796880 | G6: =+F6*0.05 -> 389844 | H6: =+F6*0.95 -> 7407036 | I6: =+H6*0.0796 -> 589600.07 | J6: =+I6*0.19 -> 112024.01 | K6: =(E6-I6)*D6 -> 5962399.9 | M6: BICICLETA ESTATICA MAGNETICA | N6: 1 | O6: 5962399.9 | P6: =+N6*O6 -> 5962399.9
C7: BICICLETA RECUMBENT MAGNETICA | D7: 1 | E7: 5992000 | F7: =E7+E7*0.19 -> 7130480 | G7: =+F7*0.05 -> 356524 | H7: =+F7*0.95 -> 6773956 | I7: =+H7*0.0796 -> 539206.9 | J7: =+I7*0.19 -> 102449.31 | K7: =(E7-I7)*D7 -> 5452793.1 | L7: =+E7-I7 -> 5452793.1 | M7: BICICLETA RECUMBENT MAGNETICA | N7: 1 | O7: 5452793.1 | P7: =+N7*O7 -> 5452793.1
C8: ESCALADOR | D8: 1 | E8: 7205068 | F8: =E8+E8*0.19 -> 8574030.9 | G8: =+F8*0.05 -> 428701.55 | H8: =+F8*0.95 -> 8145329.4 | I8: =+H8*0.0796 -> 648368.22 | J8: =+I8*0.19 -> 123189.96 | K8: =(E8-I8)*D8 -> 6556699.8 | M8: ESCALADOR | N8: 1 | O8: 6556699.8 | P8: =+N8*O8 -> 6556699.8
C9: REMO | D9: 1 | E9: 5969914 | F9: =E9+E9*0.19 -> 7104197.7 | G9: =+F9*0.05 -> 355209.88 | H9: =+F9*0.95 -> 6748987.8 | I9: =+H9*0.0796 -> 537219.43 | J9: =+I9*0.19 -> 102071.69 | K9: =(E9-I9)*D9 -> 5432694.6 | M9: REMO | N9: 1 | O9: 5432694.6 | P9: =+N9*O9 -> 5432694.6
C10: SKY | D10: 1 | E10: 5579560 | F10: =E10+E10*0.19 -> 6639676.4 | G10: =+F10*0.05 -> 331983.82 | H10: =+F10*0.95 -> 6307692.6 | I10: =+H10*0.0796 -> 502092.33 | J10: =+I10*0.19 -> 95397.543 | K10: =(E10-I10)*D10 -> 5077467.7 | M10: SKY | N10: 1 | O10: 5077467.7 | P10: =+N10*O10 -> 5077467.7
C11: JINETE | D11: 1 | E11: 4712960 | F11: =E11+E11*0.19 -> 5608422.4 | G11: =+F11*0.05 -> 280421.12 | H11: =+F11*0.95 -> 5328001.3 | I11: =+H11*0.0796 -> 424108.9 | J11: =+I11*0.19 -> 80580.691 | K11: =(E11-I11)*D11 -> 4288851.1 | M11: JINETE | N11: 1 | O11: 4288851.1 | P11: =+N11*O11 -> 4288851.1
C12: ELIPTICA MAGNETICA | D12: 1 | E12: 7960782 | F12: =E12+E12*0.19 -> 9473330.6 | G12: =+F12*0.05 -> 473666.53 | H12: =+F12*0.95 -> 8999664.1 | I12: =+H12*0.0796 -> 716373.26 | J12: =+I12*0.19 -> 136110.92 | K12: =(E12-I12)*D12 -> 7244408.7 | M12: ELIPTICA MAGNETICA | N12: 1 | O12: 7244408.7 | P12: =+N12*O12 -> 7244408.7
C13: ZONA MUSCULACION CON Y SIN PESAS | G13: - | M13: ZONA MUSCULACION CON Y SIN PESAS | P13: =+N13*O13 -> 0
C14: CALISTENIA PRO | D14: 0 | E14: 27529600 | F14: =+E14+E14*0.19 -> 32760224 | G14: =+F14*0.05 -> 1638011.2 | H14: =+F14*0.95 -> 31122213 | I14: =+H14*0.0796 -> 2477328.1 | J14: =+I14*0.19 -> 470692.35 | K14: =(E14-I14)*D14 -> 0 | M14: CALISTENIA PRO | N14: 0 | O14: 0 | P14: =+N14*O14 -> 0
C15: TORRE POLEA BAJA 150 LB - INDIVIDUAL | D15: 1 | E15: 11144000 | F15: =+E15+E15*0.19 -> 13261360 | G15: =+F15*0.05 -> 663068 | H15: =+F15*0.95 -> 12598292 | I15: =+H15*0.0796 -> 1002824 | J15: =+I15*0.19 -> 190536.57 | K15: =(E15-I15)*D15 -> 10141176 | M15: TORRE POLEA BAJA 150 LB - INDIVIDUAL | N15: 1 | O15: 10141176 | P15: =+N15*O15 -> 10141176
C16: TORRE SENTADILLA 150 LB - INDIVIDUAL | D16: 1 | E16: 10024000 | F16: =+E16+E16*0.19 -> 11928560 | G16: =+F16*0.05 -> 596428 | H16: =+F16*0.95 -> 11332132 | I16: =+H16*0.0796 -> 902037.71 | J16: =+I16*0.19 -> 171387.16 | K16: =(E16-I16)*D16 -> 9121962.3 | M16: TORRE SENTADILLA 150 LB - INDIVIDUAL | N16: 1 | O16: 9121962.3 | P16: =+N16*O16 -> 9121962.3
C17: TORRE PECHO INCLINADO 150 LB - INDIVIDUAL | D17: 0 | E17: 11144000 | F17: =+E17+E17*0.19 -> 13261360 | G17: =+F17*0.05 -> 663068 | H17: =+F17*0.95 -> 12598292 | I17: =+H17*0.0796 -> 1002824 | J17: =+I17*0.19 -> 190536.57 | K17: =(E17-I17)*D17 -> 0 | M17: TORRE PECHO INCLINADO 150 LB - INDIVIDUAL | N17: 0 | O17: 0 | P17: =+N17*O17 -> 0
C18: CALENTADOR DE PIERNAS SISSY | D18: 1 | E18: 2004800 | F18: =+E18+E18*0.19 -> 2385712 | G18: =+F18*0.05 -> 119285.6 | H18: =+F18*0.95 -> 2266426.4 | I18: =+H18*0.0796 -> 180407.54 | J18: =+I18*0.19 -> 34277.433 | K18: =(E18-I18)*D18 -> 1824392.5 | M18: CALENTADOR DE PIERNAS SISSY | N18: 1 | O18: 1824392.5 | P18: =+N18*O18 -> 1824392.5
C19: FLEXION PECHO TRICEPS SENCILLO | D19: 1 | E19: 2004800 | F19: =+E19+E19*0.19 -> 2385712 | G19: =+F19*0.05 -> 119285.6 | H19: =+F19*0.95 -> 2266426.4 | I19: =+H19*0.0796 -> 180407.54 | J19: =+I19*0.19 -> 34277.433 | K19: =(E19-I19)*D19 -> 1824392.5 | M19: FLEXION PECHO TRICEPS SENCILLO | N19: 1 | O19: 1824392.5 | P19: =+N19*O19 -> 1824392.5
C20: ZONA MOVILIDAD REDUCIDA Y DE ADULTOS | G20: - | M20: ZONA MOVILIDAD REDUCIDA Y DE ADULTOS | P20: =+N20*O20 -> 0
C21: AEROSKY BASICO | D21: 1 | E21: 3949120 | F21: =+E21+E21*0.19 -> 4699452.8 | G21: =+F21*0.05 -> 234972.64 | H21: =+F21*0.95 -> 4464480.2 | I21: =+H21*0.0796 -> 355372.62 | J21: =+I21*0.19 -> 67520.798 | K21: =(E21-I21)*D21 -> 3593747.4 | M21: AEROSKY BASICO | N21: 1 | O21: 3593747.4 | P21: =+N21*O21 -> 3593747.4
C22: PENDULO BASICO ( SURF ) | D22: 1 | E22: 3556000 | F22: =+E22+E22*0.19 -> 4231640 | G22: =+F22*0.05 -> 211582 | H22: =+F22*0.95 -> 4020058 | I22: =+H22*0.0796 -> 319996.62 | J22: =+I22*0.19 -> 60799.357 | K22: =(E22-I22)*D22 -> 3236003.4 | M22: PENDULO BASICO ( SURF ) | N22: 1 | O22: 3236003.4 | P22: =+N22*O22 -> 3236003.4
C23: JALON ESPALDA DOBLE | D23: 1 | E23: 6384000 | F23: =+E23+E23*0.19 -> 7596960 | G23: =+F23*0.05 -> 379848 | H23: =+F23*0.95 -> 7217112 | I23: =+H23*0.0796 -> 574482.12 | J23: =+I23*0.19 -> 109151.6 | K23: =(E23-I23)*D23 -> 5809517.9 | M23: JALON ESPALDA DOBLE | N23: 1 | O23: 5809517.9 | P23: =+N23*O23 -> 5809517.9
C24: PRESION PECHO DOBLE | D24: 1 | E24: 6384000 | F24: =+E24+E24*0.19 -> 7596960 | G24: =+F24*0.05 -> 379848 | H24: =+F24*0.95 -> 7217112 | I24: =+H24*0.0796 -> 574482.12 | J24: =+I24*0.19 -> 109151.6 | K24: =(E24-I24)*D24 -> 5809517.9 | M24: PRESION PECHO DOBLE | N24: 1 | O24: 5809517.9 | P24: =+N24*O24 -> 5809517.9
C25: PRENSA DE PIERNAS DOBLE | D25: 1 | E25: 6384000 | F25: =+E25+E25*0.19 -> 7596960 | G25: =+F25*0.05 -> 379848 | H25: =+F25*0.95 -> 7217112 | I25: =+H25*0.0796 -> 574482.12 | J25: =+I25*0.19 -> 109151.6 | K25: =(E25-I25)*D25 -> 5809517.9 | M25: PRENSA DE PIERNAS DOBLE | N25: 1 | O25: 5809517.9 | P25: =+N25*O25 -> 5809517.9
C26: TRIPLE ADULTOS: PECHO, ESPALDA Y PIERNAS | D26: 1 | E26: 12807200 | F26: =+E26+E26*0.19 -> 15240568 | G26: =+F26*0.05 -> 762028.4 | H26: =+F26*0.95 -> 14478540 | I26: =+H26*0.0796 -> 1152491.8 | J26: =+I26*0.19 -> 218973.43 | K26: =(E26-I26)*D26 -> 11654708 | M26: TRIPLE ADULTOS: PECHO, ESPALDA Y PIERNAS | N26: 1 | O26: 11654708 | P26: =+N26*O26 -> 11654708
C27: MOVILIDAD REDUCIDA RUEDA DE HOMBROS CARDI | D27: 1 | E27: 5824000 | F27: =+E27+E27*0.19 -> 6930560 | G27: =+F27*0.05 -> 346528 | H27: =+F27*0.95 -> 6584032 | I27: =+H27*0.0796 -> 524088.95 | J27: =+I27*0.19 -> 99576.9 | K27: =(E27-I27)*D27 -> 5299911.1 | M27: MOVILIDAD REDUCIDA RUEDA DE HOMBROS CARDI | N27: 1 | O27: 5299911.1 | P27: =+N27*O27 -> 5299911.1
C28: MOV. REDUCIDA - PRESION DE PECHO INDIVIDUAL | D28: 1 | E28: 5544000 | F28: =+E28+E28*0.19 -> 6597360 | G28: =+F28*0.05 -> 329868 | H28: =+F28*0.95 -> 6267492 | I28: =+H28*0.0796 -> 498892.36 | J28: =+I28*0.19 -> 94789.549 | K28: =(E28-I28)*D28 -> 5045107.6 | M28: MOV. REDUCIDA - PRESION DE PECHO INDIVIDUAL | N28: 1 | O28: 5045107.6 | P28: =+N28*O28 -> 5045107.6
C29: MOV. REDUCIDA - JALON DE ESPALDA INDIVIDUAL | D29: 1 | E29: 5544000 | F29: =+E29+E29*0.19 -> 6597360 | G29: =+F29*0.05 -> 329868 | H29: =+F29*0.95 -> 6267492 | I29: =+H29*0.0796 -> 498892.36 | J29: =+I29*0.19 -> 94789.549 | K29: =(E29-I29)*D29 -> 5045107.6 | M29: MOV. REDUCIDA - JALON DE ESPALDA INDIVIDUAL | N29: 1 | O29: 5045107.6 | P29: =+N29*O29 -> 5045107.6
E30: TOTAL | F30: =SUM(F21:F29,F14:F19,F6:F12) -> 1.9539777e+08 | K30: =SUM(K21:K29,K14:K19,K6:K12) -> 1.1423038e+08 | O30: TOTAL | P30: =SUM(P21:P29,P14:P19,P6:P12) -> 1.1423038e+08

Sheet M-C
B2: MORTEROS Y CONCRETOS
B4: Material | C4: Unidad | D4: Valor unitario
B5: Cemento | C5: kg | D5: =VLOOKUP(B5,INSUMOS!$B$2:$D$299,3,0)/50 -> 800
B6: Arena de concreto | C6: m³ | D6: =VLOOKUP(B6,INSUMOS!$B$2:$D$299,3,0) -> 133000
B7: Arena fina | C7: m³ | D7: =VLOOKUP(B7,INSUMOS!$B$2:$D$495,3,0) -> 85000
B8: Triturado 3/4" | C8: m³ | D8: =VLOOKUP(B8,INSUMOS!$B$2:$D$495,3,0) -> 116875
B9: Concretadora | C9: día | D9: =VLOOKUP(B9,INSUMOS!$B$2:$D$495,3,0) -> 120000
B11: Agua | C11: l | D11: =VLOOKUP(B11,INSUMOS!$B$2:$D$495,3,0) -> 68.75
B13: mortero 1:2
