Workbook

Sheet Estudio_Mercado_rev
A3: ALCALDÍA LOCAL DE SUBA - ESTUDIO DE MERCADO 2026 | N3: Estudio de Mercado
C4: FECHA DE ENTREGA DEL ESTUDIO DE MERCADO | D4: 46203 | E4: MODALIDAD CONTRATACIÓN | H4: Selección Abreviada Subasta Inversa | Z4: TOTAL ITEMS | AB4: =IF(B11="","",AA72) -> #VALUE!
C5: ESTRUCTURADOR | H5: REVISÓ | K5: APROBÓ | Z5: TOTAL RECURSO HUMANO | AB5: 0 | AD5: PRESUPUESTO OFICIAL
C6: OBJETO DEL PROCESO DE CONTRATACIÓN | D6: ADQUIRIR MOBILIARIO, EQUIPO TECNOLÓGICO Y MATERIAL PEDAGÓGICO PARA EL FORTALECIMIENTO DE LA CAPACIDAD INSTALADA Y LA DOTACIÓN INTEGRAL DE LA MANZANA DEL CUIDADO LA GAITANA, EN LA LOCALIDAD DE SUBA. | Z6: TOTAL ESTUDIO DE MERCADO | AB6: =IF(B11="","",(AB4+AB5)) -> #VALUE! | DA6: 1 | DB6: 2 | DC6: 10 | DD6: 14 | DE6: 23 | DF6: 29 | DG6: 36 | DH6: 40 | DJ6: 48
H7: OJO, PARA TODAS LAS COTIZACIONES QUE CRUZAN INFORMACIÓN DE LA BOLSA SE DEBEN VERIFICAR LOS IMPUESTOS Y EL VALOR UNITARIO CON IVA!!!!!!! QUE CORRESPONDA A LA BOLSA COMPARTIDA | DA7: Elemento | DB7: Descripción del elemento y / o actividad | DC7: Empresa Cotizante cotización 1 | DD7: Valor Unitario sin IVA | DE7: Empresa Cotizante cotización 2 | DF7: Valor unitario con IVA | DG7: Empresa Cotizante cotización 3 | DH7: Valor unitario sin IVA | DJ7: Coeficiente de variación
H9: Cotización 1 | N9: Cotización 2 | T9: Cotización 3 | Z9: Promedio Simple | DA9: CRUCE DE DATOS | DJ9: VALIDACIÓN
A10: Item | B10: Componente del anexo técnico | C10: Elemento | D10: Descripción del elemento y / o actividad | E10: Unidad de medida | F10: Cantidad establecida según anexo técnico | G10: Compra Alquiler Prestación Servicio | H10: Empresa Cotizante cotización 1 | I10: Valor unitario sin IVA | J10: Valor IVA / proyección IPC | K10: Valor unitario con IVA | L10: Valor total Sin IVA | M10: Valor total con IVA | N10: Empresa Cotizante cotización 2 | O10: Valor unitario sin IVA | P10: Valor IVA/ IPOCONSUMO | Q10: Valor unitario con IVA | R10: Valor total Sin IVA | S10: Valor total con IVA | T10: Empresa Cotizante cotización 3 | U10: Valor unitario sin IVA | V10: Valor IVA | W10: Valor unitario con IVA | X10: Valor total Sin IVA | Y10: Valor total con IVA | Z10: Promedio valor unitario con IVA | AA10: Promedio valor total con IVA | AB10: Desviación estandar | AC10: Coeficiente de variación | AD10: Observaciones | DA10: NOMBRE | DB10: DESCRIPCIÓN | DC10: PROVEEDOR 1 | DD10: VALOR SIN IVA 1 | DE10: PROVEEDOR 2 | DF10: VALOR SIN IVA 2 | DG10: PROVEEDOR 3 | DH10: VALOR SIN IVA 3 | DI10: COEFICIENTE VARIACIÓN | DJ10: NOMBRE | DK10: DESCRIPCIÓN | DL10: PROVEEDOR 1 | DM10: VALOR SIN IVA 1 | DN10: PROVEEDOR 2 | DO10: VALOR SIN IVA 2 | DP10: PROVEEDOR 3 | DQ10: VALOR SIN IVA 3 | DR10: COEFICIENTE VARIACIÓN
A11: =IF(B11<>"",BG11,"") -> 1 | B11: por completar información | C11: Mesa plegable modular | D11: Mesa modular, con dimensiones aproximadas de 1,20 m de longitud x 0,60 m de ancho x 0,75 m de altura, base metálica fabricada en triplex flormorado de mínimo 2 cm de espesor, con cantos protegidos en fórmica de alta resistencia en color Haya o tonalidades claras. Incluye sistema de movilidad mediante ruedas 360° con freno. | E11: Unidad | F11: 20 | G11: Compra | H11: =IF(C11="","",VLOOKUP(C11,listaBolsa!$D$2:$W$1276,10,0)) -> NIME SAS | I11: =IF(C11="","",VLOOKUP(C11,listaBolsa!$D$2:$W$1276,14,0)) -> 863000 | J11: =I11*19% -> 163970 | K11: =I11+J11 -> 1026970 | L11: =IF(B11="","",(I11*F11)) -> 17260000 | M11: =IF(B11="","",(K11*F11)) -> 20539400 | N11: =IF(C11="","",VLOOKUP(C11,listaBolsa!$D$2:$AZ$1276,23,0)) -> MUBLEX COLOMBIA | O11: =IF(C11="","",VLOOKUP(C11,listaBolsa!$D$2:$AZ$1276,27,0)) -> 733800 | P11: =O11*19% -> 139422 | Q11: =O11+P11 -> 873222 | R11: =IF(B11="","",(O11*F11)) -> 14676000 | S11: =IF(B11="","",(Q11*F11)) -> 17464440 | T11: =IF(C11="","",VLOOKUP(C11,listaBolsa!$D$2:$BB$1276,36,0)) -> INDUSTRIA S CRUZ | U11: =IF(C11="","",VLOOKUP(C11,listaBolsa!$D$2:$BB$1276,40,0)) -> 756302.52 | V11: =U11*19% -> 143697.48 | W11: =U11+V11 -> 900000 | X11: =IF(B11="","",(U11*F11)) -> 15126050 | Y11: =IF(B11="","",(W11*F11)) -> 18000000 | Z11: =IF(A11="","",AVERAGE(K11,Q11,W11)) -> 933397.33 | AA11: =IF(B11="","",Z11*F11) -> 18667947 | AB11: =IF(B11="","",STDEV(M11,S11,Y11)) -> 1642698.8 | AC11: =IF(B11="","",(AB11/AA11)) -> 0.087995687 | AD11: OK REVISIÓN FINAL DESVIACIÓN | AF11: =IF(C11="","",VLOOKUP(C11,listaBolsa!$D$2:$BB$276,51,0)) -> #N/A | AG11: =IF(C11="","",VLOOKUP(C11,listaBolsa!$D$2:$H$276,5,0)) -> #N/A | AH11: =AG11=G11 -> #N/A | BG11: 1 | DA11: =VLOOKUP(C11,listaBolsa!$D$2:$BA$330,1,0) -> Mesa plegable modular | DB11: =VLOOKUP(C11,listaBolsa!$D$2:$BA$330,2,0) -> Mesa modular, con dimensiones aproximadas de 1,20 m de | DC11: =VLOOKUP(C11,listaBolsa!$D$2:$BA$330,10,0) -> NIME SAS | DD11: =VLOOKUP(C11,listaBolsa!$D$2:$BA$330,14,0) -> 863000 | DE11: =VLOOKUP(C11,listaBolsa!$D$2:$BA$330,23,0) -> MUBLEX COLOMBIA | DF11: =VLOOKUP(C11,listaBolsa!$D$2:$BA$330,27,0) -> 733800 | DG11: =VLOOKUP(C11,listaBolsa!$D$2:$BA$330,36,0) -> INDUSTRIA S CRUZ | DH11: =VLOOKUP(C11,listaBolsa!$D$2:$BA$330,40,0) -> 756302.52 | DI11: =VLOOKUP(C11,listaBolsa!$D$2:$BA$330,48,0) -> 0.088 | DJ11: =DA11=C11 -> TRUE | DK11: =DB11=D11 -> FALSE | DL11: =DC11=H11 -> TRUE | DM11: =DD11=I11 -> TRUE | DN11: =DE11=N11 -> TRUE | DO11: =DF11=O11 -> TRUE | DP11: =DG11=T11 -> TRUE | DQ11: =DH11=U11 -> TRUE | DR11: =DI11=AC11 -> FALSE
A12: =IF(B12<>"",BG12,"") -> 2 | B12: por completar información | C12: Mueble de almacenamiento de papelería y material didáctico. Alto: 123 centímetros. Ancho: 120 centímetros. Fondo: 40 centímetros con chapa de seguridad | D12: Mueble de almacenamiento de papelería y material didáctico. Alto: 123 centímetros. Ancho: 120 centímetros. Fondo: 40 centímetros con chapa de seguridad, Material metálico. Cantidad entre paños: | E12: Unidad | F12: 4 | G12: Compra | H12: =IF(C12="","",VLOOKUP(C12,listaBolsa!$D$2:$W$1276,10,0)) -> METALICAS GUERFOR | I12: =IF(C12="","",VLOOKUP(C12,listaBolsa!$D$2:$W$1276,14,0)) -> 850000 | J12: =I12*19% -> 161500 | K12: =I12+J12 -> 1011500 | L12: =IF(B12="","",(I12*F12)) -> 3400000 | M12: =IF(B12="","",(K12*F12)) -> 4046000 | N12: =IF(C12="","",VLOOKUP(C12,listaBolsa!$D$2:$AZ$1276,23,0)) -> METALICOS COLOMBIA | O12: =IF(C12="","",VLOOKUP(C12,listaBolsa!$D$2:$AZ$1276,27,0)) -> 1220000 | P12: =O12*19% -> 231800 | Q12: =O12+P12 -> 1451800 | R12: =IF(B12="","",(O12*F12)) -> 4880000 | S12: =IF(B12="","",(Q12*F12)) -> 5807200 | T12: =IF(C12="","",VLOOKUP(C12,listaBolsa!$D$2:$BB$1276,36,0)) -> METALICOS CRUZ | U12: =IF(C12="","",VLOOKUP(C12,listaBolsa!$D$2:$BB$1276,40,0)) -> 1460503.4 | V12: =U12*19% -> 277495.64 | W12: =U12+V12 -> 1737999 | X12: =IF(B12="","",(U12*F12)) -> 5842013.4 | Y12: =IF(B12="","",(W12*F12)) -> 6951996 | Z12: =IF(A12="","",AVERAGE(K12,Q12,W12)) -> 1400433 | AA12: =IF(B12="","",Z12*F12) -> 5601732 | AB12: =IF(B12="","",STDEV(M12,S12,Y12)) -> 1463853.1 | AC12: =IF(B12="","",(AB12/AA12)) -> 0.26132152 | AD12: OK REVISIÓN FINAL DESVIACIÓN | AF12: =IF(C12="","",VLOOKUP(C12,listaBolsa!$D$2:$BB$276,51,0)) -> #N/A | AG12: =IF(C12="","",VLOOKUP(C12,listaBolsa!$D$2:$H$276,5,0)) -> #N/A | AH12: =AG12=G12 -> #N/A | BG12: 2 | DA12: =VLOOKUP(C12,listaBolsa!$D$2:$BA$330,1,0) -> Mueble de almacenamiento de papelería y material didáctico. Alto: 123 centímetros. Ancho: 120 centímetros. Fondo: 40 centímetros con chapa de seguridad | DB12: =VLOOKUP(C12,listaBolsa!$D$2:$BA$330,2,0) -> Mueble de almacenamiento de papelería y material didáctico. Alto: 123 centímetros. Ancho: 120 centímetros. Fondo: 40 centímetros con chapa de seguridad, Material metálico. Cantidad entre paños: | DC12: =VLOOKUP(C12,listaBolsa!$D$2:$BA$330,10,0) -> METALICAS GUERFOR | DD12: =VLOOKUP(C12,listaBolsa!$D$2:$BA$330,14,0) -> 850000 | DE12: =VLOOKUP(C12,listaBolsa!$D$2:$BA$330,23,0) -> METALICOS COLOMBIA | DF12: =VLOOKUP(C12,listaBolsa!$D$2:$BA$330,27,0) -> 1220000 | DG12: =VLOOKUP(C12,listaBolsa!$D$2:$BA$330,36,0) -> METALICOS CRUZ | DH12: =VLOOKUP(C12,listaBolsa!$D$2:$BA$330,40,0) -> 1460503.4 | DI12: =VLOOKUP(C12,listaBolsa!$D$2:$BA$330,48,0) -> 0.2613 | DJ12: =DA12=C12 -> TRUE | DK12: =DB12=D12 -> TRUE | DL12: =DC12=H12 -> TRUE | DM12: =DD12=I12 -> TRUE | DN12: =DE12=N12 -> TRUE | DO12: =DF12=O12 -> TRUE | DP12: =DG12=T12 -> TRUE | DQ12: =DH12=U12 -> TRUE | DR12: =DI12=AC12 -> FALSE
A13: =IF(B13<>"",BG13,"") -> 3 | B13: por completar información | C13: Video Beam Proyector | D13: Voltaje: 110V Conexiones de entrada: HDMI. Consumo energético de 345W. Proyector Powerlite E24 3600 lúmenes XGA Tecnología | E13: Unidad | F13: 2 | G13: Compra | H13: PANAMERICANA | I13: 2688235.3 | J13: =I13*19% -> 510764.71 | K13: =I13+J13 -> 3199000 | L13: =IF(B13="","",(I13*F13)) -> 5376470.6 | M13: =IF(B13="","",(K13*F13)) -> 6398000 | N13: DISTRIMARK | O13: 2760984 | P13: =O13*19% -> 524586.97 | Q13: =O13+P13 -> 3285571 | R13: =IF(B13="","",(O13*F13)) -> 5521968.1 | S13: =IF(B13="","",(Q13*F13)) -> 6571142 | T13: ALKOSTO | U13: 2688235.3 | V13: =U13*19% -> 510764.71 | W13: =U13+V13 -> 3199000 | X13: =IF(B13="","",(U13*F13)) -> 5376470.6 | Y13: =IF(B13="","",(W13*F13)) -> 6398000 | Z13: =IF(A13="","",AVERAGE(K13,Q13,W13)) -> 3227857 | AA13: =IF(B13="","",Z13*F13) -> 6455714 | AB13: =IF(B13="","",STDEV(M13,S13,Y13)) -> 99963.581 | AC13: =IF(B13="","",(AB13/AA13)) -> 0.015484512 | AD13: OK REVISIÓN FINAL DESVIACIÓN | AF13: =IF(C13="","",VLOOKUP(C13,listaBolsa!$D$2:$BB$276,51,0)) -> #N/A | AG13: =IF(C13="","",VLOOKUP(C13,listaBolsa!$D$2:$H$276,5,0)) -> #N/A | AH13: =AG13=G13 -> #N/A | BG13: 3 | DA13: =VLOOKUP(C13,listaBolsa!$D$2:$BA$330,1,0) -> Video Beam Proyector | DB13: =VLOOKUP(C13,listaBolsa!$D$2:$BA$330,2,0) -> Voltaje: 110V Conexiones de entrada: HDMI. Consumo energético de 345W. Proyector Powerlite E24 3600 lúmenes XGA Tecnología | DC13: =VLOOKUP(C13,listaBolsa!$D$2:$BA$330,10,0) -> DATAROKA | DD13: =VLOOKUP(C13,listaBolsa!$D$2:$BA$330,14,0) -> 3972689.9 | DE13: =VLOOKUP(C13,listaBolsa!$D$2:$BA$330,23,0) -> TECNOPLAZA | DF13: =VLOOKUP(C13,listaBolsa!$D$2:$BA$330,27,0) -> 3924626.9 | DG13: =VLOOKUP(C13,listaBolsa!$D$2:$BA$330,36,0) -> PANAMERICANA | DH13: =VLOOKUP(C13,listaBolsa!$D$2:$BA$330,40,0) -> 3663025.2 | DI13: =VLOOKUP(C13,listaBolsa!$D$2:$BA$330,48,0) -> 0.0432 | DJ13: =DA13=C13 -> TRUE | DK13: =DB13=D13 -> TRUE | DL13: =DC13=H13 -> FALSE | DM13: =DD13=I13 -> FALSE | DN13: =DE13=N13 -> FALSE | DO13: =DF13=O13 -> FALSE | DP13: =DG13=T13 -> FALSE | DQ13: =DH13=U13 -> FALSE | DR13: =DI13=AC13 -> FALSE
A14: =IF(B14<>"",BG14,"") -> 4 | B14: por completar información | C14: Maletin - Forro para Guardar Video Beam | D14: Maletin - Forro para Guardar Video Beam | E14: Unidad | F14: 2 | G14: Compra | H14: PROYECTORES Y PANTALLAS | I14: 87394.96 | J14: =I14*19% -> 16605.042 | K14: =I14+J14 -> 104000 | L14: =IF(B14="","",(I14*F14)) -> 174789.92 | M14: =IF(B14="","",(K14*F14)) -> 208000 | N14: PCEVERES | O14: 80000 | P14: =O14*19% -> 15200 | Q14: =O14+P14 -> 95200 | R14: =IF(B14="","",(O14*F14)) -> 160000 | S14: =IF(B14="","",(Q14*F14)) -> 190400 | T14: JFM TECHNOLOGY | U14: 70793.28 | V14: =U14*19% -> 13450.723 | W14: =U14+V14 -> 84244.003 | X14: =IF(B14="","",(U14*F14)) -> 141586.56 | Y14: =IF(B14="","",(W14*F14)) -> 168488.01 | Z14: =IF(A14="","",AVERAGE(K14,Q14,W14)) -> 94481.335 | AA14: =IF(B14="","",Z14*F14) -> 188962.67 | AB14: =IF(B14="","",STDEV(M14,S14,Y14)) -> 19795.175 | AC14: =IF(B14="","",(AB14/AA14)) -> 0.10475706 | AD14: OK REVISIÓN FINAL DESVIACIÓN | AE14: BOLSA- NO VERIFICADAS COTIZACIONES | AF14: =IF(C14="","",VLOOKUP(C14,listaBolsa!$D$2:$BB$276,51,0)) -> #N/A | AG14: =IF(C14="","",VLOOKUP(C14,listaBolsa!$D$2:$H$276,5,0)) -> #N/A | AH14: =AG14=G14 -> #N/A | BG14: 4 | DA14: =VLOOKUP(C14,listaBolsa!$D$2:$BA$330,1,0) -> Maletin - Forro para Guardar Video Beam | DB14: =VLOOKUP(C14,listaBolsa!$D$2:$BA$330,2,0) -> Maletin - Forro para Guardar Video Beam | DC14: =VLOOKUP(C14,listaBolsa!$D$2:$BA$330,10,0) -> PROYECTORES Y PANTALLAS | DD14: =VLOOKUP(C14,listaBolsa!$D$2:$BA$330,14,0) -> 87394.96 | DE14: =VLOOKUP(C14,listaBolsa!$D$2:$BA$330,23,0) -> PCEVERES | DF14: =VLOOKUP(C14,listaBolsa!$D$2:$BA$330,27,0) -> 80000 | DG14: =VLOOKUP(C14,listaBolsa!$D$2:$BA$330,36,0) -> JFM TECHNOLOGY | DH14: =VLOOKUP(C14,listaBolsa!$D$2:$BA$330,40,0) -> 70793.28 | DI14: =VLOOKUP(C14,listaBolsa!$D$2:$BA$330,48,0) -> 0.1048 | DJ14: =DA14=C14 -> TRUE | DK14: =DB14=D14 -> TRUE | DL14: =DC14=H14 -> TRUE | DM14: =DD14=I14 -> TRUE | DN14: =DE14=N14 -> TRUE | DO14: =DF14=O14 -> TRUE | DP14: =DG14=T14 -> TRUE | DQ14: =DH14=U14 -> TRUE | DR14: =DI14=AC14 -> FALSE
A15: =IF(B15<>"",BG15,"") -> 5 | B15: por completar información | C15: Pantalla de proyección portátil | D15: Tipo trípode de medida entre 200 x 200 cm, con tela blanca mate de alta reflexión y respaldo negro opaco para mejorar el contraste y la recepción de luz en espacios con diferentes condiciones de iluminación. Estructura retráctil y ajustable en altura, fácil de montar y desmontar sin herramientas. Incluye base metálica plegable para mayor estabilidad y funda protectora para transporte. Compatible con proyectores multimedia de corto y largo alcance. | E15: Unidad | F15: 2 | G15: Compra | H15: =IF(C15="","",VLOOKUP(C15,listaBolsa!$D$2:$W$1276,10,0)) -> EXITO | I15: =IF(C15="","",VLOOKUP(C15,listaBolsa!$D$2:$W$1276,14,0)) -> 503361.34 | J15: =I15*19% -> 95638.655 | K15: =I15+J15 -> 598999.99 | L15: =IF(B15="","",(I15*F15)) -> 1006722.7 | M15: =IF(B15="","",(K15*F15)) -> 1198000 | N15: =IF(C15="","",VLOOKUP(C15,listaBolsa!$D$2:$AZ$1276,23,0)) -> HOMECENTER | O15: =IF(C15="","",VLOOKUP(C15,listaBolsa!$D$2:$AZ$1276,27,0)) -> 475546.22 | P15: =O15*19% -> 90353.782 | Q15: =O15+P15 -> 565900 | R15: =IF(B15="","",(O15*F15)) -> 951092.44 | S15: =IF(B15="","",(Q15*F15)) -> 1131800 | T15: =IF(C15="","",VLOOKUP(C15,listaBolsa!$D$2:$BB$1276,36,0)) -> FALABELLA | U15: =IF(C15="","",VLOOKUP(C15,listaBolsa!$D$2:$BB$1276,40,0)) -> 463991.6 | V15: =U15*19% -> 88158.404 | W15: =U15+V15 -> 552150 | X15: =IF(B15="","",(U15*F15)) -> 927983.2 | Y15: =IF(B15="","",(W15*F15)) -> 1104300 | Z15: =IF(A15="","",AVERAGE(K15,Q15,W15)) -> 572350 | AA15: =IF(B15="","",Z15*F15) -> 1144700 | AB15: =IF(B15="","",STDEV(M15,S15,Y15)) -> 48163.566 | AC15: =IF(B15="","",(AB15/AA15)) -> 0.042075274 | AD15: OK REVISIÓN FINAL DESVIACIÓN | AF15: =IF(C15="","",VLOOKUP(C15,listaBolsa!$D$2:$BB$276,51,0)) -> #N/A | AG15: =IF(C15="","",VLOOKUP(C15,listaBolsa!$D$2:$H$276,5,0)) -> #N/A | AH15: =AG15=G15 -> #N/A | BG15: 5 | DA15: =VLOOKUP(C15,listaBolsa!$D$2:$BA$330,1,0) -> Pantalla de proyección portátil | DB15: =VLOOKUP(C15,listaBolsa!$D$2:$BA$330,2,0) -> Tipo trípode de medida entre 200 x 200 cm, con tela blanca mate de alta reflexión y respaldo negro opaco para mejorar el contraste y la recepción de luz en espacios con diferentes condiciones de iluminación. Estructura retráctil y ajustable en altura, fácil de montar y desmontar sin herramientas. Incluye base metálica plegable para mayor estabilidad y funda protectora para transporte. Compatible con proyectores multimedia de corto y largo alcance. | DC15: =VLOOKUP(C15,listaBolsa!$D$2:$BA$330,10,0) -> EXITO | DD15: =VLOOKUP(C15,listaBolsa!$D$2:$BA$330,14,0) -> 503361.34 | DE15: =VLOOKUP(C15,listaBolsa!$D$2:$BA$330,23,0) -> HOMECENTER | DF15: =VLOOKUP(C15,listaBolsa!$D$2:$BA$330,27,0) -> 475546.22 | DG15: =VLOOKUP(C15,listaBolsa!$D$2:$BA$330,36,0) -> FALABELLA | DH15: =VLOOKUP(C15,listaBolsa!$D$2:$BA$330,40,0) -> 463991.6 | DI15: =VLOOKUP(C15,listaBolsa!$D$2:$BA$330,48,0) -> 0.0421 | DJ15: =DA15=C15 -> TRUE | DK15: =DB15=D15 -> TRUE | DL15: =DC15=H15 -> TRUE | DM15: =DD15=I15 -> TRUE | DN15: =DE15=N15 -> TRUE | DO15: =DF15=O15 -> TRUE | DP15: =DG15=T15 -> TRUE | DQ15: =DH15=U15 -> TRUE | DR15: =DI15=AC15 -> FALSE
A16: =IF(B16<>"",BG16,"") -> 6 | B16: por completar información | C16: Tablero acrílico | D16: =IF(C16="","",VLOOKUP(C16,listaBolsa!$D$2:$H$276,2,0)) -> Tablero acrílico con base trípode caballete metálico medida trípode 150cm de alto , medidas tablero 120x80cm | E16: Unidad | F16: 2 | G16: Compra | H16: =IF(C16="","",VLOOKUP(C16,listaBolsa!$D$2:$W$1276,10,0)) -> INVER Y DISTRIBUIDORES DIAMOND | I16: =IF(C16="","",VLOOKUP(C16,listaBolsa!$D$2:$W$1276,14,0)) -> 106000 | J16: =I16*19% -> 20140 | K16: =I16+J16 -> 126140 | L16: =IF(B16="","",(I16*F16)) -> 212000 | M16: =IF(B16="","",(K16*F16)) -> 252280 | N16: =IF(C16="","",VLOOKUP(C16,listaBolsa!$D$2:$AZ$1276,23,0)) -> Falabella | O16: =IF(C16="","",VLOOKUP(C16,listaBolsa!$D$2:$AZ$1276,27,0)) -> 110924.37 | P16: =O16*19% -> 21075.63 | Q16: =O16+P16 -> 132000 | R16: =IF(B16="","",(O16*F16)) -> 221848.74 | S16: =IF(B16="","",(Q16*F16)) -> 264000 | T16: =IF(C16="","",VLOOKUP(C16,listaBolsa!$D$2:$BB$1276,36,0)) -> Hommecenter | U16: =IF(C16="","",VLOOKUP(C16,listaBolsa!$D$2:$BB$1276,40,0)) -> 134369.75 | V16: =U16*19% -> 25530.252 | W16: =U16+V16 -> 159900 | X16: =IF(B16="","",(U16*F16)) -> 268739.5 | Y16: =IF(B16="","",(W16*F16)) -> 319800 | Z16: =IF(A16="","",AVERAGE(K16,Q16,W16)) -> 139346.67 | AA16: =IF(B16="","",Z16*F16) -> 278693.33 | AB16: =IF(B16="","",STDEV(M16,S16,Y16)) -> 36078.5 | AC16: =IF(B16="","",(AB16/AA16)) -> 0.12945591 | AD16: OK REVISIÓN FINAL DESVIACIÓN | AE16: INFORMACIÓN DE LA BOLSA BÁSICA -Validada la desviación | AF16: =IF(C16="","",VLOOKUP(C16,listaBolsa!$D$2:$BB$276,51,0)) -> 0 | AG16: =IF(C16="","",VLOOKUP(C16,listaBolsa!$D$2:$H$276,5,0)) -> Compra | AH16: =AG16=G16 -> TRUE | BG16: 6 | DA16: =VLOOKUP(C16,listaBolsa!$D$2:$BA$248,1,0) -> Tablero acrílico | DB16: =VLOOKUP(C16,listaBolsa!$D$2:$BA$248,2,0) -> Tablero acrílico con base trípode caballete metálico medida trípode 150cm de alto , medidas tablero 120x80cm | DC16: =VLOOKUP(C16,listaBolsa!$D$2:$BA$248,10,0) -> INVER Y DISTRIBUIDORES DIAMOND | DD16: =VLOOKUP(C16,listaBolsa!$D$2:$BA$248,14,0) -> 106000 | DE16: =VLOOKUP(C16,listaBolsa!$D$2:$BA$248,23,0) -> Falabella | DF16: =VLOOKUP(C16,listaBolsa!$D$2:$BA$248,27,0) -> 110924.37 | DG16: =VLOOKUP(C16,listaBolsa!$D$2:$BA$248,36,0) -> Hommecenter | DH16: =VLOOKUP(C16,listaBolsa!$D$2:$BA$248,40,0) -> 134369.75 | DI16: =VLOOKUP(C16,listaBolsa!$D$2:$BA$248,48,0) -> 0.12945591 | DJ16: =DA16=C16 -> TRUE | DK16: =DB16=D16 -> TRUE | DL16: =DC16=H16 -> TRUE | DM16: =DD16=I16 -> TRUE | DN16: =DE16=N16 -> TRUE | DO16: =DF16=O16 -> TRUE | DP16: =DG16=T16 -> TRUE | DQ16: =DH16=U16 -> TRUE | DR16: =DI16=AC16 -> TRUE
A17: =IF(B17<>"",BG17,"") -> 7 | B17: por completar información | C17: Cabina de sonido | D17: Cabina activa 15" soundPower Top Pack-125, Base (Tripode), Micrófono alambrico, Control inalambrico, Cable de poder corriente 110V. Potencia 7000w pmpo / 700w, Amplificador: AB, Entrada para micrófono, Usb por carpetas, SD, Bluetooth, radio FM, Equalizador 2 banda | E17: Unidad | F17: 2 | G17: Compra | H17: =IF(C17="","",VLOOKUP(C17,listaBolsa!$D$2:$W$1276,10,0)) -> GRAND MUSIC SAS | I17: =IF(C17="","",VLOOKUP(C17,listaBolsa!$D$2:$W$1276,14,0)) -> 620168.07 | J17: =I17*19% -> 117831.93 | K17: =I17+J17 -> 738000 | L17: =IF(B17="","",(I17*F17)) -> 1240336.1 | M17: =IF(B17="","",(K17*F17)) -> 1476000 | N17: =IF(C17="","",VLOOKUP(C17,listaBolsa!$D$2:$AZ$1276,23,0)) -> TECNOIMPORTACIONES | O17: =IF(C17="","",VLOOKUP(C17,listaBolsa!$D$2:$AZ$1276,27,0)) -> 738655.46 | P17: =O17*19% -> 140344.54 | Q17: =O17+P17 -> 879000 | R17: =IF(B17="","",(O17*F17)) -> 1477310.9 | S17: =IF(B17="","",(Q17*F17)) -> 1758000 | T17: =IF(C17="","",VLOOKUP(C17,listaBolsa!$D$2:$BB$1276,36,0)) -> QUIMBAYA TECH | U17: =IF(C17="","",VLOOKUP(C17,listaBolsa!$D$2:$BB$1276,40,0)) -> 487394.96 | V17: =U17*19% -> 92605.042 | W17: =U17+V17 -> 580000 | X17: =IF(B17="","",(U17*F17)) -> 974789.92 | Y17: =IF(B17="","",(W17*F17)) -> 1160000 | Z17: =IF(A17="","",AVERAGE(K17,Q17,W17)) -> 732333.33 | AA17: =IF(B17="","",Z17*F17) -> 1464666.7 | AB17: =IF(B17="","",STDEV(M17,S17,Y17)) -> 299161.04 | AC17: =IF(B17="","",(AB17/AA17)) -> 0.20425196 | AD17: OK REVISIÓN FINAL DESVIACIÓN | AE17: NO CUMPLE CON LO SOLICITADO | AF17: =IF(C17="","",VLOOKUP(C17,listaBolsa!$D$2:$BB$276,51,0)) -> #N/A | AG17: =IF(C17="","",VLOOKUP(C17,listaBolsa!$D$2:$H$276,5,0)) -> #N/A | AH17: =AG17=G17 -> #N/A | BG17: 7 | DA17: =VLOOKUP(C17,listaBolsa!$D$2:$BA$330,1,0) -> Cabina de sonido | DB17: =VLOOKUP(C17,listaBolsa!$D$2:$BA$330,2,0) -> Cabina activa 15" soundPower Top Pack-125, Base (Tripode), Micrófono alambrico, Control inalambrico, Cable de poder corriente 110V. Potencia 7000w pmpo / 700w, Amplificador: AB, Entrada para micrófono, Usb por carpetas, SD, Bluetooth, radio FM, Equalizador 2 banda | DC17: =VLOOKUP(C17,listaBolsa!$D$2:$BA$330,10,0) -> GRAND MUSIC SAS | DD17: =VLOOKUP(C17,listaBolsa!$D$2:$BA$330,14,0) -> 620168.07 | DE17: =VLOOKUP(C17,listaBolsa!$D$2:$BA$330,23,0) -> TECNOIMPORTACIONES | DF17: =VLOOKUP(C17,listaBolsa!$D$2:$BA$330,27,0) -> 738655.46 | DG17: =VLOOKUP(C17,listaBolsa!$D$2:$BA$330,36,0) -> QUIMBAYA TECH | DH17: =VLOOKUP(C17,listaBolsa!$D$2:$BA$330,40,0) -> 487394.96 | DI17: =VLOOKUP(C17,listaBolsa!$D$2:$BA$330,48,0) -> 0.2043 | DJ17: =DA17=C17 -> TRUE | DK17: =DB17=D17 -> TRUE | DL17: =DC17=H17 -> TRUE | DM17: =DD17=I17 -> TRUE | DN17: =DE17=N17 -> TRUE | DO17: =DF17=O17 -> TRUE | DP17: =DG17=T17 -> TRUE | DQ17: =DH17=U17 -> TRUE | DR17: =DI17=AC17 -> FALSE
A18: =IF(B18<>"",BG18,"") -> 9 | B18: por completar información | C18: Torre de iluminación- Lampara led- Portátil | D18: ECOLIGHTETP, 10 cm Alto12 cm Largo 10 cm Peso13 kg Estándar, Manos libre, Multifunción, Profesionales, Working light- Uso Iluminación exterior 8000 lm Duración batería 10 - 13 horas Tiempo de carga 6 horas | E18: Unidad | F18: 1 | G18: Compra | H18: =IF(C18="","",VLOOKUP(C18,listaBolsa!$D$2:$W$1276,10,0)) -> HOMECENTER | I18: =IF(C18="","",VLOOKUP(C18,listaBolsa!$D$2:$W$1276,14,0)) -> 4412521 | J18: =I18*19% -> 838378.99 | K18: =I18+J18 -> 5250900 | L18: =IF(B18="","",(I18*F18)) -> 4412521 | M18: =IF(B18="","",(K18*F18)) -> 5250900 | N18: =IF(C18="","",VLOOKUP(C18,listaBolsa!$D$2:$AZ$1276,23,0)) -> RIDE | O18: =IF(C18="","",VLOOKUP(C18,listaBolsa!$D$2:$AZ$1276,27,0)) -> 4623752 | P18: =O18*19% -> 878512.88 | Q18: =O18+P18 -> 5502264.9 | R18: =IF(B18="","",(O18*F18)) -> 4623752 | S18: =IF(B18="","",(Q18*F18)) -> 5502264.9 | T18: =IF(C18="","",VLOOKUP(C18,listaBolsa!$D$2:$BB$1276,36,0)) -> JPROYECTOS | U18: =IF(C18="","",VLOOKUP(C18,listaBolsa!$D$2:$BB$1276,40,0)) -> 4114900 | V18: =U18*19% -> 781831 | W18: =U18+V18 -> 4896731 | X18: =IF(B18="","",(U18*F18)) -> 4114900 | Y18: =IF(B18="","",(W18*F18)) -> 4896731 | Z18: =IF(A18="","",AVERAGE(K18,Q18,W18)) -> 5216632 | AA18: =IF(B18="","",Z18*F18) -> 5216632 | AB18: =IF(B18="","",STDEV(M18,S18,Y18)) -> 304217.92 | AC18: =IF(B18="","",(AB18/AA18)) -> 0.058316923 | AD18: OK REVISIÓN FINAL DESVIACIÓN | AF18: =IF(C18="","",VLOOKUP(C18,listaBolsa!$D$2:$BB$276,51,0)) -> #N/A | AG18: =IF(C18="","",VLOOKUP(C18,listaBolsa!$D$2:$H$276,5,0)) -> #N/A | AH18: =AG18=G18 -> #N/A | BG18: 9 | DA18: =VLOOKUP(C18,listaBolsa!$D$2:$BA$330,1,0) -> Torre de iluminación- Lampara led- Portátil | DB18: =VLOOKUP(C18,listaBolsa!$D$2:$BA$330,2,0) -> ECOLIGHTETP, 10 cm Alto12 cm Largo 10 cm Peso13 kg Estándar, Manos libre, Multifunción, Profesionales, Working light- Uso Iluminación exterior 8000 lm Duración batería 10 - 13 horas Tiempo de carga 6 horas | DC18: =VLOOKUP(C18,listaBolsa!$D$2:$BA$330,10,0) -> HOMECENTER | DD18: =VLOOKUP(C18,listaBolsa!$D$2:$BA$330,14,0) -> 4412521 | DE18: =VLOOKUP(C18,listaBolsa!$D$2:$BA$330,23,0) -> RIDE | DF18: =VLOOKUP(C18,listaBolsa!$D$2:$BA$330,27,0) -> 4623752 | DG18: =VLOOKUP(C18,listaBolsa!$D$2:$BA$330,36,0) -> JPROYECTOS | DH18: =VLOOKUP(C18,listaBolsa!$D$2:$BA$330,40,0) -> 4114900 | DI18: =VLOOKUP(C18,listaBolsa!$D$2:$BA$330,48,0) -> 0.0583 | DJ18: =DA18=C18 -> TRUE | DK18: =DB18=D18 -> TRUE | DL18: =DC18=H18 -> TRUE | DM18: =DD18=I18 -> TRUE | DN18: =DE18=N18 -> TRUE | DO18: =DF18=O18 -> TRUE | DP18: =DG18=T18 -> TRUE | DQ18: =DH18=U18 -> TRUE | DR18: =DI18=AC18 -> FALSE
A19: =IF(B19<>"",BG19,"") -> 10 | B19: por completar información | C19: Estantería | D19: Elaborada en lámina cold rolled cubierta en pintura electrostática horneable. Puertas en vidrio transparente, DOS (2) bandejas graduables y chapa de seguridad. Material: Lámina Cold Rolled de calibre 22. Acabados: Recubierto con pintura electrostática. Incluye dos (2) entrepaños graduables, tres espacios libres, dos (2) puertas en lámina o vidrio y chapa de seguridad. Alto: 140 centímetros. Ancho: 115 centímetros. Fondo: 38 centímetros. | E19: Unidad | F19: 1 | G19: Compra | H19: INDUSTRIASCRUZ | I19: 959677.31 | J19: =I19*19% -> 182338.69 | K19: =I19+J19 -> 1142016 | L19: =IF(B19="","",(I19*F19)) -> 959677.31 | M19: =IF(B19="","",(K19*F19)) -> 1142016 | N19: MUEBLEX COLOMBIA | O19: 689000 | P19: =O19*19% -> 130910 | Q19: =O19+P19 -> 819910 | R19: =IF(B19="","",(O19*F19)) -> 689000 | S19: =IF(B19="","",(Q19*F19)) -> 819910 | T19: MUBLESA | U19: 990756.3 | V19: =U19*19% -> 188243.7 | W19: =U19+V19 -> 1179000 | X19: =IF(B19="","",(U19*F19)) -> 990756.3 | Y19: =IF(B19="","",(W19*F19)) -> 1179000 | Z19: =IF(A19="","",AVERAGE(K19,Q19,W19)) -> 1046975.3 | AA19: =IF(B19="","",Z19*F19) -> 1046975.3 | AB19: =IF(B19="","",STDEV(M19,S19,Y19)) -> 197511.91 | AC19: =IF(B19="","",(AB19/AA19)) -> 0.18865001 | AD19: OK REVISIÓN FINAL DESVIACIÓN | AE19: TRANSCRITA DE LA BOLSA | AF19: =IF(C19="","",VLOOKUP(C19,listaBolsa!$D$2:$BB$276,51,0)) -> #N/A | AG19: =IF(C19="","",VLOOKUP(C19,listaBolsa!$D$2:$H$276,5,0)) -> #N/A | AH19: =AG19=G19 -> #N/A | BG19: 10 | DA19: =VLOOKUP(C19,listaBolsa!$D$2:$BA$330,1,0) -> Estantería | DB19: =VLOOKUP(C19,listaBolsa!$D$2:$BA$330,2,0) -> Elaborada en lámina cold rolled cubierta en pintura electrostática horneable. Puertas en vidrio transparente, DOS (2) bandejas graduables y chapa de seguridad. Material: Lámina Cold Rolled de calibre 22. Acabados: Recubierto con pintura electrostática. Incluye dos (2) entrepaños graduables, tres espacios libres, dos (2) puertas en lámina o vidrio y chapa de seguridad. Alto: 140 centímetros. Ancho: 115 centímetros. Fondo: 38 centímetros. | DC19: =VLOOKUP(C19,listaBolsa!$D$2:$BA$330,10,0) -> INDUSTRIASCRUZ | DD19: =VLOOKUP(C19,listaBolsa!$D$2:$BA$330,14,0) -> 959677.31 | DE19: =VLOOKUP(C19,listaBolsa!$D$2:$BA$330,23,0) -> MUEBLEX COLOMBIA | DF19: =VLOOKUP(C19,listaBolsa!$D$2:$BA$330,27,0) -> 689000 | DG19: =VLOOKUP(C19,listaBolsa!$D$2:$BA$330,36,0) -> MUBLESA | DH19: =VLOOKUP(C19,listaBolsa!$D$2:$BA$330,40,0) -> 990756.3 | DI19: =VLOOKUP(C19,listaBolsa!$D$2:$BA$330,48,0) -> 0.1887 | DJ19: =DA19=C19 -> TRUE | DK19: =DB19=D19 -> TRUE | DL19: =DC19=H19 -> TRUE | DM19: =DD19=I19 -> TRUE | DN19: =DE19=N19 -> TRUE | DO19: =DF19=O19 -> TRUE | DP19: =DG19=T19 -> TRUE | DQ19: =DH19=U19 -> TRUE | DR19: =DI19=AC19 -> FALSE
A20: =IF(B20<>"",BG20,"") -> 11 | B20: por completar información | C20: Computadores portátiles. | D20: (8gb Ram, 256 Disco duro, 14 pulgadas con resolución Full HD (1920x1080) y recubrimiento antirreflejo, conectividad WiFi 5 o superior y Bluetooth 5.0, mínimo dos puertos USB (idealmente uno tipo C) y salida HDMI. Deben tener batería con autonomía real de mínimo 6 horas, chasis resistente (de preferencia aluminio o policarbonato reforzado), sistema operativo Windows 11 o equivalente con licencias originales, y garantía mínima de un año. | E20: Unidad | F20: 20 | G20: Compra | H20: EXITO | I20: 1848619.3 | J20: =I20*19% -> 351237.67 | K20: =I20+J20 -> 2199857 | L20: =IF(B20="","",(I20*F20)) -> 36972387 | M20: =IF(B20="","",(K20*F20)) -> 43997140 | N20: OLIMPJCA | O20: 1806638.7 | P20: =O20*19% -> 343261.35 | Q20: =O20+P20 -> 2149900 | R20: =IF(B20="","",(O20*F20)) -> 36132773 | S20: =IF(B20="","",(Q20*F20)) -> 42998000 | T20: FALABELLA | U20: 1680672.3 | V20: =U20*19% -> 319327.73 | W20: =U20+V20 -> 2000000 | X20: =IF(B20="","",(U20*F20)) -> 33613445 | Y20: =IF(B20="","",(W20*F20)) -> 40000000 | Z20: =IF(A20="","",AVERAGE(K20,Q20,W20)) -> 2116585.7 | AA20: =IF(B20="","",Z20*F20) -> 42331713 | AB20: =IF(B20="","",STDEV(M20,S20,Y20)) -> 2080200.9 | AC20: =IF(B20="","",(AB20/AA20)) -> 0.049140483 | AD20: OK REVISIÓN FINAL DESVIACIÓN | AE20: TRANSCRITA DE LA BOLSA | AF20: =IF(C20="","",VLOOKUP(C20,listaBolsa!$D$2:$BB$276,51,0)) -> #N/A | AG20: =IF(C20="","",VLOOKUP(C20,listaBolsa!$D$2:$H$276,5,0)) -> #N/A | AH20: =AG20=G20 -> #N/A | BG20: 11 | DA20: =VLOOKUP(C20,listaBolsa!$D$2:$BA$330,1,0) -> Computadores portátiles. | DB20: =VLOOKUP(C20,listaBolsa!$D$2:$BA$330,2,0) -> (8gb Ram, 256 Disco duro, 14 pulgadas con resolución Full HD (1920x1080) y recubrimiento antirreflejo, conectividad WiFi 5 o superior y Bluetooth 5.0, mínimo dos puertos USB (idealmente uno tipo C) y salida HDMI. Deben tener batería con autonomía real de mínimo 6 horas, chasis resistente (de preferencia aluminio o policarbonato reforzado), sistema operativo Windows 11 o equivalente con licencias originales, y garantía mínima de un año. | DC20: =VLOOKUP(C20,listaBolsa!$D$2:$BA$330,10,0) -> TTG | DD20: =VLOOKUP(C20,listaBolsa!$D$2:$BA$330,14,0) -> 2470588.2 | DE20: =VLOOKUP(C20,listaBolsa!$D$2:$BA$330,23,0) -> DISCOMPUCOL | DF20: =VLOOKUP(C20,listaBolsa!$D$2:$BA$330,27,0) -> 2729000 | DG20: =VLOOKUP(C20,listaBolsa!$D$2:$BA$330,36,0) -> FALABELLA | DH20: =VLOOKUP(C20,listaBolsa!$D$2:$BA$330,40,0) -> 2688235.3 | DI20: =VLOOKUP(C20,listaBolsa!$D$2:$BA$330,48,0) -> 0.0528 | DJ20: =DA20=C20 -> TRUE | DK20: =DB20=D20 -> TRUE | DL20: =DC20=H20 -> FALSE | DM20: =DD20=I20 -> FALSE | DN20: =DE20=N20 -> FALSE | DO20: =DF20=O20 -> FALSE | DP20: =DG20=T20 -> TRUE | DQ20: =DH20=U20 -> FALSE | DR20: =DI20=AC20 -> FALSE
A21: =IF(B21<>"",BG21,"") -> 12 | B21: por completar información | C21: Paquetes Office | D21: Office 2024 Licencia Vitalicia. Profesional Plus es la versión más reciente de la suite de Microsoft, diseñada para empresas y profesionales que buscan estabilidad, rendimiento y funciones avanzadas sin suscripción anual. Incluye todas las aplicaciones esenciales: Word, Excel, PowerPoint, Outlook, OneNote, Access y Publisher, con mejoras en rendimiento y compatibilidad con los formatos más recientes. | E21: Unidad | F21: 20 | G21: Compra | H21: =IF(C21="","",VLOOKUP(C21,listaBolsa!$D$2:$W$1276,10,0)) -> 0 | I21: =IF(C21="","",VLOOKUP(C21,listaBolsa!$D$2:$W$1276,14,0)) -> $ - | J21: =I21*19% -> #VALUE! | K21: =I21+J21 -> #VALUE! | L21: =IF(B21="","",(I21*F21)) -> #VALUE! | M21: =IF(B21="","",(K21*F21)) -> #VALUE! | N21: =IF(C21="","",VLOOKUP(C21,listaBolsa!$D$2:$AZ$1276,23,0)) -> 0 | O21: =IF(C21="","",VLOOKUP(C21,listaBolsa!$D$2:$AZ$1276,27,0)) -> $ - | P21: =O21*19% -> #VALUE! | Q21: =O21+P21 -> #VALUE! | R21: =IF(B21="","",(O21*F21)) -> #VALUE! | S21: =IF(B21="","",(Q21*F21)) -> #VALUE! | T21: =IF(C21="","",VLOOKUP(C21,listaBolsa!$D$2:$BB$1276,36,0)) -> 0 | U21: =IF(C21="","",VLOOKUP(C21,listaBolsa!$D$2:$BB$1276,40,0)) -> $ - | V21: =U21*19% -> #VALUE! | W21: =U21+V21 -> #VALUE! | X21: =IF(B21="","",(U21*F21)) -> #VALUE! | Y21: =IF(B21="","",(W21*F21)) -> #VALUE! | Z21: =IF(A21="","",AVERAGE(K21,Q21,W21)) -> #VALUE! | AA21: =IF(B21="","",Z21*F21) -> #VALUE! | AB21: =IF(B21="","",STDEV(M21,S21,Y21)) -> #VALUE! | AC21: =IF(B21="","",(AB21/AA21)) -> #VALUE! | AD21: NO ESTÁN COMPLETAS LAS COTIZACIONES DE LA BOLSA | AF21: =IF(C21="","",VLOOKUP(C21,listaBolsa!$D$2:$BB$276,51,0)) -> #N/A | AG21: =IF(C21="","",VLOOKUP(C21,listaBolsa!$D$2:$H$276,5,0)) -> #N/A | AH21: =AG21=G21 -> #N/A | BG21: 12 | DA21: =VLOOKUP(C21,listaBolsa!$D$2:$BA$330,1,0) -> Paquetes Office | DB21: =VLOOKUP(C21,listaBolsa!$D$2:$BA$330,2,0) -> Office 2024 Licencia Vitalicia. Profesional Plus es la versión más reciente de la suite de Microsoft, diseñada para empresas y profesionales que buscan estabilidad, rendimiento y funciones avanzadas sin suscripción anual. Incluye todas las aplicaciones esenciales: Word, Excel, PowerPoint, Outlook, OneNote, Access y Publisher, con mejoras en rendimiento y compatibilidad con los formatos más recientes. | DC21: =VLOOKUP(C21,listaBolsa!$D$2:$BA$330,10,0) -> 0 | DD21: =VLOOKUP(C21,listaBolsa!$D$2:$BA$330,14,0) -> $ - | DE21: =VLOOKUP(C21,listaBolsa!$D$2:$BA$330,23,0) -> 0 | DF21: =VLOOKUP(C21,listaBolsa!$D$2:$BA$330,27,0) -> $ - | DG21: =VLOOKUP(C21,listaBolsa!$D$2:$BA$330,36,0) -> 0 | DH21: =VLOOKUP(C21,listaBolsa!$D$2:$BA$330,40,0) -> $ - | DI21: =VLOOKUP(C21,listaBolsa!$D$2:$BA$330,48,0) -> #VALUE! | DJ21: =DA21=C21 -> TRUE | DK21: =DB21=D21 -> TRUE | DL21: =DC21=H21 -> TRUE | DM21: =DD21=I21 -> TRUE | DN21: =DE21=N21 -> TRUE | DO21: =DF21=O21 -> TRUE | DP21: =DG21=T21 -> TRUE | DQ21: =DH21=U21 -> TRUE | DR21: =DI21=AC21 -> #VALUE!
A22: =IF(B22<>"",BG22,"") -> 13 | B22: por completar información | C22: Mouse con cable | D22: Mouse alámbrico con sensor óptico o láser de alta precisión (mínimo 1000 DPI), diseño ergonómico ambidiestro, conectividad USB tipo A plug & play, cable reforzado de mínimo 1.2 metros y una vida útil de al menos 3 millones de clics, garantizando rendimiento prolongado para uso continuo e intensivo. | E22: Unidad | F22: 20 | G22: Compra | H22: CAPITAL COLOMBIA | I22: 14369.75 | J22: =I22*19% -> 2730.2525 | K22: =I22+J22 -> 17100.002 | L22: =IF(B22="","",(I22*F22)) -> 287395 | M22: =IF(B22="","",(K22*F22)) -> 342000.05 | N22: EXITO | O22: 16331.93 | P22: =O22*19% -> 3103.0667 | Q22: =O22+P22 -> 19434.997 | R22: =IF(B22="","",(O22*F22)) -> 326638.6 | S22: =IF(B22="","",(Q22*F22)) -> 388699.93 | T22: CARULLA | U22: 15945.38 | V22: =U22*19% -> 3029.6222 | W22: =U22+V22 -> 18975.002 | X22: =IF(B22="","",(U22*F22)) -> 318907.6 | Y22: =IF(B22="","",(W22*F22)) -> 379500.04 | Z22: =IF(A22="","",AVERAGE(K22,Q22,W22)) -> 18503.334 | AA22: =IF(B22="","",Z22*F22) -> 370066.68 | AB22: =IF(B22="","",STDEV(M22,S22,Y22)) -> 24737.848 | AC22: =IF(B22="","",(AB22/AA22)) -> 0.066847002 | AD22: OK REVISIÓN FINAL DESVIACIÓN | AE22: BOLSA- NO VERIFICADAS COTIZACIONES | AF22: =IF(C22="","",VLOOKUP(C22,listaBolsa!$D$2:$BB$276,51,0)) -> #N/A | AG22: =IF(C22="","",VLOOKUP(C22,listaBolsa!$D$2:$H$276,5,0)) -> #N/A | AH22: =AG22=G22 -> #N/A | BG22: 13 | DA22: =VLOOKUP(C22,listaBolsa!$D$2:$BA$330,1,0) -> Mouse con cable | DB22: =VLOOKUP(C22,listaBolsa!$D$2:$BA$330,2,0) -> Mouse alámbrico con sensor óptico o láser de alta precisión (mínimo 1000 DPI), diseño ergonómico ambidiestro, conectividad USB tipo A plug & play, cable reforzado de mínimo 1.2 metros y una vida útil de al menos 3 millones de clics, garantizando rendimiento prolongado para uso continuo e intensivo. | DC22: =VLOOKUP(C22,listaBolsa!$D$2:$BA$330,10,0) -> CAPITAL COLOMBIA | DD22: =VLOOKUP(C22,listaBolsa!$D$2:$BA$330,14,0) -> 14369.75 | DE22: =VLOOKUP(C22,listaBolsa!$D$2:$BA$330,23,0) -> EXITO | DF22: =VLOOKUP(C22,listaBolsa!$D$2:$BA$330,27,0) -> 16331.93 | DG22: =VLOOKUP(C22,listaBolsa!$D$2:$BA$330,36,0) -> CARULLA | DH22: =VLOOKUP(C22,listaBolsa!$D$2:$BA$330,40,0) -> 15945.38 | DI22: =VLOOKUP(C22,listaBolsa!$D$2:$BA$330,48,0) -> 0.0668 | DJ22: =DA22=C22 -> TRUE | DK22: =DB22=D22 -> TRUE | DL22: =DC22=H22 -> TRUE | DM22: =DD22=I22 -> TRUE | DN22: =DE22=N22 -> TRUE | DO22: =DF22=O22 -> TRUE | DP22: =DG22=T22 -> TRUE | DQ22: =DH22=U22 -> TRUE | DR22: =DI22=AC22 -> FALSE
A23: =IF(B23<>"",BG23,"") -> 14 | B23: por completar información | C23: Diadema con micrófono | D23: Auriculares tipo diadema con micrófono integrado, con impedancia de 32 ohmios, potencia de salida de 30 mW y respuesta de frecuencia de 20 Hz a 20 kHz, que cuenten con cancelación de ruido pasiva o activa, diseño ergonómico y ajustable con almohadillas acolchadas y vincha reforzada, cable de mínimo 1.5 metros de longitud y conectividad dual (3.5 mm y/o USB) para compatibilidad con diversos dispositivos. | E23: Unidad | F23: 20 | G23: Compra | H23: HARD RENTAL | I23: 143000 | J23: =I23*19% -> 27170 | K23: =I23+J23 -> 170170 | L23: =IF(B23="","",(I23*F23)) -> 2860000 | M23: =IF(B23="","",(K23*F23)) -> 3403400 | N23: ROKA | O23: 152933.61 | P23: =O23*19% -> 29057.386 | Q23: =O23+P23 -> 181991 | R23: =IF(B23="","",(O23*F23)) -> 3058672.2 | S23: =IF(B23="","",(Q23*F23)) -> 3639819.9 | T23: FALABELLA | U23: 168067.23 | V23: =U23*19% -> 31932.774 | W23: =U23+V23 -> 200000 | X23: =IF(B23="","",(U23*F23)) -> 3361344.6 | Y23: =IF(B23="","",(W23*F23)) -> 4000000.1 | Z23: =IF(A23="","",AVERAGE(K23,Q23,W23)) -> 184053.67 | AA23: =IF(B23="","",Z23*F23) -> 3681073.3 | AB23: =IF(B23="","",STDEV(M23,S23,Y23)) -> 300431.85 | AC23: =IF(B23="","",(AB23/AA23)) -> 0.081615285 | AD23: OK REVISIÓN FINAL DESVIACIÓN | AE23: TRANSCRITA DE LA BOLSA | AF23: =IF(C23="","",VLOOKUP(C23,listaBolsa!$D$2:$BB$276,51,0)) -> #N/A | AG23: =IF(C23="","",VLOOKUP(C23,listaBolsa!$D$2:$H$276,5,0)) -> #N/A | AH23: =AG23=G23 -> #N/A | BG23: 14 | DA23: =VLOOKUP(C23,listaBolsa!$D$2:$BA$330,1,0) -> Diadema con micrófono | DB23: =VLOOKUP(C23,listaBolsa!$D$2:$BA$330,2,0) -> Auriculares tipo diadema con micrófono integrado, con impedancia de 32 ohmios, potencia de salida de 30 mW y respuesta de frecuencia de 20 Hz a 20 kHz, que cuenten con cancelación de ruido pasiva o activa, diseño ergonómico y ajustable con almohadillas acolchadas y vincha reforzada, cable de mínimo 1.5 metros de longitud y conectividad dual (3.5 mm y/o USB) para compatibilidad con diversos dispositivos. | DC23: =VLOOKUP(C23,listaBolsa!$D$2:$BA$330,10,0) -> HARD RENTAL | DD23: =VLOOKUP(C23,listaBolsa!$D$2:$BA$330,14,0) -> 143000 | DE23: =VLOOKUP(C23,listaBolsa!$D$2:$BA$330,23,0) -> ROKA | DF23: =VLOOKUP(C23,listaBolsa!$D$2:$BA$330,27,0) -> 152933.61 | DG23: =VLOOKUP(C23,listaBolsa!$D$2:$BA$330,36,0) -> FALABELLA | DH23: =VLOOKUP(C23,listaBolsa!$D$2:$BA$330,40,0) -> 168067.23 | DI23: =VLOOKUP(C23,listaBolsa!$D$2:$BA$330,48,0) -> 0.0816 | DJ23: =DA23=C23 -> TRUE | DK23: =DB23=D23 -> TRUE | DL23: =DC23=H23 -> TRUE | DM23: =DD23=I23 -> TRUE | DN23: =DE23=N23 -> TRUE | DO23: =DF23=O23 -> TRUE | DP23: =DG23=T23 -> TRUE | DQ23: =DH23=U23 -> TRUE | DR23: =DI23=AC23 -> FALSE
A24: =IF(B24<>"",BG24,"") -> 15 | B24: por completar información | C24: Forros para guardar computadores portatiles | D24: Forros para computador portátil de 14 pulgadas. Material: poliéster/nylon (resistente e impermeable) | E24: Unidad | F24: 20 | G24: Compra | H24: KTRONIX | I24: 46134.45 | J24: =I24*19% -> 8765.5455 | K24: =I24+J24 -> 54899.995 | L24: =IF(B24="","",(I24*F24)) -> 922689 | M24: =IF(B24="","",(K24*F24)) -> 1097999.9 | N24: ALKOSTO | O24: 46134.45 | P24: =O24*19% -> 8765.5455 | Q24: =O24+P24 -> 54899.995 | R24: =IF(B24="","",(O24*F24)) -> 922689 | S24: =IF(B24="","",(Q24*F24)) -> 1097999.9 | T24: PANAMERICANA | U24: 42773.11 | V24: =U24*19% -> 8126.8909 | W24: =U24+V24 -> 50900.001 | X24: =IF(B24="","",(U24*F24)) -> 855462.2 | Y24: =IF(B24="","",(W24*F24)) -> 1018000 | Z24: =IF(A24="","",AVERAGE(K24,Q24,W24)) -> 53566.664 | AA24: =IF(B24="","",Z24*F24) -> 1071333.3 | AB24: =IF(B24="","",STDEV(M24,S24,Y24)) -> 46187.959 | AC24: =IF(B24="","",(AB24/AA24)) -> 0.043112596 | AD24: OK REVISIÓN FINAL DESVIACIÓN | AE24: BOLSA- NO VERIFICADAS COTIZACIONES | AF24: =IF(C24="","",VLOOKUP(C24,listaBolsa!$D$2:$BB$276,51,0)) -> #N/A | AG24: =IF(C24="","",VLOOKUP(C24,listaBolsa!$D$2:$H$276,5,0)) -> #N/A | AH24: =AG24=G24 -> #N/A | BG24: 15 | DA24: =VLOOKUP(C24,listaBolsa!$D$2:$BA$330,1,0) -> Forros para guardar computadores portatiles | DB24: =VLOOKUP(C24,listaBolsa!$D$2:$BA$330,2,0) -> Forros para computador portátil de 14 pulgadas. Material: poliéster/nylon (resistente e impermeable) | DC24: =VLOOKUP(C24,listaBolsa!$D$2:$BA$330,10,0) -> KTRONIX | DD24: =VLOOKUP(C24,listaBolsa!$D$2:$BA$330,14,0) -> 46134.45 | DE24: =VLOOKUP(C24,listaBolsa!$D$2:$BA$330,23,0) -> ALKOSTO | DF24: =VLOOKUP(C24,listaBolsa!$D$2:$BA$330,27,0) -> 46134.45 | DG24: =VLOOKUP(C24,listaBolsa!$D$2:$BA$330,36,0) -> PANAMERICANA | DH24: =VLOOKUP(C24,listaBolsa!$D$2:$BA$330,40,0) -> 42773.11 | DI24: =VLOOKUP(C24,listaBolsa!$D$2:$BA$330,48,0) -> 0.0431 | DJ24: =DA24=C24 -> TRUE | DK24: =DB24=D24 -> TRUE | DL24: =DC24=H24 -> TRUE | DM24: =DD24=I24 -> TRUE | DN24: =DE24=N24 -> TRUE | DO24: =DF24=O24 -> TRUE | DP24: =DG24=T24 -> TRUE | DQ24: =DH24=U24 -> TRUE | DR24: =DI24=AC24 -> FALSE
A25: =IF(B25<>"",BG25,"") -> 16 | B25: por completar información | C25: Multitoma Estabilizador | D25: Este estabilizador de 600 Watts con Supresor de Picos, soporta Equipos de Sonido, Computadores de Mesa y Portatiles, Televisores Smart TV, Consolas de Video Juegos, Zonas de Entretenimiento, DVD, Blu Ray y todos aquellos dispositivos que la potencia no supere los 600 Vatios. Referencia: PRO PC 1000 Capacidad: 1000 VA - 1 KVA | E25: Unidad | F25: 4 | G25: Compra | H25: FALABELLA | I25: 58823.53 | J25: =I25*19% -> 11176.471 | K25: =I25+J25 -> 70000.001 | L25: =IF(B25="","",(I25*F25)) -> 235294.12 | M25: =IF(B25="","",(K25*F25)) -> 280000 | N25: MIPC | O25: 63025.21 | P25: =O25*19% -> 11974.79 | Q25: =O25+P25 -> 75000 | R25: =IF(B25="","",(O25*F25)) -> 252100.84 | S25: =IF(B25="","",(Q25*F25)) -> 300000 | T25: OPTIMUSTECH | U25: 62941.18 | V25: =U25*19% -> 11958.824 | W25: =U25+V25 -> 74900.004 | X25: =IF(B25="","",(U25*F25)) -> 251764.72 | Y25: =IF(B25="","",(W25*F25)) -> 299600.02 | Z25: =IF(A25="","",AVERAGE(K25,Q25,W25)) -> 73300.002 | AA25: =IF(B25="","",Z25*F25) -> 293200.01 | AB25: =IF(B25="","",STDEV(M25,S25,Y25)) -> 11433.288 | AC25: =IF(B25="","",(AB25/AA25)) -> 0.038994841 | AD25: OK REVISIÓN FINAL DESVIACIÓN | AE25: BOLSA- NO VERIFICADAS COTIZACIONES | AF25: =IF(C25="","",VLOOKUP(C25,listaBolsa!$D$2:$BB$276,51,0)) -> #N/A | AG25: =IF(C25="","",VLOOKUP(C25,listaBolsa!$D$2:$H$276,5,0)) -> #N/A | AH25: =AG25=G25 -> #N/A | BG25: 16 | DA25: =VLOOKUP(C25,listaBolsa!$D$2:$BA$330,1,0) -> Multitoma Estabilizador | DB25: =VLOOKUP(C25,listaBolsa!$D$2:$BA$330,2,0) -> Este estabilizador de 600 Watts con Supresor de Picos, soporta Equipos de Sonido, Computadores de Mesa y Portatiles, Televisores Smart TV, Consolas de Video Juegos, Zonas de Entretenimiento, DVD, Blu Ray y todos aquellos dispositivos que la potencia no supere los 600 Vatios. Referencia: PRO PC 1000 Capacidad: 1000 VA - 1 KVA | DC25: =VLOOKUP(C25,listaBolsa!$D$2:$BA$330,10,0) -> FALABELLA | DD25: =VLOOKUP(C25,listaBolsa!$D$2:$BA$330,14,0) -> 58823.53 | DE25: =VLOOKUP(C25,listaBolsa!$D$2:$BA$330,23,0) -> MIPC | DF25: =VLOOKUP(C25,listaBolsa!$D$2:$BA$330,27,0) -> 63025.21 | DG25: =VLOOKUP(C25,listaBolsa!$D$2:$BA$330,36,0) -> OPTIMUSTECH | DH25: =VLOOKUP(C25,listaBolsa!$D$2:$BA$330,40,0) -> 62941.18 | DI25: =VLOOKUP(C25,listaBolsa!$D$2:$BA$330,48,0) -> 0.039 | DJ25: =DA25=C25 -> TRUE | DK25: =DB25=D25 -> TRUE | DL25: =DC25=H25 -> TRUE | DM25: =DD25=I25 -> TRUE | DN25: =DE25=N25 -> TRUE | DO25: =DF25=O25 -> TRUE | DP25: =DG25=T25 -> TRUE | DQ25: =DH25=U25 -> TRUE | DR25: =DI25=AC25 -> FALSE
A26: =IF(B26<>"",BG26,"") -> 17 | B26: por completar información | C26: Extensión eléctrica | D26: Medidas: 30 Metros Encauchetada 110-220v | E26: Unidad | F26: 2 | G26: Compra | H26: LUEGOPAGO | I26: 70252.1 | J26: =I26*19% -> 13347.899 | K26: =I26+J26 -> 83599.999 | L26: =IF(B26="","",(I26*F26)) -> 140504.2 | M26: =IF(B26="","",(K26*F26)) -> 167200 | N26: FERRETERIA ONLINE | O26: 71008.4 | P26: =O26*19% -> 13491.596 | Q26: =O26+P26 -> 84499.996 | R26: =IF(B26="","",(O26*F26)) -> 142016.8 | S26: =IF(B26="","",(Q26*F26)) -> 168999.99 | T26: GAMAFERIMPORTACIONES | U26: 91596.64 | V26: =U26*19% -> 17403.362 | W26: =U26+V26 -> 109000 | X26: =IF(B26="","",(U26*F26)) -> 183193.28 | Y26: =IF(B26="","",(W26*F26)) -> 218000 | Z26: =IF(A26="","",AVERAGE(K26,Q26,W26)) -> 92366.666 | AA26: =IF(B26="","",Z26*F26) -> 184733.33 | AB26: =IF(B26="","",STDEV(M26,S26,Y26)) -> 28823.837 | AC26: =IF(B26="","",(AB26/AA26)) -> 0.15602944 | AD26: OK REVISIÓN FINAL DESVIACIÓN | AE26: BOLSA- NO VERIFICADAS COTIZACIONES | AF26: =IF(C26="","",VLOOKUP(C26,listaBolsa!$D$2:$BB$276,51,0)) -> #N/A | AG26: =IF(C26="","",VLOOKUP(C26,listaBolsa!$D$2:$H$276,5,0)) -> #N/A | AH26: =AG26=G26 -> #N/A | BG26: 17 | DA26: =VLOOKUP(C26,listaBolsa!$D$2:$BA$330,1,0) -> Extensión eléctrica | DB26: =VLOOKUP(C26,listaBolsa!$D$2:$BA$330,2,0) -> Medidas: 30 Metros Encauchetada 110-220v | DC26: =VLOOKUP(C26,listaBolsa!$D$2:$BA$330,10,0) -> LUEGOPAGO | DD26: =VLOOKUP(C26,listaBolsa!$D$2:$BA$330,14,0) -> 70252.1 | DE26: =VLOOKUP(C26,listaBolsa!$D$2:$BA$330,23,0) -> FERRETERIA ONLINE | DF26: =VLOOKUP(C26,listaBolsa!$D$2:$BA$330,27,0) -> 71008.4 | DG26: =VLOOKUP(C26,listaBolsa!$D$2:$BA$330,36,0) -> GAMAFERIMPORTACIONES | DH26: =VLOOKUP(C26,listaBolsa!$D$2:$BA$330,40,0) -> 91596.64 | DI26: =VLOOKUP(C26,listaBolsa!$D$2:$BA$330,48,0) -> 0.156 | DJ26: =DA26=C26 -> TRUE | DK26: =DB26=D26 -> TRUE | DL26: =DC26=H26 -> TRUE | DM26: =DD26=I26 -> TRUE | DN26: =DE26=N26 -> TRUE | DO26: =DF26=O26 -> TRUE | DP26: =DG26=T26 -> TRUE | DQ26: =DH26=U26 -> TRUE | DR26: =DI26=AC26 -> FALSE
A27: =IF(B27<>"",BG27,"") -> 18 | B27: por completar información | C27: Impresora | D27: Tecnología de impresión Inyección de tinta Heat-Free MicroPiezo de 4 colores (CMYK) Resolución máxima de impresión Hasta 5.760 dpi x 1.440 dpi Velocidad de impresión máxima Negro 33 ppm y color 15 ppm (borrador, A4/carta) Velocidad de impresión ISO Negro 10 ppm y color 15 ppm (A4/carta) COPIAS Velocidad de copiado ISO Negro 7,7 cpm y color 3,8 cpm (A4/carta) Resolución máxima de copiado 1.200 dpi x 2.400 dpi Tamaño máximo de copiado A4/carta ESCANEO Tipo de escáner Cama plana con sensor de líneas CIS de color Área de escaneo máxima 216 mm x 297 mm Resolución óptica/máxima 1.200 dpi x 2.400 dpi Profundidad de color Color: 48 bits de entrada, 24 bits de salida - Escala de grises: 16 bits de entrada, 8 bits de salida - Blanco y negro: 16 bits, 1 bit de salida Conectividad estándar USB de alta velocidad (compatible con USB 2.0), Wi-Fi, Wi-Fi Direct Protocolos de impresión en red TCP/IPv4, TCP/IPv6 Protocolos para gestión de redes SNMP, http, DHCP, APIPA, PING, DDNS, mDNS, SLP, WSD, LLTD Seguridad WLAN WEP (64bit/128bit),WPA-PSK (TKIP), WPA2-PSK (AES),WPA3-SAE (AES) | E27: Unidad | F27: 1 | G27: Compra | H27: =IF(C27="","",VLOOKUP(C27,listaBolsa!$D$2:$W$1276,10,0)) -> SYSTORE | I27: =IF(C27="","",VLOOKUP(C27,listaBolsa!$D$2:$W$1276,14,0)) -> 743697.48 | J27: =I27*19% -> 141302.52 | K27: =I27+J27 -> 885000 | L27: =IF(B27="","",(I27*F27)) -> 743697.48 | M27: =IF(B27="","",(K27*F27)) -> 885000 | N27: =IF(C27="","",VLOOKUP(C27,listaBolsa!$D$2:$AZ$1276,23,0)) -> TECHNOLOGY STORE | O27: =IF(C27="","",VLOOKUP(C27,listaBolsa!$D$2:$AZ$1276,27,0)) -> 839495.8 | P27: =O27*19% -> 159504.2 | Q27: =O27+P27 -> 999000 | R27: =IF(B27="","",(O27*F27)) -> 839495.8 | S27: =IF(B27="","",(Q27*F27)) -> 999000 | T27: =IF(C27="","",VLOOKUP(C27,listaBolsa!$D$2:$BB$1276,36,0)) -> FALABELLA | U27: =IF(C27="","",VLOOKUP(C27,listaBolsa!$D$2:$BB$1276,40,0)) -> 923529.41 | V27: =U27*19% -> 175470.59 | W27: =U27+V27 -> 1099000 | X27: =IF(B27="","",(U27*F27)) -> 923529.41 | Y27: =IF(B27="","",(W27*F27)) -> 1099000 | Z27: =IF(A27="","",AVERAGE(K27,Q27,W27)) -> 994333.33 | AA27: =IF(B27="","",Z27*F27) -> 994333.33 | AB27: =IF(B27="","",STDEV(M27,S27,Y27)) -> 107076.3 | AC27: =IF(B27="","",(AB27/AA27)) -> 0.10768652 | AD27: OK REVISIÓN FINAL DESVIACIÓN | AF27: =IF(C27="","",VLOOKUP(C27,listaBolsa!$D$2:$BB$276,51,0)) -> #N/A | AG27: =IF(C27="","",VLOOKUP(C27,listaBolsa!$D$2:$H$276,5,0)) -> #N/A | AH27: =AG27=G27 -> #N/A | BG27: 18 | DA27: =VLOOKUP(C27,listaBolsa!$D$2:$BA$330,1,0) -> Impresora | DB27: =VLOOKUP(C27,listaBolsa!$D$2:$BA$330,2,0) -> Tecnología de impresión Inyección de tinta Heat-Free MicroPiezo de 4 colores (CMYK) Resolución máxima de impresión Hasta 5.760 dpi x 1.440 dpi Velocidad de impresión máxima Negro 33 ppm y color 15 ppm (borrador, A4/carta) Velocidad de impresión ISO Negro 10 ppm y color 15 ppm (A4/carta) COPIAS Velocidad de copiado ISO Negro 7,7 cpm y color 3,8 cpm (A4/carta) Resolución máxima de copiado 1.200 dpi x 2.400 dpi Tamaño máximo de copiado A4/carta ESCANEO Tipo de escáner Cama plana con sensor de líneas CIS de color Área de escaneo máxima 216 mm x 297 mm Resolución óptica/máxima 1.200 dpi x 2.400 dpi Profundidad de color Color: 48 bits de entrada, 24 bits de salida - Escala de grises: 16 bits de entrada, 8 bits de salida - Blanco y negro: 16 bits, 1 bit de salida Conectividad estándar USB de alta velocidad (compatible con USB 2.0), Wi-Fi, Wi-Fi Direct Protocolos de impresión en red TCP/IPv4, TCP/IPv6 Protocolos para gestión de redes SNMP, http, DHCP, APIPA, PING, DDNS, mDNS, SLP, WSD, LLTD Seguridad WLAN WEP (64bit/128bit),WPA-PSK (TKIP), WPA2-PSK (AES),WPA3-SAE (AES) | DC27: =VLOOKUP(C27,listaBolsa!$D$2:$BA$330,10,0) -> SYSTORE | DD27: =VLOOKUP(C27,listaBolsa!$D$2:$BA$330,14,0) -> 743697.48 | DE27: =VLOOKUP(C27,listaBolsa!$D$2:$BA$330,23,0) -> TECHNOLOGY STORE | DF27: =VLOOKUP(C27,listaBolsa!$D$2:$BA$330,27,0) -> 839495.8 | DG27: =VLOOKUP(C27,listaBolsa!$D$2:$BA$330,36,0) -> FALABELLA | DH27: =VLOOKUP(C27,listaBolsa!$D$2:$BA$330,40,0) -> 923529.41 | DI27: =VLOOKUP(C27,listaBolsa!$D$2:$BA$330,48,0) -> 0.1077 | DJ27: =DA27=C27 -> TRUE | DK27: =DB27=D27 -> TRUE | DL27: =DC27=H27 -> TRUE | DM27: =DD27=I27 -> TRUE | DN27: =DE27=N27 -> TRUE | DO27: =DF27=O27 -> TRUE | DP27: =DG27=T27 -> TRUE | DQ27: =DH27=U27 -> TRUE | DR27: =DI27=AC27 -> FALSE
A28: =IF(B28<>"",BG28,"") -> 20 | B28: por completar información | C28: Mat para yoga | D28: Material TPE (Elastómero termoplástico) Superficie de diseño por inyección Medidas: Largo: 173 cm Ancho: 61 cm Espesor:0.6 cm. Con estuche. | E28: Unidad | F28: 40 | G28: Compra | H28: =IF(C28="","",VLOOKUP(C28,listaBolsa!$D$2:$W$1276,10,0)) -> FALABELLA | I28: =IF(C28="","",VLOOKUP(C28,listaBolsa!$D$2:$W$1276,14,0)) -> 37731.09 | J28: =I28*19% -> 7168.9071 | K28: =I28+J28 -> 44899.997 | L28: =IF(B28="","",(I28*F28)) -> 1509243.6 | M28: =IF(B28="","",(K28*F28)) -> 1795999.9 | N28: =IF(C28="","",VLOOKUP(C28,listaBolsa!$D$2:$AZ$1276,23,0)) -> HOMECENTER | O28: =IF(C28="","",VLOOKUP(C28,listaBolsa!$D$2:$AZ$1276,27,0)) -> 37731.09 | P28: =O28*19% -> 7168.9071 | Q28: =O28+P28 -> 44899.997 | R28: =IF(B28="","",(O28*F28)) -> 1509243.6 | S28: =IF(B28="","",(Q28*F28)) -> 1795999.9 | T28: =IF(C28="","",VLOOKUP(C28,listaBolsa!$D$2:$BB$1276,36,0)) -> MOVIFIT | U28: =IF(C28="","",VLOOKUP(C28,listaBolsa!$D$2:$BB$1276,40,0)) -> 32436.97 | V28: =U28*19% -> 6163.0243 | W28: =U28+V28 -> 38599.994 | X28: =IF(B28="","",(U28*F28)) -> 1297478.8 | Y28: =IF(B28="","",(W28*F28)) -> 1543999.8 | Z28: =IF(A28="","",AVERAGE(K28,Q28,W28)) -> 42799.996 | AA28: =IF(B28="","",Z28*F28) -> 1711999.8 | AB28: =IF(B28="","",STDEV(M28,S28,Y28)) -> 145492.33 | AC28: =IF(B28="","",(AB28/AA28)) -> 0.084983847 | AD28: OK REVISIÓN FINAL DESVIACIÓN | AF28: =IF(C28="","",VLOOKUP(C28,listaBolsa!$D$2:$BB$276,51,0)) -> #N/A | AG28: =IF(C28="","",VLOOKUP(C28,listaBolsa!$D$2:$H$276,5,0)) -> #N/A | AH28: =AG28=G28 -> #N/A | BG28: 20 | DA28: =VLOOKUP(C28,listaBolsa!$D$2:$BA$330,1,0) -> Mat para yoga | DB28: =VLOOKUP(C28,listaBolsa!$D$2:$BA$330,2,0) -> Material TPE (Elastómero termoplástico) Superficie de diseño por inyección Medidas: Largo: 173 cm Ancho: 61 cm Espesor:0.6 cm. Con estuche. | DC28: =VLOOKUP(C28,listaBolsa!$D$2:$BA$330,10,0) -> FALABELLA | DD28: =VLOOKUP(C28,listaBolsa!$D$2:$BA$330,14,0) -> 37731.09 | DE28: =VLOOKUP(C28,listaBolsa!$D$2:$BA$330,23,0) -> HOMECENTER | DF28: =VLOOKUP(C28,listaBolsa!$D$2:$BA$330,27,0) -> 37731.09 | DG28: =VLOOKUP(C28,listaBolsa!$D$2:$BA$330,36,0) -> MOVIFIT | DH28: =VLOOKUP(C28,listaBolsa!$D$2:$BA$330,40,0) -> 32436.97 | DI28: =VLOOKUP(C28,listaBolsa!$D$2:$BA$330,48,0) -> 0.085 | DJ28: =DA28=C28 -> TRUE | DK28: =DB28=D28 -> TRUE | DL28: =DC28=H28 -> TRUE | DM28: =DD28=I28 -> TRUE | DN28: =DE28=N28 -> TRUE | DO28: =DF28=O28 -> TRUE | DP28: =DG28=T28 -> TRUE | DQ28: =DH28=U28 -> TRUE | DR28: =DI28=AC28 -> FALSE
A29: =IF(B29<>"",BG29,"") -> 21 | B29: por completar información | C29: Bloques de yoga | D29: Material: TPE (Elastómero termoplástico) de alta densidad. Medidas: Largo; 23 cm. Ancho; 8 cm. Alto; 15.5 cm | E29: Unidad | F29: 40 | G29: Compra | H29: =IF(C29="","",VLOOKUP(C29,listaBolsa!$D$2:$W$1276,10,0)) -> SPORFITNES | I29: =IF(C29="","",VLOOKUP(C29,listaBolsa!$D$2:$W$1276,14,0)) -> 10000 | J29: =I29*19% -> 1900 | K29: =I29+J29 -> 11900 | L29: =IF(B29="","",(I29*F29)) -> 400000 | M29: =IF(B29="","",(K29*F29)) -> 476000 | N29: =IF(C29="","",VLOOKUP(C29,listaBolsa!$D$2:$AZ$1276,23,0)) -> CICLEWEAR | O29: =IF(C29="","",VLOOKUP(C29,listaBolsa!$D$2:$AZ$1276,27,0)) -> 11764.71 | P29: =O29*19% -> 2235.2949 | Q29: =O29+P29 -> 14000.005 | R29: =IF(B29="","",(O29*F29)) -> 470588.4 | S29: =IF(B29="","",(Q29*F29)) -> 560000.2 | T29: =IF(C29="","",VLOOKUP(C29,listaBolsa!$D$2:$BB$1276,36,0)) -> OLIMPICA | U29: =IF(C29="","",VLOOKUP(C29,listaBolsa!$D$2:$BB$1276,40,0)) -> 13697.48 | V29: =U29*19% -> 2602.5212 | W29: =U29+V29 -> 16300.001 | X29: =IF(B29="","",(U29*F29)) -> 547899.2 | Y29: =IF(B29="","",(W29*F29)) -> 652000.05 | Z29: =IF(A29="","",AVERAGE(K29,Q29,W29)) -> 14066.669 | AA29: =IF(B29="","",Z29*F29) -> 562666.75 | AB29: =IF(B29="","",STDEV(M29,S29,Y29)) -> 88030.319 | AC29: =IF(B29="","",(AB29/AA29)) -> 0.15645197 | AD29: CAMBIARON LAS COTIZACIONES | AE29: TRANSCRITA DE LA BOLSA | AF29: =IF(C29="","",VLOOKUP(C29,listaBolsa!$D$2:$BB$276,51,0)) -> Cotizaciones entegadas por el equipo de cotizaciones-LUZ JIMENEZ | AG29: =IF(C29="","",VLOOKUP(C29,listaBolsa!$D$2:$H$276,5,0)) -> Compra | AH29: =AG29=G29 -> TRUE | BG29: 21 | DA29: =VLOOKUP(C29,listaBolsa!$D$2:$BA$330,1,0) -> Bloques de yoga | DB29: =VLOOKUP(C29,listaBolsa!$D$2:$BA$330,2,0) -> Material: TPE (Elastómero termoplástico) de alta densidad. Medidas: Largo; 23 cm. Ancho; 8 cm. Alto; 15.5 cm | DC29: =VLOOKUP(C29,listaBolsa!$D$2:$BA$330,10,0) -> SPORFITNES | DD29: =VLOOKUP(C29,listaBolsa!$D$2:$BA$330,14,0) -> 10000 | DE29: =VLOOKUP(C29,listaBolsa!$D$2:$BA$330,23,0) -> CICLEWEAR | DF29: =VLOOKUP(C29,listaBolsa!$D$2:$BA$330,27,0) -> 11764.71 | DG29: =VLOOKUP(C29,listaBolsa!$D$2:$BA$330,36,0) -> OLIMPICA | DH29: =VLOOKUP(C29,listaBolsa!$D$2:$BA$330,40,0) -> 13697.48 | DI29: =VLOOKUP(C29,listaBolsa!$D$2:$BA$330,48,0) -> 0.1565 | DJ29: =DA29=C29 -> TRUE | DK29: =DB29=D29 -> TRUE | DL29: =DC29=H29 -> TRUE | DM29: =DD29=I29 -> TRUE | DN29: =DE29=N29 -> TRUE | DO29: =DF29=O29 -> TRUE | DP29: =DG29=T29 -> TRUE | DQ29: =DH29=U29 -> TRUE | DR29: =DI29=AC29 -> FALSE
A30: =IF(B30<>"",BG30,"") -> 22 | B30: por completar información | C30: Juego Didáctico Montessori Educativo | D30: Cubo de actividad de madera 6 en 1: este cubo de actividad para bebé mantiene al niño entretenido con el clasificador de formas, pista de laberinto de cuentas, aprendizaje de reloj, coincidencia de números, rompecabezas de doble cara, que cumple perfectamente con los requisitos de los pequeños exploradores. Mantendrá a los bebés niños y niñas desarrollando sus habilidades mentales y de coordinación. Impresionantes juguetes para bebés de 6 a 12 meses, juguetes para bebés de 6 a 12 meses, juguetes para niños pequeños de 1 a 2 años. | E30: Unidad | F30: 4 | G30: Compra | H30: =IF(C30="","",VLOOKUP(C30,listaBolsa!$D$2:$W$1276,10,0)) -> FALABELLA | I30: =IF(C30="","",VLOOKUP(C30,listaBolsa!$D$2:$W$1276,14,0)) -> 94117.65 | J30: =I30*19% -> 17882.353 | K30: =I30+J30 -> 112000 | L30: =IF(B30="","",(I30*F30)) -> 376470.6 | M30: =IF(B30="","",(K30*F30)) -> 448000.01 | N30: =IF(C30="","",VLOOKUP(C30,listaBolsa!$D$2:$AZ$1276,23,0)) -> 0 | O30: =IF(C30="","",VLOOKUP(C30,listaBolsa!$D$2:$AZ$1276,27,0)) -> $ - | P30: =O30*19% -> #VALUE! | Q30: =O30+P30 -> #VALUE! | R30: =IF(B30="","",(O30*F30)) -> #VALUE! | S30: =IF(B30="","",(Q30*F30)) -> #VALUE! | T30: =IF(C30="","",VLOOKUP(C30,listaBolsa!$D$2:$BB$1276,36,0)) -> 0 | U30: =IF(C30="","",VLOOKUP(C30,listaBolsa!$D$2:$BB$1276,40,0)) -> $ - | V30: =U30*19% -> #VALUE! | W30: =U30+V30 -> #VALUE! | X30: =IF(B30="","",(U30*F30)) -> #VALUE! | Y30: =IF(B30="","",(W30*F30)) -> #VALUE! | Z30: =IF(A30="","",AVERAGE(K30,Q30,W30)) -> #VALUE! | AA30: =IF(B30="","",Z30*F30) -> #VALUE! | AB30: =IF(B30="","",STDEV(M30,S30,Y30)) -> #VALUE! | AC30: =IF(B30="","",(AB30/AA30)) -> #VALUE! | AD30: SOLO TIENE UNA COTIZACIÓN | AE30: DESCRIPCIÓN DIFERENTE | AF30: =IF(C30="","",VLOOKUP(C30,listaBolsa!$D$2:$BB$276,51,0)) -> #N/A | AG30: =IF(C30="","",VLOOKUP(C30,listaBolsa!$D$2:$H$276,5,0)) -> #N/A | AH30: =AG30=G30 -> #N/A | BG30: 22 | DA30: =VLOOKUP(C30,listaBolsa!$D$2:$BA$330,1,0) -> Juego Didáctico Montessori Educativo | DB30: =VLOOKUP(C30,listaBolsa!$D$2:$BA$330,2,0) -> Cubo de actividad de madera 6 en 1: este cubo de actividad para bebé mantiene al niño entretenido con el clasificador de formas, pista de laberinto de cuentas, aprendizaje de reloj, coincidencia de números, rompecabezas de doble cara, que cumple perfectamente con los requisitos de los pequeños exploradores. Mantendrá a los bebés niños y niñas desarrollando sus habilidades mentales y de coordinación. Impresionantes juguetes para bebés de 6 a 12 meses, juguetes para bebés de 6 a 12 meses, juguetes para niños pequeños de 1 a 2 años. | DC30: =VLOOKUP(C30,listaBolsa!$D$2:$BA$330,10,0) -> FALABELLA | DD30: =VLOOKUP(C30,listaBolsa!$D$2:$BA$330,14,0) -> 94117.65 | DE30: =VLOOKUP(C30,listaBolsa!$D$2:$BA$330,23,0) -> 0 | DF30: =VLOOKUP(C30,listaBolsa!$D$2:$BA$330,27,0) -> $ - | DG30: =VLOOKUP(C30,listaBolsa!$D$2:$BA$330,36,0) -> 0 | DH30: =VLOOKUP(C30,listaBolsa!$D$2:$BA$330,40,0) -> $ - | DI30: =VLOOKUP(C30,listaBolsa!$D$2:$BA$330,48,0) -> #DIV/0! | DJ30: =DA30=C30 -> TRUE | DK30: =DB30=D30 -> TRUE | DL30: =DC30=H30 -> TRUE | DM30: =DD30=I30 -> TRUE | DN30: =DE30=N30 -> TRUE | DO30: =DF30=O30 -> TRUE | DP30: =DG30=T30 -> TRUE | DQ30: =DH30=U30 -> TRUE | DR30: =DI30=AC30 -> #DIV/0!
A31: =IF(B31<>"",BG31,"") -> 23 | B31: por completar información | C31: Arma todo | D31: Armotodo x 110 Piezas: Creatividad y Aprendizaje en Bloques variedad colores Diversidad de Construcciones: Con 110 bloques, ofrece infinitas posibilidades de juego. La bolsa incluida, con dimensiones de 33x23x22 cm y un peso de 1.27 kg. Material propileno | E31: Unidad | F31: 4 | G31: Compra | H31: HOMECENTER | I31: 109159.66 | J31: =I31*19% -> 20740.335 | K31: =I31+J31 -> 129900 | L31: =IF(B31="","",(I31*F31)) -> 436638.64 | M31: =IF(B31="","",(K31*F31)) -> 519599.98 | N31: EXITO | O31: 109159.66 | P31: =O31*19% -> 20740.335 | Q31: =O31+P31 -> 129900 | R31: =IF(B31="","",(O31*F31)) -> 436638.64 | S31: =IF(B31="","",(Q31*F31)) -> 519599.98 | T31: FALABELLA | U31: 109159.66 | V31: =U31*19% -> 20740.335 | W31: =U31+V31 -> 129900 | X31: =IF(B31="","",(U31*F31)) -> 436638.64 | Y31: =IF(B31="","",(W31*F31)) -> 519599.98 | Z31: =IF(A31="","",AVERAGE(K31,Q31,W31)) -> 129900 | AA31: =IF(B31="","",Z31*F31) -> 519599.98 | AB31: =IF(B31="","",STDEV(M31,S31,Y31)) -> 0 | AC31: =IF(B31="","",(AB31/AA31)) -> 0 | AD31: OK REVISIÓN FINAL DESVIACIÓN | AE31: TRANSCRITA DE LA BOLSA | AF31: =IF(C31="","",VLOOKUP(C31,listaBolsa!$D$2:$BB$276,51,0)) -> Cotizaciones entegadas por el equipo de cotizaciones-LUZ JIMENEZ | AG31: =IF(C31="","",VLOOKUP(C31,listaBolsa!$D$2:$H$276,5,0)) -> Compra | AH31: =AG31=G31 -> TRUE | BG31: 23 | DA31: =VLOOKUP(C31,listaBolsa!$D$2:$BA$330,1,0) -> Arma todo | DB31: =VLOOKUP(C31,listaBolsa!$D$2:$BA$330,2,0) -> Armotodo x 110 Piezas: Creatividad y Aprendizaje en Bloques variedad colores Diversidad de Construcciones: Con 110 bloques, ofrece infinitas posibilidades de juego. La bolsa incluida, con dimensiones de 33x23x22 cm y un peso de 1.27 kg. Material propileno | DC31: =VLOOKUP(C31,listaBolsa!$D$2:$BA$330,10,0) -> HOMECENTER | DD31: =VLOOKUP(C31,listaBolsa!$D$2:$BA$330,14,0) -> 109159.66 | DE31: =VLOOKUP(C31,listaBolsa!$D$2:$BA$330,23,0) -> EXITO | DF31: =VLOOKUP(C31,listaBolsa!$D$2:$BA$330,27,0) -> 109159.66 | DG31: =VLOOKUP(C31,listaBolsa!$D$2:$BA$330,36,0) -> FALABELLA | DH31: =VLOOKUP(C31,listaBolsa!$D$2:$BA$330,40,0) -> 109159.66 | DI31: =VLOOKUP(C31,listaBolsa!$D$2:$BA$330,48,0) -> 0 | DJ31: =DA31=C31 -> TRUE | DK31: =DB31=D31 -> TRUE | DL31: =DC31=H31 -> TRUE | DM31: =DD31=I31 -> TRUE | DN31: =DE31=N31 -> TRUE | DO31: =DF31=O31 -> TRUE | DP31: =DG31=T31 -> TRUE | DQ31: =DH31=U31 -> TRUE | DR31: =DI31=AC31 -> TRUE
