Workbook
Name \a: #REF!
Name \a: #REF!
Name \b: #REF!
Name \b: #REF!
Name \eliminar: #REF!
Name \eliminar: #REF!
Name \eliminar1: #REF!
Name \eliminar1: #REF!
Name \L: #REF!
Name \P: #REF!
Name \q: #REF!
Name \q: #REF!
Name \s: #REF!
Name \X: CONSULTORIA!err
Name \Z: CONSULTORIA!err
Name _________________________________________________i1: #REF!
Name ________________________________________________i1: #REF!
Name _______________________________________________i1: #REF!
Name ______________________________________________i1: #REF!
Name _____________________________________________i1: #REF!
Name ____________________________________________i1: #REF!
Name ___________________________________________i1: #REF!
Name __________________________________________i1: #REF!
Name _________________________________________i1: #REF!
Name ________________________________________i1: #REF!
Name _______________________________________i1: #REF!
Name ______________________________________i1: #REF!
Name _____________________________________i1: #REF!
Name ____________________________________i1: #REF!
Name ___________________________________i1: #REF!
Name __________________________________i1: #REF!
Name _________________________________i1: #REF!
Name ________________________________i1: #REF!
Name _______________________________i1: #REF!
Name ______________________________i1: #REF!
Name _____________________________i1: #REF!
Name ____________________________i1: #REF!
Name ___________________________i1: #REF!
Name __________________________i1: #REF!
Name _________________________i1: #REF!
Name ________________________i1: #REF!
Name _______________________i1: #REF!
Name ______________________i1: #REF!
Name _____________________i1: #REF!
Name ____________________i1: #REF!
Name ___________________i1: #REF!
Name __________________A1: IF([0]!Values_Entered,[0]!Header_Row+[0]!Number_of_Payments,[0]!Header_Row)
Name __________________A17000: #REF!
Name __________________A20000: #REF!
Name __________________A30000: #REF!
Name __________________AFC1: #REF!
Name __________________AFC3: #REF!
Name __________________AFC5: #REF!
Name __________________BGC1: #REF!
Name __________________BGC3: #REF!
Name __________________BGC5: #REF!
Name __________________CAC1: #REF!
Name __________________CAC3: #REF!
Name __________________CAC5: #REF!
Name __________________G1: #N/A

Sheet D. ENTRADA
C2: ALCALDÍA MAYOR DE BOGOTÁ D.C.
C3: ALCALDÍA LOCAL DE SUBA
C4: ÁREA DE GESTIÓN DE DESARROLLO LOCAL SUBA
C5: OFICINA DE INFRAESTRUCTURA DEL FDLS
B7: OBJETO DEL CONCURSO: | C7: "REALIZAR LA INTERVENTORÍA TÉCNICA, ADMINISTRATIVA, FINANCIERA, JURÍDICA, SOCIAL, AMBIENTAL Y SST AL CONTRATO DE OBRA PÚBLICA QUE TENDRÁ POR OBJETO CONTRACTUAL “EJECUTAR POR EL SISTEMA DE PRECIOS UNITARIOS Y A MONTO AGOTABLE LAS ACTIVIDADES PARA LA CONSERVACION DE LA MALLA VIAL LOCAL E INTERMEDIA Y ESPACIO PÚBLICO EN LA LOCALIDAD DE SUBA EN LA CIUDAD DE BOGOTA D.C”
B9: PROCESO No.
B10: MODALIDAD DE PROYECTO | C10: CONTRATO DE INTERVENTORÍA
B11: FECHA: | C11: =+TODAY() -> 46314
B13: ACTIVIDADES | C13: MESES | D13: MONTOS
B14: SUBTOTAL COSTOS DIRECTOS (I PERSONAL TECNICO,PROFESIONAL,ESPECIALIZADO Y ADMINISTRATIVO + II COSTOS OPERACIONALES | C14: =+CONSULTORIA!D13 -> 11 | D14: =+CONSULTORIA!T60 -> 1428571429 | G14: 1750905
H15: =+D17/G14 -> 970.92646
B16: IVA (19%) | D16: =+CONSULTORIA!T61 -> 271428571
B17: TOTAL PROYECTO | C17: =+C14 -> 11 | D17: =SUM(D14:D16) -> 1700000000 | G17: =+D17/G14 -> 970.92646
B19: NOTA: El presente presupuesto fue calculado con base en los precios unitarios versión: isor de Precios Unitarios de Referencia 2026-I Fase II más Mano de Obra Ley 2101 de 2021, Fecha de publicación: 04 de septiembre de 2026 Fecha de último ajuste parcial: 28 de septiembre de 2026
D25: 6.4959104e+08

Sheet CONSULTORIA
C2: FORMATO | D2: CÓDIGO | F2: PROCESO
D3: FO-DP-01 | F3: Proyectos
B4: ALCALDIA MAYOR DE BOGOTA
B5: FONDO DE DESARROLLO LOCAL
B6: ALCALDIA LOCAL DE SUBA
C8: OBJETO DE LA INTERVENTORIA: | D8: =+'D. ENTRADA'!C7 -> "REALIZAR LA INTERVENTORÍA TÉCNICA, ADMINISTRATIVA, FINANCIERA, JURÍDICA, SOCIAL, AMBIENTAL Y SST AL CONTRATO DE OBRA PÚBLICA QUE TENDRÁ POR OBJETO CONTRACTUAL “EJECUTAR POR EL SISTEMA DE PRECIOS UNITARIOS Y A MONTO AGOTABLE LAS ACTIVIDADES PARA LA CONSERVACION DE LA MALLA VIAL LOCAL E INTERMEDIA Y ESPACIO PÚBLICO EN LA LOCALIDAD DE SUBA EN LA CIUDAD DE BOGOTA D.C”
C11: PRESUPUESTO TOTAL (IVA INCLUIDO): | D11: =+T63 -> 1700000000
C13: DURACION (meses): | D13: 11 | G13: PRELIMINAR | H13: EJECUCION DE OBRA
B14: CODIGO IDU | C14: PERSONAL ESPECIALISTA, PROFESIONAL O DE APOYO / DESCRIPCION | D14: CANTIDAD | E14: CATEGORIA / UNID | F14: Vr. H/MES $ SEGÚN CATEGORIA / VR. UNIT | G14: Mes 1 | H14: Mes2 | I14: Mes 3 | J14: Mes4 | K14: Mes5 | L14: Mes6 | M14: Mes7 | N14: Mes8 | O14: Mes9 | P14: Mes10 | Q14: Mes11 | R14: DEDICACION TOTAL | S14: FACTOR MULTIPLICADOR | T14: COSTO ($) TOTAL HOMBRES PROYECTO ETAPA OBRA (INCLUYE F.M)
C16: DIRECTOR/COORDINACIÓN
B17: 9109 | C17: Director de Interventoría | D17: 1 | E17: =+VLOOKUP(B17,F.M,4,FALSE) -> 3 | F17: =IFERROR(+_xlfn.XLOOKUP(B17,INSUMOS_IDU[Código],INSUMOS_IDU[Precio],"",0),"CODIGO IDU") -> 11183000 | G17: 0.5 | H17: 0.5 | I17: 0.5 | J17: 0.5 | K17: 0.5 | L17: 0.5 | M17: 0.5 | N17: 0.5 | O17: 0.5 | P17: 0.5 | Q17: 0.5 | R17: =D17*SUM(G17:Q17) -> 5.5 | S17: =+VLOOKUP(B17,F.M,7,FALSE) -> 2.3 | T17: =ROUND(F17*R17*S17,0) -> 141464950
B18: 9110 | C18: Residente de Interventoría | D18: 1 | E18: =+VLOOKUP(B18,F.M,4,FALSE) -> 4 | F18: =IFERROR(+_xlfn.XLOOKUP(B18,INSUMOS_IDU[Código],INSUMOS_IDU[Precio],"",0),"CODIGO IDU") -> 9522000 | G18: 1 | H18: 1 | I18: 1 | J18: 1 | K18: 1 | L18: 1 | M18: 1 | N18: 1 | O18: 1 | P18: 1 | Q18: 1 | R18: =D18*SUM(G18:Q18) -> 11 | S18: =+VLOOKUP(B18,F.M,7,FALSE) -> 2.3 | T18: =ROUND(F18*R18*S18,0) -> 240906600
C19: ESPECIALISTAS Y/O PROFESIONALES
C20: TRANSITO
B21: 9111 | C21: Especialista en Tránsito y Transporte | D21: 1 | E21: =+VLOOKUP(B21,F.M,4,FALSE) -> 5 | F21: =IFERROR(+_xlfn.XLOOKUP(B21,INSUMOS_IDU[Código],INSUMOS_IDU[Precio],"",0),"CODIGO IDU") -> 8589000 | G21: 0.25 | H21: 0.25 | I21: 0.25 | J21: 0.25 | K21: 0.25 | L21: 0.25 | M21: 0.25 | N21: 0.25 | O21: 0.25 | P21: 0.25 | Q21: 0.25 | R21: =D21*SUM(G21:Q21) -> 2.75 | S21: =+VLOOKUP(B21,F.M,7,FALSE) -> 2.3 | T21: =ROUND(F21*R21*S21,0) -> 54325425
C22: ESPACIO PUBLICO | F22: =IFERROR(+_xlfn.XLOOKUP(B22,INSUMOS_IDU[Código],INSUMOS_IDU[Precio],"",0),"CODIGO IDU")
B23: 9111 | C23: Especialista en urbanismo y espacio público | D23: 1 | E23: =+VLOOKUP(B23,F.M,4,FALSE) -> 5 | F23: =IFERROR(+_xlfn.XLOOKUP(B23,INSUMOS_IDU[Código],INSUMOS_IDU[Precio],"",0),"CODIGO IDU") -> 8589000 | G23: 0.25 | H23: 0.25 | I23: 0.25 | J23: 0.25 | K23: 0.25 | L23: 0.25 | M23: 0.25 | N23: 0.25 | O23: 0.25 | P23: 0.25 | Q23: 0.25 | R23: =D23*SUM(G23:Q23) -> 2.75 | S23: =+VLOOKUP(B23,F.M,7,FALSE) -> 2.3 | T23: =ROUND(F23*R23*S23,0) -> 54325425
C24: GEOTECNIA Y PAVIMENTOS | F24: =IFERROR(+_xlfn.XLOOKUP(B24,INSUMOS_IDU[Código],INSUMOS_IDU[Precio],"",0),"CODIGO IDU")
B25: 9111 | C25: Especialista en Geotecnia vial y pavimentos | D25: 1 | E25: =+VLOOKUP(B25,F.M,4,FALSE) -> 5 | F25: =IFERROR(+_xlfn.XLOOKUP(B25,INSUMOS_IDU[Código],INSUMOS_IDU[Precio],"",0),"CODIGO IDU") -> 8589000 | G25: 0.25 | H25: 0.25 | I25: 0.25 | J25: 0.25 | K25: 0.25 | L25: 0.25 | M25: 0.25 | N25: 0.25 | O25: 0.25 | P25: 0.25 | Q25: 0.25 | R25: =D25*SUM(G25:Q25) -> 2.75 | S25: =+VLOOKUP(B25,F.M,7,FALSE) -> 2.3 | T25: =ROUND(F25*R25*S25,0) -> 54325425
C26: REDES HIDROSANITARIAS | F26: =IFERROR(+_xlfn.XLOOKUP(B26,INSUMOS_IDU[Código],INSUMOS_IDU[Precio],"",0),"CODIGO IDU")
B27: 9112 | C27: Especialista Hidraulico | D27: 1 | E27: =+VLOOKUP(B27,F.M,4,FALSE) -> 6 | F27: =IFERROR(+_xlfn.XLOOKUP(B27,INSUMOS_IDU[Código],INSUMOS_IDU[Precio],"",0),"CODIGO IDU") -> 7659000 | G27: 0.25 | H27: 0.25 | I27: 0.25 | J27: 0.25 | K27: 0.25 | L27: 0.25 | M27: 0.25 | N27: 0.25 | O27: 0.25 | P27: 0.25 | Q27: 0.25 | R27: =D27*SUM(G27:Q27) -> 2.75 | S27: =+VLOOKUP(B27,F.M,7,FALSE) -> 2.3 | T27: =ROUND(F27*R27*S27,0) -> 48443175
C28: PRESUPUESTOS Y PROGRAMACION | F28: =IFERROR(+_xlfn.XLOOKUP(B28,INSUMOS_IDU[Código],INSUMOS_IDU[Precio],"",0),"CODIGO IDU")
B29: 9111 | C29: Profesional en presupuesto y programacion | D29: 1 | E29: =+VLOOKUP(B29,F.M,4,FALSE) -> 5 | F29: =IFERROR(+_xlfn.XLOOKUP(B29,INSUMOS_IDU[Código],INSUMOS_IDU[Precio],"",0),"CODIGO IDU") -> 8589000 | G29: 0.3 | H29: 0.3 | I29: 0.3 | J29: 0.3 | K29: 0.3 | L29: 0.3 | M29: 0.3 | N29: 0.3 | O29: 0.3 | P29: 0.3 | Q29: 0.3 | R29: =D29*SUM(G29:Q29) -> 3.3 | S29: =+VLOOKUP(B29,F.M,7,FALSE) -> 2.3 | T29: =ROUND(F29*R29*S29,0) -> 65190510
C30: GESTION AMBIENTAL | F30: =IFERROR(+_xlfn.XLOOKUP(B30,INSUMOS_IDU[Código],INSUMOS_IDU[Precio],"",0),"CODIGO IDU")
B31: 9112 | C31: Residente Ambiental | D31: 1 | E31: =+VLOOKUP(B31,F.M,4,FALSE) -> 6 | F31: =IFERROR(+_xlfn.XLOOKUP(B31,INSUMOS_IDU[Código],INSUMOS_IDU[Precio],"",0),"CODIGO IDU") -> 7659000 | G31: 0.25 | H31: 0.25 | I31: 0.25 | J31: 0.25 | K31: 0.25 | L31: 0.25 | M31: 0.25 | N31: 0.25 | O31: 0.25 | P31: 0.25 | Q31: 0.25 | R31: =D31*SUM(G31:Q31) -> 2.75 | S31: =+VLOOKUP(B31,F.M,7,FALSE) -> 2.3 | T31: =ROUND(F31*R31*S31,0) -> 48443175
B32: 9112 | C32: Residente en Seguridad y Salud en el Trabajo | D32: 1 | E32: =+VLOOKUP(B32,F.M,4,FALSE) -> 6 | F32: =IFERROR(+_xlfn.XLOOKUP(B32,INSUMOS_IDU[Código],INSUMOS_IDU[Precio],"",0),"CODIGO IDU") -> 7659000 | G32: 0.25 | H32: 0.25 | I32: 0.25 | J32: 0.25 | K32: 0.25 | L32: 0.25 | M32: 0.25 | N32: 0.25 | O32: 0.25 | P32: 0.25 | Q32: 0.25 | R32: =D32*SUM(G32:Q32) -> 2.75 | S32: =+VLOOKUP(B32,F.M,7,FALSE) -> 2.3 | T32: =ROUND(F32*R32*S32,0) -> 48443175
B33: 9112 | C33: Profesional Forestal | D33: 1 | E33: =+VLOOKUP(B33,F.M,4,FALSE) -> 6 | F33: =IFERROR(+_xlfn.XLOOKUP(B33,INSUMOS_IDU[Código],INSUMOS_IDU[Precio],"",0),"CODIGO IDU") -> 7659000 | G33: 0.1 | H33: 0 | I33: 0 | J33: 0.1 | K33: 0.1 | L33: 0 | M33: 0 | N33: 0.1 | O33: 0 | P33: 0.1 | Q33: 0.1 | R33: =D33*SUM(G33:Q33) -> 0.6 | S33: =+VLOOKUP(B33,F.M,7,FALSE) -> 2.3 | T33: =ROUND(F33*R33*S33,0) -> 10569420
C34: GESTION SOCIAL | F34: =IFERROR(+_xlfn.XLOOKUP(B34,INSUMOS_IDU[Código],INSUMOS_IDU[Precio],"",0),"CODIGO IDU")
B35: 9112 | C35: Residente Social | D35: 1 | E35: =+VLOOKUP(B35,F.M,4,FALSE) -> 6 | F35: =IFERROR(+_xlfn.XLOOKUP(B35,INSUMOS_IDU[Código],INSUMOS_IDU[Precio],"",0),"CODIGO IDU") -> 7659000 | G35: 0.5 | H35: 0.5 | I35: 0.5 | J35: 0.5 | K35: 0.5 | L35: 0.5 | M35: 0.5 | N35: 0.5 | O35: 0.5 | P35: 0.5 | Q35: 0.5 | R35: =D35*SUM(G35:Q35) -> 5.5 | S35: =+VLOOKUP(B35,F.M,7,FALSE) -> 2.3 | T35: =ROUND(F35*R35*S35,0) -> 96886350
C36: COMISION TOPOGRAFÍA | F36: =IFERROR(+_xlfn.XLOOKUP(B36,INSUMOS_IDU[Código],INSUMOS_IDU[Precio],"",0),"CODIGO IDU")
B37: 9088 | C37: =IFERROR(+_xlfn.XLOOKUP(B37,INSUMOS_IDU[Código],INSUMOS_IDU[Nombre],"",0),"CODIGO IDU") -> TARIFA MES - PERSONAL TÉCNICO - TOPÓGRAFO INSPECTOR (NO INCLUYE FACTOR DE PRESTACIONES) | D37: 1 | E37: =+VLOOKUP(B37,F.M,4,FALSE) -> 9088 | F37: =IFERROR(+_xlfn.XLOOKUP(B37,INSUMOS_IDU[Código],INSUMOS_IDU[Precio],"",0),"CODIGO IDU") -> 3736000 | G37: 0.5 | H37: 0.5 | I37: 0.5 | J37: 0.5 | K37: 0.5 | L37: 0.5 | M37: 0.5 | N37: 0.5 | O37: 0.5 | P37: 0.5 | Q37: 0.5 | R37: =D37*SUM(G37:Q37) -> 5.5 | S37: =+VLOOKUP(B37,F.M,7,FALSE) -> 2.3 | T37: =ROUND(F37*R37*S37,0) -> 47260400
B38: 9098 | C38: =IFERROR(+_xlfn.XLOOKUP(B38,INSUMOS_IDU[Código],INSUMOS_IDU[Nombre],"",0),"CODIGO IDU") -> TARIFA MES - PERSONAL AUXILIAR TÉCNICO - CADENERO 1 (NO INCLUYE FACTOR DE PRESTACIONES) | D38: 1 | E38: =+VLOOKUP(B38,F.M,4,FALSE) -> 9098 | F38: =IFERROR(+_xlfn.XLOOKUP(B38,INSUMOS_IDU[Código],INSUMOS_IDU[Precio],"",0),"CODIGO IDU") -> 2316000 | G38: 1 | H38: 1 | I38: 1 | J38: 1 | K38: 1 | L38: 1 | M38: 1 | N38: 1 | O38: 1 | P38: 1 | Q38: 1 | R38: =D38*SUM(G38:Q38) -> 11 | S38: =+VLOOKUP(B38,F.M,7,FALSE) -> 2.45 | T38: =ROUND(F38*R38*S38,0) -> 62416200
B39: 9099 | C39: =IFERROR(+_xlfn.XLOOKUP(B39,INSUMOS_IDU[Código],INSUMOS_IDU[Nombre],"",0),"CODIGO IDU") -> TARIFA MES - PERSONAL AUXILIAR TÉCNICO - CADENERO 2 (NO INCLUYE FACTOR DE PRESTACIONES) | D39: 1 | E39: =+VLOOKUP(B39,F.M,4,FALSE) -> 9099 | F39: =IFERROR(+_xlfn.XLOOKUP(B39,INSUMOS_IDU[Código],INSUMOS_IDU[Precio],"",0),"CODIGO IDU") -> 2018000 | G39: 1 | H39: 1 | I39: 1 | J39: 1 | K39: 1 | L39: 1 | M39: 1 | N39: 1 | O39: 1 | P39: 1 | Q39: 1 | R39: =D39*SUM(G39:Q39) -> 11 | S39: =+VLOOKUP(B39,F.M,7,FALSE) -> 2.45 | T39: =ROUND(F39*R39*S39,0) -> 54385100
C40: PERSONAL AUXILIAR TECNICO | F40: =IFERROR(+_xlfn.XLOOKUP(B40,INSUMOS_IDU[Código],INSUMOS_IDU[Precio],"",0),"CODIGO IDU")
B41: 9093 | C41: =IFERROR(+_xlfn.XLOOKUP(B41,INSUMOS_IDU[Código],INSUMOS_IDU[Nombre],"",0),"CODIGO IDU") -> TARIFA MES - PERSONAL TÉCNICO - INSPECTOR 1 (NO INCLUYE FACTOR DE PRESTACIONES) | D41: 2 | E41: =+VLOOKUP(B41,F.M,4,FALSE) -> 9093 | F41: =IFERROR(+_xlfn.XLOOKUP(B41,INSUMOS_IDU[Código],INSUMOS_IDU[Precio],"",0),"CODIGO IDU") -> 2718000 | G41: 1 | H41: 1 | I41: 1 | J41: 1 | K41: 1 | L41: 1 | M41: 1 | N41: 1 | O41: 1 | P41: 1 | Q41: 1 | R41: =D41*SUM(G41:Q41) -> 22 | S41: =+VLOOKUP(B41,F.M,7,FALSE) -> 2.45 | T41: =ROUND(F41*R41*S41,0) -> 146500200
B42: 9089 | C42: =IFERROR(+_xlfn.XLOOKUP(B42,INSUMOS_IDU[Código],INSUMOS_IDU[Nombre],"",0),"CODIGO IDU") -> TARIFA MES - PERSONAL TÉCNICO - LABORATORISTA INSPECTOR (NO INCLUYE FACTOR DE PRESTACIONES) | D42: 1 | E42: =+VLOOKUP(B42,F.M,4,FALSE) -> 9089 | F42: =IFERROR(+_xlfn.XLOOKUP(B42,INSUMOS_IDU[Código],INSUMOS_IDU[Precio],"",0),"CODIGO IDU") -> 3310000 | G42: 0.5 | H42: 0.5 | I42: 0.5 | J42: 0.5 | K42: 0.5 | L42: 0.5 | M42: 0.5 | N42: 0.5 | O42: 0.5 | P42: 0.5 | Q42: 0.5 | R42: =D42*SUM(G42:Q42) -> 5.5 | S42: =+VLOOKUP(B42,F.M,7,FALSE) -> 2.45 | T42: =ROUND(F42*R42*S42,0) -> 44602250
C43: PERSONAL ADMINISTRATIVO | F43: =IFERROR(+_xlfn.XLOOKUP(B43,INSUMOS_IDU[Código],INSUMOS_IDU[Precio],"",0),"CODIGO IDU")
B44: 9104 | C44: =IFERROR(+_xlfn.XLOOKUP(B44,INSUMOS_IDU[Código],INSUMOS_IDU[Nombre],"",0),"CODIGO IDU") -> TARIFA MES - PERSONAL ADMINISTRATIVO - SECRETARIA 1 (NO INCLUYE FACTOR DE PRESTACIONES) | D44: 1 | E44: =+VLOOKUP(B44,F.M,4,FALSE) -> 9104 | F44: =IFERROR(+_xlfn.XLOOKUP(B44,INSUMOS_IDU[Código],INSUMOS_IDU[Precio],"",0),"CODIGO IDU") -> 2018000 | G44: 0.25 | H44: 0.25 | I44: 0.25 | J44: 0.25 | K44: 0.25 | L44: 0.25 | M44: 0.25 | N44: 0.25 | O44: 0.25 | P44: 0.25 | Q44: 0.25 | R44: =D44*SUM(G44:Q44) -> 2.75 | S44: =+VLOOKUP(B44,F.M,7,FALSE) -> 2.45 | T44: =ROUND(F44*R44*S44,0) -> 13596275
C45: OTRO PERSONAL | F45: =IFERROR(+_xlfn.XLOOKUP(B45,INSUMOS_IDU[Código],INSUMOS_IDU[Precio],"",0),"CODIGO IDU")
B46: 9100 | C46: =IFERROR(+_xlfn.XLOOKUP(B46,INSUMOS_IDU[Código],INSUMOS_IDU[Nombre],"",0),"CODIGO IDU") -> TARIFA MES - PERSONAL AUXILIAR TÉCNICO - CONDUCTOR O MOTORISTA (NO INCLUYE FACTOR DE PRESTACIONES) | D46: 1 | E46: =+VLOOKUP(B46,F.M,4,FALSE) -> 9100 | F46: =IFERROR(+_xlfn.XLOOKUP(B46,INSUMOS_IDU[Código],INSUMOS_IDU[Precio],"",0),"CODIGO IDU") -> 1750905 | G46: 1 | H46: 1 | I46: 1 | J46: 1 | K46: 1 | L46: 1 | M46: 1 | N46: 1 | O46: 1 | P46: 1 | Q46: 1 | R46: =D46*SUM(G46:Q46) -> 11 | S46: =+VLOOKUP(B46,F.M,7,FALSE) -> 2.45 | T46: =ROUND(F46*R46*S46,0) -> 47186890
...

Sheet PRECIOS APU 2025
B2: Origen | C2: Capítulo | D2: Subcapítulo | E2: Código | F2: Nombre | G2: UM | H2: Valor | I2: Fecha de actualización
B3: Antiguo | C3: EXCAVACIONES | D3: EXC. CONFORMACIÓN DE SUBRASANTE | E3: 3007 | F3: REPLANTEO GENERAL | G3: M2 | H3: 1081 | I3: Actualización 2026-I Fase II + M.O. Ley 2101 de 2021
B4: Antiguo | C4: EXCAVACIONES | D4: EXC. ESTRUCTURAS Y REDES | E4: 3009 | F4: EXCAVACION MANUAL PARA REDES PROFUNDIDAD 0M - 2M (INCLUYE CARGUE) | G4: M3 | H4: 58471 | I4: Actualización 2026-I Fase II + M.O. Ley 2101 de 2021
B5: Antiguo | C5: DEMOLICIONES | D5: DEMOLICIONES | E5: 3010 | F5: DEMOLICION PAVIMENTO ASFALTICO (INCLUYE CARGUE). NO INCLUYE TRANSPORTE Y DISPOSICIÓN FINAL DE SOBRANTES. | G5: M3 | H5: 43555 | I5: Actualización 2026-I Fase II + M.O. Ley 2101 de 2021
B6: Antiguo | C6: DEMOLICIONES | D6: DEMOLICIONES | E6: 3011 | F6: DEMOLICION MANUAL SARDINEL EXISTENTE (INCLUYE CARGUE). NO INCLUYE TRANSPORTE Y DISPOSICIÓN FINAL DE SOBRANTES. | G6: ML | H6: 8176 | I6: Actualización 2026-I Fase II + M.O. Ley 2101 de 2021
B7: Antiguo | C7: DEMOLICIONES | D7: DEMOLICIONES | E7: 3012 | F7: DEMOLICIÓN PISOS DE CONCRETO (ESPESOR VARIABLE HASTA 0.10 M. INCLUYE CARGUE). NO INCLUYE TRANSPORTE Y DISPOSICIÓN FINAL DE SOBRANTES. | G7: M2 | H7: 9583 | I7: Actualización 2026-I Fase II + M.O. Ley 2101 de 2021
B8: Antiguo | C8: REDES ELECTRICAS | D8: RED ELECTRICA CODENSA | E8: 3015 | F8: RETIRO DE POSTES DE AP/LA (INCLUYE TRASLADO A SITIO DE ACOPIO) | G8: UN | H8: 256334 | I8: Actualización 2026-I Fase II + M.O. Ley 2101 de 2021
B9: Antiguo | C9: TRANSPORTES Y ACARREOS | D9: TRANSPORTES Y ACARREOS | E9: 3017 | F9: TRANSPORTE Y DISPOSICIÓN FINAL DE ESCOMBROS EN SITIO AUTORIZADO (DISTANCIA DE TRANSPORTE 21 KM). A DISTANCIA MAYOR DEL ACARREO LIBRE (90 M) EN SITIO AUTORIZADO POR LA ENTIDAD AMBIENTAL COMPETENTE. | G9: M3 | H9: 45734 | I9: Actualización 2026-I Fase I
B10: Antiguo | C10: RELLENOS Y CAPAS GRANULARES | D10: RELLENOS EN TIERRA | E10: 3018 | F10: RELLENO EN TIERRA NEGRA PARA EMPRADIZACION (SUMINISTRO Y EXTENDIDO) | G10: M3 | H10: 111152 | I10: Actualización 2026-I Fase II + M.O. Ley 2101 de 2021
B11: Antiguo | C11: DEMOLICIONES | D11: DEMOLICIONES | E11: 3021 | F11: DEMOLICION PAVIMENTO ASFALTICO (ESPESOR VARIABLE. INCLUYE CARGUE). NO INCLUYE TRANSPORTE Y DISPOSICIÓN FINAL DE SOBRANTES. | G11: M2 | H11: 8838 | I11: Actualización 2026-I Fase II + M.O. Ley 2101 de 2021
B12: Antiguo | C12: DEMOLICIONES | D12: DEMOLICIONES | E12: 3022 | F12: DEMOLICIÓN PISOS DE CONCRETO (INCLUYE CARGUE). NO INCLUYE TRANSPORTE Y DISPOSICIÓN FINAL DE SOBRANTES. | G12: M3 | H12: 64547 | I12: Actualización 2026-I Fase II + M.O. Ley 2101 de 2021
B13: Antiguo | C13: RELLENOS Y CAPAS GRANULARES | D13: RELLENOS PARA ANDENES Y REDES | E13: 3024 | F13: RELLENO PARA REDES EN ARENA DE PEÑA (SUMINISTRO, EXTENDIDO, HUMEDECIMIENTO Y COMPACTACIÓN) | G13: M3 | H13: 182185 | I13: Actualización 2026-I Fase II + M.O. Ley 2101 de 2021
B14: Antiguo | C14: ANDENES Y SARDINELES | D14: SARDINELES Y BORDILLOS | E14: 3027 | F14: SARDINEL TIPO A10 (SUMINISTRO E INSTALACIÓN. INCLUYE 3CM MORTERO 1:5) | G14: ML | H14: 90524 | I14: Actualización 2026-I Fase II + M.O. Ley 2101 de 2021
... B3179: Demanda | C3179: TRANSPORTES Y ACARREOS | D3179: TRANSPORTES Y ACARREOS | E3179: 10959 | F3179: SERVICIO DE GRÚA REMOLQUE TIPO PLANCHÓN, CON CAPACIDAD DE CARGA HASTA 15 TON (INCLUYE CONDUCTOR, COMBUSTIBLE, MOVILIZACIÓN Y DESMOVILIZACIÓN), DESTINADO AL DESPEJE DE VÍAS, EN EL MARCO DEL PLAN DE CONTINGENCIA DEL PLAN DE MANEJO DE TRÁNSITO (PMT) APROBADO POR LA SECRETARIA DISTRITAL DE MOVILIDAD, CONFORME AL PROTOCOLO PM02-PR01-PT01 EN SU NUMERAL 4.3.6.16. (HORARIO NOCTURNO - TARIFA PARA 12 HORAS). | G3179: UN/DIA | H3179: 1800000 | I3179: Actualización 2026-I Fase II + M.O. Ley 2101 de 2021

Sheet INSUMOS 2025
B2: Origen | C2: Grupo de base de datos | D2: Código | E2: Nombre | F2: UM | G2: Precio | H2: Fecha de Actualización
B3: Demanda | C3: CONCRETOS Y MORTEROS PREMEZCLADOS | D3: 322 | E3: CONCRETO GRAVA COMÚN 2000 PSI 14 MPa (140 Kg/m2) | F3: M3 | G3: 564303 | H3: Actualización 2026-I Fase I
B4: Demanda | C4: CONCRETOS Y MORTEROS PREMEZCLADOS | D4: 323 | E4: CONCRETO GRAVA COMÚN 2500 PSI 17 MPa (175 Kg/cm2) | F4: M3 | G4: 599299 | H4: Actualización 2026-I Fase I
B5: Demanda | C5: CONCRETOS Y MORTEROS PREMEZCLADOS | D5: 324 | E5: CONCRETO GRAVA COMÚN 3000 PSI 21 MPa (210 Kg/cm2) | F5: M3 | G5: 603117 | H5: Actualización 2026-I Fase I
B6: Demanda | C6: CONCRETOS Y MORTEROS PREMEZCLADOS | D6: 325 | E6: CONCRETO GRAVA COMÚN 3500 PSI 24 MPa (245 Kg/cm2) | F6: M3 | G6: 619564 | H6: Actualización 2026-I Fase I
B7: Demanda | C7: CONCRETOS Y MORTEROS PREMEZCLADOS | D7: 326 | E7: CONCRETO GRAVA COMÚN 4000 PSI 28 MPa (280 Kg/cm2) | F7: M3 | G7: 637080 | H7: Actualización 2026-I Fase I
B8: Demanda | C8: CONCRETOS Y MORTEROS PREMEZCLADOS | D8: 328 | E8: CONCRETO GRAVA COMÚN 5000 PSI 34 MPa (350 Kg/cm2) | F8: M3 | G8: 663148 | H8: Actualización 2026-I Fase I
B9: Demanda | C9: CONCRETOS Y MORTEROS PREMEZCLADOS | D9: 333 | E9: CONCRETO GRAVA FINA 3000 PSI 21 MPa (210 Kg/cm2) | F9: M3 | G9: 616932 | H9: Actualización 2026-I Fase I
B10: Demanda | C10: CONCRETOS Y MORTEROS PREMEZCLADOS | D10: 366 | E10: MORTERO 2000 PSI 14 MPa (140 Kg/cm2) | F10: M3 | G10: 724353 | H10: Actualización 2026-I Fase I
B11: Demanda | C11: EQUIPO PESADO | D11: 1505 | E11: COMPACTADOR DE LLANTAS - MASA SIN LASTRES DE 9 A 11 TONELADAS - INCLUYE OPERARIO Y COMBUSTIBLE | F11: HR | G11: 196044 | H11: Actualización 2026-I Fase I
B12: Demanda | C12: ARBOLES-GRAMAS-VEGETACIÓN Y PLANTACIÓN PAISAJÍSTIC | D12: 1512 | E12: GRAMA | F12: M2 | G12: 19722 | H12: Actualización 2026-I Fase I
B13: Demanda | C13: FORMALETAS, ANDAMIOS Y ACCESORIOS | D13: 1515 | E13: FORMALETA METÁLICA SARDINEL | F13: ML/DI | G13: 1131 | H13: Actualización 2026-I Fase I
B14: Demanda | C14: MALLAS Y ACEROS PARA REFUERZO | D14: 1794 | E14: ALAMBRE RECOCIDO No.18 | F14: KG | G14: 5711 | H14: Actualización 2026-I Fase I
... B2736: Demanda | C2736: EQUIPO PESADO | D2736: 13850 | E2736: SERVICIO DE GRÚA REMOLQUE TIPO PLANCHÓN, CON CAPACIDAD DE CARGA HASTA 15 TON (INCLUYE CONDUCTOR, COMBUSTIBLE, MOVILIZACIÓN Y DESMOVILIZACIÓN), DESTINADO AL DESPEJE DE VÍAS, EN EL MARCO DEL PLAN DE CONTINGENCIA DEL PLAN DE MANEJO DE TRÁNSITO (PMT) APROBADO POR LA SECRETARIA DISTRITAL DE MOVILIDAD, CONFORME AL PROTOCOLO PM02-PR01-PT01 EN SU NUMERAL 4.3.6.16. (HORARIO NOCTURNO - TARIFA PARA 12 HORAS). | F2736: DIA | G2736: 1800000 | H2736: Actualización 2026-I Fase II + M.O. Ley 2101 de 2021

Sheet F.M
B1: INSTITUTO DE DESARROLLO URBANO IDU
B2: "POR LA CUAL SE ESTABLECEN LOS TOPES MÁXIMOS PARA SUELDOS Y DEMÁS GASTOS QUE SE PUEDEN PAGAR EN LOS CONTRATOS DE CONSULTORÍA, POR EL SISTEMA DE COBRO DE COSTOS DIRECTOS MÁS SUELDOS AFECTADOS POR UN MULTIPLICADOR"
G4: AÑO 2026
G5: SALARIO | I5: FACTOR MULTIPLICADOR | K5: 1700000000 | L5: =+K5/G6 -> 970.92646
C6: CODIGO IDU | D6: PERSONAL | E6: DESCRIPCIÓN | F6: CATEGORIA | G6: 1750905 | H6: SMLMV | I6: CALENDARIO SIN EXTRAS | L6: =+'D. ENTRADA'!D17 -> 1700000000
B7: PERSONAL PROFESIONAL | C7: 9107 | D7: Categoría 1 | E7: =IFERROR(+_xlfn.XLOOKUP(C7,INSUMOS_IDU[Código],INSUMOS_IDU[Nombre],"",0),"CODIGO IDU") -> TARIFA MES - PROFESIONAL CATEGORÍA 1 (NO INCLUYE FACTOR DE PRESTACIONES) | F7: 1 | G7: =IFERROR(+_xlfn.XLOOKUP(C7,INSUMOS_IDU[Código],INSUMOS_IDU[Precio],"",0),"CODIGO IDU") -> 17387000 | H7: =G7/$G$6 -> 9.9302932 | I7: 2.3 | L7: =+L6/G6 -> 970.92646
C8: 9108 | D8: Categoría 2 | E8: =IFERROR(+_xlfn.XLOOKUP(C8,INSUMOS_IDU[Código],INSUMOS_IDU[Nombre],"",0),"CODIGO IDU") -> TARIFA MES - PROFESIONAL CATEGORÍA 2 (NO INCLUYE FACTOR DE PRESTACIONES) | F8: 2 | G8: =IFERROR(+_xlfn.XLOOKUP(C8,INSUMOS_IDU[Código],INSUMOS_IDU[Precio],"",0),"CODIGO IDU") -> 13251000 | H8: =G8/$G$6 -> 7.5680862 | I8: 2.3
C9: 9109 | D9: Categoría 3 | E9: =IFERROR(+_xlfn.XLOOKUP(C9,INSUMOS_IDU[Código],INSUMOS_IDU[Nombre],"",0),"CODIGO IDU") -> TARIFA MES - PROFESIONAL CATEGORÍA 3 (NO INCLUYE FACTOR DE PRESTACIONES) | F9: 3 | G9: =IFERROR(+_xlfn.XLOOKUP(C9,INSUMOS_IDU[Código],INSUMOS_IDU[Precio],"",0),"CODIGO IDU") -> 11183000 | H9: =G9/$G$6 -> 6.3869827 | I9: 2.3
C10: 9110 | D10: Categoría 4 | E10: =IFERROR(+_xlfn.XLOOKUP(C10,INSUMOS_IDU[Código],INSUMOS_IDU[Nombre],"",0),"CODIGO IDU") -> TARIFA MES - PROFESIONAL CATEGORÍA 4 (NO INCLUYE FACTOR DE PRESTACIONES) | F10: 4 | G10: =IFERROR(+_xlfn.XLOOKUP(C10,INSUMOS_IDU[Código],INSUMOS_IDU[Precio],"",0),"CODIGO IDU") -> 9522000 | H10: =G10/$G$6 -> 5.4383305 | I10: 2.3
C11: 9111 | D11: Categoría 5 | E11: =IFERROR(+_xlfn.XLOOKUP(C11,INSUMOS_IDU[Código],INSUMOS_IDU[Nombre],"",0),"CODIGO IDU") -> TARIFA MES - PROFESIONAL CATEGORÍA 5 (NO INCLUYE FACTOR DE PRESTACIONES) | F11: 5 | G11: =IFERROR(+_xlfn.XLOOKUP(C11,INSUMOS_IDU[Código],INSUMOS_IDU[Precio],"",0),"CODIGO IDU") -> 8589000 | H11: =G11/$G$6 -> 4.9054632 | I11: 2.3
C12: 9112 | D12: Categoría 6 | E12: =IFERROR(+_xlfn.XLOOKUP(C12,INSUMOS_IDU[Código],INSUMOS_IDU[Nombre],"",0),"CODIGO IDU") -> TARIFA MES - PROFESIONAL CATEGORÍA 6 (NO INCLUYE FACTOR DE PRESTACIONES) | F12: 6 | G12: =IFERROR(+_xlfn.XLOOKUP(C12,INSUMOS_IDU[Código],INSUMOS_IDU[Precio],"",0),"CODIGO IDU") -> 7659000 | H12: =G12/$G$6 -> 4.3743093 | I12: 2.3
C13: 9113 | D13: Categoría 7 | E13: =IFERROR(+_xlfn.XLOOKUP(C13,INSUMOS_IDU[Código],INSUMOS_IDU[Nombre],"",0),"CODIGO IDU") -> TARIFA MES - PROFESIONAL CATEGORÍA 7 (NO INCLUYE FACTOR DE PRESTACIONES) | F13: 7 | G13: =IFERROR(+_xlfn.XLOOKUP(C13,INSUMOS_IDU[Código],INSUMOS_IDU[Precio],"",0),"CODIGO IDU") -> 5791000 | H13: =G13/$G$6 -> 3.3074324 | I13: 2.3
F14: CODIGO IDU
B15: PERSONAL TECNICO | C15: 9084 | D15: Tecnólogo en áreas de Ingeniería | E15: =IFERROR(+_xlfn.XLOOKUP(C15,INSUMOS_IDU[Código],INSUMOS_IDU[Nombre],"",0),"CODIGO IDU") -> TARIFA MES - PERSONAL TÉCNICO-TECNÓLOGO EN ÁREAS DE INGENIERÍA (NO INCLUYE FACTOR DE PRESTACIONES) | F15: =+C15 -> 9084 | G15: =IFERROR(+_xlfn.XLOOKUP(C15,INSUMOS_IDU[Código],INSUMOS_IDU[Precio],"",0),"CODIGO IDU") -> 3584000 | H15: =G15/$G$6 -> 2.0469414 | I15: 2.3
C16: 9085 | D16: Auxiliar de Ingeniería | E16: =IFERROR(+_xlfn.XLOOKUP(C16,INSUMOS_IDU[Código],INSUMOS_IDU[Nombre],"",0),"CODIGO IDU") -> TARIFA MES - PERSONAL TÉCNICO - AUXILIAR DE INGENIERÍA (NO INCLUYE FACTOR DE PRESTACIONES) | F16: =+C16 -> 9085 | G16: =IFERROR(+_xlfn.XLOOKUP(C16,INSUMOS_IDU[Código],INSUMOS_IDU[Precio],"",0),"CODIGO IDU") -> 3150000 | H16: =G16/$G$6 -> 1.7990696 | I16: 2.45
C17: 9086 | D17: Dibujante 1 | E17: =IFERROR(+_xlfn.XLOOKUP(C17,INSUMOS_IDU[Código],INSUMOS_IDU[Nombre],"",0),"CODIGO IDU") -> TARIFA MES - PERSONAL TÉCNICO - DIBUJANTE 1 (NO INCLUYE FACTOR DE PRESTACIONES) | F17: =+C17 -> 9086 | G17: =IFERROR(+_xlfn.XLOOKUP(C17,INSUMOS_IDU[Código],INSUMOS_IDU[Precio],"",0),"CODIGO IDU") -> 3303000 | H17: =G17/$G$6 -> 1.886453 | I17: 2.45
C18: 9087 | D18: Dibujante 2 | E18: =IFERROR(+_xlfn.XLOOKUP(C18,INSUMOS_IDU[Código],INSUMOS_IDU[Nombre],"",0),"CODIGO IDU") -> TARIFA MES - PERSONAL TÉCNICO - DIBUJANTE 2 (NO INCLUYE FACTOR DE PRESTACIONES) | F18: =+C18 -> 9087 | G18: =IFERROR(+_xlfn.XLOOKUP(C18,INSUMOS_IDU[Código],INSUMOS_IDU[Precio],"",0),"CODIGO IDU") -> 2670000 | H18: =G18/$G$6 -> 1.5249257 | I18: 2.45
C19: 9088 | D19: Topógrafo Inspector | E19: =IFERROR(+_xlfn.XLOOKUP(C19,INSUMOS_IDU[Código],INSUMOS_IDU[Nombre],"",0),"CODIGO IDU") -> TARIFA MES - PERSONAL TÉCNICO - TOPÓGRAFO INSPECTOR (NO INCLUYE FACTOR DE PRESTACIONES) | F19: =+C19 -> 9088 | G19: =IFERROR(+_xlfn.XLOOKUP(C19,INSUMOS_IDU[Código],INSUMOS_IDU[Precio],"",0),"CODIGO IDU") -> 3736000 | H19: =G19/$G$6 -> 2.1337537 | I19: 2.3
C20: 9095 | D20: Topógrafo Auxiliar | E20: =IFERROR(+_xlfn.XLOOKUP(C20,INSUMOS_IDU[Código],INSUMOS_IDU[Nombre],"",0),"CODIGO IDU") -> TARIFA MES - PERSONAL TÉCNICO - TOPÓGRAFO AUXILIAR (NO INCLUYE FACTOR DE PRESTACIONES) | F20: =+C20 -> 9095 | G20: =IFERROR(+_xlfn.XLOOKUP(C20,INSUMOS_IDU[Código],INSUMOS_IDU[Precio],"",0),"CODIGO IDU") -> 3064000 | H20: =G20/$G$6 -> 1.7499522 | I20: 2.45
C21: 9096 | D21: Batimetrista Inspector | E21: =IFERROR(+_xlfn.XLOOKUP(C21,INSUMOS_IDU[Código],INSUMOS_IDU[Nombre],"",0),"CODIGO IDU") -> TARIFA MES - PERSONAL TÉCNICO - BATIMETRISTA INSPECTOR (NO INCLUYE FACTOR DE PRESTACIONES) | F21: =+C21 -> 9096 | G21: =IFERROR(+_xlfn.XLOOKUP(C21,INSUMOS_IDU[Código],INSUMOS_IDU[Precio],"",0),"CODIGO IDU") -> 3736000 | H21: =G21/$G$6 -> 2.1337537 | I21: 2.3
C22: 9097 | D22: Batimetrista Auxiliar | E22: =IFERROR(+_xlfn.XLOOKUP(C22,INSUMOS_IDU[Código],INSUMOS_IDU[Nombre],"",0),"CODIGO IDU") -> TARIFA MES - PERSONAL TÉCNICO - BATIMETRISTA AUXILIAR (NO INCLUYE FACTOR DE PRESTACIONES) | F22: =+C22 -> 9097 | G22: =IFERROR(+_xlfn.XLOOKUP(C22,INSUMOS_IDU[Código],INSUMOS_IDU[Precio],"",0),"CODIGO IDU") -> 3064000 | H22: =G22/$G$6 -> 1.7499522 | I22: 2.45
C23: 9089 | D23: Laboratorista Inspector | E23: =IFERROR(+_xlfn.XLOOKUP(C23,INSUMOS_IDU[Código],INSUMOS_IDU[Nombre],"",0),"CODIGO IDU") -> TARIFA MES - PERSONAL TÉCNICO - LABORATORISTA INSPECTOR (NO INCLUYE FACTOR DE PRESTACIONES) | F23: =+C23 -> 9089 | G23: =IFERROR(+_xlfn.XLOOKUP(C23,INSUMOS_IDU[Código],INSUMOS_IDU[Precio],"",0),"CODIGO IDU") -> 3310000 | H23: =G23/$G$6 -> 1.8904509 | I23: 2.45
C24: 9090 | D24: Laboratorista Auxiliar | E24: =IFERROR(+_xlfn.XLOOKUP(C24,INSUMOS_IDU[Código],INSUMOS_IDU[Nombre],"",0),"CODIGO IDU") -> TARIFA MES - PERSONAL TÉCNICO - LABORATORISTA AUXILIAR (NO INCLUYE FACTOR DE PRESTACIONES) | F24: =+C24 -> 9090 | G24: =IFERROR(+_xlfn.XLOOKUP(C24,INSUMOS_IDU[Código],INSUMOS_IDU[Precio],"",0),"CODIGO IDU") -> 2316000 | H24: =G24/$G$6 -> 1.3227445 | I24: 2.45
C25: 9091 | D25: Operador Equipo de Perforación | E25: =IFERROR(+_xlfn.XLOOKUP(C25,INSUMOS_IDU[Código],INSUMOS_IDU[Nombre],"",0),"CODIGO IDU") -> TARIFA MES - PERSONAL TÉCNICO - OPERADOR EQUIPO PERFORACIÓN (INCLUYE FACTOR DE PRESTACIONES) | F25: =+C25 -> 9091 | G25: =IFERROR(+_xlfn.XLOOKUP(C25,INSUMOS_IDU[Código],INSUMOS_IDU[Precio],"",0),"CODIGO IDU") -> 4690453 | H25: =G25/$G$6 -> 2.6788735 | I25: 2.3
C26: 9092 | D26: Operador Auxiliar de Equipo | E26: =IFERROR(+_xlfn.XLOOKUP(C26,INSUMOS_IDU[Código],INSUMOS_IDU[Nombre],"",0),"CODIGO IDU") -> TARIFA MES - PERSONAL TÉCNICO - OPERADOR AUXILIAR DE EQUIPO (INCLUYE FACTOR DE PRESTACIONES) | F26: =+C26 -> 9092 | G26: =IFERROR(+_xlfn.XLOOKUP(C26,INSUMOS_IDU[Código],INSUMOS_IDU[Precio],"",0),"CODIGO IDU") -> 3264239 | H26: =G26/$G$6 -> 1.8643153 | I26: 2.3
C27: 9093 | D27: Inspector 1 | E27: =IFERROR(+_xlfn.XLOOKUP(C27,INSUMOS_IDU[Código],INSUMOS_IDU[Nombre],"",0),"CODIGO IDU") -> TARIFA MES - PERSONAL TÉCNICO - INSPECTOR 1 (NO INCLUYE FACTOR DE PRESTACIONES) | F27: =+C27 -> 9093 | G27: =IFERROR(+_xlfn.XLOOKUP(C27,INSUMOS_IDU[Código],INSUMOS_IDU[Precio],"",0),"CODIGO IDU") -> 2718000 | H27: =G27/$G$6 -> 1.5523401 | I27: 2.45
C28: 9457 | D28: Inspector 1 horario nocturno - no incluye prestaciones | E28: =IFERROR(+_xlfn.XLOOKUP(C28,INSUMOS_IDU[Código],INSUMOS_IDU[Nombre],"",0),"CODIGO IDU") -> TARIFA MES - PERSONAL DE OBRA - INSPECTOR 1 HORARIO NOCTURNO (NO INCLUYE FACTOR DE PRESTACIONES) | F28: =+C28 -> 9457 | G28: =IFERROR(+_xlfn.XLOOKUP(C28,INSUMOS_IDU[Código],INSUMOS_IDU[Precio],"",0),"CODIGO IDU") -> 3669300 | H28: =G28/$G$6 -> 2.0956591 | I28: 2.3
C29: 9094 | D29: Inspector 2 | E29: =IFERROR(+_xlfn.XLOOKUP(C29,INSUMOS_IDU[Código],INSUMOS_IDU[Nombre],"",0),"CODIGO IDU") -> TARIFA MES - PERSONAL TÉCNICO - INSPECTOR 2 (NO INCLUYE FACTOR DE PRESTACIONES) | F29: =+C29 -> 9094 | G29: =IFERROR(+_xlfn.XLOOKUP(C29,INSUMOS_IDU[Código],INSUMOS_IDU[Precio],"",0),"CODIGO IDU") -> 2447000 | H29: =G29/$G$6 -> 1.397563 | I29: 2.45
B31: PERSONAL ADMINISTRATIVO | C31: 9102 | D31: Administrador | E31: =IFERROR(+_xlfn.XLOOKUP(C31,INSUMOS_IDU[Código],INSUMOS_IDU[Nombre],"",0),"CODIGO IDU") -> TARIFA MES - PERSONAL ADMINISTRATIVO - ADMINISTRADOR (NO INCLUYE FACTOR DE PRESTACIONES) | F31: =+C31 -> 9102 | G31: =IFERROR(+_xlfn.XLOOKUP(C31,INSUMOS_IDU[Código],INSUMOS_IDU[Precio],"",0),"CODIGO IDU") -> 3479000 | H31: =G31/$G$6 -> 1.9869725 | I31: 2.45
C32: 9103 | D32: Auxiliar Administrativo | E32: =IFERROR(+_xlfn.XLOOKUP(C32,INSUMOS_IDU[Código],INSUMOS_IDU[Nombre],"",0),"CODIGO IDU") -> TARIFA MES - PERSONAL ADMINISTRATIVO - AUXILIAR ADMINISTRATIVO-ALMACENISTA (NO INCLUYE FACTOR DE PRESTACIONES) | F32: =+C32 -> 9103 | G32: =IFERROR(+_xlfn.XLOOKUP(C32,INSUMOS_IDU[Código],INSUMOS_IDU[Precio],"",0),"CODIGO IDU") -> 2481000 | H32: =G32/$G$6 -> 1.4169815 | I32: 2.45
C33: 9104 | D33: Secretaria 1 | E33: =IFERROR(+_xlfn.XLOOKUP(C33,INSUMOS_IDU[Código],INSUMOS_IDU[Nombre],"",0),"CODIGO IDU") -> TARIFA MES - PERSONAL ADMINISTRATIVO - SECRETARIA 1 (NO INCLUYE FACTOR DE PRESTACIONES) | F33: =+C33 -> 9104 | G33: =IFERROR(+_xlfn.XLOOKUP(C33,INSUMOS_IDU[Código],INSUMOS_IDU[Precio],"",0),"CODIGO IDU") -> 2018000 | H33: =G33/$G$6 -> 1.1525468 | I33: 2.45
C34: 9105 | D34: Secretaria 2 | E34: =IFERROR(+_xlfn.XLOOKUP(C34,INSUMOS_IDU[Código],INSUMOS_IDU[Nombre],"",0),"CODIGO IDU") -> TARIFA MES - PERSONAL ADMINISTRATIVO - SECRETARIA 2 (NO INCLUYE FACTOR DE PRESTACIONES) | F34: =+C34 -> 9105 | G34: =IFERROR(+_xlfn.XLOOKUP(C34,INSUMOS_IDU[Código],INSUMOS_IDU[Precio],"",0),"CODIGO IDU") -> 1750905 | H34: =G34/$G$6 -> 1 | I34: 2.45
G35: =IFERROR(+_xlfn.XLOOKUP(C35,INSUMOS_IDU[Código],INSUMOS_IDU[Precio],"",0),"CODIGO IDU")
B36: PERSONAL AUXILIAR TECNICO | C36: 9098 | D36: Cadenero 1 | E36: =IFERROR(+_xlfn.XLOOKUP(C36,INSUMOS_IDU[Código],INSUMOS_IDU[Nombre],"",0),"CODIGO IDU") -> TARIFA MES - PERSONAL AUXILIAR TÉCNICO - CADENERO 1 (NO INCLUYE FACTOR DE PRESTACIONES) | F36: =+C36 -> 9098 | G36: =IFERROR(+_xlfn.XLOOKUP(C36,INSUMOS_IDU[Código],INSUMOS_IDU[Precio],"",0),"CODIGO IDU") -> 2316000 | H36: =G36/$G$6 -> 1.3227445 | I36: 2.45
C37: 9099 | D37: Cadenero 2 | E37: =IFERROR(+_xlfn.XLOOKUP(C37,INSUMOS_IDU[Código],INSUMOS_IDU[Nombre],"",0),"CODIGO IDU") -> TARIFA MES - PERSONAL AUXILIAR TÉCNICO - CADENERO 2 (NO INCLUYE FACTOR DE PRESTACIONES) | F37: =+C37 -> 9099 | G37: =IFERROR(+_xlfn.XLOOKUP(C37,INSUMOS_IDU[Código],INSUMOS_IDU[Precio],"",0),"CODIGO IDU") -> 2018000 | H37: =G37/$G$6 -> 1.1525468 | I37: 2.45
C38: 9100 | D38: Secretaria o Motorista | E38: =IFERROR(+_xlfn.XLOOKUP(C38,INSUMOS_IDU[Código],INSUMOS_IDU[Nombre],"",0),"CODIGO IDU") -> TARIFA MES - PERSONAL AUXILIAR TÉCNICO - CONDUCTOR O MOTORISTA (NO INCLUYE FACTOR DE PRESTACIONES) | F38: =+C38 -> 9100 | G38: =IFERROR(+_xlfn.XLOOKUP(C38,INSUMOS_IDU[Código],INSUMOS_IDU[Precio],"",0),"CODIGO IDU") -> 1750905 | H38: =G38/$G$6 -> 1 | I38: 2.45
B40: PERSONAL DE OBRA | C40: 9101 | D40: Maestro de Obra | E40: =IFERROR(+_xlfn.XLOOKUP(C40,INSUMOS_IDU[Código],INSUMOS_IDU[Nombre],"",0),"CODIGO IDU") -> TARIFA MES - PERSONAL DE OBRA - MAESTRO DE OBRA (NO INCLUYE FACTOR DE PRESTACIONES) | F40: =+C40 -> 9101 | G40: =IFERROR(+_xlfn.XLOOKUP(C40,INSUMOS_IDU[Código],INSUMOS_IDU[Precio],"",0),"CODIGO IDU") -> 4488000 | H40: =G40/$G$6 -> 2.5632459 | I40: 2.3
C41: 9461 | D41: Oficial | E41: =IFERROR(+_xlfn.XLOOKUP(C41,INSUMOS_IDU[Código],INSUMOS_IDU[Nombre],"",0),"CODIGO IDU") -> TARIFA MES - PERSONAL DE OBRA - OFICIAL (NO INCLUYE FACTOR DE PRESTACIONES) | F41: =+C41 -> 9461 | G41: =IFERROR(+_xlfn.XLOOKUP(C41,INSUMOS_IDU[Código],INSUMOS_IDU[Precio],"",0),"CODIGO IDU") -> 2244000 | H41: =G41/$G$6 -> 1.2816229 | I41: 2.45
C42: 9455 | D42: Ayudante | E42: =IFERROR(+_xlfn.XLOOKUP(C42,INSUMOS_IDU[Código],INSUMOS_IDU[Nombre],"",0),"CODIGO IDU") -> TARIFA MES - PERSONAL DE OBRA - AYUDANTE (NO INCLUYE FACTOR DE PRESTACIONES) | F42: =+C42 -> 9455 | G42: =IFERROR(+_xlfn.XLOOKUP(C42,INSUMOS_IDU[Código],INSUMOS_IDU[Precio],"",0),"CODIGO IDU") -> 1750905 | H42: =G42/$G$6 -> 1 | I42: 2.45
C43: 9463 | D43: Plomero-Electrcista | E43: =IFERROR(+_xlfn.XLOOKUP(C43,INSUMOS_IDU[Código],INSUMOS_IDU[Nombre],"",0),"CODIGO IDU") -> TARIFA MES - PERSONAL DE OBRA - TÉCNICO ELÉCTRICO (NO INCLUYE FACTOR DE PRESTACIONES) | F43: =+C43 -> 9463 | G43: =IFERROR(+_xlfn.XLOOKUP(C43,INSUMOS_IDU[Código],INSUMOS_IDU[Precio],"",0),"CODIGO IDU") -> 2618000 | H43: =G43/$G$6 -> 1.4952268 | I43: 2.45
...
