Workbook
Name contratación: 'IDENTIFICACION Y ANALISIS'!$B$39:$B$43
Name ejecución: 'IDENTIFICACION Y ANALISIS'!$B$45:$B$68
Name OPCIONES: 'ASIGNACION Y TRATAMIENTO'!$B$56:$B$58
Name planeación: 'IDENTIFICACION Y ANALISIS'!$B$19:$B$29
Name selección: 'IDENTIFICACION Y ANALISIS'!$B$31:$B$37

Sheet CONTEXTO
C2: MATRIZ DE RIESGOS EN CONTRATACIÓN | F2: Código: GCO-GCI-F164 Versión: 02 Vigencia: 01 de diciembre de 2022 Caso HOLA: 280117
B6: ESTABLECER EL CONTEXTO
B7: El punto inicial es identificar el contexto en el cual interactúa la Entidad Estatal para conocer el ambiente social, económico y político, e identificar (i) sus propios Riesgos; (ii) los Riesgos comunes a sus Procesos de Contratación; y (iii) los Riesgos del Proceso de Contratación en particular. (Aplica igual para contratos interadministrativos) En este paso la Entidad Estatal debe identificar los aspectos que se mencionan a continuación y los posibles efectos adversos que estos pueden generar.
B8: Objeto del Proceso de Contratación
B9: Partícipes del Proceso de Contratación: Agentes externos (Organismos de control, veedurías ciudadanas), agentes internos (supervisores, funcionarios y demás usuarios).
B10: Ciudadanía que se beneficia del Proceso de Contratación: Agentes internos (funcionarios, pasantes) y externos (contratistas, visitantes y usuarios externos en general)
B11: Capacidad de la Entidad Estatal entendida como la disponibilidad de recursos y conocimientos para el Proceso de Contratación: La disponibilidad de la Entidad de sus recursos y el conocimiento de su equipo humano se refleja en los diferentes funcionarios que participarán en las diversas etapas del proceso de selección: participan las áreas que requieren los procesos de contratación (Etapa de Planeación), Dirección de Contratación, Comité Evaluador (Etapa de selección), Dirección de Contratación (Etapa de contratación) y la supervisión y apoyos a la misma (Estapa de Ejecución).
B12: Suficiencia del presupuesto oficial del Proceso de Contratación: De acuerdo al Plan Anual de Adquisiciones se deben estimar los recursos necesarios para el desarrollo del proceso de la contratación, el cual tendrá el soporte presupuestal suficiente para su desarrollo.
B13: Condiciones geográficas y de acceso del lugar en el cual se debe cumplir el objeto del Proceso de Contratación: El suministro, obra o servicio se prestará principalmente en las Sedes de la Entidad, o en el lugar indicado en los estudios previos del proceso.
B14: Entorno socio ambiental: Si aplican
B15: Condiciones políticas: Si aplican
B16: Factores ambientales.
B17: Sector del objeto del Proceso de Contratación y su mercado.
... B19: Experiencia propia y de otras Entidades Estatales en Procesos de Contratación del mismo tipo.

Sheet IDENTIFICACION Y ANALISIS
C2: MATRIZ DE RIESGOS DE CONTRATACIÓN | F2: Código: GCO-GCI-F164 Versión: 02 Vigencia: 01 de diciembre de 2022 Caso HOLA: 280117
B6: DEFINICIONES
B7: RIESGO: Evento que puede generar efectos adversos y de distinta magnitud en el logro de los objetivos del Proceso de Contratación o en la ejecución de un contrato RIESGOS PREVISIBLES: Son los posibles hechos o circunstancias que por la naturaleza del contrato y de la actividad a ejecutar es factible su ocurrencia. ETAPA DE PLANEACIÓN: Está comprendida desde el momento en que se identifican las necesidades que debe satisfacer la Secretaría Distrital de Gobierno y los Fondos de Desarrollo Local, a través del abastecimiento de bienes, obras o servicios, la elaboración del Plan Anual de Adquisiciones y la estructuración de los documentos y estudios previos. ETAPA DE SELECCIÓN: Está comprendida entre el acto de Apertura del Proceso de Contratación y la Adjudicación o la declaración de desierto del Proceso de Contratación ETAPA DE CONTRATACIÓN: Una vez adjudicado el contrato objeto del Proceso de Contratación, inicia la etapa para la celebración del contrato y el cumplimiento de los requisitos para de perfeccionamiento y ejecución. ETAPA DE EJECUCIÓN: Inicia una vez cumplidos los requisitos previstos para iniciar la ejecución del contrato respectivo y termina con el vencimiento del plazo del contrato o la fecha de liquidación si hay lugar a ella. RIESGO GENERAL: Es un riesgo de todos los procesos de contratación adelantados por la Entidad Estatal, por lo cual está presente en toda su actividad contractual. RIEGO ESPECIFICO: Es un riesgo propio del proceso de contratación objeto de análisis. RIESGOS ECONÓMICOS: Son los derivados del comportamiento del mercado, tales como la fluctuación de los precios de los insumos, desabastecimiento y especulación de los mismos, entre otros. RIESGOS SOCIALES O POLÍTICOS: son los derivados de los cambios de las políticas gubernamentales y de cambios en las condiciones sociales que tengan impacto en la ejecución del contrato. RIESGOS OPERACIONALES: Son los asociados a la operatividad del contrato, tales como la suficiencia del presupuesto oficial, del plazo o los derivados de procesos, procedimientos, parámetros, sistemas de información y tecnológicos, equipos humanos o técnicos inadecuados o insuficientes. RIESGOS FINANCIEROS: Son (i) el riesgo de consecución de financiación o riesgo de liquidez para obtener recursos para cumplir con el objeto del contrato, y (ii) el riesgo de las condiciones financieras establecidas para la obtención de los recursos, tales como plazos, tasas, garantías, contragarantías, y refinanciaciones, entre otros. RIESGOS REGULATORIOS: Derivados de cambios regulatorios o reglamentarios que afecten la ecuación económica del contrato. RIESGOS DE LA NATURALEZA: Son los eventos naturales previsibles en los cuales no hay intervención humana que puedan tener impacto en la ejecución del contrato, por ejemplo los temblores, inundaciones, lluvias, sequías, entre otros. RIESGOS AMBIENTALES: Son los derivados de las obligaciones legales o reglamentarias de carácter ambiental, así como de las licencias, planes de manejo o de permisos y autorizaciones ambientales, incluyendo tasas retributivas y compensatorias, obligaciones de mitigación, tareas de monitoreo y control, entre otras. RIESGOS TECNOLÓGICOS: Son los derivados de fallas en los sistemas de comunicación de voz y de datos, suspensión de servicios públicos, nuevos desarrollos tecnológicos o estándares que deben ser tenidos en cuenta para la ejecución del contrato, obsolescencia tecnológica.
B15: INSTRUCCIONES PARA LA IDENTIFICACIÓN, ANALISIS, EVALUACIÓN , ASIGNACIÓN Y TRATAMIENTO DE RIESGOS EN LA CONTRATACIÓN
B16: 1) Identifique los riesgos previsibles que le apliquen al objeto contractual que se adelante. Los relacionados a continuación se establecen de manera general y como proforma. No obstante, si del objeto contractual se identifican otros riesgos diferentes a los aquí determinados, por favor reemplace el texto de la casilla teniendo en cuenta la etapa del proceso. Así mismo, seleccione la clase, fuente y el tipo (Operacional, Económico, Sociales o Políticos, Regulatorios, Financieros, Tecnológicos, De la naturaleza, Ambientales) 2) Continúe en la hoja de "EVALUACIÓN" (SI EXISTEN DUDAS CONCEPTUALES PARA LA ELABORACIÓN DE LA MATRIZ DE RIESGO CONSULTE EL MANUAL PARA LA IDENTIFICACIÓN Y COBERTURA DEL RIESGO EN LOS PROCESOS DE CONTRATACIÓN EXPEDIDO POR COLOMBIA COMPRA EFICIENTE Y LA GUÍA DE RIESGOS PREVISIBLES CONTRACTUALES, EXPEDIDA POR LA VEEDURÍA DISTRITAL)
C17: ETAPAS | D17: CLASE | E17: FUENTE | F17: TIPO
C18: PLANEACIÓN
B19: Inadecuada escogencia de la modalidad de contratación | F19: Operacionales
B20: Requisitos habilitantes inapropiados para el proceso de selección | F20: Operacionales
B21: Inadecuado análisis económico estimativo del valor del contrato | F21: Economicos
B22: Inadecuada descripción del bien o servicio requerido | F22: Operacionales
B23: Inadecuada elaboración de estudios y diseños | F23: Operacionales
B24: Requisitos habilitantes que impidan la selección objetiva | F24: Operacionales
B25: Falta de profundidad en el estudio de sector no identificandose claramente aspectos de oferta y demanda | F25: Economicos
B26: Ausencia de fundamentación de la justificación y conveniencia de la contratación | F26: Operacionales
B27: Inadecuada identificación de las condiciones contractuales | F27: Operacionales
B28: No aprobación o demoras en la expedición vigencias futuras | F28: Operacionales
B29: Apertura de procesos sin disponibilidad presupuestal | F29: Operacionales
C30: SELECCIÓN
B31: Inadecuada evaluación de las ofertas y/o verificación de requisitos habilitantes | F31: Operacionales
B32: Inadecuado manejo administrativo del proceso contractual | F32: Operacionales
B33: Falta de claridad en la elaboración de los actos administrativos | F33: Operacionales
B34: Contestación inoportuna a todas las observaciones formuladas a los documentos de la contratación | F34: Operacionales
B35: No publicación de la documentación del proceso de selección en el SECOP | F35: Operacionales
B36: Confabulacion de los proponentes (Colusión) | F36: Operacionales
B37: Selección de ofertas con precios artificialmente bajos. | F37: Operacionales
C38: CONTRATACIÓN
B39: Riesgo de que no se firme el contrato. | F39: Operacionales
B40: Falta de constitución o constitución tardía de la garantía única. Aceptación de garantías que no se ajustan a lo contemplado en el contrato | F40: Operacionales
B41: Falta de solicitud o solicitud tardía del registro presupuestal | F41: Operacionales
B42: No publicación de la documentación del proceso de selección en el SECOP | F42: Operacionales
B43: Presentación de reclamos de terceros sobre la selección del oferente que retrasen el perfeccionamiento del contrato. | F43: Operacionales
C44: EJECUCIÓN
B45: Fluctuaciones del valor de la moneda | F45: Economicos
B46: Cambio de precios en factores de producción. | F46: Economicos
B47: Variación de los precios del mercado | F47: Economicos
B48: Factores políticos o macroeconómicos. | F48: Sociales o Políticos
B49: Cancelación de pedidos. | F49: Economicos
B50: Variación en la disponibilidad o en el costo de los insumos necesarios para prestar los servicios. | F50: Economicos
B51: Incumplimiento de compromisos adquiridos por el contratista seleccionado con sus subcontratistas, suministradores de bienes y servicios. | F51: Economicos
...

Sheet EVALUACION
C2: MATRIZ DE RIESGOS DE CONTRATACIÓN | K2: Código: GCO-GCI-F164 Versión: 02 Vigencia: 01 de diciembre de 2022 Caso HOLA: 280117
B6: Objeto Contractual:
B7: INSTRUCCIONES PARA LA IDENTIFICACIÓN, ANALISIS, EVALUACIÓN , ASIGNACIÓN Y TRATAMIENTO DE RIESGOS EN LA CONTRATACIÓN
B8: 1) Diligencie el objeto contractual y seleccione la(s) etapas y los riesgos que aplican al objeto contractual, de acuerdo a lo definido en la hoja de "IDENTIFICACIÓN Y ANÁLISIS"
B9: 2) Describa las consecuencias de la ocurrencia del Riesgo/evento.
B10: 3) Asigne la probabilidad de ocurrencia del riesgo, de conformidad con la tabla de probabilidad y la valoración del riesgo (Cualitativa o Monetaria)
B11: 4) Asigne el impacto que generaría la materialización del riesgo, de conformidad con la tabla de impacto y la valoración del riesgo (Cualitativa o Monetaria)
B12: 5) Al realizar las anteriores actividades se obtendrá la calificación total y la valoración del riesgo (prioridad).
B13: 6) Continúe en la hoja de "EVALUACIÓN DE CONTROLES"
B15: CALIFICACIÓN | H15: Cualitativa
B16: ETAPA | C16: Descripción (Que puede pasar y, cómo puede ocurrir) | H16: Consecuencias de la ocurrencia del evento | I16: Probabilidad de Ocurrencia | J16: Impacto | K16: Calificación Total | L16: Prioridad
K17: =I17+J17 -> 0 | L17: =IF(K17<=4,"BAJO",IF(K17=5,"MEDIO",IF(K17=6,"ALTO",IF(K17=7,"ALTO","EXTREMO")))) -> BAJO
K18: =+I18+J18 -> 0 | L18: =IF(K18<=4,"BAJO",IF(K18=5,"MEDIO",IF(K18=6,"ALTO",IF(K18=7,"ALTO","EXTREMO")))) -> BAJO
K19: =+I19+J19 -> 0 | L19: =IF(K19<=4,"BAJO",IF(K19=5,"MEDIO",IF(K19=6,"ALTO",IF(K19=7,"ALTO","EXTREMO")))) -> BAJO
K20: =+I20+J20 -> 0 | L20: =IF(K20<=4,"BAJO",IF(K20=5,"MEDIO",IF(K20=6,"ALTO",IF(K20=7,"ALTO","EXTREMO")))) -> BAJO
K21: =+I21+J21 -> 0 | L21: =IF(K21<=4,"BAJO",IF(K21=5,"MEDIO",IF(K21=6,"ALTO",IF(K21=7,"ALTO","EXTREMO")))) -> BAJO
K22: =+I22+J22 -> 0 | L22: =IF(K22<=4,"BAJO",IF(K22=5,"MEDIO",IF(K22=6,"ALTO",IF(K22=7,"ALTO","EXTREMO")))) -> BAJO
K23: =+I23+J23 -> 0 | L23: =IF(K23<=4,"BAJO",IF(K23=5,"MEDIO",IF(K23=6,"ALTO",IF(K23=7,"ALTO","EXTREMO")))) -> BAJO
K24: =+I24+J24 -> 0 | L24: =IF(K24<=4,"BAJO",IF(K24=5,"MEDIO",IF(K24=6,"ALTO",IF(K24=7,"ALTO","EXTREMO")))) -> BAJO
K25: =+I25+J25 -> 0 | L25: =IF(K25<=4,"BAJO",IF(K25=5,"MEDIO",IF(K25=6,"ALTO",IF(K25=7,"ALTO","EXTREMO")))) -> BAJO
K26: =+I26+J26 -> 0 | L26: =IF(K26<=4,"BAJO",IF(K26=5,"MEDIO",IF(K26=6,"ALTO",IF(K26=7,"ALTO","EXTREMO")))) -> BAJO
K27: =+I27+J27 -> 0 | L27: =IF(K27<=4,"BAJO",IF(K27=5,"MEDIO",IF(K27=6,"ALTO",IF(K27=7,"ALTO","EXTREMO")))) -> BAJO
K28: =+I28+J28 -> 0 | L28: =IF(K28<=4,"BAJO",IF(K28=5,"MEDIO",IF(K28=6,"ALTO",IF(K28=7,"ALTO","EXTREMO")))) -> BAJO
K29: =+I29+J29 -> 0 | L29: =IF(K29<=4,"BAJO",IF(K29=5,"MEDIO",IF(K29=6,"ALTO",IF(K29=7,"ALTO","EXTREMO")))) -> BAJO
... K36: =+I36+J36 -> 0 | L36: =IF(K36<=4,"BAJO",IF(K36=5,"MEDIO",IF(K36=6,"ALTO",IF(K36=7,"ALTO","EXTREMO")))) -> BAJO
B39: Probabilidad | C39: Catagoria | E39: Valoración | G39: Impacto | H39: Categoria | I39: Valoración
C40: Raro (puede ocurrir excepcionalmente) | E40: 1 | H40: Insignificante | I40: 1
C41: Improbable (puede ocurrir ocasionalmente) | E41: 2 | H41: Menor | I41: 2
C42: Posible (puede ocurrir en cualquier momento futuro) | E42: 3 | H42: Moderado | I42: 3
C43: Probable (probablemente va a ocurrir) | E43: 4 | H43: Mayor | I43: 4
C44: Casi cierto (ocurre en la mayoria de circunstancias) | E44: 5 | H44: Catastrófico | I44: 5
C46: Valoración del Riesgo
C47: Calificación Cualitativa | F47: Obstruye la ejecución del contrato de manera intrascendente. | G47: Dificulta la ejecución del contrato de manera baja, aplicando medidas mínimas se pueden lograr el objeto contractual | H47: Afecta la ejecución del contrato sin alterar el beneficio para las partes | I47: Obstruye la ejecución del contrato sustancialmente pero aun así permite la consecución del objeto contractual | K47: Perturba la ejecución del contrato de manera grave imposibilitando la consecución del objeto contractual.
C48: Calificación Monetaria | F48: Los sobrecostos no representan más del uno por ciento (1%) del valor del contrato. | G48: Los sobrecostos no representan más del cinco por ciento (5%) del valor del contrato. | H48: Genera un impacto sobre el valor del contrato entre el cinco (5%) y el quince por ciento (15%). | I48: Incrementa el valor del contrato entre el quince (15%) y el treinta por ciento (30%). | K48: Impacto sobre el valor del contrato en más del treinta por ciento (30%).
C49: Categoría | E49: Valoración | F49: Insignificante | G49: Menor | H49: Moderado | I49: Mayor | K49: Catastrófico
F50: 1 | G50: 2 | H50: 3 | I50: 4 | K50: 5
C51: Raro (puede ocurrir excepcionalmente) | E51: 1 | F51: 2 | G51: 3 | H51: 4 | I51: 5 | K51: 6
C52: Improbable (puede ocurrir ocasionalmente) | E52: 2 | F52: 3 | G52: 4 | H52: 5 | I52: 6 | K52: 7
C53: Posible (puede ocurrir en cualquier momento futuro) | E53: 3 | F53: 4 | G53: 5 | H53: 6 | I53: 7 | K53: 8
C54: Probable (probablemente va a ocurrir) | E54: 4 | F54: 5 | G54: 6 | H54: 7 | I54: 8 | K54: 9
...

Sheet EVALUACION CON CONTROLES
C2: MATRIZ DE RIESGOS DE CONTRATACIÓN | Q2: Código: GCO-GCI-F164 Versión: 02 Vigencia: 01 de diciembre de 2022 Caso HOLA: 280117
B6: =+EVALUACION!B6 -> Objeto Contractual:
B7: INSTRUCCIONES PARA LA IDENTIFICACIÓN, ANALISIS, EVALUACIÓN , ASIGNACIÓN Y TRATAMIENTO DE RIESGOS EN LA CONTRATACIÓN
B8: 1) Describa el tratamiento/controles a ser implementados
B9: 2) Diligencie la información de las siguientes columnas, de acuerdo con el análisis realizado a cada riesgo: Afecta el equilibrio económico, persona responsable de implementar el tratamiento, fecha estimada de inicio del tratamiento, fecha estimada en la que se completa el tratamiento, cómo se realiza el monitoreo y la periodicidad.
B10: 3) Continúe en la hoja de "ASIGNACIÓN Y TRATAMIENTO" y diligencie las siguientes casillas: A quien se le asigna y el porcentaje que asume cada una de las partes en caso de que sea compartido.
B15: ETAPA | C15: Descripción (Que puede pasar y, cómo puede ocurrir) | G15: Tratamiento/Controles a ser implementados | I15: Probabilidad de Ocurrencia | J15: Impacto | K15: Calificación Total | L15: Prioridad | M15: ¿Afecta el equilibrio económico del contrato? | N15: Persona responsable por implementar el tratamiento | O15: Fecha estimada en que se inicia el tratamiento | P15: Fecha estimada en que se completa el tratamiento | Q15: ¿Cómo se realiza el monitoreo? | R15: Periodicidad ¿Cuándo?
B16: =+EVALUACION!B17 -> 0 | C16: =+EVALUACION!C17 -> 0 | I16: =+EVALUACION!I17 -> 0 | J16: =+EVALUACION!J17 -> 0 | K16: =+I16+J16 -> 0 | L16: =IF(K16<=4,"BAJO",IF(K16=5,"MEDIO",IF(K16=6,"ALTO",IF(K16=7,"ALTO","EXTREMO")))) -> BAJO
B17: =+EVALUACION!B18 -> 0 | C17: =+EVALUACION!C18 -> 0 | I17: =+EVALUACION!I18 -> 0 | J17: =+EVALUACION!J18 -> 0 | K17: =+I17+J17 -> 0 | L17: =IF(K17<=4,"BAJO",IF(K17=5,"MEDIO",IF(K17=6,"ALTO",IF(K17=7,"ALTO","EXTREMO")))) -> BAJO
B18: =+EVALUACION!B19 -> 0 | C18: =+EVALUACION!C19 -> 0 | I18: =+EVALUACION!I19 -> 0 | J18: =+EVALUACION!J19 -> 0 | K18: =+I18+J18 -> 0 | L18: =IF(K18<=4,"BAJO",IF(K18=5,"MEDIO",IF(K18=6,"ALTO",IF(K18=7,"ALTO","EXTREMO")))) -> BAJO
B19: =+EVALUACION!B20 -> 0 | C19: =+EVALUACION!C20 -> 0 | I19: =+EVALUACION!I20 -> 0 | J19: =+EVALUACION!J20 -> 0 | K19: =+I19+J19 -> 0 | L19: =IF(K19<=4,"BAJO",IF(K19=5,"MEDIO",IF(K19=6,"ALTO",IF(K19=7,"ALTO","EXTREMO")))) -> BAJO
B20: =+EVALUACION!B21 -> 0 | C20: =+EVALUACION!C21 -> 0 | I20: =+EVALUACION!I21 -> 0 | J20: =+EVALUACION!J21 -> 0 | K20: =+I20+J20 -> 0 | L20: =IF(K20<=4,"BAJO",IF(K20=5,"MEDIO",IF(K20=6,"ALTO",IF(K20=7,"ALTO","EXTREMO")))) -> BAJO
B21: =+EVALUACION!B22 -> 0 | C21: =+EVALUACION!C22 -> 0 | I21: =+EVALUACION!I22 -> 0 | J21: =+EVALUACION!J22 -> 0 | K21: =+I21+J21 -> 0 | L21: =IF(K21<=4,"BAJO",IF(K21=5,"MEDIO",IF(K21=6,"ALTO",IF(K21=7,"ALTO","EXTREMO")))) -> BAJO
B22: =+EVALUACION!B23 -> 0 | C22: =+EVALUACION!C23 -> 0 | I22: =+EVALUACION!I23 -> 0 | J22: =+EVALUACION!J23 -> 0 | K22: =+I22+J22 -> 0 | L22: =IF(K22<=4,"BAJO",IF(K22=5,"MEDIO",IF(K22=6,"ALTO",IF(K22=7,"ALTO","EXTREMO")))) -> BAJO
B23: =+EVALUACION!B24 -> 0 | C23: =+EVALUACION!C24 -> 0 | I23: =+EVALUACION!I24 -> 0 | J23: =+EVALUACION!J24 -> 0 | K23: =+I23+J23 -> 0 | L23: =IF(K23<=4,"BAJO",IF(K23=5,"MEDIO",IF(K23=6,"ALTO",IF(K23=7,"ALTO","EXTREMO")))) -> BAJO
B24: =+EVALUACION!B25 -> 0 | C24: =+EVALUACION!C25 -> 0 | I24: =+EVALUACION!I25 -> 0 | J24: =+EVALUACION!J25 -> 0 | K24: =+I24+J24 -> 0 | L24: =IF(K24<=4,"BAJO",IF(K24=5,"MEDIO",IF(K24=6,"ALTO",IF(K24=7,"ALTO","EXTREMO")))) -> BAJO
B25: =+EVALUACION!B26 -> 0 | C25: =+EVALUACION!C26 -> 0 | I25: =+EVALUACION!I26 -> 0 | J25: =+EVALUACION!J26 -> 0 | K25: =+I25+J25 -> 0 | L25: =IF(K25<=4,"BAJO",IF(K25=5,"MEDIO",IF(K25=6,"ALTO",IF(K25=7,"ALTO","EXTREMO")))) -> BAJO
B26: =+EVALUACION!B27 -> 0 | C26: =+EVALUACION!C27 -> 0 | I26: =+EVALUACION!I27 -> 0 | J26: =+EVALUACION!J27 -> 0 | K26: =+I26+J26 -> 0 | L26: =IF(K26<=4,"BAJO",IF(K26=5,"MEDIO",IF(K26=6,"ALTO",IF(K26=7,"ALTO","EXTREMO")))) -> BAJO
B27: =+EVALUACION!B28 -> 0 | C27: =+EVALUACION!C28 -> 0 | I27: =+EVALUACION!I28 -> 0 | J27: =+EVALUACION!J28 -> 0 | K27: =+I27+J27 -> 0 | L27: =IF(K27<=4,"BAJO",IF(K27=5,"MEDIO",IF(K27=6,"ALTO",IF(K27=7,"ALTO","EXTREMO")))) -> BAJO
... B35: =+EVALUACION!B36 -> 0 | C35: =+EVALUACION!C36 -> 0 | I35: =+EVALUACION!I36 -> 0 | J35: =+EVALUACION!J36 -> 0 | K35: =+I35+J35 -> 0 | L35: =IF(K35<=4,"BAJO",IF(K35=5,"MEDIO",IF(K35=6,"ALTO",IF(K35=7,"ALTO","EXTREMO")))) -> BAJO
C37: Categoria del Riesgo | H37: Impacto del Riesgo
B38: Probabilidad | C38: Catagoria | F38: Valoración | H38: Categoria | J38: Valoración | N38: Categoria del Riesgo
C39: Raro (puede ocurrir excepcionalmente) | F39: 1 | H39: Insignificante | J39: 1 | N39: Valoración del Riesgo | P39: Categoría
C40: Improbable (puede ocurrir ocasionalmente) | F40: 2 | H40: Menor | J40: 2 | N40: 8, 9 y 10 | P40: Riesgo extremo
C41: Posible (puede ocurrir en cualquier momento futuro) | F41: 3 | H41: Moderado | J41: 3 | N41: 6 y 7 | P41: Riesgo alto
C42: Probable (probablemente va a ocurrir) | F42: 4 | H42: Mayor | J42: 4 | N42: 5 | P42: Riesgo medio
C43: Casi cierto (ocurre en la mayoria de circunstancias) | F43: 5 | H43: Catastrófico | J43: 5 | N43: 2, 3 y 4 | P43: Riesgo bajo
C45: Valoración del Riesgo
C46: Calificación Cualitativa | G46: Obstruye la ejecución del contrato de manera intrascendente. | I46: Dificulta la ejecución del contrato de manera baja, aplicando medidas mínimas se pueden lograr el objeto contractual | L46: Afecta la ejecución del contrato sin alterar el beneficio para las partes | N46: Obstruye la ejecución del contrato sustancialmente pero aun así permite la consecución del objeto contractual | P46: Perturba la ejecución del contrato de manera grave imposibilitando la consecución del objeto contractual.
C47: Calificación Monetaria | G47: Los sobrecostos no representan más del uno por ciento (1%) del valor del contrato. | I47: Los sobrecostos no representan más del cinco por ciento (5%) del valor del contrato. | L47: Genera un impacto sobre el valor del contrato entre el cinco (5%) y el quince por ciento (15%). | N47: Incrementa el valor del contrato entre el quince (15%) y el treinta por ciento (30%). | P47: Impacto sobre el valor del contrato en más del treinta por ciento (30%).
C48: Catagoria | F48: Valoración | G48: Insignificante | I48: Menor | L48: Moderado | N48: Mayor | P48: Catastrófico
G49: 1 | I49: 2 | L49: 3 | N49: 4 | P49: 5
C50: Raro (puede ocurrir excepcionalmente) | F50: 1 | G50: 2 | I50: 3 | L50: 4 | N50: 5 | P50: 6
C51: Improbable (puede ocurrir ocasionalmente) | F51: 2 | G51: 3 | I51: 4 | L51: 5 | N51: 6 | P51: 7
C52: Posible (puede ocurrir en cualquier momento futuro) | F52: 3 | G52: 4 | I52: 5 | L52: 6 | N52: 7 | P52: 8
C53: Probable (probablemente va a ocurrir) | F53: 4 | G53: 5 | I53: 6 | L53: 7 | N53: 8 | P53: 9
C54: Casi cierto (ocurre en la mayoria de circunstancias) | F54: 5 | G54: 6 | I54: 7 | L54: 8 | N54: 9 | P54: 10

Sheet ASIGNACION Y TRATAMIENTO
C2: MATRIZ DE RIESGOS DE CONTRATACIÓN | W2: Código: GCO-GCI-F164 Versión: 02 Vigencia: 01 de diciembre de 2022 Caso HOLA: 280117
B6: OBJETO: "REALIZAR LA INTERVENTORÍA TÉCNICA, ADMINISTRATIVA, FINANCIERA, JURÍDICA, SOCIAL, AMBIENTAL Y SST AL CONTRATO DE OBRA PÚBLICA QUE TENDRÁ POR OBJETO CONTRACTUAL “EJECUTAR POR EL SISTEMA DE PRECIOS UNITARIOS Y A MONTO AGOTABLE LAS ACTIVIDADES PARA LA CONSERVACION DE LA MALLA VIAL LOCAL E INTERMEDIA Y ESPACIO PÚBLICO EN LA LOCALIDAD DE SUBA EN LA CIUDAD DE BOGOTA D.C”
B7: Esta matriz es un documento anexo del Estudio Previo
B10: No | C10: Descripción (Que puede pasar y, cómo puede ocurrir) | D10: Etapa | E10: Clase | F10: Fuente | G10: Consecuencias de la ocurrencia del evento | H10: Probabilidad | I10: Impacto | J10: Calificación total | K10: Prioridad | L10: ¿A quien se le asigna? | M10: % | N10: Tratamiento/Controles a ser implementados | O10: Probabilidad | P10: Impacto | Q10: Calificación total | R10: Prioridad | S10: ¿Afecta el equilibrio económico del contrato? | T10: Persona responsable por implementar el tratamiento | U10: Fecha estimada en que se inicia el tratamiento | V10: Fecha estimada en que se completa el tratamiento | W10: ¿Cómo se realiza el monitoreo | X10: Periodicidad ¿Cuándo?
B11: 1 | C11: Que ninguno de los proponentes cumplan los requisitos habilitantes establecidos en el pliego de condiciones. | D11: PLANEACIÓN | E11: GENERAL | F11: INTERNO | G11: 1. Declaratoria de desierta del proceso de selección. | H11: 3 | I11: 4 | J11: 7 | K11: ALTO | L11: ENTIDAD ESTATAL | M11: 1 | N11: Elaborar los estudios de sector de acuerdo a la metodología de Colombia Compra Eficiente y dando cumplimiento a la normatividad vigente. | O11: 1 | P11: 3 | Q11: 4 | R11: BAJO | S11: SI | T11: PROFESIONALES DEL ÁREA DE GESTIÓN DEL DESARROLLO LOCAL DE SUBA | U11: Desde la formulación | V11: Hasta la evaluación del proceso | W11: Revisiones de las posibles observaciones presentada por los oferentes. | X11: Durante la etapa de evaluacion y selección
B12: 2 | C12: Propuestas económicas por parte del proponente que conlleven a pérdidas o baja utilidad en la ejecución del Interventor. | D12: SELECCIÓN | E12: GENERAL | F12: EXTERNO | G12: 1. Pérdidas económicas para el Interventor o propuestas artificialmente bajas | H12: 2 | I12: 4 | J12: 6 | K12: ALTO | L12: INTERVENTOR | M12: 1 | N12: Analizar y solicitar las aclaraciones necesarias en el proceso de selección y evaluar las propuestas con los criterios sugeridos por Colombia Compra Eficiente. El proponente debe hacer su propia estructura de costos y comprometerse con la misma en la ejecucion de la interventoría | O12: 1 | P12: 2 | Q12: 3 | R12: BAJO | S12: SI | T12: PROFESIONALES DEL ÁREA DE GESTIÓN DEL DESARROLLO LOCAL DE SUBA | U12: Desde la presentación de las propuestas | V12: Hasta la evaluación del proceso | W12: Revisiones de las a las posibles observaciones presentada por los oferentes. Tener presente la guia para identificar los precios artificialmente bajos | X12: Durante la etapa de evaluacion, selección y ejecución
B13: 3 | C13: Riesgo de colusión, en el cual dos o más oferentes realizan acuerdos de manera fraudulenta con el fin de lograr que el proceso se adjudique a un proponente en particular. | D13: SELECCIÓN | E13: GENERAL | F13: EXTERNO | G13: 1. Adjudicación viciada por errores intenciondos por los proponentes. 2. Investigaciones disciplinarias y fiscales. | H13: 3 | I13: 4 | J13: 7 | K13: ALTO | L13: INTERVENTOR | M13: 1 | N13: Utilizar la metodología de Colombia Compra Eficiente y dar cumplimiento a la normatividad vigente. | O13: 1 | P13: 1 | Q13: 2 | R13: BAJO | S13: SI | T13: PROFESIONALES DEL ÁREA DE GESTIÓN DEL DESARROLLO LOCAL DE SUBA | U13: Desde la presentación de las propuestas | V13: Hasta la adjudicación del proceso | W13: Revisión de las ofertas recibidas | X13: Durante la etapa de selección
B14: 4 | C14: Adjudicar la Interventoría a una oferta con precios artificialmente bajos | D14: SELECCIÓN | E14: GENERAL | F14: INTERNO | G14: * La Calidad de los productos no satisface la necesidad de la Entidad. * No se cumple el objeto contractual | H14: 3 | I14: 5 | J14: 8 | K14: EXTREMO | L14: ENTIDAD ESTATAL | M14: 1 | N14: Ejecutar la Guía para el manejo de ofertas artificialmente bajas en Procesos de Contratación | O14: 2 | P14: 2 | Q14: 4 | R14: BAJO | S14: SI | T14: PROFESIONALES DEL ÁREA DE GESTIÓN DEL DESARROLLO LOCAL DE SUBA | U14: Desde la presentación de las propuestas | V14: Hasta la adjudicacion del proceso | W14: Solicitar las fichas tecnicas de los productos y serrvicios a adquirir. Requerir al oferente para que brinde las explicaciones pertinentes sobre su oferta economica | X14: Durante la etapa de selección
B15: 5 | C15: Estimación errada o inadecuada de la propuesta económica realizada por el proponente por no calcular los costos directos e indirectos de los conceptos necesarios para el cumplimiento del contrato. | D15: SELECCIÓN | E15: ESPECIFICO | F15: EXTERNO | G15: Sobrecostos y reclamaciones de rompimiento del equilibrio económico por parte del contratista. | H15: 3 | I15: 3 | J15: 6 | K15: ALTO | L15: INTERVENTOR | M15: 1 | N15: Efectuar revisiones en cada una de las etapas de elaboración de los Estudios Previos, Estudios de Sector, Pliegos de condiciones del proceso de contratación. El proponente debe hacer su propia estructura de costos y comprometerse con la misma en la ejecucion del contrato | O15: 1 | P15: 2 | Q15: 3 | R15: BAJO | S15: SI | T15: PROFESIONALES DEL ÁREA DE GESTIÓN DEL DESARROLLO LOCAL DE SUBA | U15: Desde la presentación de las propuestas | V15: Hasta la ejecución del proceso | W15: Soliictud de aclaraciones a la oferta económica presentada | X15: Durante la etapa de selección
B16: 6 | C16: Los documentos de los requisitos habilitantes y ponderables no son legibles para su revisión. | D16: SELECCIÓN | E16: GENERAL | F16: INTERNO | G16: 1. No se puede habilitar ni ponderar la propuesta allegada. | H16: 1 | I16: 3 | J16: 4 | K16: BAJO | L16: INTERVENTOR | M16: 1 | N16: Dejar en el pliego de condiciones la obligatoriedad de adjuntar documentos legibles escaneados no fotos | O16: 1 | P16: 1 | Q16: 2 | R16: BAJO | S16: SI | T16: PROFESIONALES DEL ÁREA DE GESTIÓN DEL DESARROLLO LOCAL DE SUBA | U16: Desde la presentación de las propuestas | V16: Hasta la ejecución del proceso | W16: PARA CADA UNA DE LAS EVALUACIONES REALIZADAS | X16: Durante la etapa de selección y evaluación
B17: 7 | C17: Presentación de propuestas sin el lleno de los requisitos legales. | D17: SELECCIÓN | E17: GENERAL | F17: INTERNO | G17: 1. Posible nulidad de la propuesta allegada. 2. No se satisface la necesidad de la Entidad | H17: 3 | I17: 5 | J17: 8 | K17: EXTREMO | L17: INTERVENTOR | M17: 1 | N17: Elaborar los estudios previos de acuerdo a la metodología de Colombia Compra Eficiente y dando cumplimiento a la normatividad vigente. | O17: 1 | P17: 2 | Q17: 3 | R17: BAJO | S17: SI | T17: PROFESIONALES DEL ÁREA DE GESTIÓN DEL DESARROLLO LOCAL DE SUBA | U17: Desde la presentación de las propuestas | V17: Hasta la evaluación del proceso | W17: Lista de Chequeo | X17: Durante la etapa de perfeccionamiento del contrato
B18: 8 | C18: Cambios en la normatividad que modifique o imponga nuevas obligaciones a la Interventoría | D18: EJECUCIÓN | E18: GENERAL | F18: EXTERNO | G18: 1. Posible variación del valor del contrato, por cambio tarifas por actualización de Resolución. 2. Modificación del clausulado del contrato de manera adecuada a las nuevas disposiciones | H18: 3 | I18: 1 | J18: 4 | K18: BAJO | L18: INTERVENTOR | M18: 0.8 | N18: Revisión y compilación de los insumos mínimos necesarios para la ejecución de la Interventoría de acuerdo a la normativa nacional vigente y de acuerdo a los alcances del objeto contratual. | O18: 1 | P18: 1 | Q18: 2 | R18: BAJO | S18: SI | T18: INTERVENTOR / SUPERVISOR Y/O APOYO A LA SUPERVISION | U18: De manera inmediata a la ocurrencia | V18: Durante la ejecución del contrato | W18: *Lista de Chequeo * Revisión y compilación de los insumos mínimos necesarios para la ejecución del contrato de acuerdo a la normativa nacional vigente y de acuerdo a los alcances del contrato y del objeto. | X18: Todos los meses establecidos en los cronogramas.
B19: 9 | C19: Que la Interventoría, no ejecute o ejecute parcialmente las metas físicas o presupuesto incialmente estimado por cualquiera de los siguientes aspectos: terminación anticipada del contrato, reducción de la meta física, abandono de obra, caducidad. | D19: EJECUCIÓN | E19: ESPECIFICO | F19: EXTERNO | G19: 1. Incumplimiento de contrato. 2. Deficiencia en el seguimiento del contrato. | H19: 2 | I19: 4 | J19: 6 | K19: ALTO | L19: INTERVENTOR | M19: 1 | N19: El interventor debe realizar una supervisión técnica y financiera estricta para evitar atrasos. Llevar el control del anticipo y tramitar los pagos en los tiempos estimados por la Entidad | O19: 1 | P19: 1 | Q19: 2 | R19: BAJO | S19: SI | T19: INTERVENTOR / SUPERVISOR Y/O APOYO A LA SUPERVISION | U19: Inicio de la ejecución del contrato | V19: Hasta la terminación de la obra | W19: Mediante el seguimiento por parte de la Entidad y el interventor en comités semanales. | X19: Semanal
B20: 10 | C20: Cambio de los profesionales a quien se les otorgo puntaje sin cumplimiento de perfil. | D20: EJECUCIÓN | E20: ESPECIFICO | F20: INTERNO | G20: 1. Incumplimiento del contrato. | H20: 2 | I20: 4 | J20: 6 | K20: ALTO | L20: INTERVENTOR | M20: 1 | N20: Dejar en el pliego de condiciones el procedimiento en comité para solicitud de cambio de personal del contrato | O20: 1 | P20: 2 | Q20: 3 | R20: BAJO | S20: SI | T20: PROFESIONALES DEL ÁREA DE GESTIÓN DEL DESARROLLO LOCAL DE SUBA | U20: De manera inmediata a la ocurrencia | V20: Durante la ejecución del contrato | W20: POR CADA SOLICITUD DE CAMBIO DE PERSONAL | X20: Durante la ejecucion y supervisión.
B21: 11 | C21: Mayor permanencia del personal en el proyecto al tiempo inicialmente previsto, por suspensiones o prórrogas que no son imputables a la Interventoría. | D21: EJECUCIÓN | E21: ESPECIFICO | F21: INTERNO | G21: Posible desequilibrio económico del contrato. Modificaciones contractuales | H21: 2 | I21: 4 | J21: 6 | K21: ALTO | L21: ENTIDAD ESTATAL | M21: 1 | N21: Efectuar controles en cada una de las etapas de la supervisión del contrato. Establecer forma de pago por avance de acuerdo a la obra realizar suspensiones cuando el contrato de obra se suspenda | O21: 1 | P21: 2 | Q21: 3 | R21: BAJO | S21: SI | T21: PROFESIONALES DEL ÁREA DE GESTIÓN DEL DESARROLLO LOCAL DE SUBA | U21: De manera inmediata a la ocurrencia | V21: Durante la liquidación del contrato | W21: Lista de Chequeo e Informe de actividades mensuales | X21: Mensualmente durante la ejecucion y supervisión.
B22: 12 | C22: Accidentes del personal de campo que apoya la ejecución de la interventoría, enfermedades profesionales y/o muerte de algún miembro del equipo humano. | D22: EJECUCIÓN | E22: ESPECIFICO | F22: INTERNO | G22: Posible suspension del contrato | H22: 3 | I22: 3 | J22: 6 | K22: ALTO | L22: INTERVENTOR | M22: 1 | N22: Las condiciones técnicas previstas por la entidad contratante para la ejecución del contrato, impiden la viabilidad y correcta ejecución del mismo. | O22: 1 | P22: 3 | Q22: 4 | R22: BAJO | S22: SI | T22: INTERVENTOR / SUPERVISOR Y/O APOYO A LA SUPERVISION | U22: De manera inmediata a la ocurrencia | V22: Durante la liquidación del contrato | W22: Las condiciones técnicas previstas por la entidad contratante para la ejecución del contrato, impiden la viabilidad y correcta ejecución del mismo. | X22: A Diario durante la ejecucion y supervisión.
... B29: 19 | C29: Que la comunidad rechace la intervención o que se presenten cambios en políticas locales que afecten la continuidad del proyecto | D29: EJECUCIÓN | E29: GENERAL | F29: INTERNO | G29: Suspensión de obras, conflictos comunitarios, replanteamiento del alcance del contrato | H29: 2 | I29: 4 | J29: 6 | K29: ALTO | L29: ENTIDAD ESTATAL | M29: 1 | N29: Realizar acercamiento social y sensibilización comunitaria antes y durante la ejecución. Tener protocolo de atención a la comunidad | O29: 1 | P29: 2 | Q29: 3 | R29: BAJO | S29: SI | T29: PROFESIONAL SOCIAL / INTERVENTOR / FDLS | U29: Desde la etapa precontractual | V29: Hasta el cierre del contrato | W29: Actas de comité, reportes comunitarios | X29: Mensual o según hechos reportados
B30: 20 | C30: Condiciones imprevistas en las obras a intervenir, y que modifican las condiciones inicialmente previstas por la entidad. | D30: EJECUCIÓN | E30: ESPECIFICO | F30: EXTERNO | G30: Sobrecostos en la ejecucion del contrato. Posible afectacion del cronograma de la interventoría. | H30: 2 | I30: 3 | J30: 5 | K30: MEDIO | L30: CONTRATISTA Y FDLS | M30: 50% - 5% | N30: Realización de consultas a empresas de servicios públicos, realización de inspecciones visuales y laboratorios, seguimineto permanente a la ejecución del contrato. | O30: 1 | P30: 3 | Q30: 4 | R30: BAJO | S30: NO | T30: SUPERVISOR / CONTRATISTA | U30: Desde el inicio del contrato | V30: hasta la finalizacion de las obras | W30: Revisión por parte de la interventoría de la realización de consultas a las empresas de servicios públicos, e ispecciones tecnicas necesarias. | X30: Durante la ejecución y supervisión.
B31: 21 | C31: Variacion en los precios de insumos, y demas componentes ofertados debido a fluctuacion en la TRM | D31: EJECUCIÓN | E31: ESPECIFICO | F31: EXTERNO | G31: Sobrecostos para el contratista Posible modificacion de la estructurua de costos del contrato | H31: 2 | I31: 2 | J31: 4 | K31: BAJO | L31: CONTRATISTA | M31: 1 | N31: La interventoría debe contemplar esto en su estructura de costos y se debe comprometer con estos precios durante la ejecucion del contrato, se debe priorizar las compras de los elementos que puedan ser afectados por TRM | O31: 1 | P31: 2 | Q31: 3 | R31: BAJO | S31: SI | T31: CONTRATISTA | U31: Desde la etapa de ejecución | V31: Hasta la terminacion del Contrato | W31: Seguimiento a la compra de elementos | X31: Permanente
F36: Categoria | J36: Impacto del Riesgo
E37: Probabilidad | F37: Catagoria | G37: Valoración | J37: Categoria | L37: Valoración
F38: Raro (puede ocurrir excepcionalmente) | G38: 1 | J38: Insignificante | L38: 1
F39: Improbable (puede ocurrir ocasionalmente) | G39: 2 | J39: Menor | L39: 2
F40: Posible (puede ocurrir en cualquier momento futuro) | G40: 3 | J40: Moderado | L40: 3
F41: Probable (probablemente va a ocurrir) | G41: 4 | J41: Mayor | L41: 4
F42: Casi cierto (ocurre en la mayoria de circunstancias) | G42: 5 | J42: Catastrófico | L42: 5
D44: Valoración del Riesgo
D45: Catagoria | E45: Valoración | F45: Insignificante | H45: Menor | J45: Moderado | K45: Mayor | L45: Catastrófico | P45: Categoria del Riesgo
F46: 1 | H46: 2 | J46: 3 | K46: 4 | L46: 5 | P46: Valoración del Riesgo | S46: Categoría
D47: Raro (puede ocurrir excepcionalmente) | E47: 1 | F47: 2 | H47: 3 | J47: 4 | K47: 5 | L47: 6 | P47: 8, 9 y 10 | S47: Riesgo extremo
D48: Improbable (puede ocurrir ocasionalmente) | E48: 2 | F48: 3 | H48: 4 | J48: 5 | K48: 6 | L48: 7 | P48: 6 y 7 | S48: Riesgo alto
D49: Posible (puede ocurrir en cualquier momento futuro) | E49: 3 | F49: 4 | H49: 5 | J49: 6 | K49: 7 | L49: 8 | P49: 5 | S49: Riesgo medio
D50: Probable (probablemente va a ocurrir) | E50: 4 | F50: 5 | H50: 6 | J50: 7 | K50: 8 | L50: 9 | P50: 2, 3 y 4 | S50: Riesgo bajo
D51: Casi cierto (ocurre en la mayoria de circunstancias) | E51: 5 | F51: 6 | H51: 7 | J51: 8 | K51: 9 | L51: 10
B56: CONTRATISTA
B57: SDG
B58: CONTRATISTA Y SDG
