Workbook

Sheet NUTRIAMBIENTAL
B2: Beneficiarios | C2: 0
B3: =+C8+C18 -> 4880
A4: 1. | B4: Costo Alimento
B5: 1. COMPONENTE ALIMENTACION
B7: Grupo Focal I
B8: Total Poblacion | C8: 1000
B9: Palzo (meses) | C9: 2
H11: valor mes (20 días) | I11: Valor total incluido IVA
B12: Grupo de Alimentos | C12: Alimentos | D12: unidad de Medida | E12: Valor Unitario antes de IVA | F12: IVA | G12: Valor unitario mas IVA
B13: Cereales y Derivados | C13: Galleta salada 500-100 gr. ( entrega mensual x benef: 695 (gramos) | D13: unidad | E13: 12773 | F13: =+E13*19% -> 2426.87 | G13: =+E13+F13 -> 15199.87 | H13: =+G13*C8 -> 15199870 | I13: =+H13*C9 -> 30399740
B14: Productos azucarado | C14: bocadillo o cocada o panelita x 25 gr (entrega mensual x benef 20 unds) | D14: Pqte x 20 unds | E14: 13445 | F14: =+E14*19% -> 2554.55 | G14: =+E14+F14 -> 15999.55 | H14: =+G14*C8 -> 15999550 | I14: =+H14*C9 -> 31999100
B15: TOTAL | I15: =SUM(I13:I14) -> 62398840
B17: Grupo Focal II
B18: Poblacion | C18: 3880
B19: Plazo (meses) | C19: =C9 -> 2
H20: valor mes (20 días) | I20: Valor total incluido IVA
B21: Grupo de Alimentos | C21: Alimentos | D21: unidad de Medida | E21: Valor Unitario antes de IVA | F21: IVA | G21: Valor unitario mas IVA
B22: Cereales y Derivados | C22: Galleta salada 500-100 gr.(entrega mensual x benf: 795 gr) | D22: Unidad | E22: 14611 | F22: =+E22*19% -> 2776.09 | G22: =+E22+F22 -> 17387.09 | H22: =+G22*C18 -> 67461909 | I22: =H22*C19 -> 1.3492382e+08
B23: Productos azucarado | C23: Panela 500 gr. | D23: Unidad | E23: 6400 | F23: 0 | G23: 6400 | H23: =+G23*C18 -> 24832000 | I23: =H23*C19 -> 49664000
B24: TOTAL | I24: =SUM(I22:I23) -> 1.8458782e+08
B26: 2.COMPONENTE TALENTO HUMANO(Según histórico de honorarios del municipio 2025.
H27: TOTAL MENSUAL TALENTO HUMANO | I27: TOTAL TALENTO HUMANO
B28: Perfiles Requeridos | C28: Cantidad | D28: Unidad de medida | E28: Valor Unitario antes de IVA | F28: IVA | G28: Valor unitario mas IVA
B29: Director | C29: 1 | D29: Unidad | E29: 4000000 | F29: 0 | G29: =+E29+F29 -> 4000000 | H29: =+G29 -> 4000000 | I29: =+H29*$C$9 -> 8000000
B30: Auxiliar Administrativo | C30: 1 | D30: Unidad | E30: 2200000 | F30: 0 | G30: =+E30+F30 -> 2200000 | H30: =+G30 -> 2200000 | I30: =+H30*$C$9 -> 4400000
B31: NUTRICIONISTA según ficha técnica | C31: 1 | D31: Unidad | E31: 4000000 | F31: 0 | G31: =+E31+F31 -> 4000000 | H31: =+G31 -> 4000000 | I31: =+H31*$C$9 -> 8000000
B32: INGENIERO DE ALIMENTOS | C32: 1 | D32: Unidad | E32: 4000000 | F32: 0 | G32: =+E32+F32 -> 4000000 | H32: =+G32 -> 4000000 | I32: =+H32*$C$9 -> 8000000
B33: MANIPULADORES DE ALIMENTOS: Deben contar con el respectivo carné de manipulador de alimentos. | C33: 5 | D33: Unidad | E33: 2200000 | F33: 0 | G33: =+E33+F33 -> 2200000 | H33: =+G33*C33 -> 11000000 | I33: =+H33*$C$9 -> 22000000
B34: AUXILIAR DE ENFERMERIA Según ficha técnica | C34: 2 | D34: Unidad | E34: 2200000 | F34: 0 | G34: =+E34+F34 -> 2200000 | H34: =+G34*C34 -> 4400000 | I34: =+H34*$C$9 -> 8800000
B35: TOTAL TALENTO HUMANO | H35: =SUM(H29:H34) -> 29600000 | I35: =SUM(I29:I34) -> 59200000
B37: 3. COMPONENTE DOTACIÓN PERSONAL (Una entrega)
H38: VALOR TOTAL INCLUIDO IVA
B39: ARTICULO | C39: CANTIDAD | D39: Unidad de medida | E39: Valor Unitario antes de IVA | F39: IVA | G39: Valor unitario mas IVA
B40: Gorro según especificaciones técnicas | C40: 15 | D40: Unidad | E40: 13500 | F40: 0 | G40: =+E40+F40 -> 13500 | H40: =+G40*C40 -> 202500
B41: Tapabocas-según especificaciones técnicas | C41: 15 | D41: Unidad | E41: 9000 | F41: 0 | G41: =+E41+F41 -> 9000 | H41: =+G41*C41 -> 135000
B42: Camiseta tipo polo-según especificaciones técnicas | C42: 10 | D42: Unidad | E42: 69000 | F42: 0 | G42: =+E42+F42 -> 69000 | H42: =+G42*C42 -> 690000
B43: Pantalon Sudadera según especificaciones técnicas | C43: 10 | D43: Unidad | E43: 80000 | F43: 0 | G43: =+E43+F43 -> 80000 | H43: =+G43*C43 -> 800000
B44: zapato Cerrado según especificaciones técnicas | C44: 5 | D44: Unidad | E44: 86000 | F44: 0 | G44: =+E44+F44 -> 86000 | H44: =+G44*C44 -> 430000
B45: Delantal Antifluidossegún especificaciones técnicas | C45: 5 | D45: Unidad | E45: 48000 | F45: 0 | G45: =+E45+F45 -> 48000 | H45: =+G45*C45 -> 240000
B46: TOTAL | H46: =SUM(H40:H45) -> 2497500
...

Sheet SEMILLAS
B13: Beneficiarios | C13: 0
B14: =+C19+C29 -> 4880
A15: 1. | B15: Costo Alimento
B16: 1. COMPONENTE ALIMENTACION
B18: Grupo Focal I
B19: Total Poblacion | C19: 1000
B20: Palzo (meses) | C20: 2
H22: valor mes (20 días) | I22: Valor total incluido IVA
B23: Grupo de Alimentos | C23: Alimentos | D23: unidad de Medida | E23: Valor Unitario antes de IVA | F23: IVA | G23: Valor unitario mas IVA
B24: Cereales y Derivados | C24: Galleta salada 500-100 gr. ( entrega mensual x benef: 695 (gramos) | D24: unidad | E24: 12849 | F24: =+E24*19% -> 2441.31 | G24: =+E24+F24 -> 15290.31 | H24: =+G24*C19 -> 15290310 | I24: =+H24*C20 -> 30580620
B25: Productos azucarado | C25: bocadillo o cocada o panelita x 25 gr (entrega mensual x benef 20 unds) | D25: Pqte x 20 unds | E25: 13550 | F25: =+E25*19% -> 2574.5 | G25: =+E25+F25 -> 16124.5 | H25: =+G25*C19 -> 16124500 | I25: =+H25*C20 -> 32249000
B26: TOTAL | I26: =SUM(I24:I25) -> 62829620
B28: Grupo Focal II
B29: Poblacion | C29: 3880
B30: Plazo (meses) | C30: =C20 -> 2
H31: valor mes (20 días) | I31: Valor total incluido IVA
B32: Grupo de Alimentos | C32: Alimentos | D32: unidad de Medida | E32: Valor Unitario antes de IVA | F32: IVA | G32: Valor unitario mas IVA
B33: Cereales y Derivados | C33: Galleta salada 500-100 gr.(entrega mensual x benf: 795 gr) | D33: Unidad | E33: 14697.5 | F33: =+E33*19% -> 2792.525 | G33: =+E33+F33 -> 17490.025 | H33: =+G33*C29 -> 67861297 | I33: =H33*C30 -> 135722594
B34: Productos azucarado | C34: Panela 500 gr. | D34: Unidad | E34: 6400 | F34: 0 | G34: =+E34+F34 -> 6400 | H34: =+G34*C29 -> 24832000 | I34: =H34*C30 -> 49664000
B35: TOTAL | I35: =SUM(I33:I34) -> 185386594
B37: 2.COMPONENTE TALENTO HUMANO(Según histórico de honorarios del municipio 2025.
H38: TOTAL MENSUAL TALENTO HUMANO | I38: TOTAL TALENTO HUMANO
B39: Perfiles Requeridos | C39: Cantidad | D39: Unidad de medida | E39: Valor Unitario antes de IVA | F39: IVA | G39: Valor unitario mas IVA
B40: Director | C40: 1 | D40: Unidad | E40: 4000000 | F40: 0 | G40: =+E40+F40 -> 4000000 | H40: =+G40*C40 -> 4000000 | I40: =+H40*$C$20 -> 8000000
B41: Auxiliar Administrativo | C41: 1 | D41: Unidad | E41: 2200000 | F41: 0 | G41: =+E41+F41 -> 2200000 | H41: =+G41*C41 -> 2200000 | I41: =+H41*$C$20 -> 4400000
B42: NUTRICIONISTA según ficha técnica | C42: 1 | D42: Unidad | E42: 4000000 | F42: 0 | G42: =+E42+F42 -> 4000000 | H42: =+G42*C42 -> 4000000 | I42: =+H42*$C$20 -> 8000000
B43: INGENIERO DE ALIMENTOS | C43: 1 | D43: Unidad | E43: 4000000 | F43: 0 | G43: =+E43+F43 -> 4000000 | H43: =+G43*C43 -> 4000000 | I43: =+H43*$C$20 -> 8000000
B44: MANIPULADORES DE ALIMENTOS: Deben contar con el respectivo carné de manipulador de alimentos. | C44: 5 | D44: Unidad | E44: 2200000 | F44: 0 | G44: =+E44+F44 -> 2200000 | H44: =+G44*C44 -> 11000000 | I44: =+H44*$C$20 -> 22000000
B45: AUXILIAR DE ENFERMERIA Según ficha técnica | C45: 2 | D45: Unidad | E45: 2200000 | F45: 0 | G45: =+E45+F45 -> 2200000 | H45: =+G45*C45 -> 4400000 | I45: =+H45*$C$20 -> 8800000
B46: TOTAL TALENTO HUMANO | H46: =SUM(H40:H45) -> 29600000 | I46: =SUM(I40:I45) -> 59200000
B48: 3. COMPONENTE DOTACIÓN PERSONAL (Una entrega)
H49: VALOR TOTAL INCLUIDO IVA
B50: ARTICULO | C50: CANTIDAD | D50: Unidad de medida | E50: Valor Unitario antes de IVA | F50: IVA | G50: Valor unitario mas IVA
B51: Gorro según especificaciones técnicas | C51: 15 | D51: Unidad | E51: 14040 | F51: 0 | G51: =+E51+F51 -> 14040 | H51: =+G51*C51 -> 210600
B52: Tapabocas-según especificaciones técnicas | C52: 15 | D52: Unidad | E52: 9360 | F52: 0 | G52: =+E52+F52 -> 9360 | H52: =+G52*C52 -> 140400
B53: Camiseta tipo polo-según especificaciones técnicas | C53: 10 | D53: Unidad | E53: 71760 | F53: 0 | G53: =+E53+F53 -> 71760 | H53: =+G53*C53 -> 717600
B54: Pantalon Sudadera según especificaciones técnicas | C54: 10 | D54: Unidad | E54: 81120 | F54: 0 | G54: =+E54+F54 -> 81120 | H54: =+G54*C54 -> 811200
B55: zapato Cerrado según especificaciones técnicas | C55: 5 | D55: Unidad | E55: 82160 | F55: 0 | G55: =+E55+F55 -> 82160 | H55: =+G55*C55 -> 410800
B56: Delantal Antifluidossegún especificaciones técnicas | C56: 5 | D56: Unidad | E56: 49920 | F56: 0 | G56: =+E56+F56 -> 49920 | H56: =+G56*C56 -> 249600
B57: TOTAL | H57: =SUM(H51:H56) -> 2540200
...

Sheet NUTRISALUD
B2: Beneficiarios | C2: 0
B3: =+C8+C18 -> 4880
A4: 1. | B4: Costo Alimento
B5: 1. COMPONENTE ALIMENTACION
B7: Grupo Focal I
B8: Total Poblacion | C8: 1000
B9: Palzo (meses) | C9: 2
H11: valor mes (20 días) | I11: Valor total incluido IVA
B12: Grupo de Alimentos | C12: Alimentos | D12: unidad de Medida | E12: Valor Unitario antes de IVA | F12: IVA | G12: Valor unitario mas IVA
B13: Cereales y Derivados | C13: Galleta salada 500-100 gr. ( entrega mensual x benef: 695 (gramos) | D13: unidad | E13: 12907 | F13: =+E13*19% -> 2452.33 | G13: =+E13+F13 -> 15359.33 | H13: =+G13*C8 -> 15359330 | I13: =+H13*C9 -> 30718660
B14: Productos azucarado | C14: bocadillo o cocada o panelita x 25 gr (entrega mensual x benef 20 unds) | D14: Pqte x 20 unds | E14: 13600 | F14: =+E14*19% -> 2584 | G14: =+E14+F14 -> 16184 | H14: =+G14*C8 -> 16184000 | I14: =+H14*C9 -> 32368000
B15: TOTAL | I15: =SUM(I13:I14) -> 63086660
B17: Grupo Focal II
B18: Poblacion | C18: 3880
B19: Plazo (meses) | C19: =C9 -> 2
H20: valor mes (20 días) | I20: Valor total incluido IVA
B21: Grupo de Alimentos | C21: Alimentos | D21: unidad de Medida | E21: Valor Unitario antes de IVA | F21: IVA | G21: Valor unitario mas IVA
B22: Cereales y Derivados | C22: Galleta salada 500-100 gr.(entrega mensual x benf: 795 gr) | D22: Unidad | E22: 14764 | F22: =+E22*19% -> 2805.16 | G22: =+E22+F22 -> 17569.16 | H22: =+G22*C18 -> 68168341 | I22: =H22*C19 -> 1.3633668e+08
B23: Productos azucarado | C23: Panela 500 gr. | D23: Unidad | E23: 6268 | F23: 0 | G23: =+E23+F23 -> 6268 | H23: =+G23*C18 -> 24319840 | I23: =H23*C19 -> 48639680
B24: TOTAL | I24: =SUM(I22:I23) -> 1.8497636e+08
B26: 2.COMPONENTE TALENTO HUMANO(Según histórico de honorarios del municipio 2025.
H27: TOTAL MENSUAL TALENTO HUMANO | I27: TOTAL TALENTO HUMANO
B28: Perfiles Requeridos | C28: Cantidad | D28: Unidad de medida | E28: Valor Unitario antes de IVA | F28: IVA | G28: Valor unitario mas IVA
B29: Director | C29: 1 | D29: Unidad | E29: 4000000 | F29: 0 | G29: =+E29+F29 -> 4000000 | H29: =+G29*C29 -> 4000000 | I29: =+H29*$C$9 -> 8000000
B30: Auxiliar Administrativo | C30: 1 | D30: Unidad | E30: 2200000 | F30: 0 | G30: =+E30+F30 -> 2200000 | H30: =+G30*C30 -> 2200000 | I30: =+H30*$C$9 -> 4400000
B31: NUTRICIONISTA según ficha técnica | C31: 1 | D31: Unidad | E31: 4000000 | F31: 0 | G31: =+E31+F31 -> 4000000 | H31: =+G31*C31 -> 4000000 | I31: =+H31*$C$9 -> 8000000
B32: INGENIERO DE ALIMENTOS | C32: 1 | D32: Unidad | E32: 4000000 | F32: 0 | G32: =+E32+F32 -> 4000000 | H32: =+G32*C32 -> 4000000 | I32: =+H32*$C$9 -> 8000000
B33: MANIPULADORES DE ALIMENTOS: Deben contar con el respectivo carné de manipulador de alimentos. | C33: 5 | D33: Unidad | E33: 2200000 | F33: 0 | G33: =+E33+F33 -> 2200000 | H33: =+G33*C33 -> 11000000 | I33: =+H33*$C$9 -> 22000000
B34: AUXILIAR DE ENFERMERIA Según ficha técnica | C34: 2 | D34: Unidad | E34: 2200000 | F34: 0 | G34: =+E34+F34 -> 2200000 | H34: =+G34*C34 -> 4400000 | I34: =+H34*$C$9 -> 8800000
B35: TOTAL TALENTO HUMANO | H35: =SUM(H29:H34) -> 29600000 | I35: =SUM(I29:I34) -> 59200000
B37: 3. COMPONENTE DOTACIÓN PERSONAL (Una entrega)
H38: VALOR TOTAL INCLUIDO IVA
B39: ARTICULO | C39: CANTIDAD | D39: Unidad de medida | E39: Valor Unitario antes de IVA | F39: IVA | G39: Valor unitario mas IVA
B40: Gorro según especificaciones técnicas | C40: 15 | D40: Unidad | E40: 16000 | F40: 0 | G40: =+E40+F40 -> 16000 | H40: =+G40*C40 -> 240000
B41: Tapabocas-según especificaciones técnicas | C41: 15 | D41: Unidad | E41: 9900 | F41: 0 | G41: =+E41+F41 -> 9900 | H41: =+G41*C41 -> 148500
B42: Camiseta tipo polo-según especificaciones técnicas | C42: 10 | D42: Unidad | E42: 75400 | F42: 0 | G42: =+E42+F42 -> 75400 | H42: =+G42*C42 -> 754000
B43: Pantalon Sudadera según especificaciones técnicas | C43: 10 | D43: Unidad | E43: 85800 | F43: 0 | G43: =+E43+F43 -> 85800 | H43: =+G43*C43 -> 858000
B44: zapato Cerrado según especificaciones técnicas | C44: 5 | D44: Unidad | E44: 88000 | F44: 0 | G44: =+E44+F44 -> 88000 | H44: =+G44*C44 -> 440000
B45: Delantal Antifluidossegún especificaciones técnicas | C45: 5 | D45: Unidad | E45: 56000 | F45: 0 | G45: =+E45+F45 -> 56000 | H45: =+G45*C45 -> 280000
B46: TOTAL | H46: =SUM(H40:H45) -> 2720500
...

Sheet PRESUPUESTO
B2: Beneficiarios | C2: 0
B3: =+C8+C18 -> 4880
A4: 1. | B4: Costo Alimento
B5: 1. COMPONENTE ALIMENTACION
B7: Grupo Focal I
B8: Total Poblacion | C8: 1000
B9: Palzo (meses) | C9: 2
E11: COT 1 | F11: COT 2 | G11: COT 3 | H11: PROMEDIO | I11: valor mes (20 días) | J11: Valor total incluido IVA
B12: Grupo de Alimentos | C12: Alimentos | D12: unidad de Medida | E12: Valor unitario mas IVA | F12: Valor unitario mas IVA | G12: Valor unitario mas IVA
B13: Cereales y Derivados | C13: Galleta salada 500-100 gr. ( entrega mensual x benef: 695 (gramos) | D13: unidad | E13: =+NUTRIAMBIENTAL!G13 -> 15199.87 | F13: =+SEMILLAS!G24 -> 15290.31 | G13: =+NUTRISALUD!G13 -> 15359.33 | H13: =ROUND(AVERAGE(E13:G13),0) -> 15283 | I13: =+H13*C8 -> 15283000 | J13: =+I13*C9 -> 30566000
B14: Productos azucarado | C14: bocadillo o cocada o panelita x 25 gr (entrega mensual x benef 20 unds) | D14: Pqte x 20 unds | E14: =+NUTRIAMBIENTAL!G14 -> 15999.55 | F14: =+SEMILLAS!G25 -> 16124.5 | G14: =+NUTRISALUD!G14 -> 16184 | H14: =ROUND(AVERAGE(E14:G14),0) -> 16103 | I14: =+H14*C8 -> 16103000 | J14: =+I14*C9 -> 32206000
B15: TOTAL | J15: =SUM(J13:J14) -> 62772000
B17: Grupo Focal II
B18: Poblacion | C18: 3880
B19: Plazo (meses) | C19: =C9 -> 2
E20: COT 1 | F20: COT 2 | G20: COT 3 | H20: PROMEDIO | I20: valor mes (20 días) | J20: Valor total incluido IVA
B21: Grupo de Alimentos | C21: Alimentos | D21: unidad de Medida | E21: Valor unitario mas IVA | F21: Valor unitario mas IVA | G21: Valor unitario mas IVA
B22: Cereales y Derivados | C22: Galleta salada 500-100 gr.(entrega mensual x benf: 795 gr) | D22: Unidad | E22: =+NUTRIAMBIENTAL!G22 -> 17387.09 | F22: =+SEMILLAS!G33 -> 17490.025 | G22: =+NUTRISALUD!G22 -> 17569.16 | H22: =ROUND(AVERAGE(E22:G22),0) -> 17482 | I22: =+H22*C18 -> 67830160 | J22: =I22*C19 -> 135660320
B23: Productos azucarado | C23: Panela 500 gr. | D23: Unidad | E23: =+NUTRIAMBIENTAL!G23 -> 6400 | F23: =+SEMILLAS!G34 -> 6400 | G23: =+NUTRISALUD!G23 -> 6268 | H23: =ROUND(AVERAGE(E23:G23),0) -> 6356 | I23: =+H23*C18 -> 24661280 | J23: =I23*C19 -> 49322560
B24: TOTAL | J24: =SUM(J22:J23) -> 184982880
B26: 2.COMPONENTE TALENTO HUMANO(Según histórico de honorarios del municipio 2025.
E27: COT 1 | F27: COT 2 | G27: COT 3 | H27: PROMEDIO | I27: TOTAL MENSUAL TALENTO HUMANO | J27: TOTAL TALENTO HUMANO
B28: Perfiles Requeridos | C28: Cantidad | D28: Unidad de medida | E28: Valor unitario mas IVA | F28: Valor unitario mas IVA | G28: Valor unitario mas IVA
B29: Director | C29: 1 | D29: Unidad | E29: =+NUTRIAMBIENTAL!G29 -> 4000000 | F29: =+SEMILLAS!G40 -> 4000000 | G29: =+NUTRISALUD!G29 -> 4000000 | H29: =ROUND(AVERAGE(E29:G29),0) -> 4000000 | I29: =+H29 -> 4000000 | J29: =+I29*$C$9 -> 8000000
B30: Auxiliar Administrativo | C30: 1 | D30: Unidad | E30: =+NUTRIAMBIENTAL!G30 -> 2200000 | F30: =+SEMILLAS!G41 -> 2200000 | G30: =+NUTRISALUD!G30 -> 2200000 | H30: =ROUND(AVERAGE(E30:G30),0) -> 2200000 | I30: =+G30 -> 2200000 | J30: =+I30*$C$9 -> 4400000
B31: NUTRICIONISTA según ficha técnica | C31: 1 | D31: Unidad | E31: =+NUTRIAMBIENTAL!G31 -> 4000000 | F31: =+SEMILLAS!G42 -> 4000000 | G31: =+NUTRISALUD!G31 -> 4000000 | H31: =ROUND(AVERAGE(E31:G31),0) -> 4000000 | I31: =+G31 -> 4000000 | J31: =+I31*$C$9 -> 8000000
B32: INGENIERO DE ALIMENTOS | C32: 1 | D32: Unidad | E32: =+NUTRIAMBIENTAL!G32 -> 4000000 | F32: =+SEMILLAS!G43 -> 4000000 | G32: =+NUTRISALUD!G32 -> 4000000 | H32: =ROUND(AVERAGE(E32:G32),0) -> 4000000 | I32: =+G32 -> 4000000 | J32: =+I32*$C$9 -> 8000000
B33: MANIPULADORES DE ALIMENTOS: Deben contar con el respectivo carné de manipulador de alimentos. | C33: 5 | D33: Unidad | E33: =+NUTRIAMBIENTAL!G33 -> 2200000 | F33: =+SEMILLAS!G44 -> 2200000 | G33: =+NUTRISALUD!G33 -> 2200000 | H33: =ROUND(AVERAGE(E33:G33),0) -> 2200000 | I33: =+G33*C33 -> 11000000 | J33: =+I33*$C$9 -> 22000000
B34: AUXILIAR DE ENFERMERIA Según ficha técnica | C34: 2 | D34: Unidad | E34: =+NUTRIAMBIENTAL!G34 -> 2200000 | F34: =+SEMILLAS!G45 -> 2200000 | G34: =+NUTRISALUD!G34 -> 2200000 | H34: =ROUND(AVERAGE(E34:G34),0) -> 2200000 | I34: =+G34*C34 -> 4400000 | J34: =+I34*$C$9 -> 8800000
B35: TOTAL TALENTO HUMANO | I35: =SUM(I29:I34) -> 29600000 | J35: =SUM(J29:J34) -> 59200000
B37: 3. COMPONENTE DOTACIÓN PERSONAL (Una entrega)
E38: COT 1 | F38: COT 2 | G38: COT 3 | H38: PROMEDIO | I38: VALOR TOTAL INCLUIDO IVA
B39: ARTICULO | C39: CANTIDAD | D39: Unidad de medida | E39: Valor unitario mas IVA | F39: Valor unitario mas IVA | G39: Valor unitario mas IVA
B40: Gorro según especificaciones técnicas | C40: 15 | D40: Unidad | E40: =+NUTRIAMBIENTAL!G40 -> 13500 | F40: =+SEMILLAS!G51 -> 14040 | G40: =+NUTRISALUD!G40 -> 16000 | H40: =ROUND(AVERAGE(E40:G40),0) -> 14513 | I40: =+H40*C40 -> 217695
B41: Tapabocas-según especificaciones técnicas | C41: 15 | D41: Unidad | E41: =+NUTRIAMBIENTAL!G41 -> 9000 | F41: =+SEMILLAS!G52 -> 9360 | G41: =+NUTRISALUD!G41 -> 9900 | H41: =ROUND(AVERAGE(E41:G41),0) -> 9420 | I41: =+H41*C41 -> 141300
B42: Camiseta tipo polo-según especificaciones técnicas | C42: 10 | D42: Unidad | E42: =+NUTRIAMBIENTAL!G42 -> 69000 | F42: =+SEMILLAS!G53 -> 71760 | G42: =+NUTRISALUD!G42 -> 75400 | H42: =ROUND(AVERAGE(E42:G42),0) -> 72053 | I42: =+H42*C42 -> 720530
B43: Pantalon Sudadera según especificaciones técnicas | C43: 10 | D43: Unidad | E43: =+NUTRIAMBIENTAL!G43 -> 80000 | F43: =+SEMILLAS!G54 -> 81120 | G43: =+NUTRISALUD!G43 -> 85800 | H43: =ROUND(AVERAGE(E43:G43),0) -> 82307 | I43: =+H43*C43 -> 823070
B44: zapato Cerrado según especificaciones técnicas | C44: 5 | D44: Unidad | E44: =+NUTRIAMBIENTAL!G44 -> 86000 | F44: =+SEMILLAS!G55 -> 82160 | G44: =+NUTRISALUD!G44 -> 88000 | H44: =ROUND(AVERAGE(E44:G44),0) -> 85387 | I44: =+H44*C44 -> 426935
B45: Delantal Antifluidossegún especificaciones técnicas | C45: 5 | D45: Unidad | E45: =+NUTRIAMBIENTAL!G45 -> 48000 | F45: =+SEMILLAS!G56 -> 49920 | G45: =+NUTRISALUD!G45 -> 56000 | H45: =ROUND(AVERAGE(E45:G45),0) -> 51307 | I45: =+H45*C45 -> 256535
B46: TOTAL | I46: =SUM(I40:I45) -> 2586065
...
