Workbook
Name contratación: 'IDENTIFICACION Y ANALISIS'!$B$41:$B$45
Name ejecución: 'IDENTIFICACION Y ANALISIS'!$B$47:$B$74
Name OPCIONES: 'ASIGNACION Y TRATAMIENTO'!$B$38:$B$40
Name planeación: 'IDENTIFICACION Y ANALISIS'!$B$19:$B$29
Name selección: 'IDENTIFICACION Y ANALISIS'!$B$31:$B$38

Sheet CONTEXTO
C2: MATRIZ DE RIESGOS EN CONTRATACIÓN | F2: Código: GCO-GCI-F164 Versión: 02 Vigencia: 01 de diciembre de 2022 Caso HOLA: 280117
B6: ESTABLECER EL CONTEXTO
B7: El punto inicial es identificar el contexto en el cual interactúa la Entidad Estatal para conocer el ambiente social, económico y político, e identificar (i) sus propios Riesgos; (ii) los Riesgos comunes a sus Procesos de Contratación; y (iii) los Riesgos del Proceso de Contratación en particular. (Aplica igual para contratos interadministrativos) En este paso la Entidad Estatal debe identificar los aspectos que se mencionan a continuación y los posibles efectos adversos que estos pueden generar.
B8: Objeto del Proceso de Contratación: "Suministrar elementos deportivos para la dotación de las escuelas, clubes, colectivos y organizaciones deportivas de la Localidad de Suba, en el marco del proyecto de inversión 2498 “Suba Activa; Recreación y Deporte con sus vecis”
B9: Partícipes del Proceso de Contratación: Agentes externos: operadores que cumplan con lo establecido. Agentes internos: supervisor del contrato ; Equipo técnico oficina de PARTICIPACION ; Equipo planeacion ; equipo de contratacion; apoyo a la supervisión de la Alcaldia local de Suba.
B10: Ciudadanía que se beneficia del Proceso de Contratación: Agentes internos: Supervisor del contrato; equipo de planeacion, apoyo a la supervisión oficina participacion, ejecutor. Externos: Comunidad en general de la localidad de Suba.
B11: Capacidad de la Entidad Estatal entendida como la disponibilidad de recursos y conocimientos para el Proceso de Contratación: Participan las áreas que requieren los procesos de contratación como Planeación y Participacion (Etapa de formulacion (Anexo tecnico,Estudios previos,analisis del sector,estudio de mercado) equipo de contratacion de la Alcaldía Local, los evaluadores designados, idóneos y con experiencia en el tema, ademas del compromiso de los recursos de la entidad en el PAA y la respectiva disponibilidad del recurso para la materializacion de la meta.
B12: Suficiencia del presupuesto oficial del Proceso de Contratación: De acuerdo al Plan de contratación para la vigencia 2026, y teniendo en cuenta el PAA actualizado, se estimaron los recursos necesarios para el desarrollo del proceso de la contratación, el cual tendrá el soporte presupuestal suficiente para su desarrollo.
B13: Condiciones geográficas y de acceso del lugar en el cual se debe cumplir el objeto del Proceso de Contratación: Alcaldia local de Suba plataformas SubaLab, Gerson, VenASuba y SubaAprende
B14: Entorno socio ambiental: Apropiacion y contribucion al cuidado del ambiente mediante los lineamiento PYGA.
B15: Condiciones políticas: NA
B16: Factores ambientales: El Estudio previo cuenta con las cláusulas ambientales y Fichas ambientales que debe cumplir el Contratista durante la ejecución.
B17: Sector del objeto del Proceso de Contratación y su mercado: El estudio de sector cuenta con el respectivo analisis de la oferta y demanda para el proceso contractual, encontrando una amplia oferta de empresas que cumplen con lo establecido para celebrar el presente objeto a contratar.
... B19: Experiencia propia y de otras Entidades Estatales en Procesos de Contratación del mismo tipo: FDLSUBA-SASI-008-2025,FDLCB-SASI-004-2025, FDLK-SASI-007-2025.

Sheet IDENTIFICACION Y ANALISIS
C2: MATRIZ DE RIESGOS DE CONTRATACIÓN | F2: Código: GCO-GCI-F164 Versión: 02 Vigencia: 01 de diciembre de 2022 Caso HOLA: 280117
B6: DEFINICIONES
B7: RIESGO: Evento que puede generar efectos adversos y de distinta magnitud en el logro de los objetivos del Proceso de Contratación o en la ejecución de un contrato RIESGOS PREVISIBLES: Son los posibles hechos o circunstancias que por la naturaleza del contrato y de la actividad a ejecutar es factible su ocurrencia. ETAPA DE PLANEACIÓN: Está comprendida desde el momento en que se identifican las necesidades que debe satisfacer la Secretaría Distrital de Gobierno y los Fondos de Desarrollo Local, a través del abastecimiento de bienes, obras o servicios, la elaboración del Plan Anual de Adquisiciones y la estructuración de los documentos y estudios previos. ETAPA DE SELECCIÓN: Está comprendida entre el acto de Apertura del Proceso de Contratación y la Adjudicación o la declaración de desierto del Proceso de Contratación ETAPA DE CONTRATACIÓN: Una vez adjudicado el contrato objeto del Proceso de Contratación, inicia la etapa para la celebración del contrato y el cumplimiento de los requisitos para de perfeccionamiento y ejecución. ETAPA DE EJECUCIÓN: Inicia una vez cumplidos los requisitos previstos para iniciar la ejecución del contrato respectivo y termina con el vencimiento del plazo del contrato o la fecha de liquidación si hay lugar a ella. RIESGO GENERAL: Es un riesgo de todos los procesos de contratación adelantados por la Entidad Estatal, por lo cual está presente en toda su actividad contractual. RIEGO ESPECIFICO: Es un riesgo propio del proceso de contratación objeto de análisis. RIESGOS ECONÓMICOS: Son los derivados del comportamiento del mercado, tales como la fluctuación de los precios de los insumos, desabastecimiento y especulación de los mismos, entre otros. RIESGOS SOCIALES O POLÍTICOS: son los derivados de los cambios de las políticas gubernamentales y de cambios en las condiciones sociales que tengan impacto en la ejecución del contrato. RIESGOS OPERACIONALES: Son los asociados a la operatividad del contrato, tales como la suficiencia del presupuesto oficial, del plazo o los derivados de procesos, procedimientos, parámetros, sistemas de información y tecnológicos, equipos humanos o técnicos inadecuados o insuficientes. RIESGOS FINANCIEROS: Son (i) el riesgo de consecución de financiación o riesgo de liquidez para obtener recursos para cumplir con el objeto del contrato, y (ii) el riesgo de las condiciones financieras establecidas para la obtención de los recursos, tales como plazos, tasas, garantías, contragarantías, y refinanciaciones, entre otros. RIESGOS REGULATORIOS: Derivados de cambios regulatorios o reglamentarios que afecten la ecuación económica del contrato. RIESGOS DE LA NATURALEZA: Son los eventos naturales previsibles en los cuales no hay intervención humana que puedan tener impacto en la ejecución del contrato, por ejemplo los temblores, inundaciones, lluvias, sequías, entre otros. RIESGOS AMBIENTALES: Son los derivados de las obligaciones legales o reglamentarias de carácter ambiental, así como de las licencias, planes de manejo o de permisos y autorizaciones ambientales, incluyendo tasas retributivas y compensatorias, obligaciones de mitigación, tareas de monitoreo y control, entre otras. RIESGOS TECNOLÓGICOS: Son los derivados de fallas en los sistemas de comunicación de voz y de datos, suspensión de servicios públicos, nuevos desarrollos tecnológicos o estándares que deben ser tenidos en cuenta para la ejecución del contrato, obsolescencia tecnológica.
B15: INSTRUCCIONES PARA LA IDENTIFICACIÓN, ANALISIS, EVALUACIÓN , ASIGNACIÓN Y TRATAMIENTO DE RIESGOS EN LA CONTRATACIÓN
B16: 1) Identifique los riesgos previsibles que le apliquen al objeto contractual que se adelante. Los relacionados a continuación se establecen de manera general y como proforma. No obstante, si del objeto contractual se identifican otros riesgos diferentes a los aquí determinados, por favor reemplace el texto de la casilla teniendo en cuenta la etapa del proceso. Así mismo, seleccione la clase, fuente y el tipo (Operacional, Económico, Sociales o Políticos, Regulatorios, Financieros, Tecnológicos, De la naturaleza, Ambientales) 2) Continúe en la hoja de "EVALUACIÓN" (SI EXISTEN DUDAS CONCEPTUALES PARA LA ELABORACIÓN DE LA MATRIZ DE RIESGO CONSULTE EL MANUAL PARA LA IDENTIFICACIÓN Y COBERTURA DEL RIESGO EN LOS PROCESOS DE CONTRATACIÓN EXPEDIDO POR COLOMBIA COMPRA EFICIENTE Y LA GUÍA DE RIESGOS PREVISIBLES CONTRACTUALES, EXPEDIDA POR LA VEEDURÍA DISTRITAL)
C17: ETAPAS | D17: CLASE | E17: FUENTE | F17: TIPO
C18: PLANEACIÓN
B19: Inadecuada escogencia de la modalidad de contratación | D19: Especifico | E19: Interno | F19: Operacionales
B20: Requisitos habilitantes inapropiados para el proceso de selección | D20: Especifico | E20: Interno | F20: Operacionales
B21: Inadecuado análisis económico estimativo del valor del contrato | D21: Especifico | E21: Interno | F21: Economicos
B22: Inadecuada descripción del bien o servicio requerido | D22: Especifico | E22: Interno | F22: Operacionales
B23: Inadecuada elaboración de estudios y diseños | D23: Especifico | E23: Interno | F23: Operacionales
B24: Requisitos habilitantes que impidan la selección objetiva | D24: Especifico | E24: Interno | F24: Operacionales
B25: Falta de profundidad en el estudio de sector no identificandose claramente aspectos de oferta y demanda | D25: Especifico | E25: Interno | F25: Economicos
B26: Ausencia de fundamentación de la justificación y conveniencia de la contratación | D26: Especifico | E26: Interno | F26: Operacionales
B27: Inadecuada identificación de las condiciones contractuales | D27: Especifico | E27: Interno | F27: Operacionales
B28: No aprobación o demoras en la expedición vigencias futuras | D28: General | E28: Interno | F28: Operacionales
B29: Apertura de procesos sin disponibilidad presupuestal | D29: Especifico | E29: Interno | F29: Operacionales
C30: SELECCIÓN
B31: Inadecuada evaluación de las ofertas y/o verificación de requisitos habilitantes | D31: General | F31: Operacionales
B32: Inadecuado manejo administrativo del proceso contractual | D32: General | E32: Interno | F32: Operacionales
B33: Falta de claridad en la elaboración de los actos administrativos | D33: General | E33: Interno | F33: Operacionales
B34: Contestación inoportuna a todas las observaciones formuladas a los documentos de la contratación | D34: General | E34: Interno | F34: Operacionales
B35: No publicación de la documentación del proceso de selección en el SECOP | D35: General | E35: Externo | F35: Operacionales
B36: Proceso de selección declarado desierto por falta de participación de posibles proponentes | D36: General | E36: Externo | F36: Operacionales
B37: Confabulacion de los proponentes (Colusión) | D37: General | E37: Externo | F37: Operacionales
B38: Selección de ofertas con precios artificialmente bajos. | D38: Especifico | E38: Externo | F38: Operacionales
C40: CONTRATACIÓN
B41: Riesgo de que no se firme el contrato. | D41: General | E41: Externo | F41: Operacionales
B42: No acuerdo en la liquidación del contrato | D42: General | E42: Externo | F42: Economicos
B43: Falta de solicitud o solicitud tardía del registro presupuestal | D43: General | E43: Externo | F43: Operacionales
B44: No publicación de la documentación del proceso de selección en el SECOP | D44: General | E44: Externo | F44: Operacionales
B45: Presentación de reclamos de terceros sobre la selección del oferente que retrasen el perfeccionamiento del contrato. | F45: Operacionales
C46: EJECUCIÓN
B47: Fluctuaciones del valor de la moneda | D47: General | E47: Externo | F47: Economicos
B48: Cambio de precios en factores de producción. | D48: General | E48: Interno | F48: Economicos
B49: Retrasos en la suscripción del contrato | D49: General | E49: Interno | F49: Operacionales
B50: Incumplimiento en la entrega de los elementos deportivos | F50: Sociales o Políticos
B51: Incumplimiento en la prestación del servicio | D51: Especifico | E51: Externo | F51: Operacionales
B52: Entrega de elementos deportivos que no cumplen con las especificaciones técnicas establecidas por la entidad | F52: Economicos
...

Sheet EVALUACION
C2: MATRIZ DE RIESGOS DE CONTRATACIÓN | K2: Código: GCO-GCI-F164 Versión: 02 Vigencia: 01 de diciembre de 2022 Caso HOLA: 280117
B6: =+CONTEXTO!B8 -> Objeto del Proceso de Contratación: "Suministrar elementos deportivos para la dotación de las escuelas, clubes, colectivos y organizaciones deportivas de la Localidad de Suba, en el marco del proyecto de inversión 2498 “Suba Activa; Recreación y Deporte con sus vecis”
B7: INSTRUCCIONES PARA LA IDENTIFICACIÓN, ANALISIS, EVALUACIÓN , ASIGNACIÓN Y TRATAMIENTO DE RIESGOS EN LA CONTRATACIÓN
B8: 1) Diligencie el objeto contractual y seleccione la(s) etapas y los riesgos que aplican al objeto contractual, de acuerdo a lo definido en la hoja de "IDENTIFICACIÓN Y ANÁLISIS"
B9: 2) Describa las consecuencias de la ocurrencia del Riesgo/evento.
B10: 3) Asigne la probabilidad de ocurrencia del riesgo, de conformidad con la tabla de probabilidad y la valoración del riesgo (Cualitativa o Monetaria)
B11: 4) Asigne el impacto que generaría la materialización del riesgo, de conformidad con la tabla de impacto y la valoración del riesgo (Cualitativa o Monetaria)
B12: 5) Al realizar las anteriores actividades se obtendrá la calificación total y la valoración del riesgo (prioridad).
B13: 6) Continúe en la hoja de "EVALUACIÓN DE CONTROLES"
B15: CALIFICACIÓN | H15: Cualitativa
B16: ETAPA | C16: Descripción (Que puede pasar y, cómo puede ocurrir) | H16: Consecuencias de la ocurrencia del evento | I16: Probabilidad de Ocurrencia | J16: Impacto | K16: Calificación Total | L16: Prioridad
B17: EJECUCIÓN | C17: Incumplimiento en la entrega de los elementos deportivos | H17: Retraso en la dotación de las escuelas, clubes, colectivos y organizaciones deportivas, afectando el cumplimiento de las metas del proyecto de inversión 2498 | I17: 2 | J17: 3 | K17: =I17+J17 -> 5 | L17: =IF(K17<=4,"BAJO",IF(K17=5,"MEDIO",IF(K17=6,"ALTO",IF(K17=7,"ALTO","EXTREMO")))) -> MEDIO
B18: EJECUCIÓN | C18: Entrega de elementos deportivos que no cumplen con las especificaciones técnicas establecidas por la entidad | H18: Los elementos suministrados no cumplen los requerimientos del anexo técnico, afectando la calidad de la dotación y el bienestar de los beneficiarios | I18: 3 | J18: 4 | K18: =I18+J18 -> 7 | L18: =IF(K18<=4,"BAJO",IF(K18=5,"MEDIO",IF(K18=6,"ALTO",IF(K18=7,"ALTO","EXTREMO")))) -> ALTO
B19: EJECUCIÓN | C19: Demora en la adquisición y entrega de los elementos deportivos requeridos por parte del contratista | H19: Retraso en la ejecución del objeto contractual e incumplimiento en la entrega oportuna de los elementos a los beneficiarios | I19: 3 | J19: 3 | K19: =I19+J19 -> 6 | L19: =IF(K19<=4,"BAJO",IF(K19=5,"MEDIO",IF(K19=6,"ALTO",IF(K19=7,"ALTO","EXTREMO")))) -> ALTO
B20: EJECUCIÓN | C20: Variación de los precios del mercado de elementos deportivos; Precio fijo sin reajuste. No se cancelarán reajustes, el contratista asume los cambios en el mercado y no reclamará ni pretenderá reajustes, así mismo, asume el riesgo de pago por unidad de medida y precio unitario | H20: Incremento en el costo de los elementos deportivos que puede afectar la cantidad y completitud de la dotación programada | I20: 2 | J20: 3 | K20: =I20+J20 -> 5 | L20: =IF(K20<=4,"BAJO",IF(K20=5,"MEDIO",IF(K20=6,"ALTO",IF(K20=7,"ALTO","EXTREMO")))) -> MEDIO
B21: EJECUCIÓN | C21: Daños a los elementos deportivos durante el transporte, almacenamiento o entrega | H21: Pérdida o deterioro de elementos deportivos que retrasa la entrega final y puede generar sobrecostos o necesidad de reposición | I21: 2 | J21: 3 | K21: =I21+J21 -> 5 | L21: =IF(K21<=4,"BAJO",IF(K21=5,"MEDIO",IF(K21=6,"ALTO",IF(K21=7,"ALTO","EXTREMO")))) -> MEDIO
B22: EJECUCIÓN | C22: Deserción o baja participación de los beneficiarios en los componentes del proyecto | H22: Incumplimiento de las metas del proyecto de inversión 2498 y subutilización de los elementos deportivos dotados | I22: 2 | J22: 2 | K22: =I22+J22 -> 4 | L22: =IF(K22<=4,"BAJO",IF(K22=5,"MEDIO",IF(K22=6,"ALTO",IF(K22=7,"ALTO","EXTREMO")))) -> BAJO
B23: EJECUCIÓN | C23: Imposición de nuevos tributos o aranceles que afecten el valor de los elementos deportivos | H23: Desequilibrio económico del contrato por incremento en costos tributarios no previstos al momento de estructurar el proceso | I23: 1 | J23: 2 | K23: =I23+J23 -> 3 | L23: =IF(K23<=4,"BAJO",IF(K23=5,"MEDIO",IF(K23=6,"ALTO",IF(K23=7,"ALTO","EXTREMO")))) -> BAJO
B24: EJECUCIÓN | C24: No realizar la liquidación del contrato en los términos pactados en el contrato o los establecidos en la norma | H24: Incumplimiento normativo y posibles investigaciones disciplinarias al contratista y al supervisor del contrato | I24: 2 | J24: 1 | K24: =I24+J24 -> 3 | L24: =IF(K24<=4,"BAJO",IF(K24=5,"MEDIO",IF(K24=6,"ALTO",IF(K24=7,"ALTO","EXTREMO")))) -> BAJO
E26: Valoración | G26: Impacto
C27: Raro (puede ocurrir excepcionalmente) | E27: 1 | H27: Insignificante | I27: 1
C28: Improbable (puede ocurrir ocasionalmente) | E28: 2 | H28: Menor | I28: 2
C29: Posible (puede ocurrir en cualquier momento futuro) | E29: 3 | H29: Moderado | I29: 3
C30: Probable (probablemente va a ocurrir) | E30: 4 | H30: Mayor | I30: 4
C31: Casi cierto (ocurre en la mayoria de circunstancias) | E31: 5 | H31: Catastrófico | I31: 5
C33: Valoración del Riesgo
C34: Calificación Cualitativa | F34: Obstruye la ejecución del contrato de manera intrascendente. | G34: Dificulta la ejecución del contrato de manera baja, aplicando medidas mínimas se pueden lograr el objeto contractual | H34: Afecta la ejecución del contrato sin alterar el beneficio para las partes | I34: Obstruye la ejecución del contrato sustancialmente pero aun así permite la consecución del objeto contractual | K34: Perturba la ejecución del contrato de manera grave imposibilitando la consecución del objeto contractual.
C35: Calificación Monetaria | F35: Los sobrecostos no representan más del uno por ciento (1%) del valor del contrato. | G35: Los sobrecostos no representan más del cinco por ciento (5%) del valor del contrato. | H35: Genera un impacto sobre el valor del contrato entre el cinco (5%) y el quince por ciento (15%). | I35: Incrementa el valor del contrato entre el quince (15%) y el treinta por ciento (30%). | K35: Impacto sobre el valor del contrato en más del treinta por ciento (30%).
C36: Categoría | E36: Valoración | F36: Insignificante | G36: Menor | H36: Moderado | I36: Mayor | K36: Catastrófico
F37: 1 | G37: 2 | H37: 3 | I37: 4 | K37: 5
C38: Raro (puede ocurrir excepcionalmente) | E38: 1 | F38: 2 | G38: 3 | H38: 4 | I38: 5 | K38: 6
C39: Improbable (puede ocurrir ocasionalmente) | E39: 2 | F39: 3 | G39: 4 | H39: 5 | I39: 6 | K39: 7
C40: Posible (puede ocurrir en cualquier momento futuro) | E40: 3 | F40: 4 | G40: 5 | H40: 6 | I40: 7 | K40: 8
C41: Probable (probablemente va a ocurrir) | E41: 4 | F41: 5 | G41: 6 | H41: 7 | I41: 8 | K41: 9
C42: Casi cierto (ocurre en la mayoria de circunstancias) | E42: 5 | F42: 6 | G42: 7 | H42: 8 | I42: 9 | K42: 10
G44: Categoria del Riesgo
G45: Valoración del Riesgo | H45: Categoría
G46: 8, 9 y 10 | H46: Riesgo extremo
G47: 6 y 7 | H47: Riesgo alto
G48: 5 | H48: Riesgo medio
...

Sheet EVALUACION CON CONTROLES
C2: MATRIZ DE RIESGOS DE CONTRATACIÓN | Q2: Código: GCO-GCI-F164 Versión: 02 Vigencia: 01 de diciembre de 2022 Caso HOLA: 280117
B6: =+EVALUACION!B6 -> Objeto del Proceso de Contratación: "Suministrar elementos deportivos para la dotación de las escuelas, clubes, colectivos y organizaciones deportivas de la Localidad de Suba, en el marco del proyecto de inversión 2498 “Suba Activa; Recreación y Deporte con sus vecis”
B7: INSTRUCCIONES PARA LA IDENTIFICACIÓN, ANALISIS, EVALUACIÓN , ASIGNACIÓN Y TRATAMIENTO DE RIESGOS EN LA CONTRATACIÓN
B8: 1) Describa el tratamiento/controles a ser implementados
B9: 2) Diligencie la información de las siguientes columnas, de acuerdo con el análisis realizado a cada riesgo: Afecta el equilibrio económico, persona responsable de implementar el tratamiento, fecha estimada de inicio del tratamiento, fecha estimada en la que se completa el tratamiento, cómo se realiza el monitoreo y la periodicidad.
B10: 3) Continúe en la hoja de "ASIGNACIÓN Y TRATAMIENTO" y diligencie las siguientes casillas: A quien se le asigna y el porcentaje que asume cada una de las partes en caso de que sea compartido.
B15: ETAPA | C15: Descripción (Que puede pasar y, cómo puede ocurrir) | G15: Tratamiento/Controles a ser implementados | I15: Probabilidad de Ocurrencia | J15: Impacto | K15: Calificación Total | L15: Prioridad | M15: ¿Afecta el equilibrio económico del contrato? | N15: Persona responsable por implementar el tratamiento | O15: Fecha estimada en que se inicia el tratamiento | P15: Fecha estimada en que se completa el tratamiento | Q15: ¿Cómo se realiza el monitoreo? | R15: Periodicidad ¿Cuándo?
B16: =+EVALUACION!B17 -> EJECUCIÓN | C16: =+EVALUACION!C17 -> Incumplimiento en la entrega de los elementos deportivos | G16: Verificación documental y física de cada entrega; exigencia de garantías de cumplimiento; aplicación de cláusula penal ante incumplimiento en la entrega | I16: 1 | J16: 1 | K16: =+I16+J16 -> 2 | L16: =IF(K16<=4,"BAJO",IF(K16=5,"MEDIO",IF(K16=6,"ALTO",IF(K16=7,"ALTO","EXTREMO")))) -> BAJO | M16: NO | N16: Supervisor del contrato | O16: Una vez adjudicado el contrato | P16: Hasta la liquidación del contrato | Q16: Revisión de informes de entrega y actas de recibo a satisfacción | R16: Cada entrega programada
B17: =+EVALUACION!B18 -> EJECUCIÓN | C17: =+EVALUACION!C18 -> Entrega de elementos deportivos que no cumplen con las especificaciones técnicas establecidas por la entidad | G17: Supervisión técnica en cada entrega; verificación contra ficha técnica del anexo; póliza de calidad del bien; rechazo y reposición de elementos no conformes | I17: 2 | J17: 1 | K17: =+I17+J17 -> 3 | L17: =IF(K17<=4,"BAJO",IF(K17=5,"MEDIO",IF(K17=6,"ALTO",IF(K17=7,"ALTO","EXTREMO")))) -> BAJO | M17: NO | N17: Supervisor del contrato | O17: Desde el inicio de la ejecución del contrato | P17: Hasta el último día de ejecución del contrato | Q17: Revisión técnica en cada entrega con acta de recibo a satisfacción | R17: Cada entrega
B18: =+EVALUACION!B19 -> EJECUCIÓN | C18: =+EVALUACION!C19 -> Demora en la adquisición y entrega de los elementos deportivos requeridos por parte del contratista | G18: Establecimiento de cronograma de entregas en el contrato; seguimiento periódico al avance; aplicación de multas por mora en entregas | I18: 1 | J18: 2 | K18: =+I18+J18 -> 3 | L18: =IF(K18<=4,"BAJO",IF(K18=5,"MEDIO",IF(K18=6,"ALTO",IF(K18=7,"ALTO","EXTREMO")))) -> BAJO | M18: NO | N18: Supervisor del contrato | O18: Desde la firma del acta de inicio | P18: Hasta la entrega total de los elementos | Q18: Verificación del cronograma de entregas acordado | R18: Quincenal
B19: =+EVALUACION!B20 -> EJECUCIÓN | C19: =+EVALUACION!C20 -> Variación de los precios del mercado de elementos deportivos; Precio fijo sin reajuste. No se cancelarán reajustes, el contratista asume los cambios en el mercado y no reclamará ni pretenderá reajustes, así mismo, asume el riesgo de pago por unidad de medida y precio unitario | G19: Precio fijo sin reajuste pactado contractualmente; el contratista asume la variación de precios; adecuada supervisión del contrato y de los precios ofertados | I19: 2 | J19: 1 | K19: =+I19+J19 -> 3 | L19: =IF(K19<=4,"BAJO",IF(K19=5,"MEDIO",IF(K19=6,"ALTO",IF(K19=7,"ALTO","EXTREMO")))) -> BAJO | M19: NO | N19: Supervisor del contrato | O19: Desde la firma del acta de inicio | P19: Hasta el último día de ejecución del contrato | Q19: Supervisión constante a la ejecución del contrato | R19: Cuando se presente
B20: =+EVALUACION!B21 -> EJECUCIÓN | C20: =+EVALUACION!C21 -> Daños a los elementos deportivos durante el transporte, almacenamiento o entrega | G20: Exigencia al contratista de embalaje adecuado para transporte; verificación del estado físico de los elementos al momento de la entrega; póliza de calidad del bien | I20: 1 | J20: 1 | K20: =+I20+J20 -> 2 | L20: =IF(K20<=4,"BAJO",IF(K20=5,"MEDIO",IF(K20=6,"ALTO",IF(K20=7,"ALTO","EXTREMO")))) -> BAJO | M20: NO | N20: Supervisor del contrato | O20: Desde el primer despacho de elementos | P20: Hasta la entrega final de todos los elementos | Q20: Revisión del estado físico de elementos en cada entrega | R20: Cada entrega
B21: =+EVALUACION!B22 -> EJECUCIÓN | C21: =+EVALUACION!C22 -> Deserción o baja participación de los beneficiarios en los componentes del proyecto | G21: Estrategia de comunicación y socialización con comunidades beneficiarias; coordinación con líderes deportivos y directivos de escuelas y clubes locales | I21: 1 | J21: 1 | K21: =+I21+J21 -> 2 | L21: =IF(K21<=4,"BAJO",IF(K21=5,"MEDIO",IF(K21=6,"ALTO",IF(K21=7,"ALTO","EXTREMO")))) -> BAJO | M21: NO | N21: Equipo técnico oficina de Participación | O21: Antes del inicio de las entregas | P21: Durante toda la ejecución del contrato | Q21: Registro de asistencia y actas de entrega a beneficiarios | R21: Mensual
B22: =+EVALUACION!B23 -> EJECUCIÓN | C22: =+EVALUACION!C23 -> Imposición de nuevos tributos o aranceles que afecten el valor de los elementos deportivos | G22: Precio fijo sin ajuste por tributación; el contratista incluye todos los tributos vigentes y futuros en su oferta económica; cláusula de precio fijo en el contrato | I22: 1 | J22: 1 | K22: =+I22+J22 -> 2 | L22: =IF(K22<=4,"BAJO",IF(K22=5,"MEDIO",IF(K22=6,"ALTO",IF(K22=7,"ALTO","EXTREMO")))) -> BAJO | M22: NO | N22: Supervisor del contrato / Oficina de Planeación | O22: Desde la firma del contrato | P22: Hasta la liquidación del contrato | Q22: Seguimiento a variaciones normativas tributarias | R22: Cuando se presente
B23: =+EVALUACION!B24 -> EJECUCIÓN | C23: =+EVALUACION!C24 -> No realizar la liquidación del contrato en los términos pactados en el contrato o los establecidos en la norma | G23: Seguimiento al cronograma de liquidación; solicitud oportuna de liquidación por parte del supervisor antes del vencimiento del plazo del contrato | I23: 1 | J23: 1 | K23: =+I23+J23 -> 2 | L23: =IF(K23<=4,"BAJO",IF(K23=5,"MEDIO",IF(K23=6,"ALTO",IF(K23=7,"ALTO","EXTREMO")))) -> BAJO | M23: SI | N23: Oficina de Planeación | O23: Antes del vencimiento del plazo del contrato | P23: Hasta la liquidación del contrato | Q23: Supervisión constante a la ejecución y control de plazos de liquidación | R23: Cuando se presente
H24: Impacto del Riesgo
F25: Valoración | H25: Categoria
C26: Raro (puede ocurrir excepcionalmente) | F26: 1 | H26: Insignificante | J26: 1 | N26: Valoración del Riesgo | P26: Categoría
C27: Improbable (puede ocurrir ocasionalmente) | F27: 2 | H27: Menor | J27: 2 | N27: 8, 9 y 10 | P27: Riesgo extremo
C28: Posible (puede ocurrir en cualquier momento futuro) | F28: 3 | H28: Moderado | J28: 3 | N28: 6 y 7 | P28: Riesgo alto
C29: Probable (probablemente va a ocurrir) | F29: 4 | H29: Mayor | J29: 4 | N29: 5 | P29: Riesgo medio
C30: Casi cierto (ocurre en la mayoria de circunstancias) | F30: 5 | H30: Catastrófico | J30: 5 | N30: 2, 3 y 4 | P30: Riesgo bajo
C32: Valoración del Riesgo
C33: Calificación Cualitativa | G33: Obstruye la ejecución del contrato de manera intrascendente. | I33: Dificulta la ejecución del contrato de manera baja, aplicando medidas mínimas se pueden lograr el objeto contractual | L33: Afecta la ejecución del contrato sin alterar el beneficio para las partes | N33: Obstruye la ejecución del contrato sustancialmente pero aun así permite la consecución del objeto contractual | P33: Perturba la ejecución del contrato de manera grave imposibilitando la consecución del objeto contractual.
C34: Calificación Monetaria | G34: Los sobrecostos no representan más del uno por ciento (1%) del valor del contrato. | I34: Los sobrecostos no representan más del cinco por ciento (5%) del valor del contrato. | L34: Genera un impacto sobre el valor del contrato entre el cinco (5%) y el quince por ciento (15%). | N34: Incrementa el valor del contrato entre el quince (15%) y el treinta por ciento (30%). | P34: Impacto sobre el valor del contrato en más del treinta por ciento (30%).
C35: Catagoria | F35: Valoración | G35: Insignificante | I35: Menor | L35: Moderado | N35: Mayor | P35: Catastrófico
G36: 1 | I36: 2 | L36: 3 | N36: 4 | P36: 5
C37: Raro (puede ocurrir excepcionalmente) | F37: 1 | G37: 2 | I37: 3 | L37: 4 | N37: 5 | P37: 6
C38: Improbable (puede ocurrir ocasionalmente) | F38: 2 | G38: 3 | I38: 4 | L38: 5 | N38: 6 | P38: 7
C39: Posible (puede ocurrir en cualquier momento futuro) | F39: 3 | G39: 4 | I39: 5 | L39: 6 | N39: 7 | P39: 8
C40: Probable (probablemente va a ocurrir) | F40: 4 | G40: 5 | I40: 6 | L40: 7 | N40: 8 | P40: 9
C41: Casi cierto (ocurre en la mayoria de circunstancias) | F41: 5 | G41: 6 | I41: 7 | L41: 8 | N41: 9 | P41: 10

Sheet ASIGNACION Y TRATAMIENTO
C2: MATRIZ DE RIESGOS DE CONTRATACIÓN | W2: Código: GCO-GCI-F164 Versión: 02 Vigencia: 01 de diciembre de 2022 Caso HOLA: 280117
B6: =+EVALUACION!B6 -> Objeto del Proceso de Contratación: "Suministrar elementos deportivos para la dotación de las escuelas, clubes, colectivos y organizaciones deportivas de la Localidad de Suba, en el marco del proyecto de inversión 2498 “Suba Activa; Recreación y Deporte con sus vecis”
B7: Esta matriz es un documento anexo del Estudio Previo
B10: No | C10: Descripción (Que puede pasar y, cómo puede ocurrir) | D10: Etapa | E10: Clase | F10: Fuente | G10: Consecuencias de la ocurrencia del evento | H10: Probabilidad | I10: Impacto | J10: Calificación total | K10: Prioridad | L10: ¿A quien se le asigna? | M10: % | N10: Tratamiento/Controles a ser implementados | O10: Probabilidad | P10: Impacto | Q10: Calificación total | R10: Prioridad | S10: ¿Afecta el equilibrio económico del contrato? | T10: Persona responsable por implementar el tratamiento | U10: Fecha estimada en que se inicia el tratamiento | V10: Fecha estimada en que se completa el tratamiento | W10: ¿Cómo se realiza el monitoreo | X10: Periodicidad ¿Cuándo?
B11: 1 | C11: =+'EVALUACION CON CONTROLES'!C16:F16 -> Incumplimiento en la entrega de los elementos deportivos | D11: =+'EVALUACION CON CONTROLES'!B16 -> EJECUCIÓN | E11: =IFERROR(VLOOKUP(C11,'IDENTIFICACION Y ANALISIS'!$B$19:$F$84,3,FALSE()),"Específico") -> 0 | F11: =IFERROR(VLOOKUP(C11,'IDENTIFICACION Y ANALISIS'!$B$19:$F$84,4,FALSE()),"Externo") -> 0 | G11: =+EVALUACION!H17 -> Retraso en la dotación de las escuelas, clubes, colectivos y organizaciones deportivas, afectando el cumplimiento de las metas del proyecto de inversión 2498 | H11: =+EVALUACION!I17 -> 2 | I11: =+EVALUACION!J17 -> 3 | J11: =+EVALUACION!K17 -> 5 | K11: =+EVALUACION!L17 -> MEDIO | L11: CONTRATISTA | M11: 100 | N11: =+'EVALUACION CON CONTROLES'!G16 -> Verificación documental y física de cada entrega; exigencia de garantías de cumplimiento; aplicación de cláusula penal ante incumplimiento en la entrega | O11: =+'EVALUACION CON CONTROLES'!I16 -> 1 | P11: =+'EVALUACION CON CONTROLES'!J16 -> 1 | Q11: =+'EVALUACION CON CONTROLES'!K16 -> 2 | R11: =+'EVALUACION CON CONTROLES'!L16 -> BAJO | S11: =+'EVALUACION CON CONTROLES'!M16 -> NO | T11: =+'EVALUACION CON CONTROLES'!N16 -> Supervisor del contrato | U11: =+'EVALUACION CON CONTROLES'!O16 -> Una vez adjudicado el contrato | V11: =+'EVALUACION CON CONTROLES'!P16 -> Hasta la liquidación del contrato | ... X11: =+'EVALUACION CON CONTROLES'!R16 -> Cada entrega programada
B12: 2 | C12: =+'EVALUACION CON CONTROLES'!C17:F17 -> Entrega de elementos deportivos que no cumplen con las especificaciones técnicas establecidas por la entidad | D12: =+'EVALUACION CON CONTROLES'!B17 -> EJECUCIÓN | E12: =IFERROR(VLOOKUP(C12,'IDENTIFICACION Y ANALISIS'!$B$19:$F$84,3,FALSE()),"Específico") -> 0 | F12: =IFERROR(VLOOKUP(C12,'IDENTIFICACION Y ANALISIS'!$B$19:$F$84,4,FALSE()),"Externo") -> 0 | G12: =+EVALUACION!H18 -> Los elementos suministrados no cumplen los requerimientos del anexo técnico, afectando la calidad de la dotación y el bienestar de los beneficiarios | H12: =+EVALUACION!I18 -> 3 | I12: =+EVALUACION!J18 -> 4 | J12: =+EVALUACION!K18 -> 7 | K12: =+EVALUACION!L18 -> ALTO | L12: CONTRATISTA | M12: 100 | N12: =+'EVALUACION CON CONTROLES'!G17 -> Supervisión técnica en cada entrega; verificación contra ficha técnica del anexo; póliza de calidad del bien; rechazo y reposición de elementos no conformes | O12: =+'EVALUACION CON CONTROLES'!I17 -> 2 | P12: =+'EVALUACION CON CONTROLES'!J17 -> 1 | Q12: =+'EVALUACION CON CONTROLES'!K17 -> 3 | R12: =+'EVALUACION CON CONTROLES'!L17 -> BAJO | S12: =+'EVALUACION CON CONTROLES'!M17 -> NO | T12: =+'EVALUACION CON CONTROLES'!N17 -> Supervisor del contrato | U12: =+'EVALUACION CON CONTROLES'!O17 -> Desde el inicio de la ejecución del contrato | V12: =+'EVALUACION CON CONTROLES'!P17 -> Hasta el último día de ejecución del contrato | ... X12: =+'EVALUACION CON CONTROLES'!R17 -> Cada entrega
B13: 3 | C13: =+'EVALUACION CON CONTROLES'!C18:F18 -> Demora en la adquisición y entrega de los elementos deportivos requeridos por parte del contratista | D13: =+'EVALUACION CON CONTROLES'!B18 -> EJECUCIÓN | E13: =IFERROR(VLOOKUP(C13,'IDENTIFICACION Y ANALISIS'!$B$19:$F$84,3,FALSE()),"Específico") -> 0 | F13: =IFERROR(VLOOKUP(C13,'IDENTIFICACION Y ANALISIS'!$B$19:$F$84,4,FALSE()),"Externo") -> 0 | G13: =+EVALUACION!H19 -> Retraso en la ejecución del objeto contractual e incumplimiento en la entrega oportuna de los elementos a los beneficiarios | H13: =+EVALUACION!I19 -> 3 | I13: =+EVALUACION!J19 -> 3 | J13: =+EVALUACION!K19 -> 6 | K13: =+EVALUACION!L19 -> ALTO | L13: CONTRATISTA | M13: 100 | N13: =+'EVALUACION CON CONTROLES'!G18 -> Establecimiento de cronograma de entregas en el contrato; seguimiento periódico al avance; aplicación de multas por mora en entregas | O13: =+'EVALUACION CON CONTROLES'!I18 -> 1 | P13: =+'EVALUACION CON CONTROLES'!J18 -> 2 | Q13: =+'EVALUACION CON CONTROLES'!K18 -> 3 | R13: =+'EVALUACION CON CONTROLES'!L18 -> BAJO | S13: =+'EVALUACION CON CONTROLES'!M18 -> NO | T13: =+'EVALUACION CON CONTROLES'!N18 -> Supervisor del contrato | U13: =+'EVALUACION CON CONTROLES'!O18 -> Desde la firma del acta de inicio | V13: =+'EVALUACION CON CONTROLES'!P18 -> Hasta la entrega total de los elementos | ... X13: =+'EVALUACION CON CONTROLES'!R18 -> Quincenal
B14: 4 | C14: =+'EVALUACION CON CONTROLES'!C19:F19 -> Variación de los precios del mercado de elementos deportivos; Precio fijo sin reajuste. No se cancelarán reajustes, el contratista asume los cambios en el mercado y no reclamará ni pretenderá reajustes, así mismo, asume el riesgo de pago por unidad de medida y precio unitario | D14: =+'EVALUACION CON CONTROLES'!B19 -> EJECUCIÓN | E14: =IFERROR(VLOOKUP(C14,'IDENTIFICACION Y ANALISIS'!$B$19:$F$84,3,FALSE()),"Específico") -> Específico | F14: =IFERROR(VLOOKUP(C14,'IDENTIFICACION Y ANALISIS'!$B$19:$F$84,4,FALSE()),"Externo") -> Externo | G14: =+EVALUACION!H20 -> Incremento en el costo de los elementos deportivos que puede afectar la cantidad y completitud de la dotación programada | H14: =+EVALUACION!I20 -> 2 | I14: =+EVALUACION!J20 -> 3 | J14: =+EVALUACION!K20 -> 5 | K14: =+EVALUACION!L20 -> MEDIO | L14: CONTRATISTA | M14: 100 | N14: =+'EVALUACION CON CONTROLES'!G19 -> Precio fijo sin reajuste pactado contractualmente; el contratista asume la variación de precios; adecuada supervisión del contrato y de los precios ofertados | O14: =+'EVALUACION CON CONTROLES'!I19 -> 2 | P14: =+'EVALUACION CON CONTROLES'!J19 -> 1 | Q14: =+'EVALUACION CON CONTROLES'!K19 -> 3 | R14: =+'EVALUACION CON CONTROLES'!L19 -> BAJO | S14: =+'EVALUACION CON CONTROLES'!M19 -> NO | T14: =+'EVALUACION CON CONTROLES'!N19 -> Supervisor del contrato | U14: =+'EVALUACION CON CONTROLES'!O19 -> Desde la firma del acta de inicio | V14: =+'EVALUACION CON CONTROLES'!P19 -> Hasta el último día de ejecución del contrato | ... X14: =+'EVALUACION CON CONTROLES'!R19 -> Cuando se presente
B15: 5 | C15: =+'EVALUACION CON CONTROLES'!C20:F20 -> Daños a los elementos deportivos durante el transporte, almacenamiento o entrega | D15: =+'EVALUACION CON CONTROLES'!B20 -> EJECUCIÓN | E15: =IFERROR(VLOOKUP(C15,'IDENTIFICACION Y ANALISIS'!$B$19:$F$84,3,FALSE()),"Específico") -> Especifico | F15: =IFERROR(VLOOKUP(C15,'IDENTIFICACION Y ANALISIS'!$B$19:$F$84,4,FALSE()),"Externo") -> Externo | G15: =+EVALUACION!H21 -> Pérdida o deterioro de elementos deportivos que retrasa la entrega final y puede generar sobrecostos o necesidad de reposición | H15: =+EVALUACION!I21 -> 2 | I15: =+EVALUACION!J21 -> 3 | J15: =+EVALUACION!K21 -> 5 | K15: =+EVALUACION!L21 -> MEDIO | L15: CONTRATISTA | M15: 100 | N15: =+'EVALUACION CON CONTROLES'!G20 -> Exigencia al contratista de embalaje adecuado para transporte; verificación del estado físico de los elementos al momento de la entrega; póliza de calidad del bien | O15: =+'EVALUACION CON CONTROLES'!I20 -> 1 | P15: =+'EVALUACION CON CONTROLES'!J20 -> 1 | Q15: =+'EVALUACION CON CONTROLES'!K20 -> 2 | R15: =+'EVALUACION CON CONTROLES'!L20 -> BAJO | S15: =+'EVALUACION CON CONTROLES'!M20 -> NO | T15: =+'EVALUACION CON CONTROLES'!N20 -> Supervisor del contrato | U15: =+'EVALUACION CON CONTROLES'!O20 -> Desde el primer despacho de elementos | V15: =+'EVALUACION CON CONTROLES'!P20 -> Hasta la entrega final de todos los elementos | ... X15: =+'EVALUACION CON CONTROLES'!R20 -> Cada entrega
B16: 6 | C16: =+'EVALUACION CON CONTROLES'!C21:F21 -> Deserción o baja participación de los beneficiarios en los componentes del proyecto | D16: =+'EVALUACION CON CONTROLES'!B21 -> EJECUCIÓN | E16: =IFERROR(VLOOKUP(C16,'IDENTIFICACION Y ANALISIS'!$B$19:$F$84,3,FALSE()),"Específico") -> 0 | F16: =IFERROR(VLOOKUP(C16,'IDENTIFICACION Y ANALISIS'!$B$19:$F$84,4,FALSE()),"Externo") -> 0 | G16: =+EVALUACION!H22 -> Incumplimiento de las metas del proyecto de inversión 2498 y subutilización de los elementos deportivos dotados | H16: =+EVALUACION!I22 -> 2 | I16: =+EVALUACION!J22 -> 2 | J16: =+EVALUACION!K22 -> 4 | K16: =+EVALUACION!L22 -> BAJO | L16: ALCALDIA LOCAL DE SUBA | M16: 100 | N16: =+'EVALUACION CON CONTROLES'!G21 -> Estrategia de comunicación y socialización con comunidades beneficiarias; coordinación con líderes deportivos y directivos de escuelas y clubes locales | O16: =+'EVALUACION CON CONTROLES'!I21 -> 1 | P16: =+'EVALUACION CON CONTROLES'!J21 -> 1 | Q16: =+'EVALUACION CON CONTROLES'!K21 -> 2 | R16: =+'EVALUACION CON CONTROLES'!L21 -> BAJO | S16: =+'EVALUACION CON CONTROLES'!M21 -> NO | T16: =+'EVALUACION CON CONTROLES'!N21 -> Equipo técnico oficina de Participación | U16: =+'EVALUACION CON CONTROLES'!O21 -> Antes del inicio de las entregas | V16: =+'EVALUACION CON CONTROLES'!P21 -> Durante toda la ejecución del contrato | ... X16: =+'EVALUACION CON CONTROLES'!R21 -> Mensual
B17: 7 | C17: =+'EVALUACION CON CONTROLES'!C22:F22 -> Imposición de nuevos tributos o aranceles que afecten el valor de los elementos deportivos | D17: =+'EVALUACION CON CONTROLES'!B22 -> EJECUCIÓN | E17: =IFERROR(VLOOKUP(C17,'IDENTIFICACION Y ANALISIS'!$B$19:$F$84,3,FALSE()),"General") -> General | F17: =IFERROR(VLOOKUP(C17,'IDENTIFICACION Y ANALISIS'!$B$19:$F$84,4,FALSE()),"Externo") -> Externo | G17: =+EVALUACION!H23 -> Desequilibrio económico del contrato por incremento en costos tributarios no previstos al momento de estructurar el proceso | H17: =+EVALUACION!I23 -> 1 | I17: =+EVALUACION!J23 -> 2 | J17: =+EVALUACION!K23 -> 3 | K17: =+EVALUACION!L23 -> BAJO | L17: CONTRATISTA Y ALS | M17: 100 | N17: =+'EVALUACION CON CONTROLES'!G22 -> Precio fijo sin ajuste por tributación; el contratista incluye todos los tributos vigentes y futuros en su oferta económica; cláusula de precio fijo en el contrato | O17: =+'EVALUACION CON CONTROLES'!I22 -> 1 | P17: =+'EVALUACION CON CONTROLES'!J22 -> 1 | Q17: =+'EVALUACION CON CONTROLES'!K22 -> 2 | R17: =+'EVALUACION CON CONTROLES'!L22 -> BAJO | S17: =+'EVALUACION CON CONTROLES'!M22 -> NO | T17: =+'EVALUACION CON CONTROLES'!N22 -> Supervisor del contrato / Oficina de Planeación | U17: =+'EVALUACION CON CONTROLES'!O22 -> Desde la firma del contrato | V17: =+'EVALUACION CON CONTROLES'!P22 -> Hasta la liquidación del contrato | ... X17: =+'EVALUACION CON CONTROLES'!R22 -> Cuando se presente
B18: 8 | C18: =+'EVALUACION CON CONTROLES'!C23:F23 -> No realizar la liquidación del contrato en los términos pactados en el contrato o los establecidos en la norma | D18: =+'EVALUACION CON CONTROLES'!B23 -> EJECUCIÓN | E18: =IFERROR(VLOOKUP(C18,'IDENTIFICACION Y ANALISIS'!$B$19:$F$84,3,FALSE()),"General") -> General | F18: =IFERROR(VLOOKUP(C18,'IDENTIFICACION Y ANALISIS'!$B$19:$F$84,4,FALSE()),"Externo") -> Externo | G18: =+EVALUACION!H24 -> Incumplimiento normativo y posibles investigaciones disciplinarias al contratista y al supervisor del contrato | H18: =+EVALUACION!I24 -> 2 | I18: =+EVALUACION!J24 -> 1 | J18: =+EVALUACION!K24 -> 3 | K18: BAJO | L18: CONTRATISTA Y ALS | M18: 20/50 | N18: =+'EVALUACION CON CONTROLES'!G23 -> Seguimiento al cronograma de liquidación; solicitud oportuna de liquidación por parte del supervisor antes del vencimiento del plazo del contrato | O18: =+'EVALUACION CON CONTROLES'!I23 -> 1 | P18: =+'EVALUACION CON CONTROLES'!J23 -> 1 | Q18: =+'EVALUACION CON CONTROLES'!K23 -> 2 | R18: =+'EVALUACION CON CONTROLES'!L23 -> BAJO | S18: NO | T18: =+'EVALUACION CON CONTROLES'!N23 -> Oficina de Planeación | U18: =+'EVALUACION CON CONTROLES'!O23 -> Antes del vencimiento del plazo del contrato | V18: =+'EVALUACION CON CONTROLES'!P23 -> Hasta la liquidación del contrato | W18: =+'EVALUACION CON CONTROLES'!Q23 -> Supervisión constante a la ejecución y control de plazos de liquidación | X18: =+'EVALUACION CON CONTROLES'!R23 -> Cuando se presente
E19: Probabilidad | F19: Catagoria | G19: Valoración | J19: Categoria | L19: Valoración
F20: Raro (puede ocurrir excepcionalmente) | G20: 1 | J20: Insignificante | L20: 1
F21: Improbable (puede ocurrir ocasionalmente) | G21: 2 | J21: Menor | L21: 2
F22: Posible (puede ocurrir en cualquier momento futuro) | G22: 3 | J22: Moderado | L22: 3
F23: Probable (probablemente va a ocurrir) | G23: 4 | J23: Mayor | L23: 4
F24: Casi cierto (ocurre en la mayoria de circunstancias) | G24: 5 | J24: Catastrófico | L24: 5
D26: Valoración del Riesgo
D27: Catagoria | E27: Valoración | F27: Insignificante | H27: Menor | J27: Moderado | K27: Mayor | L27: Catastrófico | P27: Categoria del Riesgo
F28: 1 | H28: 2 | J28: 3 | K28: 4 | L28: 5 | P28: Valoración del Riesgo | S28: Categoría
D29: Raro (puede ocurrir excepcionalmente) | E29: 1 | F29: 2 | H29: 3 | J29: 4 | K29: 5 | L29: 6 | P29: 8, 9 y 10 | S29: Riesgo extremo
D30: Improbable (puede ocurrir ocasionalmente) | E30: 2 | F30: 3 | H30: 4 | J30: 5 | K30: 6 | L30: 7 | P30: 6 y 7 | S30: Riesgo alto
D31: Posible (puede ocurrir en cualquier momento futuro) | E31: 3 | F31: 4 | H31: 5 | J31: 6 | K31: 7 | L31: 8 | P31: 5 | S31: Riesgo medio
D32: Probable (probablemente va a ocurrir) | E32: 4 | F32: 5 | H32: 6 | J32: 7 | K32: 8 | L32: 9 | P32: 2, 3 y 4 | S32: Riesgo bajo
D33: Casi cierto (ocurre en la mayoria de circunstancias) | E33: 5 | F33: 6 | H33: 7 | J33: 8 | K33: 9 | L33: 10
B38: CONTRATISTA
B39: ALCALDIA LOCAL DE SUBA
B40: CONTRATISTA Y ALS
