Workbook
Name _Toc140149825_1: [1]JURIDICA!#REF!
Name _Toc140149825_1: [1]JURIDICA!#REF!
Name _Toc140149825_1: [1]JURIDICA!#REF!
Name _Toc140149825_59: #REF!
Name _Toc140149825_59: #REF!
Name _Toc140149825_59: #REF!
Name _Toc142149825_60: #REF!
Name _Toc142149825_60: #REF!
Name _Toc142149825_60: #REF!
Name AMOR: [1]JURIDICA!#REF!
Name AMOR: [1]JURIDICA!#REF!
Name AMOR: [1]JURIDICA!#REF!
Name estadof: [2]Hoja4!$B$2:$B$15
Name FFFFFFF: #REF!
Name FFFFFFF: #REF!
Name FFFFFFF: #REF!
Name GG: [1]JURIDICA!#REF!
Name GG: [1]JURIDICA!#REF!
Name GG: [1]JURIDICA!#REF!
Name GGGGGG: #REF!
Name GGGGGG: #REF!
Name GGGGGG: #REF!
Name opcion2: '[3]CUADRO RESUMEN'!$L$21
Name opcion3: '[3]CUADRO RESUMEN'!$L$22
Name opcion4: '[3]CUADRO RESUMEN'!$L$23
Name opcion5: '[3]CUADRO RESUMEN'!$L$24
Name opcion6: '[3]CUADRO RESUMEN'!$L$25
Name RamoAmparo: [2]Hoja4!$A$2:$A$57

Sheet RESUMEN  ESTUDIO MERCADO
B3: CONSEJO SUPERIOR DE LA JUDICATURA
B4: PROYECCIÓN VIGENCIA 2026-2027
B6: VIGENCIA TOTAL | C6: GRUPO UNICO
B7: DESDE 00:00 HORAS | C7: ='ESTUDIO DE MERCADO 2027'!C7 -> 46381
B8: HASTA: 23:59 HORAS | C8: 46745
B9: DIAS DE COBERTURA | C9: =+C8-C7+1 -> 365
C11: GRUPO UNICO | D11: No: DIAS
B12: Vigencia fiscal 2026 | C12: =E32 -> 1159120361 | D12: ='ESTUDIO DE MERCADO 2026'!D9 -> 7
B13: Vigencia fiscal 2027 | C13: =F32 -> 64479864974 | D13: ='ESTUDIO DE MERCADO 2027'!D9 -> 358
B14: TOTALES | C14: =SUM(C12:C13) -> 65638985335 | D14: =SUM(D12:D13) -> 365
B16: GRUPO UNICO
B17: RAMO | E17: AÑO 2026 25/12/2026 A 31/12/2026 | F17: AÑO 2027 01/01/2027 A 24/12/2027 | G17: TOTAL PROYECTADO
B18: TODO RIESGO DAÑOS MATERIALES | E18: ='ESTUDIO DE MERCADO 2026'!L13 -> 592629262 | F18: ='ESTUDIO DE MERCADO 2027'!L13 -> 31769693758 | G18: =+ROUND(SUM(E18:F18),0) -> 32362323020
B19: INDICE VARIABLE TRDM | E19: ='ESTUDIO DE MERCADO 2026'!L14 -> 14282935 | F19: ='ESTUDIO DE MERCADO 2027'!L14 -> 767724027 | G19: =+ROUND(SUM(E19:F19),0) -> 782006962
B20: TOTAL TODO RIESGO DAÑOS MATERIALES PARA EMISION | E20: ='ESTUDIO DE MERCADO 2026'!L15 -> 606912197 | F20: ='ESTUDIO DE MERCADO 2027'!L15 -> 32537417785 | G20: =(ROUND(SUM(G18:G19),0)) -> 33144329982
B21: MANEJO GLOBAL ENTIDADES ESTATALES | E21: ='ESTUDIO DE MERCADO 2026'!L16 -> 31813754 | F21: ='ESTUDIO DE MERCADO 2027'!L16 -> 1627046246 | G21: =+ROUND(SUM(E21:F21),0) -> 1658860000
B22: RESPONSABILIDAD CIVIL EXTRACONTRACTUAL | E22: ='ESTUDIO DE MERCADO 2026'!L17 -> 5564440 | F22: ='ESTUDIO DE MERCADO 2027'!L17 -> 284581360 | G22: =+ROUND(SUM(E22:F22),0) -> 290145800
B23: TRANSPORTE DE VALORES | E23: ='ESTUDIO DE MERCADO 2026'!L18 -> 60288 | F23: ='ESTUDIO DE MERCADO 2027'!L18 -> 3083296 | G23: =+ROUND(SUM(E23:F23),0) -> 3143584
B24: TRANSPORTE DE MERCANCÍAS | E24: ='ESTUDIO DE MERCADO 2026'!L19 -> 1622639 | F24: ='ESTUDIO DE MERCADO 2027'!L19 -> 82986361 | G24: =+ROUND(SUM(E24:F24),0) -> 84609000
B25: AUTOMOVILES | E25: ='ESTUDIO DE MERCADO 2026'!L20 -> 136130362 | F25: ='ESTUDIO DE MERCADO 2027'!L20 -> 6962095659 | G25: =+ROUND(SUM(E25:F25),0) -> 7098226021
B26: RESPONSABILIDAD CIVIL SERVIDORES PÚBLICOS | E26: ='ESTUDIO DE MERCADO 2026'!L21 -> 21789681 | F26: ='ESTUDIO DE MERCADO 2027'!L21 -> 1114386542 | G26: =+ROUND(SUM(E26:F26),0) -> 1136176223
B27: INFIDELIDAD Y RIESGOS FINANCIEROS | E27: ='ESTUDIO DE MERCADO 2026'!L22 -> 30809589 | F27: ='ESTUDIO DE MERCADO 2027'!L22 -> 1575690411 | G27: =+ROUND(SUM(E27:F27),0) -> 1606500000
B28: VIDA GRUPO LEY 16 DE 1988 | E28: ='ESTUDIO DE MERCADO 2026'!L23 -> 290485213 | F28: ='ESTUDIO DE MERCADO 2027'!L23 -> 16936120433 | G28: =+ROUND(SUM(E28:F28),0) -> 17226605646
B29: CYBER | E29: ='ESTUDIO DE MERCADO 2026'!L24 -> 33932198 | F29: ='ESTUDIO DE MERCADO 2027'!L24 -> 1735389552 | G29: =+ROUND(SUM(E29:F29),0) -> 1769321750
B30: SOAT | E30: ='ESTUDIO DE MERCADO 2026'!L25 -> 0 | F30: ='ESTUDIO DE MERCADO 2027'!L25 -> 831077060 | G30: =+ROUND(SUM(E30:F30),0) -> 831077060
B31: REMANENTE PARA FUTURAS INCLUSIONES | E31: ='ESTUDIO DE MERCADO 2026'!L26 -> 0 | F31: ='ESTUDIO DE MERCADO 2027'!L26 -> 789990269 | G31: =+ROUND(SUM(E31:F31),0) -> 789990269
B32: SUBTOTALES | E32: =SUM(E20:E31) -> 1159120361 | F32: =SUM(F20:F31) -> 64479864974 | G32: =(ROUND(SUM(G20:G31),0)) -> 65638985335
B33: TOTAL GRUPO UNICO | E33: =E32+F32 -> 65638985335

Sheet ESTUDIO DE MERCADO 2026
B3: CONSEJO SUPERIOR DE LA JUDICATURA
B4: PROYECCIÓN VIGENCIA FISCAL 2026
B6: GRUPO 1 | C6: VIGENCIA COMPLETA | D6: VIGENCIA FISCAL 2026
B7: VIGENCIA DESDE 00:00 HORAS | C7: 46381 | D7: =C7 -> 46381
B8: VIGENCIA HASTA 23:59 HORAS | C8: 46745 | D8: 46387
B9: DIAS DE COBERTURA | C9: =+C8-C7+1 -> 365 | D9: =D8-D7+1 -> 7
B12: RAMO | D12: VALOR ASEGURADO | E12: TASA ANUAL PROMEDIO | F12: TIPO TASA | G12: PRIMA NETA ANUAL TOTAL | H12: IVA 19% | I12: PRIMA ANUAL TOTAL | J12: PRIMA NETA PERIODO PROYECTADO | K12: IVA 19% | L12: TOTAL PRIMA PERIODO PROYECTADO
B13: TODO RIESGO DAÑOS MATERIALES | D13: ='VALORES ASEGURADOS TRDM'!C25 -> 6024395730925 | E13: ='TASAS PROMEDIO'!L8 -> 4.3103989 | F13: %o | G13: =ROUND((D13*E13/1000),0) -> 25967548665 | H13: =ROUND((G13*19%),0) -> 4933834246 | I13: =+G13+H13 -> 30901382911 | J13: =ROUND((G13/365*$D$9),0) -> 498007783 | K13: =ROUND((J13*19%),0) -> 94621479 | L13: =+ROUND(SUM(J13:K13),0) -> 592629262
B14: INDICE VARIABLE TRDM | D14: ='VALORES ASEGURADOS TRDM'!D25 -> 290387438913 | E14: =E13/2 -> 2.1551994 | F14: %o | G14: =ROUND((D14*E14/1000),0) -> 625842847 | H14: =ROUND((G14*19%),0) -> 118910141 | I14: =+G14+H14 -> 744752988 | J14: =ROUND((G14/365*$D$9),0) -> 12002466 | K14: =ROUND((J14*19%),0) -> 2280469 | L14: =+ROUND(SUM(J14:K14),0) -> 14282935
B15: TOTAL TODO RIESGO DAÑOS MATERIALES PARA EMISION | D15: =+D13+D14 -> 6314783169838 | J15: =+J13+J14 -> 510010249 | K15: =+K13+K14 -> 96901948 | L15: =+ROUND(SUM(J15:K15),0) -> 606912197
B16: MANEJO GLOBAL ENTIDADES ESTATALES | D16: 1700000000 | E16: ='TASAS PROMEDIO'!L17 -> 82 | F16: % | G16: =ROUND((D16*E16/100),0) -> 1394000000 | H16: =ROUND((G16*19%),0) -> 264860000 | I16: =+G16+H16 -> 1658860000 | J16: =ROUND((G16/365*$D$9),0) -> 26734247 | K16: =ROUND((J16*19%),0) -> 5079507 | L16: =+ROUND(SUM(J16:K16),0) -> 31813754
B17: RESPONSABILIDAD CIVIL EXTRACONTRACTUAL | D17: 8000000000 | E17: ='TASAS PROMEDIO'!L19 -> 3.04775 | F17: % | G17: =ROUND((D17*E17/100),0) -> 243820000 | H17: =ROUND((G17*19%),0) -> 46325800 | I17: =+G17+H17 -> 290145800 | J17: =ROUND((G17/365*$D$9),0) -> 4676000 | K17: =ROUND((J17*19%),0) -> 888440 | L17: =+ROUND(SUM(J17:K17),0) -> 5564440
B18: TRANSPORTE DE VALORES | D18: 500000000 | E18: ='TASAS PROMEDIO'!L27 -> 0.52833333 | F18: % | G18: =ROUND((D18*E18/100),0) -> 2641667 | H18: =ROUND((G18*19%),0) -> 501917 | I18: =+G18+H18 -> 3143584 | J18: =ROUND((G18/365*$D$9),0) -> 50662 | K18: =ROUND((J18*19%),0) -> 9626 | L18: =+ROUND(SUM(J18:K18),0) -> 60288
B19: TRANSPORTE DE MERCANCÍAS | D19: 20000000000 | E19: ='TASAS PROMEDIO'!L33 -> 0.3555 | F19: % | G19: =ROUND((D19*E19/100),0) -> 71100000 | H19: =ROUND((G19*19%),0) -> 13509000 | I19: =+G19+H19 -> 84609000 | J19: =ROUND((G19/365*$D$9),0) -> 1363562 | K19: =ROUND((J19*19%),0) -> 259077 | L19: =+ROUND(SUM(J19:K19),0) -> 1622639
B20: AUTOMOVILES | D20: 123626613896 | E20: ='TASAS PROMEDIO'!L37 -> 4.8249286 | F20: % | G20: =ROUND((D20*E20/100),0) -> 5964895816 | H20: =ROUND((G20*19%),0) -> 1133330205 | I20: =+G20+H20 -> 7098226021 | J20: =ROUND((G20/365*$D$9),0) -> 114395262 | K20: =ROUND((J20*19%),0) -> 21735100 | L20: =+ROUND(SUM(J20:K20),0) -> 136130362
B21: RESPONSABILIDAD CIVIL SERVIDORES PÚBLICOS | D21: 4000000000 | E21: ='TASAS PROMEDIO'!L44 -> 23.869248 | F21: % | G21: =ROUND((D21*E21/100),0) -> 954769935 | H21: =ROUND((G21*19%),0) -> 181406288 | I21: =+G21+H21 -> 1136176223 | J21: =ROUND((G21/365*$D$9),0) -> 18310656 | K21: =ROUND((J21*19%),0) -> 3479025 | L21: =+ROUND(SUM(J21:K21),0) -> 21789681
B22: INFIDELIDAD Y RIESGOS FINANCIEROS | D22: 3000000000 | E22: ='TASAS PROMEDIO'!L52 -> 45 | F22: % | G22: =ROUND((D22*E22/100),0) -> 1350000000 | H22: =G22*19% -> 256500000 | I22: =G22+H22 -> 1606500000 | J22: =ROUND((G22/365*$D$9),0) -> 25890411 | K22: =ROUND((J22*19%),0) -> 4919178 | L22: =+ROUND(SUM(J22:K22),0) -> 30809589
B23: VIDA GRUPO LEY 16 DE 1988 | D23: ='VALORES VIDA GRUPO'!H8 -> 28049498100000 | E23: ='TASAS PROMEDIO'!L54 -> 0.54 | F23: %o | G23: =ROUND((D23*E23/1000),0) -> 15146728974 | H23: 0 | I23: =G23+H23 -> 15146728974 | J23: =ROUND((G23/365*$D$9),0) -> 290485213 | K23: 0 | L23: =+ROUND(SUM(J23:K23),0) -> 290485213
B24: CYBER | D24: 20000000000 | E24: ='TASAS PROMEDIO'!L55 -> 7.434125 | F24: % | G24: =ROUND((D24*E24/100),0) -> 1486825000 | H24: =G24*19% -> 282496750 | I24: =G24+H24 -> 1769321750 | J24: =ROUND((G24/365*$D$9),0) -> 28514452 | K24: =ROUND((J24*19%),0) -> 5417746 | L24: =+ROUND(SUM(J24:K24),0) -> 33932198
B25: SOAT | L25: 0
B26: REMANENTE PARA FUTURAS INCLUSIONES | L26: 0
I27: TOTAL VIGENCIA FISCAL 2026 | L27: =+ROUND(SUM(L15:L26),0) -> 1159120361

Sheet ESTUDIO DE MERCADO 2027
B3: CONSEJO SUPERIOR DE LA JUDICATURA
B4: PROYECCIÓN VIGENCIA FISCAL 2027
B6: GRUPO 1 | C6: VIGENCIA COMPLETA | D6: VIGENCIA FISCAL 2027
B7: VIGENCIA DESDE 00:00 HORAS | C7: ='ESTUDIO DE MERCADO 2026'!C7 -> 46381 | D7: 46388
B8: VIGENCIA HASTA 23:59 HORAS | C8: ='ESTUDIO DE MERCADO 2026'!C8 -> 46745 | D8: =C8 -> 46745
B9: DIAS DE COBERTURA | C9: =+C8-C7+1 -> 365 | D9: =D8-D7+1 -> 358
B12: RAMO | D12: VALOR ASEGURADO | E12: TASA ANUAL PROMEDIO | F12: TIPO TASA | G12: PRIMA NETA ANUAL TOTAL | H12: IVA 19% | I12: PRIMA ANUAL TOTAL | J12: PRIMA NETA PERIODO PROYECTADO | K12: IVA 19% | L12: TOTAL PRIMA PERIODO PROYECTADO
B13: TODO RIESGO DAÑOS MATERIALES | D13: ='VALORES ASEGURADOS TRDM'!F25 -> 6314783169838 | E13: ='TASAS PROMEDIO'!L8 -> 4.3103989 | F13: %o | G13: =ROUND((D13*E13/1000),0) -> 27219234359 | H13: =ROUND((G13*19%),0) -> 5171654528 | I13: =+G13+H13 -> 32390888887 | J13: =ROUND((G13/365*$D$9),0) -> 26697221645 | K13: =ROUND((J13*19%),0) -> 5072472113 | L13: =+ROUND(SUM(J13:K13),0) -> 31769693758
B14: INDICE VARIABLE TRDM | D14: ='VALORES ASEGURADOS TRDM'!G25 -> 305197198299 | E14: =E13/2 -> 2.1551994 | F14: %o | G14: =ROUND((D14*E14/1000),0) -> 657760832 | H14: =ROUND((G14*19%),0) -> 124974558 | I14: =+G14+H14 -> 782735390 | J14: =ROUND((G14/365*$D$9),0) -> 645146241 | K14: =ROUND((J14*19%),0) -> 122577786 | L14: =+ROUND(SUM(J14:K14),0) -> 767724027
B15: TOTAL TODO RIESGO DAÑOS MATERIALES PARA EMISION | D15: =+D13+D14 -> 6619980368137 | J15: =+J13+J14 -> 27342367886 | K15: =+K13+K14 -> 5195049899 | L15: =+ROUND(SUM(J15:K15),0) -> 32537417785
B16: MANEJO GLOBAL ENTIDADES ESTATALES | D16: 1700000000 | E16: ='TASAS PROMEDIO'!L17 -> 82 | F16: % | G16: =ROUND((D16*E16/100),0) -> 1394000000 | H16: =ROUND((G16*19%),0) -> 264860000 | I16: =+G16+H16 -> 1658860000 | J16: =ROUND((G16/365*$D$9),0) -> 1367265753 | K16: =ROUND((J16*19%),0) -> 259780493 | L16: =+ROUND(SUM(J16:K16),0) -> 1627046246
B17: RESPONSABILIDAD CIVIL EXTRACONTRACTUAL | D17: 8000000000 | E17: ='TASAS PROMEDIO'!L19 -> 3.04775 | F17: % | G17: =ROUND((D17*E17/100),0) -> 243820000 | H17: =ROUND((G17*19%),0) -> 46325800 | I17: =+G17+H17 -> 290145800 | J17: =ROUND((G17/365*$D$9),0) -> 239144000 | K17: =ROUND((J17*19%),0) -> 45437360 | L17: =+ROUND(SUM(J17:K17),0) -> 284581360
B18: TRANSPORTE DE VALORES | D18: 500000000 | E18: ='TASAS PROMEDIO'!L27 -> 0.52833333 | F18: % | G18: =ROUND((D18*E18/100),0) -> 2641667 | H18: =ROUND((G18*19%),0) -> 501917 | I18: =+G18+H18 -> 3143584 | J18: =ROUND((G18/365*$D$9),0) -> 2591005 | K18: =ROUND((J18*19%),0) -> 492291 | L18: =+ROUND(SUM(J18:K18),0) -> 3083296
B19: TRANSPORTE DE MERCANCÍAS | D19: 20000000000 | E19: ='TASAS PROMEDIO'!L33 -> 0.3555 | F19: % | G19: =ROUND((D19*E19/100),0) -> 71100000 | H19: =ROUND((G19*19%),0) -> 13509000 | I19: =+G19+H19 -> 84609000 | J19: =ROUND((G19/365*$D$9),0) -> 69736438 | K19: =ROUND((J19*19%),0) -> 13249923 | L19: =+ROUND(SUM(J19:K19),0) -> 82986361
B20: AUTOMOVILES | D20: 123626613896 | E20: ='TASAS PROMEDIO'!L37 -> 4.8249286 | F20: % | G20: =ROUND((D20*E20/100),0) -> 5964895816 | H20: =ROUND((G20*19%),0) -> 1133330205 | I20: =+G20+H20 -> 7098226021 | J20: =ROUND((G20/365*$D$9),0) -> 5850500554 | K20: =ROUND((J20*19%),0) -> 1111595105 | L20: =+ROUND(SUM(J20:K20),0) -> 6962095659
B21: RESPONSABILIDAD CIVIL SERVIDORES PÚBLICOS | D21: 4000000000 | E21: ='TASAS PROMEDIO'!L44 -> 23.869248 | F21: % | G21: =ROUND((D21*E21/100),0) -> 954769935 | H21: =ROUND((G21*19%),0) -> 181406288 | I21: =+G21+H21 -> 1136176223 | J21: =ROUND((G21/365*$D$9),0) -> 936459279 | K21: =ROUND((J21*19%),0) -> 177927263 | L21: =+ROUND(SUM(J21:K21),0) -> 1114386542
B22: INFIDELIDAD Y RIESGOS FINANCIEROS | D22: 3000000000 | E22: ='TASAS PROMEDIO'!L52 -> 45 | F22: % | G22: =ROUND((D22*E22/100),0) -> 1350000000 | H22: =G22*19% -> 256500000 | I22: =G22+H22 -> 1606500000 | J22: =ROUND((G22/365*$D$9),0) -> 1324109589 | K22: =ROUND((J22*19%),0) -> 251580822 | L22: =+ROUND(SUM(J22:K22),0) -> 1575690411
B23: VIDA GRUPO LEY 16 DE 1988 | D23: ='VALORES VIDA GRUPO'!H11 -> 31976432640000 | E23: ='TASAS PROMEDIO'!L54 -> 0.54 | F23: %o | G23: =ROUND((D23*E23/1000),0) -> 17267273626 | H23: 0 | I23: =G23+H23 -> 17267273626 | J23: =ROUND((G23/365*$D$9),0) -> 16936120433 | K23: 0 | L23: =+ROUND(SUM(J23:K23),0) -> 16936120433
B24: CYBER | D24: 20000000000 | E24: ='TASAS PROMEDIO'!L55 -> 7.434125 | F24: % | G24: =ROUND((D24*E24/100),0) -> 1486825000 | H24: =G24*19% -> 282496750 | I24: =G24+H24 -> 1769321750 | J24: =ROUND((G24/365*$D$9),0) -> 1458310548 | K24: =ROUND((J24*19%),0) -> 277079004 | L24: =+ROUND(SUM(J24:K24),0) -> 1735389552
B25: SOAT | L25: 831077060
B26: REMANENTE PARA FUTURAS INCLUSIONES | L26: =ROUND(((L15+L20)*2%),0) -> 789990269
I27: TOTAL VIGENCIA FISCAL 2027 | L27: =+ROUND(SUM(L15:L26),0) -> 64479864974

Sheet TASAS PROMEDIO
C2: CONSEJO SUPERIOR DE LA JUDICATURA
C3: ESTUDIO DE MERCADO
B7: RAMO | C7: ENTIDAD | D7: No. DE PROCESO DE CONTRATACION | E7: VALOR ASEGURADO | F7: TASAS DE REFERENCIA | H7: TASA PROMEDIO DEL MERCADO | J7: AJUSTE POR SINIESTRALIDAD | K7: AJUSTE POR SISMO O CONDICIONES DE MERCADO | L7: TASA PARA ESTUDIO DE MERCADO | M7: TIPO DE TASA % - %o
B8: TODO RIESGO DAÑO MATERIAL | C8: CONSEJO SUPERIOR DE LA JUDICATURA | D8: LICITACIÓN 06 DE 2022 | E8: 6160698841827 | F8: 3.78 | G8: %o | H8: =AVERAGE(F8:F16) -> 3.9185444 | I8: %o | J8: 0 | K8: 0.1 | L8: =H8+J9+K9 -> 4.3103989 | M8: %o
C9: FONDO ROTATORIO DE LA POLICÍA NACIONAL - FORPO | D9: LP-005-2025 | E9: 134376787589 | F9: 4.2 | G9: %o | J9: =H8*J8 -> 0 | K9: =H8*K8 -> 0.39185444
C10: INSTITUTO NACIONAL PENITENCIARIO | D10: LP-01-2026 | E10: =3708289009957+222497340597 -> 3930786350554 | F10: 5.4331 | G10: %o
C11: INSTITUTO NACIONAL DE VIAS | D11: LP-SG-SA-008-2026 | E11: 3.6083113e+11 | F11: 3.77 | G11: %o
C12: MINISTERIO DE TRANSPORTE | D12: LP-016-2025 | E12: 1.0232076e+11 | F12: 5.2083 | G12: %o
C13: TRANSMILENIO | D13: TMSA-LP-02-2026 | E13: 2.4115683e+12 | F13: 3.11 | G13: %o
C14: UNIDAD PARA LA ATENCIÓN Y LA REPARACIÓN INTEGRAL A LAS VÍCTIMAS – FONDO PARA LA REPARACIÓN DE LAS VICTIMAS (FRV) | D14: UARIV-FRV-IP-2025-008 | E14: 312415271782 | F14: 3.346 | G14: %o
C15: SECRETARIA DE MOVILIDAD | D15: SDM-LP-21-2026 | E15: 310989662993 | F15: 2.17 | G15: %o
C16: FONDO NACIONAL PARA LA GESTIÓN DEL RIESGO DE DESASTRES - OFERTA 1 | D16: FNGRD-LP-001-2026 | E16: 124221487099 | F16: 4.2495 | G16: %o
B17: MANEJO GLOBAL ENTIDADES ESTATALES | C17: =C8 -> CONSEJO SUPERIOR DE LA JUDICATURA | D17: =D8 -> LICITACIÓN 06 DE 2022 | E17: 1700000000 | F17: 82 | G17: % | H17: =AVERAGE(F17:F17) -> 82 | I17: % | J17: 0 | K17: 0 | L17: =H17+J18+K18 -> 82 | M17: %
J18: =H17*J17 -> 0 | K18: =H17*K17 -> 0
B19: RESPONSABILIDAD CIVIL EXTRACONTRACTUAL | C19: =C8 -> CONSEJO SUPERIOR DE LA JUDICATURA | D19: =D17 -> LICITACIÓN 06 DE 2022 | E19: 8000000000 | F19: 3 | G19: % | H19: =AVERAGE(F19:F26) -> 3.04775 | I19: % | J19: 0 | K19: 0 | L19: =+H19+J20+K20 -> 3.04775
C20: ANDJE - AGENCIA NACIONAL DE DEFENSA JURIDICA DEL ESTADO OFERTA 1 | D20: SAMC-001-2025 | E20: 6000000000 | F20: 2.6 | G20: % | J20: =H19*J19 -> 0 | K20: =H19*K19 -> 0
C21: CORPORACIÓN SOCIAL DE CUNDINAMARCA (OFERTA 2) | D21: LP-CSC-002-2025 | E21: 1100000000 | F21: 2.9 | G21: %
C22: MINISTERIO DE HACIENDA | D22: MHCP-LP-02-2025 | E22: 6300000000 | F22: 3.492 | G22: %
C23: AGENCIA DE DESARROLLO RURAL OFERTA 1 | D23: SAMC-01-2026 | E23: 6000000000 | F23: 3.5 | G23: %
C24: AERONATICA CIVIL | D24: LP-24000933 H3 2025 | E24: 800000000 | F24: 3.09 | G24: %
C25: UNIDAD ADMINISTRATIVA ESPECIAL DIRECCIÓN NACIONAL DE BOMBEROS | D25: LP-002-2025 | E25: 1000000000 | F25: 3 | G25: %
C26: CONTRALORIA DE BOGOTA OFERTA 1 | D26: CB-LP-001-2026 | E26: 2250000000 | F26: 2.8 | G26: %
B27: TRANSPORTE DE VALORES | C27: =C8 -> CONSEJO SUPERIOR DE LA JUDICATURA | D27: =D19 -> LICITACIÓN 06 DE 2022 | E27: 500000000 | F27: 0.5 | G27: % | H27: =AVERAGE(F27:F32) -> 0.52833333 | I27: % | J27: 0 | K27: 0 | L27: =+H27+J28+K28 -> 0.52833333
C28: MINISTERIO DE EDUCACIÓN (OFERTA 2) | D28: SA-MEN-01-2025 | E28: 650000000 | F28: 0.32 | G28: % | J28: =H27*J27 -> 0 | K28: =H27*K27 -> 0
C29: SECRETARIA DE MOVILIDAD | D29: SDM-LP-21-2026 | E29: 1200000000 | F29: 0.35 | G29: %
C30: CORPORACIÓN SOCIAL DE CUNDINAMARCA (OFERTA 1) | D30: LP-CSC-002-2025 | E30: 100000000 | F30: 0.5 | G30: %
C31: CONCEJO PROFESIONAL NACIONAL DE INGENIERIA - COPNIA | D31: LP-08-2025 | E31: 150000000 | F31: 0.5 | G31: %
C32: SANTIAGO DE CALI DISTRITO ESPECIAL OFERTA 1 | D32: 4181.010.26.1.364.-2026 | E32: 500000000 | F32: 1 | G32: %
B33: TRANSPORTE DE MERCANCIAS | C33: =C27 -> CONSEJO SUPERIOR DE LA JUDICATURA | D33: =D27 -> LICITACIÓN 06 DE 2022 | E33: 20000000000 | F33: 0.35 | G33: % | H33: =AVERAGE(F33:F36) -> 0.3555 | I33: % | J33: 0 | K33: 0 | L33: =H33+J34+K34 -> 0.3555
C34: FONDO FINANCIERO DISTRITAL DE SALUD | D34: FFDS-LP-001-2026 | E34: 17330000000 | F34: 0.357 | G34: % | J34: =H33*J33 -> 0 | K34: =H33*K33 -> 0
C35: FONDO NACIONAL PARA LA GESTIÓN DEL RIESGO DE DESASTRES | D35: FNGRD-LP-001-2026 | E35: 40000000000 | F35: 0.399 | G35: %
C36: UNIDAD PARA LA ATENCIÓN Y LA REPARACIÓN INTEGRAL A LAS VÍCTIMAS – FONDO PARA LA REPARACIÓN DE LAS VICTIMAS (FRV) | D36: UARIV-FRV-IP-2025-008 | E36: 4498762212 | F36: 0.316 | G36: %
B37: AUTOMOVILES | C37: =C27 -> CONSEJO SUPERIOR DE LA JUDICATURA | D37: =D33 -> LICITACIÓN 06 DE 2022 | E37: 129753887200 | F37: 4.79 | G37: % | H37: =AVERAGE(F37:F43) -> 4.8249286 | I37: % | J37: 0 | K37: 0 | L37: =+H37+J38+K38 -> 4.8249286
C38: INSTITUTO NACIONAL PENITENCIARIO - INPEC | D38: LP-01-2026 | E38: 51266821869 | F38: 3.19 | G38: % | J38: =H37*J37 -> 0 | K38: =H37*K37 -> 0
C39: FONDO FINANCIERO DISTRITAL DE SALUD | D39: FFDS-LP-001-2026 | E39: 1382346650 | F39: 4.87 | G39: %
C40: SECRETARIA DISTRITAL DE HACIENDA | D40: SDH-LP-0001-2025 | E40: 837900000 | F40: 5.0445 | G40: %
C41: INSTITUTO NACIONAL DE SALUD | D41: INS-LP-002-2026 | E41: 1153100000 | F41: 5.06 | G41: %
C42: SENADO DE LA REPÚBLICA | D42: LP-SEN-001-2026 | E42: 2241538266 | F42: 6 | G42: %
C43: MUNICIPIO DE ENVIGADO | D43: ENV-11-21-1001-2025 | E43: 10661802870 | F43: 4.82 | G43: %
B44: RESPONSABILIDAD CIVIL SERVIDORES PUBLICOS | C44: =C27 -> CONSEJO SUPERIOR DE LA JUDICATURA | D44: =D37 -> LICITACIÓN 06 DE 2022 | E44: 4000000000 | F44: 22 | G44: % | H44: =AVERAGE(F44:F51) -> 23.869248 | I44: % | J44: 0 | K44: 0 | L44: =H44+J45+K45 -> 23.869248 | M44: %
...

Sheet VALORES ASEGURADOS TRDM
A3: CONSEJO SUPERIOR DE LA JUDICATURA
B4: VALORES ASEGURADOS SEGURO TODO RIESGO DAÑOS MATERIALES
C7: VALOR ASEGURADO 2026 | F7: VALOR ASEGURADO 2027
B8: POLIZA | C8: VALOR ASEGURADO ACTUAL | D8: INDICE VARIABLE 5.10% ANUAL | E8: TOTAL VALOR ASEGURADO 2026 | F8: VALOR ASEGURADO 2026 | G8: INDICE VARIABLE 5.10% ANUAL | H8: TOTAL VALOR ASEGURADO 2027
B9: A. Edificios incluye Inmuebles tomados en arriendo o en Comodato | C9: 4629871609987 | D9: =ROUND((C9*5.1%),0) -> 236123452109 | E9: =+ROUND(SUM(C9:D9),0) -> 4865995062096 | F9: =+E9 -> 4865995062096 | G9: =ROUND((+F9*5.1%),0) -> 248165748167 | H9: =+ROUND(SUM(F9:G9),0) -> 5114160810263
B10: B. Contenidos, Muebles y Enseres y Mejoras locativas, incluidos los tomados en arriendo o en Comodato | C10: 356859631105 | D10: =ROUND((C10*5.1%),0) -> 18199841186 | E10: =+ROUND(SUM(C10:D10),0) -> 375059472291 | F10: =+E10 -> 375059472291 | G10: =ROUND((+F10*5.1%),0) -> 19128033087 | H10: =+ROUND(SUM(F10:G10),0) -> 394187505378
B11: C. Equipo Eléctricos, Electrónicos y de Comunicación (incluidos equipos móviles y portátiles, software y licencias) | C11: 417532883674 | D11: =ROUND((C11*5.1%),0) -> 21294177067 | E11: =+ROUND(SUM(C11:D11),0) -> 438827060741 | F11: =+E11 -> 438827060741 | G11: =ROUND((+F11*5.1%),0) -> 22380180098 | H11: =+ROUND(SUM(F11:G11),0) -> 461207240839
B12: D. Equipo y Maquinaría | C12: 89568919607 | D12: =ROUND((C12*5.1%),0) -> 4568014900 | E12: =+ROUND(SUM(C12:D12),0) -> 94136934507 | F12: =+E12 -> 94136934507 | G12: =ROUND((+F12*5.1%),0) -> 4800983660 | H12: =+ROUND(SUM(F12:G12),0) -> 98937918167
B13: E. Mercancías (Incluye Bienes devolutivos en almacén - bienes de consumo) | C13: 181351824464 | D13: =ROUND((C13*5.1%),0) -> 9248943048 | E13: =+ROUND(SUM(C13:D13),0) -> 190600767512 | F13: =+E13 -> 190600767512 | G13: =ROUND((+F13*5.1%),0) -> 9720639143 | H13: =+ROUND(SUM(F13:G13),0) -> 200321406655
B14: F. Bienes muebles e inmuebles tomados en arriendo e inmuebles en comodato | C14: 18686482413 | D14: =ROUND((C14*5.1%),0) -> 953010603 | E14: =+ROUND(SUM(C14:D14),0) -> 19639493016 | F14: =E14 -> 19639493016 | G14: =ROUND((+F14*5.1%),0) -> 1001614144 | H14: =+ROUND(SUM(F14:G14),0) -> 20641107160
B15: G. Gastos para la adecuación de suelos y terrenos | C15: 42000000000 | E15: =+ROUND(SUM(C15:D15),0) -> 42000000000 | F15: =E15 -> 42000000000 | H15: =+ROUND(SUM(F15:G15),0) -> 42000000000
B16: H. Cláusula de Adecuación de Construcciones a las Normas de Sismo Resistencia 5% del valor de edificios incluido el índice variable | C16: =ROUND((E9*5%),0) -> 243299753105 | E16: =+ROUND(SUM(C16:D16),0) -> 243299753105 | F16: =E16 -> 243299753105 | H16: =+ROUND(SUM(F16:G16),0) -> 243299753105
B17: I. Gastos Adicionales | C17: 20000000000 | D17: 0 | E17: =+ROUND(SUM(C17:D17),0) -> 20000000000 | F17: =+E17 -> 20000000000 | H17: =+ROUND(SUM(F17:G17),0) -> 20000000000
B18: J. Gastos Extraordinarios | C18: 15000000000 | D18: 0 | E18: =+ROUND(SUM(C18:D18),0) -> 15000000000 | F18: =+E18 -> 15000000000 | H18: =+ROUND(SUM(F18:G18),0) -> 15000000000
B19: SUBTOTAL | C19: =ROUND((SUM(C9:C18)),0) -> 6014171104355 | D19: =ROUND((SUM(D9:D18)),0) -> 290387438913 | E19: =ROUND((SUM(E9:E18)),0) -> 6304558543268 | F19: =ROUND((SUM(F9:F18)),0) -> 6304558543268 | G19: =ROUND((SUM(G9:G18)),0) -> 305197198299 | H19: =ROUND((SUM(H9:H18)),0) -> 6609755741567
B20: SUBLÍMITES
B21: DINEROS Y TITULOS VALORES | C21: 450000000 | D21: 0 | E21: =ROUND((+C21+D21),0) -> 450000000 | F21: =+E21 -> 450000000 | G21: 0 | H21: =ROUND((+F21+G21),0) -> 450000000
B22: VEHÍCULOS EN REPOSO | C22: 9766726570 | D22: 0 | E22: =ROUND((+C22+D22),0) -> 9766726570 | F22: =+E22 -> 9766726570 | G22: 0 | H22: =ROUND((+F22+G22),0) -> 9766726570
B23: OBRAS DE ARTE | C23: 7900000 | D23: 0 | E23: =ROUND((+C23+D23),0) -> 7900000 | F23: =+E23 -> 7900000 | G23: 0 | H23: =ROUND((+F23+G23),0) -> 7900000
B24: SUBTOTAL SUBLIMITES | C24: =SUM(C21:C23) -> 10224626570 | D24: =SUM(D21:D23) -> 0 | E24: =SUM(E21:E23) -> 10224626570 | F24: =SUM(F21:F23) -> 10224626570 | G24: =SUM(G21:G23) -> 0 | H24: =ROUND((+F24+G24),0) -> 10224626570
B25: TOTAL VALOR ASEGURADO TODO RIESGO DAÑOS MATERIALES | C25: =ROUND((C19+C24),0) -> 6024395730925 | D25: =ROUND((D19+D24),0) -> 290387438913 | E25: =ROUND((E19+E24),0) -> 6314783169838 | F25: =ROUND((F19+F24),0) -> 6314783169838 | G25: =ROUND((G19+G24),0) -> 305197198299 | H25: =ROUND((H19+H24),0) -> 6619980368137
B27: 1. el INDICE VARIABLE se establece a partir del IPC al cierre del 2025, el cual tuvo una variación anual de 5.10%

Sheet VALORES VIDA GRUPO
C5: VALOR ASEGURADO VIDA GRUPO LEY 16 DE 1988
C7: AMPARO BASICO - VIDA | D7: No. SMMLV | E7: SMMLV 2026 | F7: VALOR ASEGURADO POR PERSONA | G7: No. DE ASEGURADOS | H7: TOTAL VALOR ASEGURADO 2026
D8: 400 | E8: 1750905 | F8: =ROUND((E8*D8),0) -> 700362000 | G8: 40050 | H8: =ROUND((F8*G8),0) -> 28049498100000
C10: INCREMENTO SMMLV 2027 14% | D10: No. SMMLV | E10: SMMLV 2027 PROYECTADO | F10: VALOR ASEGURADO POR PERSONA | G10: No. DE ASEGURADOS | H10: TOTAL VALOR ASEGURADO 2027
C11: =ROUND((E8*14%),0) -> 245127 | D11: 400 | E11: =ROUND((E8+C11),0) -> 1996032 | F11: =ROUND((E11*D11),0) -> 798412800 | G11: 40050 | H11: =ROUND((F11*G11),0) -> 31976432640000
C15: INCREMENTO DEL SALARIO MÍNIMO
D16: VALOR ESTABLECIDO | E16: % INCREMENTO
C17: SMMLV 2022 | D17: 1000000 | E17: 0.1
C18: SMMLV 2023 | D18: 1160000 | E18: 0.16
C19: SMMLV 2024 | D19: 1300000 | E19: 0.12
C20: SMMLV 2025 | D20: 1423500 | E20: 0.0954
C21: SMMLV 2026 | D21: 1750905 | E21: 0.23
C22: PROMEDIO DE INCREMENTO SMMLV | E22: =AVERAGE(E17:E21) -> 0.14108
