Workbook

Sheet 1. CALIF. DEDUCIBLES TRDM
B2: CONSEJO SUPERIOR DE LA JUDICATURA
B3: EVALUACIÓN DE DEDUCIBLES
B4: 1. SEGURO DE TODO RIESGO DAÑOS MATERIALES COMBINADOS
B5: OBJETO DEL SEGURO
B6: Amparar, bajo la modalidad de Todo Riesgo Daños Materiales, las pérdidas, daños materiales o desaparición que sufran los bienes e intereses de propiedad del CONSEJO SUPERIOR DE LA JUDICATURA, así como aquellos por los cuales sean o lleguen a ser legalmente responsables que estén bajo su control, tenencia, responsabilidad o custodia; ubicados en cualquier parte de territorio nacional o internacional, por cualquier causa no expresamente excluida en este Anexo Técnico. Las exclusiones serán taxativas y de interpretación restrictiva.
B7: INFORMACIÓN GENERAL:
B8: TOMADOR: | C8: =+B2 -> CONSEJO SUPERIOR DE LA JUDICATURA | I8: NIT. | J8: 800.093.816-3
B9: ASEGURADO: | C9: =+C8 -> CONSEJO SUPERIOR DE LA JUDICATURA | I9: NIT. | J9: =+J8 -> 800.093.816-3
B10: BENEFICIARIO: | C10: =+C8 -> CONSEJO SUPERIOR DE LA JUDICATURA | I10: NIT. | J10: =+J8 -> 800.093.816-3
B11: CRITERIOS DE EVALUACIÓN:
B12: Los criterios establecidos tienen como objeto que la Entidad pueda obtener los mejores deducibles que le permitan lograr la mayor indemnización posible, frente a las pérdidas que pueda sufrir derivadas de un evento súbito e imprevisto que no depende de la voluntad del asegurado.
B13: DEDUCIBLES MÁXIMOS ACEPTABLES:
B14: El CONSEJO SUPERIOR DE LA JUDICATURA, requiere los siguientes deducibles aplicables:
B15: TERREMOTO, TEMBLOR, ERUPCION VOLCANICA: | E15: 2,0% DEL VALOR DE LA PÉRDIDA SIN MÍNIMO
B16: ACTOS MAL INTENCIONADOS DE TERCEROS ASONADA, MOTÍN, CONMOCIÓN CIVIL O POPULAR Y HUELGA (INCLUIDO TERRORISMO Y SABOTAJE). | E16: 10,0% DEL VALOR DE LA PÉRDIDA SIN MÍNIMO
B17: DEMÁS EVENTOS Y/O AMPAROS | E17: SIN DEDUCIBLE
B18: PARÁMETROS PARA LA CALIFICACIÓN
B19: Para calificación del deducible se realizará aplicando los criterios aquí indicados y los puntajes señalados en las tablas de rangos relacionadas en estas.
B20: TABLA DE CALIFICACIÓN
B22: Para efectos de la evaluación, se tendrán los siguientes ítems y puntajes: | F22: PUNTOS
B23: TERREMOTO, TEMBLOR Y/O ERUPCIÓN VOLCÁNICA: | F23: 5
B24: ACTOS MAL INTENCIONADOS DE TERCEROS ASONADA, MOTÍN, CONMOCIÓN CIVIL O POPULAR Y HUELGA (INCLUIDO TERRORISMO Y SABOTAJE). | E24: 4 | F24: 5
B25: TOTAL PUNTOS | F25: =SUM(F23:J24) -> 10
B26: NOTA: Para efectos de la evaluación y en aquellas tablas en los cuales se tengan rangos, en caso que el oferente indique "SE OTORGA" ó "SI" u otra expresión que implica que si esta otorgando el deducible, la Entidad entenderá que estos deducibles fueron ofrecidos con el valor del MÍNIMO RANGO y por lo tanto se asignará el puntaje respectivo de este rango y la aseguradora en caso de ser adjudicada su propuesta, expedirá la póliza con las condiciones mínimas de ese criterio en particular.
B27: 1- TERREMOTO, TEMBLOR Y/O ERUPCIÓN VOLCÁNICA: cinco (5) puntos
B28: RANGO DEL DEDUCIBLES PORCENTUAL | E28: PUNTAJE SOBRE EL VALOR DE LA PERDIDA | I28: DEDUCIBLE OFERTADO | J28: PUNTOS OBTENIDOS
B29: Sin deducible | E29: 5,00 Puntos | I29: (INDICAR EL DEDUCIBLE OFERTADO)
B30: Superior a 0,0% y hasta 0,5% | E30: 4,50 Puntos
B31: Superior a 0,5% y hasta 1,0% | E31: 4,00 Puntos
B32: Superior a 1,0% y hasta 1,5% | E32: 3,50 Puntos
B33: Superior a 1.5% y hasta 2,0% | E33: 3,00 Puntos
B34: Superior a 2,0% | E34: SE RECHAZA LA OFERTA
B35: 2- ACTOS MAL INTENCIONADOS DE TERCEROS ASONADA, MOTÍN, CONMOCIÓN CIVIL O POPULAR Y HUELGA (INCLUIDO TERRORISMO Y SABOTAJE): cinco (5) puntos
B36: RANGO DEL DEDUCIBLES PORCENTUAL | E36: PUNTAJE SOBRE EL VALOR DE LA PERDIDA | I36: DEDUCIBLE OFERTADO | J36: PUNTOS OBTENIDOS
B37: Sin deducible | E37: 5,00 Puntos | I37: (INDICAR EL DEDUCIBLE OFERTADO)
B38: Superior a 0,0% y hasta 2,0% | E38: 4,00 Puntos
B39: Superior a 2,0% y hasta 4,0% | E39: 2,00 Puntos
B40: Superior a 4,0% y hasta 6,0% | E40: 1,00 Puntos
B41: Superior a 6.0% y hasta 8,0% | E41: 0,50 Puntos
B42: Superior a 8,0% y hasta 10,0% | E42: 0,25 Puntos
...

Sheet 2. CALIF. DEDUCIBLES MANEJO
B2: =+'1. CALIF. DEDUCIBLES TRDM'!B2 -> CONSEJO SUPERIOR DE LA JUDICATURA
B3: EVALUACIÓN DE DEDUCIBLES
B4: 2. SEGURO GLOBAL DE MANEJO PARA ENTIDADES OFICIALES
B5: OBJETO DEL SEGURO
B6: Amparar el menoscabo que sufran los fondos, valores y bienes de propiedad, bajo tenencia, control y/o responsabilidad del CONSEJO SUPERIOR DE LA JUDICATURA, ocasionado por empleados, funcionarios, servidores, sus reemplazos y demás personas comprendidas en la definición de trabajador o empleado de esta póliza, por actos que se tipifiquen como delitos contra la administración pública o fallos con responsabilidad fiscal, de conformidad con las coberturas y condiciones del presente anexo. La cobertura no estará condicionada a la existencia de sentencia penal o fallo fiscal cuando la ocurrencia y cuantía de la pérdida se encuentren acreditadas conforme al contrato y a la ley.
B7: INFORMACIÓN GENERAL:
B8: TOMADOR: | C8: =+'1. CALIF. DEDUCIBLES TRDM'!C8 -> CONSEJO SUPERIOR DE LA JUDICATURA | I8: NIT. | J8: =+'1. CALIF. DEDUCIBLES TRDM'!J8 -> 800.093.816-3
B9: ASEGURADO: | C9: =+C8 -> CONSEJO SUPERIOR DE LA JUDICATURA | I9: NIT. | J9: =+J8 -> 800.093.816-3
B10: BENEFICIARIO: | C10: =+C8 -> CONSEJO SUPERIOR DE LA JUDICATURA | I10: NIT. | J10: =+J8 -> 800.093.816-3
B11: CRITERIOS DE EVALUACIÓN:
B12: Los criterios establecidos tienen como objeto que la Entidad pueda obtener los mejores deducibles que le permitan lograr la mayor indemnización posible, frente a las pérdidas que pueda sufrir derivadas de un evento súbito e imprevisto que no depende de la voluntad del asegurado.
B13: DEDUCIBLES ACTUALES Y MÁXIMOS ACEPTABLES:
B14: Actualmente el CONSEJO SUPERIOR DE LA JUDICATURA, tiene únicamente los siguientes deducibles aplicables:
B15: TODA Y CADA PÉRDIDA | E15: 5% del valor de la pérdida mínimo 5 SMMLV
B16: CAJA MENORES y DEMÁS EVENTOS Y/O AMPAROS | E16: SIN DEDUCIBLE
B17: TABLA DE CALIFICACIÓN
B18: Para efectos de la evaluación, se tendrán los siguientes ítems y puntajes: | F18: PUNTOS
B19: TODA Y CADA PÉRDIDA | F19: 10
B20: TOTAL PUNTOS | F20: =SUM(F19) -> 10
B21: NOTA: Para efectos de la evaluación y en aquellas tablas en los cuales se tengan rangos, en caso que el oferente indique "SE OTORGA" ó "SI" u otra expresión que implica que si esta otorgando el deducible, la Entidad entenderá que estos deducibles fueron ofrecidos con el valor del MÍNIMO RANGO y por lo tanto se asignará el puntaje respectivo de este rango y la aseguradora en caso de ser adjudicada su propuesta, expedirá la póliza con las condiciones mínimas de ese criterio en particular.
B22: 1- TODA Y CADA PÉRDIDA: diez (10) puntos
B23: RANGO DE DEDUCIBLES PORCENTUAL | E23: PUNTAJE SOBRE EL VALOR DE LA PERDIDA | I23: DEDUCIBLE OFERTADO | J23: PUNTOS OBTENIDOS
B24: Sin deducible | E24: 5,00 Puntos | I24: (INDICAR EL DEDUCIBLE OFERTADO)
B25: Superior a 0,0% y hasta 1,0% | E25: 4,00 Puntos
B26: Superior a 1,0% y hasta 2,0% | E26: 3,00 Puntos
B27: Superior a 2,0% y hasta 3,0% | E27: 2,00 Puntos
B28: Superior a 3,0% y hasta 4,0% | E28: 1,00 Puntos
B29: Superior a 4,0% y hasta 5,0% | E29: 0,50 Puntos
B30: Superior a 5,0% | E30: SE RECHAZA LA OFERTA
B31: RANGO DEL DEDUCIBLES MÍNIMOS | E31: PUNTAJE SOBRE EL VALOR DE LA PERDIDA | I31: DEDUCIBLE OFERTADO | J31: PUNTOS OBTENIDOS
B32: Sin deducible | E32: 5,00 Puntos | I32: (INDICAR EL DEDUCIBLE OFERTADO)
B33: Superior a 0,0 SMMLV y hasta 1,0 SMMLV | E33: 4,50 Puntos
B34: Superior a 1,0 SMMLV y hasta 2,0 SMMLV | E34: 4,00 Puntos
B35: Superior a 2,0 SMMLV y hasta 3,0 SMMLV | E35: 3,00 Puntos
B36: Superior a 3,0 SMMLV y hasta 4,0 SMMLV | E36: 2,00 Puntos
B37: Superior a 4,0 SMMLV y hasta 5,00 SMMLV | E37: 1,00 Puntos
B38: Superior a 5,0 SMMLV | E38: SE RECHAZA LA OFERTA
B39: TOTAL PUNTOS | J39: =SUM(J24:J38) -> 0
J40: =+'1. CALIF. DEDUCIBLES TRDM'!J45 -> VERSIÓN: OCT 2026

Sheet 9. CALIF DEDUCIBLES IRF
B2: =+'1. CALIF. DEDUCIBLES TRDM'!B2 -> CONSEJO SUPERIOR DE LA JUDICATURA
B3: EVALUACIÓN DE DEDUCIBLES
B4: 9. SEGURO DE INFIDELIDAD Y RIESGOS FINANCIEROS
B5: OBJETO DEL SEGURO
B6: Amparar al CONSEJO SUPERIOR DE LA JUDICATURA las pérdidas, gastos y daños como consecuencia de actos deshonestos o fraudulentos cometidos por empleados del asegurado, solos o en concurso con otros, o con terceros, con la intención manifiesta de hacer que el asegurado sufra dicha pérdida. Se extienen el objeto del seguro a amparar el patrimonio del asegurado por la pérdida o daños de bienes propios y no propios por los cuales el Asegurado sea responsable tales como dineros efectivo y dinero en todas sus formas y representaciones, títulos valores y cualquier documento y forma material o inmaterial de representación de dinero, como consecuencia de los riesgos a que está expuesto el Asegurado en el giro normal de su actividad social.
B7: INFORMACIÓN GENERAL:
B8: TOMADOR: | C8: =+B2 -> CONSEJO SUPERIOR DE LA JUDICATURA | I8: NIT. | J8: =+'1. CALIF. DEDUCIBLES TRDM'!J8 -> 800.093.816-3
B9: ASEGURADO: | C9: =+B2 -> CONSEJO SUPERIOR DE LA JUDICATURA | I9: NIT. | J9: =+J8 -> 800.093.816-3
B10: BENEFICIARIO: | C10: =+B2 -> CONSEJO SUPERIOR DE LA JUDICATURA | I10: NIT. | J10: =+J8 -> 800.093.816-3
B11: CRITERIOS DE EVALUACIÓN:
B12: Los criterios establecidos tienen como objeto que la Entidad pueda obtener los mejores deducibles que le permitan lograr la mayor indemnización posible, frente a las pérdidas que pueda sufrir derivadas de un evento súbito e imprevisto que no depende de la voluntad del asegurado.
B13: DEDUCIBLES ACTUALES Y MÁXIMOS ACEPTABLES:
B14: Actualmente el CONSEJO SUPERIOR DE LA JUDICATURA, tiene únicamente el siguiente deducible aplicable:
B15: TODA Y CADA PÉRDIDA | E15: 49999999
B16: NOTA: Para efectos de la evaluación y en aquellas tablas en los cuales se tengan rangos, en caso que el oferente indique "SE OTORGA" ó "SI" u otra expresión que implica que si esta otorgando el deducible, la Entidad entenderá que estos deducibles fueron ofrecidos con el valor del MÍNIMO RANGO y por lo tanto se asignará el puntaje respectivo de este rango y la aseguradora en caso de ser adjudicada su propuesta, expedirá la póliza con las condiciones mínimas de ese criterio en particular.
B17: TABLA DE CALIFICACIÓN
B18: Para efectos de la evaluación, se tendrán los siguientes ítems y puntajes: | F18: PUNTOS
B19: TODA Y CADA PÉRDIDA | F19: 10
B20: TOTAL PUNTOS | F20: =SUM(F19) -> 10
B21: 1- TODA Y CADA PÉRDIDA: diez (10) puntos
B22: RANGO DE DEDUCIBLES PORCENTUAL | E22: PUNTAJE SOBRE EL VALOR DE LA PERDIDA | I22: DEDUCIBLE OFERTADO | J22: PUNTOS OBTENIDOS
B23: Sin deducible | E23: 10,00 Puntos | I23: (INDICAR EL DEDUCIBLE OFERTADO)
B24: Superior a $0 y hasta $10.000.000 | E24: 8,00 Puntos
B25: Superior a $10.000.000 y hasta $20.000.000 | E25: 6,00 Puntos
B26: Superior a $20.000.000 y hasta $30.000.000 | E26: 5,00 Puntos
B27: Superior a $30.000.000 y hasta $40.000.000 | E27: 2,00 Puntos
B28: Superior a $40.000.000 y hasta $49.999.999 | E28: 1,00 Puntos
B29: Superior a $49.999.999 | E29: SE RECHAZA LA OFERTA
B30: TOTAL PUNTOS | J30: =+J23 -> 0
J31: =+'1. CALIF. DEDUCIBLES TRDM'!J45 -> VERSIÓN: OCT 2026

Sheet 10. CALIF DEDUCIBLES CYBER
B2: =+'1. CALIF. DEDUCIBLES TRDM'!B2 -> CONSEJO SUPERIOR DE LA JUDICATURA
B3: EVALUACIÓN DE DEDUCIBLES
B4: 10. SEGURO DE RIESGO CIBERNÉTICO (RESPONSABILIDAD CIVIL PROTECCIÓN DE DATOS)
B5: OBJETO DEL SEGURO
B6: Amparar al CONSEJO SUPERIOR DE LA JUDICATURA contra los riesgos cibernéticos que afecten la confidencialidad, integridad y disponibilidad de su infraestructura tecnológica y de la información bajo su custodia. La cobertura se extiende a los perjuicios patrimoniales, daños materiales o inmateriales, pérdidas directas y cualquier gasto o costo incurrido con ocasión de un evento cibernético, así como a las reclamaciones de terceros.
B7: INFORMACIÓN GENERAL:
B8: TOMADOR: | C8: =+B2 -> CONSEJO SUPERIOR DE LA JUDICATURA | I8: NIT. | J8: =+'1. CALIF. DEDUCIBLES TRDM'!J8 -> 800.093.816-3
B9: ASEGURADO: | C9: =+C8 -> CONSEJO SUPERIOR DE LA JUDICATURA | I9: NIT. | J9: =+J8 -> 800.093.816-3
B10: BENEFICIARIO: | C10: =+C8 -> CONSEJO SUPERIOR DE LA JUDICATURA | I10: NIT. | J10: =+J8 -> 800.093.816-3
B11: CRITERIOS DE EVALUACIÓN:
B12: Los criterios establecidos tienen como objeto que la Entidad pueda obtener los mejores deducibles que le permitan lograr la mayor indemnización posible, frente a las pérdidas que pueda sufrir derivadas de un evento súbito e imprevisto que no depende de la voluntad del asegurado.
B13: DEDUCIBLES MÁXIMOS ACEPTABLES:
B14: Actualmente el CONSEJO SUPERIOR DE LA JUDICATURA, no tiene contratado este seguro, pero espera los siguientes deducibles máximos:
B15: TODA Y CADA PÉRDIDA | E15: 5% del valor del valor de la pérdida
B16: - GASTOS POR SERVICIOS DE INFORMÁTICA FORENSE. - GASTOS POR ASISTENCIA DE SERVICIOS DE PRIMERA RESPUESTA. - GASTOS DE DEFENSA | E16: SIN DEDUCIBLE
B17: Para calificación del deducible se realizará aplicando los criterios aquí indicados y los puntajes señalados en la tabla de rangos.
B18: TABLA DE CALIFICACIÓN
B20: Para efectos de la evaluación, se tendrá el siguiente ítem: | E20: PUNTOS
B21: 1- TODA Y CADA PÉRDIDA | E21: 10
B22: TOTAL PUNTOS | E22: =SUM(E21:H21) -> 10
B23: NOTA: Para efectos de la evaluación y en la siguiente tabla en los cuales se tienen rangos, en caso que el oferente indique "SE OTORGA" ó "SI" u otra expresión que implica que si esta otorgando el deducible, la Entidad entenderá que estos deducibles fueron ofrecidos con el valor del MÍNIMO RANGO y por lo tanto se asignará el puntaje respectivo de este rango y la aseguradora en caso de ser adjudicada su propuesta, expedirá la póliza con las condiciones mínimas de ese criterio en particular.
B24: 1- TODA Y CADA PÉRDIDA: Diez (10) puntos
B25: RANGO DE DEDUCIBLES | E25: PUNTAJE SOBRE EL VALOR DE LA PERDIDA | I25: DEDUCIBLE OFERTADO | J25: PUNTOS OBTENIDOS
B26: Sin deducible | E26: 10,00 Puntos | I26: (INDICAR EL DEDUCIBLE OFERTADO)
B27: Superior a 0,0% y hasta el 1,0% | E27: 9,00 Puntos
B28: Superior a 1,0% y hasta el 2,0% | E28: 8,00 Puntos
B29: Superior al 2,0% y hasta el 3,0% | E29: 5,00 Puntos
B30: Superior al 3,0% y hasta el 4,0 | E30: 3,00 Puntos
B31: Superior al 4,0 y hasta el 5,0% | E31: 1,00 Puntos
B32: Superior al 5,0% | E32: SE RECHAZA LA OFERTA
B33: TOTAL PUNTOS | J33: =+J26 -> 0
J34: =+'1. CALIF. DEDUCIBLES TRDM'!J45 -> VERSIÓN: OCT 2026
