Workbook
Name contratación: 'IDENTIFICACION Y ANALISIS'!#REF!
Name ejecución: 'IDENTIFICACION Y ANALISIS'!$B$30:$B$32
Name OPCIONES: 'ASIGNACION Y TRATAMIENTO'!$B$42:$B$44
Name planeación: 'IDENTIFICACION Y ANALISIS'!$B$19:$B$20
Name selección: 'IDENTIFICACION Y ANALISIS'!#REF!

Sheet CONTEXTO
C2: MATRIZ DE RIESGOS EN CONTRATACIÓN | F2: Código: GCO-GCI-F164 Versión: 02 Vigencia: 01 de diciembre de 2022 Caso HOLA: 280117
B6: ESTABLECER EL CONTEXTO
B7: El punto inicial es identificar el contexto en el cual interactúa la Entidad Estatal para conocer el ambiente social, económico y político, e identificar (i) sus propios Riesgos; (ii) los Riesgos comunes a sus Procesos de Contratación; y (iii) los Riesgos del Proceso de Contratación en particular. (Aplica igual para contratos interadministrativos) En este paso la Entidad Estatal debe identificar los aspectos que se mencionan a continuación y los posibles efectos adversos que estos pueden generar.
B8: "Prestar los servicios para desarrollar procesos pedagógicos, culturales, formativos y comunitarios orientados a la construcción de paz, la reconciliación, la memoria histórica, la reparación integral a las víctimas y el fortalecimiento del tejido social en la localidad de Engativá."
B9: Partícipes del Proceso de Contratación: Fondo de Desarrollo Local de Engativá.
B10: Ciudadanía que se beneficia del Proceso de Contratación:VICTIMAS DEL CONFLICTO ARMADO
B11: Capacidad de la Entidad Estatal entendida como la disponibilidad de recursos y conocimientos para el Proceso de Contratación: La disponibilidad de la Entidad de sus recursos y el conocimiento de su equipo humano se refleja en los diferentes funcionarios que participarán en las diversas etapas del proceso de selección: participan las áreas que requieren los procesos de contratación (Etapa de Planeación), Dirección de Contratación, Comité Evaluador (Etapa de selección), Dirección de Contratación (Etapa de contratación) y la supervisión y apoyos a la misma (Estapa de Ejecución).
B12: Suficiencia del presupuesto oficial del Proceso de Contratación: De acuerdo al Plan Anual de Adquisiciones se deben estimar los recursos necesarios para el desarrollo del proceso de la contratación, el cual tendrá el soporte presupuestal suficiente para su desarrollo.
B13: Condiciones geográficas y de acceso del lugar en el cual se debe cumplir el objeto del Proceso de Contratación: El suministro, obra o servicio se prestará principalmente en las Sedes de la Entidad, o en el lugar indicado en los estudios previos del proceso.
B14: Entorno socio ambiental: Si aplican
B15: Condiciones políticas: Si aplican
B16: Factores ambientales.
B17: Sector del objeto del Proceso de Contratación y su mercado.
... B19: Experiencia propia y de otras Entidades Estatales en Procesos de Contratación del mismo tipo.

Sheet IDENTIFICACION Y ANALISIS
C2: MATRIZ DE RIESGOS DE CONTRATACIÓN | F2: Código: GCO-GCI-F164 Versión: 02 Vigencia: 01 de diciembre de 2022 Caso HOLA: 280117
B6: DEFINICIONES
B7: RIESGO: Evento que puede generar efectos adversos y de distinta magnitud en el logro de los objetivos del Proceso de Contratación o en la ejecución de un contrato RIESGOS PREVISIBLES: Son los posibles hechos o circunstancias que por la naturaleza del contrato y de la actividad a ejecutar es factible su ocurrencia. ETAPA DE PLANEACIÓN: Está comprendida desde el momento en que se identifican las necesidades que debe satisfacer la Secretaría Distrital de Gobierno y los Fondos de Desarrollo Local, a través del abastecimiento de bienes, obras o servicios, la elaboración del Plan Anual de Adquisiciones y la estructuración de los documentos y estudios previos. ETAPA DE SELECCIÓN: Está comprendida entre el acto de Apertura del Proceso de Contratación y la Adjudicación o la declaración de desierto del Proceso de Contratación ETAPA DE CONTRATACIÓN: Una vez adjudicado el contrato objeto del Proceso de Contratación, inicia la etapa para la celebración del contrato y el cumplimiento de los requisitos para de perfeccionamiento y ejecución. ETAPA DE EJECUCIÓN: Inicia una vez cumplidos los requisitos previstos para iniciar la ejecución del contrato respectivo y termina con el vencimiento del plazo del contrato o la fecha de liquidación si hay lugar a ella. RIESGO GENERAL: Es un riesgo de todos los procesos de contratación adelantados por la Entidad Estatal, por lo cual está presente en toda su actividad contractual. RIEGO ESPECIFICO: Es un riesgo propio del proceso de contratación objeto de análisis. RIESGOS ECONÓMICOS: Son los derivados del comportamiento del mercado, tales como la fluctuación de los precios de los insumos, desabastecimiento y especulación de los mismos, entre otros. RIESGOS SOCIALES O POLÍTICOS: son los derivados de los cambios de las políticas gubernamentales y de cambios en las condiciones sociales que tengan impacto en la ejecución del contrato. RIESGOS OPERACIONALES: Son los asociados a la operatividad del contrato, tales como la suficiencia del presupuesto oficial, del plazo o los derivados de procesos, procedimientos, parámetros, sistemas de información y tecnológicos, equipos humanos o técnicos inadecuados o insuficientes. RIESGOS FINANCIEROS: Son (i) el riesgo de consecución de financiación o riesgo de liquidez para obtener recursos para cumplir con el objeto del contrato, y (ii) el riesgo de las condiciones financieras establecidas para la obtención de los recursos, tales como plazos, tasas, garantías, contragarantías, y refinanciaciones, entre otros. RIESGOS REGULATORIOS: Derivados de cambios regulatorios o reglamentarios que afecten la ecuación económica del contrato. RIESGOS DE LA NATURALEZA: Son los eventos naturales previsibles en los cuales no hay intervención humana que puedan tener impacto en la ejecución del contrato, por ejemplo los temblores, inundaciones, lluvias, sequías, entre otros. RIESGOS AMBIENTALES: Son los derivados de las obligaciones legales o reglamentarias de carácter ambiental, así como de las licencias, planes de manejo o de permisos y autorizaciones ambientales, incluyendo tasas retributivas y compensatorias, obligaciones de mitigación, tareas de monitoreo y control, entre otras. RIESGOS TECNOLÓGICOS: Son los derivados de fallas en los sistemas de comunicación de voz y de datos, suspensión de servicios públicos, nuevos desarrollos tecnológicos o estándares que deben ser tenidos en cuenta para la ejecución del contrato, obsolescencia tecnológica.
B15: INSTRUCCIONES PARA LA IDENTIFICACIÓN, ANALISIS, EVALUACIÓN , ASIGNACIÓN Y TRATAMIENTO DE RIESGOS EN LA CONTRATACIÓN
B16: 1) Identifique los riesgos previsibles que le apliquen al objeto contractual que se adelante. Los relacionados a continuación se establecen de manera general y como proforma. No obstante, si del objeto contractual se identifican otros riesgos diferentes a los aquí determinados, por favor reemplace el texto de la casilla teniendo en cuenta la etapa del proceso. Así mismo, seleccione la clase, fuente y el tipo (Operacional, Económico, Sociales o Políticos, Regulatorios, Financieros, Tecnológicos, De la naturaleza, Ambientales) 2) Continúe en la hoja de "EVALUACIÓN" (SI EXISTEN DUDAS CONCEPTUALES PARA LA ELABORACIÓN DE LA MATRIZ DE RIESGO CONSULTE EL MANUAL PARA LA IDENTIFICACIÓN Y COBERTURA DEL RIESGO EN LOS PROCESOS DE CONTRATACIÓN EXPEDIDO POR COLOMBIA COMPRA EFICIENTE Y LA GUÍA DE RIESGOS PREVISIBLES CONTRACTUALES, EXPEDIDA POR LA VEEDURÍA DISTRITAL)
C17: ETAPAS | D17: CLASE | E17: FUENTE | F17: TIPO
C18: PLANEACIÓN
B19: Inadecuada identificación del objeto del contrato | D19: Estatal | E19: Interno | F19: Operacionales
B20: Desactualización normativa en la estructuración del proceso | D20: General | E20: Externo | F20: Regulatorios
B21: Falta de participación de la ciudadanía o beneficiarios en la formulación del proyecto | D21: Especifico | E21: Externo | F21: Sociales o Políticos
C22: SELECCIÓN
C23: CONTRATACIÓN
B24: Poca concurrencia de oferentes | D24: Estatal | E24: Externo | F24: Economico
B25: Presentación de documentación falsa o alterada por parte de los proponentes | D25: General | E25: Externo | F25: Legal
B26: Riesgo de colusión entre oferentes | D26: General | E26: Externo | F26: Economico
C27: EJECUCIÓN
B28: Incumplimiento de actividades por parte del contratista | D28: Estatal | E28: Externo | F28: Operacionales
B29: Cambios en el entorno político que afecten la ejecución del contrato | D29: Especifico | E29: Externo | F29: Sociales o Políticos
B30: Uso inadecuado de recursos públicos | D30: Estatal | E30: Externo | F30: Financiero
B31: Fallas tecnológicas en la ejecución de actividades (plataformas, medios virtuales) | D31: General | E31: Interno | F31: Tecnológico
B32: Incumplir con las especificaciones técnicas | D32: Estatal | E32: Externo | F32: operacionales
B37: General
B38: Estatal
B39: Especifico
B41: Interno
B42: Externo

Sheet EVALUACION
C2: MATRIZ DE RIESGOS DE CONTRATACIÓN | K2: Código: GCO-GCI-F164 Versión: 02 Vigencia: 01 de diciembre de 2022 Caso HOLA: 280117
B6: =+CONTEXTO!B8 -> "Prestar los servicios para desarrollar procesos pedagógicos, culturales, formativos y comunitarios orientados a la construcción de paz, la reconciliación, la memoria histórica, la reparación integral a las víctimas y el fortalecimiento del tejido social en la localidad de Engativá."
B7: INSTRUCCIONES PARA LA IDENTIFICACIÓN, ANALISIS, EVALUACIÓN , ASIGNACIÓN Y TRATAMIENTO DE RIESGOS EN LA CONTRATACIÓN
B8: 1) Diligencie el objeto contractual y seleccione la(s) etapas y los riesgos que aplican al objeto contractual, de acuerdo a lo definido en la hoja de "IDENTIFICACIÓN Y ANÁLISIS"
B9: 2) Describa las consecuencias de la ocurrencia del Riesgo/evento.
B10: 3) Asigne la probabilidad de ocurrencia del riesgo, de conformidad con la tabla de probabilidad y la valoración del riesgo (Cualitativa o Monetaria)
B11: 4) Asigne el impacto que generaría la materialización del riesgo, de conformidad con la tabla de impacto y la valoración del riesgo (Cualitativa o Monetaria)
B12: 5) Al realizar las anteriores actividades se obtendrá la calificación total y la valoración del riesgo (prioridad).
B13: 6) Continúe en la hoja de "EVALUACIÓN DE CONTROLES"
B15: CALIFICACIÓN | H15: Cualitativa
B16: ETAPA | C16: Descripción (Que puede pasar y, cómo puede ocurrir) | H16: Consecuencias de la ocurrencia del evento | I16: Probabilidad de Ocurrencia | J16: Impacto | K16: Calificación Total | L16: Prioridad
B17: PLANEACIÓN | C17: Inadecuada identificación del objeto contractual, por falta de análisis técnico. | H17: Contrato no acorde a las necesidades; posibles adiciones o incumplimientos. | I17: 3 | J17: 3 | K17: 7 | L17: =IF(K17<=4,"BAJO",IF(K17=5,"MEDIO",IF(K17=6,"ALTO",IF(K17=7,"ALTO","EXTREMO")))) -> ALTO
B18: PLANEACIÓN | C18: Desactualización normativa en la estructuración del proceso. | H18: Riesgo de nulidad, demandas, o reprocesos. | I18: 2 | J18: 3 | K18: 6 | L18: =IF(K18<=4,"BAJO",IF(K18=5,"MEDIO",IF(K18=6,"ALTO",IF(K18=7,"ALTO","EXTREMO")))) -> ALTO
B19: PLANEACIÓN | C19: Falta de participación de comunidad o beneficiarios. | H19: Imposibilidad de cumplir con las metas presupuestadas para el FDL para el cuatrenio | I19: 2 | J19: 2 | K19: =+I19+J19 -> 4 | L19: =IF(K19<=4,"BAJO",IF(K19=5,"MEDIO",IF(K19=6,"ALTO",IF(K19=7,"ALTO","EXTREMO")))) -> BAJO
B20: CONTRATACIÓN | C20: Presentación de documentos falsos por proponentes. | H20: Contratación con proponentes no idóneos; afectación reputacional. | I20: 2 | J20: 3 | K20: 5 | L20: =IF(K20<=4,"BAJO",IF(K20=5,"MEDIO",IF(K20=6,"ALTO",IF(K20=7,"ALTO","EXTREMO")))) -> MEDIO
B21: CONTRATACIÓN | C21: Poca concurrencia de oferentes, por pliegos restrictivos o falta de difusión. | H21: Riesgo de selección antieconómica o proceso desierto. | I21: 3 | J21: 2 | K21: =+I21+J21 -> 5 | L21: =IF(K21<=4,"BAJO",IF(K21=5,"MEDIO",IF(K21=6,"ALTO",IF(K21=7,"ALTO","EXTREMO")))) -> MEDIO
B22: CONTRATACIÓN | C22: Colusión entre oferentes para manipular resultados. | H22: Falta de transparencia, posibles sanciones. | I22: 1 | J22: 3 | K22: 3 | L22: =IF(K22<=4,"BAJO",IF(K22=5,"MEDIO",IF(K22=6,"ALTO",IF(K22=7,"ALTO","EXTREMO")))) -> BAJO
B23: EJECUCIÓN | C23: Incumplimiento de actividades contractuales por parte del contratista. | H23: Atrasos, sanciones, posibles liquidaciones anticipadas. | I23: 3 | J23: 3 | K23: 9 | L23: =IF(K23<=4,"BAJO",IF(K23=5,"MEDIO",IF(K23=6,"ALTO",IF(K23=7,"ALTO","EXTREMO")))) -> EXTREMO
B24: EJECUCIÓN | C24: Incumplimiento de las especificaciones técnicas del contrato. | H24: Entregables inadecuados, no conformidad, insatisfacción ciudadana. Cambios en los procesos operativos, financieros y administrativos del proyecto, lo que a su vez puede afectar su eficiencia y efectividad. Lo cual tambien puede afectar e impactar en los convenios suscritos con los FDL | I24: 3 | J24: 3 | K24: 9 | L24: =IF(K24<=4,"BAJO",IF(K24=5,"MEDIO",IF(K24=6,"ALTO",IF(K24=7,"ALTO","EXTREMO")))) -> EXTREMO
B25: EJECUCIÓN | C25: Cambios en el entorno político local que afecten ejecución. | H25: Obstáculos administrativos, pérdida de apoyo institucional. | I25: 2 | J25: 2 | K25: 4 | L25: =IF(K25<=4,"BAJO",IF(K25=5,"MEDIO",IF(K25=6,"ALTO",IF(K25=7,"ALTO","EXTREMO")))) -> BAJO
B26: EJECUCIÓN | C26: Uso inadecuado de los recursos públicos. | H26: Hallazgos fiscales, detrimento patrimonial, sanciones. | I26: 2 | J26: 3 | K26: 6 | L26: =IF(K26<=4,"BAJO",IF(K26=5,"MEDIO",IF(K26=6,"ALTO",IF(K26=7,"ALTO","EXTREMO")))) -> ALTO
B27: EJECUCIÓN | C27: Fallas tecnológicas en plataformas o medios usados para ejecutar actividades. | H27: Interrupción de actividades, insatisfacción de usuarios. | I27: 2 | J27: 2 | K27: =+I27+J27 -> 4 | L27: =IF(K27<=4,"BAJO",IF(K27=5,"MEDIO",IF(K27=6,"ALTO",IF(K27=7,"ALTO","EXTREMO")))) -> BAJO
C30: Catagoria | E30: Valoración | G30: Impacto | H30: Categoria | I30: Valoración
B31: Probabilidad | C31: Raro (puede ocurrir excepcionalmente) | E31: 1 | H31: Insignificante | I31: 1
C32: Improbable (puede ocurrir ocasionalmente) | E32: 2 | H32: Menor | I32: 2
C33: Posible (puede ocurrir en cualquier momento futuro) | E33: 3 | H33: Moderado | I33: 3
C34: Probable (probablemente va a ocurrir) | E34: 4 | H34: Mayor | I34: 4
C35: Casi cierto (ocurre en la mayoria de circunstancias) | E35: 5 | H35: Catastrófico | I35: 5
C37: Valoración del Riesgo
C38: Calificación Cualitativa | F38: Obstruye la ejecución del contrato de manera intrascendente. | G38: Dificulta la ejecución del contrato de manera baja, aplicando medidas mínimas se pueden lograr el objeto contractual | H38: Afecta la ejecución del contrato sin alterar el beneficio para las partes | I38: Obstruye la ejecución del contrato sustancialmente pero aun así permite la consecución del objeto contractual | K38: Perturba la ejecución del contrato de manera grave imposibilitando la consecución del objeto contractual.
C39: Calificación Monetaria | F39: Los sobrecostos no representan más del uno por ciento (1%) del valor del contrato. | G39: Los sobrecostos no representan más del cinco por ciento (5%) del valor del contrato. | H39: Genera un impacto sobre el valor del contrato entre el cinco (5%) y el quince por ciento (15%). | I39: Incrementa el valor del contrato entre el quince (15%) y el treinta por ciento (30%). | K39: Impacto sobre el valor del contrato en más del treinta por ciento (30%).
C40: Categoría | E40: Valoración | F40: Insignificante | G40: Menor | H40: Moderado | I40: Mayor | K40: Catastrófico
F41: 1 | G41: 2 | H41: 3 | I41: 4 | K41: 5
C42: Raro (puede ocurrir excepcionalmente) | E42: 1 | F42: 2 | G42: 3 | H42: 4 | I42: 5 | K42: 6
C43: Improbable (puede ocurrir ocasionalmente) | E43: 2 | F43: 3 | G43: 4 | H43: 5 | I43: 6 | K43: 7
C44: Posible (puede ocurrir en cualquier momento futuro) | E44: 3 | F44: 4 | G44: 5 | H44: 6 | I44: 7 | K44: 8
C45: Probable (probablemente va a ocurrir) | E45: 4 | F45: 5 | G45: 6 | H45: 7 | I45: 8 | K45: 9
C46: Casi cierto (ocurre en la mayoria de circunstancias) | E46: 5 | F46: 6 | G46: 7 | H46: 8 | I46: 9 | K46: 10
G48: Categoria del Riesgo
G49: Valoración del Riesgo | H49: Categoría
...

Sheet EVALUACION CON CONTROLES
C2: MATRIZ DE RIESGOS DE CONTRATACIÓN | Q2: Código: GCO-GCI-F164 Versión: 02 Vigencia: 01 de diciembre de 2022 Caso HOLA: 280117
B6: =+EVALUACION!B6 -> "Prestar los servicios para desarrollar procesos pedagógicos, culturales, formativos y comunitarios orientados a la construcción de paz, la reconciliación, la memoria histórica, la reparación integral a las víctimas y el fortalecimiento del tejido social en la localidad de Engativá."
B7: INSTRUCCIONES PARA LA IDENTIFICACIÓN, ANALISIS, EVALUACIÓN , ASIGNACIÓN Y TRATAMIENTO DE RIESGOS EN LA CONTRATACIÓN
B8: 1) Describa el tratamiento/controles a ser implementados
B9: 2) Diligencie la información de las siguientes columnas, de acuerdo con el análisis realizado a cada riesgo: Afecta el equilibrio económico, persona responsable de implementar el tratamiento, fecha estimada de inicio del tratamiento, fecha estimada en la que se completa el tratamiento, cómo se realiza el monitoreo y la periodicidad.
B10: 3) Continúe en la hoja de "ASIGNACIÓN Y TRATAMIENTO" y diligencie las siguientes casillas: A quien se le asigna y el porcentaje que asume cada una de las partes en caso de que sea compartido.
B15: ETAPA | C15: Descripción (Que puede pasar y, cómo puede ocurrir) | G15: Tratamiento/Controles a ser implementados | I15: Probabilidad de Ocurrencia | J15: Impacto | K15: Calificación Total | L15: Prioridad | M15: ¿Afecta el equilibrio económico del contrato? | N15: Persona responsable por implementar el tratamiento | O15: Fecha estimada en que se inicia el tratamiento | P15: Fecha estimada en que se completa el tratamiento | Q15: ¿Cómo se realiza el monitoreo? | R15: Periodicidad ¿Cuándo?
B16: PLANEACIÓN | C16: Inadecuada identificación del objeto contractual, por falta de análisis técnico. | H16: Contrato no acorde a las necesidades; posibles adiciones o incumplimientos. | I16: 3 | J16: 3 | K16: 7 | L16: =IF(K16<=4,"BAJO",IF(K16=5,"MEDIO",IF(K16=6,"ALTO",IF(K16=7,"ALTO","EXTREMO")))) -> ALTO | M16: SI | N16: FDL | O16: Al iniciar la elaboración de estudios previos | P16: Con la validación final del objeto y sus especificaciones técnicas | Q16: Revisión de estudios previos y validación técnica | R16: Antes del proceso
B17: PLANEACIÓN | C17: Desactualización normativa en la estructuración del proceso. | H17: Riesgo de nulidad, demandas, o reprocesos. | I17: 2 | J17: 3 | K17: 6 | L17: =IF(K17<=4,"BAJO",IF(K17=5,"MEDIO",IF(K17=6,"ALTO",IF(K17=7,"ALTO","EXTREMO")))) -> ALTO | M17: SI | N17: FDL | O17: Al definir el marco legal aplicable al proceso | P17: Cuando se aprueba jurídicamente el pliego definitivo | Q17: Revisión normativa y validación por jurídico | R17: Trimestral
B18: PLANEACIÓN | C18: Falta de participación de comunidad o beneficiarios. | H18: Imposibilidad de cumplir con las metas presupuestadas para el FDL para el cuatrenio | I18: 2 | J18: 2 | K18: =+I18+J18 -> 4 | L18: =IF(K18<=4,"BAJO",IF(K18=5,"MEDIO",IF(K18=6,"ALTO",IF(K18=7,"ALTO","EXTREMO")))) -> BAJO | M18: NO | N18: FDL | O18: Cuando se formulan las actividades y cronograma del proyecto | P18: Al concluir las socializaciones y ajustar el proyecto con retroalimentación | Q18: Actas de socialización, encuestas y ajustes técnicos | R18: Por proceso
B19: CONTRATACIÓN | C19: Presentación de documentos falsos por proponentes. | H19: Contratación con proponentes no idóneos; afectación reputacional. | I19: 2 | J19: 3 | K19: 5 | L19: =IF(K19<=4,"BAJO",IF(K19=5,"MEDIO",IF(K19=6,"ALTO",IF(K19=7,"ALTO","EXTREMO")))) -> MEDIO | M19: SI | N19: FDL | O19: Desde la apertura del proceso de recepción de ofertas | P19: Al finalizar la etapa de evaluación | Q19: Validación en bases oficiales, SECOP II | R19: Por proceso
B20: CONTRATACIÓN | C20: Poca concurrencia de oferentes, por pliegos restrictivos o falta de difusión. | H20: Riesgo de selección antieconómica o proceso desierto. | I20: 3 | J20: 2 | K20: =+I20+J20 -> 5 | L20: =IF(K20<=4,"BAJO",IF(K20=5,"MEDIO",IF(K20=6,"ALTO",IF(K20=7,"ALTO","EXTREMO")))) -> MEDIO | M20: SI | N20: FDL | O20: Cuando se publica el aviso de convocatoria | P20: Con el cierre de la etapa de presentación de ofertas | Q20: Análisis de mercado, publicidad adecuada | R20: Incial y final
B21: CONTRATACIÓN | C21: Colusión entre oferentes para manipular resultados. | H21: Falta de transparencia, posibles sanciones. | I21: 1 | J21: 3 | K21: 3 | L21: =IF(K21<=4,"BAJO",IF(K21=5,"MEDIO",IF(K21=6,"ALTO",IF(K21=7,"ALTO","EXTREMO")))) -> BAJO | M21: NO | N21: FDL | O21: Al revisar y comparar propuestas | P21: Al emitir informe final de evaluación | Q21: Análisis cruzado y señales de alerta en SECOP | R21: Una vez por proceso
B22: EJECUCIÓN | C22: Incumplimiento de actividades contractuales por parte del contratista. | H22: Atrasos, sanciones, posibles liquidaciones anticipadas. | I22: 3 | J22: 3 | K22: 9 | L22: =IF(K22<=4,"BAJO",IF(K22=5,"MEDIO",IF(K22=6,"ALTO",IF(K22=7,"ALTO","EXTREMO")))) -> EXTREMO | M22: SI | N22: FDL | O22: Desde el inicio de la ejecución contractual | P22: Con la entrega y conformidad final de todos los productos | Q22: Actas, informes mensuales, visitas técnicas | R22: Mensual
B23: EJECUCIÓN | C23: Incumplimiento de las especificaciones técnicas del contrato. | H23: Entregables inadecuados, no conformidad, insatisfacción ciudadana. Cambios en los procesos operativos, financieros y administrativos del proyecto, lo que a su vez puede afectar su eficiencia y efectividad. Lo cual tambien puede afectar e impactar en los convenios suscritos con los FDL | I23: 3 | J23: 3 | K23: 9 | L23: =IF(K23<=4,"BAJO",IF(K23=5,"MEDIO",IF(K23=6,"ALTO",IF(K23=7,"ALTO","EXTREMO")))) -> EXTREMO | M23: SI | N23: FDL | O23: Con la recepción del primer entregable o hito técnico | P23: Al verificar cumplimiento conforme a los requerimientos técnicos | Q23: Verificación técnica, seguimiento continuo | R23: Quincenal
B24: EJECUCIÓN | C24: Cambios en el entorno político local que afecten ejecución. | H24: Obstáculos administrativos, pérdida de apoyo institucional. | I24: 2 | J24: 2 | K24: 4 | L24: =IF(K24<=4,"BAJO",IF(K24=5,"MEDIO",IF(K24=6,"ALTO",IF(K24=7,"ALTO","EXTREMO")))) -> BAJO | M24: SI | N24: FDL | O24: Ante eventos políticos relevantes (cambios en liderazgo local, etc.) | P24: Cuando se estabilice el entorno institucional | Q24: Reuniones con actores, gestión interinstitucional | R24: Bimensual
B25: EJECUCIÓN | C25: Uso inadecuado de los recursos públicos. | H25: Hallazgos fiscales, detrimento patrimonial, sanciones. | I25: 2 | J25: 3 | K25: 6 | L25: =IF(K25<=4,"BAJO",IF(K25=5,"MEDIO",IF(K25=6,"ALTO",IF(K25=7,"ALTO","EXTREMO")))) -> ALTO | M25: SI | N25: FDL | O25: Al iniciar la ejecución presupuestal del contrato | P25: Con el acta de liquidación y auditoría final | Q25: Auditorías, controles financieros, informes | R25: Trimestral
B26: EJECUCIÓN | C26: Fallas tecnológicas en plataformas o medios usados para ejecutar actividades. | H26: Interrupción de actividades, insatisfacción de usuarios. | I26: 2 | J26: 2 | K26: =+I26+J26 -> 4 | L26: =IF(K26<=4,"BAJO",IF(K26=5,"MEDIO",IF(K26=6,"ALTO",IF(K26=7,"ALTO","EXTREMO")))) -> BAJO | M26: NO | N26: FDL | O26: Antes del primer uso de plataformas o medios digitales | P26: Cuando las herramientas funcionan sin fallas recurrentes | Q26: Pruebas, soporte técnico, planes de contingencia | R26: Segun necesidad
C27: Categoria del Riesgo | H27: Impacto del Riesgo
B28: Probabilidad | C28: Catagoria | F28: Valoración | H28: Categoria | J28: Valoración | N28: Categoria del Riesgo
C29: Raro (puede ocurrir excepcionalmente) | F29: 1 | H29: Insignificante | J29: 1 | N29: Valoración del Riesgo | P29: Categoría
C30: Improbable (puede ocurrir ocasionalmente) | F30: 2 | H30: Menor | J30: 2 | N30: 8, 9 y 10 | P30: Riesgo extremo
C31: Posible (puede ocurrir en cualquier momento futuro) | F31: 3 | H31: Moderado | J31: 3 | N31: 6 y 7 | P31: Riesgo alto
C32: Probable (probablemente va a ocurrir) | F32: 4 | H32: Mayor | J32: 4 | N32: 5 | P32: Riesgo medio
C33: Casi cierto (ocurre en la mayoria de circunstancias) | F33: 5 | H33: Catastrófico | J33: 5 | N33: 2, 3 y 4 | P33: Riesgo bajo
C35: Valoración del Riesgo
C36: Calificación Cualitativa | G36: Obstruye la ejecución del contrato de manera intrascendente. | I36: Dificulta la ejecución del contrato de manera baja, aplicando medidas mínimas se pueden lograr el objeto contractual | L36: Afecta la ejecución del contrato sin alterar el beneficio para las partes | N36: Obstruye la ejecución del contrato sustancialmente pero aun así permite la consecución del objeto contractual | P36: Perturba la ejecución del contrato de manera grave imposibilitando la consecución del objeto contractual.
C37: Calificación Monetaria | G37: Los sobrecostos no representan más del uno por ciento (1%) del valor del contrato. | I37: Los sobrecostos no representan más del cinco por ciento (5%) del valor del contrato. | L37: Genera un impacto sobre el valor del contrato entre el cinco (5%) y el quince por ciento (15%). | N37: Incrementa el valor del contrato entre el quince (15%) y el treinta por ciento (30%). | P37: Impacto sobre el valor del contrato en más del treinta por ciento (30%).
C38: Catagoria | F38: Valoración | G38: Insignificante | I38: Menor | L38: Moderado | N38: Mayor | P38: Catastrófico
G39: 1 | I39: 2 | L39: 3 | N39: 4 | P39: 5
C40: Raro (puede ocurrir excepcionalmente) | F40: 1 | G40: 2 | I40: 3 | L40: 4 | N40: 5 | P40: 6
C41: Improbable (puede ocurrir ocasionalmente) | F41: 2 | G41: 3 | I41: 4 | L41: 5 | N41: 6 | P41: 7
C42: Posible (puede ocurrir en cualquier momento futuro) | F42: 3 | G42: 4 | I42: 5 | L42: 6 | N42: 7 | P42: 8
C43: Probable (probablemente va a ocurrir) | F43: 4 | G43: 5 | I43: 6 | L43: 7 | N43: 8 | P43: 9
C44: Casi cierto (ocurre en la mayoria de circunstancias) | F44: 5 | G44: 6 | I44: 7 | L44: 8 | N44: 9 | P44: 10

Sheet ASIGNACION Y TRATAMIENTO
C2: MATRIZ DE RIESGOS DE CONTRATACIÓN | W2: Código: GCO-GCI-F164 Versión: 02 Vigencia: 01 de diciembre de 2022 Caso HOLA: 280117
B6: =+EVALUACION!B6 -> "Prestar los servicios para desarrollar procesos pedagógicos, culturales, formativos y comunitarios orientados a la construcción de paz, la reconciliación, la memoria histórica, la reparación integral a las víctimas y el fortalecimiento del tejido social en la localidad de Engativá."
B7: Esta matriz es un documento anexo del Estudio Previo
B10: No | C10: Descripción (Que puede pasar y, cómo puede ocurrir) | D10: Etapa | E10: Clase | F10: Fuente | G10: Consecuencias de la ocurrencia del evento | H10: Probabilidad | I10: Impacto | J10: Calificación total | K10: Prioridad | L10: ¿A quien se le asigna? | M10: % | N10: Tratamiento/Controles a ser implementados | O10: Probabilidad | P10: Impacto | Q10: Calificación total | R10: Prioridad | S10: ¿Afecta el equilibrio económico del contrato? | T10: Persona responsable por implementar el tratamiento | U10: Fecha estimada en que se inicia el tratamiento | V10: Fecha estimada en que se completa el tratamiento | W10: ¿Cómo se realiza el monitoreo | X10: Periodicidad ¿Cuándo?
B11: 1 | C11: =+'EVALUACION CON CONTROLES'!C16:F16 -> Inadecuada identificación del objeto contractual, por falta de análisis técnico. | D11: =+'EVALUACION CON CONTROLES'!B16 -> PLANEACIÓN | E11: =+'IDENTIFICACION Y ANALISIS'!D19 -> Estatal | F11: =+'IDENTIFICACION Y ANALISIS'!E19 -> Interno | G11: =+EVALUACION!H17 -> Contrato no acorde a las necesidades; posibles adiciones o incumplimientos. | H11: =+EVALUACION!I17 -> 3 | I11: =+EVALUACION!J17 -> 3 | J11: =+H11+I11 -> 6 | K11: =IF(J11<=4,"BAJO",IF(J11=5,"MEDIO",IF(J11=6,"ALTO",IF(J11=7,"ALTO","EXTREMO")))) -> ALTO | N11: =+'EVALUACION CON CONTROLES'!G16 -> 0 | O11: 3 | P11: 2 | Q11: =+O11+P11 -> 5 | R11: =IF(Q11<=4,"BAJO",IF(Q11=5,"MEDIO",IF(Q11=6,"ALTO",IF(Q11=7,"ALTO","EXTREMO")))) -> MEDIO | S11: SI | T11: =+'EVALUACION CON CONTROLES'!N16 -> FDL | U11: =+'EVALUACION CON CONTROLES'!O16 -> Al iniciar la elaboración de estudios previos | V11: =+'EVALUACION CON CONTROLES'!P16 -> Con la validación final del objeto y sus especificaciones técnicas | W11: =+'EVALUACION CON CONTROLES'!Q16 -> Revisión de estudios previos y validación técnica | X11: =+'EVALUACION CON CONTROLES'!R16 -> Antes del proceso
B12: 2 | C12: =+'EVALUACION CON CONTROLES'!C17:F17 -> Desactualización normativa en la estructuración del proceso. | D12: =+'EVALUACION CON CONTROLES'!B17 -> PLANEACIÓN | E12: =+'IDENTIFICACION Y ANALISIS'!D20 -> General | F12: =+'IDENTIFICACION Y ANALISIS'!E20 -> Externo | G12: =+EVALUACION!H18 -> Riesgo de nulidad, demandas, o reprocesos. | H12: =+EVALUACION!I18 -> 2 | I12: =+EVALUACION!J18 -> 3 | J12: =+H12+I12 -> 5 | K12: =IF(J12<=4,"BAJO",IF(J12=5,"MEDIO",IF(J12=6,"ALTO",IF(J12=7,"ALTO","EXTREMO")))) -> MEDIO | N12: =+'EVALUACION CON CONTROLES'!G17 -> 0 | O12: 3 | P12: 2 | Q12: =+O12+P12 -> 5 | R12: =IF(Q12<=4,"BAJO",IF(Q12=5,"MEDIO",IF(Q12=6,"ALTO",IF(Q12=7,"ALTO","EXTREMO")))) -> MEDIO | S12: SI | T12: =+'EVALUACION CON CONTROLES'!N17 -> FDL | U12: =+'EVALUACION CON CONTROLES'!O17 -> Al definir el marco legal aplicable al proceso | V12: =+'EVALUACION CON CONTROLES'!P17 -> Cuando se aprueba jurídicamente el pliego definitivo | W12: =+'EVALUACION CON CONTROLES'!Q17 -> Revisión normativa y validación por jurídico | X12: =+'EVALUACION CON CONTROLES'!R17 -> Trimestral
B13: 3 | C13: =+'EVALUACION CON CONTROLES'!C18:F18 -> Falta de participación de comunidad o beneficiarios. | D13: =+'EVALUACION CON CONTROLES'!B18 -> PLANEACIÓN | E13: =+'IDENTIFICACION Y ANALISIS'!D21 -> Especifico | F13: =+'IDENTIFICACION Y ANALISIS'!E21 -> Externo | G13: =+EVALUACION!H19 -> Imposibilidad de cumplir con las metas presupuestadas para el FDL para el cuatrenio | H13: =+EVALUACION!I19 -> 2 | I13: =+EVALUACION!J19 -> 2 | J13: =+H13+I13 -> 4 | K13: =IF(J13<=4,"BAJO",IF(J13=5,"MEDIO",IF(J13=6,"ALTO",IF(J13=7,"ALTO","EXTREMO")))) -> BAJO | N13: =+'EVALUACION CON CONTROLES'!G18 -> 0 | O13: 3 | P13: 3 | Q13: =+O13+P13 -> 6 | R13: =IF(Q13<=4,"BAJO",IF(Q13=5,"MEDIO",IF(Q13=6,"ALTO",IF(Q13=7,"ALTO","EXTREMO")))) -> ALTO | S13: SI | T13: =+'EVALUACION CON CONTROLES'!N18 -> FDL | U13: =+'EVALUACION CON CONTROLES'!O18 -> Cuando se formulan las actividades y cronograma del proyecto | V13: =+'EVALUACION CON CONTROLES'!P18 -> Al concluir las socializaciones y ajustar el proyecto con retroalimentación | W13: =+'EVALUACION CON CONTROLES'!Q18 -> Actas de socialización, encuestas y ajustes técnicos | X13: =+'EVALUACION CON CONTROLES'!R18 -> Por proceso
B14: 4 | C14: =+'EVALUACION CON CONTROLES'!C19:F19 -> Presentación de documentos falsos por proponentes. | D14: =+'EVALUACION CON CONTROLES'!B19 -> CONTRATACIÓN | E14: =+'IDENTIFICACION Y ANALISIS'!#REF! -> #REF! | F14: =+'IDENTIFICACION Y ANALISIS'!#REF! -> #REF! | G14: =+EVALUACION!H21 -> Riesgo de selección antieconómica o proceso desierto. | H14: =+EVALUACION!I21 -> 3 | I14: =+EVALUACION!J21 -> 2 | J14: =+H14+I14 -> 5 | K14: =IF(J14<=4,"BAJO",IF(J14=5,"MEDIO",IF(J14=6,"ALTO",IF(J14=7,"ALTO","EXTREMO")))) -> MEDIO | N14: =+'EVALUACION CON CONTROLES'!G19 -> 0 | O14: =+'EVALUACION CON CONTROLES'!I19 -> 2 | P14: 4 | Q14: =+O14+P14 -> 6 | R14: =IF(Q14<=4,"BAJO",IF(Q14=5,"MEDIO",IF(Q14=6,"ALTO",IF(Q14=7,"ALTO","EXTREMO")))) -> ALTO | S14: SI | T14: =+'EVALUACION CON CONTROLES'!N19 -> FDL | U14: =+'EVALUACION CON CONTROLES'!O19 -> Desde la apertura del proceso de recepción de ofertas | V14: =+'EVALUACION CON CONTROLES'!P19 -> Al finalizar la etapa de evaluación | W14: =+'EVALUACION CON CONTROLES'!Q19 -> Validación en bases oficiales, SECOP II | X14: =+'EVALUACION CON CONTROLES'!R19 -> Por proceso
B15: 5 | C15: =+'EVALUACION CON CONTROLES'!C20:F20 -> Poca concurrencia de oferentes, por pliegos restrictivos o falta de difusión. | D15: =+'EVALUACION CON CONTROLES'!B20 -> CONTRATACIÓN | E15: =+'IDENTIFICACION Y ANALISIS'!D28 -> Estatal | F15: =+'IDENTIFICACION Y ANALISIS'!E28 -> Externo | G15: =+EVALUACION!H22 -> Falta de transparencia, posibles sanciones. | H15: =+EVALUACION!I22 -> 1 | I15: =+EVALUACION!J22 -> 3 | J15: =+H15+I15 -> 4 | K15: =IF(J15<=4,"BAJO",IF(J15=5,"MEDIO",IF(J15=6,"ALTO",IF(J15=7,"ALTO","EXTREMO")))) -> BAJO | N15: =+'EVALUACION CON CONTROLES'!G20 -> 0 | O15: =+'EVALUACION CON CONTROLES'!I20 -> 3 | P15: =+'EVALUACION CON CONTROLES'!J20 -> 2 | Q15: =+O15+P15 -> 5 | R15: =IF(Q15<=4,"BAJO",IF(Q15=5,"MEDIO",IF(Q15=6,"ALTO",IF(Q15=7,"ALTO","EXTREMO")))) -> MEDIO | S15: SI | T15: =+'EVALUACION CON CONTROLES'!N20 -> FDL | U15: =+'EVALUACION CON CONTROLES'!O20 -> Cuando se publica el aviso de convocatoria | V15: =+'EVALUACION CON CONTROLES'!P20 -> Con el cierre de la etapa de presentación de ofertas | W15: =+'EVALUACION CON CONTROLES'!Q20 -> Análisis de mercado, publicidad adecuada | X15: =+'EVALUACION CON CONTROLES'!R20 -> Incial y final
B16: 6 | C16: =+'EVALUACION CON CONTROLES'!C21:F21 -> Colusión entre oferentes para manipular resultados. | D16: =+'EVALUACION CON CONTROLES'!B21 -> CONTRATACIÓN | E16: =+'IDENTIFICACION Y ANALISIS'!D29 -> Especifico | F16: =+'IDENTIFICACION Y ANALISIS'!E29 -> Externo | G16: =+EVALUACION!H23 -> Atrasos, sanciones, posibles liquidaciones anticipadas. | H16: =+EVALUACION!I23 -> 3 | I16: =+EVALUACION!J23 -> 3 | J16: =+H16+I16 -> 6 | K16: =IF(J16<=4,"BAJO",IF(J16=5,"MEDIO",IF(J16=6,"ALTO",IF(J16=7,"ALTO","EXTREMO")))) -> ALTO | N16: =+'EVALUACION CON CONTROLES'!G21 -> 0 | O16: =+'EVALUACION CON CONTROLES'!I21 -> 1 | P16: 1 | Q16: =+O16+P16 -> 2 | R16: =IF(Q16<=4,"BAJO",IF(Q16=5,"MEDIO",IF(Q16=6,"ALTO",IF(Q16=7,"ALTO","EXTREMO")))) -> BAJO | S16: SI | T16: =+'EVALUACION CON CONTROLES'!N21 -> FDL | U16: =+'EVALUACION CON CONTROLES'!O21 -> Al revisar y comparar propuestas | V16: =+'EVALUACION CON CONTROLES'!P21 -> Al emitir informe final de evaluación | W16: =+'EVALUACION CON CONTROLES'!Q21 -> Análisis cruzado y señales de alerta en SECOP | X16: =+'EVALUACION CON CONTROLES'!R21 -> Una vez por proceso
B17: 7 | C17: =+'EVALUACION CON CONTROLES'!C22:F22 -> Incumplimiento de actividades contractuales por parte del contratista. | D17: =+'EVALUACION CON CONTROLES'!B22 -> EJECUCIÓN | E17: =+'IDENTIFICACION Y ANALISIS'!D30 -> Estatal | F17: =+'IDENTIFICACION Y ANALISIS'!E30 -> Externo | G17: =+EVALUACION!H24 -> Entregables inadecuados, no conformidad, insatisfacción ciudadana. Cambios en los procesos operativos, financieros y administrativos del proyecto, lo que a su vez puede afectar su eficiencia y efectividad. Lo cual tambien puede afectar e impactar en los convenios suscritos con los FDL | H17: =+EVALUACION!I24 -> 3 | I17: =+EVALUACION!J24 -> 3 | J17: =+H17+I17 -> 6 | K17: =IF(J17<=4,"BAJO",IF(J17=5,"MEDIO",IF(J17=6,"ALTO",IF(J17=7,"ALTO","EXTREMO")))) -> ALTO | N17: =+'EVALUACION CON CONTROLES'!G22 -> 0 | O17: 2 | P17: 5 | Q17: =+O17+P17 -> 7 | R17: =IF(Q17<=4,"BAJO",IF(Q17=5,"MEDIO",IF(Q17=6,"ALTO",IF(Q17=7,"ALTO","EXTREMO")))) -> ALTO | S17: SI | T17: =+'EVALUACION CON CONTROLES'!N22 -> FDL | U17: =+'EVALUACION CON CONTROLES'!O22 -> Desde el inicio de la ejecución contractual | V17: =+'EVALUACION CON CONTROLES'!P22 -> Con la entrega y conformidad final de todos los productos | W17: =+'EVALUACION CON CONTROLES'!Q22 -> Actas, informes mensuales, visitas técnicas | X17: =+'EVALUACION CON CONTROLES'!R22 -> Mensual
B18: 8 | C18: =+'EVALUACION CON CONTROLES'!C23:F23 -> Incumplimiento de las especificaciones técnicas del contrato. | D18: =+'EVALUACION CON CONTROLES'!B23 -> EJECUCIÓN | E18: =+'IDENTIFICACION Y ANALISIS'!D31 -> General | F18: =+'IDENTIFICACION Y ANALISIS'!E31 -> Interno | G18: =+EVALUACION!H25 -> Obstáculos administrativos, pérdida de apoyo institucional. | H18: =+EVALUACION!I25 -> 2 | I18: =+EVALUACION!J25 -> 2 | J18: =+H18+I18 -> 4 | K18: =IF(J18<=4,"BAJO",IF(J18=5,"MEDIO",IF(J18=6,"ALTO",IF(J18=7,"ALTO","EXTREMO")))) -> BAJO | N18: =+'EVALUACION CON CONTROLES'!G23 -> 0 | O18: 1 | P18: =+'EVALUACION CON CONTROLES'!J23 -> 3 | Q18: =+O18+P18 -> 4 | R18: =IF(Q18<=4,"BAJO",IF(Q18=5,"MEDIO",IF(Q18=6,"ALTO",IF(Q18=7,"ALTO","EXTREMO")))) -> BAJO | S18: NO | T18: =+'EVALUACION CON CONTROLES'!N23 -> FDL | U18: =+'EVALUACION CON CONTROLES'!O23 -> Con la recepción del primer entregable o hito técnico | V18: =+'EVALUACION CON CONTROLES'!P23 -> Al verificar cumplimiento conforme a los requerimientos técnicos | W18: =+'EVALUACION CON CONTROLES'!Q23 -> Verificación técnica, seguimiento continuo | X18: =+'EVALUACION CON CONTROLES'!R23 -> Quincenal
B19: 9 | C19: =+'EVALUACION CON CONTROLES'!C24:F24 -> Cambios en el entorno político local que afecten ejecución. | D19: =+'EVALUACION CON CONTROLES'!B24 -> EJECUCIÓN | E19: =+'IDENTIFICACION Y ANALISIS'!D32 -> Estatal | F19: =+'IDENTIFICACION Y ANALISIS'!E32 -> Externo | G19: =+EVALUACION!H26 -> Hallazgos fiscales, detrimento patrimonial, sanciones. | H19: =+EVALUACION!I26 -> 2 | I19: =+EVALUACION!J26 -> 3 | J19: =+H19+I19 -> 5 | K19: =IF(J19<=4,"BAJO",IF(J19=5,"MEDIO",IF(J19=6,"ALTO",IF(J19=7,"ALTO","EXTREMO")))) -> MEDIO | N19: =+'EVALUACION CON CONTROLES'!G24 -> 0 | O19: 5 | P19: =+'EVALUACION CON CONTROLES'!J24 -> 2 | Q19: =+O19+P19 -> 7 | R19: =IF(Q19<=4,"BAJO",IF(Q19=5,"MEDIO",IF(Q19=6,"ALTO",IF(Q19=7,"ALTO","EXTREMO")))) -> ALTO | S19: SI | T19: =+'EVALUACION CON CONTROLES'!N24 -> FDL | U19: =+'EVALUACION CON CONTROLES'!O24 -> Ante eventos políticos relevantes (cambios en liderazgo local, etc.) | V19: =+'EVALUACION CON CONTROLES'!P24 -> Cuando se estabilice el entorno institucional | W19: =+'EVALUACION CON CONTROLES'!Q24 -> Reuniones con actores, gestión interinstitucional | X19: =+'EVALUACION CON CONTROLES'!R24 -> Bimensual
B20: 10 | C20: =+'EVALUACION CON CONTROLES'!C25:F25 -> Uso inadecuado de los recursos públicos. | D20: =+'EVALUACION CON CONTROLES'!B25 -> EJECUCIÓN | E20: =+'IDENTIFICACION Y ANALISIS'!#REF! -> #REF! | F20: =+'IDENTIFICACION Y ANALISIS'!#REF! -> #REF! | G20: =+EVALUACION!H27 -> Interrupción de actividades, insatisfacción de usuarios. | H20: =+EVALUACION!I27 -> 2 | I20: =+EVALUACION!J27 -> 2 | J20: =+H20+I20 -> 4 | K20: =IF(J20<=4,"BAJO",IF(J20=5,"MEDIO",IF(J20=6,"ALTO",IF(J20=7,"ALTO","EXTREMO")))) -> BAJO | N20: =+'EVALUACION CON CONTROLES'!G25 -> 0 | O20: 2 | P20: 2 | Q20: =+O20+P20 -> 4 | R20: =IF(Q20<=4,"BAJO",IF(Q20=5,"MEDIO",IF(Q20=6,"ALTO",IF(Q20=7,"ALTO","EXTREMO")))) -> BAJO | S20: =+'EVALUACION CON CONTROLES'!M25 -> SI | T20: =+'EVALUACION CON CONTROLES'!N25 -> FDL | U20: =+'EVALUACION CON CONTROLES'!O25 -> Al iniciar la ejecución presupuestal del contrato | V20: =+'EVALUACION CON CONTROLES'!P25 -> Con el acta de liquidación y auditoría final | W20: =+'EVALUACION CON CONTROLES'!Q25 -> Auditorías, controles financieros, informes | X20: =+'EVALUACION CON CONTROLES'!R25 -> Trimestral
F22: Categoria | J22: Impacto del Riesgo
E23: Probabilidad | F23: Catagoria | G23: Valoración | J23: Categoria | L23: Valoración
F24: Raro (puede ocurrir excepcionalmente) | G24: 1 | J24: Insignificante | L24: 1
F25: Improbable (puede ocurrir ocasionalmente) | G25: 2 | J25: Menor | L25: 2
F26: Posible (puede ocurrir en cualquier momento futuro) | G26: 3 | J26: Moderado | L26: 3
F27: Probable (probablemente va a ocurrir) | G27: 4 | J27: Mayor | L27: 4
F28: Casi cierto (ocurre en la mayoria de circunstancias) | G28: 5 | J28: Catastrófico | L28: 5
D30: Valoración del Riesgo
D31: Catagoria | E31: Valoración | F31: Insignificante | H31: Menor | J31: Moderado | K31: Mayor | L31: Catastrófico | P31: Categoria del Riesgo
F32: 1 | H32: 2 | J32: 3 | K32: 4 | L32: 5 | P32: Valoración del Riesgo | S32: Categoría
D33: Raro (puede ocurrir excepcionalmente) | E33: 1 | F33: 2 | H33: 3 | J33: 4 | K33: 5 | L33: 6 | P33: 8, 9 y 10 | S33: Riesgo extremo
D34: Improbable (puede ocurrir ocasionalmente) | E34: 2 | F34: 3 | H34: 4 | J34: 5 | K34: 6 | L34: 7 | P34: 6 y 7 | S34: Riesgo alto
D35: Posible (puede ocurrir en cualquier momento futuro) | E35: 3 | F35: 4 | H35: 5 | J35: 6 | K35: 7 | L35: 8 | P35: 5 | S35: Riesgo medio
D36: Probable (probablemente va a ocurrir) | E36: 4 | F36: 5 | H36: 6 | J36: 7 | K36: 8 | L36: 9 | P36: 2, 3 y 4 | S36: Riesgo bajo
D37: Casi cierto (ocurre en la mayoria de circunstancias) | E37: 5 | F37: 6 | H37: 7 | J37: 8 | K37: 9 | L37: 10
B42: CONTRATISTA
B43: SDG
B44: CONTRATISTA Y SDG
