Workbook
Name contratación: 'IDENTIFICACION Y ANALISIS'!$B$28:$B$31
Name ejecución: 'IDENTIFICACION Y ANALISIS'!$B$33:$B$45
Name OPCIONES: 'ASIGNACION Y TRATAMIENTO'!$B$52:$B$54
Name planeación: 'IDENTIFICACION Y ANALISIS'!$B$19:$B$21
Name selección: 'IDENTIFICACION Y ANALISIS'!$B$23:$B$26

Sheet CONTEXTO
C2: MATRIZ DE RIESGOS EN CONTRATACIÓN | F2: Código: GCO-GCI-F164 Versión: 02 Vigencia: 01 de diciembre de 2022 Caso HOLA: 280117
B6: ESTABLECER EL CONTEXTO
B7: El punto inicial es identificar el contexto en el cual interactúa la Entidad Estatal para conocer el ambiente social, económico y político, e identificar (i) sus propios Riesgos; (ii) los Riesgos comunes a sus Procesos de Contratación; y (iii) los Riesgos del Proceso de Contratación en particular. (Aplica igual para contratos interadministrativos) En este paso la Entidad Estatal debe identificar los aspectos que se mencionan a continuación y los posibles efectos adversos que estos pueden generar.
B8: Objeto del Proceso de Contratación: “PRESTAR LOS SERVICIOS PARA DESARROLLAR ESTRATEGIAS ENCAMINADAS A LA PREVENCIÓN DE LAS VIOLENCIAS BASADAS EN GÉNERO Y EL FEMINICIDIO EN LA LOCALIDAD DE SUBA.”
B9: Partícipes del Proceso de Contratación: Agentes externos (Organismos de control, veedurías ciudadanas), agentes internos (supervisores, funcionarios y demás usuarios).
B10: Ciudadanía que se beneficia del Proceso de Contratación: Población estudiantil de la Localidad de Suba
B11: Capacidad de la Entidad Estatal entendida como la disponibilidad de recursos y conocimientos para el Proceso de Contratación: La disponibilidad de la Entidad de sus recursos y el conocimiento de su equipo humano se refleja en los diferentes funcionarios que participarán en las diversas etapas del proceso de selección: participan las áreas que requieren los procesos de contratación (Etapa de Planeación), Dirección de Contratación, Comité Evaluador (Etapa de selección), Dirección de Contratación (Etapa de contratación) y la supervisión y apoyos a la misma (Estapa de Ejecución).
B12: Suficiencia del presupuesto oficial del Proceso de Contratación: De acuerdo al Plan Anual de Adquisiciones se deben estimar los recursos necesarios para el desarrollo del proceso de la contratación, el cual tendrá el soporte presupuestal suficiente para su desarrollo.
B13: Condiciones geográficas y de acceso del lugar en el cual se debe cumplir el objeto del Proceso de Contratación: El suministro, obra o servicio se prestará principalmente en las Sedes de la Entidad, o en el lugar indicado en los estudios previos del proceso.
B14: Entorno socio ambiental: Si aplican
B15: Condiciones políticas: Si aplican
B16: Factores ambientales: El contratista debe manejar normas ambientales para el destino final de algunos repuestos que se retiran cuando se hace mantenimiento correctivo al sistema
B17: Sector del objeto del Proceso de Contratación y su mercado: Empresas sin animo de lucro (ESALes)
... B19: Experiencia propia y de otras Entidades Estatales en Procesos de Contratación del mismo tipo.

Sheet IDENTIFICACION Y ANALISIS
C2: MATRIZ DE RIESGOS DE CONTRATACIÓN | F2: Código: GCO-GCI-F164 Versión: 02 Vigencia: 01 de diciembre de 2022 Caso HOLA: 280117
B6: DEFINICIONES
B7: RIESGO: Evento que puede generar efectos adversos y de distinta magnitud en el logro de los objetivos del Proceso de Contratación o en la ejecución de un contrato RIESGOS PREVISIBLES: Son los posibles hechos o circunstancias que por la naturaleza del contrato y de la actividad a ejecutar es factible su ocurrencia. ETAPA DE PLANEACIÓN: Está comprendida desde el momento en que se identifican las necesidades que debe satisfacer la Secretaría Distrital de Gobierno y los Fondos de Desarrollo Local, a través del abastecimiento de bienes, obras o servicios, la elaboración del Plan Anual de Adquisiciones y la estructuración de los documentos y estudios previos. ETAPA DE SELECCIÓN: Está comprendida entre el acto de Apertura del Proceso de Contratación y la Adjudicación o la declaración de desierto del Proceso de Contratación ETAPA DE CONTRATACIÓN: Una vez adjudicado el contrato objeto del Proceso de Contratación, inicia la etapa para la celebración del contrato y el cumplimiento de los requisitos para de perfeccionamiento y ejecución. ETAPA DE EJECUCIÓN: Inicia una vez cumplidos los requisitos previstos para iniciar la ejecución del contrato respectivo y termina con el vencimiento del plazo del contrato o la fecha de liquidación si hay lugar a ella. RIESGO GENERAL: Es un riesgo de todos los procesos de contratación adelantados por la Entidad Estatal, por lo cual está presente en toda su actividad contractual. RIEGO ESPECIFICO: Es un riesgo propio del proceso de contratación objeto de análisis. RIESGOS ECONÓMICOS: Son los derivados del comportamiento del mercado, tales como la fluctuación de los precios de los insumos, desabastecimiento y especulación de los mismos, entre otros. RIESGOS SOCIALES O POLÍTICOS: son los derivados de los cambios de las políticas gubernamentales y de cambios en las condiciones sociales que tengan impacto en la ejecución del contrato. RIESGOS OPERACIONALES: Son los asociados a la operatividad del contrato, tales como la suficiencia del presupuesto oficial, del plazo o los derivados de procesos, procedimientos, parámetros, sistemas de información y tecnológicos, equipos humanos o técnicos inadecuados o insuficientes. RIESGOS FINANCIEROS: Son (i) el riesgo de consecución de financiación o riesgo de liquidez para obtener recursos para cumplir con el objeto del contrato, y (ii) el riesgo de las condiciones financieras establecidas para la obtención de los recursos, tales como plazos, tasas, garantías, contragarantías, y refinanciaciones, entre otros. RIESGOS REGULATORIOS: Derivados de cambios regulatorios o reglamentarios que afecten la ecuación económica del contrato. RIESGOS DE LA NATURALEZA: Son los eventos naturales previsibles en los cuales no hay intervención humana que puedan tener impacto en la ejecución del contrato, por ejemplo los temblores, inundaciones, lluvias, sequías, entre otros. RIESGOS AMBIENTALES: Son los derivados de las obligaciones legales o reglamentarias de carácter ambiental, así como de las licencias, planes de manejo o de permisos y autorizaciones ambientales, incluyendo tasas retributivas y compensatorias, obligaciones de mitigación, tareas de monitoreo y control, entre otras. RIESGOS TECNOLÓGICOS: Son los derivados de fallas en los sistemas de comunicación de voz y de datos, suspensión de servicios públicos, nuevos desarrollos tecnológicos o estándares que deben ser tenidos en cuenta para la ejecución del contrato, obsolescencia tecnológica.
B15: INSTRUCCIONES PARA LA IDENTIFICACIÓN, ANALISIS, EVALUACIÓN , ASIGNACIÓN Y TRATAMIENTO DE RIESGOS EN LA CONTRATACIÓN
B16: 1) Identifique los riesgos previsibles que le apliquen al objeto contractual que se adelante. Los relacionados a continuación se establecen de manera general y como proforma. No obstante, si del objeto contractual se identifican otros riesgos diferentes a los aquí determinados, por favor reemplace el texto de la casilla teniendo en cuenta la etapa del proceso. Así mismo, seleccione la clase, fuente y el tipo (Operacional, Económico, Sociales o Políticos, Regulatorios, Financieros, Tecnológicos, De la naturaleza, Ambientales) 2) Continúe en la hoja de "EVALUACIÓN" (SI EXISTEN DUDAS CONCEPTUALES PARA LA ELABORACIÓN DE LA MATRIZ DE RIESGO CONSULTE EL MANUAL PARA LA IDENTIFICACIÓN Y COBERTURA DEL RIESGO EN LOS PROCESOS DE CONTRATACIÓN EXPEDIDO POR COLOMBIA COMPRA EFICIENTE Y LA GUÍA DE RIESGOS PREVISIBLES CONTRACTUALES, EXPEDIDA POR LA VEEDURÍA DISTRITAL)
C17: ETAPAS | D17: CLASE | E17: FUENTE | F17: TIPO
C18: PLANEACIÓN
B19: Requisitos habilitantes inapropiados para el proceso de selección | D19: Especifico | E19: Interno | F19: Operacionales
B20: Declaratoria de Desierta del Proceso de Contratación, por la No Presentación de propuestas, debido a errores Involuntarios que hayan quedado en los Estudios Previos, Pliegos de Condiciones, Estudio de Sector y en general a cualquier documento que forme parte integral del mismo | D20: General | E20: Interno | F20: Economicos
B21: Inadecuada descripción del bien o servicio requerido | D21: Estatal | E21: Interno | F21: Operacionales
C22: SELECCIÓN
B23: No concurrencia de proponentes o insuficiencia de ellos en el proceso de contratación o no presentación de proponentes al proceso de Selección | D23: General | E23: Externo | F23: Operacionales
B24: Falta de claridad en la elaboración de los actos administrativos | D24: Estatal | E24: Interno | F24: Operacionales
B25: Contestación inoportuna a todas las observaciones formuladas a los documentos de la contratación | D25: Estatal | E25: Interno | F25: Operacionales
B26: No publicación de la documentación del proceso de selección en el SECOP | D26: Estatal | E26: Interno | F26: Operacionales
C27: CONTRATACIÓN
B28: Riesgo de que no se firme el contrato. | D28: General | E28: Interno | F28: Operacionales
B29: Falta de constitución o constitución tardía de la garantía única. Aceptación de garantías que no se ajustan a lo contemplado en el contrato | D29: General | E29: Externo | F29: Operacionales
B30: Falta de solicitud o solicitud tardía del registro presupuestal | D30: Estatal | E30: Interno | F30: Operacionales
B31: Presentación de reclamos de terceros sobre la selección del oferente que retrasen el perfeccionamiento del contrato. | D31: Especifico | E31: Externo | F31: Operacionales
C32: EJECUCIÓN
B33: Fluctuaciones del valor de la moneda | D33: Especifico | E33: Externo | F33: Economicos
B34: Cambio de precios en factores de producción. | D34: General | E34: Externo | F34: Economicos
B35: Variación de los precios del mercado | D35: General | E35: Externo | F35: Economicos
B36: Variación en la disponibilidad o en el costo de los insumos necesarios para prestar los servicios. | D36: General | E36: Externo | F36: Economicos
B37: Incumplimiento de compromisos adquiridos por el contratista seleccionado con sus subcontratistas, suministradores de bienes y servicios. | D37: Especifico | E37: Externo | F37: Economicos
B38: Incumplimiento de la administración en los pagos. | D38: Estatal | E38: Externo | F38: Economicos
B39: Daños a los equipos objeto de mantenimiento y/o otros bienes | D39: Especifico | E39: Externo | F39: Operacionales
B40: Imposición de nuevos tributos | D40: Estatal | E40: Externo | F40: Regulatorios
B41: Imposición de nuevos trámites o permisos | D41: Estatal | E41: Externo | F41: Regulatorios
B42: Cambios en el marco regulatorio o normatividad aplicable al proyecto. | D42: Estatal | E42: Externo | F42: Regulatorios
B43: Demoras y retrasos en la ejecución del contrato atribuibles a la falta o falla en las actividades a cargo del contratista. | D43: General | E43: Interno | F43: Operacionales
B44: Calidad de las obras | D44: General | E44: Externo | F44: Operacionales
B45: Mayor tiempo del previsto en la ejecución del contrato y en la ejecución de actividades, que afecten el desarrollo normal del contrato por retrasos y/o demoras en tramites de importación (si aplica). | D45: Especifico | E45: Externo | F45: Técnologicos
B50: General
B51: Estatal
B52: Especifico
B54: Interno
B55: Externo

Sheet EVALUACION
C2: MATRIZ DE RIESGOS DE CONTRATACIÓN | K2: Código: GCO-GCI-F164 Versión: 02 Vigencia: 01 de diciembre de 2022 Caso HOLA: 280117
B6: Objeto Contractual: “PRESTAR LOS SERVICIOS PARA DESARROLLAR ESTRATEGIAS ENCAMINADAS A LA PREVENCIÓN DE LAS VIOLENCIAS BASADAS EN GÉNERO Y EL FEMINICIDIO EN LA LOCALIDAD DE SUBA.”
B7: INSTRUCCIONES PARA LA IDENTIFICACIÓN, ANALISIS, EVALUACIÓN , ASIGNACIÓN Y TRATAMIENTO DE RIESGOS EN LA CONTRATACIÓN
B8: 1) Diligencie el objeto contractual y seleccione la(s) etapas y los riesgos que aplican al objeto contractual, de acuerdo a lo definido en la hoja de "IDENTIFICACIÓN Y ANÁLISIS"
B9: 2) Describa las consecuencias de la ocurrencia del Riesgo/evento.
B10: 3) Asigne la probabilidad de ocurrencia del riesgo, de conformidad con la tabla de probabilidad y la valoración del riesgo (Cualitativa o Monetaria)
B11: 4) Asigne el impacto que generaría la materialización del riesgo, de conformidad con la tabla de impacto y la valoración del riesgo (Cualitativa o Monetaria)
B12: 5) Al realizar las anteriores actividades se obtendrá la calificación total y la valoración del riesgo (prioridad).
B13: 6) Continúe en la hoja de "EVALUACIÓN DE CONTROLES"
B15: CALIFICACIÓN | H15: Cualitativa
B16: ETAPA | C16: Descripción (Que puede pasar y, cómo puede ocurrir) | H16: Consecuencias de la ocurrencia del evento | I16: Probabilidad de Ocurrencia | J16: Impacto | K16: Calificación Total | L16: Prioridad
B17: SELECCIÓN | C17: Inadecuada evaluación de las ofertas y/o verificación de requisitos habilitantes | H17: Adjudicación a un proponente sin la capacidad técnica o la experiencia en temas de salud sexual y reproductiva y violencia intrafamiliar, con capacitaciones de baja calidad. También puede dar lugar a reclamaciones, nulidad del proceso. | I17: 4 | J17: 4 | K17: 4 | L17: =IF(K17<=4,"BAJO",IF(K17=5,"MEDIO",IF(K17=6,"ALTO",IF(K17=7,"ALTO","EXTREMO")))) -> BAJO
B18: PLANEACIÓN | C18: Declaratoria de Desierta del Proceso de Contratación, por la No Presentación de propuestas, debido a errores Involuntarios que hayan quedado en los Estudios Previos, Pliegos de Condiciones, Estudio de Sector y en general a cualquier documento que forme parte integral del mismo | H18: Reprocesos y retraso en el inicio de las capacitaciones, pérdida de la oportunidad de ejecutar la vigencia presupuestal y riesgo de incumplir las metas del proyecto y los compromisos con la comunidad. | I18: 5 | J18: 2 | K18: =+I18+J18 -> 7 | L18: =IF(K18<=4,"BAJO",IF(K18=5,"MEDIO",IF(K18=6,"ALTO",IF(K18=7,"ALTO","EXTREMO")))) -> ALTO
B19: PLANEACIÓN | C19: Requisitos habilitantes inapropiados para el proceso de selección | H19: Se limita la pluralidad de oferentes o se habilita a proponentes sin idoneidad. Esto reduce la calidad del servicio o lleva a que el proceso quede desierto. | I19: 5 | J19: 2 | K19: =+I19+J19 -> 7 | L19: =IF(K19<=4,"BAJO",IF(K19=5,"MEDIO",IF(K19=6,"ALTO",IF(K19=7,"ALTO","EXTREMO")))) -> ALTO
B20: PLANEACIÓN | C20: Inadecuada descripción del bien o servicio requerido | H20: Se contrata un servicio que no responde a la necesidad: contenidos, metodología o población objetivo mal definidos. Pueden surgir modificaciones contractuales, adiciones no previstas y baja efectividad de los eventos. | I20: 2 | J20: 2 | K20: =+I20+J20 -> 4 | L20: =IF(K20<=4,"BAJO",IF(K20=5,"MEDIO",IF(K20=6,"ALTO",IF(K20=7,"ALTO","EXTREMO")))) -> BAJO
B21: SELECCIÓN | C21: Inadecuado manejo administrativo del proceso contractual | H21: Errores de trámite que generan demoras, observaciones de los órganos de control, posibles nulidades y hallazgos administrativos. | I21: 4 | J21: 3 | K21: =+I21+J21 -> 7 | L21: =IF(K21<=4,"BAJO",IF(K21=5,"MEDIO",IF(K21=6,"ALTO",IF(K21=7,"ALTO","EXTREMO")))) -> ALTO
B22: SELECCIÓN | C22: Falta de claridad en la elaboración de los actos administrativos | H22: Interpretaciones erróneas, recursos y demandas de los proponentes, y retrasos en la adjudicación. Puede llegar a la revocatoria o nulidad del acto. | I22: 2 | J22: 2 | K22: =+I22+J22 -> 4 | L22: =IF(K22<=4,"BAJO",IF(K22=5,"MEDIO",IF(K22=6,"ALTO",IF(K22=7,"ALTO","EXTREMO")))) -> BAJO
B23: SELECCIÓN | C23: Contestación inoportuna a todas las observaciones formuladas a los documentos de la contratación | H23: Vulneración de los principios de transparencia y publicidad, con reclamaciones o quejas ante organismos de control y posible suspensión o retraso del cronograma. | I23: 3 | J23: 2 | K23: =+I23+J23 -> 5 | L23: =IF(K23<=4,"BAJO",IF(K23=5,"MEDIO",IF(K23=6,"ALTO",IF(K23=7,"ALTO","EXTREMO")))) -> MEDIO
B24: SELECCIÓN | C24: No publicación de la documentación del proceso de selección en el SECOP | H24: Incumplimiento de la normatividad de contratación pública, con sanciones disciplinarias y hallazgos de control. También puede ocurrir que el proceso pierda validez y deba repetirse. | I24: 1 | J24: 1 | K24: =+I24+J24 -> 2 | L24: =IF(K24<=4,"BAJO",IF(K24=5,"MEDIO",IF(K24=6,"ALTO",IF(K24=7,"ALTO","EXTREMO")))) -> BAJO
B25: CONTRATACIÓN | C25: Riesgo de que no se firme el contrato. | H25: Retraso o pérdida de la ejecución de las capacitaciones y eventos, necesidad de adjudicar al siguiente proponente o reiniciar el proceso, y afectación a la población que iba a ser atendida. | I25: 1 | J25: 1 | K25: =+I25+J25 -> 2 | L25: =IF(K25<=4,"BAJO",IF(K25=5,"MEDIO",IF(K25=6,"ALTO",IF(K25=7,"ALTO","EXTREMO")))) -> BAJO
B26: CONTRATACIÓN | C26: Falta de constitución o constitución tardía de la garantía única. Aceptación de garantías que no se ajustan a lo contemplado en el contrato | H26: Retraso en el perfeccionamiento y el acta de inicio. La entidad queda sin respaldo ante incumplimientos o daños, con posible detrimento patrimonial. | I26: 1 | J26: 1 | K26: =+I26+J26 -> 2 | L26: =IF(K26<=4,"BAJO",IF(K26=5,"MEDIO",IF(K26=6,"ALTO",IF(K26=7,"ALTO","EXTREMO")))) -> BAJO
B27: CONTRATACIÓN | C27: No publicación de la documentación del proceso de selección en el SECOP | H27: Falta de publicidad del contrato y sus soportes, lo que puede generar sanciones y hallazgos de los órganos de control. Además, no se puede iniciar ni pagar la ejecución sin el cumplimiento de este requisito. | I27: 3 | J27: 2 | K27: =+I27+J27 -> 5 | L27: =IF(K27<=4,"BAJO",IF(K27=5,"MEDIO",IF(K27=6,"ALTO",IF(K27=7,"ALTO","EXTREMO")))) -> MEDIO
B28: CONTRATACIÓN | C28: Presentación de reclamos de terceros sobre la selección del oferente que retrasen el perfeccionamiento del contrato. | H28: Suspensión o retraso del perfeccionamiento del contrato, desgaste jurídico y administrativo, y posible retraso del cronograma de capacitaciones. | I28: 2 | J28: 2 | K28: =+I28+J28 -> 4 | L28: =IF(K28<=4,"BAJO",IF(K28=5,"MEDIO",IF(K28=6,"ALTO",IF(K28=7,"ALTO","EXTREMO")))) -> BAJO
B29: EJECUCIÓN | C29: Incumplimiento de la administración en los pagos. | H29: Afectación del flujo de caja del contratista, que puede reducir la calidad del servicio o suspender los eventos. Pueden aparecer reclamaciones económicas, intereses de mora y desequilibrio contractual. | I29: 3 | J29: 3 | K29: =+I29+J29 -> 6 | L29: =IF(K29<=4,"BAJO",IF(K29=5,"MEDIO",IF(K29=6,"ALTO",IF(K29=7,"ALTO","EXTREMO")))) -> ALTO
... B37: EJECUCIÓN | C37: Uso indebido o filtración de datos personales de las participantes | H37: Vulneración del derecho a la protección de datos personales, riesgo para la seguridad de mujeres en situación de violencia y posibles sanciones para el contratista y la entidad. | I37: 2 | J37: 3 | K37: =+I37+J37 -> 5 | L37: =IF(K37<=4,"BAJO",IF(K37=5,"MEDIO",IF(K37=6,"ALTO",IF(K37=7,"ALTO","EXTREMO")))) -> MEDIO
B40: Probabilidad | C40: Catagoria | E40: Valoración | G40: Impacto | H40: Categoria | I40: Valoración
C41: Raro (puede ocurrir excepcionalmente) | E41: 1 | H41: Insignificante | I41: 1
C42: Improbable (puede ocurrir ocasionalmente) | E42: 2 | H42: Menor | I42: 2
C43: Posible (puede ocurrir en cualquier momento futuro) | E43: 3 | H43: Moderado | I43: 3
C44: Probable (probablemente va a ocurrir) | E44: 4 | H44: Mayor | I44: 4
C45: Casi cierto (ocurre en la mayoria de circunstancias) | E45: 5 | H45: Catastrófico | I45: 5
C47: Valoración del Riesgo
C48: Calificación Cualitativa | F48: Obstruye la ejecución del contrato de manera intrascendente. | G48: Dificulta la ejecución del contrato de manera baja, aplicando medidas mínimas se pueden lograr el objeto contractual | H48: Afecta la ejecución del contrato sin alterar el beneficio para las partes | I48: Obstruye la ejecución del contrato sustancialmente pero aun así permite la consecución del objeto contractual | K48: Perturba la ejecución del contrato de manera grave imposibilitando la consecución del objeto contractual.
C49: Calificación Monetaria | F49: Los sobrecostos no representan más del uno por ciento (1%) del valor del contrato. | G49: Los sobrecostos no representan más del cinco por ciento (5%) del valor del contrato. | H49: Genera un impacto sobre el valor del contrato entre el cinco (5%) y el quince por ciento (15%). | I49: Incrementa el valor del contrato entre el quince (15%) y el treinta por ciento (30%). | K49: Impacto sobre el valor del contrato en más del treinta por ciento (30%).
C50: Categoría | E50: Valoración | F50: Insignificante | G50: Menor | H50: Moderado | I50: Mayor | K50: Catastrófico
F51: 1 | G51: 2 | H51: 3 | I51: 4 | K51: 5
C52: Raro (puede ocurrir excepcionalmente) | E52: 1 | F52: 2 | G52: 3 | H52: 4 | I52: 5 | K52: 6
C53: Improbable (puede ocurrir ocasionalmente) | E53: 2 | F53: 3 | G53: 4 | H53: 5 | I53: 6 | K53: 7
C54: Posible (puede ocurrir en cualquier momento futuro) | E54: 3 | F54: 4 | G54: 5 | H54: 6 | I54: 7 | K54: 8
C55: Probable (probablemente va a ocurrir) | E55: 4 | F55: 5 | G55: 6 | H55: 7 | I55: 8 | K55: 9
...

Sheet EVALUACION CON CONTROLES
C2: MATRIZ DE RIESGOS DE CONTRATACIÓN | P2: Código: GCO-GCI-F164 Versión: 02 Vigencia: 01 de diciembre de 2022 Caso HOLA: 280117
B6: =+EVALUACION!B6 -> Objeto Contractual: “PRESTAR LOS SERVICIOS PARA DESARROLLAR ESTRATEGIAS ENCAMINADAS A LA PREVENCIÓN DE LAS VIOLENCIAS BASADAS EN GÉNERO Y EL FEMINICIDIO EN LA LOCALIDAD DE SUBA.”
B7: INSTRUCCIONES PARA LA IDENTIFICACIÓN, ANALISIS, EVALUACIÓN , ASIGNACIÓN Y TRATAMIENTO DE RIESGOS EN LA CONTRATACIÓN
B8: 1) Describa el tratamiento/controles a ser implementados
B9: 2) Diligencie la información de las siguientes columnas, de acuerdo con el análisis realizado a cada riesgo: Afecta el equilibrio económico, persona responsable de implementar el tratamiento, fecha estimada de inicio del tratamiento, fecha estimada en la que se completa el tratamiento, cómo se realiza el monitoreo y la periodicidad.
B10: 3) Continúe en la hoja de "ASIGNACIÓN Y TRATAMIENTO" y diligencie las siguientes casillas: A quien se le asigna y el porcentaje que asume cada una de las partes en caso de que sea compartido.
B15: ETAPA | C15: Descripción (Que puede pasar y, cómo puede ocurrir) | G15: Tratamiento/Controles a ser implementados | H15: Probabilidad de Ocurrencia | I15: Impacto | J15: Calificación Total | K15: Prioridad | L15: ¿Afecta el equilibrio económico del contrato? | M15: Persona responsable por implementar el tratamiento | N15: Fecha estimada en que se inicia el tratamiento | O15: Fecha estimada en que se completa el tratamiento | P15: ¿Cómo se realiza el monitoreo? | Q15: Periodicidad ¿Cuándo?
B16: =+EVALUACION!B17 -> SELECCIÓN | C16: =+EVALUACION!C17 -> Inadecuada evaluación de las ofertas y/o verificación de requisitos habilitantes | G16: Conformar un comité evaluador con perfiles jurídico, técnico y financiero. Evaluar las propuestas con los criterios sugeridos por Colombia Compra Eficiente, incluida la revisión de precios artificialmente bajos, y realizar las aclaraciones necesarias durante el proceso. | H16: =+EVALUACION!I17 -> 4 | I16: =+EVALUACION!J17 -> 4 | J16: =+H16+I16 -> 8 | K16: =IF(J16<=4,"BAJO",IF(J16=5,"MEDIO",IF(J16=6,"ALTO",IF(J16=7,"ALTO","EXTREMO")))) -> EXTREMO | L16: No | M16: Comité evaluador | N16: Al cierre del proceso de selección | O16: Al publicar el informe definitivo de evaluación | P16: Revisión del informe de evaluación con listas de chequeo y matriz de evaluación | Q16: Una vez por proceso de selección
B17: =+EVALUACION!B18 -> PLANEACIÓN | C17: =+EVALUACION!C18 -> Declaratoria de Desierta del Proceso de Contratación, por la No Presentación de propuestas, debido a errores Involuntarios que hayan quedado en los Estudios Previos, Pliegos de Condiciones, Estudio de Sector y en general a cualquier documento que forme parte integral del mismo | G17: Efectuar revisiones jurídicas y técnicas en cada etapa de elaboración de los estudios previos, el estudio de sector y los pliegos de condiciones, verificando su coherencia antes de publicar. | H17: =+EVALUACION!I18 -> 5 | I17: =+EVALUACION!J18 -> 2 | J17: =+H17+I17 -> 7 | K17: =IF(J17<=4,"BAJO",IF(J17=5,"MEDIO",IF(J17=6,"ALTO",IF(J17=7,"ALTO","EXTREMO")))) -> ALTO | L17: No | M17: Equipo formulador y área jurídica | N17: Al iniciar la elaboración de los estudios previos | O17: Antes de publicar el proyecto de pliego | P17: Lista de verificación de coherencia entre documentos y revisión de observaciones recibidas | Q17: En cada etapa de elaboración de documentos
B18: =+EVALUACION!B19 -> PLANEACIÓN | C18: =+EVALUACION!C19 -> Requisitos habilitantes inapropiados para el proceso de selección | G18: Revisar los requisitos habilitantes con expertos en contratación, de modo que la experiencia exigida en cuidado, enfoque de género y prevención de violencias contra las mujeres sea proporcional al valor y la complejidad del contrato. Validarlos con el área técnica y con las partes interesadas antes de publicar. | H18: =+EVALUACION!I19 -> 5 | I18: =+EVALUACION!J19 -> 2 | J18: =+H18+I18 -> 7 | K18: =IF(J18<=4,"BAJO",IF(J18=5,"MEDIO",IF(J18=6,"ALTO",IF(J18=7,"ALTO","EXTREMO")))) -> ALTO | L18: No | M18: Equipo formulador, área técnica y área jurídica | N18: Al definir los requisitos en el estudio de sector | O18: Antes de publicar el proyecto de pliego | P18: Validación de requisitos con expertos y análisis de observaciones de interesados | Q18: Una vez, antes de publicar
B19: =+EVALUACION!B20 -> PLANEACIÓN | C19: =+EVALUACION!C20 -> Inadecuada descripción del bien o servicio requerido | G19: Revisar con el comité técnico los términos de referencia, asegurando que las estrategias de cuidado, las acciones de sensibilización, formación y participación, la población objetivo, el número de sesiones y los productos estén claros y respondan a la necesidad de la localidad. | H19: =+EVALUACION!I20 -> 2 | I19: =+EVALUACION!J20 -> 2 | J19: =+H19+I19 -> 4 | K19: =IF(J19<=4,"BAJO",IF(J19=5,"MEDIO",IF(J19=6,"ALTO",IF(J19=7,"ALTO","EXTREMO")))) -> BAJO | L19: No | M19: Comité técnico | N19: Al redactar los términos de referencia | O19: Antes de publicar el pliego definitivo | P19: Revisión de la descripción del servicio frente a la necesidad identificada | Q19: Una vez, con ajustes según observaciones
B20: =+EVALUACION!B21 -> SELECCIÓN | C20: =+EVALUACION!C21 -> Inadecuado manejo administrativo del proceso contractual | G20: Implementar un sistema de gestión documental y un cronograma con responsables. Capacitar periódicamente al equipo administrativo en procedimientos internos y buenas prácticas. | H20: =+EVALUACION!I21 -> 4 | I20: =+EVALUACION!J21 -> 3 | J20: =+H20+I20 -> 7 | K20: =IF(J20<=4,"BAJO",IF(J20=5,"MEDIO",IF(J20=6,"ALTO",IF(J20=7,"ALTO","EXTREMO")))) -> ALTO | L20: No | M20: Profesional administrativo del proceso | N20: Al abrir el proceso de selección | O20: Al adjudicar | P20: Seguimiento al cronograma y revisión del expediente contractual | Q20: Quincenal
B21: =+EVALUACION!B22 -> SELECCIÓN | C21: =+EVALUACION!C22 -> Falta de claridad en la elaboración de los actos administrativos | G21: Estandarizar los formatos y procedimientos para elaborar actos administrativos, con revisión jurídica antes de la firma. | H21: =+EVALUACION!I22 -> 2 | I21: =+EVALUACION!J22 -> 2 | J21: =+H21+I21 -> 4 | K21: =IF(J21<=4,"BAJO",IF(J21=5,"MEDIO",IF(J21=6,"ALTO",IF(J21=7,"ALTO","EXTREMO")))) -> BAJO | L21: No | M21: Área jurídica | N21: Al proyectar cada acto administrativo | O21: Antes de la firma de cada acto | P21: Revisión jurídica con formatos estandarizados | Q21: Cada vez que se elabore un acto
B22: =+EVALUACION!B23 -> SELECCIÓN | C22: =+EVALUACION!C23 -> Contestación inoportuna a todas las observaciones formuladas a los documentos de la contratación | G22: Definir tiempos máximos de respuesta según el tipo de observación y establecer un protocolo de gestión de comentarios, con un responsable y un registro de fechas. | H22: =+EVALUACION!I23 -> 3 | I22: =+EVALUACION!J23 -> 2 | J22: =+H22+I22 -> 5 | K22: =IF(J22<=4,"BAJO",IF(J22=5,"MEDIO",IF(J22=6,"ALTO",IF(J22=7,"ALTO","EXTREMO")))) -> MEDIO | L22: No | M22: Profesional designado para responder observaciones | N22: Al publicar el proyecto de pliego | O22: Al vencer el plazo de observaciones | P22: Registro de observaciones con fecha límite de respuesta | Q22: Diaria durante el plazo de observaciones
B23: =+EVALUACION!B24 -> SELECCIÓN | C23: =+EVALUACION!C24 -> No publicación de la documentación del proceso de selección en el SECOP | G23: Implementar un cronograma de publicación en el SECOP y realizar auditorías internas para verificar su cumplimiento. | H23: =+EVALUACION!I24 -> 1 | I23: =+EVALUACION!J24 -> 1 | J23: =+H23+I23 -> 2 | K23: =IF(J23<=4,"BAJO",IF(J23=5,"MEDIO",IF(J23=6,"ALTO",IF(J23=7,"ALTO","EXTREMO")))) -> BAJO | L23: No | M23: Profesional responsable de la publicación en SECOP | N23: Al abrir el proceso | O23: Al publicar el último documento de selección | P23: Auditoría interna con lista de chequeo de documentos publicados | Q23: Semanal durante el proceso
B24: =+EVALUACION!B25 -> CONTRATACIÓN | C24: =+EVALUACION!C25 -> Riesgo de que no se firme el contrato. | G24: Hacer seguimiento riguroso a los tiempos de firma, con alertas para evitar retrasos en la formalización. Si el adjudicatario no firma, aplicar lo previsto en el pliego y evaluar adjudicar al siguiente proponente. | H24: =+EVALUACION!I25 -> 1 | I24: =+EVALUACION!J25 -> 1 | J24: =+H24+I24 -> 2 | K24: =IF(J24<=4,"BAJO",IF(J24=5,"MEDIO",IF(J24=6,"ALTO",IF(J24=7,"ALTO","EXTREMO")))) -> BAJO | L24: No | M24: Ordenador del gasto y área jurídica | N24: Al comunicar la adjudicación | O24: Al firmar el contrato | P24: Alertas de plazos de firma y verificación de documentos del adjudicatario | Q24: Diaria hasta la firma
B25: =+EVALUACION!B26 -> CONTRATACIÓN | C25: =+EVALUACION!C26 -> Falta de constitución o constitución tardía de la garantía única. Aceptación de garantías que no se ajustan a lo contemplado en el contrato | G25: Exigir la constitución de la garantía dentro de un plazo máximo después de la adjudicación, verificar su cumplimiento con alertas y revisar jurídicamente la póliza antes de aprobarla. No firmar el acta de inicio sin garantía aprobada. | H25: =+EVALUACION!I26 -> 1 | I25: =+EVALUACION!J26 -> 1 | J25: =+H25+I25 -> 2 | K25: =IF(J25<=4,"BAJO",IF(J25=5,"MEDIO",IF(J25=6,"ALTO",IF(J25=7,"ALTO","EXTREMO")))) -> BAJO | L25: No | M25: Área jurídica y supervisor | N25: Al firmar el contrato | O25: Al aprobar la garantía y firmar el acta de inicio | P25: Alertas de plazo de constitución y revisión de la póliza | Q25: Semanal hasta su aprobación
B26: =+EVALUACION!B27 -> CONTRATACIÓN | C26: =+EVALUACION!C27 -> No publicación de la documentación del proceso de selección en el SECOP | G26: Implementar un cronograma de publicación en el SECOP y realizar auditorías internas para verificar su cumplimiento. | H26: =+EVALUACION!I27 -> 3 | I26: =+EVALUACION!J27 -> 2 | J26: =+H26+I26 -> 5 | K26: =IF(J26<=4,"BAJO",IF(J26=5,"MEDIO",IF(J26=6,"ALTO",IF(J26=7,"ALTO","EXTREMO")))) -> MEDIO | L26: No | M26: Profesional responsable de la publicación en SECOP | N26: Al firmar el contrato | O26: Al publicar contrato, garantías y demás soportes | P26: Auditoría interna con lista de chequeo | Q26: Una vez por contrato, con verificación mensual
B27: =+EVALUACION!B28 -> CONTRATACIÓN | C27: =+EVALUACION!C28 -> Presentación de reclamos de terceros sobre la selección del oferente que retrasen el perfeccionamiento del contrato. | G27: Definir una estrategia de resolución temprana de controversias, con un equipo jurídico preparado para responder de forma ágil y con soportes a los reclamos. | H27: =+EVALUACION!I28 -> 2 | I27: =+EVALUACION!J28 -> 2 | J27: =+H27+I27 -> 4 | K27: =IF(J27<=4,"BAJO",IF(J27=5,"MEDIO",IF(J27=6,"ALTO",IF(J27=7,"ALTO","EXTREMO")))) -> BAJO | L27: No | M27: Área jurídica | N27: Al presentarse el reclamo | O27: Al resolver el reclamo | P27: Seguimiento a los términos de respuesta y a las decisiones adoptadas | Q27: Semanal mientras haya reclamos
... B33: =+EVALUACION!B34 -> EJECUCIÓN | C33: =+EVALUACION!C34 -> Mayor tiempo del previsto en la ejecución del contrato y en la ejecución de actividades, que afecten el desarrollo normal del contrato por retrasos y/o demoras en tramites de importación (si aplica). | G33: Realizar una planificación detallada antes del inicio de las actividades y establecer sanciones por retrasos injustificados. | H33: =+EVALUACION!I34 -> 1 | I33: =+EVALUACION!J34 -> 1 | J33: =+H33+I33 -> 2 | K33: =IF(J33<=4,"BAJO",IF(J33=5,"MEDIO",IF(J33=6,"ALTO",IF(J33=7,"ALTO","EXTREMO")))) -> BAJO | L33: No | M33: Supervisor del contrato | N33: Al firmar el contrato | O33: Al firmar el acta de inicio | P33: Verificación del plan de trabajo y cronograma antes del inicio | Q33: Una vez, con seguimiento semanal hasta el inicio
B34: =+EVALUACION!B34 -> EJECUCIÓN | C34: =+EVALUACION!C34 -> Mayor tiempo del previsto en la ejecución del contrato y en la ejecución de actividades, que afecten el desarrollo normal del contrato por retrasos y/o demoras en tramites de importación (si aplica). | G34: Establecer hitos de control en el cronograma y revisiones periódicas con el contratista, solicitando con anticipación los bienes importados o sustituyéndolos por equivalentes nacionales. | H34: =+EVALUACION!I34 -> 1 | I34: =+EVALUACION!J34 -> 1 | J34: =+H34+I34 -> 2 | K34: =IF(J34<=4,"BAJO",IF(J34=5,"MEDIO",IF(J34=6,"ALTO",IF(J34=7,"ALTO","EXTREMO")))) -> BAJO | L34: No | M34: Supervisor del contrato | N34: Al aprobar el plan de trabajo | O34: Hasta la entrega de los bienes | P34: Revisión de hitos de entrega en el cronograma | Q34: Quincenal
B35: =+EVALUACION!B35 -> EJECUCIÓN | C35: =+EVALUACION!C35 -> Demoras y retrasos en la ejecución del contrato atribuibles a la falta o falla en las actividades a cargo del contratista. | G35: Establecer un sistema de multas y penalidades por incumplimiento del cronograma de actividades, con requerimientos por escrito y planes de mejora. | H35: =+EVALUACION!I35 -> 4 | I35: =+EVALUACION!J35 -> 3 | J35: =+H35+I35 -> 7 | K35: =IF(J35<=4,"BAJO",IF(J35=5,"MEDIO",IF(J35=6,"ALTO",IF(J35=7,"ALTO","EXTREMO")))) -> ALTO | L35: No | M35: Supervisor del contrato | N35: Desde el inicio de la ejecución | O35: Hasta el final de la ejecución | P35: Informes de supervisión, verificación de asistencia a las actividades y cumplimiento de metas de cobertura | Q35: Mensual
B36: =+EVALUACION!B36 -> EJECUCIÓN | C36: Situaciones de riesgo o violencia contra participantes durante las actividades, sin activación oportuna de la ruta de atención | G36: Contar con un protocolo de atención y activación de rutas con las instancias competentes (comisarías de familia, Casa de Igualdad de Oportunidades, Línea Púrpura Distrital, entre otras). Exigir perfiles con formación en enfoque de género y atención psicosocial, y protocolo de manejo de casos durante los eventos. | H36: 3 | I36: 4 | J36: =+H36+I36 -> 7 | K36: =IF(J36<=4,"BAJO",IF(J36=5,"MEDIO",IF(J36=6,"ALTO",IF(J36=7,"ALTO","EXTREMO")))) -> ALTO | L36: No | M36: Supervisor del contrato y contratista | N36: Antes del primer evento | O36: Hasta el final de la ejecución | P36: Revisión de reportes de casos y verificación de la activación de las rutas | Q36: Mensual, y de inmediato cuando ocurra un caso
B37: =+EVALUACION!B37 -> EJECUCIÓN | C37: Uso indebido o filtración de datos personales de las participantes | G37: Incluir cláusulas de confidencialidad y de tratamiento de datos personales, usar consentimientos informados, restringir el acceso a los listados de asistencia y definir el manejo seguro de los registros. | H37: 2 | I37: 3 | J37: =+H37+I37 -> 5 | K37: =IF(J37<=4,"BAJO",IF(J37=5,"MEDIO",IF(J37=6,"ALTO",IF(J37=7,"ALTO","EXTREMO")))) -> MEDIO | L37: No | M37: Supervisor del contrato y área jurídica | N37: Al firmar el contrato | O37: Al liquidar el contrato | P37: Verificación de consentimientos y de las medidas de custodia de los registros | Q37: Trimestral
C39: Categoria del Riesgo
B40: Probabilidad | C40: Catagoria | F40: Valoración | I40: Valoración | M40: Categoria del Riesgo
C41: Raro (puede ocurrir excepcionalmente) | F41: 1 | I41: 1 | M41: Valoración del Riesgo | O41: Categoría
C42: Improbable (puede ocurrir ocasionalmente) | F42: 2 | I42: 2 | M42: 8, 9 y 10 | O42: Riesgo extremo
C43: Posible (puede ocurrir en cualquier momento futuro) | F43: 3 | I43: 3 | M43: 6 y 7 | O43: Riesgo alto
C44: Probable (probablemente va a ocurrir) | F44: 4 | I44: 4 | M44: 5 | O44: Riesgo medio
C45: Casi cierto (ocurre en la mayoria de circunstancias) | F45: 5 | I45: 5 | M45: 2, 3 y 4 | O45: Riesgo bajo
C47: Valoración del Riesgo
C48: Calificación Cualitativa | G48: Obstruye la ejecución del contrato de manera intrascendente. | H48: Dificulta la ejecución del contrato de manera baja, aplicando medidas mínimas se pueden lograr el objeto contractual | K48: Afecta la ejecución del contrato sin alterar el beneficio para las partes | M48: Obstruye la ejecución del contrato sustancialmente pero aun así permite la consecución del objeto contractual | O48: Perturba la ejecución del contrato de manera grave imposibilitando la consecución del objeto contractual.
C49: Calificación Monetaria | G49: Los sobrecostos no representan más del uno por ciento (1%) del valor del contrato. | H49: Los sobrecostos no representan más del cinco por ciento (5%) del valor del contrato. | K49: Genera un impacto sobre el valor del contrato entre el cinco (5%) y el quince por ciento (15%). | M49: Incrementa el valor del contrato entre el quince (15%) y el treinta por ciento (30%). | O49: Impacto sobre el valor del contrato en más del treinta por ciento (30%).
C50: Catagoria | F50: Valoración | G50: Insignificante | H50: Menor | K50: Moderado | M50: Mayor | O50: Catastrófico
G51: 1 | H51: 2 | K51: 3 | M51: 4 | O51: 5
C52: Raro (puede ocurrir excepcionalmente) | F52: 1 | G52: 2 | H52: 3 | K52: 4 | M52: 5 | O52: 6
C53: Improbable (puede ocurrir ocasionalmente) | F53: 2 | G53: 3 | H53: 4 | K53: 5 | M53: 6 | O53: 7
C54: Posible (puede ocurrir en cualquier momento futuro) | F54: 3 | G54: 4 | H54: 5 | K54: 6 | M54: 7 | O54: 8
C55: Probable (probablemente va a ocurrir) | F55: 4 | G55: 5 | H55: 6 | K55: 7 | M55: 8 | O55: 9
...

Sheet ASIGNACION Y TRATAMIENTO
C2: MATRIZ DE RIESGOS DE CONTRATACIÓN | W2: Código: GCO-GCI-F164 Versión: 02 Vigencia: 01 de diciembre de 2022 Caso HOLA: 280117
B6: =+EVALUACION!B6 -> Objeto Contractual: “PRESTAR LOS SERVICIOS PARA DESARROLLAR ESTRATEGIAS ENCAMINADAS A LA PREVENCIÓN DE LAS VIOLENCIAS BASADAS EN GÉNERO Y EL FEMINICIDIO EN LA LOCALIDAD DE SUBA.”
B7: Esta matriz es un documento anexo del Estudio Previo
B10: No | C10: Descripción (Que puede pasar y, cómo puede ocurrir) | D10: Etapa | E10: Clase | F10: Fuente | G10: Consecuencias de la ocurrencia del evento | H10: Probabilidad | I10: Impacto | J10: Calificación total | K10: Prioridad | L10: ¿A quien se le asigna? | M10: % | N10: Tratamiento/Controles a ser implementados | O10: Probabilidad | P10: Impacto | Q10: Calificación total | R10: Prioridad | S10: ¿Afecta el equilibrio económico del contrato? | T10: Persona responsable por implementar el tratamiento | U10: Fecha estimada en que se inicia el tratamiento | V10: Fecha estimada en que se completa el tratamiento | W10: ¿Cómo se realiza el monitoreo | X10: Periodicidad ¿Cuándo?
B11: 1 | C11: =+'EVALUACION CON CONTROLES'!C16:F16 -> Inadecuada evaluación de las ofertas y/o verificación de requisitos habilitantes | D11: =+'EVALUACION CON CONTROLES'!B16 -> SELECCIÓN | E11: Especifico | F11: INTERNO | G11: =+EVALUACION!H17 -> Adjudicación a un proponente sin la capacidad técnica o la experiencia en temas de salud sexual y reproductiva y violencia intrafamiliar, con capacitaciones de baja calidad. También puede dar lugar a reclamaciones, nulidad del proceso. | H11: =+EVALUACION!I17 -> 4 | I11: =+EVALUACION!J17 -> 4 | J11: =+EVALUACION!K17 -> 4 | K11: =+EVALUACION!L17 -> BAJO | L11: SDG | M11: 100 | N11: =+'EVALUACION CON CONTROLES'!G16 -> Conformar un comité evaluador con perfiles jurídico, técnico y financiero. Evaluar las propuestas con los criterios sugeridos por Colombia Compra Eficiente, incluida la revisión de precios artificialmente bajos, y realizar las aclaraciones necesarias durante el proceso. | O11: =+'EVALUACION CON CONTROLES'!H16 -> 4 | P11: =+'EVALUACION CON CONTROLES'!I16 -> 4 | Q11: =+'EVALUACION CON CONTROLES'!J16 -> 8 | R11: =+'EVALUACION CON CONTROLES'!K16 -> EXTREMO | S11: =+'EVALUACION CON CONTROLES'!L16 -> No | T11: =+'EVALUACION CON CONTROLES'!M16 -> Comité evaluador | U11: =+'EVALUACION CON CONTROLES'!N16 -> Al cierre del proceso de selección | ... X11: =+'EVALUACION CON CONTROLES'!Q16 -> Una vez por proceso de selección
B12: 3 | C12: =+'EVALUACION CON CONTROLES'!C18:F18 -> Requisitos habilitantes inapropiados para el proceso de selección | D12: =+'EVALUACION CON CONTROLES'!B18 -> PLANEACIÓN | E12: Especifico | F12: =VLOOKUP(C12,'IDENTIFICACION Y ANALISIS'!$B$19:$F$45,4,FALSE) -> Interno | G12: =+EVALUACION!H19 -> Se limita la pluralidad de oferentes o se habilita a proponentes sin idoneidad. Esto reduce la calidad del servicio o lleva a que el proceso quede desierto. | H12: =+EVALUACION!I19 -> 5 | I12: =+EVALUACION!J19 -> 2 | J12: =+EVALUACION!K19 -> 7 | K12: =+EVALUACION!L19 -> ALTO | L12: SDG | M12: 100 | N12: =+'EVALUACION CON CONTROLES'!G18 -> Revisar los requisitos habilitantes con expertos en contratación, de modo que la experiencia exigida en cuidado, enfoque de género y prevención de violencias contra las mujeres sea proporcional al valor y la complejidad del contrato. Validarlos con el área técnica y con las partes interesadas antes de publicar. | O12: =+'EVALUACION CON CONTROLES'!H18 -> 5 | P12: =+'EVALUACION CON CONTROLES'!I18 -> 2 | Q12: =+'EVALUACION CON CONTROLES'!J18 -> 7 | R12: =+'EVALUACION CON CONTROLES'!K18 -> ALTO | S12: =+'EVALUACION CON CONTROLES'!L18 -> No | T12: =+'EVALUACION CON CONTROLES'!M18 -> Equipo formulador, área técnica y área jurídica | U12: =+'EVALUACION CON CONTROLES'!N18 -> Al definir los requisitos en el estudio de sector | ... X12: =+'EVALUACION CON CONTROLES'!Q18 -> Una vez, antes de publicar
B13: 4 | C13: =+'EVALUACION CON CONTROLES'!C19:F19 -> Inadecuada descripción del bien o servicio requerido | D13: =+'EVALUACION CON CONTROLES'!B19 -> PLANEACIÓN | E13: =VLOOKUP(C13,'IDENTIFICACION Y ANALISIS'!$B$19:$F$45,3,FALSE) -> Estatal | F13: =VLOOKUP(C13,'IDENTIFICACION Y ANALISIS'!$B$19:$F$45,4,FALSE) -> Interno | G13: =+EVALUACION!H20 -> Se contrata un servicio que no responde a la necesidad: contenidos, metodología o población objetivo mal definidos. Pueden surgir modificaciones contractuales, adiciones no previstas y baja efectividad de los eventos. | H13: =+EVALUACION!I20 -> 2 | I13: =+EVALUACION!J20 -> 2 | J13: =+EVALUACION!K20 -> 4 | K13: =+EVALUACION!L20 -> BAJO | L13: SDG | M13: 100 | N13: =+'EVALUACION CON CONTROLES'!G19 -> Revisar con el comité técnico los términos de referencia, asegurando que las estrategias de cuidado, las acciones de sensibilización, formación y participación, la población objetivo, el número de sesiones y los productos estén claros y respondan a la necesidad de la localidad. | O13: =+'EVALUACION CON CONTROLES'!H19 -> 2 | P13: =+'EVALUACION CON CONTROLES'!I19 -> 2 | Q13: =+'EVALUACION CON CONTROLES'!J19 -> 4 | R13: =+'EVALUACION CON CONTROLES'!K19 -> BAJO | S13: =+'EVALUACION CON CONTROLES'!L19 -> No | T13: =+'EVALUACION CON CONTROLES'!M19 -> Comité técnico | U13: =+'EVALUACION CON CONTROLES'!N19 -> Al redactar los términos de referencia | ... X13: =+'EVALUACION CON CONTROLES'!Q19 -> Una vez, con ajustes según observaciones
B14: 5 | C14: =+'EVALUACION CON CONTROLES'!C20:F20 -> Inadecuado manejo administrativo del proceso contractual | D14: =+'EVALUACION CON CONTROLES'!B20 -> SELECCIÓN | E14: =VLOOKUP(C14,'IDENTIFICACION Y ANALISIS'!$B$19:$F$45,3,FALSE) -> #N/A | F14: INTERNO | G14: =+EVALUACION!H21 -> Errores de trámite que generan demoras, observaciones de los órganos de control, posibles nulidades y hallazgos administrativos. | H14: =+EVALUACION!I21 -> 4 | I14: =+EVALUACION!J21 -> 3 | J14: =+EVALUACION!K21 -> 7 | K14: =+EVALUACION!L21 -> ALTO | L14: SDG | M14: 100 | N14: =+'EVALUACION CON CONTROLES'!G20 -> Implementar un sistema de gestión documental y un cronograma con responsables. Capacitar periódicamente al equipo administrativo en procedimientos internos y buenas prácticas. | O14: =+'EVALUACION CON CONTROLES'!H20 -> 4 | P14: =+'EVALUACION CON CONTROLES'!I20 -> 3 | Q14: =+'EVALUACION CON CONTROLES'!J20 -> 7 | R14: =+'EVALUACION CON CONTROLES'!K20 -> ALTO | S14: =+'EVALUACION CON CONTROLES'!L20 -> No | T14: =+'EVALUACION CON CONTROLES'!M20 -> Profesional administrativo del proceso | U14: =+'EVALUACION CON CONTROLES'!N20 -> Al abrir el proceso de selección | ... X14: =+'EVALUACION CON CONTROLES'!Q20 -> Quincenal
B15: 6 | C15: =+'EVALUACION CON CONTROLES'!C21:F21 -> Falta de claridad en la elaboración de los actos administrativos | D15: =+'EVALUACION CON CONTROLES'!B21 -> SELECCIÓN | E15: =VLOOKUP(C15,'IDENTIFICACION Y ANALISIS'!$B$19:$F$45,3,FALSE) -> Estatal | F15: =VLOOKUP(C15,'IDENTIFICACION Y ANALISIS'!$B$19:$F$45,4,FALSE) -> Interno | G15: =+EVALUACION!H22 -> Interpretaciones erróneas, recursos y demandas de los proponentes, y retrasos en la adjudicación. Puede llegar a la revocatoria o nulidad del acto. | H15: =+EVALUACION!I22 -> 2 | I15: =+EVALUACION!J22 -> 2 | J15: =+EVALUACION!K22 -> 4 | K15: =+EVALUACION!L22 -> BAJO | L15: SDG | M15: 100 | N15: =+'EVALUACION CON CONTROLES'!G21 -> Estandarizar los formatos y procedimientos para elaborar actos administrativos, con revisión jurídica antes de la firma. | O15: =+'EVALUACION CON CONTROLES'!H21 -> 2 | P15: =+'EVALUACION CON CONTROLES'!I21 -> 2 | Q15: =+'EVALUACION CON CONTROLES'!J21 -> 4 | R15: =+'EVALUACION CON CONTROLES'!K21 -> BAJO | S15: =+'EVALUACION CON CONTROLES'!L21 -> No | T15: =+'EVALUACION CON CONTROLES'!M21 -> Área jurídica | U15: =+'EVALUACION CON CONTROLES'!N21 -> Al proyectar cada acto administrativo | ... X15: =+'EVALUACION CON CONTROLES'!Q21 -> Cada vez que se elabore un acto
B16: 7 | C16: =+'EVALUACION CON CONTROLES'!C22:F22 -> Contestación inoportuna a todas las observaciones formuladas a los documentos de la contratación | D16: =+'EVALUACION CON CONTROLES'!B22 -> SELECCIÓN | E16: =VLOOKUP(C16,'IDENTIFICACION Y ANALISIS'!$B$19:$F$45,3,FALSE) -> Estatal | F16: =VLOOKUP(C16,'IDENTIFICACION Y ANALISIS'!$B$19:$F$45,4,FALSE) -> Interno | G16: =+EVALUACION!H23 -> Vulneración de los principios de transparencia y publicidad, con reclamaciones o quejas ante organismos de control y posible suspensión o retraso del cronograma. | H16: =+EVALUACION!I23 -> 3 | I16: =+EVALUACION!J23 -> 2 | J16: =+EVALUACION!K23 -> 5 | K16: =+EVALUACION!L23 -> MEDIO | L16: SDG | M16: 100 | N16: =+'EVALUACION CON CONTROLES'!G22 -> Definir tiempos máximos de respuesta según el tipo de observación y establecer un protocolo de gestión de comentarios, con un responsable y un registro de fechas. | O16: =+'EVALUACION CON CONTROLES'!H22 -> 3 | P16: =+'EVALUACION CON CONTROLES'!I22 -> 2 | Q16: =+'EVALUACION CON CONTROLES'!J22 -> 5 | R16: =+'EVALUACION CON CONTROLES'!K22 -> MEDIO | S16: =+'EVALUACION CON CONTROLES'!L22 -> No | T16: =+'EVALUACION CON CONTROLES'!M22 -> Profesional designado para responder observaciones | U16: =+'EVALUACION CON CONTROLES'!N22 -> Al publicar el proyecto de pliego | ... X16: =+'EVALUACION CON CONTROLES'!Q22 -> Diaria durante el plazo de observaciones
B17: 8 | C17: =+'EVALUACION CON CONTROLES'!C23:F23 -> No publicación de la documentación del proceso de selección en el SECOP | D17: =+'EVALUACION CON CONTROLES'!B23 -> SELECCIÓN | E17: =VLOOKUP(C17,'IDENTIFICACION Y ANALISIS'!$B$19:$F$45,3,FALSE) -> Estatal | F17: =VLOOKUP(C17,'IDENTIFICACION Y ANALISIS'!$B$19:$F$45,4,FALSE) -> Interno | G17: =+EVALUACION!H24 -> Incumplimiento de la normatividad de contratación pública, con sanciones disciplinarias y hallazgos de control. También puede ocurrir que el proceso pierda validez y deba repetirse. | H17: =+EVALUACION!I24 -> 1 | I17: =+EVALUACION!J24 -> 1 | J17: =+EVALUACION!K24 -> 2 | K17: =+EVALUACION!L24 -> BAJO | L17: SDG | M17: 100 | N17: =+'EVALUACION CON CONTROLES'!G23 -> Implementar un cronograma de publicación en el SECOP y realizar auditorías internas para verificar su cumplimiento. | O17: =+'EVALUACION CON CONTROLES'!H23 -> 1 | P17: =+'EVALUACION CON CONTROLES'!I23 -> 1 | Q17: =+'EVALUACION CON CONTROLES'!J23 -> 2 | R17: =+'EVALUACION CON CONTROLES'!K23 -> BAJO | S17: =+'EVALUACION CON CONTROLES'!L23 -> No | T17: =+'EVALUACION CON CONTROLES'!M23 -> Profesional responsable de la publicación en SECOP | U17: =+'EVALUACION CON CONTROLES'!N23 -> Al abrir el proceso | ... X17: =+'EVALUACION CON CONTROLES'!Q23 -> Semanal durante el proceso
B18: 9 | C18: =+'EVALUACION CON CONTROLES'!C24:F24 -> Riesgo de que no se firme el contrato. | D18: =+'EVALUACION CON CONTROLES'!B24 -> CONTRATACIÓN | E18: =VLOOKUP(C18,'IDENTIFICACION Y ANALISIS'!$B$19:$F$45,3,FALSE) -> General | F18: =VLOOKUP(C18,'IDENTIFICACION Y ANALISIS'!$B$19:$F$45,4,FALSE) -> Interno | G18: =+EVALUACION!H25 -> Retraso o pérdida de la ejecución de las capacitaciones y eventos, necesidad de adjudicar al siguiente proponente o reiniciar el proceso, y afectación a la población que iba a ser atendida. | H18: =+EVALUACION!I25 -> 1 | I18: =+EVALUACION!J25 -> 1 | J18: =+EVALUACION!K25 -> 2 | K18: =+EVALUACION!L25 -> BAJO | L18: CONTRATISTA Y SDG | M18: 50 | N18: =+'EVALUACION CON CONTROLES'!G24 -> Hacer seguimiento riguroso a los tiempos de firma, con alertas para evitar retrasos en la formalización. Si el adjudicatario no firma, aplicar lo previsto en el pliego y evaluar adjudicar al siguiente proponente. | O18: =+'EVALUACION CON CONTROLES'!H24 -> 1 | P18: =+'EVALUACION CON CONTROLES'!I24 -> 1 | Q18: =+'EVALUACION CON CONTROLES'!J24 -> 2 | R18: =+'EVALUACION CON CONTROLES'!K24 -> BAJO | S18: =+'EVALUACION CON CONTROLES'!L24 -> No | T18: =+'EVALUACION CON CONTROLES'!M24 -> Ordenador del gasto y área jurídica | U18: =+'EVALUACION CON CONTROLES'!N24 -> Al comunicar la adjudicación | ... X18: =+'EVALUACION CON CONTROLES'!Q24 -> Diaria hasta la firma
B19: 10 | C19: =+'EVALUACION CON CONTROLES'!C25:F25 -> Falta de constitución o constitución tardía de la garantía única. Aceptación de garantías que no se ajustan a lo contemplado en el contrato | D19: =+'EVALUACION CON CONTROLES'!B25 -> CONTRATACIÓN | E19: =VLOOKUP(C19,'IDENTIFICACION Y ANALISIS'!$B$19:$F$45,3,FALSE) -> General | F19: =VLOOKUP(C19,'IDENTIFICACION Y ANALISIS'!$B$19:$F$45,4,FALSE) -> Externo | G19: =+EVALUACION!H26 -> Retraso en el perfeccionamiento y el acta de inicio. La entidad queda sin respaldo ante incumplimientos o daños, con posible detrimento patrimonial. | H19: =+EVALUACION!I26 -> 1 | I19: =+EVALUACION!J26 -> 1 | J19: =+EVALUACION!K26 -> 2 | K19: =+EVALUACION!L26 -> BAJO | L19: CONTRATISTA Y SDG | M19: 100 | N19: =+'EVALUACION CON CONTROLES'!G25 -> Exigir la constitución de la garantía dentro de un plazo máximo después de la adjudicación, verificar su cumplimiento con alertas y revisar jurídicamente la póliza antes de aprobarla. No firmar el acta de inicio sin garantía aprobada. | O19: =+'EVALUACION CON CONTROLES'!H25 -> 1 | P19: =+'EVALUACION CON CONTROLES'!I25 -> 1 | Q19: =+'EVALUACION CON CONTROLES'!J25 -> 2 | R19: =+'EVALUACION CON CONTROLES'!K25 -> BAJO | S19: =+'EVALUACION CON CONTROLES'!L25 -> No | T19: =+'EVALUACION CON CONTROLES'!M25 -> Área jurídica y supervisor | U19: =+'EVALUACION CON CONTROLES'!N25 -> Al firmar el contrato | ... X19: =+'EVALUACION CON CONTROLES'!Q25 -> Semanal hasta su aprobación
B20: 11 | C20: =+'EVALUACION CON CONTROLES'!C26:F26 -> No publicación de la documentación del proceso de selección en el SECOP | D20: =+'EVALUACION CON CONTROLES'!B26 -> CONTRATACIÓN | E20: =VLOOKUP(C20,'IDENTIFICACION Y ANALISIS'!$B$19:$F$45,3,FALSE) -> Estatal | F20: =VLOOKUP(C20,'IDENTIFICACION Y ANALISIS'!$B$19:$F$45,4,FALSE) -> Interno | G20: =+EVALUACION!H27 -> Falta de publicidad del contrato y sus soportes, lo que puede generar sanciones y hallazgos de los órganos de control. Además, no se puede iniciar ni pagar la ejecución sin el cumplimiento de este requisito. | H20: =+EVALUACION!I27 -> 3 | I20: =+EVALUACION!J27 -> 2 | J20: =+EVALUACION!K27 -> 5 | K20: =+EVALUACION!L27 -> MEDIO | L20: SDG | M20: 100 | N20: =+'EVALUACION CON CONTROLES'!G26 -> Implementar un cronograma de publicación en el SECOP y realizar auditorías internas para verificar su cumplimiento. | O20: =+'EVALUACION CON CONTROLES'!H26 -> 3 | P20: =+'EVALUACION CON CONTROLES'!I26 -> 2 | Q20: =+'EVALUACION CON CONTROLES'!J26 -> 5 | R20: =+'EVALUACION CON CONTROLES'!K26 -> MEDIO | S20: =+'EVALUACION CON CONTROLES'!L26 -> No | T20: =+'EVALUACION CON CONTROLES'!M26 -> Profesional responsable de la publicación en SECOP | U20: =+'EVALUACION CON CONTROLES'!N26 -> Al firmar el contrato | ... X20: =+'EVALUACION CON CONTROLES'!Q26 -> Una vez por contrato, con verificación mensual
B21: 12 | C21: =+'EVALUACION CON CONTROLES'!C27:F27 -> Presentación de reclamos de terceros sobre la selección del oferente que retrasen el perfeccionamiento del contrato. | D21: =+'EVALUACION CON CONTROLES'!B27 -> CONTRATACIÓN | E21: =VLOOKUP(C21,'IDENTIFICACION Y ANALISIS'!$B$19:$F$45,3,FALSE) -> Especifico | F21: =VLOOKUP(C21,'IDENTIFICACION Y ANALISIS'!$B$19:$F$45,4,FALSE) -> Externo | G21: =+EVALUACION!H28 -> Suspensión o retraso del perfeccionamiento del contrato, desgaste jurídico y administrativo, y posible retraso del cronograma de capacitaciones. | H21: =+EVALUACION!I28 -> 2 | I21: =+EVALUACION!J28 -> 2 | J21: =+EVALUACION!K28 -> 4 | K21: =+EVALUACION!L28 -> BAJO | L21: SDG | M21: 100 | N21: =+'EVALUACION CON CONTROLES'!G27 -> Definir una estrategia de resolución temprana de controversias, con un equipo jurídico preparado para responder de forma ágil y con soportes a los reclamos. | O21: =+'EVALUACION CON CONTROLES'!H27 -> 2 | P21: =+'EVALUACION CON CONTROLES'!I27 -> 2 | Q21: =+'EVALUACION CON CONTROLES'!J27 -> 4 | R21: =+'EVALUACION CON CONTROLES'!K27 -> BAJO | S21: =+'EVALUACION CON CONTROLES'!L27 -> No | T21: =+'EVALUACION CON CONTROLES'!M27 -> Área jurídica | U21: =+'EVALUACION CON CONTROLES'!N27 -> Al presentarse el reclamo | ... X21: =+'EVALUACION CON CONTROLES'!Q27 -> Semanal mientras haya reclamos
B22: 13 | C22: =+'EVALUACION CON CONTROLES'!C28:F28 -> Incumplimiento de la administración en los pagos. | D22: =+'EVALUACION CON CONTROLES'!B28 -> EJECUCIÓN | E22: =VLOOKUP(C22,'IDENTIFICACION Y ANALISIS'!$B$19:$F$45,3,FALSE) -> Estatal | F22: =VLOOKUP(C22,'IDENTIFICACION Y ANALISIS'!$B$19:$F$45,4,FALSE) -> Externo | G22: =+EVALUACION!H29 -> Afectación del flujo de caja del contratista, que puede reducir la calidad del servicio o suspender los eventos. Pueden aparecer reclamaciones económicas, intereses de mora y desequilibrio contractual. | H22: =+EVALUACION!I29 -> 3 | I22: =+EVALUACION!J29 -> 3 | J22: =+EVALUACION!K29 -> 6 | K22: =+EVALUACION!L29 -> ALTO | L22: CONTRATISTA | M22: 100 | N22: =+'EVALUACION CON CONTROLES'!G28 -> Establecer un calendario de pagos claro (PAC), verificar la disponibilidad presupuestal y hacer seguimiento a las cuentas pendientes, con revisión oportuna de los informes del supervisor. | O22: =+'EVALUACION CON CONTROLES'!H28 -> 3 | P22: =+'EVALUACION CON CONTROLES'!I28 -> 3 | Q22: =+'EVALUACION CON CONTROLES'!J28 -> 6 | R22: =+'EVALUACION CON CONTROLES'!K28 -> ALTO | S22: =+'EVALUACION CON CONTROLES'!L28 -> Sí | T22: =+'EVALUACION CON CONTROLES'!M28 -> Ordenador del gasto, área financiera y supervisor | U22: =+'EVALUACION CON CONTROLES'!N28 -> Desde el inicio de la ejecución | ... X22: =+'EVALUACION CON CONTROLES'!Q28 -> Mensual
B23: 14 | C23: =+'EVALUACION CON CONTROLES'!C29:F29 -> Fluctuaciones del valor de la moneda | D23: =+'EVALUACION CON CONTROLES'!B29 -> EJECUCIÓN | E23: =VLOOKUP(C23,'IDENTIFICACION Y ANALISIS'!$B$19:$F$45,3,FALSE) -> Especifico | F23: =VLOOKUP(C23,'IDENTIFICACION Y ANALISIS'!$B$19:$F$45,4,FALSE) -> Externo | G23: =+EVALUACION!H30 -> Aumento en los costos de insumos o servicios que dependan de bienes importados (por ejemplo, tecnología o material didáctico), con posible desequilibrio económico del contrato. | H23: =+EVALUACION!I30 -> 2 | I23: =+EVALUACION!J30 -> 1 | J23: =+EVALUACION!K30 -> 3 | K23: =+EVALUACION!L30 -> BAJO | L23: CONTRATISTA Y SDG | M23: 100 | N23: =+'EVALUACION CON CONTROLES'!G29 -> Establecer cláusulas de ajuste por variación cambiaria cuando aplique y preferir bienes y servicios nacionales para reducir la exposición. | O23: =+'EVALUACION CON CONTROLES'!H29 -> 2 | P23: =+'EVALUACION CON CONTROLES'!I29 -> 1 | Q23: =+'EVALUACION CON CONTROLES'!J29 -> 3 | R23: =+'EVALUACION CON CONTROLES'!K29 -> BAJO | S23: =+'EVALUACION CON CONTROLES'!L29 -> Sí, si el riesgo no fue asignado al contratista | T23: =+'EVALUACION CON CONTROLES'!M29 -> Área jurídica y supervisor | U23: =+'EVALUACION CON CONTROLES'!N29 -> Al incluir las cláusulas en el contrato | ... X23: =+'EVALUACION CON CONTROLES'!Q29 -> Trimestral
B24: 15 | C24: =+'EVALUACION CON CONTROLES'!C30:F30 -> Cambio de precios en factores de producción. | D24: =+'EVALUACION CON CONTROLES'!B30 -> EJECUCIÓN | E24: =VLOOKUP(C24,'IDENTIFICACION Y ANALISIS'!$B$19:$F$45,3,FALSE) -> General | F24: =VLOOKUP(C24,'IDENTIFICACION Y ANALISIS'!$B$19:$F$45,4,FALSE) -> Externo | G24: =+EVALUACION!H31 -> Sobrecostos en logística, refrigerios, alquiler de espacios, material y honorarios, con riesgo de reducir la calidad o el alcance de las actividades. | H24: =+EVALUACION!I31 -> 4 | I24: =+EVALUACION!J31 -> 4 | J24: =+EVALUACION!K31 -> 8 | K24: =+EVALUACION!L31 -> EXTREMO | L24: CONTRATISTA Y SDG | M24: 100 | N24: =+'EVALUACION CON CONTROLES'!G30 -> Incluir cláusulas de revisión de precios, actualizar el estudio de mercado con cotizaciones vigentes y mantener relaciones estables con proveedores para minimizar variaciones bruscas. | O24: =+'EVALUACION CON CONTROLES'!H30 -> 4 | P24: =+'EVALUACION CON CONTROLES'!I30 -> 4 | Q24: =+'EVALUACION CON CONTROLES'!J30 -> 8 | R24: =+'EVALUACION CON CONTROLES'!K30 -> EXTREMO | S24: =+'EVALUACION CON CONTROLES'!L30 -> Sí, si el riesgo no fue asignado al contratista | T24: =+'EVALUACION CON CONTROLES'!M30 -> Equipo formulador y supervisor | U24: =+'EVALUACION CON CONTROLES'!N30 -> Al elaborar el estudio de mercado | ... X24: =+'EVALUACION CON CONTROLES'!Q30 -> Trimestral
B25: 17 | C25: =+'EVALUACION CON CONTROLES'!C32:F32 -> Incumplimiento de compromisos adquiridos por el contratista seleccionado con sus subcontratistas, suministradores de bienes y servicios. | D25: =+'EVALUACION CON CONTROLES'!B32 -> EJECUCIÓN | E25: =VLOOKUP(C25,'IDENTIFICACION Y ANALISIS'!$B$19:$F$45,3,FALSE) -> Especifico | F25: =VLOOKUP(C25,'IDENTIFICACION Y ANALISIS'!$B$19:$F$45,4,FALSE) -> Externo | G25: =+EVALUACION!H33 -> Suspensión de servicios de apoyo (logística, talleristas, salones), lo que genera cancelación o aplazamiento de eventos, reclamaciones a la entidad y afectación de la calidad de la ejecución. | H25: =+EVALUACION!I33 -> 4 | I25: =+EVALUACION!J33 -> 4 | J25: =+EVALUACION!K33 -> 8 | K25: =+EVALUACION!L33 -> EXTREMO | L25: CONTRATISTA | M25: 100 | N25: =+'EVALUACION CON CONTROLES'!G32 -> Exigir planes de trabajo y cronogramas detallados de los subcontratistas y monitorear su cumplimiento mediante auditorías periódicas. Solicitar un plan de contingencia y reemplazo de proveedores cuando se presente el incumplimiento. | O25: =+'EVALUACION CON CONTROLES'!H32 -> 4 | P25: =+'EVALUACION CON CONTROLES'!I32 -> 4 | Q25: =+'EVALUACION CON CONTROLES'!J32 -> 8 | R25: =+'EVALUACION CON CONTROLES'!K32 -> EXTREMO | S25: =+'EVALUACION CON CONTROLES'!L32 -> No | T25: =+'EVALUACION CON CONTROLES'!M32 -> Supervisor del contrato | U25: =+'EVALUACION CON CONTROLES'!N32 -> Al aprobar el plan de trabajo | ... X25: =+'EVALUACION CON CONTROLES'!Q32 -> Mensual
