Workbook

Sheet TRDM
A1: FONDO DE DESARROLLO LOCAL DE SUBA
A2: OFERTA PRESENTADA PARA EL SEGURO DE TODO RIESGO DAÑOS MATERIALES
A3: NOMBRE DEL PROPONENTE: | N3: LA PREVISORA S.A. COMPAÑÍA DE SEGUROS
A4: GC | N4: CUMPLE | O4: NO CUMPLE | P4: SUBSANA
A5: OBJETO DEL SEGURO | N5: XXX
A6: Amparar todos los bienes inmuebles y muebles de propiedad de ENTIDAD o aquellos que se encuentren bajo su control, tenencia, responsabilidad o custodia, ubicados en el territorio nacional contra los daños o perdidas materiales a consecuencia de cualquier riesgo, tanto por eventos internos o externos, incluyendo las pérdidas consecuenciales por todo concepto.
N7: XXX
A9: INFORMACION GENERAL
A11: TOMADOR: | G11: =A1 -> FONDO DE DESARROLLO LOCAL DE SUBA
A12: ASEGURADO: | G12: =G11 -> FONDO DE DESARROLLO LOCAL DE SUBA
A13: BENEFICIARIO: | G13: =G11 -> FONDO DE DESARROLLO LOCAL DE SUBA
A15: CONDICIONES OBLIGATORIAS | G15: Con esta póliza, se unifica en un solo seguro, parte de las coberturas que se pueden contratar bajo las pólizas de Incendio y/o Rayo,Terremoto, Sustracción, Equipo Electrónico y Rotura de Maquinaria, para obtener una mayor protección de sus bienes e intereses al contratar una póliza de Todo Riesgo, bajo la cual se amparen todas las pérdidas o daños que puedan sufrir estos, con excepción de los expresamente excluidos. En consecuencia, las aseguradoras deberán ofertar un seguro que opere bajo la modalidad de todo riesgo de pérdida o daño material y no seguros de riesgos nombrados, so pena de no ser calificado el ramo. El proponente deberá ofrecer las tasas por cada ramo. | N15: XXX
G16: Base de valoración: Costo de reposición a nuevo Base de valoración Edificios: Costo de reposición a reconstruccion | N16: XXX
G17: Todos las cláusulas que otorgan coberturas de gastos adicionales, operan sin aplicación de deducibles. | N17: XXX
G18: Los sublímites otorgados en cada una de las cláusulas establecidas operan en exceso del valor asegurado y no haciendo parte del mismo. | N18: XXX
A20: BIENES E INTERESES ASEGURABLES
A21: Toda propiedad real o personal, bienes materiales de propiedad de o de terceros que se hallen bajo su cuidado, custodia, control o por los cuales sea legal o contractualmente responsable o tenga interés asegurable, localizados dentro del territorio nacional utilizados en desarrollo del objeto social de la entidad, o los recibidos a cualquier título así como los costos y/o gastos en que incurra, o todos combinados, consistentes principalmente pero no limitados en los siguientes: | N21: XXX
A22: Edificios, estructuras, cimientos, construcciones fijas con todas sus adiciones y en general toda clase de construcciones propias y no propias, de edificios e inherentes a ellos, incluidos anexos y mejoras locativas, instalaciones sanitarias de agua, sistema de drenaje y aguas negras, tuberías, conductos, desagües, instalaciones eléctricas y de aire acondicionado, ascensores, instalaciones permanentes de protección contra incendio y demás instalaciones que se hallen o no por debajo del nivel del suelo y/o subterráneas, vidrios internos y externos que conforman y hacen parte de las construcciones, rampas de acceso, tanques de almacenamiento, entre otros ubicados en el territorio nacional, de propiedad de ENTIDAD - o bajo su responsabilidad, tenencia,cuidado y/o control. | N22: XXX
A23: Mejoras locativas: Todas aquellas mejoras a los inmuebles realizadas por la entidad, aún en el caso de no ser propietaria del bien, que haya realizado inversiones para adecuarlas a sus necesidades, tales como tapetes, tapizados, enchapes, mejoras eléctricas, cielos rasos, etc. | N23: XXX
A24: Equipos y Máquinas en general, herramientas, accesorios, maquinarias, ascensores, transformadores, plantas eléctricas, calderas, generadores, tornos, motores, bombas y equipos del sistema hidráulico, motobombas, aire acondicionado, extractores de olores, motores de control de puertas, o sitios de acceso, y compresores entre otros, de propiedad de la entidad, o bajo se responsabilidad, tenencia y control. | N24: XXX
A25: Equipos de oficina y equipos eléctricos y electrónicos, tales como, equipos de computo (computadoras considerados integralmente con todos sus accesorios periféricos como son: CPU, pantalla, monitor, mouse, reguladores de voltaje, scanner, ploters, servidores, impresoras), fax, microcomputadores, equipo central de computo, software, equipos de telecomunicaciones: radios portatiles, base, antenas, equipos celulares, beepers y equipos de comunicación portátil, electrodomésticos, equipos científicos de laboratorio para investigación, equipos de metrodologia, equipos de calibracion equipos móviles y portátiles, Estaciones Fijas para monitoreo R&S, Antenas, Porta Antenas, GPS fijos, GPS portátiles, Sondas de medición de radiaciones no ionizantes incluye paneles solares, Computadores para equipos ETL, Maletines de transporte de equipos, Frecuencímetros, Vatímetros (Equipos de medición de frecuencia) y demás instrumentos, equipos soporte, repuestos, equipos electricos y electronicos, entre otros de propiedad de la entidad, o bajo su responsabilidad, tenencia y/o control, | N25: XXX
A26: Contenidos tales como Muebles y enseres, escritorios, sillas, cortinas, divisiones modulares, planos, documentos de cartera, archivo en general, libros, bibliotecas, manuscritos, equipos de oficina no eléctricos ni electrónicos, entre otros, sistemas de oficina abierta, frescos o murales que forman parte de los bienes asegurados o estén pintados allí, papelería, aparatos; archivos manuscritos; kardex, croquis y documentos de cualquier clase, que se encuentren localizados dentro de los predios asegurados o fuera de los mismos dentro del territorio de la República de Colombia. | N26: XXX
A27: Dinero y títulos valores dentro y fuera de caja fuerte y cajas menores. | N27: XXX
A28: Elementos de almacén e inventarios: Elementos de consumo, devolutivos nuevos, recuperables, inservibles, papelería, útiles de oficina, equipos en general, repuestos y demás bienes de almacén, contenidos en las diferentes dependencias de la entidad | N28: XXX
A29: Bienes de arte y cultura, cuadros y obras de arte, objetos valiosos. | N29: XXX
A30: Los demás bienes y en general todos aquellos que no se encuentran expresamente excluidos en la póliza, ubicados dentro o fuera de los predios de la entidad, o bajo su responsabilidad, tenencia y/o control o que figuren a cualquier titulo, o esten relacionados en el inventario general de la entidad. (Además vehículos con equipamento especial) | N30: XXX
A32: BIENES Y VALORES ASEGURADOS
A34: ARCHIVO EXCEL BIENES ASEGURADOS SAMC FDLS
A36: AMPAROS OBLIGATORIOS
A38: NOMBRE | K38: SUBLIMITE | N38: XXX
A39: TODO RIESGO DE PÉRDIDA O DAÑO MATERIAL: Todos los daños, pérdidas o desaparición que sufran los intereses asegurados, originados por cualquier causa no expresamente excluida, sea que dichos bienes estén en uso o inactivos, dentro o fuera de los predios del asegurado y dentro del territorio nacional, excepto los equipos móviles y portátiles que tendrán cobertura a nivel mundial, así como los costos y/o gastos en que incurra, o todos combinados, como consecuencia de dichos daños o pérdidas; incluyendo las siguientes coberturas y/o eventos pero sin estar limitado a ellos: Daño material accidental, hurto y hurto calificado para todos los bienes, todo riesgo sustracción, corriente débil, pérdida de datos o portadores externos de datos incluyendo software, rotura de maquinaria, daños a calderas u otros aparatos generadores de vapor, rotura accidental de vidrios incluyendo la ocasionada como consecuencia de los eventos de Huelga, Motín, Asonada, Conmoción Civil o Popular y Actos Mal Intencionados de Terceros, terremoto, temblor, erupción volcánica, heladas, aludes, deshielos, huracán, ciclón, tornado, maremoto, tsunami, tempestad, granizo, heladas, deshielo, vientos fuertes, rayo y demás eventos de la naturaleza, AMIT (Actos Mal Intencionados de Terceros), HMACCoP (Huelga, Motín, Asonada, Conmoción Civil o Popular), Terrorismo, Sabotaje, explosión por cualquier causa; anegación; avalancha; daños por agua; incendio inherente; extended coverage; Hundimiento, asentamiento, deslizamiento y desplazamiento de terrenos, muros, pisos y techos; caída de rocas, árboles y aludes; pérdida de contenido y derrame de tanques y cualquier otro riesgo o causas no expresamente excluidas de las condiciones generales del seguro. Se entienden incluidos los riesgos mencionados en el artículo 1105 del Código de Comercio, excepto Guerra Civil o Internacional. | K39: NO | N39: XXX
A40: Adecuación de construcciones a las normas de sismo resistencia: Se extiende la cobertura del seguro a amparar los costos y gastos razonables en que incurra el asegurado, cuando a consecuencia de un evento amparado bajo la póliza, los edificios y obras civiles sufran daños estructurales, cuya reparación o reconstrucción conlleve la adecuación a normas sismoresistentes vigentes al momento de efectuarse la reparación o reconstrucción del bien asegurado. | K40: SI - Sublímite 10% del valor total de las edificaciones Evento/ Vigencia. | N40: XXX
A41: Cobertura para terrenos: Gastos para la adecuación de suelos y terrenos que lleguen a afectarse como consecuencia de un Temblor, Terremoto, Erupción Volcánica y/o otros eventos de la naturaleza". | K41: SI - Sublímite 10% del valor total de las edificaciones Evento/ Vigencia. | N41: XXX
A43: CLAUSULAS OBLIGATORIAS
A45: NOMBRE DE LA CLAUSULA | F45: DESCRIPCION DE LA CLAUSULA
A46: ACTOS DE AUTORIDAD | F46: Queda entendido, convenido y aceptado que la compañía indemnizará al asegurado las pérdidas ocasionadas por la destrucción de los bienes asegurados ordenada por la autoridad competente, con el fin de aminorar o evitar la propagación de las consecuencias de cualquier siniestro amparado por la póliza a la cual éste documento se adhiere. Se excluye confiscación, apropiación, o requisición | N46: XXX
A47: AMPARO AUTOMÁTICO PARA BIENES MUEBLES O INMUEBLES, ADQUIRIDOS, RECIBIDOS, EN CONSTRUCCION, MONTAJE Y/O REMODELACION, SEAN NUEVOS O USADOS. | F47: Queda entendido, convenido y aceptado que en el evento de que el asegurado adquiera, reciba, construya, instale, remodele o adecúe, a cualquier título, bienes muebles o inmuebles, sean nuevos o usados, sobre los cuales éste tuviere interés asegurable; las coberturas y amparos adicionales de esta póliza se extenderán automáticamente a dichos bienes, hasta por un límite de $ 2.000.000.000. Se excluye la RCE,ERRORES DE DISEÑO, PRUEBAS, ALOP. (Nota: el valor del límite y el número de días corresponde al requerido por la Entidad por lo cual podrá ser aumentado pero no disminuido so pena de rechazo de la propuesta) | N47: XXX
A48: AMPARO AUTOMÁTICO PARA EDIFICIOS Y CONTENIDOS QUE POR ERROR U OMISIÓN NO SE HAYAN INFORMADO AL INICIO DEL SEGURO. | F48: Queda entendido, convenido y aceptado que en el evento de que el asegurado, por error u omisión, no haya informado bienes muebles o inmuebles al inicio de la cobertura, sobre los cuales éste tuviere interés asegurable; las coberturas y amparos adicionales de esta póliza se extenderán automáticamente a dichos bienes hasta por un límite de $600.000.000 y por 60 días. La prima adicional se liquidará con base en las tasas contratadas. Si vencido este plazo no se ha informado a la Compañía, cesará el amparo. (Nota: el valor del límite y el número de días corresponde al requerido por la Entidad por lo cual podrá ser aumentado pero no disminuido so pena de rechazo de la propuesta) | N48: XXX
A49: AMPLIACIÓN DEL PLAZO PARA AVISO DE SINIESTRO | F49: Por medio de la presente cláusula y no obstante lo estipulado en las condiciones generales de la póliza, el asegurado podrá dar aviso de la ocurrencia del siniestro en un término de 60 días, siguientes a la fecha en que haya conocido o debido conocer la ocurrencia del mismo. "Para las coberturas de Huelga, Motín, Asonada, Conmoción Civil o Popular, Actos Mal Intencionados de Terceros, Sabotaje y Terrorismo será un término de hasta 10 días".(Nota: el número de días corresponde al requerido por la Entidad por lo cual podrá ser aumentado pero no disminuido so pena de rechazo de la propuesta) | N49: XXX
A50: ANTICIPO DE INDEMNIZACION 50% | F50: Queda entendido, convenido y aceptado que en caso de presentarse un siniestro amparado bajo la presente póliza y demostrada su ocurrencia, la compañía conviene en anticipar el 50 % del valor estimado de la pérdida mientras el asegurado cumple con la obligación legal para tal fin. El asegurado deberá hacer el requerimiento mediante comunicación escrita dirigida a la compañía. (Nota: el porcentaje señalado corresponde al requerido por la Entidad por lo cual podrá ser aumentado pero no disminuido, so pena de rechazo de la propuesta) | N50: XXX
...

Sheet TRMYE
A1: FONDO DE DESARROLLO LOCAL DE SUBA
A2: OFERTA PRESENTADA PARA EL SEGURO DE TODO RIESGO EQUIPO Y MAQUINARIA
A3: NOMBRE DEL PROPONENTE: | N3: LA PREVISORA S.A. COMPAÑÍA DE SEGUROS
A4: GC | N4: CUMPLE | O4: NO CUMPLE | P4: SUBSANA
A5: OBJETO DEL SEGURO | N5: XXX
A6: Amparar contra todo riesgo la maquinaria y equipo que se moviliza por sus propios medios, de propiedad o por los que sea legalmente responsable de la Entidad", ubicada en cualquier parte del Territorio Nacional y por los daños que éstas causen a terceras personas en su integridad física o a sus bienes.
N7: XXX
A9: INFORMACION GENERAL
A11: TOMADOR: | G11: =A1 -> FONDO DE DESARROLLO LOCAL DE SUBA
A12: ASEGURADO: | G12: =G11 -> FONDO DE DESARROLLO LOCAL DE SUBA
A13: BENEFICIARIO: | G13: =G11 -> FONDO DE DESARROLLO LOCAL DE SUBA
A15: DEFINICIÓN DE BIENES | G15: Para los efectos de este seguro se entiende por MAQUINARIA Y EQUIPO, toda la maquinaria amarilla o verde, que se moviliza por sus propios medios o en otros vehículos de propiedad de la Entidad, o por los que sea legalmente responsable, ubicada en cualquier parte del territorio Nacional. | N15: XXX
A20: BIENES E INTERESES ASEGURABLES
A21: Todos los bienes definidos como maquinaria amarilla(motoniveladoras, retroescavadoras, buldoser, etc.) o verde(tractores, podadoras, etc.) | N21: XXX
A23: BIENES Y VALORES ASEGURADOS
A25: ARCHIVO EXCEL BIENES ASEGURADOS TRMYQ SAMC FDLS
A27: AMPAROS OBLIGATORIOS
A29: NOMBRE | K29: SUBLIMITE
A30: Todos los daños, pérdidas o desaparición que sufran los intereses asegurados, originados por cualquier causa no expresamente excluida, sea que dichos bienes estén en uso o inactivos, dentro o fuera de los predios del asegurado y dentro del territorio nacional, así como los costos y/o gastos en que incurra, o todos combinados, como consecuencia de dichos daños o pérdidas; incluyendo las siguientes coberturas y/o eventos pero sin estar limitado a ellos: Actos mal Intencionados de Terceros - Terrorismo (con cubrimiento al 100% de la pérdida) Asonada, Motín, Conmoción Civil o Popular y Huelga al 100% (con cubrimiento al 100% de la pérdida) Falla o daño mecánico y/o eléctrico interno, que sean amparadas por eventos cubierto en la poliza. Pérdida de combustible, lubricante o refrigerante. Hundimiento del terreno Impericia y negligencia Inundación y enlodamiento Movilización por sus propios medios, bajo sus propios medios hasta un radio de 250km del radio de operación o en otros vehículos Terremoto, Temblor o Erupción Volcánica al 100% Volcamiento, choque y colisión. Cualquier otra causa no excluida expresamente
N31: XXX
N32: XXX
N33: XXX
N34: XXX
N35: XXX
N36: XXX
N37: XXX
N38: XXX
N39: XXX
N40: XXX
N41: XXX
A42: Responsabilidad Civil Extracontractual (incluyendo daño moral y lucro cesante). Sublimite $400.000.000,00/$2.000.000.000 evento/vigencia. (Nota: el valor del sublimite corresponde al requerido por la Entidad, por lo cual podrá ser aumentado pero no disminuido, so pena de rechazo de la propuesta) | N42: XXX
A44: CLAUSULAS OBLIGATORIAS
A46: NOMBRE DE LA CLAUSULA | F46: DESCRIPCION DE LA CLAUSULA
A47: ACTOS DE AUTORIDAD | F47: Queda entendido, convenido y aceptado que la compañía indemnizará al asegurado las pérdidas ocasionadas por la destrucción de los bienes asegurados ordenada por la autoridad competente, con el fin de aminorar o evitar la propagación de las consecuencias de cualquier siniestro amparado por la póliza a la cual éste documento se adhiere. Se excluye confiscación, apropiación, o requisición | N47: XXX
A48: AMPARO AUTOMÁTICO PARA MAQUINARIA ADQUIRIDA O RECIBIDA, SEA NUEVA O USADA. | F48: Queda entendido, convenido y aceptado que en el evento de que el asegurado adquiera o reciba a cualquier título, maquinaria de cualquier clase, sean nueva o usada, sobre la cual éste tuviere interés asegurable; las coberturas y amparos adicionales de esta póliza se extenderán automáticamente a dichos bienes hasta por un límite de $400.000.000 y por 30 días. El asegurado está obligado a dar aviso a la Compañía dentro de los 30 días siguientes a la fecha de conocimiento de los nuevos bienes. La prima adicional se liquidará con base en las tasas contratadas. Si vencido este plazo no se ha informado a la Compañía, cesará el amparo. (Nota: el numero de días corresponde al requerido por la Entidad por lo cual podrá ser aumentado pero no disminuido so pena de rechazo de la propuesta) | N48: XXX
A49: AMPARO AUTOMÁTICO PARA MAQUINARIA QUE POR ERROR U OMISIÓN NO SE HAYAN INFORMADO AL INICIO DEL SEGURO. | F49: Queda entendido, convenido y aceptado que en el evento de que el asegurado, por error u omisión, no haya informado maquinaria al inicio de la cobertura, sobre la cual éste tuviere interés asegurable; las coberturas y amparos adicionales de esta póliza se extenderán automáticamente a dichos bienes hasta por el 100% del valor asegurado total y por 30 días. El asegurado está obligado a dar aviso a la Compañía dentro de los 30 días siguientes a la fecha de iniciación de la vigencia de la póliza. La prima adicional se liquidará con base en las tasas contratadas. Si vencido este plazo no se ha informado a la Compañía, cesará el amparo. (Nota: el porcentaje y el numero de días corresponde al requerido por la Entidad por lo cual podrá ser aumentado pero no disminuido so pena de rechazo de la propuesta) | N49: XXX
A50: AMPLIACIÓN DEL PLAZO PARA AVISO DE SINIESTRO | F50: Por medio de la presente cláusula y no obstante lo estipulado en las condiciones generales de la póliza, el asegurado podrá dar aviso de la ocurrencia del siniestro en un término de 30 días, siguientes a la fecha en que haya conocido o debido conocer la ocurrencia del mismo. (Nota: el numero de días corresponde al requerido por la Entidad por lo cual podrá ser aumentado pero no disminuido so pena de rechazo de la propuesta) | N50: XXX
A51: ANTICIPO DE INDEMNIZACIÓN 50% | F51: Queda entendido, convenido y aceptado que en caso de presentarse un siniestro amparado bajo la presente póliza y demostrada su ocurrencia, la compañía conviene en anticipar el 50% del valor estimado de la pérdida mientras el asegurado cumple con la obligación legal para tal fin. El asegurado deberá hacer el requerimiento mediante comunicación escrita dirigida a la compañía. (Nota: el porcentaje corresponde al requerido por la Entidad por lo cual podrá ser aumentado pero no disminuido so pena de rechazo de la propuesta) | N51: XXX
A52: BIENES BAJO CUIDADO, TENENCIA, CONTROL Y CUSTODIA | F52: Queda entendido, convenido y aceptado que la Compañía de Seguros indemnizará los daños ocasionados por cualquier siniestro amparado bajo la presente póliza, que afecte bienes que sin ser de propiedad del asegurado, estén bajo la responsabilidad, cuidado, tenencia, control o custodia del mismo. En dicho evento, la prima adicional se liquidará con base en las tasas contratadas. Sublímite de $150.000.000. (Nota: el limite corresponde al requerido por la Entidad por lo cual podrá ser aumentado pero no disminuido so pena de rechazo de la propuesta) | N52: XXX
A53: BIENES EN PREDIOS DE TERCEROS | F53: En todos aquellos casos en los cuales existan bienes en predios de terceros y sobre los cuales el asegurado no ejerza control, el contrato de seguros mantendra sus efectos de asegurabilidad aunque el asegurado no pueda ejercer sus actividades de administracion y operacion sobre los mismos. | N53: XXX
...

Sheet AUTOS
A1: FONDO DE DESARROLLO LOCAL DE SUBA
A2: OFERTA PRESENTADA PARA EL SEGURO DE AUTOMÓVILES
A3: NOMBRE DEL PROPONENTE:
A4: GC
A5: OBJETO DEL SEGURO
A6: Amparar los daños y/o pérdidas que sufran los vehículos de propiedad del FONDO DE DESARROLLO LOCAL DE SUBA o por los que sea legalmente responsable, o aquellos daños a bienes o lesiones o muerte a terceros que se causen.
A9: INFORMACION GENERAL
A11: TOMADOR: | G11: =A1 -> FONDO DE DESARROLLO LOCAL DE SUBA
A12: ASEGURADO: | G12: =G11 -> FONDO DE DESARROLLO LOCAL DE SUBA
A13: BENEFICIARIO: | G13: =G11 -> FONDO DE DESARROLLO LOCAL DE SUBA | N13: LA PREVISORA S.A. COMPAÑÍA DE SEGUROS
N14: CUMPLE | O14: NO CUMPLE | P14: SUBSANA
A15: CONDICIONES OBLIGATORIAS | G15: Todos las cláusulas que otorgan coberturas de gastos adicionales, operan sin aplicación de deducibles. | N15: XXX
G16: Por el hecho de presentar oferta, el oferente aprueba los siguientes procedimientos en los casos en que se presenten pérdidas totales y el vehículo afectado no se encuentre matriculado: • Para Pérdidas Totales por Daños: se determinará conjuntamente con la aseguradora el valor del salvamento y este quedará a opción de la Entidad, y su valor será deducido del total a indemnizar. El asegurado suministrará la factura original de compra, el certificado individual o manifiesto de importación o el documento que acredite la adquisición del vehículo, según su disponibilidad. • Para Pérdidas Totales por Hurto: con la sola presentación del denuncio y una carta de la Entidad en la cual deje a disposición de la Aseguradora el salvamento en caso de recuperación, se procederá a cancelar el valor asegurado total. El asegurado suministrará la factura original de compra, el certificado individual o manifiesto de importación o el documento que acredite la adquisición del vehículo, según su disponibilidad. | N16: XXX
G17: El oferente deberá indicar las tasas a aplicar para determinar el valor de la prima. Si el oferente no aplica tasas únicas, deberá presentar cotización individual por cada uno de los vehículos asegurados o de lo contrario obtendrá cero puntos en la evaluación del factor costo de los seguros. | N17: XXX
A19: VEHICULOS Y VALORES ASEGURADOS
A21: VER INVENTARIO (ARCHIVO BIENES)
A23: AMPARO
A24: OFERTA BASICA. AUTOS Responsabilidad Civil Extracontractual (incluyendo daño emergente, daño moral y lucro cesante, así como cualquier otro de concepto de daño patrimonial o extrapatrimonial que determine un Juez de la República) • Daños a bienes de Terceros $ 1.000.000.000 • Muerte o Lesiones a una persona $ 1.000.000.000 • Muerte o Lesiones a dos o más personas $ 2.000.000.000
N25: XXX
N26: XXX
A27: OFERTA PARA MOTOCICLETAS. Responsabilidad Civil Extracontractual (incluyendo daño emergente, daño moral y lucro cesante, así como cualquier otro de concepto de daño patrimonial o extrapatrimonial que determine un Juez de la República) • Daños a bienes de Terceros $ 200.000.000 • Muerte o Lesiones a una persona $ 200.000.000 • Muerte o Lesiones a dos o más personas $ 400.000.000 | N27: XXX
N28: XXX
N29: XXX
A30: VALOR ASEGURADO TOTAL. PARQUE AUTOMOTOR VER INVENTARIO (ANEXO 1. ESTUDIO DE MERCADO SUBA 2026) | N30: XXX
A32: AMPAROS OBLIGATORIOS
A34: NOMBRE | L34: SE PERMITE SUBLIMITAR
A35: AUTOMOVILES Responsabilidad Civil Extracontractual (incluyendo daño emergente, daño moral y lucro cesante, así como cualquier otro de concepto de daño patrimonial o extrapatrimonial que determine un Juez de la República) • Daños a bienes de Terceros $ 1.000.000.000 • Muerte o Lesiones a una persona $ 1.000.000.000 • Muerte o Lesiones a dos o más personas $ 2.000.000.000 | L35: NO | N35: XXX
A36: MOTOCICLETAS. Responsabilidad Civil Extracontractual (incluyendo daño emergente, daño moral y lucro cesante, así como cualquier otro de concepto de daño patrimonial o extrapatrimonial que determine un Juez de la República) • Daños a bienes de Terceros $ 200.000.000 • Muerte o Lesiones a una persona $ 200.000.000 • Muerte o Lesiones a dos o más personas $ 400.000.000 | L36: NO | N36: XXX
A37: Pérdida Total por Daños (incluidos actos terroristas) | L37: NO | N37: XXX
A38: Pérdida Parcial por Daños (incluidos actos terroristas) | L38: NO | N38: XXX
A39: Pérdida Parcial o Total por Hurto o Hurto Calificado | L39: NO | N39: XXX
A40: Terremoto, Temblor y/o Erupción Volcánica y demás eventos de la naturaleza | L40: NO | N40: XXX
A41: No aplicación de deducibles para todos los amparos | L41: NO | N41: XXX
A42: Amparo de Protección Patrimonial | L42: NO | N42: XXX
A43: Asistencia Jurídica en Proceso Penal | L43: SI | N43: XXX
A44: Asistencia Jurídica en Proceso Civil | L44: SI | N44: XXX
A45: Gastos de Transporte por Pérdidas Totales. Para vehiculos livianos, se excluye Motocicletas. | L45: (Límite de $ 40.000 diarios y hasta 75 días) | N45: XXX
A46: Asistencia en viaje para todos los vehículos asegurados. | L46: SI | N46: XXX
... A49: Ampliación del radio de operaciones para todos los amparos en los países de la Comunidad Andina de Naciones, se excluye Venezuela | L49: NO | N49: XXX
N50: XXX
...

Sheet SOAT
A1: FONDO DE DESARROLLO LOCAL DE SUBA
A2: OFERTA PRESENTADA PARA EL SEGURO OBLIGATORIO DE ACCIDENTES DE TRANSITO SOAT
A3: NOMBRE DEL PROPONENTE:
A4: GC
A5: OBJETO DEL SEGURO
A6: Amparar los daños corporales causados a las personas en accidentes de tránsito, ocurridos dentro del territorio nacional, con los vehículos automotores de propiedad del FONDO DE DESARROLLO LOCAL DE SUBA y con aquellos otros vehículos por los cuales sea responsable.
A9: INFORMACION GENERAL
A11: TOMADOR: | G11: =A1 -> FONDO DE DESARROLLO LOCAL DE SUBA
A12: ASEGURADO: | G12: =G11 -> FONDO DE DESARROLLO LOCAL DE SUBA
A13: BENEFICIARIO: | G13: =G11 -> FONDO DE DESARROLLO LOCAL DE SUBA
N14: LA PREVISORA S.A. COMPAÑÍA DE SEGUROS
A15: AMPARO | G15: CONDICIONES OBLIGATORIAS | N15: CUMPLE | O15: NO CUMPLE | P15: SUBSANA
A16: Gastos médicos, quirúrgicos, farmacéuticos y hospitalarios por lesiones, en cuantía equivalente a ochocientos (800) veces el salario mínimo legal diario vigente al momento del accidente. | G16: LOS DE LEY | N16: XXX
A17: Incapacidad permanente, entendiéndose por tal la prevista en los artículos 209 y 211 del Código Sustantivo del Trabajo, con una indemnización máxima de ciento ochenta (180) veces el salario mínimo legal diario vigente al momento del accidente. | G17: LOS DE LEY | N17: XXX
A18: Muerte y gastos funerarios de la víctima como consecuencia del accidente, siempre y cuando ocurra dentro del año siguiente a la fecha de éste, en cuantía equivalente a setecientas cincuenta (750) veces el salario mínimo legal diario vigente al momento del accidente. | G18: LOS DE LEY | N18: XXX
A19: Gastos de transporte y movilización de las víctimas a los establecimientos hospitalarios o clínicos y las entidades de seguridad y previsión social de los subsectores oficial y privado del sector salud, en cuantía equivalente a diez (10) veces el salario mínimo legal diario vigente al momento del accidente. | G19: LOS DE LEY | N19: XXX
A21: VEHICULOS Y VALORES ASEGURADOS
A23: VER INVENTARIO (ARCHIVO BIENES)
A25: CRITERIOS TÉCNICOS
A26: MEJORA EN AMPAROS OBLIGATORIOS | N26: LA PREVISORA S.A. COMPAÑÍA DE SEGUROS
A27: NOMBRE | G27: SUBLIMITE BÁSICO | H27: PUNTAJE REFERENCIA | I27: DESCRIPCIÓN DEL SUBLIMITE OFRECIDO (EL VALOR DEL SUBLÍMITE CORRESPONDE AL REQUERIDO POR LA ENTIDAD POR LO CUAL PODRÁ SER AUMENTADO PERO NO DISMINUIDO SO PENA DE RECHAZO DE LA PROPUESTA). | L27: PUNTAJE | N27: DÍAS OFERTADOS | O27: PUNTAJE OBTENIDO | P27: % PORCENTAJE OFERTADO | Q27: PUNTAJE OBTENIDO | R27: VALOR ASEGURADO OFERTADO | S27: PUNTAJE OBTENIDO | T27: SUBLIMITE OFERTADO | U27: PUNTAJE OBTENIDO | V27: PROMEDIO
A28: LA ENTIDAD OTORGA EL TOTAL DEL PUNTAJE | H28: 4 | L28: 4 | V28: 4
V29: 4
A30: PUNTAJE TOTAL | K30: 4
A33: PUNTAJE TOTAL MEJORA EN AMPAROS OBLIGATORIOS | K33: =+K30 -> 4
A35: MEJORA EN CLAUSULAS OBLIGATORIAS | N35: LA PREVISORA S.A. COMPAÑÍA DE SEGUROS
A36: NOMBRE DE LA CLAUSULA | E36: DESCRIPCION DE LA CLAUSULA OFRECIDA | H36: PUNTAJE REFERENCIA | I36: DESCRIPCION DE LA CLAUSULA OFRECIDA | L36: PUNTAJE | N36: DÍAS OFERTADOS | O36: PUNTAJE OBTENIDO | P36: % PORCENTAJE OFERTADO | Q36: PUNTAJE OBTENIDO | R36: VALOR ASEGURADO OFERTADO | S36: PUNTAJE OBTENIDO | T36: SUBLIMITE OFERTADO | U36: PUNTAJE OBTENIDO | V36: PROMEDIO
A37: LA ENTIDAD OTORGA EL TOTAL DEL PUNTAJE | H37: 4 | L37: 4 | V37: 4
V38: 4
A39: PUNTAJE TOTAL | K39: 4
A42: PUNTAJE TOTAL MEJORA EN CLAUSULAS OBLIGATORIAS
A44: AMPAROS ADICIONALES | N44: LA PREVISORA S.A. COMPAÑÍA DE SEGUROS
A45: NOMBRE DEL AMPARO | E45: DESCRIPCIÓN DEL AMPARO | H45: PUNTAJE REFERENCIA | I45: DESCRIPCIÓN DEL AMPARO OFRECIDO | L45: PUNTAJE | N45: DÍAS OFERTADOS | O45: PUNTAJE OBTENIDO | P45: % PORCENTAJE OFERTADO | Q45: PUNTAJE OBTENIDO | R45: VALOR ASEGURADO OFERTADO | S45: PUNTAJE OBTENIDO | T45: SUBLIMITE OFERTADO | U45: PUNTAJE OBTENIDO | V45: PROMEDIO
A46: LA ENTIDAD OTORGA EL TOTAL DEL PUNTAJE | H46: 4 | L46: 4 | N46: 75 DIAS | V46: 4
V47: 4
A48: PUNTAJE TOTAL | K48: 4
A51: PUNTAJE TOTAL AMPAROS ADICIONALES
A53: CLÁUSULAS ADICIONALES | N53: LA PREVISORA S.A. COMPAÑÍA DE SEGUROS
A54: NOMBRE DE LA CLAUSULA | E54: DESCRIPCION DE LA CLAUSULA | H54: PUNTAJE REFERENCIA | I54: DESCRIPCION DE LA CLAUSULA OFRECIDA | L54: PUNTAJE | N54: DÍAS OFERTADOS | O54: PUNTAJE OBTENIDO | P54: % PORCENTAJE OFERTADO | Q54: PUNTAJE OBTENIDO | R54: VALOR ASEGURADO OFERTADO | S54: PUNTAJE OBTENIDO | T54: SUBLIMITE OFERTADO | U54: PUNTAJE OBTENIDO | V54: PROMEDIO
A55: LA ENTIDAD OTORGA EL TOTAL DEL PUNTAJE | H55: 4 | L55: 4 | P55: 0.5 | V55: 4
...

Sheet MANEJO
A1: FONDO DE DESARROLLO LOCAL DE SUBA
A2: OFERTA PRESENTADA PARA EL SEGURO DE MANEJO ENTIDADES ESTATALES
A3: NOMBRE DEL PROPONENTE:
A4: GC
A5: OBJETO DEL SEGURO
A6: Amparar a la entidad contra los riesgos que impliquen menoscabo de sus fondos y/o bienes, causados por acciones u omisiones de los empleados en ejercicio de sus cargos o sus reemplazos,contratistas, pasantes, que incurran en actos que se tipifiquen como delitos contra la administración pública, o Fallos con Responsabilidad Fiscal, Alcances y juicios con Responsabilidad Fiscal, de acuerdo con el Artículo 4 de la Ley 389 de 1997. aprobada por la Contraloría General de la República y demás normas concordantes; o alcances por incumplimiento de las disposiciones legales y reglamentarias, incluyendo el costo de la rendición de cuentas en caso de abandono del cargo o fallecimiento del asegurado.
A9: INFORMACION GENERAL
A11: TOMADOR: | G11: =A1 -> FONDO DE DESARROLLO LOCAL DE SUBA
A12: ASEGURADO: | G12: =G11 -> FONDO DE DESARROLLO LOCAL DE SUBA
A13: BENEFICIARIO: | G13: =G11 -> FONDO DE DESARROLLO LOCAL DE SUBA
N15: LA PREVISORA S.A. COMPAÑÍA DE SEGUROS
A16: VALOR ASEGURADO | N16: CUMPLE | O16: NO CUMPLE | P16: SUBSANA
A17: OFERTA BÁSICA | B17: 100000000 | C17: evento / vigencia | N17: XXX
A19: BIENES Y VALORES ASEGURADOS
A21: ARCHIVO EXCEL 1. ESTUDIO DE MERCADO
A23: CARGOS ASEGURADOS
A24: La planta asignada actualmente es de 200 cargos. Incluyendo personal de planta, servidores públicos y personal contratista que realiza funciones para la Entidad. | N24: XXX
A27: AMPAROS OBLIGATORIOS
A28: Los riesgos que impliquen menoscabo de los fondos y bienes del Estado, causados por sus servidores públicos por actos u omisiones que se tipifiquen como delitos contra la administración pública o fallos con responsabilidad fiscal. El amparo se extiende a reconocer el valor de la rendición y reconstrucción de cuentas que se debe llevar a cabo en los casos de abandono del cargo o fallecimiento del empleado. | N28: XXX
A29: El costo de la rendición y reconstrucción de cuentas llevadas a cabo por funcionarios de la Contraloría General de la República en los casos de abandono del cargo o fallecimiento del responsable de la rendición de cuentas, siempre y cuando el asegurador manifieste la imposibilidad de rendir dicha cuentas | N29: XXX
A30: Delitos contra la administración pública | N30: XXX
A31: Delitos contra el patrimonio económico | N31: XXX
A32: Alcances y juicios con responsabilidad fiscal excluye la culpa grave, la cobertura se limita a los procesos y/o fallos con responsabilidad fiscal derivados de actos de deshonestidad de los empleados y/o de conductas constitutivas de delitos contra la administración pública o el patrimonio económico. | N32: XXX
A33: Gastos de reconstrucción y rendición de cuentas
A34: CLAUSULAS OBLIGATORIAS
A35: NOMBRE DE LA CLAUSULA | F35: DESCRIPCION DE LA CLAUSULA
A36: AMPARO AUTOMATICO DE CARGOS QUE POR ERROR U OMISIÓN NO SE HAYAN INFORMADO AL INICIO DEL SEGURO | F36: Queda entendido, convenido y aceptado que no obstante lo que en contrario se diga en las condiciones generales de la póliza, el presente anexo se extiende a cubrir automáticamente todo cargo que por error u omisión no se haya informado al inicio del seguro por el asegurado. El asegurado deberá comunicar tal situación a la aseguradora dentro de los 60 días siguientes a la expedición del seguro y la compañía efectuará el cobro de la prima proporcional a prorrata. (Nota: el número de días corresponde al mínimo requerido por lo cual podrá ser aumentado pero no disminuido so pena de rechazo del ramo) | N36: XXX
A37: AMPARO AUTOMATICO DE NUEVOS CARGOS | F37: Queda entendido, convenido y aceptado que no obstante lo que en contrario se diga en las condiciones generales de la póliza, el presente anexo se extiende a cubrir automáticamente todo nuevo cargo creado por el asegurado sin que ello requiera de aviso y sin que se genere cobro de prima adicional, siempre y cuando los cargos creados no superen el 10% de los cargos asegurados, caso en el cual si se requerirá dar aviso dentro de los 60 días siguientes a la creación y generará el cobro de prima correspondiente. (Nota: el porcentaje y el número de días corresponde al requerido por la Entidad por lo cual podrá ser aumentado pero no disminuido so pena de rechazo de la propuesta) | N37: XXX
A38: AMPLIACIÓN DEL PLAZO PARA AVISO DE SINIESTRO | F38: Por medio de la presente cláusula y no obstante lo estipulado en las condiciones generales de la póliza, el asegurado podrá dar aviso de la ocurrencia del siniestro en un término de 60 días, siguientes a la fecha en que haya conocido o debido conocer la ocurrencia del mismo. (Nota: el número de días corresponde al requerido por la Entidad por lo cual podrá ser aumentado pero no disminuido so pena de rechazo de la propuesta) | N38: XXX
A39: ANTICIPO DE INDEMNIZACION 50% | F39: Queda entendido, convenido y aceptado que en caso de presentarse un siniestro amparado bajo la presente póliza y demostrada su ocurrencia, la compañía conviene en anticipar el 50% del valor estimado de la pérdida mientras el asegurado cumple con la obligación legal para tal fin. El asegurado deberá hacer el requerimiento mediante comunicación escrita dirigida a la compañía. (Nota: el porcentaje señalado corresponde al requerido por la Entidad por lo cual podrá ser aumentado pero no disminuido, so pena de rechazo de la propuesta) | N39: XXX
A40: BIENES BAJO CUIDADO, TENENCIA, CONTROL Y CUSTODIA | F40: Queda entendido, convenido y aceptado que la Compañía de Seguros indemnizará los daños ocasionados por cualquier siniestro amparado bajo la presente póliza, que afecte bienes que sin ser de propiedad del asegurado, estén bajo la responsabilidad, cuidado, tenencia, control o custodia del mismo. En dicho evento, y posterior a la pérdida, la prima adicional se liquidará con base en las tasas contratadas. opera en exceso de las pólizas que el propietario de dichos bienes tenga contratadas. Sublímite $200.000.000 evento/vigencia. (Nota: el valor del límite corresponde al requerido por la Entidad por lo cual podrá ser aumentado pero no disminuido so pena de rechazo de la propuesta) | N40: XXX
A41: CLAUSULA DE APLICACIÓN DE CONDICIONES PARTICULARES | F41: Queda expresamente acordado y convenido, que la compañía acepta las condiciones básicas, técnicas establecidas en este anexo, en los términos señalados en el mismo, por lo tanto, en caso de existir discrepancias entre los ofrecimientos contenidos en la propuesta técnica básica, frente a los textos de los ejemplares de las pólizas, certificados, anexos o cualquier otro documento; prevalecerá la información y condiciones básicas técnicas establecidas. | N41: XXX
A42: CLÁUSULA DE PROTECCION BANCARIA. | F42: Se cubre la pérdida en la cual el asegurado o cualquier banco comprendido dentro de la prueba de la pérdida, y en el cual el asegurado tenga cuenta corriente o de ahorros, como sus respectivos interese aparezcan, puede sustentar como debida a falsificación o adulteración de o en cualquier cheque o giro, letra de cambio, pagaré, carta de crédito o cualquier documento similar de crédito, girado, ordenado o dirigido para pagar determinada suma de dinero, hecho o girado por o para el asegurado, o por o para una persona que obre en su nombre o representación, incluyendo: a.- cualquier cheque o giro hecho o girado en nombre del asegurado, pagadero a una persona ficticia y endosado o pagado a nombre de dicha persona. b.- cualquier cheque o giro hecho o girado en transacción por el asegurado o por su representante a favor de un tercero y entregado al representante de este; que resultare endosado o cobrado por persona distinta de aquel a quien se giró. c.- cualquier cheque o giro con destino al pago de salarios que habiendo sido girado u ordenado por el asegurado, resultare endosado o cobrado por un tercero obrando supuestamente a nombre del girador, o de aquél a quien se debía hacer el pago. Habrá cobertura para cualquiera de los endosos descritos en a, b, c, siempre que pueda ser calificado como falsificación o adulteración de conformidad con las leyes pertinentes de la República de Colombia. Los facsímiles de firmas estampadas por medio de máquinas serán considerados como firmas autógrafas. Con sub limite del treinta (30)% por ciento del valor asegurado. esta clausula opera desde que la entidad bancaria no tenga responsabilidad Este amparo aplica siempre y cuando esté implicado un funcionario de la entidad | N42: XXX
A43: CONCURRENCIA DE AMPAROS, CLÁUSULAS Y/O CONDICIONES | F43: Queda entendido, convenido y aceptado, que si dos o más amparos, cláusulas o condiciones otorgan cobertura a un mismo evento, se indemnizará con aquella que ofrezca mayor protección para los intereses del asegurado. De igual manera prevalecerán los amparos, cláusulas o condiciones que otorguen cobertura, sobre aquellos que las excluyan. En todo caso y ante cualquier discrepancia sobre cuál es el amparo, cláusula o condición aplicable a un caso determinado, se aplicará aquella que determine el asegurado de acuerdo a su conveniencia. | N43: XXX
A44: CONOCIMIENTO DEL RIESGO | F44: La Compañía declara el conocimiento de los riesgos asegurados y por lo tanto deja constancia del conocimiento de los hechos, circunstancias y en general condiciones de los mismos, sin perjuicio de la obligación que tiene a su cargo el asegurado de avisar cualquier modificación o alteración en el estado del riesgo atendiendo a los criterios establecidos en los artículos 1058 y 1061 del Código del Comercio. La Compañía se reserva el derecho de realizar visitas para inspeccionar los riesgos asegurados cuantas veces lo juzgue pertinente. | N44: XXX
A45: COSTAS EN JUICIOS Y HONORARIOS PROFESIONALES | F45: Por medio de la presente cláusula la compañía indemnizará al asegurado las costas de los procesos judiciales y los honorarios de abogados, siempre y cuando sean justificados, razonables, causados y cancelados por el asegurado en la defensa de cualquier procedimiento legal o pleito. El asegurador podrá, en caso de así determinarlo y de común acuerdo con el asegurado asumir la defensa en cualquier litigio o procedimiento legal a nombre del asegurado, a través de abogados elegidos por el asegurador. Sublímite 20% del valor asegurado Evento / Vigencia (Nota: el valor corresponde al requerido por la Entidad por lo cual podrá ser aumentado pero no disminuido so pena de rechazo de la propuesta) | N45: XXX
A46: DEFINICION DE TRABAJADOR O EMPLEADO | F46: La expresión de trabajador o empleado comprende a representantes legales, funcionarios o empleados del asegurado, vinculado a este mediante contrato de trabajo, orden de trabajo o mediante nombramiento por decreto o resolución. Igualmente quedan amparados los trabajadores ocasionales, temporales o transitorios, y a quienes sin serlo realicen prácticas o investigaciones en sus dependencias, como estudiantes o visitantes especiales, con la previa y expresa autorización del asegurado. Así mismo todas aquellas personas naturales y contratistas independientes que presten sus servicios en el establecimiento del asegurado, bajo cualquier título o contrato y demás que requiera la entidad para su normal funcionamiento, bajo su control y supervisión. | N46: XXX
A47: DENOMINACIÓN EN LIBROS | F47: Queda entendido, convenido y aceptado que la compañía acepta el título, nombre, denominación y/o nomenclatura con que el asegurado identifica o describe los bienes asegurados en sus registros o libros de comercio o de contabilidad, siempre y cuando se trate de bienes amparados bajo la presente póliza. | N47: XXX
... A70: EXCLUSIÓN ABSOLUTA DE ENFERMEDADES INFECCIOSAS: | F70: Este seguro no cubre cualquier reclamo de ninguna manera causado por o como resultado de: a) enfermedad por coronavirus (COVID-19) b) coronavirus 2 del síndrome respiratorio agudo severo (SARS-CoV-2) c) cualquier mutación o variación de SARS-CoV-2; d) cualquier otra enfermedad transmisible, epidemia o pandemia e) cualquier temor o amenaza de a), b), c) o d) anteriores f) la interrupción de negocios y/o pérdidas financieras sufridas por la Entidad al no poder desarrollar la actividad para la cual fue creada como consecuencia de a), b), c), d) y e) anteriores | N70: XXX
A71: CRITERIOS TÉCNICOS | N71: LA PREVISORA S.A. COMPAÑÍA DE SEGUROS
...

Sheet R.C.E.
A1: FONDO DE DESARROLLO LOCAL DE SUBA
A2: OFERTA PRESENTADA PARA EL SEGURO DE RESPONSABILIDAD CIVIL EXTRACONTRACTUAL PREDIOS LABORES Y OPERACIONES
A3: NOMBRE DEL PROPONENTE:
A4: GC | N4: LA PREVISORA S.A. COMPAÑÍA DE SEGUROS
A5: OBJETO DEL SEGURO | N5: CUMPLE | O5: NO CUMPLE | P5: SUBSANA
A6: Amparar los perjuicios patrimoniales y extrapatrimoniales que sufra la ENTIDAD, como consecuencia de la Responsabilidad Civil Extracontractual originada dentro o fuera de sus instalaciones, en el desarrollo de sus actividades o en lo relacionado con ella, lo mismo que los actos de sus empleados y funcionarios dentro y fuera del territorio nacional. Nota: Se entenderán como terceros todas y cada una de las personas que circulen, ingresen, accedan o se encuentren en los predios de asegurado, independientemente que el asegurado le esté prestando un servicio objeto de su razón socia | N6: XXX
N8: XXX
A9: INFORMACION GENERAL
A11: TOMADOR: | G11: =A1 -> FONDO DE DESARROLLO LOCAL DE SUBA
A12: ASEGURADO: | G12: =G11 -> FONDO DE DESARROLLO LOCAL DE SUBA
A13: BENEFICIARIO: | G13: =G11 -> FONDO DE DESARROLLO LOCAL DE SUBA
A15: CONDICIONES OBLIGATORIAS | G15: TIPO DE COBERTURA: Responsabilidad civil extracontractual para amparar los daños materiales y/o lesiones y/o muerte causadas por la ENTIDAD a terceros durante el giro normal de sus actividades por cualquier causa, salvo los eventos expresamente excluidos. | N15: XXX
G16: Todos las cláusulas que otorgan coberturas de gastos adicionales, operan sin aplicación de deducibles. | N16: XXX
G17: La Presente póliza opera igualmente en exceso de los amparos de responsabilidad civil contratados en el seguro de automóviles y en el seguro de todo riesgo equipo y maquinaria. | N17: XXX
G18: Los oferentes deben tener en cuenta para la elaboración de la propuesta, que las condiciones, coberturas básicas para las cuales no se indique sublímite, operaran al 100% del valor asegurado | N18: XXX
A20: VALOR ASEGURADO
A21: OFERTA BÁSICA | E21: 1000000000
A22: AMPAROS OBLIGATORIOS
A23: NOMBRE | K23: SUBLIMITE
A24: Actividades deportivas, eventos sociales y culturales dentro o fuera de los predios. (se excluye corridas de toros y juegos pirotecnicos). | K24: NO | N24: XXX
A25: Avisos, vallas y letreros dentro y fuera de los predios. | K25: NO | N25: XXX
A26: Contaminación Súbita y Accidental e imprevista. (Excluye contaminación paulatina). | K26: SI - Sublímite 40% del valor asegurado evento / vigencia | N26: XXX
A27: Alimentos y bebidas | K27: NO | N27: XXX
A28: Contratistas y Subcontratistas independientes. Esta cobertura opera en exceso de las pólizas del contratista o subcontratista. | K28: SI - Sublímite mínimo 30% del valor asegurado evento / vigencia | N28: XXX
A29: Daño Moral | K29: SI - Sublímite 20% del valor asegurado evento / vigencia | N29: XXX
A30: Gastos médicos, hospitalarios y traslado de victimas incluyendo personal del asegurado. La compañía cubre, con sujeción a las condiciones de este seguro, los gastos razonables que se causen por concepto de primeros auxilios inmediatos, servicios médicos, quirúrgicos, de ambulancia, de hospital, de enfermedades y drogas, como consecuencia de lesiones corporales producidas a terceros en desarrollo de las actividades específicamente amparadas bajo las condiciones particulares de la presente póliza. El amparo que mediante esta sección se otorga es independiente del de Responsabilidad y por consiguiente, los pagos que por dicho concepto se realizan, en ningún caso pueden ser interpretados como aceptación tácita de responsabilidad. | K30: SI - Sublímite $10.000.000. evento y $50.000.000 vigencia | N30: XXX
A31: Operaciones de cargue y descargue bienes y mercancías, incluyendo aquellos de naturaleza azarosa o inflamable | K31: NO | N31: XXX
A32: Pagos Suplementarios (Presentación de cauciones, Condena en costas e intereses de mora acumulados a cargo del asegurado, demás gastos razonables). | K32: SI - Sublímite al 10% | N32: XXX
A33: Participación del asegurado en Ferias y exposiciones Nacionales y Eventos relacionados con su objeto social | K33: NO | N33: XXX
A34: Posesión, uso y mantenimiento de depósitos, tanques y tuberías, ubicados o instalados dentro de los predios del asegurado. | K34: NO | N34: XXX
A35: Predios labores y operaciones, (incluyendo daño y/o perjuicio patrimonial o extrapatrimonial) | K35: NO | N35: XXX
... A54: Vehiuclos propios y no propios | K54: NO | N54: XXX
A55: CLAUSULAS OBLIGATORIAS
A57: NOMBRE DE LA CLAUSULA | F57: DESCRIPCION DE LA CLAUSULA
A58: ACTOS DE AUTORIDAD | F58: Queda entendido, convenido y aceptado que la compañía ampara la responsabilidad civil del asegurado que tenga origen en cualquier acto, instrucción u orden de autoridad competente. | N58: XXX
A59: AMPARO AUTOMATICO PARA NUEVOS PREDIOS, OPERACIONES Y/O ACTIVIDADES | F59: Queda entendido, convenido y aceptado que no obstante lo que en contrario se diga en las condiciones generales de la póliza, el presente anexo se extiende a cubrir automáticamente todo nuevo predio, operación y/o actividad creados por el asegurado, obligándose a informar a la compañía dentro de los 60 días siguientes a la creación. La prima adicional se liquidará con base en las tasas contratadas. Si vencido este plazo no se ha informado a la Compañía, cesará el amparo. (Nota: el número de días corresponde al requerido por la Entidad por lo cual podrá ser aumentado pero no disminuido so pena de rechazo de la propuesta) | N59: XXX
A60: AMPLIACIÓN DEL PLAZO PARA AVISO DE SINIESTRO | F60: Por medio de la presente cláusula y no obstante lo estipulado en las condiciones generales de la póliza, el asegurado podrá dar aviso de la ocurrencia del siniestro en un término de 90 días, siguientes a la fecha en que haya conocido o debido conocer la ocurrencia del mismo. (Nota: el número de días corresponde al requerido por la Entidad por lo cual podrá ser aumentado pero no disminuido so pena de rechazo de la propuesta) | N60: XXX
A61: ANTICIPO DE INDEMNIZACION 50% | F61: Queda entendido, convenido y aceptado que en caso de presentarse un siniestro amparado bajo la presente póliza y demostrada su ocurrencia, la compañía conviene en anticipar el 50% del valor estimado de la pérdida mientras el asegurado cumple con la obligación legal para tal fin. El asegurado deberá hacer el requerimiento mediante comunicación escrita dirigida a la compañía. (Nota: el porcentaje señalado corresponde al requerido por la Entidad por lo cual podrá ser aumentado pero no disminuido, so pena de rechazo de la propuesta) | N61: XXX
A62: ANTICIPO DE INDEMNIZACION PARA GASTOS MÉDICOS 50% | F62: Queda entendido, convenido y aceptado que en caso de presentarse un siniestro amparado bajo la presente póliza, que afecte la cobertura de gastos médicos y demostrada su ocurrencia, la compañía conviene en anticipar el 50% del valor estimado de la pérdida mientras el asegurado cumple con la obligación legal para tal fin. El asegurado deberá hacer el requerimiento mediante comunicación escrita dirigida a la compañía. (Nota: el porcentaje señalado corresponde al requerido por la Entidad por lo cual podrá ser aumentado pero no disminuido, so pena de rechazo de la propuesta) | N62: XXX
A63: ANTICIPO DE INDEMNIZACION POR ALIMENTOS O BEBIDAS 30% | F63: Queda entendido, convenido y aceptado que en caso de presentarse un siniestro amparado bajo la presente póliza, que afecte la cobertura de alimentos y bebidas y demostrada su ocurrencia, la compañía conviene en anticipar el 30% del valor estimado de la pérdida mientras el asegurado cumple con la obligación legal para tal fin. El asegurado deberá hacer el requerimiento mediante comunicación escrita dirigida a la compañía. (Nota: el porcentaje señalado corresponde al requerido por la Entidad por lo cual podrá ser aumentado pero no disminuido, so pena de rechazo de la propuesta) | N63: XXX
...

Sheet R.C.S.P.
A1: FONDO DE DESARROLLO LOCAL DE SUBA
A2: OFERTA PRESENTADA PARA EL SEGURO DE RESPONSABILIDAD CIVIL SERVIDORES PÚBLICOS
A3: NOMBRE DEL PROPONENTE:
A4: GC
A5: OBJETO DEL SEGURO | N5: LA PREVISORA S.A. COMPAÑÍA DE SEGUROS
A6: “Indemnizar los perjuicios causados a terceros y a la entidad amparada, provenientes de la responsabilidad civil de los servidores públicos, originados en cualquier reclamación iniciada por primera vez enmarcada dentro de la ley, durante la vigencia de la póliza, por todo acto u omisión, por actos incorrectos, culposos, reales o presuntos, pero nunca dolosos, cometidos por la persona que desempeñe los cargos asegurados expresamente mencionados en la caratula de la póliza, en el desempeño de sus respectivas funciones como Servidores Públicos. De igual manera, los perjuicios imputables a funcionarios de la Entidad que desempeñen los cargos relacionados y descritos en el formulario que suministre la Entidad, así como por Juicios de Responsabilidad Fiscal, acciones de repetición iniciadas por el tomador en contra de los servidores públicos asegurados y los gastos en que incurra el funcionario para su defensa”. MODALIDAD DE COBERTURA - CLAIMS MADE: El sistema bajo el cual opera la presente póliza es por notificación de investigaciones y/o procesos por primera vez durante la vigencia de la póliza derivados de hechos ocurridos en el periodo de retroactividad contratado | N6: CUMPLE | O6: NO CUMPLE | P6: SUBSANA
N7: XXX
A9: INFORMACION GENERAL
A11: TOMADOR: | G11: =A1 -> FONDO DE DESARROLLO LOCAL DE SUBA
A12: ASEGURADO: | G12: =G11 -> FONDO DE DESARROLLO LOCAL DE SUBA
A13: BENEFICIARIO: | G13: =G11 -> FONDO DE DESARROLLO LOCAL DE SUBA
A15: NOTA: | G15: Los oferentes deben tener en cuenta para la elaboración de la propuesta, que las condiciones, coberturas básicas para las cuales no se indique sublímite, operaran al 100% del valor asegurado. | N15: XXX
N16: XXX
A18: VALORES ASEGURADOS
A21: OFERTA BASICA ALCALDE | C21: Oferta Básica: | D21: 1000000000 | E21: Evento/Vigencia | N21: XXX
C22: Gastos de Defensa: cargos según formulario. ALCALDE. | N22: XXX
C23: $ 60.000.000 por persona en cada proceso | N23: XXX
C24: $ 140.000.000 por persona en la vigencia | N24: XXX
C25: $ 140.000.000 por evento | N25: XXX
C26: $ 260.000.000 por vigencia para todos los eventos | N26: XXX
C27: Los gastos de defensa hacen parte del valor asegurado del básico | N27: XXX
C28: Se limita la cobertura por etapas del proceso. El sublímite para gastos de defensa forma parte del valor asegurado y no en adición a este. | N28: XXX
N29: XXX
A30: OFERTA BASICA DEMÁS CARGOS | C30: Oferta Básica: | D30: 800000000 | E30: Evento/Vigencia | N30: XXX
C31: Gastos de Defensa: cargos según formulario. DEMAS CARGOS | N31: XXX
C32: $ 40.000.000 por persona en cada proceso | N32: XXX
C33: $ 120.000.000 por persona en la vigencia | N33: XXX
C34: $ 120.000.000 por evento | N34: XXX
C35: $ 240.000.000 por vigencia para todos los eventos | N35: XXX
C36: Los gastos de defensa hacen parte del valor asegurado del básico | N36: XXX
C37: Se limita la cobertura por etapas del proceso. El sublímite para gastos de defensa forma parte del valor asegurado y no en adición a este. | N37: XXX
C39: TOTAL CARGOS ASEGURAR: ASEGURADOS RCSP. | N39: XXX
C41: Oferta 1: | D41: 1400000000 | E41: Evento/Vigencia Solo para el Basico | N41: XXX
C43: NOTA: SE ACLARA QUE EL LÍMITE DE $ 110.000.000 EN GASTOS DE DEFENSA ES POR VIGENCIA, OPERA COMO UN SOLO LÍMITE PARA EL ASEGURADO. | N43: XXX
C44: PROCESO DISCIPLINARIO | N44: XXX
N45: XXX
N46: XXX
C47: Solo aplica para proceso disciplinario | D47: Para honorarios el maximo limite es $20.000.000 para el cargo principal. | N47: XXX
N48: XXX
N49: XXX
...

Sheet R.C.C.
A1: FONDO DE DESARROLLO LOCAL DE SUBA
A2: OFERTA PRESENTADA PARA EL SEGURO ACCIDENTES PERSONALES RESPONSABILIDAD CIVIL CONTRACTUAL
A3: NOMBRE DEL PROPONENTE:
A4: GC | N4: LA PREVISORA S.A. COMPAÑÍA DE SEGUROS
A5: OBJETO DEL SEGURO | N5: CUMPLE | O5: NO CUMPLE | P5: SUBSANA
A6: Amparar la muerte o lesiones causadas a los pasajeros ocupantes del vehículo ocurridos dentro del territorio nacional, con los vehículos automotores de propiedad del La Entidad y con aquellos otros vehículos por los cuales sea responsable. | N6: XXX
A9: INFORMACION GENERAL
A11: TOMADOR: | G11: =A1 -> FONDO DE DESARROLLO LOCAL DE SUBA
A12: ASEGURADO: | G12: =G11 -> FONDO DE DESARROLLO LOCAL DE SUBA
A13: BENEFICIARIO: | G13: =G11 -> FONDO DE DESARROLLO LOCAL DE SUBA
A15: AMPARO | G15: CONDICIONES OBLIGATORIAS
A16: Muerte Accidental | G16: 100 SMMLV | N16: XXX
A17: Incapacidad total y permanente | G17: 100 SMMLV | N17: XXX
A18: Incapacidad temporal | G18: 100 SMMLV | N18: XXX
A19: Gastos médicos, quirúrgicos, farmacéuticos y hospitalarios | G19: 100 SMMLV | N19: XXX
A21: VEHICULOS Y VALORES ASEGURADOS
A23: VER INVENTARIO (ARCHIVO BIENES)
A25: CRITERIOS TÉCNICOS
A26: MEJORA EN AMPAROS OBLIGATORIOS | N26: LA PREVISORA S.A. COMPAÑÍA DE SEGUROS
A27: NOMBRE | G27: SUBLIMITE BÁSICO | H27: PUNTAJE REFERENCIA | I27: DESCRIPCIÓN DEL SUBLIMITE OFRECIDO (EL VALOR DEL SUBLÍMITE CORRESPONDE AL REQUERIDO POR LA ENTIDAD POR LO CUAL PODRÁ SER AUMENTADO PERO NO DISMINUIDO SO PENA DE RECHAZO DE LA PROPUESTA). | L27: PUNTAJE | N27: DÍAS OFERTADOS | O27: PUNTAJE OBTENIDO | P27: % PORCENTAJE OFERTADO | Q27: PUNTAJE OBTENIDO | R27: VALOR ASEGURADO OFERTADO | S27: PUNTAJE OBTENIDO | T27: SUBLIMITE OFERTADO | U27: PUNTAJE OBTENIDO | V27: PROMEDIO
A28: LA ENTIDAD OTORGA EL TOTAL DEL PUNTAJE | H28: 4 | L28: 4 | V28: 4
V29: 4
A30: PUNTAJE TOTAL | K30: 4
A33: PUNTAJE TOTAL MEJORA EN AMPAROS OBLIGATORIOS | K33: =+K30 -> 4
A35: MEJORA EN CLAUSULAS OBLIGATORIAS | N35: LA PREVISORA S.A. COMPAÑÍA DE SEGUROS
A36: NOMBRE DE LA CLAUSULA | E36: DESCRIPCION DE LA CLAUSULA OFRECIDA | H36: PUNTAJE REFERENCIA | I36: DESCRIPCION DE LA CLAUSULA OFRECIDA | L36: PUNTAJE | N36: DÍAS OFERTADOS | O36: PUNTAJE OBTENIDO | P36: % PORCENTAJE OFERTADO | Q36: PUNTAJE OBTENIDO | R36: VALOR ASEGURADO OFERTADO | S36: PUNTAJE OBTENIDO | T36: SUBLIMITE OFERTADO | U36: PUNTAJE OBTENIDO | V36: PROMEDIO
A37: LA ENTIDAD OTORGA EL TOTAL DEL PUNTAJE | H37: 4 | L37: 4 | V37: 4
V38: 4
A39: PUNTAJE TOTAL | K39: 4
A42: PUNTAJE TOTAL MEJORA EN CLAUSULAS OBLIGATORIAS
A44: AMPAROS ADICIONALES | N44: LA PREVISORA S.A. COMPAÑÍA DE SEGUROS
A45: NOMBRE DEL AMPARO | E45: DESCRIPCIÓN DEL AMPARO | H45: PUNTAJE REFERENCIA | I45: DESCRIPCIÓN DEL AMPARO OFRECIDO | L45: PUNTAJE | N45: DÍAS OFERTADOS | O45: PUNTAJE OBTENIDO | P45: % PORCENTAJE OFERTADO | Q45: PUNTAJE OBTENIDO | R45: VALOR ASEGURADO OFERTADO | S45: PUNTAJE OBTENIDO | T45: SUBLIMITE OFERTADO | U45: PUNTAJE OBTENIDO | V45: PROMEDIO
A46: LA ENTIDAD OTORGA EL TOTAL DEL PUNTAJE | H46: 4 | L46: 4 | V46: 4
V47: 4
A48: PUNTAJE TOTAL | K48: 4
A51: PUNTAJE TOTAL AMPAROS ADICIONALES
A53: CLÁUSULAS ADICIONALES | N53: LA PREVISORA S.A. COMPAÑÍA DE SEGUROS
A54: NOMBRE DE LA CLAUSULA | E54: DESCRIPCION DE LA CLAUSULA | H54: PUNTAJE REFERENCIA | I54: DESCRIPCION DE LA CLAUSULA OFRECIDA | L54: PUNTAJE | N54: DÍAS OFERTADOS | O54: PUNTAJE OBTENIDO | P54: % PORCENTAJE OFERTADO | Q54: PUNTAJE OBTENIDO | R54: VALOR ASEGURADO OFERTADO | S54: PUNTAJE OBTENIDO | T54: SUBLIMITE OFERTADO | U54: PUNTAJE OBTENIDO | V54: PROMEDIO
A55: LA ENTIDAD OTORGA EL TOTAL DEL PUNTAJE | H55: 4 | L55: 4 | V55: 4
V56: 4
...

Sheet VIDA
A1: FONDO DE DESARROLLO LOCAL DE SUBA
A2: OFERTA PRESENTADA PARA EL SEGURO DE VIDA GRUPO EDILES
A3: NOMBRE DEL PROPONENTE:
A4: GC | N4: LA PREVISORA S.A. COMPAÑÍA DE SEGUROS | Q4: SEGUROS DE VIDA DEL ESTADO S.A. | T4: COMPAÑÍA DE SEGUROS DE VIDA AURORA S A
A5: OBJETO DEL SEGURO | N5: CUMPLE | O5: NO CUMPLE | P5: SUBSANA | Q5: CUMPLE | R5: NO CUMPLE | S5: SUBSANA | T5: CUMPLE | U5: NO CUMPLE | V5: SUBSANA
A6: Amparar contra el riesgo de muerte por cualquier causa incluyendo el suicidio a los miembros del grupo asegurable, aquellos por los cuales sea o llegara a ser legalmen-te responsable. Hasta por la suma asegurada fijada para este amparo. En cumplimiento de la ley 136 de 1994 Art. 68 y el Artículo 72 del Decreto Ley 1421 de 1993 determina que los ediles tienen derecho a los mismos seguros reconocidos a los concejales del Distrito Capital. | N6: XXX | Q6: XXX | T6: XXX
A9: INFORMACION GENERAL
A11: TOMADOR: | G11: =A1 -> FONDO DE DESARROLLO LOCAL DE SUBA
A12: ASEGURADO: | G12: EDILES DE LA LOCALIDAD. SEGÚN ANEXO DE RELACION ASEGURADOS.
A13: BENEFICIARIO: | G13: GRUPO ASEGURADO Y/O BENEFICIARIOS -LOS DE LEY.
A15: CONDICIONES OBLIGATORIAS | G15: TIPO DE COBERTURA: Amparar la muerte por cualquier causa del grupo aseguradode acuerdo con la Ley 136 de 1,994 Y DECRETOS DISTRITALES | N15: XXX | Q15: XXX | T15: XXX
A20: VALORES ASEGURADOS
N21: XXX | Q21: XXX | T21: XXX
B22: Salario Minimio Mensual Legal 2026 | G22: 1750905 | N22: XXX | Q22: XXX | T22: XXX
B23: valor asegurado 300 SMMLV | G23: =+G22*300 -> 525271500 | N23: XXX | Q23: XXX | T23: XXX
B24: VALOR ASEGURADO TOTAL | G24: =+G23*11 -> 5777986500 | N24: XXX | Q24: XXX | T24: XXX
N25: XXX | Q25: XXX | T25: XXX
B26: VIDA (MUERTE POR CUALQUIER CAUSA) | G26: =+G23 -> 525271500 | N26: XXX | Q26: XXX | T26: XXX
B27: INDEMNIZACION POR MUERTE ACC | G27: =+G23/2 -> 262635750 | N27: XXX | Q27: XXX | T27: XXX
B28: INCAPACIDAD TOTAL Y PERMANENTE | G28: =+G23 -> 525271500 | N28: XXX | Q28: XXX | T28: XXX
B29: ENFERMEDADES GRAVES | G29: =+G23/2 -> 262635750 | N29: XXX | Q29: XXX | T29: XXX
B30: TRANSPLANTE DE ORGANOS | G30: =+G23/2 -> 262635750 | N30: XXX | Q30: XXX | T30: XXX
B31: GASTOS MEDICOS | G31: 15000000 | N31: XXX | Q31: XXX | T31: XXX
B32: AUXILIO FUNERARIO | G32: 7500000 | N32: XXX | Q32: XXX | T32: XXX
A34: BIENES Y VALORES ASEGURADOS
A36: ARCHIVO EXCEL 1. ESTUDIO DE MERCADO
A38: AMPAROS OBLIGATORIOS
A40: NOMBRE | E40: DEFINICIÓN DE LA COBERTURA | K40: VALOR ASEGURADO INDIVIDUAL | L40: SE PERMITE SUBLIMITAR
