Workbook
Name contratación: 'IDENTIFICACION Y ANALISIS'!$B$41:$B$46
Name ejecución: 'IDENTIFICACION Y ANALISIS'!$B$48:$B$81
Name OPCIONES: 'ASIGNACION Y TRATAMIENTO'!$B$52:$B$54
Name planeación: 'IDENTIFICACION Y ANALISIS'!$B$19:$B$29
Name selección: 'IDENTIFICACION Y ANALISIS'!$B$31:$B$38

Sheet CONTEXTO
C2: MATRIZ DE RIESGOS EN CONTRATACIÓN | F2: Código: GCO-GCI-F164 Versión: 02 Vigencia: 01 de diciembre de 2022 Caso HOLA: 280117
B6: ESTABLECER EL CONTEXTO
B7: El punto inicial es identificar el contexto en el cual interactúa la Entidad Estatal para conocer el ambiente social, económico y político, e identificar (i) sus propios Riesgos; (ii) los Riesgos comunes a sus Procesos de Contratación; y (iii) los Riesgos del Proceso de Contratación en particular. (Aplica igual para contratos interadministrativos) En este paso la Entidad Estatal debe identificar los aspectos que se mencionan a continuación y los posibles efectos adversos que estos pueden generar.
B8: Objeto del Proceso de Contratación: Prestar servicios para fortalecer la agricultura urbana y periurbana e implementar Procesos Comunitarios de Educación Ambiental (PROCEDA) en la localidad de Suba.
B9: Partícipes del Proceso de Contratación: Agentes externos: Red de agricultores urbanos de Suba, Comisión Ambiental Local; Veeduría Distrital; JAL Suba. Agentes internos: supervisor del contrato; apoyo a la supervisión; equipo técnico de ambiente de ALS.
B10: Ciudadanía que se beneficia del Proceso de Contratación: Agentes internos: supervisor del contrato; apoyo a la supervisión. Externos: Comunidad en general de la localidad de Suba.
B11: Capacidad de la Entidad Estatal entendida como la disponibilidad de recursos y conocimientos para el Proceso de Contratación: Participan las áreas que requieren los procesos de contratación, como Planeación y Ambiente (Etapa de Estudios previos), el grupo de Contratos de la Alcaldía Local (Etapa contractual), los evaluadores designados, idóneos y con experiencia en el tema.
B12: Suficiencia del presupuesto oficial del Proceso de Contratación: De acuerdo al Plan de contratación para la vigencia 2026, y teniendo en cuenta el PAA actualizado, POAI 2026, se estimaron los recursos necesarios para el desarrollo del proceso de la contratación, el cual tendrá el soporte presupuestal suficiente para su desarrollo.
B13: Condiciones geográficas y de acceso del lugar en el cual se debe cumplir el objeto del Proceso de Contratación: Toda la localidad de Suba, y toda la ruralidad de Suba.
B14: Entorno socio ambiental: tensionantes ambientales en la zona urbana, periurbana y rural que trascienden a la calidad de vida de la población y que por medio de la agricultura urbana intentan dar solucion a dichos problemas.
B15: Condiciones políticas: NA
B16: Factores ambientales: El Estudio previo cuenta con las cláusulas ambientales y Fichas ambientales que debe cumplir el Contratista durante la ejecución.
B17: Sector del objeto del Proceso de Contratación y su mercado: El estudio de sector cuenta con el analisis de la oferta y demanda para el proceso contractual, encontrando una amplia oferta de empresas privadas y públicas que prestan el servicio.
... B19: Experiencia propia y de otras Entidades Estatales en Procesos de Contratación del mismo tipo: La Entidad ha contratado la prestación de servicios para el desarrollo de procesos de educación ambiental, agricultura Urbana, fortalecimiento a huertas comunales, formento de cambios de habitos de consumos y desarrollo de actividades de fortalecimiento a proceso ciudadanos de educación ambiental. Por lo tanto, el Fondo cuenta con la experiencia adquirida en el adelantamiento de este tipo de procesos.

Sheet IDENTIFICACION Y ANALISIS
C2: MATRIZ DE RIESGOS DE CONTRATACIÓN | F2: Código: GCO-GCI-F164 Versión: 02 Vigencia: 01 de diciembre de 2022 Caso HOLA: 280117
B6: DEFINICIONES
B7: RIESGO: Evento que puede generar efectos adversos y de distinta magnitud en el logro de los objetivos del Proceso de Contratación o en la ejecución de un contrato RIESGOS PREVISIBLES: Son los posibles hechos o circunstancias que por la naturaleza del contrato y de la actividad a ejecutar es factible su ocurrencia. ETAPA DE PLANEACIÓN: Está comprendida desde el momento en que se identifican las necesidades que debe satisfacer la Secretaría Distrital de Gobierno y los Fondos de Desarrollo Local, a través del abastecimiento de bienes, obras o servicios, la elaboración del Plan Anual de Adquisiciones y la estructuración de los documentos y estudios previos. ETAPA DE SELECCIÓN: Está comprendida entre el acto de Apertura del Proceso de Contratación y la Adjudicación o la declaración de desierto del Proceso de Contratación ETAPA DE CONTRATACIÓN: Una vez adjudicado el contrato objeto del Proceso de Contratación, inicia la etapa para la celebración del contrato y el cumplimiento de los requisitos para de perfeccionamiento y ejecución. ETAPA DE EJECUCIÓN: Inicia una vez cumplidos los requisitos previstos para iniciar la ejecución del contrato respectivo y termina con el vencimiento del plazo del contrato o la fecha de liquidación si hay lugar a ella. RIESGO GENERAL: Es un riesgo de todos los procesos de contratación adelantados por la Entidad Estatal, por lo cual está presente en toda su actividad contractual. RIEGO ESPECIFICO: Es un riesgo propio del proceso de contratación objeto de análisis. RIESGOS ECONÓMICOS: Son los derivados del comportamiento del mercado, tales como la fluctuación de los precios de los insumos, desabastecimiento y especulación de los mismos, entre otros. RIESGOS SOCIALES O POLÍTICOS: son los derivados de los cambios de las políticas gubernamentales y de cambios en las condiciones sociales que tengan impacto en la ejecución del contrato. RIESGOS OPERACIONALES: Son los asociados a la operatividad del contrato, tales como la suficiencia del presupuesto oficial, del plazo o los derivados de procesos, procedimientos, parámetros, sistemas de información y tecnológicos, equipos humanos o técnicos inadecuados o insuficientes. RIESGOS FINANCIEROS: Son (i) el riesgo de consecución de financiación o riesgo de liquidez para obtener recursos para cumplir con el objeto del contrato, y (ii) el riesgo de las condiciones financieras establecidas para la obtención de los recursos, tales como plazos, tasas, garantías, contragarantías, y refinanciaciones, entre otros. RIESGOS REGULATORIOS: Derivados de cambios regulatorios o reglamentarios que afecten la ecuación económica del contrato. RIESGOS DE LA NATURALEZA: Son los eventos naturales previsibles en los cuales no hay intervención humana que puedan tener impacto en la ejecución del contrato, por ejemplo los temblores, inundaciones, lluvias, sequías, entre otros. RIESGOS AMBIENTALES: Son los derivados de las obligaciones legales o reglamentarias de carácter ambiental, así como de las licencias, planes de manejo o de permisos y autorizaciones ambientales, incluyendo tasas retributivas y compensatorias, obligaciones de mitigación, tareas de monitoreo y control, entre otras. RIESGOS TECNOLÓGICOS: Son los derivados de fallas en los sistemas de comunicación de voz y de datos, suspensión de servicios públicos, nuevos desarrollos tecnológicos o estándares que deben ser tenidos en cuenta para la ejecución del contrato, obsolescencia tecnológica.
B15: INSTRUCCIONES PARA LA IDENTIFICACIÓN, ANALISIS, EVALUACIÓN , ASIGNACIÓN Y TRATAMIENTO DE RIESGOS EN LA CONTRATACIÓN
B16: 1) Identifique los riesgos previsibles que le apliquen al objeto contractual que se adelante. Los relacionados a continuación se establecen de manera general y como proforma. No obstante, si del objeto contractual se identifican otros riesgos diferentes a los aquí determinados, por favor reemplace el texto de la casilla teniendo en cuenta la etapa del proceso. Así mismo, seleccione la clase, fuente y el tipo (Operacional, Económico, Sociales o Políticos, Regulatorios, Financieros, Tecnológicos, De la naturaleza, Ambientales) 2) Continúe en la hoja de "EVALUACIÓN" (SI EXISTEN DUDAS CONCEPTUALES PARA LA ELABORACIÓN DE LA MATRIZ DE RIESGO CONSULTE EL MANUAL PARA LA IDENTIFICACIÓN Y COBERTURA DEL RIESGO EN LOS PROCESOS DE CONTRATACIÓN EXPEDIDO POR COLOMBIA COMPRA EFICIENTE Y LA GUÍA DE RIESGOS PREVISIBLES CONTRACTUALES, EXPEDIDA POR LA VEEDURÍA DISTRITAL)
C17: ETAPAS | D17: CLASE | E17: FUENTE | F17: TIPO
C18: PLANEACIÓN
B19: Inadecuada escogencia de la modalidad de contratación. | F19: Operacionales
B20: Requisitos habilitantes inapropiados para el proceso de selección. | F20: Operacionales
B21: Inadecuado análisis económico estimativo del valor del contrato. | F21: Economicos
B22: Inadecuada descripción del bien o servicio requerido. | F22: Operacionales
B23: Inadecuada elaboración de estudios y diseños. | F23: Operacionales
B24: Requisitos habilitantes que impidan la selección objetiva. | F24: Operacionales
B25: Falta de profundidad en el estudio del sector, no identificándose claramente aspectos de oferta y demanda. | F25: Economicos
B26: Ausencia de fundamentación de la justificación y conveniencia de la contratación. | F26: Operacionales
B27: Inadecuada identificación de las condiciones contractuales. | F27: Operacionales
B28: No aprobación o demoras en la expedición de vigencias futuras. | F28: Operacionales
B29: Apertura de procesos sin disponibilidad presupuestal. | F29: Operacionales
C30: SELECCIÓN
B31: Inadecuada evaluación de las ofertas y/o verificación de requisitos habilitantes. | F31: Operacionales
B32: Inadecuado manejo administrativo del proceso contractual. | F32: Operacionales
B33: Falta de claridad en la elaboración de los actos administrativos. | F33: Operacionales
B34: Contestación inoportuna a las observaciones formuladas dentro del proceso. | F34: Operacionales
B35: No publicación de la documentación del proceso en SECOP II. | F35: Operacionales
B36: Proceso declarado desierto por falta de participación de oferentes. | D36: General | E36: Interno | F36: Operacionales
B37: Confabulación de proponentes (colusión). | F37: Operacionales
B38: Selección de ofertas con precios artificialmente bajos. | F38: Operacionales
C40: CONTRATACIÓN
B41: Riesgo de no suscripción del contrato. | F41: Operacionales
B42: Falta de constitución o constitución tardía de la garantía única. | D42: General | E42: Interno | F42: Operacionales
B43: Aceptación de garantías que no se ajusten a lo contemplado en el contrato. | D43: General | E43: Interno | F43: Operacionales
B44: Falta de solicitud o solicitud tardía del registro presupuestal. | F44: Operacionales
B45: No publicación de documentos contractuales en SECOP II. | F45: Operacionales
B46: Presentación de reclamaciones de terceros que retrasen el perfeccionamiento contractual. | D46: General | E46: Externo | F46: Operacionales
C47: EJECUCIÓN
B48: Fluctuaciones del valor de la moneda. | F48: Economicos
B49: Cambio de precios en factores de producción. | F49: Economicos
B50: Variación de precios del mercado. | D50: Especifico | E50: Externo | F50: Economicos
B51: Factores políticos o macroeconómicos. | F51: Sociales o Políticos
B52: Causas externas que retrasen la entrega de bienes o prestación de servicios por situaciones ajenas a las partes. | D52: Especifico | E52: Externo | F52: Operacionales
...

Sheet EVALUACION
C2: MATRIZ DE RIESGOS DE CONTRATACIÓN | K2: Código: GCO-GCI-F164 Versión: 02 Vigencia: 01 de diciembre de 2022 Caso HOLA: 280117
B6: Prestar servicios para fortalecer la agricultura urbana y periurbana e implementar Procesos Comunitarios de Educación Ambiental (PROCEDA) en la localidad de Suba.
B7: INSTRUCCIONES PARA LA IDENTIFICACIÓN, ANALISIS, EVALUACIÓN , ASIGNACIÓN Y TRATAMIENTO DE RIESGOS EN LA CONTRATACIÓN
B8: 1) Diligencie el objeto contractual y seleccione la(s) etapas y los riesgos que aplican al objeto contractual, de acuerdo a lo definido en la hoja de "IDENTIFICACIÓN Y ANÁLISIS"
B9: 2) Describa las consecuencias de la ocurrencia del Riesgo/evento.
B10: 3) Asigne la probabilidad de ocurrencia del riesgo, de conformidad con la tabla de probabilidad y la valoración del riesgo (Cualitativa o Monetaria)
B11: 4) Asigne el impacto que generaría la materialización del riesgo, de conformidad con la tabla de impacto y la valoración del riesgo (Cualitativa o Monetaria)
B12: 5) Al realizar las anteriores actividades se obtendrá la calificación total y la valoración del riesgo (prioridad).
B13: 6) Continúe en la hoja de "EVALUACIÓN DE CONTROLES"
B15: CALIFICACIÓN | H15: Cualitativa
B16: ETAPA | C16: Descripción (Que puede pasar y, cómo puede ocurrir) | H16: Consecuencias de la ocurrencia del evento | I16: Probabilidad de Ocurrencia | J16: Impacto | K16: Calificación Total | L16: Prioridad
B17: SELECCIÓN | C17: Proceso declarado desierto por falta de participación de oferentes. | H17: No se satisface la necesidad de la Entidad; retraso en el cumplimiento de las metas del PDL 2025-2028 (Programa 25) y en la ejecución de los recursos del Proyecto 2483 en la vigencia 2026. | I17: 1 | J17: 4 | K17: =+I17+J17 -> 5 | L17: =IF(K17<=4,"BAJO",IF(K17=5,"MEDIO",IF(K17=6,"ALTO",IF(K17=7,"ALTO","EXTREMO")))) -> MEDIO
B18: CONTRATACIÓN | C18: Falta de constitución o constitución tardía de la garantía única, o aceptación de garantías que no se ajustan a lo contemplado en el contrato. | H18: Retraso en el cumplimiento de los requisitos de ejecución y en la suscripción del acta de inicio; falta de respaldo de los amparos durante la ejecución del contrato. | I18: 3 | J18: 2 | K18: =+I18+J18 -> 5 | L18: =IF(K18<=4,"BAJO",IF(K18=5,"MEDIO",IF(K18=6,"ALTO",IF(K18=7,"ALTO","EXTREMO")))) -> MEDIO
B19: CONTRATACIÓN | C19: Presentación de reclamaciones de terceros sobre la selección del oferente que retrasen el perfeccionamiento del contrato. | H19: Retrasos en la adjudicación del proceso e inclusive declaratoria de desierto del proceso de selección. | I19: 1 | J19: 4 | K19: =+I19+J19 -> 5 | L19: =IF(K19<=4,"BAJO",IF(K19=5,"MEDIO",IF(K19=6,"ALTO",IF(K19=7,"ALTO","EXTREMO")))) -> MEDIO
B20: EJECUCIÓN | C20: Variación de los precios de mercado de insumos, materiales, refrigerios y servicios logísticos requeridos para la ejecución del contrato. | H20: Sobrecostos asumidos por el contratista durante los 8 meses de ejecución y eventual reclamación por rompimiento del equilibrio económico del contrato. | I20: 3 | J20: 2 | K20: =+I20+J20 -> 5 | L20: =IF(K20<=4,"BAJO",IF(K20=5,"MEDIO",IF(K20=6,"ALTO",IF(K20=7,"ALTO","EXTREMO")))) -> MEDIO
B21: EJECUCIÓN | C21: Causas externas ajenas a las partes que retrasan la entrega de insumos, materiales y elementos (desabastecimiento, restricciones de movilidad, caso fortuito o fuerza mayor). | H21: Retraso en el cronograma de actividades y en la entrega oportuna de insumos a las 13 huertas y a los tres PROCEDA. | I21: 3 | J21: 2 | K21: =+I21+J21 -> 5 | L21: =IF(K21<=4,"BAJO",IF(K21=5,"MEDIO",IF(K21=6,"ALTO",IF(K21=7,"ALTO","EXTREMO")))) -> MEDIO
B22: EJECUCIÓN | C22: Entrega de bienes, insumos o servicios con características técnicas distintas a las exigidas en el Anexo Técnico. | H22: Rechazo en la validación física del almacén, devolución al proveedor, no expedición del comprobante de ingreso y retraso en el trámite de pago. | I22: 3 | J22: 3 | K22: =+I22+J22 -> 6 | L22: =IF(K22<=4,"BAJO",IF(K22=5,"MEDIO",IF(K22=6,"ALTO",IF(K22=7,"ALTO","EXTREMO")))) -> ALTO
B23: EJECUCIÓN | C23: Incumplimiento del pago de aportes al Sistema de Seguridad Social Integral y a la ARL del personal vinculado por el contratista. | H23: Reclamaciones laborales contra la Entidad, desprotección del personal de cuadrilla afiliado a riesgo 5 y suspensión del trámite de pago. | I23: 2 | J23: 3 | K23: =+I23+J23 -> 5 | L23: =IF(K23<=4,"BAJO",IF(K23=5,"MEDIO",IF(K23=6,"ALTO",IF(K23=7,"ALTO","EXTREMO")))) -> MEDIO
B24: EJECUCIÓN | C24: Cambios en el marco regulatorio o en la normatividad aplicable al proyecto en materia ambiental, de agricultura urbana, de espacio público o tributaria. | H24: Variación de las condiciones de ejecución, posibles sobrecostos, necesidad de modificaciones contractuales y rompimiento del equilibrio económico. | I24: 1 | J24: 3 | K24: =+I24+J24 -> 4 | L24: =IF(K24<=4,"BAJO",IF(K24=5,"MEDIO",IF(K24=6,"ALTO",IF(K24=7,"ALTO","EXTREMO")))) -> BAJO
B25: EJECUCIÓN | C25: Restricciones de orden distrital o nacional que impidan el desarrollo de actividades masivas y presenciales. | H25: Imposibilidad de ejecutar cineforos, seminarios, festival comunitario, carrera de la biodiversidad y evento de cierre en las condiciones previstas en el Anexo Técnico. | I25: 2 | J25: 2 | K25: =+I25+J25 -> 4 | L25: =IF(K25<=4,"BAJO",IF(K25=5,"MEDIO",IF(K25=6,"ALTO",IF(K25=7,"ALTO","EXTREMO")))) -> BAJO
B26: EJECUCIÓN | C26: Deserción o baja participación de los beneficiarios en los componentes de PROCEDA y de agricultura urbana. | H26: No alcanzar los mínimos exigidos (50 inscritos por PROCEDA, 13 huertas, 26 participantes, 30 personas del IED Jaime Niño Diez y 80% de asistencia para certificar) y afectación de las metas del PDL. | I26: 3 | J26: 3 | K26: =+I26+J26 -> 6 | L26: =IF(K26<=4,"BAJO",IF(K26=5,"MEDIO",IF(K26=6,"ALTO",IF(K26=7,"ALTO","EXTREMO")))) -> ALTO
B27: EJECUCIÓN | C27: Demora o negativa en el trámite de permisos y autorizaciones ante autoridades ambientales (paz y salvos, ingreso a ecosistemas de estudio, autorizaciones de manejo). | H27: Retraso o imposibilidad de realizar las cinco (5) salidas a territorio, los recorridos rurales y el laboratorio comunitario de investigación ambiental. | I27: 3 | J27: 2 | K27: =+I27+J27 -> 5 | L27: =IF(K27<=4,"BAJO",IF(K27=5,"MEDIO",IF(K27=6,"ALTO",IF(K27=7,"ALTO","EXTREMO")))) -> MEDIO
B28: EJECUCIÓN | C28: Pérdida, hurto o deterioro de insumos, herramientas y elementos destinados al fortalecimiento de los PROCEDA y de las huertas urbanas. | H28: Reposición a cargo del contratista, retraso en la entrega a los beneficiarios y afectación del cumplimiento de las metas del contrato. | I28: 3 | J28: 3 | K28: =+I28+J28 -> 6 | L28: =IF(K28<=4,"BAJO",IF(K28=5,"MEDIO",IF(K28=6,"ALTO",IF(K28=7,"ALTO","EXTREMO")))) -> ALTO
... B36: EJECUCIÓN | C36: Condiciones climáticas adversas (lluvias, granizadas, vendavales o sequías) que impidan el desarrollo de las actividades programadas en campo. | H36: Cancelación o reprogramación de salidas a territorio, recorridos rurales, jornadas de cuadrilla, feria rural, festival comunitario y carrera de la biodiversidad, y afectación de las huertas implementadas. | I36: 3 | J36: 2 | K36: =+I36+J36 -> 5 | L36: =IF(K36<=4,"BAJO",IF(K36=5,"MEDIO",IF(K36=6,"ALTO",IF(K36=7,"ALTO","EXTREMO")))) -> MEDIO
B39: Probabilidad | C39: Catagoria | E39: Valoración | G39: Impacto | H39: Categoria | I39: Valoración
C40: Raro (puede ocurrir excepcionalmente) | E40: 1 | H40: Insignificante | I40: 1
C41: Improbable (puede ocurrir ocasionalmente) | E41: 2 | H41: Menor | I41: 2
C42: Posible (puede ocurrir en cualquier momento futuro) | E42: 3 | H42: Moderado | I42: 3
C43: Probable (probablemente va a ocurrir) | E43: 4 | H43: Mayor | I43: 4
C44: Casi cierto (ocurre en la mayoria de circunstancias) | E44: 5 | H44: Catastrófico | I44: 5
C46: Valoración del Riesgo
C47: Calificación Cualitativa | F47: Obstruye la ejecución del contrato de manera intrascendente. | G47: Dificulta la ejecución del contrato de manera baja, aplicando medidas mínimas se pueden lograr el objeto contractual | H47: Afecta la ejecución del contrato sin alterar el beneficio para las partes | I47: Obstruye la ejecución del contrato sustancialmente pero aun así permite la consecución del objeto contractual | K47: Perturba la ejecución del contrato de manera grave imposibilitando la consecución del objeto contractual.
C48: Calificación Monetaria | F48: Los sobrecostos no representan más del uno por ciento (1%) del valor del contrato. | G48: Los sobrecostos no representan más del cinco por ciento (5%) del valor del contrato. | H48: Genera un impacto sobre el valor del contrato entre el cinco (5%) y el quince por ciento (15%). | I48: Incrementa el valor del contrato entre el quince (15%) y el treinta por ciento (30%). | K48: Impacto sobre el valor del contrato en más del treinta por ciento (30%).
C49: Categoría | E49: Valoración | F49: Insignificante | G49: Menor | H49: Moderado | I49: Mayor | K49: Catastrófico
F50: 1 | G50: 2 | H50: 3 | I50: 4 | K50: 5
C51: Raro (puede ocurrir excepcionalmente) | E51: 1 | F51: 2 | G51: 3 | H51: 4 | I51: 5 | K51: 6
C52: Improbable (puede ocurrir ocasionalmente) | E52: 2 | F52: 3 | G52: 4 | H52: 5 | I52: 6 | K52: 7
C53: Posible (puede ocurrir en cualquier momento futuro) | E53: 3 | F53: 4 | G53: 5 | H53: 6 | I53: 7 | K53: 8
C54: Probable (probablemente va a ocurrir) | E54: 4 | F54: 5 | G54: 6 | H54: 7 | I54: 8 | K54: 9
C55: Casi cierto (ocurre en la mayoria de circunstancias) | E55: 5 | F55: 6 | G55: 7 | H55: 8 | I55: 9 | K55: 10
...

Sheet EVALUACION CON CONTROLES
C2: MATRIZ DE RIESGOS DE CONTRATACIÓN | Q2: Código: GCO-GCI-F164 Versión: 02 Vigencia: 01 de diciembre de 2022 Caso HOLA: 280117
B6: =+EVALUACION!B6 -> Prestar servicios para fortalecer la agricultura urbana y periurbana e implementar Procesos Comunitarios de Educación Ambiental (PROCEDA) en la localidad de Suba.
B7: INSTRUCCIONES PARA LA IDENTIFICACIÓN, ANALISIS, EVALUACIÓN , ASIGNACIÓN Y TRATAMIENTO DE RIESGOS EN LA CONTRATACIÓN
B8: 1) Describa el tratamiento/controles a ser implementados
B9: 2) Diligencie la información de las siguientes columnas, de acuerdo con el análisis realizado a cada riesgo: Afecta el equilibrio económico, persona responsable de implementar el tratamiento, fecha estimada de inicio del tratamiento, fecha estimada en la que se completa el tratamiento, cómo se realiza el monitoreo y la periodicidad.
B10: 3) Continúe en la hoja de "ASIGNACIÓN Y TRATAMIENTO" y diligencie las siguientes casillas: A quien se le asigna y el porcentaje que asume cada una de las partes en caso de que sea compartido.
B15: ETAPA | C15: Descripción (Que puede pasar y, cómo puede ocurrir) | G15: Tratamiento/Controles a ser implementados | I15: Probabilidad de Ocurrencia | J15: Impacto | K15: Calificación Total | L15: Prioridad | M15: ¿Afecta el equilibrio económico del contrato? | N15: Persona responsable por implementar el tratamiento | O15: Fecha estimada en que se inicia el tratamiento | P15: Fecha estimada en que se completa el tratamiento | Q15: ¿Cómo se realiza el monitoreo? | R15: Periodicidad ¿Cuándo?
B16: =+EVALUACION!B17 -> SELECCIÓN | C16: =+EVALUACION!C17 -> Proceso declarado desierto por falta de participación de oferentes. | G16: 1. Sondeo de mercado previo con pluralidad de proveedores del sector. 2. Requisitos habilitantes proporcionales al objeto y al presupuesto (299,75 SMMLV). 3. Divulgación del proceso en SECOP II y a gremios y organizaciones del sector ambiental. 4. Respuesta oportuna y de fondo a las observaciones al proyecto de pliego. | I16: 1 | J16: 3 | K16: =+I16+J16 -> 4 | L16: =IF(K16<=4,"BAJO",IF(K16=5,"MEDIO",IF(K16=6,"ALTO",IF(K16=7,"ALTO","EXTREMO")))) -> BAJO | M16: NO | N16: Equipo estructurador / Área de Contratación FDLS | O16: Etapa de planeación | P16: Adjudicación del proceso | Q16: Seguimiento a manifestaciones de interés y observaciones registradas en SECOP II. | R16: Durante el término del proceso
B17: =+EVALUACION!B18 -> CONTRATACIÓN | C17: =+EVALUACION!C18 -> Falta de constitución o constitución tardía de la garantía única, o aceptación de garantías que no se ajustan a lo contemplado en el contrato. | G17: 1. Lista de chequeo de los amparos exigidos: cumplimiento 20%, calidad del servicio 20%, salarios y prestaciones sociales 5% (plazo + 3 años) y RCE por 200 SMMLV. 2. Verificación de validez y suficiencia de la garantía ante la aseguradora conforme a la Circular Conjunta 001 de 2021. 3. Requerimiento formal al contratista dentro del término legal. | I17: 2 | J17: 2 | K17: =+I17+J17 -> 4 | L17: =IF(K17<=4,"BAJO",IF(K17=5,"MEDIO",IF(K17=6,"ALTO",IF(K17=7,"ALTO","EXTREMO")))) -> BAJO | M17: NO | N17: Área jurídica FDLS / Supervisión | O17: Suscripción del contrato | P17: Aprobación de las garantías | Q17: Verificación documental de amparos, vigencias y valores asegurados. | R17: Puntual y ante cada modificación contractual
B18: =+EVALUACION!B19 -> CONTRATACIÓN | C18: =+EVALUACION!C19 -> Presentación de reclamaciones de terceros sobre la selección del oferente que retrasen el perfeccionamiento del contrato. | G18: 1. Motivación técnica y jurídica suficiente del informe de evaluación. 2. Respuesta oportuna y de fondo a todas las observaciones presentadas. 3. Publicación completa y oportuna de la documentación del proceso en SECOP II. | I18: 1 | J18: 3 | K18: =+I18+J18 -> 4 | L18: =IF(K18<=4,"BAJO",IF(K18=5,"MEDIO",IF(K18=6,"ALTO",IF(K18=7,"ALTO","EXTREMO")))) -> BAJO | M18: NO | N18: Comité evaluador / Área de Contratación FDLS | O18: Publicación del informe de evaluación | P18: Adjudicación del proceso | Q18: Revisión de observaciones presentadas y de las respuestas emitidas. | R18: Durante el término del proceso
B19: =+EVALUACION!B20 -> EJECUCIÓN | C19: =+EVALUACION!C20 -> Variación de los precios de mercado de insumos, materiales, refrigerios y servicios logísticos requeridos para la ejecución del contrato. | G19: 1. El contratista debe estructurar sus precios unitarios incorporando la variación previsible del mercado durante el plazo de 8 meses, al tratarse de un contrato sin fórmula de reajuste (art. 4 Ley 1150 de 2007). 2. Verificación de los precios facturados contra el estudio de mercado y la oferta económica en cada informe. 3. Aplicación del mecanismo de monto agotable con traslado entre componentes previsto en el Estudio Previo. | I19: 3 | J19: 2 | K19: =+I19+J19 -> 5 | L19: =IF(K19<=4,"BAJO",IF(K19=5,"MEDIO",IF(K19=6,"ALTO",IF(K19=7,"ALTO","EXTREMO")))) -> MEDIO | M19: SI | N19: Contratista / Supervisión | O19: Suscripción del acta de inicio | P19: Liquidación del contrato | Q19: Comparación de precios unitarios ofertados frente a los facturados en cada informe de actividades. | R19: Mensual
B20: =+EVALUACION!B21 -> EJECUCIÓN | C20: =+EVALUACION!C21 -> Causas externas ajenas a las partes que retrasan la entrega de insumos, materiales y elementos (desabastecimiento, restricciones de movilidad, caso fortuito o fuerza mayor). | G20: 1. Plan de compras aprobado en Comité Técnico con la debida anticipación. 2. Identificación de proveedores alternos para insumos críticos. 3. Ajuste del cronograma aprobado en Comité Técnico y trámite de prórroga cuando resulte procedente. | I20: 2 | J20: 3 | K20: =+I20+J20 -> 5 | L20: =IF(K20<=4,"BAJO",IF(K20=5,"MEDIO",IF(K20=6,"ALTO",IF(K20=7,"ALTO","EXTREMO")))) -> MEDIO | M20: SI | N20: Contratista / Comité Técnico de Seguimiento | O20: Suscripción del acta de inicio | P20: Liquidación del contrato | Q20: Seguimiento al plan de compras y al cronograma de entregas en Comité Técnico. | R20: Mensual
B21: =+EVALUACION!B22 -> EJECUCIÓN | C21: =+EVALUACION!C22 -> Entrega de bienes, insumos o servicios con características técnicas distintas a las exigidas en el Anexo Técnico. | G21: 1. Presentación previa a la Supervisión de fichas técnicas, certificados de calidad y registros ICA vigentes de las semillas. 2. Validación física conjunta en almacén diligenciando el formato GDI-GPD-F029. 3. Ningún elemento se entrega a los beneficiarios sin aprobación previa de la Supervisión. | I21: 2 | J21: 2 | K21: =+I21+J21 -> 4 | L21: =IF(K21<=4,"BAJO",IF(K21=5,"MEDIO",IF(K21=6,"ALTO",IF(K21=7,"ALTO","EXTREMO")))) -> BAJO | M21: NO | N21: Supervisión / Apoyo a la supervisión | O21: Suscripción del acta de inicio | P21: Última entrega de insumos | Q21: Actas de validación física y comprobantes de ingreso del aplicativo SI CAPITAL. | R21: Por cada entrega
B22: =+EVALUACION!B23 -> EJECUCIÓN | C22: =+EVALUACION!C23 -> Incumplimiento del pago de aportes al Sistema de Seguridad Social Integral y a la ARL del personal vinculado por el contratista. | G22: 1. Exigir la planilla de pago y la certificación del artículo 50 de la Ley 789 de 2002 como requisito de cada pago. 2. Verificar la afiliación a ARL riesgo 5 del talento humano del componente de cuadrilla. 3. Amparo de pago de salarios y prestaciones sociales por el 5% del valor del contrato, vigente por el plazo y tres (3) años más. | I22: 1 | J22: 3 | K22: =+I22+J22 -> 4 | L22: =IF(K22<=4,"BAJO",IF(K22=5,"MEDIO",IF(K22=6,"ALTO",IF(K22=7,"ALTO","EXTREMO")))) -> BAJO | M22: NO | N22: Supervisión / Apoyo a la supervisión | O22: Suscripción del acta de inicio | P22: Liquidación del contrato | Q22: Revisión de planillas de aportes y certificaciones con cada solicitud de pago. | R22: Mensual
B23: =+EVALUACION!B24 -> EJECUCIÓN | C23: =+EVALUACION!C24 -> Cambios en el marco regulatorio o en la normatividad aplicable al proyecto en materia ambiental, de agricultura urbana, de espacio público o tributaria. | G23: 1. Monitoreo normativo permanente durante la ejecución. 2. Análisis del impacto del cambio normativo en Comité Técnico. 3. Trámite de la modificación contractual a que haya lugar, previa sustentación técnica y jurídica. | I23: 1 | J23: 2 | K23: =+I23+J23 -> 3 | L23: =IF(K23<=4,"BAJO",IF(K23=5,"MEDIO",IF(K23=6,"ALTO",IF(K23=7,"ALTO","EXTREMO")))) -> BAJO | M23: SI | N23: Supervisión / Área jurídica FDLS | O23: Suscripción del acta de inicio | P23: Liquidación del contrato | Q23: Revisión de novedades normativas en Comité Técnico y acta correspondiente. | R23: Mensual
B24: =+EVALUACION!B25 -> EJECUCIÓN | C24: =+EVALUACION!C25 -> Restricciones de orden distrital o nacional que impidan el desarrollo de actividades masivas y presenciales. | G24: 1. Reprogramación de actividades aprobada en Comité Técnico. 2. Desarrollo virtual del componente teórico (20 horas) cuando la medida lo permita. 3. Fraccionamiento de grupos y cumplimiento estricto de los aforos autorizados. | I24: 2 | J24: 1 | K24: =+I24+J24 -> 3 | L24: =IF(K24<=4,"BAJO",IF(K24=5,"MEDIO",IF(K24=6,"ALTO",IF(K24=7,"ALTO","EXTREMO")))) -> BAJO | M24: NO | N24: Contratista / Supervisión | O24: Suscripción del acta de inicio | P24: Liquidación del contrato | Q24: Seguimiento al cronograma y a las actas de reprogramación en Comité Técnico. | R24: Mensual
B25: =+EVALUACION!B26 -> EJECUCIÓN | C25: =+EVALUACION!C26 -> Deserción o baja participación de los beneficiarios en los componentes de PROCEDA y de agricultura urbana. | G25: 1. Estrategia de convocatoria con mínimo 20 días de anticipación, articulada con JAC, CAL, ULDER, parroquias, propiedades horizontales y Gerencias de la Solución. 2. Inscripción presencial y digital con apoyo logístico y tecnológico en sitio. 3. Segunda socialización de la pieza de inscripción cuando no se alcance el mínimo, conforme al Anexo Técnico. 4. Sobreconvocatoria y uso de la base de datos de la Red de Agricultores Urbanos de Suba como fuente alterna. 5. Acta de compromiso de permanencia suscrita por los participantes. | I25: 2 | J25: 2 | K25: =+I25+J25 -> 4 | L25: =IF(K25<=4,"BAJO",IF(K25=5,"MEDIO",IF(K25=6,"ALTO",IF(K25=7,"ALTO","EXTREMO")))) -> BAJO | M25: NO | N25: Contratista / Apoyo a la supervisión | O25: Fase de alistamiento | P25: Liquidación del contrato | Q25: Control de inscritos frente a la meta y verificación de listados de asistencia reales. | R25: Quincenal
B26: =+EVALUACION!B27 -> EJECUCIÓN | C26: =+EVALUACION!C27 -> Demora o negativa en el trámite de permisos y autorizaciones ante autoridades ambientales (paz y salvos, ingreso a ecosistemas de estudio, autorizaciones de manejo). | G26: 1. Gestión y radicación de permisos desde la fase de alistamiento. 2. Identificación de ecosistemas alternos en mesa de trabajo con las constructoras locales y el apoyo a la supervisión. 3. Matriz de seguimiento de permisos con alertas tempranas. | I26: 2 | J26: 3 | K26: =+I26+J26 -> 5 | L26: =IF(K26<=4,"BAJO",IF(K26=5,"MEDIO",IF(K26=6,"ALTO",IF(K26=7,"ALTO","EXTREMO")))) -> MEDIO | M26: SI | N26: Contratista / Profesional en gestión ambiental | O26: Fase de alistamiento | P26: Última salida a territorio | Q26: Matriz de seguimiento de permisos revisada en Comité Técnico. | R26: Mensual
B27: =+EVALUACION!B28 -> EJECUCIÓN | C27: =+EVALUACION!C28 -> Pérdida, hurto o deterioro de insumos, herramientas y elementos destinados al fortalecimiento de los PROCEDA y de las huertas urbanas. | G27: 1. La custodia de los bienes es responsabilidad del contratista hasta la suscripción del acta de entrega. 2. Ingreso y salida de bienes por el almacén del FDLS conforme al procedimiento vigente. 3. Inventario permanente, listas de chequeo, acta de entrega firmada y acta de compromiso de uso correcto de los insumos. 4. Amparo de cumplimiento por el 20% del valor del contrato. | I27: 2 | J27: 2 | K27: =+I27+J27 -> 4 | L27: =IF(K27<=4,"BAJO",IF(K27=5,"MEDIO",IF(K27=6,"ALTO",IF(K27=7,"ALTO","EXTREMO")))) -> BAJO | M27: NO | N27: Contratista | O27: Primera adquisición de insumos | P27: Última entrega a beneficiarios | Q27: Inventario, listas de chequeo y actas de entrega firmadas por los beneficiarios. | R27: Semanal
... B35: =+EVALUACION!B36 -> EJECUCIÓN | C35: =+EVALUACION!C36 -> Condiciones climáticas adversas (lluvias, granizadas, vendavales o sequías) que impidan el desarrollo de las actividades programadas en campo. | G35: 1. Programación de las actividades en campo considerando el calendario climático de la ciudad y de la ruralidad de Suba. 2. Definición de fechas alternas dentro del plan de trabajo aprobado en Comité Técnico. 3. Disposición de espacios cubiertos o carpas para las actividades masivas. 4. Reprogramación aprobada en Comité Técnico sin costo adicional para la Entidad. | I35: 3 | J35: 1 | K35: =+I35+J35 -> 4 | L35: =IF(K35<=4,"BAJO",IF(K35=5,"MEDIO",IF(K35=6,"ALTO",IF(K35=7,"ALTO","EXTREMO")))) -> BAJO | M35: NO | N35: Contratista / Comité Técnico de Seguimiento | O35: Suscripción del acta de inicio | P35: Evento de cierre del contrato | Q35: Seguimiento al cronograma y suscripción de actas de reprogramación. | R35: Mensual
C37: Categoria del Riesgo | H37: Impacto del Riesgo
B38: Probabilidad | C38: Catagoria | F38: Valoración | H38: Categoria | J38: Valoración | N38: Categoria del Riesgo
C39: Raro (puede ocurrir excepcionalmente) | F39: 1 | H39: Insignificante | J39: 1 | N39: Valoración del Riesgo | P39: Categoría
C40: Improbable (puede ocurrir ocasionalmente) | F40: 2 | H40: Menor | J40: 2 | N40: 8, 9 y 10 | P40: Riesgo extremo
C41: Posible (puede ocurrir en cualquier momento futuro) | F41: 3 | H41: Moderado | J41: 3 | N41: 6 y 7 | P41: Riesgo alto
C42: Probable (probablemente va a ocurrir) | F42: 4 | H42: Mayor | J42: 4 | N42: 5 | P42: riesgo medio
C43: Casi cierto (ocurre en la mayoria de circunstancias) | F43: 5 | H43: Catastrófico | J43: 5 | N43: 2, 3 y 4 | P43: Riesgo bajo
C45: Valoración del Riesgo
C46: Calificación Cualitativa | G46: Obstruye la ejecución del contrato de manera intrascendente. | L46: Afecta la ejecución del contrato sin alterar el beneficio para las partes | N46: Obstruye la ejecución del contrato sustancialmente pero aun así permite la consecución del objeto contractual | P46: Perturba la ejecución del contrato de manera grave imposibilitando la consecución del objeto contractual.
C47: Calificación Monetaria | G47: Los sobrecostos no representan más del uno por ciento (1%) del valor del contrato. | L47: Genera un impacto sobre el valor del contrato entre el cinco (5%) y el quince por ciento (15%). | N47: Incrementa el valor del contrato entre el quince (15%) y el treinta por ciento (30%). | P47: Impacto sobre el valor del contrato en más del treinta por ciento (30%).
C48: Catagoria | F48: Valoración | G48: Insignificante | I48: Menor | L48: Moderado | N48: Mayor | P48: Catastrófico
C50: Raro (puede ocurrir excepcionalmente) | F50: 1 | G50: 2 | I50: 3 | L50: 4 | N50: 5 | P50: 6
C51: Improbable (puede ocurrir ocasionalmente) | F51: 2 | G51: 3 | I51: 4 | L51: 5 | N51: 6 | P51: 7
C52: Posible (puede ocurrir en cualquier momento futuro) | F52: 3 | G52: 4 | I52: 5 | L52: 6 | N52: 7 | P52: 8
F53: 4 | G53: 5 | I53: 6 | L53: 7 | N53: 8 | P53: 9
C54: Casi cierto (ocurre en la mayoria de circunstancias) | F54: 5 | G54: 6 | I54: 7 | L54: 8 | N54: 9 | P54: 10

Sheet ASIGNACION Y TRATAMIENTO
C2: MATRIZ DE RIESGOS DE CONTRATACIÓN | W2: Código: GCO-GCI-F164 Versión: 02 Vigencia: 01 de diciembre de 2022 Caso HOLA: 280117
B6: =+EVALUACION!B6 -> Prestar servicios para fortalecer la agricultura urbana y periurbana e implementar Procesos Comunitarios de Educación Ambiental (PROCEDA) en la localidad de Suba.
B7: Esta matriz es un documento anexo del Estudio Previo
B10: No | C10: Descripción (Que puede pasar y, cómo puede ocurrir) | D10: Etapa | E10: Clase | F10: Fuente | G10: Consecuencias de la ocurrencia del evento | H10: Probabilidad | I10: Impacto | J10: Calificación total | K10: Prioridad | L10: ¿A quien se le asigna? | M10: % | N10: Tratamiento/Controles a ser implementados | O10: Probabilidad | P10: Impacto | Q10: Calificación total | R10: Prioridad | S10: ¿Afecta el equilibrio económico del contrato? | T10: Persona responsable por implementar el tratamiento | U10: Fecha estimada en que se inicia el tratamiento | V10: Fecha estimada en que se completa el tratamiento | W10: ¿Cómo se realiza el monitoreo | X10: Periodicidad ¿Cuándo?
B11: 1 | C11: =+'EVALUACION CON CONTROLES'!C16 -> Proceso declarado desierto por falta de participación de oferentes. | D11: =+'EVALUACION CON CONTROLES'!B16 -> SELECCIÓN | E11: GENERAL | F11: INTERNO | G11: =+EVALUACION!H17 -> No se satisface la necesidad de la Entidad; retraso en el cumplimiento de las metas del PDL 2025-2028 (Programa 25) y en la ejecución de los recursos del Proyecto 2483 en la vigencia 2026. | H11: =+EVALUACION!I17 -> 1 | I11: =+EVALUACION!J17 -> 4 | J11: =+EVALUACION!K17 -> 5 | K11: =+EVALUACION!L17 -> MEDIO | L11: ALCALDIA LOCAL DE SUBA | M11: 100 | N11: =+'EVALUACION CON CONTROLES'!G16 -> 1. Sondeo de mercado previo con pluralidad de proveedores del sector. 2. Requisitos habilitantes proporcionales al objeto y al presupuesto (299,75 SMMLV). 3. Divulgación del proceso en SECOP II y a gremios y organizaciones del sector ambiental. 4. Respuesta oportuna y de fondo a las observaciones al proyecto de pliego. | O11: =+'EVALUACION CON CONTROLES'!I16 -> 1 | P11: =+'EVALUACION CON CONTROLES'!J16 -> 3 | Q11: =+'EVALUACION CON CONTROLES'!K16 -> 4 | R11: =+'EVALUACION CON CONTROLES'!L16 -> BAJO | S11: =+'EVALUACION CON CONTROLES'!M16 -> NO | T11: =+'EVALUACION CON CONTROLES'!N16 -> Equipo estructurador / Área de Contratación FDLS | U11: =+'EVALUACION CON CONTROLES'!O16 -> Etapa de planeación | V11: =+'EVALUACION CON CONTROLES'!P16 -> Adjudicación del proceso | ... X11: =+'EVALUACION CON CONTROLES'!R16 -> Durante el término del proceso
B12: 2 | C12: =+'EVALUACION CON CONTROLES'!C17 -> Falta de constitución o constitución tardía de la garantía única, o aceptación de garantías que no se ajustan a lo contemplado en el contrato. | D12: =+'EVALUACION CON CONTROLES'!B17 -> CONTRATACIÓN | E12: GENERAL | F12: INTERNO | G12: =+EVALUACION!H18 -> Retraso en el cumplimiento de los requisitos de ejecución y en la suscripción del acta de inicio; falta de respaldo de los amparos durante la ejecución del contrato. | H12: =+EVALUACION!I18 -> 3 | I12: =+EVALUACION!J18 -> 2 | J12: =+EVALUACION!K18 -> 5 | K12: =+EVALUACION!L18 -> MEDIO | L12: CONTRATISTA | M12: 100 | N12: =+'EVALUACION CON CONTROLES'!G17 -> 1. Lista de chequeo de los amparos exigidos: cumplimiento 20%, calidad del servicio 20%, salarios y prestaciones sociales 5% (plazo + 3 años) y RCE por 200 SMMLV. 2. Verificación de validez y suficiencia de la garantía ante la aseguradora conforme a la Circular Conjunta 001 de 2021. 3. Requerimiento formal al contratista dentro del término legal. | O12: =+'EVALUACION CON CONTROLES'!I17 -> 2 | P12: =+'EVALUACION CON CONTROLES'!J17 -> 2 | Q12: =+'EVALUACION CON CONTROLES'!K17 -> 4 | R12: =+'EVALUACION CON CONTROLES'!L17 -> BAJO | S12: =+'EVALUACION CON CONTROLES'!M17 -> NO | T12: =+'EVALUACION CON CONTROLES'!N17 -> Área jurídica FDLS / Supervisión | U12: =+'EVALUACION CON CONTROLES'!O17 -> Suscripción del contrato | V12: =+'EVALUACION CON CONTROLES'!P17 -> Aprobación de las garantías | ... X12: =+'EVALUACION CON CONTROLES'!R17 -> Puntual y ante cada modificación contractual
B13: 3 | C13: =+'EVALUACION CON CONTROLES'!C18 -> Presentación de reclamaciones de terceros sobre la selección del oferente que retrasen el perfeccionamiento del contrato. | D13: =+'EVALUACION CON CONTROLES'!B18 -> CONTRATACIÓN | E13: GENERAL | F13: EXTERNO | G13: =+EVALUACION!H19 -> Retrasos en la adjudicación del proceso e inclusive declaratoria de desierto del proceso de selección. | H13: =+EVALUACION!I19 -> 1 | I13: =+EVALUACION!J19 -> 4 | J13: =+EVALUACION!K19 -> 5 | K13: =+EVALUACION!L19 -> MEDIO | L13: ALCALDIA LOCAL DE SUBA | M13: 100 | N13: =+'EVALUACION CON CONTROLES'!G18 -> 1. Motivación técnica y jurídica suficiente del informe de evaluación. 2. Respuesta oportuna y de fondo a todas las observaciones presentadas. 3. Publicación completa y oportuna de la documentación del proceso en SECOP II. | O13: =+'EVALUACION CON CONTROLES'!I18 -> 1 | P13: =+'EVALUACION CON CONTROLES'!J18 -> 3 | Q13: =+'EVALUACION CON CONTROLES'!K18 -> 4 | R13: =+'EVALUACION CON CONTROLES'!L18 -> BAJO | S13: =+'EVALUACION CON CONTROLES'!M18 -> NO | T13: =+'EVALUACION CON CONTROLES'!N18 -> Comité evaluador / Área de Contratación FDLS | U13: =+'EVALUACION CON CONTROLES'!O18 -> Publicación del informe de evaluación | V13: =+'EVALUACION CON CONTROLES'!P18 -> Adjudicación del proceso | ... X13: =+'EVALUACION CON CONTROLES'!R18 -> Durante el término del proceso
B14: 4 | C14: =+'EVALUACION CON CONTROLES'!C19 -> Variación de los precios de mercado de insumos, materiales, refrigerios y servicios logísticos requeridos para la ejecución del contrato. | D14: =+'EVALUACION CON CONTROLES'!B19 -> EJECUCIÓN | E14: ESPECIFICO | F14: EXTERNO | G14: =+EVALUACION!H20 -> Sobrecostos asumidos por el contratista durante los 8 meses de ejecución y eventual reclamación por rompimiento del equilibrio económico del contrato. | H14: =+EVALUACION!I20 -> 3 | I14: =+EVALUACION!J20 -> 2 | J14: =+EVALUACION!K20 -> 5 | K14: =+EVALUACION!L20 -> MEDIO | L14: CONTRATISTA | M14: 100 | N14: =+'EVALUACION CON CONTROLES'!G19 -> 1. El contratista debe estructurar sus precios unitarios incorporando la variación previsible del mercado durante el plazo de 8 meses, al tratarse de un contrato sin fórmula de reajuste (art. 4 Ley 1150 de 2007). 2. Verificación de los precios facturados contra el estudio de mercado y la oferta económica en cada informe. 3. Aplicación del mecanismo de monto agotable con traslado entre componentes previsto en el Estudio Previo. | O14: =+'EVALUACION CON CONTROLES'!I19 -> 3 | P14: =+'EVALUACION CON CONTROLES'!J19 -> 2 | Q14: =+'EVALUACION CON CONTROLES'!K19 -> 5 | R14: =+'EVALUACION CON CONTROLES'!L19 -> MEDIO | S14: =+'EVALUACION CON CONTROLES'!M19 -> SI | T14: =+'EVALUACION CON CONTROLES'!N19 -> Contratista / Supervisión | U14: =+'EVALUACION CON CONTROLES'!O19 -> Suscripción del acta de inicio | V14: =+'EVALUACION CON CONTROLES'!P19 -> Liquidación del contrato | ... X14: =+'EVALUACION CON CONTROLES'!R19 -> Mensual
B15: 5 | C15: =+'EVALUACION CON CONTROLES'!C20 -> Causas externas ajenas a las partes que retrasan la entrega de insumos, materiales y elementos (desabastecimiento, restricciones de movilidad, caso fortuito o fuerza mayor). | D15: =+'EVALUACION CON CONTROLES'!B20 -> EJECUCIÓN | E15: ESPECIFICO | F15: EXTERNO | G15: =+EVALUACION!H21 -> Retraso en el cronograma de actividades y en la entrega oportuna de insumos a las 13 huertas y a los tres PROCEDA. | H15: =+EVALUACION!I21 -> 3 | I15: =+EVALUACION!J21 -> 2 | J15: =+EVALUACION!K21 -> 5 | K15: =+EVALUACION!L21 -> MEDIO | L15: CONTRATISTA Y ALS | M15: 70/30 | N15: =+'EVALUACION CON CONTROLES'!G20 -> 1. Plan de compras aprobado en Comité Técnico con la debida anticipación. 2. Identificación de proveedores alternos para insumos críticos. 3. Ajuste del cronograma aprobado en Comité Técnico y trámite de prórroga cuando resulte procedente. | O15: =+'EVALUACION CON CONTROLES'!I20 -> 2 | P15: =+'EVALUACION CON CONTROLES'!J20 -> 3 | Q15: =+'EVALUACION CON CONTROLES'!K20 -> 5 | R15: =+'EVALUACION CON CONTROLES'!L20 -> MEDIO | S15: =+'EVALUACION CON CONTROLES'!M20 -> SI | T15: =+'EVALUACION CON CONTROLES'!N20 -> Contratista / Comité Técnico de Seguimiento | U15: =+'EVALUACION CON CONTROLES'!O20 -> Suscripción del acta de inicio | V15: =+'EVALUACION CON CONTROLES'!P20 -> Liquidación del contrato | ... X15: =+'EVALUACION CON CONTROLES'!R20 -> Mensual
B16: 6 | C16: =+'EVALUACION CON CONTROLES'!C21 -> Entrega de bienes, insumos o servicios con características técnicas distintas a las exigidas en el Anexo Técnico. | D16: =+'EVALUACION CON CONTROLES'!B21 -> EJECUCIÓN | E16: ESPECIFICO | F16: INTERNO | G16: =+EVALUACION!H22 -> Rechazo en la validación física del almacén, devolución al proveedor, no expedición del comprobante de ingreso y retraso en el trámite de pago. | H16: =+EVALUACION!I22 -> 3 | I16: =+EVALUACION!J22 -> 3 | J16: =+EVALUACION!K22 -> 6 | K16: =+EVALUACION!L22 -> ALTO | L16: CONTRATISTA | M16: 100 | N16: =+'EVALUACION CON CONTROLES'!G21 -> 1. Presentación previa a la Supervisión de fichas técnicas, certificados de calidad y registros ICA vigentes de las semillas. 2. Validación física conjunta en almacén diligenciando el formato GDI-GPD-F029. 3. Ningún elemento se entrega a los beneficiarios sin aprobación previa de la Supervisión. | O16: =+'EVALUACION CON CONTROLES'!I21 -> 2 | P16: =+'EVALUACION CON CONTROLES'!J21 -> 2 | Q16: =+'EVALUACION CON CONTROLES'!K21 -> 4 | R16: =+'EVALUACION CON CONTROLES'!L21 -> BAJO | S16: =+'EVALUACION CON CONTROLES'!M21 -> NO | T16: =+'EVALUACION CON CONTROLES'!N21 -> Supervisión / Apoyo a la supervisión | U16: =+'EVALUACION CON CONTROLES'!O21 -> Suscripción del acta de inicio | V16: =+'EVALUACION CON CONTROLES'!P21 -> Última entrega de insumos | ... X16: =+'EVALUACION CON CONTROLES'!R21 -> Por cada entrega
B17: 7 | C17: =+'EVALUACION CON CONTROLES'!C22 -> Incumplimiento del pago de aportes al Sistema de Seguridad Social Integral y a la ARL del personal vinculado por el contratista. | D17: =+'EVALUACION CON CONTROLES'!B22 -> EJECUCIÓN | E17: ESTATAL | F17: EXTERNO | G17: =+EVALUACION!H23 -> Reclamaciones laborales contra la Entidad, desprotección del personal de cuadrilla afiliado a riesgo 5 y suspensión del trámite de pago. | H17: =+EVALUACION!I23 -> 2 | I17: =+EVALUACION!J23 -> 3 | J17: =+EVALUACION!K23 -> 5 | K17: =+EVALUACION!L23 -> MEDIO | L17: CONTRATISTA | M17: 100 | N17: =+'EVALUACION CON CONTROLES'!G22 -> 1. Exigir la planilla de pago y la certificación del artículo 50 de la Ley 789 de 2002 como requisito de cada pago. 2. Verificar la afiliación a ARL riesgo 5 del talento humano del componente de cuadrilla. 3. Amparo de pago de salarios y prestaciones sociales por el 5% del valor del contrato, vigente por el plazo y tres (3) años más. | O17: =+'EVALUACION CON CONTROLES'!I22 -> 1 | P17: =+'EVALUACION CON CONTROLES'!J22 -> 3 | Q17: =+'EVALUACION CON CONTROLES'!K22 -> 4 | R17: =+'EVALUACION CON CONTROLES'!L22 -> BAJO | S17: =+'EVALUACION CON CONTROLES'!M22 -> NO | T17: =+'EVALUACION CON CONTROLES'!N22 -> Supervisión / Apoyo a la supervisión | U17: =+'EVALUACION CON CONTROLES'!O22 -> Suscripción del acta de inicio | V17: =+'EVALUACION CON CONTROLES'!P22 -> Liquidación del contrato | ... X17: =+'EVALUACION CON CONTROLES'!R22 -> Mensual
B18: 8 | C18: =+'EVALUACION CON CONTROLES'!C23 -> Cambios en el marco regulatorio o en la normatividad aplicable al proyecto en materia ambiental, de agricultura urbana, de espacio público o tributaria. | D18: =+'EVALUACION CON CONTROLES'!B23 -> EJECUCIÓN | E18: ESTATAL | F18: EXTERNO | G18: =+EVALUACION!H24 -> Variación de las condiciones de ejecución, posibles sobrecostos, necesidad de modificaciones contractuales y rompimiento del equilibrio económico. | H18: =+EVALUACION!I24 -> 1 | I18: =+EVALUACION!J24 -> 3 | J18: =+EVALUACION!K24 -> 4 | K18: =+EVALUACION!L24 -> BAJO | L18: CONTRATISTA Y ALS | M18: 50/50 | N18: =+'EVALUACION CON CONTROLES'!G23 -> 1. Monitoreo normativo permanente durante la ejecución. 2. Análisis del impacto del cambio normativo en Comité Técnico. 3. Trámite de la modificación contractual a que haya lugar, previa sustentación técnica y jurídica. | O18: =+'EVALUACION CON CONTROLES'!I23 -> 1 | P18: =+'EVALUACION CON CONTROLES'!J23 -> 2 | Q18: =+'EVALUACION CON CONTROLES'!K23 -> 3 | R18: =+'EVALUACION CON CONTROLES'!L23 -> BAJO | S18: =+'EVALUACION CON CONTROLES'!M23 -> SI | T18: =+'EVALUACION CON CONTROLES'!N23 -> Supervisión / Área jurídica FDLS | U18: =+'EVALUACION CON CONTROLES'!O23 -> Suscripción del acta de inicio | V18: =+'EVALUACION CON CONTROLES'!P23 -> Liquidación del contrato | ... X18: =+'EVALUACION CON CONTROLES'!R23 -> Mensual
B19: 9 | C19: =+'EVALUACION CON CONTROLES'!C24 -> Restricciones de orden distrital o nacional que impidan el desarrollo de actividades masivas y presenciales. | D19: =+'EVALUACION CON CONTROLES'!B24 -> EJECUCIÓN | E19: ESPECIFICO | F19: EXTERNO | G19: =+EVALUACION!H25 -> Imposibilidad de ejecutar cineforos, seminarios, festival comunitario, carrera de la biodiversidad y evento de cierre en las condiciones previstas en el Anexo Técnico. | H19: =+EVALUACION!I25 -> 2 | I19: =+EVALUACION!J25 -> 2 | J19: =+EVALUACION!K25 -> 4 | K19: =+EVALUACION!L25 -> BAJO | L19: CONTRATISTA Y ALS | M19: 50/50 | N19: =+'EVALUACION CON CONTROLES'!G24 -> 1. Reprogramación de actividades aprobada en Comité Técnico. 2. Desarrollo virtual del componente teórico (20 horas) cuando la medida lo permita. 3. Fraccionamiento de grupos y cumplimiento estricto de los aforos autorizados. | O19: =+'EVALUACION CON CONTROLES'!I24 -> 2 | P19: =+'EVALUACION CON CONTROLES'!J24 -> 1 | Q19: =+'EVALUACION CON CONTROLES'!K24 -> 3 | R19: =+'EVALUACION CON CONTROLES'!L24 -> BAJO | S19: =+'EVALUACION CON CONTROLES'!M24 -> NO | T19: =+'EVALUACION CON CONTROLES'!N24 -> Contratista / Supervisión | U19: =+'EVALUACION CON CONTROLES'!O24 -> Suscripción del acta de inicio | V19: =+'EVALUACION CON CONTROLES'!P24 -> Liquidación del contrato | ... X19: =+'EVALUACION CON CONTROLES'!R24 -> Mensual
B20: 10 | C20: =+'EVALUACION CON CONTROLES'!C25 -> Deserción o baja participación de los beneficiarios en los componentes de PROCEDA y de agricultura urbana. | D20: =+'EVALUACION CON CONTROLES'!B25 -> EJECUCIÓN | E20: ESPECIFICO | F20: EXTERNO | G20: =+EVALUACION!H26 -> No alcanzar los mínimos exigidos (50 inscritos por PROCEDA, 13 huertas, 26 participantes, 30 personas del IED Jaime Niño Diez y 80% de asistencia para certificar) y afectación de las metas del PDL. | H20: =+EVALUACION!I26 -> 3 | I20: =+EVALUACION!J26 -> 3 | J20: =+EVALUACION!K26 -> 6 | K20: =+EVALUACION!L26 -> ALTO | L20: CONTRATISTA Y ALS | M20: 70/30 | N20: =+'EVALUACION CON CONTROLES'!G25 -> 1. Estrategia de convocatoria con mínimo 20 días de anticipación, articulada con JAC, CAL, ULDER, parroquias, propiedades horizontales y Gerencias de la Solución. 2. Inscripción presencial y digital con apoyo logístico y tecnológico en sitio. 3. Segunda socialización de la pieza de inscripción cuando no se alcance el mínimo, conforme al Anexo Técnico. 4. Sobreconvocatoria y uso de la base de datos de la Red de Agricultores Urbanos de Suba como fuente alterna. 5. Acta de compromiso de permanencia suscrita por los participantes. | O20: =+'EVALUACION CON CONTROLES'!I25 -> 2 | P20: =+'EVALUACION CON CONTROLES'!J25 -> 2 | Q20: =+'EVALUACION CON CONTROLES'!K25 -> 4 | R20: =+'EVALUACION CON CONTROLES'!L25 -> BAJO | S20: =+'EVALUACION CON CONTROLES'!M25 -> NO | T20: =+'EVALUACION CON CONTROLES'!N25 -> Contratista / Apoyo a la supervisión | U20: =+'EVALUACION CON CONTROLES'!O25 -> Fase de alistamiento | V20: =+'EVALUACION CON CONTROLES'!P25 -> Liquidación del contrato | ... X20: =+'EVALUACION CON CONTROLES'!R25 -> Quincenal
B21: 11 | C21: =+'EVALUACION CON CONTROLES'!C26 -> Demora o negativa en el trámite de permisos y autorizaciones ante autoridades ambientales (paz y salvos, ingreso a ecosistemas de estudio, autorizaciones de manejo). | D21: =+'EVALUACION CON CONTROLES'!B26 -> EJECUCIÓN | E21: ESPECIFICO | F21: EXTERNO | G21: =+EVALUACION!H27 -> Retraso o imposibilidad de realizar las cinco (5) salidas a territorio, los recorridos rurales y el laboratorio comunitario de investigación ambiental. | H21: =+EVALUACION!I27 -> 3 | I21: =+EVALUACION!J27 -> 2 | J21: =+EVALUACION!K27 -> 5 | K21: =+EVALUACION!L27 -> MEDIO | L21: CONTRATISTA | M21: 100 | N21: =+'EVALUACION CON CONTROLES'!G26 -> 1. Gestión y radicación de permisos desde la fase de alistamiento. 2. Identificación de ecosistemas alternos en mesa de trabajo con las constructoras locales y el apoyo a la supervisión. 3. Matriz de seguimiento de permisos con alertas tempranas. | O21: =+'EVALUACION CON CONTROLES'!I26 -> 2 | P21: =+'EVALUACION CON CONTROLES'!J26 -> 3 | Q21: =+'EVALUACION CON CONTROLES'!K26 -> 5 | R21: =+'EVALUACION CON CONTROLES'!L26 -> MEDIO | S21: =+'EVALUACION CON CONTROLES'!M26 -> SI | T21: =+'EVALUACION CON CONTROLES'!N26 -> Contratista / Profesional en gestión ambiental | U21: =+'EVALUACION CON CONTROLES'!O26 -> Fase de alistamiento | V21: =+'EVALUACION CON CONTROLES'!P26 -> Última salida a territorio | ... X21: =+'EVALUACION CON CONTROLES'!R26 -> Mensual
B22: 12 | C22: =+'EVALUACION CON CONTROLES'!C27 -> Pérdida, hurto o deterioro de insumos, herramientas y elementos destinados al fortalecimiento de los PROCEDA y de las huertas urbanas. | D22: =+'EVALUACION CON CONTROLES'!B27 -> EJECUCIÓN | E22: ESPECIFICO | F22: INTERNO | G22: =+EVALUACION!H28 -> Reposición a cargo del contratista, retraso en la entrega a los beneficiarios y afectación del cumplimiento de las metas del contrato. | H22: =+EVALUACION!I28 -> 3 | I22: =+EVALUACION!J28 -> 3 | J22: =+EVALUACION!K28 -> 6 | K22: =+EVALUACION!L28 -> ALTO | L22: CONTRATISTA | M22: 100 | N22: =+'EVALUACION CON CONTROLES'!G27 -> 1. La custodia de los bienes es responsabilidad del contratista hasta la suscripción del acta de entrega. 2. Ingreso y salida de bienes por el almacén del FDLS conforme al procedimiento vigente. 3. Inventario permanente, listas de chequeo, acta de entrega firmada y acta de compromiso de uso correcto de los insumos. 4. Amparo de cumplimiento por el 20% del valor del contrato. | O22: =+'EVALUACION CON CONTROLES'!I27 -> 2 | P22: =+'EVALUACION CON CONTROLES'!J27 -> 2 | Q22: =+'EVALUACION CON CONTROLES'!K27 -> 4 | R22: =+'EVALUACION CON CONTROLES'!L27 -> BAJO | S22: =+'EVALUACION CON CONTROLES'!M27 -> NO | T22: =+'EVALUACION CON CONTROLES'!N27 -> Contratista | U22: =+'EVALUACION CON CONTROLES'!O27 -> Primera adquisición de insumos | V22: =+'EVALUACION CON CONTROLES'!P27 -> Última entrega a beneficiarios | ... X22: =+'EVALUACION CON CONTROLES'!R27 -> Semanal
... B30: 20 | C30: =+'EVALUACION CON CONTROLES'!C35 -> Condiciones climáticas adversas (lluvias, granizadas, vendavales o sequías) que impidan el desarrollo de las actividades programadas en campo. | D30: =+'EVALUACION CON CONTROLES'!B35 -> EJECUCIÓN | E30: ESPECIFICO | F30: EXTERNO | G30: =+EVALUACION!H36 -> Cancelación o reprogramación de salidas a territorio, recorridos rurales, jornadas de cuadrilla, feria rural, festival comunitario y carrera de la biodiversidad, y afectación de las huertas implementadas. | H30: =+EVALUACION!I36 -> 3 | I30: =+EVALUACION!J36 -> 2 | J30: =+EVALUACION!K36 -> 5 | K30: =+EVALUACION!L36 -> MEDIO | L30: CONTRATISTA Y ALS | M30: 50/50 | N30: =+'EVALUACION CON CONTROLES'!G35 -> 1. Programación de las actividades en campo considerando el calendario climático de la ciudad y de la ruralidad de Suba. 2. Definición de fechas alternas dentro del plan de trabajo aprobado en Comité Técnico. 3. Disposición de espacios cubiertos o carpas para las actividades masivas. 4. Reprogramación aprobada en Comité Técnico sin costo adicional para la Entidad. | O30: =+'EVALUACION CON CONTROLES'!I35 -> 3 | P30: =+'EVALUACION CON CONTROLES'!J35 -> 1 | Q30: =+'EVALUACION CON CONTROLES'!K35 -> 4 | R30: =+'EVALUACION CON CONTROLES'!L35 -> BAJO | S30: =+'EVALUACION CON CONTROLES'!M35 -> NO | T30: =+'EVALUACION CON CONTROLES'!N35 -> Contratista / Comité Técnico de Seguimiento | U30: =+'EVALUACION CON CONTROLES'!O35 -> Suscripción del acta de inicio | V30: =+'EVALUACION CON CONTROLES'!P35 -> Evento de cierre del contrato | ... X30: =+'EVALUACION CON CONTROLES'!R35 -> Mensual
F32: Categoria | J32: Impacto del Riesgo
E33: Probabilidad | F33: Catagoria | G33: Valoración | J33: Categoria | L33: Valoración
F34: Raro (puede ocurrir excepcionalmente) | G34: 1 | J34: Insignificante | L34: 1
F35: Improbable (puede ocurrir ocasionalmente) | G35: 2 | J35: Menor | L35: 2
F36: Posible (puede ocurrir en cualquier momento futuro) | G36: 3 | J36: Moderado | L36: 3
F37: Probable (probablemente va a ocurrir) | G37: 4 | J37: Mayor | L37: 4
F38: Casi cierto (ocurre en la mayoria de circunstancias) | G38: 5 | J38: Catastrófico | L38: 5
D40: Valoración del Riesgo
D41: Catagoria | F41: Insignificante | H41: Menor | J41: Moderado | L41: Catastrófico | P41: Categoria del Riesgo
F42: 1 | H42: 2 | J42: 3 | L42: 5 | P42: Valoración del Riesgo | S42: Categoría
D43: Raro (puede ocurrir excepcionalmente) | F43: 2 | H43: 3 | J43: 4 | L43: 6 | P43: 8, 9 y 10 | S43: Riesgo extremo
D44: Improbable (puede ocurrir ocasionalmente) | E44: 2 | F44: 3 | H44: 4 | J44: 5 | K44: 6 | L44: 7 | P44: 6 y 7 | S44: Riesgo alto
D45: Posible (puede ocurrir en cualquier momento futuro) | L45: 8 | P45: 5 | S45: Riesgo medio
D46: Probable (probablemente va a ocurrir) | E46: 4 | F46: 5 | H46: 6 | J46: 7 | K46: 8 | L46: 9 | P46: 2, 3 y 4
F47: 6 | H47: 7 | J47: 8 | K47: 9 | L47: 10
B52: CONTRATISTA
B53: ALCALDIA LOCAL DE SUBA
B54: CONTRATISTA Y ALS
