Workbook

Sheet Resumen
A2: VALORES SIN IVA
A3: SEDE | B3: PUESTO | C3: HORARIO DE TRABAJO | D3: 2026 | E3: 2027 | F3: 2028 | G3: 2029 | H3: 2030 | I3: TOTAL
A4: SEDE 1. PALACIO DE JUSTICIA ALFONSO REYES ECHANDIA | B4: Supervisor de Puesto y sedes anexas | C4: Lunes a viernes servicio 14 Horas 06.00 A 20.00 Sin Arma | D4: ='2026.'!V29/(1+1.9%) -> 6739439.6 | E4: ='2027'!AF29 -> 86532992 | F4: ='2028'!AF29 -> 92955368 | G4: ='2029'!AF29 -> 99461618 | H4: ='2030'!AA29 -> 61518957 | I4: =SUM(D4:H4) -> 3.4720838e+08
B5: Ingreso y entrada vehicular Cra. 8 | C5: Lunes a domingo Servicio 24 Horas Sin Arma | D5: ='2026.'!V30/(1+1.9%) -> 19313359 | E5: ='2027'!AF30 -> 2.500419e+08 | F5: ='2028'!AF30 -> 2.6974767e+08 | G5: ='2029'!AF30 -> 2.8862457e+08 | H5: ='2030'!AA30 -> 1.8014666e+08 | I5: =SUM(D5:H5) -> 1.0078742e+09
B6: Manejador canino | C6: Lunes a viernes Servicio 12 Horas 6.00 A 18.00 Horas Sin Arma | D6: ='2026.'!V31/(1+1.9%) -> 3777770.4 | E6: ='2027'!AF31 -> 70540681 | F6: ='2028'!AF31 -> 75765688 | G6: ='2029'!AF31 -> 81430691 | H6: ='2030'!AA31 -> 51116459 | I6: =SUM(D6:H6) -> 2.8263129e+08
B7: Correspondencia principal | C7: Lunes a viernes Servicio 9 Horas 08.00 A 17.00 Horas Sin Arma | D7: ='2026.'!V32/(1+1.9%) -> 2756751.7 | E7: ='2027'!AF32 -> 51475632 | F7: ='2028'!AF32 -> 55288475 | G7: ='2029'!AF32 -> 59422396 | H7: ='2030'!AA32 -> 37301200 | I7: =SUM(D7:H7) -> 2.0624446e+08
B8: Filtro Cortes Suprema y Constitucional | C8: Lunes a viernes Servicio 11 H De 08.00 A 19.00 H Sin Arma | D8: ='2026.'!V33/(1+1.9%) -> 3369363.1 | E8: ='2027'!AF33 -> 62914662 | F8: ='2028'!AF33 -> 67574803 | G8: ='2029'!AF33 -> 72627373 | H8: ='2030'!AA33 -> 45590355 | I8: =SUM(D8:H8) -> 2.5207656e+08
B9: Filtro Consejo Superior de la Judicatura y Estado | C9: Lunes a viernes Servicio 11 H De 08.00 A 19.00 H Sin Arma | D9: ='2026.'!V34/(1+1.9%) -> 5183634.9 | E9: ='2027'!AF34 -> 66556790 | F9: ='2028'!AF34 -> 71496555 | G9: ='2029'!AF34 -> 76500833 | H9: ='2030'!AA34 -> 47317263 | I9: =SUM(D9:H9) -> 2.6705508e+08
B10: Recepción exclusa o Consejo Estado | C10: Lunes a viernes Servicio 11 H De 08.00 A 19.00 H Sin Arma | D10: ='2026.'!V35/(1+1.9%) -> 3369363.1 | E10: ='2027'!AF35 -> 62914662 | F10: ='2028'!AF35 -> 67574803 | G10: ='2029'!AF35 -> 72627373 | H10: ='2030'!AA35 -> 45590355 | I10: =SUM(D10:H10) -> 2.5207656e+08
B11: Recepción exclusa o Corte Constitucional | C11: Lunes a viernes Servicio 11 H De 08.00 A 19.00 H Sin Arma | D11: ='2026.'!V36/(1+1.9%) -> 3369363.1 | E11: ='2027'!AF36 -> 62914662 | F11: ='2028'!AF36 -> 67574803 | G11: ='2029'!AF36 -> 72627373 | H11: ='2030'!AA36 -> 45590355 | I11: =SUM(D11:H11) -> 2.5207656e+08
B12: Recepción exclusa o Corte Suprema de Justicia | C12: Lunes a viernes Servicio 11 H De 08.00 A 19.00 H Sin Arma | D12: ='2026.'!V37/(1+1.9%) -> 3369363.1 | E12: ='2027'!AF37 -> 62914662 | F12: ='2028'!AF37 -> 67574803 | G12: ='2029'!AF37 -> 72627373 | H12: ='2030'!AA37 -> 45590355 | I12: =SUM(D12:H12) -> 2.5207656e+08
B13: Recepción exclusa Comisión Nacional de Disciplina y Consejo Superior de la Judicatura | C13: Lunes a viernes Servicio 12 Horas 07.00 A 19.00 Sin Arma | D13: ='2026.'!V38/(1+1.9%) -> 5654875.4 | E13: ='2027'!AF38 -> 72607407 | F13: ='2028'!AF38 -> 77996242 | G13: ='2029'!AF38 -> 83455454 | H13: ='2030'!AA38 -> 51618832 | I13: =SUM(D13:H13) -> 2.9133281e+08
B14: Entrada de funcionarios molinetes calle12 | C14: Lunes a viernes Servicio 12 Horas 06.00 A 18.00 Sin Arma | D14: ='2026.'!V39/(1+1.9%) -> 5654875.4 | E14: ='2027'!AF39 -> 72607407 | F14: ='2028'!AF39 -> 77996242 | G14: ='2029'!AF39 -> 83455454 | H14: ='2030'!AA39 -> 51618832 | I14: =SUM(D14:H14) -> 2.9133281e+08
B15: Entrada funcionarios molinetes Cra. 8 | C15: Lunes a viernes Servicio 12 Horas 08.00 A 20.00 Sin Arma | D15: ='2026.'!V40/(1+1.9%) -> 5796960.7 | E15: ='2027'!AF40 -> 74431758 | F15: ='2028'!AF40 -> 79955994 | G15: ='2029'!AF40 -> 85552376 | H15: ='2030'!AA40 -> 52915819 | I15: =SUM(D15:H15) -> 2.9865291e+08
B16: Parqueadero calle 8 | C16: Lunes a viernes Servicio 12 Horas 06.00 A 18.00 Sin Arma | D16: ='2026.'!V41/(1+1.9%) -> 5654875.4 | E16: ='2027'!AF41 -> 72607407 | F16: ='2028'!AF41 -> 77996242 | G16: ='2029'!AF41 -> 83455454 | H16: ='2030'!AA41 -> 51618832 | I16: =SUM(D16:H16) -> 2.9133281e+08
... B23: Recorredor Palacio de Justicia y apoyo obras | C23: Lunes a domingo Servicio 24 Horas Sin Arma | D23: ='2026.'!V48/(1+1.9%) -> 19313359 | E23: ='2027'!AF48 -> 2.500419e+08 | F23: ='2028'!AF48 -> 2.6974767e+08 | G23: ='2029'!AF48 -> 2.8862457e+08 | H23: ='2030'!AA48 -> 1.8014666e+08 | I23: =SUM(D23:H23) -> 1.0078742e+09
A24: SEDE 2. ESCUELA JUDICIAL RODRIGO LARA BONILLA | B24: Control ingreso 2 piso | C24: Lunes a domingo Servicio 24 Horas Con Arma | D24: ='2026.'!V49/(1+1.9%) -> 19671014 | E24: ='2027'!AF49 -> 2.5467231e+08 | F24: ='2028'!AF49 -> 2.74743e+08 | G24: ='2029'!AF49 -> 2.9396947e+08 | H24: ='2030'!AA49 -> 1.8348271e+08 | I24: =SUM(D24:H24) -> 1.0265385e+09
B25: Control ingreso 4 piso | C25: Lunes a domingo Servicio 24 Horas Con Arma | D25: ='2026.'!V50/(1+1.9%) -> 19671014 | E25: ='2027'!AF50 -> 2.5467231e+08 | F25: ='2028'!AF50 -> 2.74743e+08 | G25: ='2029'!AF50 -> 2.9396947e+08 | H25: ='2030'!AA50 -> 1.8348271e+08 | I25: =SUM(D25:H25) -> 1.0265385e+09
A26: SEDE 3. EDIFICIO ANTIGUO BANCO POPULAR | B26: Recepción | C26: Lunes a domingo Servicio 24 Horas Con Arma | D26: ='2026.'!V51/(1+1.9%) -> 19671014 | E26: ='2027'!AF51 -> 2.5467231e+08 | F26: ='2028'!AF51 -> 2.74743e+08 | G26: ='2029'!AF51 -> 2.9396947e+08 | H26: ='2030'!AA51 -> 1.8348271e+08 | I26: =SUM(D26:H26) -> 1.0265385e+09
B27: Control de ingreso y revistas | C27: Lunes a viernes 12 H De 06.00 A 18.00 Horas Sin Arma | D27: ='2026.'!V52/(1+1.9%) -> 3675668.3 | E27: ='2027'!AF52 -> 68634176 | F27: ='2028'!AF52 -> 73717967 | G27: ='2029'!AF52 -> 79229862 | H27: ='2030'!AA52 -> 49734933 | I27: =SUM(D27:H27) -> 2.7499261e+08
A28: SEDE 4. SEDE ANEXA | B28: Control Ingreso personal y paquetes | C28: Lunes a domingo Servicio 24 H Con Arma | D28: ='2026.'!V53/(1+1.9%) -> 19671014 | E28: ='2027'!AF53 -> 2.5467231e+08 | F28: ='2028'!AF53 -> 2.74743e+08 | G28: ='2029'!AF53 -> 2.9396947e+08 | H28: ='2030'!AA53 -> 1.8348271e+08 | I28: =SUM(D28:H28) -> 1.0265385e+09
B29: Control de ingreso funcionarios | C29: Lunes a viernes Servicio 12 Horas 07.00 A 19.00 Sin Arma | D29: ='2026.'!V54/(1+1.9%) -> 3676490.7 | E29: ='2027'!AF54 -> 68648409 | F29: ='2028'!AF54 -> 73732137 | G29: ='2029'!AF54 -> 79244095 | H29: ='2030'!AA54 -> 49743283 | I29: =SUM(D29:H29) -> 2.7504441e+08
A30: SEDE 5. EDIFICIO DINERS | B30: Entrada principal y recorrido | C30: Lunes a domingo Servicio 24 Horas Con Arma | D30: ='2026.'!V55/(1+1.9%) -> 19671014 | E30: ='2027'!AF55 -> 2.5467231e+08 | F30: ='2028'!AF55 -> 2.74743e+08 | G30: ='2029'!AF55 -> 2.9396947e+08 | H30: ='2030'!AA55 -> 1.8348271e+08 | I30: =SUM(D30:H30) -> 1.0265385e+09
A31: SEDE 6. ALMACÉN GENERAL E INVENTARIOS | B31: Control ingreso 1 piso | C31: Lunes a domingo Servicio 24H Con Arma | D31: ='2026.'!V56/(1+1.9%) -> 19671014 | E31: ='2027'!AF56 -> 2.4976122e+08 | F31: ='2028'!AF56 -> 2.6940077e+08 | G31: ='2029'!AF56 -> 2.8825339e+08 | H31: ='2030'!AA56 -> 1.7736662e+08 | I31: =SUM(D31:H31) -> 1.004453e+09
B32: Control ingreso parqueadero y recorrido | C32: Lunes a domingo Servicio 24H Con Arma | D32: ='2026.'!V57/(1+1.9%) -> 19671014 | E32: ='2027'!AF57 -> 2.5467231e+08 | F32: ='2028'!AF57 -> 2.74743e+08 | G32: ='2029'!AF57 -> 2.9396947e+08 | H32: ='2030'!AA57 -> 1.8348271e+08 | I32: =SUM(D32:H32) -> 1.0265385e+09
A33: SEDE 7. EDIFICIO BANCO DE CRÉDITO | B33: Parqueadero VIP portería Cra. 6 | C33: Lunes a domingo Servicio 24 Horas Con Arma | D33: ='2026.'!V58/(1+1.9%) -> 19671014 | E33: ='2027'!AF58 -> 2.5467231e+08 | F33: ='2028'!AF58 -> 2.74743e+08 | G33: ='2029'!AF58 -> 2.9396947e+08 | H33: ='2030'!AA58 -> 1.8348271e+08 | I33: =SUM(D33:H33) -> 1.0265385e+09
B34: Parqueadero por la Cra. 7 | C34: Lunes a domingo Servicio 24 Horas Con Arma | D34: ='2026.'!V59/(1+1.9%) -> 19671014 | E34: ='2027'!AF59 -> 2.5467231e+08 | F34: ='2028'!AF59 -> 2.74743e+08 | G34: ='2029'!AF59 -> 2.9396947e+08 | H34: ='2030'!AA59 -> 1.8348271e+08 | I34: =SUM(D34:H34) -> 1.0265385e+09
B35: Control de medios tecnológicos y recorrido | C35: Lunes a domingo Servicio 24 Horas | D35: ='2026.'!V60/(1+1.9%) -> 19313359 | E35: ='2027'!AF60 -> 2.500419e+08 | F35: ='2028'!AF60 -> 2.6974767e+08 | G35: ='2029'!AF60 -> 2.8862457e+08 | H35: ='2030'!AA60 -> 1.8014666e+08 | I35: =SUM(D35:H35) -> 1.0078742e+09
B36: Escáner | C36: Lunes a domingo Servicio 24 Horas Con Arma | D36: ='2026.'!V61/(1+1.9%) -> 19671014 | E36: ='2027'!AF61 -> 2.5467231e+08 | F36: ='2028'!AF61 -> 2.74743e+08 | G36: ='2029'!AF61 -> 2.9396947e+08 | H36: ='2030'!AA61 -> 1.8348271e+08 | I36: =SUM(D36:H36) -> 1.0265385e+09
B37: Portería Cra. 7 (entrada principal) | C37: 24 H Fines De Semana Y Festivos | D37: ='2026.'!V62/(1+1.9%) -> 6557004.9 | E37: ='2027'!AF62 -> 84890769 | F37: ='2028'!AF62 -> 91581000 | G37: ='2029'!AF62 -> 97989822 | H37: ='2030'!AA62 -> 61160902 | I37: =SUM(D37:H37) -> 3.421795e+08
B38: Portería Cra. 7 (entrada principal) | C38: Lunes a viernes Servicio 12 H Con Arma Lunes a viernes Nocturno | D38: ='2026.'!V63/(1+1.9%) -> 7351480.9 | E38: ='2027'!AF63 -> 95178078 | F38: ='2028'!AF63 -> 1.0268061e+08 | G38: ='2029'!AF63 -> 1.0986756e+08 | H38: ='2030'!AA63 -> 68575264 | I38: =SUM(D38:H38) -> 3.8365298e+08
B39: Puerta correspondencia | C39: Lunes a viernes Servicio 9 Horas 08.00 A 17.00 Horas Sin Arma | D39: ='2026.'!V64/(1+1.9%) -> 4241156 | E39: ='2027'!AF64 -> 54455555 | F39: ='2028'!AF64 -> 58497182 | G39: ='2029'!AF64 -> 62591591 | H39: ='2030'!AA64 -> 38714124 | I39: =SUM(D39:H39) -> 2.1849961e+08
B40: Despacho | C40: Lunes a viernes Servicio 9 Horas de 08:00 H A 17:00 H Sin Festivos | D40: ='2026.'!V65/(1+1.9%) -> 4241156 | E40: ='2027'!AF65 -> 54455555 | F40: ='2028'!AF65 -> 58497182 | G40: ='2029'!AF65 -> 62591591 | H40: ='2030'!AA65 -> 38714124 | I40: =SUM(D40:H40) -> 2.1849961e+08
B41: Puerta principal despacho judiciales | C41: Lunes a viernes Servicio 9 Horas 08.00 A 17.00 Horas Sin Arma | D41: ='2026.'!V66/(1+1.9%) -> 4241156 | E41: ='2027'!AF66 -> 54455555 | F41: ='2028'!AF66 -> 58497182 | G41: ='2029'!AF66 -> 62591591 | H41: ='2030'!AA66 -> 38714124 | I41: =SUM(D41:H41) -> 2.1849961e+08
B42: Recepción | C42: Lunes a viernes 12 H De 06.00 A 18.00 Horas Sin Arma | D42: ='2026.'!V67/(1+1.9%) -> 5654875.4 | E42: ='2027'!AF67 -> 72607407 | F42: ='2028'!AF67 -> 77996242 | G42: ='2029'!AF67 -> 83455454 | H42: ='2030'!AA67 -> 51618832 | I42: =SUM(D42:H42) -> 2.9133281e+08
B43: Medios tecnológicos - CCTV | C43: Lunes a viernes 12 H De 06.00 A 18.00 Horas Sin Arma | D43: ='2026.'!V68/(1+1.9%) -> 5654875.4 | E43: ='2027'!AF68 -> 72607407 | F43: ='2028'!AF68 -> 77996242 | G43: ='2029'!AF68 -> 83455454 | H43: ='2030'!AA68 -> 51618832 | I43: =SUM(D43:H43) -> 2.9133281e+08
B44: Apoyo Canino (Parqueadero Cra. 7 de 7-9 am, portería Cra. 7 y Correspondencia) | C44: Lunes a viernes Servicio 12H DE 06:00 A 18: 00 H (ConCanino) | D44: ='2026.'!V69/(1+1.9%) -> 5811954.9 | E44: ='2027'!AF69 -> 74624279 | F44: ='2028'!AF69 -> 80162804 | G44: ='2029'!AF69 -> 85773661 | H44: ='2030'!AA69 -> 53052688 | I44: =SUM(D44:H44) -> 2.9942539e+08
A45: SEDE 8. EDIFICIO TORRE D | B45: Sótano | C45: Lunes a domingo Servicio 24H Con Arma | D45: ='2026.'!V70/(1+1.9%) -> 19671014 | E45: ='2027'!AF70 -> 2.5467231e+08 | F45: ='2028'!AF70 -> 2.74743e+08 | G45: ='2029'!AF70 -> 2.9396947e+08 | H45: ='2030'!AA70 -> 1.8348271e+08 | I45: =SUM(D45:H45) -> 1.0265385e+09
B46: Recepción | C46: Lunes a domingo Servicio 24H Con Arma | D46: ='2026.'!V71/(1+1.9%) -> 19671014 | E46: ='2027'!AF71 -> 2.5467231e+08 | F46: ='2028'!AF71 -> 2.74743e+08 | G46: ='2029'!AF71 -> 2.9396947e+08 | H46: ='2030'!AA71 -> 1.8348271e+08 | I46: =SUM(D46:H46) -> 1.0265385e+09
B47: Parqueadero | C47: Lunes a domingo Servicio 24H Con Arma | D47: ='2026.'!V72/(1+1.9%) -> 19671014 | E47: ='2027'!AF72 -> 2.5467231e+08 | F47: ='2028'!AF72 -> 2.74743e+08 | G47: ='2029'!AF72 -> 2.9396947e+08 | H47: ='2030'!AA72 -> 1.8348271e+08 | I47: =SUM(D47:H47) -> 1.0265385e+09
...

Sheet 2026.
A1: DESCRIPCIÓN DEL SERVICIO PRESTADO DE VIGILANCIA | B1: VALOR PÓLIZA | E1: Son 24 horas y/o tienen vacancia
A2: Servicio 24 horas, 30 días al mes, sin arma (lunes a domingo) | B2: 6000
A3: Servicio 24 horas, 30 días al mes, con arma (lunes a domingo) | B3: 6000 | E3: Tienen semana santa
A4: Servicio 24 horas, 10 días al mes, con arma (sabado, domingo y festivos) | B4: 6000 | E4: Tiene jornada diurna y noctura por hora
A5: Servicio 12 horas nocturnas con arma (lunes a viernes sin festivo) | B5: 2000
A6: Servicio 16 horas (15 horas diurnas y 1 hora nocturna) sin arma (lunes a viernes sin festivo) | B6: 4000 | D6: https://www.infobae.com/colombia/2026/08/09/salario-minimo-de-2027-asi-seria-el-aumento-si-el-gobierno-de-de-la-espriella-le-hace-caso-al-banco-de-la-republica-y-lo-sube-5-o-6/
A7: Servicio 14 horas diurnas sin arma (lunes a viernes sin festivo) Supervisor | B7: 2000
A8: Servicio 12 horas diurnas sin arma (lunes a viernes sin festivo) | B8: 2000
A9: Servicio 12 horas diurnas con canino (lunes a viernes sin festivo) | B9: 2000
A10: Servicio 11 horas diurnas sin arma (lunes a viernes sin festivo) | B10: 2000
A11: Servicio 10 horas diurnas sin arma (lunes a viernes sin festivo) | B11: 2000
A12: Servicio 09 horas diurnas sin arma (lunes a viernes sin festivo) | B12: 2000
A14: TARIFAS
A15: CONCEPTO | B15: SMMLV * TARIFA | C15: % AyS | D15: POLIZA | E15: VALOR AyS | F15: TOTAL TARIFA | G15: ays | H15: Tipo de Personal
A16: Medio Humano sin arma | B16: =+B21*C21 -> 17876740 | C16: Gastos admon 8 % | D16: 6000 | E16: =+(B16+D16)*8% -> 1430619.2 | F16: =+B16+E16 -> 19307359 | G16: 0.08 | H16: Sin arma
A17: Medio humanno con arma | B17: =+B21*C21 -> 17876740 | C17: Gastos admon 10 % | D17: 6000 | E17: =+(B17+D17)*10% -> 1788274 | F17: =+B17+E17 -> 19665014 | G17: 0.1 | H17: Con Arma
A18: Medio humano con canino | B18: =+B21*C21 -> 17876740 | C18: Gastos admon 11 % | D18: 6000 | E18: =+(B18+D18)*11% -> 1967101.4 | F18: =+B18+E18 -> 19843841 | G18: 0.11 | H18: Canino
A20: JORNADA | B20: SMMLV | C20: TARIFA SERVICI | D20: VARIABLE PROBABILIDAD
A21: 6:00 am a 7:00 pm (Turno de 13 horas diurnas) | B21: 1750905 | C21: 10.21 | D21: 0.4759
A22: 7:00 pm a 6:00 am (Turno de 13 horas diurnas) | B22: 1750905 | C22: 10.21 | D22: 0.5241
A27: INFORMACIÓN PERSONAL REQUERIDO | R27: 2026
A28: SEDE | B28: PUESTO | C28: HORARIO DE TRABAJO | D28: JORNADA Nocturna | E28: Jornada Diurna | F28: CARGO | G28: VACANCIA JUDICIAL | H28: SEMANA SANTA | I28: NÚMERO DE OPERARIOS | J28: HORAS DE SERVICIO | K28: Horas Diurnas | L28: Horas Nocturnas | M28: DIAS REQUERIDOS DIC | N28: DIAS REQUERIDOS SEMANA S | O28: DIAS REQUERIDOS | P28: VALOR POLIZA | R28: Dic | S28: AYS | T28: Subtotal | U28: IVA | V28: Total
A29: SEDE 1. PALACIO DE JUSTICIA ALFONSO REYES ECHANDIA | B29: Supervisor de Puesto y sedes anexas | C29: Lunes a viernes servicio 14 Horas 06.00 A 20.00 Sin Arma | D29: 0.5241 | E29: 0.4759 | F29: SUPERVISOR | G29: 1 | I29: 1 | J29: 14 | K29: 13 | L29: 1 | M29: =IF(AND(G29=1,J29<24),20,IF(AND(G29=1,J29=24),30,13)) -> 20 | N29: 20 | P29: 2000 | R29: =+(((((($B$21*$C$21)+P29)*D29/30)*M29)/11*L29))+(((((($B$21*$C$21)+P29)*E29/30)*M29)/13*K29))*I29 -> 6240222.1 | S29: =_xlfn.XLOOKUP(X29,$H$16:$H$18,$G$16:$G$18,,0,1) -> 0.08 | T29: =R29*(1+S29) -> 6739439.8 | U29: =T29*1.9% -> 128049.36 | V29: =ROUND(T29+U29,0) -> 6867489 | X29: =IF(ISNUMBER(SEARCH("Sin Arma",C29)), "Sin Arma", IF(ISNUMBER(SEARCH("Con Arma", C29)), "Con Arma", IF(ISNUMBER(SEARCH("Canino", C29)), "Canino", "Otra categoría"))) -> Sin Arma | AA29: ='[1]Dic-2026'!$X6 -> 6867489 | AB29: =V29=AA29 -> TRUE
B30: Ingreso y entrada vehicular Cra. 8 | C30: Lunes a domingo Servicio 24 Horas Sin Arma | D30: 0.5241 | E30: 0.4759 | F30: VIGILANTE | G30: 1 | H30: 1 | I30: 1 | J30: 24 | K30: 13 | L30: 11 | M30: =IF(AND(G30=1,J30<24),20,IF(AND(G30=1,J30=24),30,13)) -> 30 | P30: 6000 | R30: =+(((((($B$21*$C$21)+P30)*D30/30)*M30)/11*L30))+(((((($B$21*$C$21)+P30)*E30/30)*M30)/13*K30))*I30 -> 17882740 | S30: =_xlfn.XLOOKUP(X30,$H$16:$H$18,$G$16:$G$18,,0,1) -> 0.08 | T30: =R30*(1+S30) -> 19313359 | U30: =T30*1.9% -> 366953.83 | V30: =ROUND(T30+U30,0) -> 19680313 | X30: =IF(ISNUMBER(SEARCH("Sin Arma",C30)), "Sin Arma", IF(ISNUMBER(SEARCH("Con Arma", C30)), "Con Arma", IF(ISNUMBER(SEARCH("Canino", C30)), "Canino", "Otra categoría"))) -> Sin Arma | AA30: ='[1]Dic-2026'!$X7 -> 19680313 | AB30: =V30=AA30 -> TRUE
B31: Manejador canino | C31: Lunes a viernes Servicio 12 Horas 6.00 A 18.00 Horas Canino | D31: 0.5241 | E31: 0.4759 | F31: MANEJADOR CANINO | I31: 1 | J31: 12 | K31: 12 | M31: =IF(AND(G31=1,J31<24),20,IF(AND(G31=1,J31=24),30,13)) -> 13 | O31: 20 | P31: 2000 | R31: =+(((((($B$21*$C$21)+P31)*D31/30)*M31)/11*L31))+(((((($B$21*$C$21)+P31)*E31/30)*M31)/13*K31))*I31 -> 3403397 | S31: =_xlfn.XLOOKUP(X31,$H$16:$H$18,$G$16:$G$18,,0,1) -> 0.11 | T31: =R31*(1+S31) -> 3777770.6 | U31: =T31*1.9% -> 71777.642 | V31: =ROUND(T31+U31,0) -> 3849548 | X31: =IF(ISNUMBER(SEARCH("Sin Arma",C31)), "Sin Arma", IF(ISNUMBER(SEARCH("Con Arma", C31)), "Con Arma", IF(ISNUMBER(SEARCH("Canino", C31)), "Canino", "Otra categoría"))) -> Canino | AA31: ='[1]Dic-2026'!$X8 -> 3849548 | AB31: =V31=AA31 -> TRUE
B32: Correspondencia principal | C32: Lunes a viernes Servicio 9 Horas 08.00 A 17.00 Horas Sin Arma | D32: 0.5241 | E32: 0.4759 | F32: VIGILANTE | I32: 1 | J32: 9 | K32: 9 | M32: =IF(AND(G32=1,J32<24),20,IF(AND(G32=1,J32=24),30,13)) -> 13 | O32: 20 | P32: 2000 | R32: =+(((((($B$21*$C$21)+P32)*D32/30)*M32)/11*L32))+(((((($B$21*$C$21)+P32)*E32/30)*M32)/13*K32))*I32 -> 2552547.7 | S32: =_xlfn.XLOOKUP(X32,$H$16:$H$18,$G$16:$G$18,,0,1) -> 0.08 | T32: =R32*(1+S32) -> 2756751.5 | U32: =T32*1.9% -> 52378.279 | V32: =ROUND(T32+U32,0) -> 2809130 | X32: =IF(ISNUMBER(SEARCH("Sin Arma",C32)), "Sin Arma", IF(ISNUMBER(SEARCH("Con Arma", C32)), "Con Arma", IF(ISNUMBER(SEARCH("Canino", C32)), "Canino", "Otra categoría"))) -> Sin Arma | AA32: ='[1]Dic-2026'!$X9 -> 2809130 | AB32: =V32=AA32 -> TRUE
B33: Filtro Cortes Suprema y Constitucional | C33: Lunes a viernes Servicio 11 H De 08.00 A 19.00 H Sin Arma | D33: 0.5241 | E33: 0.4759 | F33: VIGILANTE | I33: 1 | J33: 11 | K33: 11 | M33: =IF(AND(G33=1,J33<24),20,IF(AND(G33=1,J33=24),30,13)) -> 13 | O33: 20 | P33: 2000 | R33: =+(((((($B$21*$C$21)+P33)*D33/30)*M33)/11*L33))+(((((($B$21*$C$21)+P33)*E33/30)*M33)/13*K33))*I33 -> 3119780.5 | S33: =_xlfn.XLOOKUP(X33,$H$16:$H$18,$G$16:$G$18,,0,1) -> 0.08 | T33: =R33*(1+S33) -> 3369363 | U33: =T33*1.9% -> 64017.897 | V33: =ROUND(T33+U33,0) -> 3433381 | X33: =IF(ISNUMBER(SEARCH("Sin Arma",C33)), "Sin Arma", IF(ISNUMBER(SEARCH("Con Arma", C33)), "Con Arma", IF(ISNUMBER(SEARCH("Canino", C33)), "Canino", "Otra categoría"))) -> Sin Arma | AA33: ='[1]Dic-2026'!$X10 -> 3433381 | AB33: =V33=AA33 -> TRUE
B34: Filtro Consejo Superior de la Judicatura y Estado | C34: Lunes a viernes Servicio 11 H De 08.00 A 19.00 H Sin Arma | D34: 0.5241 | E34: 0.4759 | F34: VIGILANTE | G34: 1 | I34: 1 | J34: 11 | K34: 11 | M34: =IF(AND(G34=1,J34<24),20,IF(AND(G34=1,J34=24),30,13)) -> 20 | N34: 20 | O34: 20 | P34: 2000 | R34: =+(((((($B$21*$C$21)+P34)*D34/30)*M34)/11*L34))+(((((($B$21*$C$21)+P34)*E34/30)*M34)/13*K34))*I34 -> 4799662.4 | S34: =_xlfn.XLOOKUP(X34,$H$16:$H$18,$G$16:$G$18,,0,1) -> 0.08 | T34: =R34*(1+S34) -> 5183635.4 | U34: =T34*1.9% -> 98489.072 | V34: =ROUND(T34+U34,0) -> 5282124 | X34: =IF(ISNUMBER(SEARCH("Sin Arma",C34)), "Sin Arma", IF(ISNUMBER(SEARCH("Con Arma", C34)), "Con Arma", IF(ISNUMBER(SEARCH("Canino", C34)), "Canino", "Otra categoría"))) -> Sin Arma | AA34: ='[1]Dic-2026'!$X11 -> 5282124 | AB34: =V34=AA34 -> TRUE
B35: Recepción exclusa o Consejo Estado | C35: Lunes a viernes Servicio 11 H De 08.00 A 19.00 H Sin Arma | D35: 0.5241 | E35: 0.4759 | F35: VIGILANTE | I35: 1 | J35: 11 | K35: 11 | M35: =IF(AND(G35=1,J35<24),20,IF(AND(G35=1,J35=24),30,13)) -> 13 | O35: 20 | P35: 2000 | R35: =+(((((($B$21*$C$21)+P35)*D35/30)*M35)/11*L35))+(((((($B$21*$C$21)+P35)*E35/30)*M35)/13*K35))*I35 -> 3119780.5 | S35: =_xlfn.XLOOKUP(X35,$H$16:$H$18,$G$16:$G$18,,0,1) -> 0.08 | T35: =R35*(1+S35) -> 3369363 | U35: =T35*1.9% -> 64017.897 | V35: =ROUND(T35+U35,0) -> 3433381 | X35: =IF(ISNUMBER(SEARCH("Sin Arma",C35)), "Sin Arma", IF(ISNUMBER(SEARCH("Con Arma", C35)), "Con Arma", IF(ISNUMBER(SEARCH("Canino", C35)), "Canino", "Otra categoría"))) -> Sin Arma | AA35: ='[1]Dic-2026'!$X12 -> 3433381 | AB35: =V35=AA35 -> TRUE
B36: Recepción exclusa o Corte Constitucional | C36: Lunes a viernes Servicio 11 H De 08.00 A 19.00 H Sin Arma | D36: 0.5241 | E36: 0.4759 | F36: VIGILANTE | I36: 1 | J36: 11 | K36: 11 | M36: =IF(AND(G36=1,J36<24),20,IF(AND(G36=1,J36=24),30,13)) -> 13 | O36: 20 | P36: 2000 | R36: =+(((((($B$21*$C$21)+P36)*D36/30)*M36)/11*L36))+(((((($B$21*$C$21)+P36)*E36/30)*M36)/13*K36))*I36 -> 3119780.5 | S36: =_xlfn.XLOOKUP(X36,$H$16:$H$18,$G$16:$G$18,,0,1) -> 0.08 | T36: =R36*(1+S36) -> 3369363 | U36: =T36*1.9% -> 64017.897 | V36: =ROUND(T36+U36,0) -> 3433381 | X36: =IF(ISNUMBER(SEARCH("Sin Arma",C36)), "Sin Arma", IF(ISNUMBER(SEARCH("Con Arma", C36)), "Con Arma", IF(ISNUMBER(SEARCH("Canino", C36)), "Canino", "Otra categoría"))) -> Sin Arma | AA36: ='[1]Dic-2026'!$X13 -> 3433381 | AB36: =V36=AA36 -> TRUE
B37: Recepción exclusa o Corte Suprema de Justicia | C37: Lunes a viernes Servicio 11 H De 08.00 A 19.00 H Sin Arma | D37: 0.5241 | E37: 0.4759 | F37: VIGILANTE | I37: 1 | J37: 11 | K37: 11 | M37: =IF(AND(G37=1,J37<24),20,IF(AND(G37=1,J37=24),30,13)) -> 13 | O37: 20 | P37: 2000 | R37: =+(((((($B$21*$C$21)+P37)*D37/30)*M37)/11*L37))+(((((($B$21*$C$21)+P37)*E37/30)*M37)/13*K37))*I37 -> 3119780.5 | S37: =_xlfn.XLOOKUP(X37,$H$16:$H$18,$G$16:$G$18,,0,1) -> 0.08 | T37: =R37*(1+S37) -> 3369363 | U37: =T37*1.9% -> 64017.897 | V37: =ROUND(T37+U37,0) -> 3433381 | X37: =IF(ISNUMBER(SEARCH("Sin Arma",C37)), "Sin Arma", IF(ISNUMBER(SEARCH("Con Arma", C37)), "Con Arma", IF(ISNUMBER(SEARCH("Canino", C37)), "Canino", "Otra categoría"))) -> Sin Arma | AA37: ='[1]Dic-2026'!$X14 -> 3433381 | AB37: =V37=AA37 -> TRUE
B38: Recepción exclusa Comisión Nacional de Disciplina y Consejo Superior de la Judicatura | C38: Lunes a viernes Servicio 12 Horas 07.00 A 19.00 Sin Arma | D38: 0.5241 | E38: 0.4759 | F38: VIGILANTE | G38: 1 | I38: 1 | J38: 12 | K38: 12 | M38: =IF(AND(G38=1,J38<24),20,IF(AND(G38=1,J38=24),30,13)) -> 20 | N38: 20 | O38: 20 | P38: 2000 | R38: =+(((((($B$21*$C$21)+P38)*D38/30)*M38)/11*L38))+(((((($B$21*$C$21)+P38)*E38/30)*M38)/13*K38))*I38 -> 5235995.3 | S38: =_xlfn.XLOOKUP(X38,$H$16:$H$18,$G$16:$G$18,,0,1) -> 0.08 | T38: =R38*(1+S38) -> 5654874.9 | U38: =T38*1.9% -> 107442.62 | V38: =ROUND(T38+U38,0) -> 5762318 | X38: =IF(ISNUMBER(SEARCH("Sin Arma",C38)), "Sin Arma", IF(ISNUMBER(SEARCH("Con Arma", C38)), "Con Arma", IF(ISNUMBER(SEARCH("Canino", C38)), "Canino", "Otra categoría"))) -> Sin Arma | AA38: ='[1]Dic-2026'!$X15 -> 5762318 | AB38: =V38=AA38 -> TRUE
B39: Entrada de funcionarios molinetes calle12 | C39: Lunes a viernes Servicio 12 Horas 06.00 A 18.00 Sin Arma | D39: 0.5241 | E39: 0.4759 | F39: VIGILANTE | G39: 1 | I39: 1 | J39: 12 | K39: 12 | M39: =IF(AND(G39=1,J39<24),20,IF(AND(G39=1,J39=24),30,13)) -> 20 | N39: 20 | O39: 20 | P39: 2000 | R39: =+(((((($B$21*$C$21)+P39)*D39/30)*M39)/11*L39))+(((((($B$21*$C$21)+P39)*E39/30)*M39)/13*K39))*I39 -> 5235995.3 | S39: =_xlfn.XLOOKUP(X39,$H$16:$H$18,$G$16:$G$18,,0,1) -> 0.08 | T39: =R39*(1+S39) -> 5654874.9 | U39: =T39*1.9% -> 107442.62 | V39: =ROUND(T39+U39,0) -> 5762318 | X39: =IF(ISNUMBER(SEARCH("Sin Arma",C39)), "Sin Arma", IF(ISNUMBER(SEARCH("Con Arma", C39)), "Con Arma", IF(ISNUMBER(SEARCH("Canino", C39)), "Canino", "Otra categoría"))) -> Sin Arma | AA39: ='[1]Dic-2026'!$X16 -> 5762318 | AB39: =V39=AA39 -> TRUE
B40: Entrada funcionarios molinetes Cra. 8 | C40: Lunes a viernes Servicio 12 Horas 08.00 A 20.00 Sin Arma | D40: 0.5241 | E40: 0.4759 | F40: VIGILANTE | G40: 1 | I40: 1 | J40: 12 | K40: 11 | L40: 1 | M40: =IF(AND(G40=1,J40<24),20,IF(AND(G40=1,J40=24),30,13)) -> 20 | N40: 20 | P40: 2000 | R40: =+(((((($B$21*$C$21)+P40)*D40/30)*M40)/11*L40))+(((((($B$21*$C$21)+P40)*E40/30)*M40)/13*K40))*I40 -> 5367556.2 | S40: =_xlfn.XLOOKUP(X40,$H$16:$H$18,$G$16:$G$18,,0,1) -> 0.08 | T40: =R40*(1+S40) -> 5796960.7 | U40: =T40*1.9% -> 110142.25 | V40: =ROUND(T40+U40,0) -> 5907103 | X40: =IF(ISNUMBER(SEARCH("Sin Arma",C40)), "Sin Arma", IF(ISNUMBER(SEARCH("Con Arma", C40)), "Con Arma", IF(ISNUMBER(SEARCH("Canino", C40)), "Canino", "Otra categoría"))) -> Sin Arma | AA40: ='[1]Dic-2026'!$X17 -> 5907103 | AB40: =V40=AA40 -> TRUE
B41: Parqueadero calle 8 | C41: Lunes a viernes Servicio 12 Horas 06.00 A 18.00 Sin Arma | D41: 0.5241 | E41: 0.4759 | F41: VIGILANTE | G41: 1 | I41: 1 | J41: 12 | K41: 12 | M41: =IF(AND(G41=1,J41<24),20,IF(AND(G41=1,J41=24),30,13)) -> 20 | N41: 20 | O41: 20 | P41: 2000 | R41: =+(((((($B$21*$C$21)+P41)*D41/30)*M41)/11*L41))+(((((($B$21*$C$21)+P41)*E41/30)*M41)/13*K41))*I41 -> 5235995.3 | S41: =_xlfn.XLOOKUP(X41,$H$16:$H$18,$G$16:$G$18,,0,1) -> 0.08 | T41: =R41*(1+S41) -> 5654874.9 | U41: =T41*1.9% -> 107442.62 | V41: =ROUND(T41+U41,0) -> 5762318 | X41: =IF(ISNUMBER(SEARCH("Sin Arma",C41)), "Sin Arma", IF(ISNUMBER(SEARCH("Con Arma", C41)), "Con Arma", IF(ISNUMBER(SEARCH("Canino", C41)), "Canino", "Otra categoría"))) -> Sin Arma | AA41: ='[1]Dic-2026'!$X18 -> 5762318 | AB41: =V41=AA41 -> TRUE
B42: Parqueadero calle 12 | C42: Lunes a viernes Servicio 12 Horas 06.00 A 18.00 Sin Arma | D42: 0.5241 | E42: 0.4759 | F42: VIGILANTE | G42: 1 | I42: 1 | J42: 12 | K42: 12 | M42: =IF(AND(G42=1,J42<24),20,IF(AND(G42=1,J42=24),30,13)) -> 20 | N42: 20 | O42: 20 | P42: 2000 | R42: =+(((((($B$21*$C$21)+P42)*D42/30)*M42)/11*L42))+(((((($B$21*$C$21)+P42)*E42/30)*M42)/13*K42))*I42 -> 5235995.3 | S42: =_xlfn.XLOOKUP(X42,$H$16:$H$18,$G$16:$G$18,,0,1) -> 0.08 | T42: =R42*(1+S42) -> 5654874.9 | U42: =T42*1.9% -> 107442.62 | V42: =ROUND(T42+U42,0) -> 5762318 | X42: =IF(ISNUMBER(SEARCH("Sin Arma",C42)), "Sin Arma", IF(ISNUMBER(SEARCH("Con Arma", C42)), "Con Arma", IF(ISNUMBER(SEARCH("Canino", C42)), "Canino", "Otra categoría"))) -> Sin Arma | AA42: ='[1]Dic-2026'!$X19 -> 5762318 | AB42: =V42=AA42 -> TRUE
B43: Parqueadero calle 12 | C43: Lunes a viernes Servicio 12 Horas 08.00 A 20.00 Sin Arma | D43: 0.5241 | E43: 0.4759 | F43: VIGILANTE | G43: 1 | I43: 1 | J43: 12 | K43: 11 | L43: 1 | M43: =IF(AND(G43=1,J43<24),20,IF(AND(G43=1,J43=24),30,13)) -> 20 | N43: 20 | P43: 2000 | R43: =+(((((($B$21*$C$21)+P43)*D43/30)*M43)/11*L43))+(((((($B$21*$C$21)+P43)*E43/30)*M43)/13*K43))*I43 -> 5367556.2 | S43: =_xlfn.XLOOKUP(X43,$H$16:$H$18,$G$16:$G$18,,0,1) -> 0.08 | T43: =R43*(1+S43) -> 5796960.7 | U43: =T43*1.9% -> 110142.25 | V43: =ROUND(T43+U43,0) -> 5907103 | X43: =IF(ISNUMBER(SEARCH("Sin Arma",C43)), "Sin Arma", IF(ISNUMBER(SEARCH("Con Arma", C43)), "Con Arma", IF(ISNUMBER(SEARCH("Canino", C43)), "Canino", "Otra categoría"))) -> Sin Arma | AA43: ='[1]Dic-2026'!$X20 -> 5907103 | AB43: =V43=AA43 -> TRUE
B44: Acceso semisótano corte suprema de Justicia | C44: Lunes a viernes Servicio 12 Horas 07.00 A 19.00 Sin Arma | D44: 0.5241 | E44: 0.4759 | F44: VIGILANTE | I44: 1 | J44: 12 | K44: 12 | M44: =IF(AND(G44=1,J44<24),20,IF(AND(G44=1,J44=24),30,13)) -> 13 | O44: 20 | P44: 2000 | R44: =+(((((($B$21*$C$21)+P44)*D44/30)*M44)/11*L44))+(((((($B$21*$C$21)+P44)*E44/30)*M44)/13*K44))*I44 -> 3403397 | S44: =_xlfn.XLOOKUP(X44,$H$16:$H$18,$G$16:$G$18,,0,1) -> 0.08 | T44: =R44*(1+S44) -> 3675668.7 | U44: =T44*1.9% -> 69837.706 | V44: =ROUND(T44+U44,0) -> 3745506 | X44: =IF(ISNUMBER(SEARCH("Sin Arma",C44)), "Sin Arma", IF(ISNUMBER(SEARCH("Con Arma", C44)), "Con Arma", IF(ISNUMBER(SEARCH("Canino", C44)), "Canino", "Otra categoría"))) -> Sin Arma | AA44: ='[1]Dic-2026'!$X21 -> 3745506 | AB44: =V44=AA44 -> TRUE
B45: Acceso semisótano corte constitucional | C45: Lunes a viernes Servicio 12 Horas 07.00 A 19.00 Sin Arma | D45: 0.5241 | E45: 0.4759 | F45: VIGILANTE | I45: 1 | J45: 12 | K45: 12 | M45: =IF(AND(G45=1,J45<24),20,IF(AND(G45=1,J45=24),30,13)) -> 13 | O45: 20 | P45: 2000 | R45: =+(((((($B$21*$C$21)+P45)*D45/30)*M45)/11*L45))+(((((($B$21*$C$21)+P45)*E45/30)*M45)/13*K45))*I45 -> 3403397 | S45: =_xlfn.XLOOKUP(X45,$H$16:$H$18,$G$16:$G$18,,0,1) -> 0.08 | T45: =R45*(1+S45) -> 3675668.7 | U45: =T45*1.9% -> 69837.706 | V45: =ROUND(T45+U45,0) -> 3745506 | X45: =IF(ISNUMBER(SEARCH("Sin Arma",C45)), "Sin Arma", IF(ISNUMBER(SEARCH("Con Arma", C45)), "Con Arma", IF(ISNUMBER(SEARCH("Canino", C45)), "Canino", "Otra categoría"))) -> Sin Arma | AA45: ='[1]Dic-2026'!$X22 -> 3745506 | AB45: =V45=AA45 -> TRUE
B46: Acceso semisótano Consejo Superior de la Judicatura | C46: Lunes a viernes Servicio 12 Horas 07.00 A 19.00 Sin Arma | D46: 0.5241 | E46: 0.4759 | F46: VIGILANTE | G46: 1 | I46: 1 | J46: 12 | K46: 12 | M46: =IF(AND(G46=1,J46<24),20,IF(AND(G46=1,J46=24),30,13)) -> 20 | N46: 20 | O46: 20 | P46: 2000 | R46: =+(((((($B$21*$C$21)+P46)*D46/30)*M46)/11*L46))+(((((($B$21*$C$21)+P46)*E46/30)*M46)/13*K46))*I46 -> 5235995.3 | S46: =_xlfn.XLOOKUP(X46,$H$16:$H$18,$G$16:$G$18,,0,1) -> 0.08 | T46: =R46*(1+S46) -> 5654874.9 | U46: =T46*1.9% -> 107442.62 | V46: =ROUND(T46+U46,0) -> 5762318 | X46: =IF(ISNUMBER(SEARCH("Sin Arma",C46)), "Sin Arma", IF(ISNUMBER(SEARCH("Con Arma", C46)), "Con Arma", IF(ISNUMBER(SEARCH("Canino", C46)), "Canino", "Otra categoría"))) -> Sin Arma | AA46: ='[1]Dic-2026'!$X23 -> 5762318 | AB46: =V46=AA46 -> TRUE
...

Sheet 2026
A1: DESCRIPCIÓN DEL SERVICIO PRESTADO DE VIGILANCIA | B1: VALOR PÓLIZA | E1: Son 24 horas y/o tienen vacancia
A2: Servicio 24 horas, 30 días al mes, sin arma (lunes a domingo) | B2: 6000
A3: Servicio 24 horas, 30 días al mes, con arma (lunes a domingo) | B3: 6000 | E3: Tienen semana santa
A4: Servicio 24 horas, 10 días al mes, con arma (sabado, domingo y festivos) | B4: 6000 | E4: Tiene jornada diurna y noctura por hora
A5: Servicio 12 horas nocturnas con arma (lunes a viernes sin festivo) | B5: 2000
A6: Servicio 16 horas (15 horas diurnas y 1 hora nocturna) sin arma (lunes a viernes sin festivo) | B6: 4000 | D6: https://www.infobae.com/colombia/2026/08/09/salario-minimo-de-2027-asi-seria-el-aumento-si-el-gobierno-de-de-la-espriella-le-hace-caso-al-banco-de-la-republica-y-lo-sube-5-o-6/
A7: Servicio 14 horas diurnas sin arma (lunes a viernes sin festivo) Supervisor | B7: 2000
A8: Servicio 12 horas diurnas sin arma (lunes a viernes sin festivo) | B8: 2000
A9: Servicio 12 horas diurnas con canino (lunes a viernes sin festivo) | B9: 2000
A10: Servicio 11 horas diurnas sin arma (lunes a viernes sin festivo) | B10: 2000
A11: Servicio 10 horas diurnas sin arma (lunes a viernes sin festivo) | B11: 2000
A12: Servicio 09 horas diurnas sin arma (lunes a viernes sin festivo) | B12: 2000
A14: TARIFAS
A15: CONCEPTO | B15: SMMLV * TARIFA | C15: % AyS | D15: POLIZA | E15: VALOR AyS | F15: TOTAL TARIFA
A16: Medio Humano sin arma | B16: =+B21*C21 -> 17876740 | C16: Gastos admon 8 % | D16: 6000 | E16: =+(B16+D16)*8% -> 1430619.2 | F16: =+B16+E16 -> 19307359
A17: Medio humanno con arma | B17: =+B21*C21 -> 17876740 | C17: Gastos admon 10 % | D17: 6000 | E17: =+(B17+D17)*10% -> 1788274 | F17: =+B17+E17 -> 19665014
A18: Medio humano con canino | B18: =+B21*C21 -> 17876740 | C18: Gastos admon 11 % | D18: 6000 | E18: =+(B18+D18)*11% -> 1967101.4 | F18: =+B18+E18 -> 19843841
A20: JORNADA | B20: SMMLV | C20: TARIFA SERVICI | D20: VARIABLE PROBABILIDAD
A21: 6:00 am a 7:00 pm (Turno de 13 horas diurnas) | B21: 1750905 | C21: 10.21 | D21: 0.4759 | F21: =D21/30 -> 0.015863333 | G21: =F21*13 -> 0.20622333 | H21: =G21/13 -> 0.015863333 | I21: =H21*13 -> 0.20622333 | J21: =(B21*C21)+2000 -> 17878740 | K21: =J21*I21 -> 3687013.4 | M21: =((B21*C21)+2000)*D21 -> 8508492.4 | N21: =M21/30 -> 283616.41 | P21: =N21*13 -> 3687013.4 | Q21: =P21/13 -> 283616.41 | R21: =Q21*13 -> 3687013.4
A22: 7:00 pm a 6:00 am (Turno de 13 horas diurnas) | B22: 1750905 | C22: 10.21 | D22: 0.5241 | F22: =D22/30 -> 0.01747 | G22: =F22*13 -> 0.22711 | H22: =G22/11 -> 0.020646364 | I22: =H22*13 -> 0.26840273 | J22: =(B22*C22)+2000 -> 17878740 | K22: =J22*I22 -> 4798702.6 | M22: =((B22*C22)+2000)*D22 -> 9370247.7 | N22: =M22/30 -> 312341.59 | P22: =N22*13 -> 4060440.7 | Q22: =P22/11 -> 369130.97 | R22: =Q22*1 -> 369130.97
K23: =SUM(K21:K22) -> 8485716 | P23: =SUM(P21:P22) -> 7747454 | R23: =SUM(R21:R22) -> 4056144.3
K24: =K23*0.08 -> 678857.28 | L24: =K25/F16 -> 0.47466736 | R24: =R23*0.08 -> 324491.55
K25: =K23+K24 -> 9164573.2 | R25: =SUM(R23:R24) -> 4380635.9
R26: =R25*10% -> 438063.59
A27: INFORMACIÓN PERSONAL REQUERIDO | P27: 2026 | R27: =R26*19% -> 83232.082
A28: SEDE | B28: PUESTO | C28: HORARIO DE TRABAJO | D28: JORNADA | E28: HORAS JORNADA | F28: CARGO | G28: VACANCIA JUDICIAL | H28: SEMANA SANTA | I28: NÚMERO DE OPERARIOS | J28: HORAS DE SERVICIO | K28: DIAS REQUERIDOS DIC | L28: DIAS REQUERIDOS SEMANA S | M28: DIAS REQUERIDOS | N28: VALOR POLIZA | P28: Dic | R28: =R25+R27 -> 4463868 | U28: =S28/30 -> 0
A29: SEDE 1. PALACIO DE JUSTICIA ALFONSO REYES ECHANDIA | B29: Supervisor de Puesto y sedes anexas | C29: Lunes a viernes servicio 14 Horas 06.00 A 20.00 Sin Arma | D29: AM / PM | E29: 13 Y 1 | F29: SUPERVISOR | G29: 1 | I29: 1 | J29: 14 | K29: 13 | L29: 20 | N29: 2000 | P29: =+(((((($B$21*$C$21)+N29)*$D$21/30)*13)/13)*13)+(((((($B$21*$C$21)+N29)*$D$22/30)*13)/11)*1) -> 4056144.3
B30: Ingreso y entrada vehicular Cra. 8 | C30: Lunes a domingo Servicio 24 Horas Sin Arma | D30: FULL | E30: 24 | F30: VIGILANTE | G30: 1 | H30: 1 | I30: 1 | J30: 24 | K30: 13 | N30: 6000 | P30: =+(((((($B$21*$C$21)+N30)*$D$21/30)*K30)/13)*13)+(((((($B$21*$C$21)+N30)*$D$22/30)*K30)/11)*11) -> 7749187.4
B31: Manejador canino | C31: Lunes a viernes Servicio 12 Horas 6.00 A 18.00 Horas Sin Arma | D31: AM | E31: 13 | F31: MANEJADOR CANINO | I31: 1 | J31: 12 | K31: 20 | M31: 20 | N31: 2000 | P31: =+(((((($B$21*$C$21)+N31)*$D$21/30)*K31)/E31)*J31) -> 5235995.3
B32: Correspondencia principal | C32: Lunes a viernes Servicio 9 Horas 08.00 A 17.00 Horas Sin Arma | D32: AM | E32: 13 | F32: VIGILANTE | I32: 1 | J32: 9 | K32: 20 | M32: 20 | N32: 2000 | P32: =+(((((($B$21*$C$21)+N32)*$D$21/30)*K32)/E32)*J32) -> 3926996.5
B33: Filtro Cortes Suprema y Constitucional | C33: Lunes a viernes Servicio 11 H De 08.00 A 19.00 H Sin Arma | D33: AM | E33: 13 | F33: VIGILANTE | I33: 1 | J33: 11 | K33: 20 | M33: 20 | N33: 2000 | P33: =+(((((($B$21*$C$21)+N33)*$D$21/30)*K33)/E33)*J33) -> 4799662.4
B34: Filtro Consejo Superior de la Judicatura y Estado | C34: Lunes a viernes Servicio 11 H De 08.00 A 19.00 H Sin Arma | D34: AM | E34: 13 | F34: VIGILANTE | G34: 1 | I34: 1 | J34: 11 | K34: 13 | L34: 20 | M34: 20 | N34: 2000 | P34: =+(((((($B$21*$C$21)+N34)*$D$21/30)*K34)/E34)*J34) -> 3119780.5
B35: Recepción exclusa o Consejo Estado | C35: Lunes a viernes Servicio 11 H De 08.00 A 19.00 H Sin Arma | D35: AM | E35: 13 | F35: VIGILANTE | I35: 1 | J35: 11 | K35: 20 | M35: 20 | N35: 2000 | P35: =+(((((($B$21*$C$21)+N35)*$D$21/30)*K35)/E35)*J35) -> 4799662.4
B36: Recepción exclusa o Corte Constitucional | C36: Lunes a viernes Servicio 11 H De 08.00 A 19.00 H Sin Arma | D36: AM | E36: 13 | F36: VIGILANTE | I36: 1 | J36: 11 | K36: 20 | M36: 20 | N36: 2000 | P36: =+(((((($B$21*$C$21)+N36)*$D$21/30)*K36)/E36)*J36) -> 4799662.4
B37: Recepción exclusa o Corte Suprema de Justicia | C37: Lunes a viernes Servicio 11 H De 08.00 A 19.00 H Sin Arma | D37: AM | E37: 13 | F37: VIGILANTE | I37: 1 | J37: 11 | K37: 20 | M37: 20 | N37: 2000 | P37: =+(((((($B$21*$C$21)+N37)*$D$21/30)*K37)/E37)*J37) -> 4799662.4
B38: Recepción exclusa Comisión Nacional de Disciplina y Consejo Superior de la Judicatura | C38: Lunes a viernes Servicio 12 Horas 07.00 A 19.00 Sin Arma | D38: AM | E38: 13 | F38: VIGILANTE | G38: 1 | I38: 1 | J38: 12 | K38: 13 | L38: 20 | M38: 20 | N38: 2000 | P38: =+(((((($B$21*$C$21)+N38)*$D$21/30)*K38)/E38)*J38) -> 3403397
B39: Entrada de funcionarios molinetes calle12 | C39: Lunes a viernes Servicio 12 Horas 06.00 A 18.00 Sin Arma | D39: AM | E39: 13 | F39: VIGILANTE | G39: 1 | I39: 1 | J39: 12 | K39: 13 | L39: 20 | M39: 20 | N39: 2000 | P39: =+(((((($B$21*$C$21)+N39)*$D$21/30)*K39)/E39)*J39) -> 3403397
B40: Entrada funcionarios molinetes Cra. 8 | C40: Lunes a viernes Servicio 12 Horas 08.00 A 20.00 Sin Arma | D40: AM / PM | E40: 13 Y 1 | F40: VIGILANTE | G40: 1 | I40: 1 | J40: 12 | K40: 13 | L40: 20 | N40: 2000 | P40: =+(((((($B$21*$C$21)+N40)*$D$21/30)*13)/13)*13)+(((((($B$21*$C$21)+N40)*$D$22/30)*13)/11)*1) -> 4056144.3
B41: Parqueadero calle 8 | C41: Lunes a viernes Servicio 12 Horas 06.00 A 18.00 Sin Arma | D41: AM | E41: 13 | F41: VIGILANTE | G41: 1 | I41: 1 | J41: 12 | K41: 13 | L41: 20 | M41: 20 | N41: 2000 | P41: =+(((((($B$21*$C$21)+N41)*$D$21/30)*K41)/E41)*J41) -> 3403397
B42: Parqueadero calle 12 | C42: Lunes a viernes Servicio 12 Horas 06.00 A 18.00 Sin Arma | D42: AM | E42: 13 | F42: VIGILANTE | G42: 1 | I42: 1 | J42: 12 | K42: 13 | L42: 20 | M42: 20 | N42: 2000 | P42: =+(((((($B$21*$C$21)+N42)*$D$21/30)*K42)/E42)*J42) -> 3403397
...

Sheet 2027
A1: DESCRIPCIÓN DEL SERVICIO PRESTADO DE VIGILANCIA | B1: VALOR PÓLIZA INDEXADO PROYECCIÓN IPC 6,9% | C1: https://www.portafolio.co/economia/finanzas/riesgos-economicos-en-colombia-mayor-inflacion-y-menor-crecimiento-499944 | E1: Son 24 horas y/o tienen vacancia
A2: Servicio 24 horas, 30 días al mes, sin arma (lunes a domingo) | B2: =6000*1.069 -> 6414
A3: Servicio 24 horas, 30 días al mes, con arma (lunes a domingo) | B3: =6000*1.069 -> 6414 | E3: Tienen semana santa
A4: Servicio 24 horas, 10 días al mes, con arma (sabado, domingo y festivos) | B4: =6000*1.069 -> 6414 | E4: Tiene jornada diurna y noctura por hora
A5: Servicio 12 horas nocturnas con arma (lunes a viernes sin festivo) | B5: =2000*1.069 -> 2138
A6: Servicio 16 horas (15 horas diurnas y 1 hora nocturna) sin arma (lunes a viernes sin festivo) | B6: =4000*1.069 -> 4276
A7: Servicio 14 horas diurnas sin arma (lunes a viernes sin festivo) Supervisor | B7: =2000*1.069 -> 2138
A8: Servicio 12 horas diurnas sin arma (lunes a viernes sin festivo) | B8: =2000*1.069 -> 2138
A9: Servicio 12 horas diurnas con canino (lunes a viernes sin festivo) | B9: =2000*1.069 -> 2138
A10: Servicio 11 horas diurnas sin arma (lunes a viernes sin festivo) | B10: =2000*1.069 -> 2138
A11: Servicio 10 horas diurnas sin arma (lunes a viernes sin festivo) | B11: =2000*1.069 -> 2138
A12: Servicio 09 horas diurnas sin arma (lunes a viernes sin festivo) | B12: =2000*1.069 -> 2138
A14: TARIFAS | H14: TARIFAS 7/2027
A15: CONCEPTO | B15: SMMLV * TARIFA | C15: % AyS | D15: POLIZA | E15: VALOR AyS | F15: TOTAL TARIFA | H15: CONCEPTO | I15: SMMLV * TARIFA | J15: % AyS | K15: POLIZA | L15: VALOR AyS | M15: TOTAL TARIFA
A16: Medio Humano sin arma | B16: =+$B$21*C21 -> 19128112 | C16: Gastos admon 8 % | D16: =+B2 -> 6414 | E16: =+(B16+D16)*8% -> 1530762.1 | F16: =+B16+E16 -> 20658874 | H16: Medio Humano sin arma | I16: =+B21*J21 -> 19446601 | J16: Gastos admon 8 % | K16: =+B2 -> 6414 | L16: =+(I16+K16)*8% -> 1556241.2 | M16: =+I16+L16 -> 21002843
A17: Medio humanno con arma | B17: =+B21*C21 -> 19128112 | C17: Gastos admon 10 % | D17: =+B2 -> 6414 | E17: =+(B17+D17)*10% -> 1913452.6 | F17: =+B17+E17 -> 21041564 | H17: Medio humanno con arma | I17: =+B21*J21 -> 19446601 | J17: Gastos admon 10 % | K17: =+B2 -> 6414 | L17: =+(I17+K17)*10% -> 1945301.5 | M17: =+I17+L17 -> 21391903
A18: Medio humano con canino | B18: =+B21*C21 -> 19128112 | C18: Gastos admon 11 % | D18: =+B2 -> 6414 | E18: =+(B18+D18)*11% -> 2104797.8 | F18: =+B18+E18 -> 21232910 | H18: Medio humano con canino | I18: =+B21*J21 -> 19446601 | J18: Gastos admon 11 % | K18: =+B2 -> 6414 | L18: =+(I18+K18)*11% -> 2139831.7 | M18: =+I18+L18 -> 21586433
A20: JORNADA | B20: SMMLV | C20: TARIFA SERVICI | D20: VARIABLE PROBABILIDAD | H20: JORNADA | I20: SMMLV | J20: TARIFA SERVICI 7-2027 | K20: VARIABLE PROBABILIDAD
A21: 6:00 am a 7:00 pm (Turno de 13 horas diurnas) | B21: =1750905*(1+$B$24) -> 1873468.4 | C21: 10.21 | D21: 0.4759 | E21: 10.38 | H21: 6:00 am a 7:00 pm (Turno de 13 horas diurnas) | I21: =1750905*(1+$B$24) -> 1873468.4 | J21: 10.38 | K21: 0.4759
A22: 7:00 pm a 6:00 am (Turno de 13 horas diurnas) | B22: =1750905*(1+$B$24) -> 1873468.4 | C22: 10.21 | D22: 0.5241 | E22: 10.38 | H22: 7:00 pm a 6:00 am (Turno de 13 horas diurnas) | I22: =1750905*(1+$B$24) -> 1873468.4 | J22: 10.38 | K22: 0.5241
A24: INCREMENTO SALARIO MINIMO ESPERADO | B24: 0.07 | C24: https://www.infobae.com/colombia/2026/08/09/salario-minimo-de-2027-asi-seria-el-aumento-si-el-gobierno-de-de-la-espriella-le-hace-caso-al-banco-de-la-republica-y-lo-sube-5-o-6/
A27: INFORMACIÓN PERSONAL REQUERIDO | S27: 2027
A28: SEDE | B28: PUESTO | C28: HORARIO DE TRABAJO | D28: JORNADA Nocturna | E28: Jornada Diurna | F28: CARGO | G28: VACANCIA JUDICIAL | H28: SEMANA SANTA | I28: NÚMERO DE OPERARIOS | J28: HORAS DE SERVICIO | K28: Horas Diurnas | L28: Horas Nocturnas | M28: DIAS REQUERIDOS DIC | N28: DIAS REQUERIDOS SEMANA S | O28: DIAS REQUERIDOS Enero | P28: DIAS REQUERIDOS | Q28: VALOR POLIZA | S28: Enero | T28: Febrero | U28: Marzo | V28: Abril | W28: Mayo | X28: Junio | Y28: Julio | Z28: Agosto | AA28: Septiembre | AB28: Octubre | AC28: Noviembre | AD28: Diciembre | AF28: TOTAL
A29: SEDE 1. PALACIO DE JUSTICIA ALFONSO REYES ECHANDIA | B29: Supervisor de Puesto y sedes anexas | C29: Lunes a viernes servicio 14 Horas 06.00 A 20.00 Sin Arma | D29: 0.5241 | E29: 0.4759 | F29: SUPERVISOR | G29: 1 | I29: 1 | J29: 14 | K29: 13 | L29: 1 | M29: 20 | N29: =IF(AND(H29=1,J29<24),20,IF(AND(H29=1,J29=24),30,18)) -> 18 | O29: =IF(AND(G29=1,J29<24),20,IF(AND(G29=1,J29=24),30,15)) -> 20 | P29: =IF(M29=12,20,M29) -> 20 | Q29: 2000 | S29: =+((((((($B$21*$C$21)+Q29)*D29/30)*O29)/11*L29))+(((((($B$21*$C$21)+Q29)*E29/30)*O29)/13*K29)))*(I29)*(1+$AI29) -> 7211147.8 | T29: =+((((((($B$21*$C$21)+Q29)*D29/30)*P29)/11*L29))+(((((($B$21*$C$21)+Q29)*E29/30)*P29)/13*K29)))*(I29)*(1+$AI29) -> 7211147.8 | U29: =+((((((($B$21*$C$21)+Q29)*D29/30)*N29)/11*L29))+(((((($B$21*$C$21)+Q29)*E29/30)*N29)/13*K29)))*(I29)*(1+$AI29) -> 6490033.1 | V29: =+((((((($B$21*$C$21)+Q29)*D29/30)*P29)/11*L29))+(((((($B$21*$C$21)+Q29)*E29/30)*P29)/13*K29)))*(I29)*(1+$AI29) -> 7211147.8 | W29: =+((((((($B$21*$C$21)+Q29)*D29/30)*P29)/11*L29))+(((((($B$21*$C$21)+Q29)*E29/30)*P29)/13*K29)))*(I29)*(1+$AI29) -> 7211147.8 | X29: =+((((((($B$21*$C$21)+Q29)*D29/30)*P29)/11*L29))+(((((($B$21*$C$21)+Q29)*E29/30)*P29)/13*K29)))*(I29)*(1+$AI29) -> 7211147.8 | Y29: =+((((((($B$21*$E$21)+Q29)*D29/30)*P29)/11*L29))+(((((($B$21*$E$21)+Q29)*E29/30)*P29)/13*K29)))*(I29)*(1+$AI29) -> 7331203.4 | Z29: =+((((((($B$21*$E$21)+Q29)*D29/30)*P29)/11*L29))+(((((($B$21*$E$21)+Q29)*E29/30)*P29)/13*K29)))*(I29)*(1+$AI29) -> 7331203.4 | AA29: =+((((((($B$21*$E$21)+Q29)*D29/30)*P29)/11*L29))+(((((($B$21*$E$21)+Q29)*E29/30)*P29)/13*K29)))*(I29)*(1+$AI29) -> 7331203.4 | AB29: =+((((((($B$21*$E$21)+Q29)*D29/30)*P29)/11*L29))+(((((($B$21*$E$21)+Q29)*E29/30)*P29)/13*K29)))*(I29)*(1+$AI29) -> 7331203.4 | AC29: =+((((((($B$21*$E$21)+Q29)*D29/30)*P29)/11*L29))+(((((($B$21*$E$21)+Q29)*E29/30)*P29)/13*K29)))*(I29)*(1+$AI29) -> 7331203.4 | AD29: =+((((((($B$21*$E$21)+Q29)*D29/30)*M29)/11*L29))+(((((($B$21*$E$21)+Q29)*E29/30)*M29)/13*K29)))*(I29)*(1+$AI29) -> 7331203.4 | AF29: =SUM(S29:AD29) -> 86532992 | AG29: =IF(AD29=AC29,1,0) -> 1 | AH29: =IF(G29>=1,1,0) -> 1 | AI29: 0.08 | AL29: =AG29=AH29 -> TRUE | AN29: =S29*(1+1.9%) -> 7348159.6
B30: Ingreso y entrada vehicular Cra. 8 | C30: Lunes a domingo Servicio 24 Horas Sin Arma | D30: 0.5241 | E30: 0.4759 | F30: VIGILANTE | G30: 1 | H30: 1 | I30: 1 | J30: 24 | K30: 13 | L30: 11 | M30: =IF(AND(G30=1,J30<24),20,IF(AND(G30=1,J30=24),30,12)) -> 30 | N30: =IF(AND(H30=1,J30<24),20,IF(AND(H30=1,J30=24),30,18)) -> 30 | O30: =IF(AND(G30=1,J30<24),20,IF(AND(G30=1,J30=24),30,15)) -> 30 | P30: =IF(M30=12,20,M30) -> 30 | Q30: 6000 | S30: =+((((((($B$21*$C$21)+Q30)*D30/30)*O30)/11*L30))+(((((($B$21*$C$21)+Q30)*E30/30)*O30)/13*K30)))*(I30)*(1+$AI30) -> 20664841 | T30: =+((((((($B$21*$C$21)+Q30)*D30/30)*P30)/11*L30))+(((((($B$21*$C$21)+Q30)*E30/30)*P30)/13*K30)))*(I30)*(1+$AI30) -> 20664841 | U30: =+((((((($B$21*$C$21)+Q30)*D30/30)*N30)/11*L30))+(((((($B$21*$C$21)+Q30)*E30/30)*N30)/13*K30)))*(I30)*(1+$AI30) -> 20664841 | V30: =+((((((($B$21*$C$21)+Q30)*D30/30)*P30)/11*L30))+(((((($B$21*$C$21)+Q30)*E30/30)*P30)/13*K30)))*(I30)*(1+$AI30) -> 20664841 | W30: =+((((((($B$21*$C$21)+Q30)*D30/30)*P30)/11*L30))+(((((($B$21*$C$21)+Q30)*E30/30)*P30)/13*K30)))*(I30)*(1+$AI30) -> 20664841 | X30: =+((((((($B$21*$C$21)+Q30)*D30/30)*P30)/11*L30))+(((((($B$21*$C$21)+Q30)*E30/30)*P30)/13*K30)))*(I30)*(1+$AI30) -> 20664841 | Y30: =+((((((($B$21*$E$21)+Q30)*D30/30)*P30)/11*L30))+(((((($B$21*$E$21)+Q30)*E30/30)*P30)/13*K30)))*(I30)*(1+$AI30) -> 21008810 | Z30: =+((((((($B$21*$E$21)+Q30)*D30/30)*P30)/11*L30))+(((((($B$21*$E$21)+Q30)*E30/30)*P30)/13*K30)))*(I30)*(1+$AI30) -> 21008810 | AA30: =+((((((($B$21*$E$21)+Q30)*D30/30)*P30)/11*L30))+(((((($B$21*$E$21)+Q30)*E30/30)*P30)/13*K30)))*(I30)*(1+$AI30) -> 21008810 | AB30: =+((((((($B$21*$E$21)+Q30)*D30/30)*P30)/11*L30))+(((((($B$21*$E$21)+Q30)*E30/30)*P30)/13*K30)))*(I30)*(1+$AI30) -> 21008810 | AC30: =+((((((($B$21*$E$21)+Q30)*D30/30)*P30)/11*L30))+(((((($B$21*$E$21)+Q30)*E30/30)*P30)/13*K30)))*(I30)*(1+$AI30) -> 21008810 | AD30: =+((((((($B$21*$E$21)+Q30)*D30/30)*M30)/11*L30))+(((((($B$21*$E$21)+Q30)*E30/30)*M30)/13*K30)))*(I30)*(1+$AI30) -> 21008810 | AF30: =SUM(S30:AD30) -> 2.500419e+08 | AG30: =IF(AD30=AC30,1,0) -> 1 | AH30: =IF(G30>=1,1,0) -> 1 | AI30: 0.08 | AL30: =AG30=AH30 -> TRUE | AN30: =S30*(1+1.9%) -> 21057473
B31: Manejador canino | C31: Lunes a viernes Servicio 12 Horas 6.00 A 18.00 Horas Canino | D31: 0.5241 | E31: 0.4759 | F31: MANEJADOR CANINO | I31: 1 | J31: 12 | K31: 12 | M31: =IF(AND(G31=1,J31<24),20,IF(AND(G31=1,J31=24),30,12)) -> 12 | N31: =IF(AND(H31=1,J31<24),20,IF(AND(H31=1,J31=24),30,18)) -> 18 | O31: =IF(AND(G31=1,J31<24),20,IF(AND(G31=1,J31=24),30,15)) -> 15 | P31: =IF(M31=12,20,M31) -> 20 | Q31: 2000 | S31: =+((((((($B$21*$C$21)+Q31)*D31/30)*O31)/11*L31))+(((((($B$21*$C$21)+Q31)*E31/30)*O31)/13*K31)))*(I31)*(1+$AI31) -> 4664059.6 | T31: =+((((((($B$21*$C$21)+Q31)*D31/30)*P31)/11*L31))+(((((($B$21*$C$21)+Q31)*E31/30)*P31)/13*K31)))*(I31)*(1+$AI31) -> 6218746.1 | U31: =+((((((($B$21*$C$21)+Q31)*D31/30)*N31)/11*L31))+(((((($B$21*$C$21)+Q31)*E31/30)*N31)/13*K31)))*(I31)*(1+$AI31) -> 5596871.5 | V31: =+((((((($B$21*$C$21)+Q31)*D31/30)*P31)/11*L31))+(((((($B$21*$C$21)+Q31)*E31/30)*P31)/13*K31)))*(I31)*(1+$AI31) -> 6218746.1 | W31: =+((((((($B$21*$C$21)+Q31)*D31/30)*P31)/11*L31))+(((((($B$21*$C$21)+Q31)*E31/30)*P31)/13*K31)))*(I31)*(1+$AI31) -> 6218746.1 | X31: =+((((((($B$21*$C$21)+Q31)*D31/30)*P31)/11*L31))+(((((($B$21*$C$21)+Q31)*E31/30)*P31)/13*K31)))*(I31)*(1+$AI31) -> 6218746.1 | Y31: =+((((((($B$21*$E$21)+Q31)*D31/30)*P31)/11*L31))+(((((($B$21*$E$21)+Q31)*E31/30)*P31)/13*K31)))*(I31)*(1+$AI31) -> 6322279.6 | Z31: =+((((((($B$21*$E$21)+Q31)*D31/30)*P31)/11*L31))+(((((($B$21*$E$21)+Q31)*E31/30)*P31)/13*K31)))*(I31)*(1+$AI31) -> 6322279.6 | AA31: =+((((((($B$21*$E$21)+Q31)*D31/30)*P31)/11*L31))+(((((($B$21*$E$21)+Q31)*E31/30)*P31)/13*K31)))*(I31)*(1+$AI31) -> 6322279.6 | AB31: =+((((((($B$21*$E$21)+Q31)*D31/30)*P31)/11*L31))+(((((($B$21*$E$21)+Q31)*E31/30)*P31)/13*K31)))*(I31)*(1+$AI31) -> 6322279.6 | AC31: =+((((((($B$21*$E$21)+Q31)*D31/30)*P31)/11*L31))+(((((($B$21*$E$21)+Q31)*E31/30)*P31)/13*K31)))*(I31)*(1+$AI31) -> 6322279.6 | AD31: =+((((((($B$21*$E$21)+Q31)*D31/30)*M31)/11*L31))+(((((($B$21*$E$21)+Q31)*E31/30)*M31)/13*K31)))*(I31)*(1+$AI31) -> 3793367.7 | AF31: =SUM(S31:AD31) -> 70540681 | AG31: =IF(AD31=AC31,1,0) -> 0 | AH31: =IF(G31>=1,1,0) -> 0 | AI31: 0.11 | AL31: =AG31=AH31 -> TRUE | AN31: =S31*(1+1.9%) -> 4752676.7
B32: Correspondencia principal | C32: Lunes a viernes Servicio 9 Horas 08.00 A 17.00 Horas Sin Arma | D32: 0.5241 | E32: 0.4759 | F32: VIGILANTE | I32: 1 | J32: 9 | K32: 9 | M32: =IF(AND(G32=1,J32<24),20,IF(AND(G32=1,J32=24),30,12)) -> 12 | N32: =IF(AND(H32=1,J32<24),20,IF(AND(H32=1,J32=24),30,18)) -> 18 | O32: =IF(AND(G32=1,J32<24),20,IF(AND(G32=1,J32=24),30,15)) -> 15 | P32: =IF(M32=12,20,M32) -> 20 | Q32: 2000 | S32: =+((((((($B$21*$C$21)+Q32)*D32/30)*O32)/11*L32))+(((((($B$21*$C$21)+Q32)*E32/30)*O32)/13*K32)))*(I32)*(1+$AI32) -> 3403502.9 | T32: =+((((((($B$21*$C$21)+Q32)*D32/30)*P32)/11*L32))+(((((($B$21*$C$21)+Q32)*E32/30)*P32)/13*K32)))*(I32)*(1+$AI32) -> 4538003.9 | U32: =+((((((($B$21*$C$21)+Q32)*D32/30)*N32)/11*L32))+(((((($B$21*$C$21)+Q32)*E32/30)*N32)/13*K32)))*(I32)*(1+$AI32) -> 4084203.5 | V32: =+((((((($B$21*$C$21)+Q32)*D32/30)*P32)/11*L32))+(((((($B$21*$C$21)+Q32)*E32/30)*P32)/13*K32)))*(I32)*(1+$AI32) -> 4538003.9 | W32: =+((((((($B$21*$C$21)+Q32)*D32/30)*P32)/11*L32))+(((((($B$21*$C$21)+Q32)*E32/30)*P32)/13*K32)))*(I32)*(1+$AI32) -> 4538003.9 | X32: =+((((((($B$21*$C$21)+Q32)*D32/30)*P32)/11*L32))+(((((($B$21*$C$21)+Q32)*E32/30)*P32)/13*K32)))*(I32)*(1+$AI32) -> 4538003.9 | Y32: =+((((((($B$21*$E$21)+Q32)*D32/30)*P32)/11*L32))+(((((($B$21*$E$21)+Q32)*E32/30)*P32)/13*K32)))*(I32)*(1+$AI32) -> 4613555.4 | Z32: =+((((((($B$21*$E$21)+Q32)*D32/30)*P32)/11*L32))+(((((($B$21*$E$21)+Q32)*E32/30)*P32)/13*K32)))*(I32)*(1+$AI32) -> 4613555.4 | AA32: =+((((((($B$21*$E$21)+Q32)*D32/30)*P32)/11*L32))+(((((($B$21*$E$21)+Q32)*E32/30)*P32)/13*K32)))*(I32)*(1+$AI32) -> 4613555.4 | AB32: =+((((((($B$21*$E$21)+Q32)*D32/30)*P32)/11*L32))+(((((($B$21*$E$21)+Q32)*E32/30)*P32)/13*K32)))*(I32)*(1+$AI32) -> 4613555.4 | AC32: =+((((((($B$21*$E$21)+Q32)*D32/30)*P32)/11*L32))+(((((($B$21*$E$21)+Q32)*E32/30)*P32)/13*K32)))*(I32)*(1+$AI32) -> 4613555.4 | AD32: =+((((((($B$21*$E$21)+Q32)*D32/30)*M32)/11*L32))+(((((($B$21*$E$21)+Q32)*E32/30)*M32)/13*K32)))*(I32)*(1+$AI32) -> 2768133.2 | AF32: =SUM(S32:AD32) -> 51475632 | AG32: =IF(AD32=AC32,1,0) -> 0 | AH32: =IF(G32>=1,1,0) -> 0 | AI32: 0.08 | AL32: =AG32=AH32 -> TRUE | AN32: =S32*(1+1.9%) -> 3468169.5
B33: Filtro Cortes Suprema y Constitucional | C33: Lunes a viernes Servicio 11 H De 08.00 A 19.00 H Sin Arma | D33: 0.5241 | E33: 0.4759 | F33: VIGILANTE | I33: 1 | J33: 11 | K33: 11 | M33: =IF(AND(G33=1,J33<24),20,IF(AND(G33=1,J33=24),30,12)) -> 12 | N33: =IF(AND(H33=1,J33<24),20,IF(AND(H33=1,J33=24),30,18)) -> 18 | O33: =IF(AND(G33=1,J33<24),20,IF(AND(G33=1,J33=24),30,15)) -> 15 | P33: =IF(M33=12,20,M33) -> 20 | Q33: 2000 | S33: =+((((((($B$21*$C$21)+Q33)*D33/30)*O33)/11*L33))+(((((($B$21*$C$21)+Q33)*E33/30)*O33)/13*K33)))*(I33)*(1+$AI33) -> 4159836.9 | T33: =+((((((($B$21*$C$21)+Q33)*D33/30)*P33)/11*L33))+(((((($B$21*$C$21)+Q33)*E33/30)*P33)/13*K33)))*(I33)*(1+$AI33) -> 5546449.2 | U33: =+((((((($B$21*$C$21)+Q33)*D33/30)*N33)/11*L33))+(((((($B$21*$C$21)+Q33)*E33/30)*N33)/13*K33)))*(I33)*(1+$AI33) -> 4991804.3 | V33: =+((((((($B$21*$C$21)+Q33)*D33/30)*P33)/11*L33))+(((((($B$21*$C$21)+Q33)*E33/30)*P33)/13*K33)))*(I33)*(1+$AI33) -> 5546449.2 | W33: =+((((((($B$21*$C$21)+Q33)*D33/30)*P33)/11*L33))+(((((($B$21*$C$21)+Q33)*E33/30)*P33)/13*K33)))*(I33)*(1+$AI33) -> 5546449.2 | X33: =+((((((($B$21*$C$21)+Q33)*D33/30)*P33)/11*L33))+(((((($B$21*$C$21)+Q33)*E33/30)*P33)/13*K33)))*(I33)*(1+$AI33) -> 5546449.2 | Y33: =+((((((($B$21*$E$21)+Q33)*D33/30)*P33)/11*L33))+(((((($B$21*$E$21)+Q33)*E33/30)*P33)/13*K33)))*(I33)*(1+$AI33) -> 5638789.9 | Z33: =+((((((($B$21*$E$21)+Q33)*D33/30)*P33)/11*L33))+(((((($B$21*$E$21)+Q33)*E33/30)*P33)/13*K33)))*(I33)*(1+$AI33) -> 5638789.9 | AA33: =+((((((($B$21*$E$21)+Q33)*D33/30)*P33)/11*L33))+(((((($B$21*$E$21)+Q33)*E33/30)*P33)/13*K33)))*(I33)*(1+$AI33) -> 5638789.9 | AB33: =+((((((($B$21*$E$21)+Q33)*D33/30)*P33)/11*L33))+(((((($B$21*$E$21)+Q33)*E33/30)*P33)/13*K33)))*(I33)*(1+$AI33) -> 5638789.9 | AC33: =+((((((($B$21*$E$21)+Q33)*D33/30)*P33)/11*L33))+(((((($B$21*$E$21)+Q33)*E33/30)*P33)/13*K33)))*(I33)*(1+$AI33) -> 5638789.9 | AD33: =+((((((($B$21*$E$21)+Q33)*D33/30)*M33)/11*L33))+(((((($B$21*$E$21)+Q33)*E33/30)*M33)/13*K33)))*(I33)*(1+$AI33) -> 3383273.9 | AF33: =SUM(S33:AD33) -> 62914662 | AG33: =IF(AD33=AC33,1,0) -> 0 | AH33: =IF(G33>=1,1,0) -> 0 | AI33: 0.08 | AL33: =AG33=AH33 -> TRUE | AN33: =S33*(1+1.9%) -> 4238873.8
B34: Filtro Consejo Superior de la Judicatura y Estado | C34: Lunes a viernes Servicio 11 H De 08.00 A 19.00 H Sin Arma | D34: 0.5241 | E34: 0.4759 | F34: VIGILANTE | G34: 1 | I34: 1 | J34: 11 | K34: 11 | M34: =IF(AND(G34=1,J34<24),20,IF(AND(G34=1,J34=24),30,12)) -> 20 | N34: =IF(AND(H34=1,J34<24),20,IF(AND(H34=1,J34=24),30,18)) -> 18 | O34: =IF(AND(G34=1,J34<24),20,IF(AND(G34=1,J34=24),30,15)) -> 20 | P34: =IF(M34=12,20,M34) -> 20 | Q34: 2000 | S34: =+((((((($B$21*$C$21)+Q34)*D34/30)*O34)/11*L34))+(((((($B$21*$C$21)+Q34)*E34/30)*O34)/13*K34)))*(I34)*(1+$AI34) -> 5546449.2 | T34: =+((((((($B$21*$C$21)+Q34)*D34/30)*P34)/11*L34))+(((((($B$21*$C$21)+Q34)*E34/30)*P34)/13*K34)))*(I34)*(1+$AI34) -> 5546449.2 | U34: =+((((((($B$21*$C$21)+Q34)*D34/30)*N34)/11*L34))+(((((($B$21*$C$21)+Q34)*E34/30)*N34)/13*K34)))*(I34)*(1+$AI34) -> 4991804.3 | V34: =+((((((($B$21*$C$21)+Q34)*D34/30)*P34)/11*L34))+(((((($B$21*$C$21)+Q34)*E34/30)*P34)/13*K34)))*(I34)*(1+$AI34) -> 5546449.2 | W34: =+((((((($B$21*$C$21)+Q34)*D34/30)*P34)/11*L34))+(((((($B$21*$C$21)+Q34)*E34/30)*P34)/13*K34)))*(I34)*(1+$AI34) -> 5546449.2 | X34: =+((((((($B$21*$C$21)+Q34)*D34/30)*P34)/11*L34))+(((((($B$21*$C$21)+Q34)*E34/30)*P34)/13*K34)))*(I34)*(1+$AI34) -> 5546449.2 | Y34: =+((((((($B$21*$E$21)+Q34)*D34/30)*P34)/11*L34))+(((((($B$21*$E$21)+Q34)*E34/30)*P34)/13*K34)))*(I34)*(1+$AI34) -> 5638789.9 | Z34: =+((((((($B$21*$E$21)+Q34)*D34/30)*P34)/11*L34))+(((((($B$21*$E$21)+Q34)*E34/30)*P34)/13*K34)))*(I34)*(1+$AI34) -> 5638789.9 | AA34: =+((((((($B$21*$E$21)+Q34)*D34/30)*P34)/11*L34))+(((((($B$21*$E$21)+Q34)*E34/30)*P34)/13*K34)))*(I34)*(1+$AI34) -> 5638789.9 | AB34: =+((((((($B$21*$E$21)+Q34)*D34/30)*P34)/11*L34))+(((((($B$21*$E$21)+Q34)*E34/30)*P34)/13*K34)))*(I34)*(1+$AI34) -> 5638789.9 | AC34: =+((((((($B$21*$E$21)+Q34)*D34/30)*P34)/11*L34))+(((((($B$21*$E$21)+Q34)*E34/30)*P34)/13*K34)))*(I34)*(1+$AI34) -> 5638789.9 | AD34: =+((((((($B$21*$E$21)+Q34)*D34/30)*M34)/11*L34))+(((((($B$21*$E$21)+Q34)*E34/30)*M34)/13*K34)))*(I34)*(1+$AI34) -> 5638789.9 | AF34: =SUM(S34:AD34) -> 66556790 | AG34: =IF(AD34=AC34,1,0) -> 1 | AH34: =IF(G34>=1,1,0) -> 1 | AI34: 0.08 | AL34: =AG34=AH34 -> TRUE | AN34: =S34*(1+1.9%) -> 5651831.8
B35: Recepción exclusa o Consejo Estado | C35: Lunes a viernes Servicio 11 H De 08.00 A 19.00 H Sin Arma | D35: 0.5241 | E35: 0.4759 | F35: VIGILANTE | I35: 1 | J35: 11 | K35: 11 | M35: =IF(AND(G35=1,J35<24),20,IF(AND(G35=1,J35=24),30,12)) -> 12 | N35: =IF(AND(H35=1,J35<24),20,IF(AND(H35=1,J35=24),30,18)) -> 18 | O35: =IF(AND(G35=1,J35<24),20,IF(AND(G35=1,J35=24),30,15)) -> 15 | P35: =IF(M35=12,20,M35) -> 20 | Q35: 2000 | S35: =+((((((($B$21*$C$21)+Q35)*D35/30)*O35)/11*L35))+(((((($B$21*$C$21)+Q35)*E35/30)*O35)/13*K35)))*(I35)*(1+$AI35) -> 4159836.9 | T35: =+((((((($B$21*$C$21)+Q35)*D35/30)*P35)/11*L35))+(((((($B$21*$C$21)+Q35)*E35/30)*P35)/13*K35)))*(I35)*(1+$AI35) -> 5546449.2 | U35: =+((((((($B$21*$C$21)+Q35)*D35/30)*N35)/11*L35))+(((((($B$21*$C$21)+Q35)*E35/30)*N35)/13*K35)))*(I35)*(1+$AI35) -> 4991804.3 | V35: =+((((((($B$21*$C$21)+Q35)*D35/30)*P35)/11*L35))+(((((($B$21*$C$21)+Q35)*E35/30)*P35)/13*K35)))*(I35)*(1+$AI35) -> 5546449.2 | W35: =+((((((($B$21*$C$21)+Q35)*D35/30)*P35)/11*L35))+(((((($B$21*$C$21)+Q35)*E35/30)*P35)/13*K35)))*(I35)*(1+$AI35) -> 5546449.2 | X35: =+((((((($B$21*$C$21)+Q35)*D35/30)*P35)/11*L35))+(((((($B$21*$C$21)+Q35)*E35/30)*P35)/13*K35)))*(I35)*(1+$AI35) -> 5546449.2 | Y35: =+((((((($B$21*$E$21)+Q35)*D35/30)*P35)/11*L35))+(((((($B$21*$E$21)+Q35)*E35/30)*P35)/13*K35)))*(I35)*(1+$AI35) -> 5638789.9 | Z35: =+((((((($B$21*$E$21)+Q35)*D35/30)*P35)/11*L35))+(((((($B$21*$E$21)+Q35)*E35/30)*P35)/13*K35)))*(I35)*(1+$AI35) -> 5638789.9 | AA35: =+((((((($B$21*$E$21)+Q35)*D35/30)*P35)/11*L35))+(((((($B$21*$E$21)+Q35)*E35/30)*P35)/13*K35)))*(I35)*(1+$AI35) -> 5638789.9 | AB35: =+((((((($B$21*$E$21)+Q35)*D35/30)*P35)/11*L35))+(((((($B$21*$E$21)+Q35)*E35/30)*P35)/13*K35)))*(I35)*(1+$AI35) -> 5638789.9 | AC35: =+((((((($B$21*$E$21)+Q35)*D35/30)*P35)/11*L35))+(((((($B$21*$E$21)+Q35)*E35/30)*P35)/13*K35)))*(I35)*(1+$AI35) -> 5638789.9 | AD35: =+((((((($B$21*$E$21)+Q35)*D35/30)*M35)/11*L35))+(((((($B$21*$E$21)+Q35)*E35/30)*M35)/13*K35)))*(I35)*(1+$AI35) -> 3383273.9 | AF35: =SUM(S35:AD35) -> 62914662 | AG35: =IF(AD35=AC35,1,0) -> 0 | AH35: =IF(G35>=1,1,0) -> 0 | AI35: 0.08 | AL35: =AG35=AH35 -> TRUE | AN35: =S35*(1+1.9%) -> 4238873.8
B36: Recepción exclusa o Corte Constitucional | C36: Lunes a viernes Servicio 11 H De 08.00 A 19.00 H Sin Arma | D36: 0.5241 | E36: 0.4759 | F36: VIGILANTE | I36: 1 | J36: 11 | K36: 11 | M36: =IF(AND(G36=1,J36<24),20,IF(AND(G36=1,J36=24),30,12)) -> 12 | N36: =IF(AND(H36=1,J36<24),20,IF(AND(H36=1,J36=24),30,18)) -> 18 | O36: =IF(AND(G36=1,J36<24),20,IF(AND(G36=1,J36=24),30,15)) -> 15 | P36: =IF(M36=12,20,M36) -> 20 | Q36: 2000 | S36: =+((((((($B$21*$C$21)+Q36)*D36/30)*O36)/11*L36))+(((((($B$21*$C$21)+Q36)*E36/30)*O36)/13*K36)))*(I36)*(1+$AI36) -> 4159836.9 | T36: =+((((((($B$21*$C$21)+Q36)*D36/30)*P36)/11*L36))+(((((($B$21*$C$21)+Q36)*E36/30)*P36)/13*K36)))*(I36)*(1+$AI36) -> 5546449.2 | U36: =+((((((($B$21*$C$21)+Q36)*D36/30)*N36)/11*L36))+(((((($B$21*$C$21)+Q36)*E36/30)*N36)/13*K36)))*(I36)*(1+$AI36) -> 4991804.3 | V36: =+((((((($B$21*$C$21)+Q36)*D36/30)*P36)/11*L36))+(((((($B$21*$C$21)+Q36)*E36/30)*P36)/13*K36)))*(I36)*(1+$AI36) -> 5546449.2 | W36: =+((((((($B$21*$C$21)+Q36)*D36/30)*P36)/11*L36))+(((((($B$21*$C$21)+Q36)*E36/30)*P36)/13*K36)))*(I36)*(1+$AI36) -> 5546449.2 | X36: =+((((((($B$21*$C$21)+Q36)*D36/30)*P36)/11*L36))+(((((($B$21*$C$21)+Q36)*E36/30)*P36)/13*K36)))*(I36)*(1+$AI36) -> 5546449.2 | Y36: =+((((((($B$21*$E$21)+Q36)*D36/30)*P36)/11*L36))+(((((($B$21*$E$21)+Q36)*E36/30)*P36)/13*K36)))*(I36)*(1+$AI36) -> 5638789.9 | Z36: =+((((((($B$21*$E$21)+Q36)*D36/30)*P36)/11*L36))+(((((($B$21*$E$21)+Q36)*E36/30)*P36)/13*K36)))*(I36)*(1+$AI36) -> 5638789.9 | AA36: =+((((((($B$21*$E$21)+Q36)*D36/30)*P36)/11*L36))+(((((($B$21*$E$21)+Q36)*E36/30)*P36)/13*K36)))*(I36)*(1+$AI36) -> 5638789.9 | AB36: =+((((((($B$21*$E$21)+Q36)*D36/30)*P36)/11*L36))+(((((($B$21*$E$21)+Q36)*E36/30)*P36)/13*K36)))*(I36)*(1+$AI36) -> 5638789.9 | AC36: =+((((((($B$21*$E$21)+Q36)*D36/30)*P36)/11*L36))+(((((($B$21*$E$21)+Q36)*E36/30)*P36)/13*K36)))*(I36)*(1+$AI36) -> 5638789.9 | AD36: =+((((((($B$21*$E$21)+Q36)*D36/30)*M36)/11*L36))+(((((($B$21*$E$21)+Q36)*E36/30)*M36)/13*K36)))*(I36)*(1+$AI36) -> 3383273.9 | AF36: =SUM(S36:AD36) -> 62914662 | AG36: =IF(AD36=AC36,1,0) -> 0 | AH36: =IF(G36>=1,1,0) -> 0 | AI36: 0.08 | AL36: =AG36=AH36 -> TRUE | AN36: =S36*(1+1.9%) -> 4238873.8
