Workbook

Sheet 29 a 31 Diciembre 2026
P1: SMMLV | Q1: 1750905
P2: FACTOR | Q2: 10.21 | R2: HORA DIA | S2: HORA NOCHE | T2: DIAS
P3: SEG VIDA | Q3: =1250*3 -> 3750 | R3: =+(Q4*0.4759)/13 -> 654563.48 | S3: =+(Q4*0.5241)/11 -> 851924.08
B4: COTIZACIÓN DEL 29 DE DICIEMBRE DE 2026 A 31 DE DICIEMBRE DE 2026 SUB - UUNIDAD 221 (3 DIAS DE SERVICIO) | P4: TOTAL | Q4: =+(Q1*Q2)+Q3 -> 17880490 | R4: =+R3/30 -> 21818.783 | S4: =+S3/30 -> 28397.469
A5: EMPRESA | B5: ITEM | C5: LOCALIDAD | D5: UBICACIÓN | E5: CANTIDAD | F5: DESCRIPCIÓN | G5: DIAS | H5: COSTO DIRECTO | I5: % AYS | J5: AYS | K5: SUBTOTAL | L5: BASE GRAVABLE | M5: IVA | N5: TOTAL | P5: HORAS DIURNAS | Q5: HORAS NOCTURNAS | R5: DIAS
A6: TECNISEG | B6: 1 | C6: BUCARAMANGA | D6: DIRECCION EJECUTIVA | E6: 1 | F6: SIN ARMA 12 HORAS DE LUNES A VIERNES SIN INCLUIR FESTIVOS CONTROLANDO INGRESO (7:00 A.M. A 19:00 P.M.) | G6: 3 | H6: =+(($R$4*P6)+($S$4*Q6))*G6 -> 785476.17 | I6: 0.08 | J6: =+H6*I6 -> 62838.094 | K6: =+H6+J6 -> 848314.27 | L6: =+K6*10% -> 84831.427 | M6: =+L6*19% -> 16117.971 | N6: =+K6+M6 -> 864432.24 | P6: 12 | Q6: 0
B12: COTIZACIÓN DEL 29 DE DICIEMBRE DE 2026 A 31 DE DICIEMBRE DE 2026 SUB UNIDAD 821 (3 DIAS DE SERVICIO)
B13: ITEM | C13: LOCALIDAD | D13: UBICACIÓN | E13: CANTIDAD | F13: DESCRIPCIÓN | G13: DIAS | H13: COSTO DIRECTO | I13: % AYS | J13: AYS | K13: SUBTOTAL | L13: BASE GRAVABLE | M13: IVA | N13: TOTAL
B14: 1 | C14: BUCARAMANGA | D14: PALACIO DE JUSTICIA - PUERTA PRINCIPAL - SERVIDORES JUDICIALES | E14: 1 | F14: CON ARMA 24 HORAS DE DOMINGO A DOMINGO | G14: 3 | H14: =+(($R$4*P14)+($S$4*Q14))*G14 -> 1788049 | I14: 0.1 | J14: =+H14*I14 -> 178804.9 | K14: =+H14+J14 -> 1966853.9 | L14: =+K14*10% -> 196685.39 | M14: =+L14*19% -> 37370.224 | N14: =+K14+M14 -> 2004224.1 | P14: 13 | Q14: 11
B15: 2 | C15: BUCARAMANGA | D15: PALACIO DE JUSTICIA - CONTROL DE INGRESO -DIGITOS | E15: 1 | F15: CON ARMA 12 HORAS DE LUNES A VIERNES SIN INCLUIR FESTIVOS | G15: 3 | H15: =+(($R$4*P15)+($S$4*Q15))*G15 -> 785476.17 | I15: 0.1 | J15: =+H15*I15 -> 78547.617 | K15: =+H15+J15 -> 864023.79 | L15: =+K15*10% -> 86402.379 | M15: =+L15*19% -> 16416.452 | N15: =+K15+M15 -> 880440.24 | P15: 12 | Q15: 0
B16: 3 | C16: BUCARAMANGA | D16: PALACIO DE JUSTICIA - TONEL SCANNER | E16: 1 | F16: SIN ARMA 8 HORAS DE LUNES A VIERNES SIN INCLUIR FESTIVOS | G16: 3 | H16: =+(($R$4*P16)+($S$4*Q16))*G16 -> 523650.78 | I16: 0.08 | J16: =+H16*I16 -> 41892.063 | K16: =+H16+J16 -> 565542.85 | L16: =+K16*10% -> 56554.285 | M16: =+L16*19% -> 10745.314 | N16: =+K16+M16 -> 576288.16 | P16: 8 | Q16: 0
B17: 4 | C17: BUCARAMANGA | D17: PALACIO DE JUSTICIA - RONDA EXTERNA | E17: 1 | F17: CON ARMA (ESCOPETA CALIBRE 12 Y CHALECO ANTIBALAS) 24 HORAS DE DOMINGO A DOMINGO | G17: 3 | H17: =+(($R$4*P17)+($S$4*Q17))*G17 -> 1788049 | I17: 0.1 | J17: =+H17*I17 -> 178804.9 | K17: =+H17+J17 -> 1966853.9 | L17: =+K17*10% -> 196685.39 | M17: =+L17*19% -> 37370.224 | N17: =+K17+M17 -> 2004224.1 | P17: 13 | Q17: 11
B18: 5 | C18: BUCARAMANGA | D18: PALACIO DE JUSTICIA - RONDA EXTERNA | E18: 1 | F18: CON ARMA (ESCOPETA CALIBRE 12 Y CHALECO ANTIBALAS) 24 HORAS DE DOMINGO A DOMINGO | G18: 3 | H18: =+(($R$4*P18)+($S$4*Q18))*G18 -> 1788049 | I18: 0.1 | J18: =+H18*I18 -> 178804.9 | K18: =+H18+J18 -> 1966853.9 | L18: =+K18*10% -> 196685.39 | M18: =+L18*19% -> 37370.224 | N18: =+K18+M18 -> 2004224.1 | P18: 13 | Q18: 11
B19: 6 | C19: BUCARAMANGA | D19: SISTEMA PENAL ACUSATORIO SPA REJAS | E19: 1 | F19: CON ARMA 12 HORAS DE DOMINGO A - DOMINGO | G19: 3 | H19: =+(($R$4*P19)+($S$4*Q19))*G19 -> 785476.17 | I19: 0.1 | J19: =+H19*I19 -> 78547.617 | K19: =+H19+J19 -> 864023.79 | L19: =+K19*10% -> 86402.379 | M19: =+L19*19% -> 16416.452 | N19: =+K19+M19 -> 880440.24 | P19: 12 | Q19: 0
B20: 7 | C20: BUCARAMANGA | D20: PALACIO JUSTICIA - CENTRO DE MONITOREO | E20: 1 | F20: SIN ARMA 24 HORAS DE DOMINGO A DOMINGO | G20: 3 | H20: =+(($R$4*P20)+($S$4*Q20))*G20 -> 1788049 | I20: 0.08 | J20: =+H20*I20 -> 143043.92 | K20: =+H20+J20 -> 1931092.9 | L20: =+K20*10% -> 193109.29 | M20: =+L20*19% -> 36690.766 | N20: =+K20+M20 -> 1967783.7 | P20: 13 | Q20: 11
B21: 8 | C21: BUCARAMANGA | D21: PALACIO DE JUSTICIA - SISTEMA PENAL ACUSATORIA (PUERTA SPA) | E21: 1 | F21: CON ARMA 24 HORAS DE DOMINGO A DOMINGO | G21: 3 | H21: =+(($R$4*P21)+($S$4*Q21))*G21 -> 1788049 | I21: 0.1 | J21: =+H21*I21 -> 178804.9 | K21: =+H21+J21 -> 1966853.9 | L21: =+K21*10% -> 196685.39 | M21: =+L21*19% -> 37370.224 | N21: =+K21+M21 -> 2004224.1 | P21: 13 | Q21: 11
B22: 9 | C22: BUCARAMANGA | D22: SISTEMA PENAL ACUSATORIO R.I | E22: 1 | F22: CON ARMA 12 HORAS DE DOMINGO A - DOMINGO | G22: 3 | H22: =+(($R$4*P22)+($S$4*Q22))*G22 -> 785476.17 | I22: 0.1 | J22: =+H22*I22 -> 78547.617 | K22: =+H22+J22 -> 864023.79 | L22: =+K22*10% -> 86402.379 | M22: =+L22*19% -> 16416.452 | N22: =+K22+M22 -> 880440.24 | P22: 12 | Q22: 0
B23: 10 | C23: BUCARAMANGA | D23: PALACIO DE JUSTICIA - RONDA CANINO | E23: 1 | F23: CON CANINO RASTREADOR PARA DETECTAR EXPLOSIVOS MES 12 HORAS DIURNAS DE 6:00 A.M. A 18:00 PM DE DOMINGO A DOMINGO | G23: 3 | H23: =+(($R$4*P23)+($S$4*Q23))*G23 -> 785476.17 | I23: 0.11 | J23: =+H23*I23 -> 86402.379 | K23: =+H23+J23 -> 871878.55 | L23: =+K23*11% -> 95906.641 | M23: =+L23*19% -> 18222.262 | N23: =+K23+M23 -> 890100.81 | P23: 12 | Q23: 0
B24: 11 | C24: BUCARAMANGA | D24: ESCUELA DE BOLIVAR - CASA ROJA | E24: 1 | F24: 11 HORAS CON ARMA NOCTURNAS DE DOMINGO A DOMINGO (19:00 PM A 6:00 AM) | G24: 3 | H24: =+(($R$4*P24)+($S$4*Q24))*G24 -> 937116.48 | I24: 0.1 | J24: =+H24*I24 -> 93711.648 | K24: =+H24+J24 -> 1030828.1 | L24: =+K24*10% -> 103082.81 | M24: =+L24*19% -> 19585.735 | N24: =+K24+M24 -> 1050413.9 | P24: 0 | Q24: 11
B25: 12 | C25: BUCARAMANGA | D25: SEDE JUZGADOS ADMINNISTRATIVOS (EDIIFICIO JOSE ACEVEDO Y GOMEZ) | E25: 1 | F25: CON ARMA 12 HORAS DE LUNES A VIERNES SIN INCLUIR FESTIVOS | G25: 3 | H25: =+(($R$4*P25)+($S$4*Q25))*G25 -> 785476.17 | I25: 0.1 | J25: =+H25*I25 -> 78547.617 | K25: =+H25+J25 -> 864023.79 | L25: =+K25*10% -> 86402.379 | M25: =+L25*19% -> 16416.452 | N25: =+K25+M25 -> 880440.24 | P25: 12 | Q25: 0
B26: 13 | C26: BUCARAMANGA | D26: SEDE JUZGADOS VARIOS - CONTROL DE INGRESO (SEDE EL FRENTE) | E26: 1 | F26: CON ARMA 24 HORAS DE DOMINGO A DOMINGO | G26: 3 | H26: =+(($R$4*P26)+($S$4*Q26))*G26 -> 1788049 | I26: 0.1 | J26: =+H26*I26 -> 178804.9 | K26: =+H26+J26 -> 1966853.9 | L26: =+K26*10% -> 196685.39 | M26: =+L26*19% -> 37370.224 | N26: =+K26+M26 -> 2004224.1 | P26: 13 | Q26: 11
B27: 14 | C27: BUCARAMANGA | D27: SEDE BODEGA DE ALMACEN- ARCHIVO E INVENTARIOS (CALLE 45 No. 14A-50) | E27: 1 | F27: CON ARMA 24 HORAS DE DOMINGO A DOMINGO | G27: 3 | H27: =+(($R$4*P27)+($S$4*Q27))*G27 -> 1788049 | I27: 0.1 | J27: =+H27*I27 -> 178804.9 | K27: =+H27+J27 -> 1966853.9 | L27: =+K27*10% -> 196685.39 | M27: =+L27*19% -> 37370.224 | N27: =+K27+M27 -> 2004224.1 | P27: 13 | Q27: 11
B28: 15 | C28: BUCARAMANGA | D28: SEDE ARCHIVO DESPACHOS JUDICIALES (CARRERA 12 No.31-47 ARCHIVO) | E28: 1 | F28: CON ARMA 24 HORAS DE DOMINGO A DOMINGO | G28: 3 | H28: =+(($R$4*P28)+($S$4*Q28))*G28 -> 1788049 | I28: 0.1 | J28: =+H28*I28 -> 178804.9 | K28: =+H28+J28 -> 1966853.9 | L28: =+K28*10% -> 196685.39 | M28: =+L28*19% -> 37370.224 | N28: =+K28+M28 -> 2004224.1 | P28: 13 | Q28: 11
B29: 16 | C29: FLORIDABLANCA | D29: SEDE SISTEMA PENAL ACUSATORIO (CARRERA 4-38) | E29: 1 | F29: CON ARMA 24 HORAS DE DOMINGO A DOMINGO | G29: 3 | H29: =+(($R$4*P29)+($S$4*Q29))*G29 -> 1788049 | I29: 0.1 | J29: =+H29*I29 -> 178804.9 | K29: =+H29+J29 -> 1966853.9 | L29: =+K29*10% -> 196685.39 | M29: =+L29*19% -> 37370.224 | N29: =+K29+M29 -> 2004224.1 | P29: 13 | Q29: 11
B30: 17 | C30: FLORIDABLANCA | D30: SEDE JUZGADOS PROMISCUOS MUNICIPALES (CARRERA 10 No. 4-48 | E30: 1 | F30: CON ARMA 24 HORAS DE DOMINGO A DOMINGO | G30: 3 | H30: =+(($R$4*P30)+($S$4*Q30))*G30 -> 1788049 | I30: 0.1 | J30: =+H30*I30 -> 178804.9 | K30: =+H30+J30 -> 1966853.9 | L30: =+K30*10% -> 196685.39 | M30: =+L30*19% -> 37370.224 | N30: =+K30+M30 -> 2004224.1 | P30: 13 | Q30: 11
B31: 18 | C31: GIRON | D31: SEDE JUZGADOS PROMISCUOS MUNICIPALES Y DE GARANTIAS (CARRERA 26 No. 31-36) | E31: 1 | F31: CON ARMA 24 HORAS DE DOMINGO A DOMINGO | G31: 3 | H31: =+(($R$4*P31)+($S$4*Q31))*G31 -> 1788049 | I31: 0.1 | J31: =+H31*I31 -> 178804.9 | K31: =+H31+J31 -> 1966853.9 | L31: =+K31*10% -> 196685.39 | M31: =+L31*19% -> 37370.224 | N31: =+K31+M31 -> 2004224.1 | P31: 13 | Q31: 11
B32: 19 | C32: GIRON | D32: SEDE ARCHIVOS DESPACHOS JUDICIALES (CALLE 33 No. 26-48) | E32: 1 | F32: CON ARMA 24 HORAS DE DOMINGO A DOMINGO | G32: 3 | H32: =+(($R$4*P32)+($S$4*Q32))*G32 -> 1788049 | I32: 0.1 | J32: =+H32*I32 -> 178804.9 | K32: =+H32+J32 -> 1966853.9 | L32: =+K32*10% -> 196685.39 | M32: =+L32*19% -> 37370.224 | N32: =+K32+M32 -> 2004224.1 | P32: 13 | Q32: 11
B33: 20 | C33: BARRANCABERMEJA | D33: PALACIO DE JUSTICIA BARRANCABERMEJA - CONTROL DE INGRESO | E33: 1 | F33: CON ARMA 24 HORAS DE DOMINGO A DOMINGO | G33: 3 | H33: =+(($R$4*P33)+($S$4*Q33))*G33 -> 1788049 | I33: 0.1 | J33: =+H33*I33 -> 178804.9 | K33: =+H33+J33 -> 1966853.9 | L33: =+K33*10% -> 196685.39 | M33: =+L33*19% -> 37370.224 | N33: =+K33+M33 -> 2004224.1 | P33: 13 | Q33: 11
B34: 21 | C34: BARRANCABERMEJA | D34: PALACIO DE JUSTICIA (CALLE 50 CON CARRERA 9 Y 10) RONDA INTERNA | E34: 1 | F34: CON ARMA 24 HORAS DE DOMINGO A DOMINGO | G34: 3 | H34: =+(($R$4*P34)+($S$4*Q34))*G34 -> 1788049 | I34: 0.1 | J34: =+H34*I34 -> 178804.9 | K34: =+H34+J34 -> 1966853.9 | L34: =+K34*10% -> 196685.39 | M34: =+L34*19% -> 37370.224 | N34: =+K34+M34 -> 2004224.1 | P34: 13 | Q34: 11
B35: 22 | C35: BARRANCABERMEJA | D35: PALACIO DE JUSTICIA (CALLE 50 CON CARRERA 9 Y 10) (RONDA) | E35: 1 | F35: CON CANINO RASTREADOR PARA DETECTAR EXPLOSIVOS MES 12 HORAS DIURNAS DE 6:00 A.M. A 18:00 PM DE DOMINGO A DOMINGO | G35: 3 | H35: =+(($R$4*P35)+($S$4*Q35))*G35 -> 785476.17 | I35: 0.11 | J35: =+H35*I35 -> 86402.379 | K35: =+H35+J35 -> 871878.55 | L35: =+K35*11% -> 95906.641 | M35: =+L35*19% -> 18222.262 | N35: =+K35+M35 -> 890100.81 | P35: 12 | Q35: 0
B36: 23 | C36: BARRANCABERMEJA | D36: SEDE NUEVA ARCHIVOS | E36: 1 | F36: CON ARMA 12 HORAS DE DOMINGO A - DOMINGO RONDA INTERNA-EXTERNA (7:00 A.M. A 19:00 P.M.) | G36: 3 | H36: =+(($R$4*P36)+($S$4*Q36))*G36 -> 785476.17 | I36: 0.1 | J36: =+H36*I36 -> 78547.617 | K36: =+H36+J36 -> 864023.79 | L36: =+K36*10% -> 86402.379 | M36: =+L36*19% -> 16416.452 | N36: =+K36+M36 -> 880440.24 | P36: 12 | Q36: 0
B37: 24 | C37: SAN GIL | D37: PALACIO DE JUSTICIA (CARRERA 10 CALLE 9 Y 10) CONTROL DE INGRESO | E37: 1 | F37: CON ARMA 24 HORAS DE DOMINGO A DOMINGO | G37: 3 | H37: =+(($R$4*P37)+($S$4*Q37))*G37 -> 1788049 | I37: 0.1 | J37: =+H37*I37 -> 178804.9 | K37: =+H37+J37 -> 1966853.9 | L37: =+K37*10% -> 196685.39 | M37: =+L37*19% -> 37370.224 | N37: =+K37+M37 -> 2004224.1 | P37: 13 | Q37: 11
B38: 25 | C38: SAN GIL | D38: PALACIO DE JUSTICIA (CARRERA 10 CALLE 9 Y 10) SOTWARE - DIGITOS usuarios | E38: 1 | F38: SIN ARMA 8 HORAS DIURNAS DE LUNES A VIERNES SIN INCLUIR FESTIVOS | G38: 3 | H38: =+(($R$4*P38)+($S$4*Q38))*G38 -> 523650.78 | I38: 0.08 | J38: =+H38*I38 -> 41892.063 | K38: =+H38+J38 -> 565542.85 | L38: =+K38*10% -> 56554.285 | M38: =+L38*19% -> 10745.314 | N38: =+K38+M38 -> 576288.16 | P38: 8 | Q38: 0
B39: 26 | C39: SAN GIL | D39: PALACIO DE JUSTICIA (CARRERA 10 CALLE 9 Y 10) RONDA EXTERNA/ INTERNA / ARCHIVO | E39: 1 | F39: CON ARMA 24 HORAS DE DOMINGO A DOMINGO | G39: 3 | H39: =+(($R$4*P39)+($S$4*Q39))*G39 -> 1788049 | I39: 0.1 | J39: =+H39*I39 -> 178804.9 | K39: =+H39+J39 -> 1966853.9 | L39: =+K39*10% -> 196685.39 | M39: =+L39*19% -> 37370.224 | N39: =+K39+M39 -> 2004224.1 | P39: 13 | Q39: 11
B40: 27 | C40: SAN GIL | D40: PALACIO DE JUSTICIA (CARRERA 10 CALLE 9 Y 10) CANINO RASTREADOR | E40: 1 | F40: CON CANINO RASTREADOR PARA DETECTAR EXPLOSIVOS MES 12 HORAS DIURNAS DE 6:00 A.M. A 18:00 PM DE DOMINGO A DOMINGO | G40: 3 | H40: =+(($R$4*P40)+($S$4*Q40))*G40 -> 785476.17 | I40: 0.11 | J40: =+H40*I40 -> 86402.379 | K40: =+H40+J40 -> 871878.55 | L40: =+K40*11% -> 95906.641 | M40: =+L40*19% -> 18222.262 | N40: =+K40+M40 -> 890100.81 | P40: 12 | Q40: 0
B41: 28 | C41: SOCORRO | D41: PALACIO DE JUSTICIA- CONTROL DE INGRESO | E41: 1 | F41: CON ARMA 24 HORAS DE DOMINGO A DOMINGO CONTROLANDO INGRESO | G41: 3 | H41: =+(($R$4*P41)+($S$4*Q41))*G41 -> 1788049 | I41: 0.1 | J41: =+H41*I41 -> 178804.9 | K41: =+H41+J41 -> 1966853.9 | L41: =+K41*10% -> 196685.39 | M41: =+L41*19% -> 37370.224 | N41: =+K41+M41 -> 2004224.1 | P41: 13 | Q41: 11
B42: 29 | C42: SOCORRO | D42: PALACIO DE JUSTICIA- RONDA INTERNA | E42: 1 | F42: CON ARMA 12 HORAS DE DOMINGO A - DOMINGO RONDA INTERNA-EXTERNA (7:00 A.M. A 19:00 P.M.) | G42: 3 | H42: =+(($R$4*P42)+($S$4*Q42))*G42 -> 785476.17 | I42: 0.1 | J42: =+H42*I42 -> 78547.617 | K42: =+H42+J42 -> 864023.79 | L42: =+K42*10% -> 86402.379 | M42: =+L42*19% -> 16416.452 | N42: =+K42+M42 -> 880440.24 | P42: 12 | Q42: 0
B43: 30 | C43: SOCORRO | D43: SEDE NUEVA ARCHIVOS | E43: 1 | F43: CON ARMA 12 HORAS DIURNAS DE DOMINGO A DOMINGO | G43: 3 | H43: =+(($R$4*P43)+($S$4*Q43))*G43 -> 785476.17 | I43: 0.1 | J43: =+H43*I43 -> 78547.617 | K43: =+H43+J43 -> 864023.79 | L43: =+K43*10% -> 86402.379 | M43: =+L43*19% -> 16416.452 | N43: =+K43+M43 -> 880440.24 | P43: 12 | Q43: 0
B44: 31 | C44: VELEZ | D44: PALACIO DE JUSTICIA- CONTROL DE INGRESO | E44: 1 | F44: CON ARMA 24 HORAS DE DOMINGO A DOMINGO | G44: 3 | H44: =+(($R$4*P44)+($S$4*Q44))*G44 -> 1788049 | I44: 0.1 | J44: =+H44*I44 -> 178804.9 | K44: =+H44+J44 -> 1966853.9 | L44: =+K44*10% -> 196685.39 | M44: =+L44*19% -> 37370.224 | N44: =+K44+M44 -> 2004224.1 | P44: 13 | Q44: 11
B45: 32 | C45: CHARALA | D45: PALACIO DE JUSTICIA- CONTROL DE INGRESO | E45: 1 | F45: CON ARMA 24 HORAS DE DOMINGO A DOMINGO | G45: 3 | H45: =+(($R$4*P45)+($S$4*Q45))*G45 -> 1788049 | I45: 0.1 | J45: =+H45*I45 -> 178804.9 | K45: =+H45+J45 -> 1966853.9 | L45: =+K45*10% -> 196685.39 | M45: =+L45*19% -> 37370.224 | N45: =+K45+M45 -> 2004224.1 | P45: 13 | Q45: 11
...

Sheet De enero a mayo de 2027
P1: SMMLV | Q1: =+ROUND(((1750905*1.06)),0) -> 1855959
P2: FACTOR | Q2: 10.21 | R2: HORA DIA | S2: HORA NOCHE | T2: DIAS
P3: SEG VIDA | Q3: =1250*3 -> 3750 | R3: =+(Q4*0.4759)/13 -> 693828.94 | S3: =+(Q4*0.5241)/11 -> 903028.65
B4: COTIZACIÓN DEL 1 DE ENERO DE 2027 A 31 DE MAYO DE 2027 SUB - UNIDAD 221 (5 MESES DE SERVICIO) | P4: TOTAL | Q4: =+(Q1*Q2)+Q3 -> 18953091 | R4: =+R3/30 -> 23127.631 | S4: =+S3/30 -> 30100.955
A5: EMPRESA | B5: ITEM | C5: LOCALIDAD | D5: UBICACIÓN | E5: CANTIDAD | F5: DESCRIPCIÓN | G5: DIAS | H5: COSTO DIRECTO | I5: % AYS | J5: AYS | K5: SUBTOTAL | L5: BASE GRAVABLE | M5: IVA | N5: TOTAL | P5: HORAS DIURNAS | Q5: HORAS NOCTURNAS | R5: DIAS
A6: TECNISEG | B6: 1 | C6: BUCARAMANGA | D6: DIRECCION EJECUTIVA | E6: 1 | F6: SIN ARMA 12 HORAS DE LUNES A VIERNES SIN INCLUIR FESTIVOS CONTROLANDO INGRESO (7:00 A.M. A 19:00 P.M.) | G6: =+R6*5 -> 100 | H6: =+(($R$4*P6)+($S$4*Q6))*G6 -> 27753158 | I6: 0.08 | J6: =+H6*I6 -> 2220252.6 | K6: =+H6+J6 -> 29973410 | L6: =+K6*10% -> 2997341 | M6: =+L6*19% -> 569494.79 | N6: =+K6+M6 -> 30542905 | P6: 12 | Q6: 0 | R6: 20
B12: COTIZACIÓN DEL 1 DE ENERO DE 2027 A 31 DE MAYO DE 2027 SUB UNIDAD 821 (5 MESES DE SERVICIO)
B13: ITEM | C13: LOCALIDAD | D13: UBICACIÓN | E13: CANTIDAD | F13: DESCRIPCIÓN | G13: DIAS | H13: COSTO DIRECTO | I13: % AYS | J13: AYS | K13: SUBTOTAL | L13: BASE GRAVABLE | M13: IVA | N13: TOTAL
B14: 1 | C14: BUCARAMANGA | D14: PALACIO DE JUSTICIA - PUERTA PRINCIPAL - SERVIDORES JUDICIALES | E14: 1 | F14: CON ARMA 24 HORAS DE DOMINGO A DOMINGO | G14: =+R14*5 -> 150 | H14: =+(($R$4*P14)+($S$4*Q14))*G14 -> 94765457 | I14: 0.1 | J14: =+H14*I14 -> 9476545.7 | K14: =+H14+J14 -> 1.04242e+08 | L14: =+K14*10% -> 10424200 | M14: =+L14*19% -> 1980598.1 | N14: =+K14+M14 -> 1.062226e+08 | P14: 13 | Q14: 11 | R14: 30
B15: 2 | C15: BUCARAMANGA | D15: PALACIO DE JUSTICIA - CONTROL DE INGRESO -DIGITOS | E15: 1 | F15: CON ARMA 12 HORAS DE LUNES A VIERNES SIN INCLUIR FESTIVOS | G15: =+R15*5 -> 100 | H15: =+(($R$4*P15)+($S$4*Q15))*G15 -> 27753158 | I15: 0.1 | J15: =+H15*I15 -> 2775315.8 | K15: =+H15+J15 -> 30528473 | L15: =+K15*10% -> 3052847.3 | M15: =+L15*19% -> 580040.99 | N15: =+K15+M15 -> 31108514 | P15: 12 | Q15: 0 | R15: 20
B16: 3 | C16: BUCARAMANGA | D16: PALACIO DE JUSTICIA - TONEL SCANNER | E16: 1 | F16: SIN ARMA 8 HORAS DE LUNES A VIERNES SIN INCLUIR FESTIVOS | G16: =+R16*5 -> 100 | H16: =+(($R$4*P16)+($S$4*Q16))*G16 -> 18502105 | I16: 0.08 | J16: =+H16*I16 -> 1480168.4 | K16: =+H16+J16 -> 19982273 | L16: =+K16*10% -> 1998227.3 | M16: =+L16*19% -> 379663.19 | N16: =+K16+M16 -> 20361937 | P16: 8 | Q16: 0 | R16: 20
B17: 4 | C17: BUCARAMANGA | D17: PALACIO DE JUSTICIA - RONDA EXTERNA | E17: 1 | F17: CON ARMA (ESCOPETA CALIBRE 12 Y CHALECO ANTIBALAS) 24 HORAS DE DOMINGO A DOMINGO | G17: =+R17*5 -> 150 | H17: =+(($R$4*P17)+($S$4*Q17))*G17 -> 94765457 | I17: 0.1 | J17: =+H17*I17 -> 9476545.7 | K17: =+H17+J17 -> 1.04242e+08 | L17: =+K17*10% -> 10424200 | M17: =+L17*19% -> 1980598.1 | N17: =+K17+M17 -> 1.062226e+08 | P17: 13 | Q17: 11 | R17: 30
B18: 5 | C18: BUCARAMANGA | D18: PALACIO DE JUSTICIA - RONDA EXTERNA | E18: 1 | F18: CON ARMA (ESCOPETA CALIBRE 12 Y CHALECO ANTIBALAS) 24 HORAS DE DOMINGO A DOMINGO | G18: =+R18*5 -> 150 | H18: =+(($R$4*P18)+($S$4*Q18))*G18 -> 94765457 | I18: 0.1 | J18: =+H18*I18 -> 9476545.7 | K18: =+H18+J18 -> 1.04242e+08 | L18: =+K18*10% -> 10424200 | M18: =+L18*19% -> 1980598.1 | N18: =+K18+M18 -> 1.062226e+08 | P18: 13 | Q18: 11 | R18: 30
B19: 6 | C19: BUCARAMANGA | D19: SISTEMA PENAL ACUSATORIO SPA REJAS | E19: 1 | F19: CON ARMA 12 HORAS DE DOMINGO A - DOMINGO | G19: =+R19*5 -> 150 | H19: =+(($R$4*P19)+($S$4*Q19))*G19 -> 41629736 | I19: 0.1 | J19: =+H19*I19 -> 4162973.6 | K19: =+H19+J19 -> 45792710 | L19: =+K19*10% -> 4579271 | M19: =+L19*19% -> 870061.49 | N19: =+K19+M19 -> 46662771 | P19: 12 | Q19: 0 | R19: 30
B20: 7 | C20: BUCARAMANGA | D20: PALACIO JUSTICIA - CENTRO DE MONITOREO | E20: 1 | F20: SIN ARMA 24 HORAS DE DOMINGO A DOMINGO | G20: =+R20*5 -> 150 | H20: =+(($R$4*P20)+($S$4*Q20))*G20 -> 94765457 | I20: 0.08 | J20: =+H20*I20 -> 7581236.6 | K20: =+H20+J20 -> 1.0234669e+08 | L20: =+K20*10% -> 10234669 | M20: =+L20*19% -> 1944587.2 | N20: =+K20+M20 -> 1.0429128e+08 | P20: 13 | Q20: 11 | R20: 30
B21: 8 | C21: BUCARAMANGA | D21: PALACIO DE JUSTICIA - SISTEMA PENAL ACUSATORIA (PUERTA SPA) | E21: 1 | F21: CON ARMA 24 HORAS DE DOMINGO A DOMINGO | G21: =+R21*5 -> 150 | H21: =+(($R$4*P21)+($S$4*Q21))*G21 -> 94765457 | I21: 0.1 | J21: =+H21*I21 -> 9476545.7 | K21: =+H21+J21 -> 1.04242e+08 | L21: =+K21*10% -> 10424200 | M21: =+L21*19% -> 1980598.1 | N21: =+K21+M21 -> 1.062226e+08 | P21: 13 | Q21: 11 | R21: 30
B22: 9 | C22: BUCARAMANGA | D22: SISTEMA PENAL ACUSATORIO R.I | E22: 1 | F22: CON ARMA 12 HORAS DE DOMINGO A - DOMINGO | G22: =+R22*5 -> 150 | H22: =+(($R$4*P22)+($S$4*Q22))*G22 -> 41629736 | I22: 0.1 | J22: =+H22*I22 -> 4162973.6 | K22: =+H22+J22 -> 45792710 | L22: =+K22*10% -> 4579271 | M22: =+L22*19% -> 870061.49 | N22: =+K22+M22 -> 46662771 | P22: 12 | Q22: 0 | R22: 30
B23: 10 | C23: BUCARAMANGA | D23: PALACIO DE JUSTICIA - RONDA CANINO | E23: 1 | F23: CON CANINO RASTREADOR PARA DETECTAR EXPLOSIVOS MES 12 HORAS DIURNAS DE 6:00 A.M. A 18:00 PM DE DOMINGO A DOMINGO | G23: =+R23*5 -> 150 | H23: =+(($R$4*P23)+($S$4*Q23))*G23 -> 41629736 | I23: 0.11 | J23: =+H23*I23 -> 4579271 | K23: =+H23+J23 -> 46209007 | L23: =+K23*11% -> 5082990.8 | M23: =+L23*19% -> 965768.25 | N23: =+K23+M23 -> 47174776 | P23: 12 | Q23: 0 | R23: 30
B24: 11 | C24: BUCARAMANGA | D24: ESCUELA DE BOLIVAR - CASA ROJA | E24: 1 | F24: 11 HORAS CON ARMA NOCTURNAS DE DOMINGO A DOMINGO (19:00 PM A 6:00 AM) | G24: =+R24*5 -> 150 | H24: =+(($R$4*P24)+($S$4*Q24))*G24 -> 49666576 | I24: 0.1 | J24: =+H24*I24 -> 4966657.6 | K24: =+H24+J24 -> 54633234 | L24: =+K24*10% -> 5463323.4 | M24: =+L24*19% -> 1038031.4 | N24: =+K24+M24 -> 55671265 | P24: 0 | Q24: 11 | R24: 30
B25: 12 | C25: BUCARAMANGA | D25: SEDE JUZGADOS ADMINNISTRATIVOS (EDIIFICIO JOSE ACEVEDO Y GOMEZ) | E25: 1 | F25: CON ARMA 12 HORAS DE LUNES A VIERNES SIN INCLUIR FESTIVOS | G25: =+R25*5 -> 100 | H25: =+(($R$4*P25)+($S$4*Q25))*G25 -> 27753158 | I25: 0.1 | J25: =+H25*I25 -> 2775315.8 | K25: =+H25+J25 -> 30528473 | L25: =+K25*10% -> 3052847.3 | M25: =+L25*19% -> 580040.99 | N25: =+K25+M25 -> 31108514 | P25: 12 | Q25: 0 | R25: 20
B26: 13 | C26: BUCARAMANGA | D26: SEDE JUZGADOS VARIOS - CONTROL DE INGRESO (SEDE EL FRENTE) | E26: 1 | F26: CON ARMA 24 HORAS DE DOMINGO A DOMINGO | G26: =+R26*5 -> 150 | H26: =+(($R$4*P26)+($S$4*Q26))*G26 -> 94765457 | I26: 0.1 | J26: =+H26*I26 -> 9476545.7 | K26: =+H26+J26 -> 1.04242e+08 | L26: =+K26*10% -> 10424200 | M26: =+L26*19% -> 1980598.1 | N26: =+K26+M26 -> 1.062226e+08 | P26: 13 | Q26: 11 | R26: 30
B27: 14 | C27: BUCARAMANGA | D27: SEDE BODEGA DE ALMACEN- ARCHIVO E INVENTARIOS (CALLE 45 No. 14A-50) | E27: 1 | F27: CON ARMA 24 HORAS DE DOMINGO A DOMINGO | G27: =+R27*5 -> 150 | H27: =+(($R$4*P27)+($S$4*Q27))*G27 -> 94765457 | I27: 0.1 | J27: =+H27*I27 -> 9476545.7 | K27: =+H27+J27 -> 1.04242e+08 | L27: =+K27*10% -> 10424200 | M27: =+L27*19% -> 1980598.1 | N27: =+K27+M27 -> 1.062226e+08 | P27: 13 | Q27: 11 | R27: 30
B28: 15 | C28: BUCARAMANGA | D28: SEDE ARCHIVO DESPACHOS JUDICIALES (CARRERA 12 No.31-47 ARCHIVO) | E28: 1 | F28: CON ARMA 24 HORAS DE DOMINGO A DOMINGO | G28: =+R28*5 -> 150 | H28: =+(($R$4*P28)+($S$4*Q28))*G28 -> 94765457 | I28: 0.1 | J28: =+H28*I28 -> 9476545.7 | K28: =+H28+J28 -> 1.04242e+08 | L28: =+K28*10% -> 10424200 | M28: =+L28*19% -> 1980598.1 | N28: =+K28+M28 -> 1.062226e+08 | P28: 13 | Q28: 11 | R28: 30
B29: 16 | C29: FLORIDABLANCA | D29: SEDE SISTEMA PENAL ACUSATORIO (CARRERA 4-38) | E29: 1 | F29: CON ARMA 24 HORAS DE DOMINGO A DOMINGO | G29: =+R29*5 -> 150 | H29: =+(($R$4*P29)+($S$4*Q29))*G29 -> 94765457 | I29: 0.1 | J29: =+H29*I29 -> 9476545.7 | K29: =+H29+J29 -> 1.04242e+08 | L29: =+K29*10% -> 10424200 | M29: =+L29*19% -> 1980598.1 | N29: =+K29+M29 -> 1.062226e+08 | P29: 13 | Q29: 11 | R29: 30
B30: 17 | C30: FLORIDABLANCA | D30: SEDE JUZGADOS PROMISCUOS MUNICIPALES (CARRERA 10 No. 4-48 | E30: 1 | F30: CON ARMA 24 HORAS DE DOMINGO A DOMINGO | G30: =+R30*5 -> 150 | H30: =+(($R$4*P30)+($S$4*Q30))*G30 -> 94765457 | I30: 0.1 | J30: =+H30*I30 -> 9476545.7 | K30: =+H30+J30 -> 1.04242e+08 | L30: =+K30*10% -> 10424200 | M30: =+L30*19% -> 1980598.1 | N30: =+K30+M30 -> 1.062226e+08 | P30: 13 | Q30: 11 | R30: 30
B31: 18 | C31: GIRON | D31: SEDE JUZGADOS PROMISCUOS MUNICIPALES Y DE GARANTIAS (CARRERA 26 No. 31-36) | E31: 1 | F31: CON ARMA 24 HORAS DE DOMINGO A DOMINGO | G31: =+R31*5 -> 150 | H31: =+(($R$4*P31)+($S$4*Q31))*G31 -> 94765457 | I31: 0.1 | J31: =+H31*I31 -> 9476545.7 | K31: =+H31+J31 -> 1.04242e+08 | L31: =+K31*10% -> 10424200 | M31: =+L31*19% -> 1980598.1 | N31: =+K31+M31 -> 1.062226e+08 | P31: 13 | Q31: 11 | R31: 30
B32: 19 | C32: GIRON | D32: SEDE ARCHIVOS DESPACHOS JUDICIALES (CALLE 33 No. 26-48) | E32: 1 | F32: CON ARMA 24 HORAS DE DOMINGO A DOMINGO | G32: =+R32*5 -> 150 | H32: =+(($R$4*P32)+($S$4*Q32))*G32 -> 94765457 | I32: 0.1 | J32: =+H32*I32 -> 9476545.7 | K32: =+H32+J32 -> 1.04242e+08 | L32: =+K32*10% -> 10424200 | M32: =+L32*19% -> 1980598.1 | N32: =+K32+M32 -> 1.062226e+08 | P32: 13 | Q32: 11 | R32: 30
B33: 20 | C33: BARRANCABERMEJA | D33: PALACIO DE JUSTICIA BARRANCABERMEJA - CONTROL DE INGRESO | E33: 1 | F33: CON ARMA 24 HORAS DE DOMINGO A DOMINGO | G33: =+R33*5 -> 150 | H33: =+(($R$4*P33)+($S$4*Q33))*G33 -> 94765457 | I33: 0.1 | J33: =+H33*I33 -> 9476545.7 | K33: =+H33+J33 -> 1.04242e+08 | L33: =+K33*10% -> 10424200 | M33: =+L33*19% -> 1980598.1 | N33: =+K33+M33 -> 1.062226e+08 | P33: 13 | Q33: 11 | R33: 30
B34: 21 | C34: BARRANCABERMEJA | D34: PALACIO DE JUSTICIA (CALLE 50 CON CARRERA 9 Y 10) RONDA INTERNA | E34: 1 | F34: CON ARMA 24 HORAS DE DOMINGO A DOMINGO | G34: =+R34*5 -> 150 | H34: =+(($R$4*P34)+($S$4*Q34))*G34 -> 94765457 | I34: 0.1 | J34: =+H34*I34 -> 9476545.7 | K34: =+H34+J34 -> 1.04242e+08 | L34: =+K34*10% -> 10424200 | M34: =+L34*19% -> 1980598.1 | N34: =+K34+M34 -> 1.062226e+08 | P34: 13 | Q34: 11 | R34: 30
B35: 22 | C35: BARRANCABERMEJA | D35: PALACIO DE JUSTICIA (CALLE 50 CON CARRERA 9 Y 10) (RONDA) | E35: 1 | F35: CON CANINO RASTREADOR PARA DETECTAR EXPLOSIVOS MES 12 HORAS DIURNAS DE 6:00 A.M. A 18:00 PM DE DOMINGO A DOMINGO | G35: =+R35*5 -> 150 | H35: =+(($R$4*P35)+($S$4*Q35))*G35 -> 41629736 | I35: 0.11 | J35: =+H35*I35 -> 4579271 | K35: =+H35+J35 -> 46209007 | L35: =+K35*11% -> 5082990.8 | M35: =+L35*19% -> 965768.25 | N35: =+K35+M35 -> 47174776 | P35: 12 | Q35: 0 | R35: 30
B36: 23 | C36: BARRANCABERMEJA | D36: SEDE NUEVA ARCHIVOS | E36: 1 | F36: CON ARMA 12 HORAS DE DOMINGO A - DOMINGO RONDA INTERNA-EXTERNA (7:00 A.M. A 19:00 P.M.) | G36: =+R36*5 -> 150 | H36: =+(($R$4*P36)+($S$4*Q36))*G36 -> 41629736 | I36: 0.1 | J36: =+H36*I36 -> 4162973.6 | K36: =+H36+J36 -> 45792710 | L36: =+K36*10% -> 4579271 | M36: =+L36*19% -> 870061.49 | N36: =+K36+M36 -> 46662771 | P36: 12 | Q36: 0 | R36: 30
B37: 24 | C37: SAN GIL | D37: PALACIO DE JUSTICIA (CARRERA 10 CALLE 9 Y 10) CONTROL DE INGRESO | E37: 1 | F37: CON ARMA 24 HORAS DE DOMINGO A DOMINGO | G37: =+R37*5 -> 150 | H37: =+(($R$4*P37)+($S$4*Q37))*G37 -> 94765457 | I37: 0.1 | J37: =+H37*I37 -> 9476545.7 | K37: =+H37+J37 -> 1.04242e+08 | L37: =+K37*10% -> 10424200 | M37: =+L37*19% -> 1980598.1 | N37: =+K37+M37 -> 1.062226e+08 | P37: 13 | Q37: 11 | R37: 30
B38: 25 | C38: SAN GIL | D38: PALACIO DE JUSTICIA (CARRERA 10 CALLE 9 Y 10) SOTWARE - DIGITOS usuarios | E38: 1 | F38: SIN ARMA 8 HORAS DIURNAS DE LUNES A VIERNES SIN INCLUIR FESTIVOS | G38: =+R38*5 -> 100 | H38: =+(($R$4*P38)+($S$4*Q38))*G38 -> 18502105 | I38: 0.08 | J38: =+H38*I38 -> 1480168.4 | K38: =+H38+J38 -> 19982273 | L38: =+K38*10% -> 1998227.3 | M38: =+L38*19% -> 379663.19 | N38: =+K38+M38 -> 20361937 | P38: 8 | Q38: 0 | R38: 20
B39: 26 | C39: SAN GIL | D39: PALACIO DE JUSTICIA (CARRERA 10 CALLE 9 Y 10) RONDA EXTERNA/ INTERNA / ARCHIVO | E39: 1 | F39: CON ARMA 24 HORAS DE DOMINGO A DOMINGO | G39: =+R39*5 -> 150 | H39: =+(($R$4*P39)+($S$4*Q39))*G39 -> 94765457 | I39: 0.1 | J39: =+H39*I39 -> 9476545.7 | K39: =+H39+J39 -> 1.04242e+08 | L39: =+K39*10% -> 10424200 | M39: =+L39*19% -> 1980598.1 | N39: =+K39+M39 -> 1.062226e+08 | P39: 13 | Q39: 11 | R39: 30
B40: 27 | C40: SAN GIL | D40: PALACIO DE JUSTICIA (CARRERA 10 CALLE 9 Y 10) CANINO RASTREADOR | E40: 1 | F40: CON CANINO RASTREADOR PARA DETECTAR EXPLOSIVOS MES 12 HORAS DIURNAS DE 6:00 A.M. A 18:00 PM DE DOMINGO A DOMINGO | G40: =+R40*5 -> 150 | H40: =+(($R$4*P40)+($S$4*Q40))*G40 -> 41629736 | I40: 0.11 | J40: =+H40*I40 -> 4579271 | K40: =+H40+J40 -> 46209007 | L40: =+K40*11% -> 5082990.8 | M40: =+L40*19% -> 965768.25 | N40: =+K40+M40 -> 47174776 | P40: 12 | Q40: 0 | R40: 30
B41: 28 | C41: SOCORRO | D41: PALACIO DE JUSTICIA- CONTROL DE INGRESO | E41: 1 | F41: CON ARMA 24 HORAS DE DOMINGO A DOMINGO CONTROLANDO INGRESO | G41: =+R41*5 -> 150 | H41: =+(($R$4*P41)+($S$4*Q41))*G41 -> 94765457 | I41: 0.1 | J41: =+H41*I41 -> 9476545.7 | K41: =+H41+J41 -> 1.04242e+08 | L41: =+K41*10% -> 10424200 | M41: =+L41*19% -> 1980598.1 | N41: =+K41+M41 -> 1.062226e+08 | P41: 13 | Q41: 11 | R41: 30
B42: 29 | C42: SOCORRO | D42: PALACIO DE JUSTICIA- RONDA INTERNA | E42: 1 | F42: CON ARMA 12 HORAS DE DOMINGO A - DOMINGO RONDA INTERNA-EXTERNA (7:00 A.M. A 19:00 P.M.) | G42: =+R42*5 -> 150 | H42: =+(($R$4*P42)+($S$4*Q42))*G42 -> 41629736 | I42: 0.1 | J42: =+H42*I42 -> 4162973.6 | K42: =+H42+J42 -> 45792710 | L42: =+K42*10% -> 4579271 | M42: =+L42*19% -> 870061.49 | N42: =+K42+M42 -> 46662771 | P42: 12 | Q42: 0 | R42: 30
B43: 30 | C43: SOCORRO | D43: SEDE NUEVA ARCHIVOS | E43: 1 | F43: CON ARMA 12 HORAS DIURNAS DE DOMINGO A DOMINGO | G43: =+R43*5 -> 150 | H43: =+(($R$4*P43)+($S$4*Q43))*G43 -> 41629736 | I43: 0.1 | J43: =+H43*I43 -> 4162973.6 | K43: =+H43+J43 -> 45792710 | L43: =+K43*10% -> 4579271 | M43: =+L43*19% -> 870061.49 | N43: =+K43+M43 -> 46662771 | P43: 12 | Q43: 0 | R43: 30
B44: 31 | C44: VELEZ | D44: PALACIO DE JUSTICIA- CONTROL DE INGRESO | E44: 1 | F44: CON ARMA 24 HORAS DE DOMINGO A DOMINGO | G44: =+R44*5 -> 150 | H44: =+(($R$4*P44)+($S$4*Q44))*G44 -> 94765457 | I44: 0.1 | J44: =+H44*I44 -> 9476545.7 | K44: =+H44+J44 -> 1.04242e+08 | L44: =+K44*10% -> 10424200 | M44: =+L44*19% -> 1980598.1 | N44: =+K44+M44 -> 1.062226e+08 | P44: 13 | Q44: 11 | R44: 30
B45: 32 | C45: CHARALA | D45: PALACIO DE JUSTICIA- CONTROL DE INGRESO | E45: 1 | F45: CON ARMA 24 HORAS DE DOMINGO A DOMINGO | G45: =+R45*5 -> 150 | H45: =+(($R$4*P45)+($S$4*Q45))*G45 -> 94765457 | I45: 0.1 | J45: =+H45*I45 -> 9476545.7 | K45: =+H45+J45 -> 1.04242e+08 | L45: =+K45*10% -> 10424200 | M45: =+L45*19% -> 1980598.1 | N45: =+K45+M45 -> 1.062226e+08 | P45: 13 | Q45: 11 | R45: 30
...

Sheet 1 al 28 de junio 2027
P1: SMMLV | Q1: =+ROUND(((1750905*1.06)),0) -> 1855959
P2: FACTOR | Q2: 10.21 | R2: HORA DIA | S2: HORA NOCHE | T2: DIAS
P3: SEG VIDA | Q3: =1250*3 -> 3750 | R3: =+(Q4*0.4759)/13 -> 693828.94 | S3: =+(Q4*0.5241)/11 -> 903028.65
B4: COTIZACIÓN DEL 1 AL 28 DE JUNIO DE 2027 SUB - UNIDAD 221 | P4: TOTAL | Q4: =+(Q1*Q2)+Q3 -> 18953091 | R4: =+R3/30 -> 23127.631 | S4: =+S3/30 -> 30100.955
A5: EMPRESA | B5: ITEM | C5: LOCALIDAD | D5: UBICACIÓN | E5: CANTIDAD | F5: DESCRIPCIÓN | G5: DIAS | H5: COSTO DIRECTO | I5: % AYS | J5: AYS | K5: SUBTOTAL | L5: BASE GRAVABLE | M5: IVA | N5: TOTAL | P5: HORAS DIURNAS | Q5: HORAS NOCTURNAS | R5: DIAS
A6: TECNISEG | B6: 1 | C6: BUCARAMANGA | D6: DIRECCION EJECUTIVA | E6: 1 | F6: SIN ARMA 12 HORAS DE LUNES A VIERNES SIN INCLUIR FESTIVOS CONTROLANDO INGRESO (7:00 A.M. A 19:00 P.M.) | G6: =+R6 -> 19 | H6: =+(($R$4*P6)+($S$4*Q6))*G6 -> 5273099.9 | I6: 0.08 | J6: =+H6*I6 -> 421847.99 | K6: =+H6+J6 -> 5694947.9 | L6: =+K6*10% -> 569494.79 | M6: =+L6*19% -> 108204.01 | N6: =+K6+M6 -> 5803151.9 | P6: 12 | Q6: 0 | R6: 19
B12: COTIZACIÓN DEL 1 AL 28 DE JUNIO DE 2027 SUB UNIDAD 821
B13: ITEM | C13: LOCALIDAD | D13: UBICACIÓN | E13: CANTIDAD | F13: DESCRIPCIÓN | G13: DIAS | H13: COSTO DIRECTO | I13: % AYS | J13: AYS | K13: SUBTOTAL | L13: BASE GRAVABLE | M13: IVA | N13: TOTAL
B14: 1 | C14: BUCARAMANGA | D14: PALACIO DE JUSTICIA - PUERTA PRINCIPAL - SERVIDORES JUDICIALES | E14: 1 | F14: CON ARMA 24 HORAS DE DOMINGO A DOMINGO | G14: =+R14 -> 28 | H14: =+(($R$4*P14)+($S$4*Q14))*G14 -> 17689552 | I14: 0.1 | J14: =+H14*I14 -> 1768955.2 | K14: =+H14+J14 -> 19458507 | L14: =+K14*10% -> 1945850.7 | M14: =+L14*19% -> 369711.64 | N14: =+K14+M14 -> 19828219 | P14: 13 | Q14: 11 | R14: 28
B15: 2 | C15: BUCARAMANGA | D15: PALACIO DE JUSTICIA - CONTROL DE INGRESO -DIGITOS | E15: 1 | F15: CON ARMA 12 HORAS DE LUNES A VIERNES SIN INCLUIR FESTIVOS | G15: =+R15 -> 19 | H15: =+(($R$4*P15)+($S$4*Q15))*G15 -> 5273099.9 | I15: 0.1 | J15: =+H15*I15 -> 527309.99 | K15: =+H15+J15 -> 5800409.9 | L15: =+K15*10% -> 580040.99 | M15: =+L15*19% -> 110207.79 | N15: =+K15+M15 -> 5910617.7 | P15: 12 | Q15: 0 | R15: =+R6 -> 19
B16: 3 | C16: BUCARAMANGA | D16: PALACIO DE JUSTICIA - TONEL SCANNER | E16: 1 | F16: SIN ARMA 8 HORAS DE LUNES A VIERNES SIN INCLUIR FESTIVOS | G16: =+R16 -> 19 | H16: =+(($R$4*P16)+($S$4*Q16))*G16 -> 3515400 | I16: 0.08 | J16: =+H16*I16 -> 281232 | K16: =+H16+J16 -> 3796631.9 | L16: =+K16*10% -> 379663.19 | M16: =+L16*19% -> 72136.007 | N16: =+K16+M16 -> 3868768 | P16: 8 | Q16: 0 | R16: =+R15 -> 19
B17: 4 | C17: BUCARAMANGA | D17: PALACIO DE JUSTICIA - RONDA EXTERNA | E17: 1 | F17: CON ARMA (ESCOPETA CALIBRE 12 Y CHALECO ANTIBALAS) 24 HORAS DE DOMINGO A DOMINGO | G17: =+R17 -> 28 | H17: =+(($R$4*P17)+($S$4*Q17))*G17 -> 17689552 | I17: 0.1 | J17: =+H17*I17 -> 1768955.2 | K17: =+H17+J17 -> 19458507 | L17: =+K17*10% -> 1945850.7 | M17: =+L17*19% -> 369711.64 | N17: =+K17+M17 -> 19828219 | P17: 13 | Q17: 11 | R17: =+$R$14 -> 28
B18: 5 | C18: BUCARAMANGA | D18: PALACIO DE JUSTICIA - RONDA EXTERNA | E18: 1 | F18: CON ARMA (ESCOPETA CALIBRE 12 Y CHALECO ANTIBALAS) 24 HORAS DE DOMINGO A DOMINGO | G18: =+R18 -> 28 | H18: =+(($R$4*P18)+($S$4*Q18))*G18 -> 17689552 | I18: 0.1 | J18: =+H18*I18 -> 1768955.2 | K18: =+H18+J18 -> 19458507 | L18: =+K18*10% -> 1945850.7 | M18: =+L18*19% -> 369711.64 | N18: =+K18+M18 -> 19828219 | P18: 13 | Q18: 11 | R18: =+$R$14 -> 28
B19: 6 | C19: BUCARAMANGA | D19: SISTEMA PENAL ACUSATORIO SPA REJAS | E19: 1 | F19: CON ARMA 12 HORAS DE DOMINGO A - DOMINGO | G19: =+R19 -> 28 | H19: =+(($R$4*P19)+($S$4*Q19))*G19 -> 7770884.1 | I19: 0.1 | J19: =+H19*I19 -> 777088.41 | K19: =+H19+J19 -> 8547972.5 | L19: =+K19*10% -> 854797.25 | M19: =+L19*19% -> 162411.48 | N19: =+K19+M19 -> 8710384 | P19: 12 | Q19: 0 | R19: =+$R$14 -> 28
B20: 7 | C20: BUCARAMANGA | D20: PALACIO JUSTICIA - CENTRO DE MONITOREO | E20: 1 | F20: SIN ARMA 24 HORAS DE DOMINGO A DOMINGO | G20: =+R20 -> 28 | H20: =+(($R$4*P20)+($S$4*Q20))*G20 -> 17689552 | I20: 0.08 | J20: =+H20*I20 -> 1415164.2 | K20: =+H20+J20 -> 19104716 | L20: =+K20*10% -> 1910471.6 | M20: =+L20*19% -> 362989.61 | N20: =+K20+M20 -> 19467706 | P20: 13 | Q20: 11 | R20: =+$R$14 -> 28
B21: 8 | C21: BUCARAMANGA | D21: PALACIO DE JUSTICIA - SISTEMA PENAL ACUSATORIA (PUERTA SPA) | E21: 1 | F21: CON ARMA 24 HORAS DE DOMINGO A DOMINGO | G21: =+R21 -> 28 | H21: =+(($R$4*P21)+($S$4*Q21))*G21 -> 17689552 | I21: 0.1 | J21: =+H21*I21 -> 1768955.2 | K21: =+H21+J21 -> 19458507 | L21: =+K21*10% -> 1945850.7 | M21: =+L21*19% -> 369711.64 | N21: =+K21+M21 -> 19828219 | P21: 13 | Q21: 11 | R21: =+$R$14 -> 28
B22: 9 | C22: BUCARAMANGA | D22: SISTEMA PENAL ACUSATORIO R.I | E22: 1 | F22: CON ARMA 12 HORAS DE DOMINGO A - DOMINGO | G22: =+R22 -> 28 | H22: =+(($R$4*P22)+($S$4*Q22))*G22 -> 7770884.1 | I22: 0.1 | J22: =+H22*I22 -> 777088.41 | K22: =+H22+J22 -> 8547972.5 | L22: =+K22*10% -> 854797.25 | M22: =+L22*19% -> 162411.48 | N22: =+K22+M22 -> 8710384 | P22: 12 | Q22: 0 | R22: =+$R$14 -> 28
B23: 10 | C23: BUCARAMANGA | D23: PALACIO DE JUSTICIA - RONDA CANINO | E23: 1 | F23: CON CANINO RASTREADOR PARA DETECTAR EXPLOSIVOS MES 12 HORAS DIURNAS DE 6:00 A.M. A 18:00 PM DE DOMINGO A DOMINGO | G23: =+R23 -> 28 | H23: =+(($R$4*P23)+($S$4*Q23))*G23 -> 7770884.1 | I23: 0.11 | J23: =+H23*I23 -> 854797.25 | K23: =+H23+J23 -> 8625681.4 | L23: =+K23*11% -> 948824.95 | M23: =+L23*19% -> 180276.74 | N23: =+K23+M23 -> 8805958.1 | P23: 12 | Q23: 0 | R23: =+$R$14 -> 28
B24: 11 | C24: BUCARAMANGA | D24: ESCUELA DE BOLIVAR - CASA ROJA | E24: 1 | F24: 11 HORAS CON ARMA NOCTURNAS DE DOMINGO A DOMINGO (19:00 PM A 6:00 AM) | G24: =+R24 -> 28 | H24: =+(($R$4*P24)+($S$4*Q24))*G24 -> 9271094.2 | I24: 0.1 | J24: =+H24*I24 -> 927109.42 | K24: =+H24+J24 -> 10198204 | L24: =+K24*10% -> 1019820.4 | M24: =+L24*19% -> 193765.87 | N24: =+K24+M24 -> 10391969 | P24: 0 | Q24: 11 | R24: =+$R$14 -> 28
B25: 12 | C25: BUCARAMANGA | D25: SEDE JUZGADOS ADMINNISTRATIVOS (EDIIFICIO JOSE ACEVEDO Y GOMEZ) | E25: 1 | F25: CON ARMA 12 HORAS DE LUNES A VIERNES SIN INCLUIR FESTIVOS | G25: =+R25 -> 19 | H25: =+(($R$4*P25)+($S$4*Q25))*G25 -> 5273099.9 | I25: 0.1 | J25: =+H25*I25 -> 527309.99 | K25: =+H25+J25 -> 5800409.9 | L25: =+K25*10% -> 580040.99 | M25: =+L25*19% -> 110207.79 | N25: =+K25+M25 -> 5910617.7 | P25: 12 | Q25: 0 | R25: =+R15 -> 19
B26: 13 | C26: BUCARAMANGA | D26: SEDE JUZGADOS VARIOS - CONTROL DE INGRESO (SEDE EL FRENTE) | E26: 1 | F26: CON ARMA 24 HORAS DE DOMINGO A DOMINGO | G26: =+R26 -> 28 | H26: =+(($R$4*P26)+($S$4*Q26))*G26 -> 17689552 | I26: 0.1 | J26: =+H26*I26 -> 1768955.2 | K26: =+H26+J26 -> 19458507 | L26: =+K26*10% -> 1945850.7 | M26: =+L26*19% -> 369711.64 | N26: =+K26+M26 -> 19828219 | P26: 13 | Q26: 11 | R26: =+$R$14 -> 28
B27: 14 | C27: BUCARAMANGA | D27: SEDE BODEGA DE ALMACEN- ARCHIVO E INVENTARIOS (CALLE 45 No. 14A-50) | E27: 1 | F27: CON ARMA 24 HORAS DE DOMINGO A DOMINGO | G27: =+R27 -> 28 | H27: =+(($R$4*P27)+($S$4*Q27))*G27 -> 17689552 | I27: 0.1 | J27: =+H27*I27 -> 1768955.2 | K27: =+H27+J27 -> 19458507 | L27: =+K27*10% -> 1945850.7 | M27: =+L27*19% -> 369711.64 | N27: =+K27+M27 -> 19828219 | P27: 13 | Q27: 11 | R27: =+$R$14 -> 28
B28: 15 | C28: BUCARAMANGA | D28: SEDE ARCHIVO DESPACHOS JUDICIALES (CARRERA 12 No.31-47 ARCHIVO) | E28: 1 | F28: CON ARMA 24 HORAS DE DOMINGO A DOMINGO | G28: =+R28 -> 28 | H28: =+(($R$4*P28)+($S$4*Q28))*G28 -> 17689552 | I28: 0.1 | J28: =+H28*I28 -> 1768955.2 | K28: =+H28+J28 -> 19458507 | L28: =+K28*10% -> 1945850.7 | M28: =+L28*19% -> 369711.64 | N28: =+K28+M28 -> 19828219 | P28: 13 | Q28: 11 | R28: =+$R$14 -> 28
B29: 16 | C29: FLORIDABLANCA | D29: SEDE SISTEMA PENAL ACUSATORIO (CARRERA 4-38) | E29: 1 | F29: CON ARMA 24 HORAS DE DOMINGO A DOMINGO | G29: =+R29 -> 28 | H29: =+(($R$4*P29)+($S$4*Q29))*G29 -> 17689552 | I29: 0.1 | J29: =+H29*I29 -> 1768955.2 | K29: =+H29+J29 -> 19458507 | L29: =+K29*10% -> 1945850.7 | M29: =+L29*19% -> 369711.64 | N29: =+K29+M29 -> 19828219 | P29: 13 | Q29: 11 | R29: =+$R$14 -> 28
B30: 17 | C30: FLORIDABLANCA | D30: SEDE JUZGADOS PROMISCUOS MUNICIPALES (CARRERA 10 No. 4-48 | E30: 1 | F30: CON ARMA 24 HORAS DE DOMINGO A DOMINGO | G30: =+R30 -> 28 | H30: =+(($R$4*P30)+($S$4*Q30))*G30 -> 17689552 | I30: 0.1 | J30: =+H30*I30 -> 1768955.2 | K30: =+H30+J30 -> 19458507 | L30: =+K30*10% -> 1945850.7 | M30: =+L30*19% -> 369711.64 | N30: =+K30+M30 -> 19828219 | P30: 13 | Q30: 11 | R30: =+$R$14 -> 28
B31: 18 | C31: GIRON | D31: SEDE JUZGADOS PROMISCUOS MUNICIPALES Y DE GARANTIAS (CARRERA 26 No. 31-36) | E31: 1 | F31: CON ARMA 24 HORAS DE DOMINGO A DOMINGO | G31: =+R31 -> 28 | H31: =+(($R$4*P31)+($S$4*Q31))*G31 -> 17689552 | I31: 0.1 | J31: =+H31*I31 -> 1768955.2 | K31: =+H31+J31 -> 19458507 | L31: =+K31*10% -> 1945850.7 | M31: =+L31*19% -> 369711.64 | N31: =+K31+M31 -> 19828219 | P31: 13 | Q31: 11 | R31: =+$R$14 -> 28
B32: 19 | C32: GIRON | D32: SEDE ARCHIVOS DESPACHOS JUDICIALES (CALLE 33 No. 26-48) | E32: 1 | F32: CON ARMA 24 HORAS DE DOMINGO A DOMINGO | G32: =+R32 -> 28 | H32: =+(($R$4*P32)+($S$4*Q32))*G32 -> 17689552 | I32: 0.1 | J32: =+H32*I32 -> 1768955.2 | K32: =+H32+J32 -> 19458507 | L32: =+K32*10% -> 1945850.7 | M32: =+L32*19% -> 369711.64 | N32: =+K32+M32 -> 19828219 | P32: 13 | Q32: 11 | R32: =+$R$14 -> 28
B33: 20 | C33: BARRANCABERMEJA | D33: PALACIO DE JUSTICIA BARRANCABERMEJA - CONTROL DE INGRESO | E33: 1 | F33: CON ARMA 24 HORAS DE DOMINGO A DOMINGO | G33: =+R33 -> 28 | H33: =+(($R$4*P33)+($S$4*Q33))*G33 -> 17689552 | I33: 0.1 | J33: =+H33*I33 -> 1768955.2 | K33: =+H33+J33 -> 19458507 | L33: =+K33*10% -> 1945850.7 | M33: =+L33*19% -> 369711.64 | N33: =+K33+M33 -> 19828219 | P33: 13 | Q33: 11 | R33: =+$R$14 -> 28
B34: 21 | C34: BARRANCABERMEJA | D34: PALACIO DE JUSTICIA (CALLE 50 CON CARRERA 9 Y 10) RONDA INTERNA | E34: 1 | F34: CON ARMA 24 HORAS DE DOMINGO A DOMINGO | G34: =+R34 -> 28 | H34: =+(($R$4*P34)+($S$4*Q34))*G34 -> 17689552 | I34: 0.1 | J34: =+H34*I34 -> 1768955.2 | K34: =+H34+J34 -> 19458507 | L34: =+K34*10% -> 1945850.7 | M34: =+L34*19% -> 369711.64 | N34: =+K34+M34 -> 19828219 | P34: 13 | Q34: 11 | R34: =+$R$14 -> 28
B35: 22 | C35: BARRANCABERMEJA | D35: PALACIO DE JUSTICIA (CALLE 50 CON CARRERA 9 Y 10) (RONDA) | E35: 1 | F35: CON CANINO RASTREADOR PARA DETECTAR EXPLOSIVOS MES 12 HORAS DIURNAS DE 6:00 A.M. A 18:00 PM DE DOMINGO A DOMINGO | G35: =+R35 -> 28 | H35: =+(($R$4*P35)+($S$4*Q35))*G35 -> 7770884.1 | I35: 0.11 | J35: =+H35*I35 -> 854797.25 | K35: =+H35+J35 -> 8625681.4 | L35: =+K35*11% -> 948824.95 | M35: =+L35*19% -> 180276.74 | N35: =+K35+M35 -> 8805958.1 | P35: 12 | Q35: 0 | R35: =+$R$14 -> 28
B36: 23 | C36: BARRANCABERMEJA | D36: SEDE NUEVA ARCHIVOS | E36: 1 | F36: CON ARMA 12 HORAS DE DOMINGO A - DOMINGO RONDA INTERNA-EXTERNA (7:00 A.M. A 19:00 P.M.) | G36: =+R36 -> 28 | H36: =+(($R$4*P36)+($S$4*Q36))*G36 -> 7770884.1 | I36: 0.1 | J36: =+H36*I36 -> 777088.41 | K36: =+H36+J36 -> 8547972.5 | L36: =+K36*10% -> 854797.25 | M36: =+L36*19% -> 162411.48 | N36: =+K36+M36 -> 8710384 | P36: 12 | Q36: 0 | R36: =+$R$14 -> 28
B37: 24 | C37: SAN GIL | D37: PALACIO DE JUSTICIA (CARRERA 10 CALLE 9 Y 10) CONTROL DE INGRESO | E37: 1 | F37: CON ARMA 24 HORAS DE DOMINGO A DOMINGO | G37: =+R37 -> 28 | H37: =+(($R$4*P37)+($S$4*Q37))*G37 -> 17689552 | I37: 0.1 | J37: =+H37*I37 -> 1768955.2 | K37: =+H37+J37 -> 19458507 | L37: =+K37*10% -> 1945850.7 | M37: =+L37*19% -> 369711.64 | N37: =+K37+M37 -> 19828219 | P37: 13 | Q37: 11 | R37: =+$R$14 -> 28
B38: 25 | C38: SAN GIL | D38: PALACIO DE JUSTICIA (CARRERA 10 CALLE 9 Y 10) SOTWARE - DIGITOS usuarios | E38: 1 | F38: SIN ARMA 8 HORAS DIURNAS DE LUNES A VIERNES SIN INCLUIR FESTIVOS | G38: =+R38 -> 19 | H38: =+(($R$4*P38)+($S$4*Q38))*G38 -> 3515400 | I38: 0.08 | J38: =+H38*I38 -> 281232 | K38: =+H38+J38 -> 3796631.9 | L38: =+K38*10% -> 379663.19 | M38: =+L38*19% -> 72136.007 | N38: =+K38+M38 -> 3868768 | P38: 8 | Q38: 0 | R38: =+R15 -> 19
B39: 26 | C39: SAN GIL | D39: PALACIO DE JUSTICIA (CARRERA 10 CALLE 9 Y 10) RONDA EXTERNA/ INTERNA / ARCHIVO | E39: 1 | F39: CON ARMA 24 HORAS DE DOMINGO A DOMINGO | G39: =+R39 -> 28 | H39: =+(($R$4*P39)+($S$4*Q39))*G39 -> 17689552 | I39: 0.1 | J39: =+H39*I39 -> 1768955.2 | K39: =+H39+J39 -> 19458507 | L39: =+K39*10% -> 1945850.7 | M39: =+L39*19% -> 369711.64 | N39: =+K39+M39 -> 19828219 | P39: 13 | Q39: 11 | R39: =+$R$14 -> 28
B40: 27 | C40: SAN GIL | D40: PALACIO DE JUSTICIA (CARRERA 10 CALLE 9 Y 10) CANINO RASTREADOR | E40: 1 | F40: CON CANINO RASTREADOR PARA DETECTAR EXPLOSIVOS MES 12 HORAS DIURNAS DE 6:00 A.M. A 18:00 PM DE DOMINGO A DOMINGO | G40: =+R40 -> 28 | H40: =+(($R$4*P40)+($S$4*Q40))*G40 -> 7770884.1 | I40: 0.11 | J40: =+H40*I40 -> 854797.25 | K40: =+H40+J40 -> 8625681.4 | L40: =+K40*11% -> 948824.95 | M40: =+L40*19% -> 180276.74 | N40: =+K40+M40 -> 8805958.1 | P40: 12 | Q40: 0 | R40: =+$R$14 -> 28
B41: 28 | C41: SOCORRO | D41: PALACIO DE JUSTICIA- CONTROL DE INGRESO | E41: 1 | F41: CON ARMA 24 HORAS DE DOMINGO A DOMINGO CONTROLANDO INGRESO | G41: =+R41 -> 28 | H41: =+(($R$4*P41)+($S$4*Q41))*G41 -> 17689552 | I41: 0.1 | J41: =+H41*I41 -> 1768955.2 | K41: =+H41+J41 -> 19458507 | L41: =+K41*10% -> 1945850.7 | M41: =+L41*19% -> 369711.64 | N41: =+K41+M41 -> 19828219 | P41: 13 | Q41: 11 | R41: =+$R$14 -> 28
B42: 29 | C42: SOCORRO | D42: PALACIO DE JUSTICIA- RONDA INTERNA | E42: 1 | F42: CON ARMA 12 HORAS DE DOMINGO A - DOMINGO RONDA INTERNA-EXTERNA (7:00 A.M. A 19:00 P.M.) | G42: =+R42 -> 28 | H42: =+(($R$4*P42)+($S$4*Q42))*G42 -> 7770884.1 | I42: 0.1 | J42: =+H42*I42 -> 777088.41 | K42: =+H42+J42 -> 8547972.5 | L42: =+K42*10% -> 854797.25 | M42: =+L42*19% -> 162411.48 | N42: =+K42+M42 -> 8710384 | P42: 12 | Q42: 0 | R42: =+$R$14 -> 28
B43: 30 | C43: SOCORRO | D43: SEDE NUEVA ARCHIVOS | E43: 1 | F43: CON ARMA 12 HORAS DIURNAS DE DOMINGO A DOMINGO | G43: =+R43 -> 28 | H43: =+(($R$4*P43)+($S$4*Q43))*G43 -> 7770884.1 | I43: 0.1 | J43: =+H43*I43 -> 777088.41 | K43: =+H43+J43 -> 8547972.5 | L43: =+K43*10% -> 854797.25 | M43: =+L43*19% -> 162411.48 | N43: =+K43+M43 -> 8710384 | P43: 12 | Q43: 0 | R43: =+$R$14 -> 28
B44: 31 | C44: VELEZ | D44: PALACIO DE JUSTICIA- CONTROL DE INGRESO | E44: 1 | F44: CON ARMA 24 HORAS DE DOMINGO A DOMINGO | G44: =+R44 -> 28 | H44: =+(($R$4*P44)+($S$4*Q44))*G44 -> 17689552 | I44: 0.1 | J44: =+H44*I44 -> 1768955.2 | K44: =+H44+J44 -> 19458507 | L44: =+K44*10% -> 1945850.7 | M44: =+L44*19% -> 369711.64 | N44: =+K44+M44 -> 19828219 | P44: 13 | Q44: 11 | R44: =+$R$14 -> 28
B45: 32 | C45: CHARALA | D45: PALACIO DE JUSTICIA- CONTROL DE INGRESO | E45: 1 | F45: CON ARMA 24 HORAS DE DOMINGO A DOMINGO | G45: =+R45 -> 28 | H45: =+(($R$4*P45)+($S$4*Q45))*G45 -> 17689552 | I45: 0.1 | J45: =+H45*I45 -> 1768955.2 | K45: =+H45+J45 -> 19458507 | L45: =+K45*10% -> 1945850.7 | M45: =+L45*19% -> 369711.64 | N45: =+K45+M45 -> 19828219 | P45: 13 | Q45: 11 | R45: =+$R$14 -> 28
...
