Workbook

Sheet CHEVROLET
B1: Anexo No. 4 Oferta Económica MANTENIMEINTO VEHICULOS MANO DE OBRA Y REPUESTOS | C1: CANTIDAD | D1: COTIZACION CAMPESA SA | F1: COTIZACION TODO REPUESTOS | H1: PROMEDIO
A3: AUTOMOVIL AVEO
A4: AVEO EMOTION Y GT
A5: 2010 A 2012
A6: 1600 C.C.
A7: CHEVROLET | D7: Valor Repuesto Sin IVA | E7: Valor M.O. Sin IVA | F7: Valor Repuesto Sin IVA | G7: Valor M.O. Sin IVA | H7: Valor Repuesto Sin IVA | I7: Valor M.O. Sin IVA
A9: ítem | B9: SISTEMA DE FRENOS
A10: 1 | B10: Revisión general de frenos: M.O (graduación general de freno de mano y las bandas, limpieza sistema ABS cuando aplique). Sin Repuestos | C10: 1 | D10: 82600 | E10: 295000 | F10: 78000 | G10: 278000 | H10: =(D10+F10)/2 -> 80300 | I10: =(E10+G10)/2 -> 286500
A11: 2 | B11: Liquido de freno DOT según referencia vehículo (pinta - 290 mi) | C11: 1 | D11: 59500 | E11: N/A | F11: 54000 | G11: N/A | H11: =(D11+F11)/2 -> 56750 | I11: N/A
A12: 3 | B12: Pastillas delanteras o traseras (juego) | C12: 1 | D12: 440500 | E12: 133400 | F12: 411000 | G12: 125000 | H12: =(D12+F12)/2 -> 425750 | I12: =(E12+G12)/2 -> 129200
A13: 4 | B13: Bandas delanteras o traseras (juego), incluyendo cambio de puntillas o resortes bandas, cuando aplique | C13: 1 | D13: 605000 | E13: 302500 | F13: 540000 | G13: 270000 | H13: =(D13+F13)/2 -> 572500 | I13: =(E13+G13)/2 -> 286250
A14: 5 | B14: Cilindros freno delanteros o traseros (Jgo) | C14: 1 | D14: 509000 | E14: 78100 | F14: 476000 | G14: 73000 | H14: =(D14+F14)/2 -> 492500 | I14: =(E14+G14)/2 -> 75550
A15: 6 | B15: Campanas delanteras o traseras (Jgo) | C15: 1 | D15: 435500 | E15: 46400 | F15: 428000 | G15: 46000 | H15: =(D15+F15)/2 -> 431750 | I15: =(E15+G15)/2 -> 46200
A16: 7 | B16: Discos delanteros o traseros (Jgo) | C16: 1 | D16: 1180000 | E16: 448400 | F16: 896000 | G16: 280000 | H16: =(D16+F16)/2 -> 1038000 | I16: =(E16+G16)/2 -> 364200
A17: 8 | B17: Rectificación de Disco | C17: 1 | D17: N/A | E17: 168600 | F17: N/A | G17: 160000 | H17: N/A | I17: =(E17+G17)/2 -> 164300
A18: 9 | B18: Guaya de freno | C18: 1 | D18: 345400 | E18: 128400 | F18: 324000 | G18: 121000 | H18: =(D18+F18)/2 -> 334700 | I18: =(E18+G18)/2 -> 124700
A19: 10 | B19: Guayas freno de mano o de parqueo (Juego) | C19: 1 | D19: 683300 | E19: 87100 | F19: 642000 | G19: 82000 | H19: =(D19+F19)/2 -> 662650 | I19: =(E19+G19)/2 -> 84550
A20: 11 | B20: Palanca Freno de Mano | C20: 1 | D20: 249500 | E20: 68500 | F20: 243000 | G20: 67000 | H20: =(D20+F20)/2 -> 246250 | I20: =(E20+G20)/2 -> 67750
A21: 12 | B21: Resorte de Banda | C21: 1 | D21: 96800 | E21: 25900 | F21: 92000 | G21: 25000 | H21: =(D21+F21)/2 -> 94400 | I21: =(E21+G21)/2 -> 25450
A22: 13 | B22: Pistón mordaza (juego) | C22: 1 | D22: 345400 | E22: 136900 | F22: 336000 | G22: 133000 | H22: =(D22+F22)/2 -> 340700 | I22: =(E22+G22)/2 -> 134950
A23: 14 | B23: Mordazas y sus pasadores (juego) | C23: 1 | D23: 2674800 | E23: 139300 | F23: 2469000 | G23: 129000 | H23: =(D23+F23)/2 -> 2571900 | I23: =(E23+G23)/2 -> 134150
A24: 15 | B24: Ligas clíper (jugo) | C24: 1 | D24: 248200 | E24: 141700 | F24: 234000 | G24: 133000 | H24: =(D24+F24)/2 -> 241100 | I24: =(E24+G24)/2 -> 137350
A25: 16 | B25: Bomba de freno | C25: 1 | D25: 1526900 | E25: 217900 | F25: 1427000 | G25: 204000 | H25: =(D25+F25)/2 -> 1476950 | I25: =(E25+G25)/2 -> 210950
A26: 17 | B26: Manguera freno | C26: 1 | D26: 125800 | E26: 69100 | F26: 118000 | G26: 65000 | H26: =(D26+F26)/2 -> 121900 | I26: =(E26+G26)/2 -> 67050
A27: 18 | B27: Limpiador de frenos o discos 536 ml | C27: 1 | D27: 85400 | E27: N/A | F27: 81000 | G27: N/A | H27: =(D27+F27)/2 -> 83200 | I27: N/A
B28: SISTEMA DE SUSPENSIÓN
A29: 19 | B29: M.O Revisión General de Suspensión Delantera | C29: 1 | D29: N/A | E29: 357000 | F29: N/A | G29: 330000 | H29: N/A | I29: =(E29+G29)/2 -> 343500
A30: 20 | B30: M.O Revisión General de Suspensión Trasera | C30: 1 | D30: N/A | E30: 297500 | F30: N/A | G30: 280000 | H30: N/A | I30: =(E30+G30)/2 -> 288750
A31: 21 | B31: Juego amortiguadores delanteros (incluidos bujes, copelas, arandelas, pasadores y tuercas) | C31: 1 | D31: 1092200 | E31: 333200 | F31: 1010000 | G31: 308000 | H31: =(D31+F31)/2 -> 1051100 | I31: =(E31+G31)/2 -> 320600
A32: 22 | B32: Juego de rotulas inferiores con sus tuercas y pines | C32: 1 | D32: 1058600 | E32: 263300 | F32: 989000 | G32: 246000 | H32: =(D32+F32)/2 -> 1023800 | I32: =(E32+G32)/2 -> 254650
A33: 23 | B33: Juego de, muñecos, bujes y cauchos de la barra estabilizadora delantera | C33: 1 | D33: 560700 | E33: 133900 | F33: 533000 | G33: 127000 | H33: =(D33+F33)/2 -> 546850 | I33: =(E33+G33)/2 -> 130450
A34: 24 | B34: Juego de Tijeras inferiores delanteras incluyendo bujes cuando aplique. | C34: 1 | D34: 997900 | E34: 496400 | F34: 963000 | G34: 479000 | H34: =(D34+F34)/2 -> 980450 | I34: =(E34+G34)/2 -> 487700
A35: 25 | B35: Juego de bujes tijeras superior e inferiores | C35: 1 | D35: 483900 | E35: 138100 | F35: 476000 | G35: 136000 | H35: =(D35+F35)/2 -> 479950 | I35: =(E35+G35)/2 -> 137050
A36: 26 | B36: Juego espirales delanteros. | C36: 1 | D36: 901100 | E36: 214300 | F36: 856000 | G36: 204000 | H36: =(D36+F36)/2 -> 878550 | I36: =(E36+G36)/2 -> 209150
A37: 27 | B37: Juego soportes amortiguadores delanteros con sus rodamientos | C37: 1 | D37: 754600 | E37: 389600 | F37: 704000 | G37: 363000 | H37: =(D37+F37)/2 -> 729300 | I37: =(E37+G37)/2 -> 376300
A38: 28 | B38: Barra estabilizadora delantera | C38: 1 | D38: 605200 | E38: 191500 | F38: 569000 | G38: 180000 | H38: =(D38+F38)/2 -> 587100 | I38: =(E38+G38)/2 -> 185750
A39: 29 | B39: Juego rodamientos delanteros | C39: 1 | D39: 1626000 | E39: 155400 | F39: 1584000 | G39: 151000 | H39: =(D39+F39)/2 -> 1605000 | I39: =(E39+G39)/2 -> 153200
A40: 30 | B40: Juego de Bocines delanteros | C40: 1 | D40: 1601000 | E40: 104500 | F40: 1505000 | G40: 98000 | H40: =(D40+F40)/2 -> 1553000 | I40: =(E40+G40)/2 -> 101250
A41: 31 | B41: Juego amortiguadores traseros (incluidos bujes, copelas, arandelas, pasadores y tuercas) | C41: 1 | D41: 1131900 | E41: 238000 | F41: 1084000 | G41: 228000 | H41: =(D41+F41)/2 -> 1107950 | I41: =(E41+G41)/2 -> 233000
A42: 32 | B42: Juego espirales traseros | C42: 1 | D42: 811000 | E42: 142900 | F42: 770000 | G42: 136000 | H42: =(D42+F42)/2 -> 790500 | I42: =(E42+G42)/2 -> 139450
... A48: 38 | B48: Punta de Chasis | C48: 1 | D48: 1509900 | E48: 155400 | F48: 1406000 | G48: 145000 | H48: =(D48+F48)/2 -> 1457950 | I48: =(E48+G48)/2 -> 150200
A49: 39 | B49: Esparrago y Tuerca Esparrago | C49: 1 | D49: 31200 | E49: N/A | F49: 30000 | G49: N/A | H49: =(D49+F49)/2 -> 30600 | I49: N/A
A50: 40 | B50: Libra de Grasa | C50: 1 | D50: 91600 | E50: N/A | F50: 81000 | G50: N/A | H50: =(D50+F50)/2 -> 86300 | I50: N/A
B51: SISTEMA DE DIRECCIÓN
A52: 41 | B52: Caja Dirección Hidraulica | C52: 1 | D52: 2147700 | E52: 435300 | F52: 1982000 | G52: 402000 | H52: =(D52+F52)/2 -> 2064850 | I52: =(E52+G52)/2 -> 418650
A53: 42 | B53: Terminal de Dirección | C53: 1 | D53: 803300 | E53: 69100 | F53: 748000 | G53: 64000 | H53: =(D53+F53)/2 -> 775650 | I53: =(E53+G53)/2 -> 66550
A54: 43 | B54: Bomba de Dirección | C54: 1 | D54: 3868100 | E54: 417600 | F54: 3551000 | G54: 383000 | H54: =(D54+F54)/2 -> 3709550 | I54: =(E54+G54)/2 -> 400300
A55: 44 | B55: Deposito Tanque Hidraulico | C55: 1 | D55: 285000 | E55: 54500 | F55: 266000 | G55: 51000 | H55: =(D55+F55)/2 -> 275500 | I55: =(E55+G55)/2 -> 52750
A56: 45 | B56: Rin | C56: 1 | D56: 427500 | E56: 32700 | F56: 392000 | G56: 30000 | H56: =(D56+F56)/2 -> 409750 | I56: =(E56+G56)/2 -> 31350
A57: 46 | B57: Eje principal dirección o caña dirección | C57: 1 | D57: 2423000 | E57: 144100 | F57: 2183000 | G57: 130000 | H57: =(D57+F57)/2 -> 2303000 | I57: =(E57+G57)/2 -> 137050
A58: 47 | B58: Juego Guardapolvos caja de dirección con sus abrazaderas | C58: 1 | D58: 167400 | E58: 254700 | F58: 153000 | G58: 233000 | H58: =(D58+F58)/2 -> 160200 | I58: =(E58+G58)/2 -> 243850
A59: 48 | B59: Juego guardapolvos brazos axiales con sus abrazaderas | C59: 1 | D59: 329100 | E59: 103600 | F59: 306000 | G59: 96000 | H59: =(D59+F59)/2 -> 317550 | I59: =(E59+G59)/2 -> 99800
A60: 49 | B60: Bomba hidráulico dirección | C60: 1 | D60: 3677900 | E60: 397100 | F60: 3519000 | G60: 380000 | H60: =(D60+F60)/2 -> 3598450 | I60: =(E60+G60)/2 -> 388550
A61: 50 | B61: Mangueras bomba dirección hidráulica | C61: 1 | D61: 995700 | E61: 104500 | F61: 919000 | G61: 96000 | H61: =(D61+F61)/2 -> 957350 | I61: =(E61+G61)/2 -> 100250
B62: SISTEMA DE TRANSMISIÓN
A63: 51 | B63: caja de transmisión mecánica | C63: 1 | D63: 9884900 | E63: 474200 | F63: 9382000 | G63: 450000 | H63: =(D63+F63)/2 -> 9633450 | I63: =(E63+G63)/2 -> 462100
A64: 52 | B64: caja de transmisión automática | C64: 1 | D64: 10593100 | E64: 684600 | F64: 10225000 | G64: 661000 | H64: =(D64+F64)/2 -> 10409050 | I64: =(E64+G64)/2 -> 672800
A65: 53 | B65: Empaquetadura caja de transmisión | C65: 1 | D65: 692200 | E65: 726300 | F65: 652000 | G65: 685000 | H65: =(D65+F65)/2 -> 672100 | I65: =(E65+G65)/2 -> 705650
A66: 54 | B66: Retenedor de entrada trasmisión mec. | C66: 1 | D66: 164500 | E66: 138100 | F66: 162000 | G66: 136000 | H66: =(D66+F66)/2 -> 163250 | I66: =(E66+G66)/2 -> 137050
A67: 55 | B67: Reten lateral caja transversal | C67: 1 | D67: 242300 | E67: 324200 | F67: 226000 | G67: 303000 | H67: =(D67+F67)/2 -> 234150 | I67: =(E67+G67)/2 -> 313600
A68: 56 | B68: Guardapolvo barra cambios | C68: 1 | D68: 268700 | E68: 68500 | F68: 264000 | G68: 67000 | H68: =(D68+F68)/2 -> 266350 | I68: =(E68+G68)/2 -> 67750
A69: 57 | B69: Sensor velocidad | C69: 1 | D69: 367800 | E69: 69100 | F69: 349000 | G69: 65000 | H69: =(D69+F69)/2 -> 358400 | I69: =(E69+G69)/2 -> 67050
A70: 58 | B70: Juego de Guayas freno de mano | C70: 1 | D70: 561400 | E70: 103600 | F70: 542000 | G70: 100000 | H70: =(D70+F70)/2 -> 551700 | I70: =(E70+G70)/2 -> 101800
A71: 59 | B71: Rodamiento Diferencial | C71: 1 | D71: 447900 | E71: 472100 | F71: 408000 | G71: 430000 | H71: =(D71+F71)/2 -> 427950 | I71: =(E71+G71)/2 -> 451050
A72: 60 | B72: Barra control de Cambios | C72: 1 | D72: 916100 | E72: 145300 | F72: 849000 | G72: 135000 | H72: =(D72+F72)/2 -> 882550 | I72: =(E72+G72)/2 -> 140150
A73: 61 | B73: Pera de Reverso | C73: 1 | D73: 367800 | E73: 51800 | F73: 355000 | G73: 50000 | H73: =(D73+F73)/2 -> 361400 | I73: =(E73+G73)/2 -> 50900
A74: 62 | B74: Soportes caja velocidades (Jgo.) | C74: 1 | D74: 1058600 | E74: 163400 | F74: 981000 | G74: 151000 | H74: =(D74+F74)/2 -> 1019800 | I74: =(E74+G74)/2 -> 157200
... A76: 64 | B76: Semi-eje delantero derecho | C76: 1 | D76: 1588600 | E76: 141700 | F76: 1468000 | G76: 131000 | H76: =(D76+F76)/2 -> 1528300 | I76: =(E76+G76)/2 -> 136350
B77: SISTEMA DE EMBRAGUE
A78: 65 | B78: Kit de embrague (prensa, disco, balinera, buje o rodamiento volante, pasador horquilla, soporte horquilla, horquilla) | C78: 1 | D78: 1716300 | E78: 630300 | F78: 1631000 | G78: 599000 | H78: =(D78+F78)/2 -> 1673650 | I78: =(E78+G78)/2 -> 614650
A79: 66 | B79: Prensa Embrague | C79: 1 | D79: 464400 | E79: 630300 | F79: 434000 | G79: 589000 | H79: =(D79+F79)/2 -> 449200 | I79: =(E79+G79)/2 -> 609650
A80: 67 | B80: Disco Embrague | C80: 1 | D80: 417000 | E80: 619900 | F80: 378000 | G80: 563000 | H80: =(D80+F80)/2 -> 397500 | I80: =(E80+G80)/2 -> 591450
A81: 68 | B81: Balinera Embrague | C81: 1 | D81: 156200 | E81: 609500 | F81: 147000 | G81: 573000 | H81: =(D81+F81)/2 -> 151600 | I81: =(E81+G81)/2 -> 591250
A82: 69 | B82: Bomba principal embrague | C82: 1 | D82: 351400 | E82: 104500 | F82: 330000 | G82: 98000 | H82: =(D82+F82)/2 -> 340700 | I82: =(E82+G82)/2 -> 101250
A83: 70 | B83: Bomba auxiliar embrague | C83: 1 | D83: 329100 | E83: 120900 | F83: 315000 | G83: 116000 | H83: =(D83+F83)/2 -> 322050 | I83: =(E83+G83)/2 -> 118450
A84: 71 | B84: Manguera embrague | C84: 1 | D84: 139000 | E84: 70800 | F84: 126000 | G84: 64000 | H84: =(D84+F84)/2 -> 132500 | I84: =(E84+G84)/2 -> 67400
B85: SISTEMA ELÉCTRICO
A86: 72 | B86: Computador principal motor | C86: 1 | D86: 9979000 | E86: 770200 | F86: 9805000 | G86: 757000 | H86: =(D86+F86)/2 -> 9892000 | I86: =(E86+G86)/2 -> 763600
A87: 73 | B87: Alternador completo. | C87: 1 | D87: 3375800 | E87: 283400 | F87: 3206000 | G87: 269000 | H87: =(D87+F87)/2 -> 3290900 | I87: =(E87+G87)/2 -> 276200
A88: 74 | B88: Reparación general Alternador. Repuestos (escobillas, porta escobillas, rodamientos, regulador de voltaje, diodos y porta diodos etc.) | C88: 1 | D88: 793600 | E88: 483400 | F88: 780000 | G88: 475000 | H88: =(D88+F88)/2 -> 786800 | I88: =(E88+G88)/2 -> 479200
A89: 75 | B89: Motor de Arranque completo. | C89: 1 | D89: 3276600 | E89: 318800 | F89: 2974000 | G89: 289000 | H89: =(D89+F89)/2 -> 3125300 | I89: =(E89+G89)/2 -> 303900
A90: 76 | B90: Reparación general de arranque (Inducido, automático, bendix, bujes, escobillas) | C90: 1 | D90: 794000 | E90: 345000 | F90: 722000 | G90: 314000 | H90: =(D90+F90)/2 -> 758000 | I90: =(E90+G90)/2 -> 329500
A91: 77 | B91: Batería incluida la instalación y revisión del sistema de carga | C91: 1 | D91: 1190000 | E91: N/A | F91: 1130000 | G91: N/A | H91: =(D91+F91)/2 -> 1160000 | I91: N/A
A92: 78 | B92: Soporte batería incluida la instalación | C92: 1 | D92: 198200 | E92: 142900 | F92: 178000 | G92: 129000 | H92: =(D92+F92)/2 -> 188100 | I92: =(E92+G92)/2 -> 135950
A93: 79 | B93: Bombillo halógeno o bombillo exploradora | C93: 1 | D93: 395800 | E93: 131900 | F93: 379000 | G93: 126000 | H93: =(D93+F93)/2 -> 387400 | I93: =(E93+G93)/2 -> 128950
A94: 80 | B94: Bombillo (stop, direccional, cocuyo E.T.C.) | C94: 1 | D94: 389000 | E94: N/A | F94: 379000 | G94: N/A | H94: =(D94+F94)/2 -> 384000 | I94: N/A
A95: 81 | B95: Fusibles y /o Mini fusibles, incluida la instalación | C95: 1 | D95: 91600 | E95: 130800 | F95: 89000 | G95: 127000 | H95: =(D95+F95)/2 -> 90300 | I95: =(E95+G95)/2 -> 128900
A96: 82 | B96: arreglo general instalación eléctrica | C96: 1 | D96: 479800 | E96: 907700 | F96: 471000 | G96: 892000 | H96: =(D96+F96)/2 -> 475400 | I96: =(E96+G96)/2 -> 899850
A97: 83 | B97: cambio bombillos halógenos y convencionales | C97: 1 | D97: 409300 | E97: N/A | F97: 375000 | G97: N/A | H97: =(D97+F97)/2 -> 392150 | I97: N/A
A98: 84 | B98: Relevos (disyuntores) | C98: 1 | D98: 50500 | E98: 9000 | F98: 45000 | G98: 8000 | H98: =(D98+F98)/2 -> 47750 | I98: =(E98+G98)/2 -> 8500
A99: 85 | B99: Control luces y/o direccionales | C99: 1 | D99: 566200 | E99: 121900 | F99: 527000 | G99: 114000 | H99: =(D99+F99)/2 -> 546600 | I99: =(E99+G99)/2 -> 117950
A100: 86 | B100: Flacher direccionales | C100: 1 | D100: 214800 | E100: 43500 | F100: 200000 | G100: 41000 | H100: =(D100+F100)/2 -> 207400 | I100: =(E100+G100)/2 -> 42250
A101: 87 | B101: Cebolla | C101: 1 | D101: 290400 | E101: 214300 | F101: 269000 | G101: 198000 | H101: =(D101+F101)/2 -> 279700 | I101: =(E101+G101)/2 -> 206150
A102: 88 | B102: Switch encendido | C102: 1 | D102: 1142100 | E102: 158100 | F102: 1065000 | G102: 147000 | H102: =(D102+F102)/2 -> 1103550 | I102: =(E102+G102)/2 -> 152550
A103: 89 | B103: Cables de Alta | C103: 1 | D103: 345400 | E103: 111300 | F103: 327000 | G103: 105000 | H103: =(D103+F103)/2 -> 336200 | I103: =(E103+G103)/2 -> 108150
A104: 90 | B104: Juego de Bujias | C104: 1 | D104: 982300 | E104: 117100 | F104: 901000 | G104: 107000 | H104: =(D104+F104)/2 -> 941650 | I104: =(E104+G104)/2 -> 112050
A105: 91 | B105: Switch central eleva vidrios | C105: 1 | D105: 1269100 | E105: 139300 | F105: 1204000 | G105: 132000 | H105: =(D105+F105)/2 -> 1236550 | I105: =(E105+G105)/2 -> 135650
A106: 92 | B106: Switch eleva vidrios puertas | C106: 1 | D106: 940300 | E106: 136900 | F106: 891000 | G106: 130000 | H106: =(D106+F106)/2 -> 915650 | I106: =(E106+G106)/2 -> 133450
A107: 93 | B107: Juego Pitos (alto y bajo) | C107: 1 | D107: 193400 | E107: 72600 | F107: 176000 | G107: 66000 | H107: =(D107+F107)/2 -> 184700 | I107: =(E107+G107)/2 -> 69300
A108: 94 | B108: Control limpia brisas | C108: 1 | D108: 460600 | E108: 169700 | F108: 438000 | G108: 161000 | H108: =(D108+F108)/2 -> 449300 | I108: =(E108+G108)/2 -> 165350
...

Sheet VOLKSWAGEN
B1: Anexo No. 4 Oferta Económica MANTENIMEINTO VEHICULOS MANO DE OBRA Y REPUESTOS | C1: CANTIDAD | D1: COTIZACION CAMPESA SA | F1: COTIZACION TODO REPUESTOS | H1: PROMEDIO
A3: CAMIONETA
A4: VOLKSWAGEN AMAROK
A5: 2015
A6: 2000 C.C.
A7: VOLKSWAGEN AMAROK | D7: Valor Repuesto Sin IVA | E7: Valor M.O. Sin IVA | F7: Valor Repuesto Sin IVA | G7: Valor M.O. Sin IVA | H7: Valor Repuesto Sin IVA | I7: Valor M.O. Sin IVA
A9: ítem | B9: SISTEMA DE FRENOS
A10: 1 | B10: Revisión general de frenos: M.O (graduación general de freno de mano y las bandas, limpieza sistema ABS cuando aplique). Sin Repuestos | C10: 1 | D10: 87500 | E10: 400000 | F10: 83000 | G10: 381000 | H10: =(D10+F10)/2 -> 85250 | I10: =(E10+G10)/2 -> 390500
A11: 2 | B11: Liquido de freno DOT según referencia vehículo (pinta - 290 mi) | C11: 1 | D11: 61500 | E11: 342200 | F11: 61000 | G11: 337000 | H11: =(D11+F11)/2 -> 61250 | I11: =(E11+G11)/2 -> 339600
A12: 3 | B12: Pastillas delanteras o traseras (juego) | C12: 1 | D12: 2220100 | E12: 347700 | F12: 2149000 | G12: 337000 | H12: =(D12+F12)/2 -> 2184550 | I12: =(E12+G12)/2 -> 342350
A13: 4 | B13: Bandas delanteras o traseras (juego), incluyendo cambio de puntillas o resortes bandas, cuando aplique | C13: 1 | D13: 1764000 | E13: 504000 | F13: 2163000 | G13: 505000 | H13: =(D13+F13)/2 -> 1963500 | I13: =(E13+G13)/2 -> 504500
A14: 5 | B14: Cilindros freno delanteros o traseros (Jgo) | C14: 1 | D14: 1570600 | E14: 149700 | F14: 1508000 | G14: 144000 | H14: =(D14+F14)/2 -> 1539300 | I14: =(E14+G14)/2 -> 146850
A15: 6 | B15: Campanas delanteras o traseras (Jgo) | C15: 1 | D15: 9576200 | E15: 144400 | F15: 9270000 | G15: 140000 | H15: =(D15+F15)/2 -> 9423100 | I15: =(E15+G15)/2 -> 142200
A16: 7 | B16: Discos delanteros o traseros (Jgo) | C16: 1 | D16: 3125000 | E16: 562500 | F16: 10521000 | G16: 501000 | H16: =(D16+F16)/2 -> 6823000 | I16: =(E16+G16)/2 -> 531750
A17: 8 | B17: Rectificación de Disco | C17: 1 | D17: N/A | E17: 608800 | F17: N/A | G17: 584000 | H17: N/A | I17: =(E17+G17)/2 -> 596400
A18: 9 | B18: Guaya de freno | C18: 1 | D18: 2968900 | E18: 347700 | F18: 2850000 | G18: 334000 | H18: =(D18+F18)/2 -> 2909450 | I18: =(E18+G18)/2 -> 340850
A19: 10 | B19: Guayas freno de mano o de parqueo (Juego) | C19: 1 | D19: 6343500 | E19: 684300 | F19: 6240000 | G19: 673000 | H19: =(D19+F19)/2 -> 6291750 | I19: =(E19+G19)/2 -> 678650
A20: 11 | B20: Palanca Freno de Mano | C20: 1 | D20: 1723900 | E20: 119800 | F20: 1696000 | G20: 118000 | H20: =(D20+F20)/2 -> 1709950 | I20: =(E20+G20)/2 -> 118900
A21: 12 | B21: Resorte de Banda | C21: 1 | D21: 386100 | E21: 80700 | F21: 377000 | G21: 79000 | H21: =(D21+F21)/2 -> 381550 | I21: =(E21+G21)/2 -> 79850
A22: 13 | B22: Pistón mordaza (juego) | C22: 1 | D22: 5628000 | E22: 350500 | F22: 5494000 | G22: 342000 | H22: =(D22+F22)/2 -> 5561000 | I22: =(E22+G22)/2 -> 346250
A23: 14 | B23: Mordazas y sus pasadores (juego) | C23: 1 | D23: 8394800 | E23: 350500 | F23: 8128000 | G23: 339000 | H23: =(D23+F23)/2 -> 8261400 | I23: =(E23+G23)/2 -> 344750
A24: 15 | B24: Ligas clíper (jugo) | C24: 1 | D24: 1035400 | E24: 490700 | F24: 1011000 | G24: 479000 | H24: =(D24+F24)/2 -> 1023200 | I24: =(E24+G24)/2 -> 484850
A25: 16 | B25: Bomba de freno | C25: 1 | D25: 8663100 | E25: 1402100 | F25: 8251000 | G25: 1335000 | H25: =(D25+F25)/2 -> 8457050 | I25: =(E25+G25)/2 -> 1368550
A26: 17 | B26: Manguera freno | C26: 1 | D26: 1188500 | E26: 174000 | F26: 1160000 | G26: 170000 | H26: =(D26+F26)/2 -> 1174250 | I26: =(E26+G26)/2 -> 172000
A27: 18 | B27: Limpiador de frenos o discos 536 ml | C27: 1 | D27: 87500 | E27: 49200 | F27: 84000 | G27: 47000 | H27: =(D27+F27)/2 -> 85750 | I27: =(E27+G27)/2 -> 48100
B28: SISTEMA DE SUSPENSIÓN
A29: 19 | B29: M.O Revisión General de Suspensión Delantera | C29: 1 | D29: N/A | E29: 615000 | F29: N/A | G29: 464000 | H29: N/A | I29: =(E29+G29)/2 -> 539500
A30: 20 | B30: M.O Revisión General de Suspensión Trasera | C30: 1 | D30: N/A | E30: 372000 | F30: N/A | G30: 354000 | H30: N/A | I30: =(E30+G30)/2 -> 363000
A31: 21 | B31: Juego amortiguadores delanteros (incluidos bujes, copelas, arandelas, pasadores y tuercas) | C31: 1 | D31: 2254400 | E31: 517600 | F31: 2200000 | G31: 505000 | H31: =(D31+F31)/2 -> 2227200 | I31: =(E31+G31)/2 -> 511300
A32: 22 | B32: Juego de brazos axiales | C32: 1 | D32: 3455700 | E32: 689900 | F32: 3344000 | G32: 668000 | H32: =(D32+F32)/2 -> 3399850 | I32: =(E32+G32)/2 -> 678950
A33: 23 | B33: Juego de rotulas superiores con sus tuercas y pines | C33: 1 | D33: 5170500 | E33: 689900 | F33: 5087000 | G33: 679000 | H33: =(D33+F33)/2 -> 5128750 | I33: =(E33+G33)/2 -> 684450
A34: 24 | B34: Juego de rotulas inferiores con sus tuercas y pines | C34: 1 | D34: 2340900 | E34: 684300 | F34: 2246000 | G34: 657000 | H34: =(D34+F34)/2 -> 2293450 | I34: =(E34+G34)/2 -> 670650
A35: 25 | B35: Juego de, muñecos, bujes y cauchos de la barra estabilizadora delantera | C35: 1 | D35: 2256400 | E35: 342200 | F35: 2165000 | G35: 328000 | H35: =(D35+F35)/2 -> 2210700 | I35: =(E35+G35)/2 -> 335100
A36: 26 | B36: Juego de Tijeras superiores delanteras incluyendo bujes cuando aplique. | C36: 1 | D36: 11606500 | E36: 701000 | F36: 10870000 | G36: 657000 | H36: =(D36+F36)/2 -> 11238250 | I36: =(E36+G36)/2 -> 679000
A37: 27 | B37: Juego de Tijeras inferiores delanteras incluyendo bujes cuando aplique. | C37: 1 | D37: 6480700 | E37: 1390900 | F37: 6273000 | G37: 1346000 | H37: =(D37+F37)/2 -> 6376850 | I37: =(E37+G37)/2 -> 1368450
A38: 28 | B38: Juego de bujes tijeras superior e inferiores | C38: 1 | D38: 1542100 | E38: 1379800 | F38: 1468000 | G38: 1313000 | H38: =(D38+F38)/2 -> 1505050 | I38: =(E38+G38)/2 -> 1346400
A39: 29 | B39: Juego espirales delanteros. | C39: 1 | D39: 3147800 | E39: 513400 | F39: 3045000 | G39: 497000 | H39: =(D39+F39)/2 -> 3096400 | I39: =(E39+G39)/2 -> 505200
A40: 30 | B40: Juego soportes amortiguadores delanteros con sus rodamientos | C40: 1 | D40: 2516000 | E40: 1026500 | F40: 2434000 | G40: 993000 | H40: =(D40+F40)/2 -> 2475000 | I40: =(E40+G40)/2 -> 1009750
A41: 31 | B41: Barra estabilizadora delantera | C41: 1 | D41: 3255100 | E41: 525900 | F41: 3178000 | G41: 513000 | H41: =(D41+F41)/2 -> 3216550 | I41: =(E41+G41)/2 -> 519450
A42: 32 | B42: Juego rodamientos delanteros | C42: 1 | D42: 3532500 | E42: 448500 | F42: 3390000 | G42: 430000 | H42: =(D42+F42)/2 -> 3461250 | I42: =(E42+G42)/2 -> 439250
... A56: 46 | B56: Esparrago y Tuerca Esparrago | C56: 1 | D56: 214900 | E56: 386900 | F56: 210000 | G56: 378000 | H56: =(D56+F56)/2 -> 212450 | I56: =(E56+G56)/2 -> 382450
A57: 47 | B57: Libra de Grasa | C57: 1 | D57: 140600 | E57: N/A | F57: 138000 | G57: N/A | H57: =(D57+F57)/2 -> 139300 | I57: N/A
A58: 48 | B58: Juego Templetes o tensores traseros largos y cortos con sus bujes o (brazo control superior e inferior con sus bujes) | C58: 1 | D58: 1829100 | E58: 347700 | F58: 1771000 | G58: 337000 | H58: =(D58+F58)/2 -> 1800050 | I58: =(E58+G58)/2 -> 342350
B59: SISTEMA DE DIRECCIÓN
A60: 49 | B60: Caja de dirección. | C60: 1 | D60: 6531100 | E60: 1043200 | F60: 6165000 | G60: 985000 | H60: =(D60+F60)/2 -> 6348050 | I60: =(E60+G60)/2 -> 1014100
A61: 50 | B61: Brazo Axial | C61: 1 | D61: 1357000 | E61: 342200 | F61: 1302000 | G61: 328000 | H61: =(D61+F61)/2 -> 1329500 | I61: =(E61+G61)/2 -> 335100
A62: 51 | B62: Terminal de Dirección | C62: 1 | D62: 5014700 | E62: 171200 | F62: 5015000 | G62: 171000 | H62: =(D62+F62)/2 -> 5014850 | I62: =(E62+G62)/2 -> 171100
A63: 52 | B63: Cruceta de Dirección | C63: 1 | D63: 5694800 | E63: 113500 | F63: 5513000 | G63: 110000 | H63: =(D63+F63)/2 -> 5603900 | I63: =(E63+G63)/2 -> 111750
A64: 53 | B64: Bomba de Dirección | C64: 1 | D64: 9780800 | E64: 689900 | F64: 9702000 | G64: 684000 | H64: =(D64+F64)/2 -> 9741400 | I64: =(E64+G64)/2 -> 686950
A65: 54 | B65: Deposito Tanque Hidraulico | C65: 1 | D65: 1427800 | E65: 111200 | F65: 1348000 | G65: 105000 | H65: =(D65+F65)/2 -> 1387900 | I65: =(E65+G65)/2 -> 108100
A66: 55 | B66: Rin | C66: 1 | D66: 3246900 | E66: 101500 | F66: 3195000 | G66: 100000 | H66: =(D66+F66)/2 -> 3220950 | I66: =(E66+G66)/2 -> 100750
A67: 56 | B67: Eje principal dirección o caña dirección | C67: 1 | D67: 6689100 | E67: 292300 | F67: 6580000 | G67: 288000 | H67: =(D67+F67)/2 -> 6634550 | I67: =(E67+G67)/2 -> 290150
A68: 57 | B68: Juego Guardapolvos caja de dirección con sus abrazaderas | C68: 1 | D68: 1166900 | E68: 689900 | F68: 1110000 | G68: 657000 | H68: =(D68+F68)/2 -> 1138450 | I68: =(E68+G68)/2 -> 673450
A69: 58 | B69: Bomba hidráulico dirección | C69: 1 | D69: 4816100 | E69: 689900 | F69: 4583000 | G69: 657000 | H69: =(D69+F69)/2 -> 4699550 | I69: =(E69+G69)/2 -> 673450
A70: 59 | B70: Empaquetadura bomba dirección | C70: 1 | D70: 2763900 | E70: N/A | F70: 2719000 | G70: N/A | H70: =(D70+F70)/2 -> 2741450 | I70: N/A
A71: 60 | B71: Mangueras bomba dirección hidráulica | C71: 1 | D71: 1507700 | E71: 174000 | F71: 1423000 | G71: 164000 | H71: =(D71+F71)/2 -> 1465350 | I71: =(E71+G71)/2 -> 169000
A72: 61 | B72: Juego bujes soportes caja dirección | C72: 1 | D72: 884000 | E72: 167500 | F72: 842000 | G72: 159000 | H72: =(D72+F72)/2 -> 863000 | I72: =(E72+G72)/2 -> 163250
B73: SISTEMA DE TRANSMISIÓN
A74: 62 | B74: caja de transmisión mecánica | C74: 1 | D74: 43163300 | E74: 1713800 | F74: 43163000 | G74: 1714000 | H74: =(D74+F74)/2 -> 43163150 | I74: =(E74+G74)/2 -> 1713900
A75: 63 | B75: caja de transmisión automática | C75: 1 | D75: 43865100 | E75: 435800 | F75: 42812000 | G75: 425000 | H75: =(D75+F75)/2 -> 43338550 | I75: =(E75+G75)/2 -> 430400
A76: 64 | B76: Empaquetadura caja de transmisión | C76: 1 | D76: 1714200 | E76: 2177100 | F76: 1673000 | G76: 2124000 | H76: =(D76+F76)/2 -> 1693600 | I76: =(E76+G76)/2 -> 2150550
A77: 65 | B77: Retenedor de entrada trasmisión mec. | C77: 1 | D77: 842100 | E77: 467100 | F77: 795000 | G77: 441000 | H77: =(D77+F77)/2 -> 818550 | I77: =(E77+G77)/2 -> 454050
A78: 66 | B78: Reten lateral caja transversal | C78: 1 | D78: 1179000 | E78: 869500 | F78: 1113000 | G78: 821000 | H78: =(D78+F78)/2 -> 1146000 | I78: =(E78+G78)/2 -> 845250
A79: 67 | B79: Guardapolvo barra cambios | C79: 1 | D79: 977700 | E79: 216000 | F79: 916000 | G79: 202000 | H79: =(D79+F79)/2 -> 946850 | I79: =(E79+G79)/2 -> 209000
A80: 68 | B80: Bujes palanca selectora cambios. (kit) | C80: 1 | D80: 330200 | E80: 174000 | F80: 314000 | G80: 166000 | H80: =(D80+F80)/2 -> 322100 | I80: =(E80+G80)/2 -> 170000
A81: 69 | B81: Sensor velocidad | C81: 1 | D81: 3416000 | E81: 174000 | F81: 3279000 | G81: 167000 | H81: =(D81+F81)/2 -> 3347500 | I81: =(E81+G81)/2 -> 170500
A82: 70 | B82: Guaya velocímetro | C82: 1 | D82: 1092200 | E82: 269800 | F82: 1049000 | G82: 259000 | H82: =(D82+F82)/2 -> 1070600 | I82: =(E82+G82)/2 -> 264400
A83: 71 | B83: Juego de Guayas freno de mano | C83: 1 | D83: 4287800 | E83: 701000 | F83: 4084000 | G83: 668000 | H83: =(D83+F83)/2 -> 4185900 | I83: =(E83+G83)/2 -> 684500
A84: 72 | B84: Cardan Delantero | C84: 1 | D84: 2952000 | E84: 345000 | F84: 2904000 | G84: 339000 | H84: =(D84+F84)/2 -> 2928000 | I84: =(E84+G84)/2 -> 342000
A85: 73 | B85: Cardan Trasero | C85: 1 | D85: 4391600 | E85: 342200 | F85: 4356000 | G85: 339000 | H85: =(D85+F85)/2 -> 4373800 | I85: =(E85+G85)/2 -> 340600
... A92: 80 | B92: Semi-eje delantero derecho | C92: 1 | D92: 9939300 | E92: 513400 | F92: 9535000 | G92: 493000 | H92: =(D92+F92)/2 -> 9737150 | I92: =(E92+G92)/2 -> 503200
B93: SISTEMA DE EMBRAGUE
A94: 81 | B94: Kit de embrague (prensa, disco, balinera, buje o rodamiento volante, pasador horquilla, soporte horquilla, horquilla) | C94: 1 | D94: 8252600 | E94: 3154400 | F94: 7729000 | G94: 2954000 | H94: =(D94+F94)/2 -> 7990800 | I94: =(E94+G94)/2 -> 3054200
A95: 82 | B95: Bomba principal embrague | C95: 1 | D95: 4860900 | E95: 350500 | F95: 4668000 | G95: 337000 | H95: =(D95+F95)/2 -> 4764450 | I95: =(E95+G95)/2 -> 343750
A96: 83 | B96: Bomba auxiliar embrague | C96: 1 | D96: 1730100 | E96: 342200 | F96: 1716000 | G96: 339000 | H96: =(D96+F96)/2 -> 1723050 | I96: =(E96+G96)/2 -> 340600
A97: 84 | B97: Manguera embrague | C97: 1 | D97: 1827000 | E97: 171200 | F97: 1768000 | G97: 166000 | H97: =(D97+F97)/2 -> 1797500 | I97: =(E97+G97)/2 -> 168600
A98: 85 | B98: Guaya embrague | C98: 1 | D98: 735200 | E98: 441100 | F98: 700000 | G98: 420000 | H98: =(D98+F98)/2 -> 717600 | I98: =(E98+G98)/2 -> 430550
B99: SISTEMA ELÉCTRICO
A100: 86 | B100: Computador principal motor | C100: 1 | D100: 19586700 | E100: 497100 | F100: 18960000 | G100: 481000 | H100: =(D100+F100)/2 -> 19273350 | I100: =(E100+G100)/2 -> 489050
A101: 87 | B101: Alternador completo. | C101: 1 | D101: 24541000 | E101: 701000 | F101: 23957000 | G101: 684000 | H101: =(D101+F101)/2 -> 24249000 | I101: =(E101+G101)/2 -> 692500
A102: 88 | B102: Motor de Arranque completo. | C102: 1 | D102: 12950900 | E102: 862500 | F102: 12429000 | G102: 828000 | H102: =(D102+F102)/2 -> 12689950 | I102: =(E102+G102)/2 -> 845250
A103: 89 | B103: Batería incluida la instalación y revisión del sistema de carga | C103: 1 | D103: 1722000 | E103: 61500 | F103: 1666000 | G103: 60000 | H103: =(D103+F103)/2 -> 1694000 | I103: =(E103+G103)/2 -> 60750
A104: 90 | B104: Soporte batería incluida la instalación | C104: 1 | D104: 470500 | E104: 755900 | F104: 459000 | G104: 738000 | H104: =(D104+F104)/2 -> 464750 | I104: =(E104+G104)/2 -> 746950
A105: 91 | B105: Bornes o terminales Batería (Jgo.) | C105: 1 | D105: 141800 | E105: 102700 | F105: 142000 | G105: 103000 | H105: =(D105+F105)/2 -> 141900 | I105: =(E105+G105)/2 -> 102850
A106: 92 | B106: Bombillo halógeno o bombillo exploradora | C106: 1 | D106: 444700 | E106: 148200 | F106: 434000 | G106: 145000 | H106: =(D106+F106)/2 -> 439350 | I106: =(E106+G106)/2 -> 146600
A107: 93 | B107: Bombillo (stop, direccional, cocuyo E.T.C.) | C107: 1 | D107: 448200 | E107: 149400 | F107: 438000 | G107: 146000 | H107: =(D107+F107)/2 -> 443100 | I107: =(E107+G107)/2 -> 147700
A108: 94 | B108: Fusibles y /o Mini fusibles, incluida la instalación | C108: 1 | D108: 103800 | E108: 148200 | F108: 99000 | G108: 141000 | H108: =(D108+F108)/2 -> 101400 | I108: =(E108+G108)/2 -> 144600
A109: 95 | B109: cambio bombillos halógenos y convencionales | C109: 1 | D109: 539700 | E109: 1021000 | F109: 526000 | G109: 996000 | H109: =(D109+F109)/2 -> 532850 | I109: =(E109+G109)/2 -> 1008500
A110: 96 | B110: Control luces y/o direccionales | C110: 1 | D110: 441100 | E110: 29100 | F110: 427000 | G110: 28000 | H110: =(D110+F110)/2 -> 434050 | I110: =(E110+G110)/2 -> 28550
A111: 97 | B111: Flacher direccionales | C111: 1 | D111: 467500 | E111: 78000 | F111: 445000 | G111: 74000 | H111: =(D111+F111)/2 -> 456250 | I111: =(E111+G111)/2 -> 76000
... A120: 106 | B120: Motor deposito lava parabrisas | C120: 1 | D120: 1223400 | E120: 105200 | F120: 1175000 | G120: 101000 | H120: =(D120+F120)/2 -> 1199200 | I120: =(E120+G120)/2 -> 103100
B121: SISTEMA DE REFRIGERACIÓN Y A/A.
A122: 107 | B122: Bomba de agua y empaque | C122: 1 | D122: 4005300 | E122: 1045400 | F122: 3844000 | G122: 1003000 | H122: =(D122+F122)/2 -> 3924650 | I122: =(E122+G122)/2 -> 1024200
A123: 108 | B123: Termostato y empaque, incluyendo pera o sensor de temperatura | C123: 1 | D123: 1655400 | E123: 172600 | F123: 1575000 | G123: 164000 | H123: =(D123+F123)/2 -> 1615200 | I123: =(E123+G123)/2 -> 168300
A124: 109 | B124: Radiador completo con tapa | C124: 1 | D124: 7712100 | E124: 342200 | F124: 7524000 | G124: 334000 | H124: =(D124+F124)/2 -> 7618050 | I124: =(E124+G124)/2 -> 338100
A125: 110 | B125: Deposito auxiliar radiador con tapa | C125: 1 | D125: 2458500 | E125: 102700 | F125: 2379000 | G125: 99000 | H125: =(D125+F125)/2 -> 2418750 | I125: =(E125+G125)/2 -> 100850
A126: 111 | B126: Enfocador radiador | C126: 1 | D126: 1767400 | E126: 174000 | F126: 1725000 | G126: 170000 | H126: =(D126+F126)/2 -> 1746200 | I126: =(E126+G126)/2 -> 172000
A127: 112 | B127: Mangueras radiador, superior e inferior. | C127: 1 | D127: 1462300 | E127: 68600 | F127: 1450000 | G127: 68000 | H127: =(D127+F127)/2 -> 1456150 | I127: =(E127+G127)/2 -> 68300
A128: 113 | B128: Tapa radiador incluida la instalación | C128: 1 | D128: 408200 | E128: N/A | F128: 392000 | G128: N/A | H128: =(D128+F128)/2 -> 400100 | I128: N/A
A129: 114 | B129: Ventilador o electro ventilador. | C129: 1 | D129: 1676100 | E129: 342200 | F129: 1608000 | G129: 328000 | H129: =(D129+F129)/2 -> 1642050 | I129: =(E129+G129)/2 -> 335100
...

Sheet TOYOTA 
B1: Anexo No. 4 Oferta Económica MANTENIMEINTO VEHICULOS MANO DE OBRA Y REPUESTOS | C1: CANTIDAD | D1: COTIZACION CAMPESA SA | F1: COTIZACION TODO REPUESTOS | H1: PROMEDIO
A3: CAMIONETA TOYOTA
A4: FORTUNER
A5: 2011 a 2013
A6: 4,000 C.C.
A7: TOYOTA | D7: Valor Repuesto Sin IVA | E7: Valor M.O. Sin IVA | F7: Valor Repuesto Sin IVA | G7: Valor M.O. Sin IVA | H7: Valor Repuesto Sin IVA | I7: Valor M.O. Sin IVA
A9: ítem | B9: SISTEMA DE FRENOS
A10: 1 | B10: Revisión general de frenos: M.O (graduación general de freno de mano y las bandas, limpieza sistema ABS cuando aplique). Sin Repuestos | C10: 1 | D10: 84000 | E10: 384000 | F10: 81000 | G10: 368000 | H10: =(D10+F10)/2 -> 82500 | I10: =(E10+G10)/2 -> 376000
A11: 2 | B11: Liquido de freno DOT según referencia vehículo (pinta - 290 mi) | C11: 1 | D11: 61000 | E11: N/A | F11: 57000 | G11: N/A | H11: =(D11+F11)/2 -> 59000 | I11: N/A
A12: 3 | B12: Pastillas delanteras o traseras (juego) | C12: 1 | D12: 2801000 | E12: 333800 | F12: 2544000 | G12: 303000 | H12: =(D12+F12)/2 -> 2672500 | I12: =(E12+G12)/2 -> 318400
A13: 4 | B13: Bandas delanteras o traseras (juego), incluyendo cambio de puntillas o resortes bandas, cuando aplique | C13: 1 | D13: 1750000 | E13: 500000 | F13: 1568000 | G13: 448000 | H13: =(D13+F13)/2 -> 1659000 | I13: =(E13+G13)/2 -> 474000
A14: 5 | B14: Cilindros freno delanteros o traseros (Jgo) | C14: 1 | D14: 4087800 | E14: 139800 | F14: 3885000 | G14: 133000 | H14: =(D14+F14)/2 -> 3986400 | I14: =(E14+G14)/2 -> 136400
A15: 6 | B15: Campanas delanteras o traseras (Jgo) | C15: 1 | D15: 4082100 | E15: 90600 | F15: 3588000 | G15: 80000 | H15: =(D15+F15)/2 -> 3835050 | I15: =(E15+G15)/2 -> 85300
A16: 7 | B16: Discos delanteros o traseros (Jgo) | C16: 1 | D16: 3000000 | E16: 540000 | F16: 1808000 | G16: 452000 | H16: =(D16+F16)/2 -> 2404000 | I16: =(E16+G16)/2 -> 496000
A17: 8 | B17: Rectificación de Disco | C17: 1 | D17: N/A | E17: 399500 | F17: N/A | G17: 373000 | H17: N/A | I17: =(E17+G17)/2 -> 386250
A18: 9 | B18: Guaya de freno | C18: 1 | D18: 1073400 | E18: 345000 | F18: 970000 | G18: 312000 | H18: =(D18+F18)/2 -> 1021700 | I18: =(E18+G18)/2 -> 328500
A19: 10 | B19: Guayas freno de mano o de parqueo (Juego) | C19: 1 | D19: 2144100 | E19: 689900 | F19: 1867000 | G19: 601000 | H19: =(D19+F19)/2 -> 2005550 | I19: =(E19+G19)/2 -> 645450
A20: 11 | B20: Palanca Freno de Mano | C20: 1 | D20: 1129000 | E20: 98200 | F20: 1044000 | G20: 91000 | H20: =(D20+F20)/2 -> 1086500 | I20: =(E20+G20)/2 -> 94600
A21: 12 | B21: Resorte de Banda | C21: 1 | D21: 258400 | E21: 40200 | F21: 231000 | G21: 36000 | H21: =(D21+F21)/2 -> 244700 | I21: =(E21+G21)/2 -> 38100
A22: 13 | B22: Pistón mordaza (juego) | C22: 1 | D22: 2004500 | E22: 339400 | F22: 1857000 | G22: 314000 | H22: =(D22+F22)/2 -> 1930750 | I22: =(E22+G22)/2 -> 326700
A23: 14 | B23: Mordazas y sus pasadores (juego) | C23: 1 | D23: 6319200 | E23: 345000 | F23: 5810000 | G23: 317000 | H23: =(D23+F23)/2 -> 6064600 | I23: =(E23+G23)/2 -> 331000
A24: 15 | B24: Ligas clíper (jugo) | C24: 1 | D24: 2360300 | E24: 486800 | F24: 2096000 | G24: 432000 | H24: =(D24+F24)/2 -> 2228150 | I24: =(E24+G24)/2 -> 459400
A25: 16 | B25: Bomba de freno | C25: 1 | D25: 5027300 | E25: 1368700 | F25: 4700000 | G25: 1280000 | H25: =(D25+F25)/2 -> 4863650 | I25: =(E25+G25)/2 -> 1324350
A26: 17 | B26: Manguera freno | C26: 1 | D26: 1203600 | E26: 169800 | F26: 1105000 | G26: 156000 | H26: =(D26+F26)/2 -> 1154300 | I26: =(E26+G26)/2 -> 162900
A27: 18 | B27: Limpiador de frenos o discos 536 ml | C27: 1 | D27: 98400 | E27: 43100 | F27: 86000 | G27: 38000 | H27: =(D27+F27)/2 -> 92200 | I27: =(E27+G27)/2 -> 40550
B28: SISTEMA DE SUSPENSIÓN
A29: 19 | B29: M.O Revisión General de Suspensión Delantera | C29: 1 | D29: N/A | E29: 600000 | F29: N/A | G29: 540000 | H29: N/A | I29: =(E29+G29)/2 -> 570000
A30: 20 | B30: M.O Revisión General de Suspensión Trasera | C30: 1 | D30: N/A | E30: 480000 | F30: N/A | G30: 432000 | H30: N/A | I30: =(E30+G30)/2 -> 456000
A31: 21 | B31: Juego amortiguadores delanteros (incluidos bujes, copelas, arandelas, pasadores y tuercas) | C31: 1 | D31: 4050900 | E31: 500900 | F31: 3646000 | G31: 451000 | H31: =(D31+F31)/2 -> 3848450 | I31: =(E31+G31)/2 -> 475950
A32: 22 | B32: Juego de brazos axiales | C32: 1 | D32: 2681600 | E32: 678800 | F32: 2440000 | G32: 618000 | H32: =(D32+F32)/2 -> 2560800 | I32: =(E32+G32)/2 -> 648400
A33: 23 | B33: Juego de rotulas superiores con sus tuercas y pines | C33: 1 | D33: 2121600 | E33: 667700 | F33: 1909000 | G33: 601000 | H33: =(D33+F33)/2 -> 2015300 | I33: =(E33+G33)/2 -> 634350
A34: 24 | B34: Juego de rotulas inferiores con sus tuercas y pines | C34: 1 | D34: 2070000 | E34: 684300 | F34: 1851000 | G34: 612000 | H34: =(D34+F34)/2 -> 1960500 | I34: =(E34+G34)/2 -> 648150
A35: 25 | B35: Juego de, muñecos, bujes y cauchos de la barra estabilizadora delantera | C35: 1 | D35: 3399400 | E35: 336600 | F35: 3034000 | G35: 300000 | H35: =(D35+F35)/2 -> 3216700 | I35: =(E35+G35)/2 -> 318300
A36: 26 | B36: Juego de Tijeras superiores delanteras incluyendo bujes cuando aplique. | C36: 1 | D36: 3849100 | E36: 695500 | F36: 3541000 | G36: 640000 | H36: =(D36+F36)/2 -> 3695050 | I36: =(E36+G36)/2 -> 667750
A37: 27 | B37: Juego de Tijeras inferiores delanteras incluyendo bujes cuando aplique. | C37: 1 | D37: 3762300 | E37: 1335300 | F37: 3606000 | G37: 1280000 | H37: =(D37+F37)/2 -> 3684150 | I37: =(E37+G37)/2 -> 1307650
A38: 28 | B38: Juego de bujes tijeras superior e inferiores | C38: 1 | D38: 1833000 | E38: 1390900 | F38: 1672000 | G38: 1269000 | H38: =(D38+F38)/2 -> 1752500 | I38: =(E38+G38)/2 -> 1329950
A39: 29 | B39: Juego espirales delanteros. | C39: 1 | D39: 1843600 | E39: 509200 | F39: 1723000 | G39: 476000 | H39: =(D39+F39)/2 -> 1783300 | I39: =(E39+G39)/2 -> 492600
A40: 30 | B40: Juego soportes amortiguadores delanteros con sus rodamientos | C40: 1 | D40: 857600 | E40: 1026500 | F40: 795000 | G40: 951000 | H40: =(D40+F40)/2 -> 826300 | I40: =(E40+G40)/2 -> 988750
A41: 31 | B41: Barra estabilizadora delantera | C41: 1 | D41: 3922000 | E41: 500900 | F41: 3530000 | G41: 451000 | H41: =(D41+F41)/2 -> 3726000 | I41: =(E41+G41)/2 -> 475950
A42: 32 | B42: Juego rodamientos delanteros | C42: 1 | D42: 5712500 | E42: 448500 | F42: 5160000 | G42: 405000 | H42: =(D42+F42)/2 -> 5436250 | I42: =(E42+G42)/2 -> 426750
... A56: 46 | B56: Esparrago y Tuerca Esparrago | C56: 1 | D56: 136300 | E56: 208900 | F56: 123000 | G56: 188000 | H56: =(D56+F56)/2 -> 129650 | I56: =(E56+G56)/2 -> 198450
A57: 47 | B57: Libra de Grasa | C57: 1 | D57: 94000 | E57: N/A | F57: 83000 | G57: N/A | H57: =(D57+F57)/2 -> 88500 | I57: N/A
A58: 48 | B58: Juego Templetes o tensores traseros largos y cortos con sus bujes o (brazo control superior e inferior con sus bujes) | C58: 1 | D58: 1036400 | E58: 339400 | F58: 917000 | G58: 300000 | H58: =(D58+F58)/2 -> 976700 | I58: =(E58+G58)/2 -> 319700
B59: SISTEMA DE DIRECCIÓN
A60: 49 | B60: Caja de dirección. | C60: 1 | D60: 7050200 | E60: 1001500 | F60: 6404000 | G60: 910000 | H60: =(D60+F60)/2 -> 6727100 | I60: =(E60+G60)/2 -> 955750
A61: 50 | B61: Brazo Axial | C61: 1 | D61: 969900 | E61: 336600 | F61: 874000 | G61: 303000 | H61: =(D61+F61)/2 -> 921950 | I61: =(E61+G61)/2 -> 319800
A62: 51 | B62: Terminal de Dirección | C62: 1 | D62: 6754200 | E62: 169800 | F62: 6090000 | G62: 153000 | H62: =(D62+F62)/2 -> 6422100 | I62: =(E62+G62)/2 -> 161400
A63: 52 | B63: Cruceta de Dirección | C63: 1 | D63: 1205100 | E63: 80100 | F63: 1067000 | G63: 71000 | H63: =(D63+F63)/2 -> 1136050 | I63: =(E63+G63)/2 -> 75550
A64: 53 | B64: Bomba de Dirección | C64: 1 | D64: 9774300 | E64: 678800 | F64: 8653000 | G64: 601000 | H64: =(D64+F64)/2 -> 9213650 | I64: =(E64+G64)/2 -> 639900
A65: 54 | B65: Deposito Tanque Hidraulico | C65: 1 | D65: 972300 | E65: 72600 | F65: 901000 | G65: 67000 | H65: =(D65+F65)/2 -> 936650 | I65: =(E65+G65)/2 -> 69800
A66: 55 | B66: Rin | C66: 1 | D66: 2086500 | E66: 64900 | F66: 1949000 | G66: 61000 | H66: =(D66+F66)/2 -> 2017750 | I66: =(E66+G66)/2 -> 62950
A67: 56 | B67: Eje principal dirección o caña dirección | C67: 1 | D67: 1948000 | E67: 261800 | F67: 1792000 | G67: 241000 | H67: =(D67+F67)/2 -> 1870000 | I67: =(E67+G67)/2 -> 251400
A68: 57 | B68: Juego Guardapolvos caja de dirección con sus abrazaderas | C68: 1 | D68: 2717700 | E68: 678800 | F68: 2562000 | G68: 640000 | H68: =(D68+F68)/2 -> 2639850 | I68: =(E68+G68)/2 -> 659400
A69: 58 | B69: Juego guardapolvos brazos axiales con sus abrazaderas | C69: 1 | D69: 881600 | E69: 104500 | F69: 824000 | G69: 98000 | H69: =(D69+F69)/2 -> 852800 | I69: =(E69+G69)/2 -> 101250
A70: 59 | B70: Bomba hidráulico dirección | C70: 1 | D70: 6516100 | E70: 678800 | F70: 5822000 | G70: 606000 | H70: =(D70+F70)/2 -> 6169050 | I70: =(E70+G70)/2 -> 642400
A71: 60 | B71: Mangueras bomba dirección hidráulica | C71: 1 | D71: 5196500 | E71: 169800 | F71: 4856000 | G71: 159000 | H71: =(D71+F71)/2 -> 5026250 | I71: =(E71+G71)/2 -> 164400
A72: 61 | B72: Juego bujes soportes caja dirección | C72: 1 | D72: 1839900 | E72: 88800 | F72: 1717000 | G72: 83000 | H72: =(D72+F72)/2 -> 1778450 | I72: =(E72+G72)/2 -> 85900
B73: SISTEMA DE TRANSMISIÓN
A74: 62 | B74: caja de transmisión mecánica | C74: 1 | D74: 12925100 | E74: 1046600 | F74: 11750000 | G74: 951000 | H74: =(D74+F74)/2 -> 12337550 | I74: =(E74+G74)/2 -> 998800
A75: 63 | B75: caja de transmisión automática | C75: 1 | D75: 6462700 | E75: 323700 | F75: 5875000 | G75: 294000 | H75: =(D75+F75)/2 -> 6168850 | I75: =(E75+G75)/2 -> 308850
A76: 64 | B76: Empaquetadura caja de transmisión | C76: 1 | D76: 5734500 | E76: 1460900 | F76: 5138000 | G76: 1309000 | H76: =(D76+F76)/2 -> 5436250 | I76: =(E76+G76)/2 -> 1384950
A77: 65 | B77: Retenedor de entrada trasmisión mec. | C77: 1 | D77: 680400 | E77: 298700 | F77: 607000 | G77: 267000 | H77: =(D77+F77)/2 -> 643700 | I77: =(E77+G77)/2 -> 282850
A78: 66 | B78: Reten lateral caja transversal | C78: 1 | D78: 703600 | E78: 855600 | F78: 618000 | G78: 751000 | H78: =(D78+F78)/2 -> 660800 | I78: =(E78+G78)/2 -> 803300
A79: 67 | B79: Guardapolvo barra cambios | C79: 1 | D79: 1053900 | E79: 154600 | F79: 985000 | G79: 145000 | H79: =(D79+F79)/2 -> 1019450 | I79: =(E79+G79)/2 -> 149800
A80: 68 | B80: Bujes palanca selectora cambios. (kit) | C80: 1 | D80: 1178600 | E80: 168400 | F80: 1062000 | G80: 152000 | H80: =(D80+F80)/2 -> 1120300 | I80: =(E80+G80)/2 -> 160200
A81: 69 | B81: Sensor velocidad | C81: 1 | D81: 1768500 | E81: 167100 | F81: 1680000 | G81: 159000 | H81: =(D81+F81)/2 -> 1724250 | I81: =(E81+G81)/2 -> 163050
A82: 70 | B82: Juego de Guayas freno de mano | C82: 1 | D82: 2126800 | E82: 684300 | F82: 1919000 | G82: 618000 | H82: =(D82+F82)/2 -> 2022900 | I82: =(E82+G82)/2 -> 651150
A83: 71 | B83: Cardan Delantero | C83: 1 | D83: 4276200 | E83: 345000 | F83: 3862000 | G83: 312000 | H83: =(D83+F83)/2 -> 4069100 | I83: =(E83+G83)/2 -> 328500
A84: 72 | B84: Cardan Trasero | C84: 1 | D84: 4310700 | E84: 347700 | F84: 3724000 | G84: 300000 | H84: =(D84+F84)/2 -> 4017350 | I84: =(E84+G84)/2 -> 323850
A85: 73 | B85: Cruceta Cardan | C85: 1 | D85: 1609500 | E85: 150900 | F85: 1454000 | G85: 136000 | H85: =(D85+F85)/2 -> 1531750 | I85: =(E85+G85)/2 -> 143450
... A91: 79 | B91: Semi-eje delantero derecho | C91: 1 | D91: 5579300 | E91: 517600 | F91: 5084000 | G91: 472000 | H91: =(D91+F91)/2 -> 5331650 | I91: =(E91+G91)/2 -> 494800
B92: SISTEMA DE EMBRAGUE
A93: 80 | B93: Kit de embrague (prensa, disco, balinera, buje o rodamiento volante, pasador horquilla, soporte horquilla, horquilla) | C93: 1 | D93: 9543400 | E93: 3104300 | F93: 8620000 | G93: 2804000 | H93: =(D93+F93)/2 -> 9081700 | I93: =(E93+G93)/2 -> 2954150
A94: 81 | B94: Bomba principal embrague | C94: 1 | D94: 3353700 | E94: 336600 | F94: 3021000 | G94: 303000 | H94: =(D94+F94)/2 -> 3187350 | I94: =(E94+G94)/2 -> 319800
A95: 82 | B95: Bomba auxiliar embrague | C95: 1 | D95: 3143600 | E95: 347700 | F95: 2892000 | G95: 320000 | H95: =(D95+F95)/2 -> 3017800 | I95: =(E95+G95)/2 -> 333850
A96: 83 | B96: Manguera embrague | C96: 1 | D96: 1767500 | E96: 169800 | F96: 1565000 | G96: 150000 | H96: =(D96+F96)/2 -> 1666250 | I96: =(E96+G96)/2 -> 159900
A97: 84 | B97: Guaya embrague | C97: 1 | D97: 578100 | E97: 444700 | F97: 513000 | G97: 395000 | H97: =(D97+F97)/2 -> 545550 | I97: =(E97+G97)/2 -> 419850
B98: SISTEMA ELÉCTRICO
A99: 85 | B99: Computador principal motor | C99: 1 | D99: 13138800 | E99: 306600 | F99: 11857000 | G99: 277000 | H99: =(D99+F99)/2 -> 12497900 | I99: =(E99+G99)/2 -> 291800
A100: 86 | B100: Alternador completo. | C100: 1 | D100: 13889000 | E100: 678800 | F100: 12637000 | G100: 618000 | H100: =(D100+F100)/2 -> 13263000 | I100: =(E100+G100)/2 -> 648400
A101: 87 | B101: Motor de Arranque completo. | C101: 1 | D101: 7857800 | E101: 862500 | F101: 7287000 | G101: 800000 | H101: =(D101+F101)/2 -> 7572400 | I101: =(E101+G101)/2 -> 831250
A102: 88 | B102: Batería incluida la instalación y revisión del sistema de carga | C102: 1 | D102: 1750000 | E102: 62500 | F102: 1610000 | G102: 58000 | H102: =(D102+F102)/2 -> 1680000 | I102: =(E102+G102)/2 -> 60250
A103: 89 | B103: Soporte batería incluida la instalación | C103: 1 | D103: 501000 | E103: 496400 | F103: 464000 | G103: 460000 | H103: =(D103+F103)/2 -> 482500 | I103: =(E103+G103)/2 -> 478200
A104: 90 | B104: Bornes o terminales Batería (Jgo.) | C104: 1 | D104: 125300 | E104: 103500 | F104: 109000 | G104: 90000 | H104: =(D104+F104)/2 -> 117150 | I104: =(E104+G104)/2 -> 96750
A105: 91 | B105: Bombillo halógeno o bombillo exploradora | C105: 1 | D105: 430400 | E105: 143500 | F105: 409000 | G105: 136000 | H105: =(D105+F105)/2 -> 419700 | I105: =(E105+G105)/2 -> 139750
A106: 92 | B106: Bombillo (stop, direccional, cocuyo E.T.C.) | C106: 1 | D106: 434000 | E106: 144700 | F106: 409000 | G106: 136000 | H106: =(D106+F106)/2 -> 421500 | I106: =(E106+G106)/2 -> 140350
A107: 93 | B107: Fusibles y /o Mini fusibles, incluida la instalación | C107: 1 | D107: 102100 | E107: 145900 | F107: 94000 | G107: 134000 | H107: =(D107+F107)/2 -> 98050 | I107: =(E107+G107)/2 -> 139950
A108: 94 | B108: Control luces y/o direccionales | C108: 1 | D108: 544000 | E108: 1029300 | F108: 478000 | G108: 905000 | H108: =(D108+F108)/2 -> 511000 | I108: =(E108+G108)/2 -> 967150
A109: 95 | B109: Flacher direccionales | C109: 1 | D109: 437600 | E109: 28900 | F109: 388000 | G109: 26000 | H109: =(D109+F109)/2 -> 412800 | I109: =(E109+G109)/2 -> 27450
A110: 96 | B110: Switch encendido | C110: 1 | D110: 1170800 | E110: 505100 | F110: 1093000 | G110: 472000 | H110: =(D110+F110)/2 -> 1131900 | I110: =(E110+G110)/2 -> 488550
... A118: 104 | B118: Motor deposito lava parabrisas | C118: 1 | D118: 969300 | E118: 102700 | F118: 859000 | G118: 91000 | H118: =(D118+F118)/2 -> 914150 | I118: =(E118+G118)/2 -> 96850
B119: SISTEMA DE REFRIGERACIÓN Y A/A.
A120: 105 | B120: Bomba de agua y empaque | C120: 1 | D120: 2849800 | E120: 920600 | F120: 2685000 | G120: 867000 | H120: =(D120+F120)/2 -> 2767400 | I120: =(E120+G120)/2 -> 893800
A121: 106 | B121: Termostato y empaque, incluyendo pera o sensor de temperatura | C121: 1 | D121: 882400 | E121: 168400 | F121: 802000 | G121: 153000 | H121: =(D121+F121)/2 -> 842200 | I121: =(E121+G121)/2 -> 160700
A122: 107 | B122: Radiador completo con tapa | C122: 1 | D122: 3104400 | E122: 336600 | F122: 2822000 | G122: 306000 | H122: =(D122+F122)/2 -> 2963200 | I122: =(E122+G122)/2 -> 321300
A123: 108 | B123: Deposito auxiliar radiador con tapa | C123: 1 | D123: 1495300 | E123: 101800 | F123: 1360000 | G123: 93000 | H123: =(D123+F123)/2 -> 1427650 | I123: =(E123+G123)/2 -> 97400
A124: 109 | B124: Enfocador radiador | C124: 1 | D124: 972300 | E124: 171200 | F124: 854000 | G124: 150000 | H124: =(D124+F124)/2 -> 913150 | I124: =(E124+G124)/2 -> 160600
A125: 110 | B125: Mangueras radiador, superior e inferior. | C125: 1 | D125: 1481000 | E125: 69100 | F125: 1326000 | G125: 62000 | H125: =(D125+F125)/2 -> 1403500 | I125: =(E125+G125)/2 -> 65550
A126: 111 | B126: Tapa radiador incluida la instalación | C126: 1 | D126: 472000 | E126: N/A | F126: 418000 | G126: N/A | H126: =(D126+F126)/2 -> 445000 | I126: N/A
A127: 112 | B127: Ventilador o electro ventilador. | C127: 1 | D127: 3438400 | E127: 333800 | F127: 3181000 | G127: 309000 | H127: =(D127+F127)/2 -> 3309700 | I127: =(E127+G127)/2 -> 321400
...

Sheet RENAULT
B1: Anexo No. 4 Oferta Económica MANTENIMEINTO VEHICULOS MANO DE OBRA Y REPUESTOS | C1: CANTIDAD | D1: COTIZACION CAMPESA SA | F1: COTIZACION TODO REPUESTOS | H1: PROMEDIO
A3: AUTOMOVIL RENAULT
A4: CITIUS TAXI
A5: 2008
A6: 1.400 C.C.
A7: RENAULT | D7: Valor Repuesto Sin IVA | E7: Valor M.O. Sin IVA | F7: Valor Repuesto Sin IVA | G7: Valor M.O. Sin IVA | H7: Valor Repuesto Sin IVA | I7: Valor M.O. Sin IVA
A9: ítem | B9: SISTEMA DE FRENOS
A10: 1 | B10: Revisión general de frenos: M.O (graduación general de freno de mano y las bandas, limpieza sistema ABS cuando aplique). Sin Repuestos | C10: 1 | D10: 85400 | E10: 305000 | F10: 80000 | G10: 285000 | H10: =(D10+F10)/2 -> 82700 | I10: =(E10+G10)/2 -> 295000
A11: 2 | B11: Liquido de freno DOT según referencia vehículo (pinta - 290 mi) | C11: 1 | D11: 57500 | E11: 248600 | F11: 57000 | G11: 244000 | H11: =(D11+F11)/2 -> 57250 | I11: =(E11+G11)/2 -> 246300
A12: 3 | B12: Pastillas delanteras o traseras (juego) | C12: 1 | D12: 474800 | E12: 261600 | F12: 443000 | G12: 244000 | H12: =(D12+F12)/2 -> 458900 | I12: =(E12+G12)/2 -> 252800
A13: 4 | B13: Bandas delanteras o traseras (juego), incluyendo cambio de puntillas o resortes bandas, cuando aplique | C13: 1 | D13: 732000 | E13: 376000 | F13: 694000 | G13: 357000 | H13: =(D13+F13)/2 -> 713000 | I13: =(E13+G13)/2 -> 366500
A14: 5 | B14: Cilindros freno delanteros o traseros (Jgo) | C14: 1 | D14: 925800 | E14: 111700 | F14: 855000 | G14: 103000 | H14: =(D14+F14)/2 -> 890400 | I14: =(E14+G14)/2 -> 107350
A15: 6 | B15: Campanas delanteras o traseras (Jgo) | C15: 1 | D15: 827200 | E15: 69300 | F15: 771000 | G15: 65000 | H15: =(D15+F15)/2 -> 799100 | I15: =(E15+G15)/2 -> 67150
A16: 7 | B16: Discos delanteros o traseros (Jgo) | C16: 1 | D16: 1160000 | E16: 440800 | F16: 1120000 | G16: 426000 | H16: =(D16+F16)/2 -> 1140000 | I16: =(E16+G16)/2 -> 433400
A17: 8 | B17: Rectificación de Disco | C17: 1 | D17: N/A | E17: 311300 | F17: N/A | G17: 306000 | H17: N/A | I17: =(E17+G17)/2 -> 308650
A18: 9 | B18: Guaya de freno | C18: 1 | D18: 946000 | E18: 261600 | F18: 860000 | G18: 238000 | H18: =(D18+F18)/2 -> 903000 | I18: =(E18+G18)/2 -> 249800
A19: 10 | B19: Guayas freno de mano o de parqueo (Juego) | C19: 1 | D19: 1827500 | E19: 505600 | F19: 1687000 | G19: 467000 | H19: =(D19+F19)/2 -> 1757250 | I19: =(E19+G19)/2 -> 486300
A20: 11 | B20: Palanca Freno de Mano | C20: 1 | D20: 201100 | E20: 80800 | F20: 188000 | G20: 75000 | H20: =(D20+F20)/2 -> 194550 | I20: =(E20+G20)/2 -> 77900
A21: 12 | B21: Mordazas y sus pasadores (juego) | C21: 1 | D21: 2151100 | E21: 257300 | F21: 2043000 | G21: 244000 | H21: =(D21+F21)/2 -> 2097050 | I21: =(E21+G21)/2 -> 250650
A22: 13 | B22: Ligas clíper (jugo) | C22: 1 | D22: 785000 | E22: 261600 | F22: 707000 | G22: 236000 | H22: =(D22+F22)/2 -> 746000 | I22: =(E22+G22)/2 -> 248800
A23: 14 | B23: Bomba de freno | C23: 1 | D23: 1312600 | E23: 758600 | F23: 1245000 | G23: 720000 | H23: =(D23+F23)/2 -> 1278800 | I23: =(E23+G23)/2 -> 739300
A24: 15 | B24: Manguera freno | C24: 1 | D24: 2048600 | E24: 130900 | F24: 1845000 | G24: 118000 | H24: =(D24+F24)/2 -> 1946800 | I24: =(E24+G24)/2 -> 124450
A25: 16 | B25: Limpiador de frenos o discos 536 ml | C25: 1 | D25: 84000 | E25: 31000 | F25: 80000 | G25: 29000 | H25: =(D25+F25)/2 -> 82000 | I25: =(E25+G25)/2 -> 30000
B26: SISTEMA DE SUSPENSIÓN
A27: 17 | B27: M.O Revisión General de Suspensión Delantera | C27: 1 | D27: N/A | E27: 354000 | F27: N/A | G27: 333000 | H27: N/A | I27: =(E27+G27)/2 -> 343500
A28: 18 | B28: M.O Revisión General de Suspensión Trasera | C28: 1 | D28: N/A | E28: 300000 | F28: N/A | G28: 273000 | H28: N/A | I28: =(E28+G28)/2 -> 286500
A29: 19 | B29: Juego amortiguadores delanteros (incluidos bujes, copelas, arandelas, pasadores y tuercas) | C29: 1 | D29: 1967300 | E29: 395500 | F29: 1758000 | G29: 353000 | H29: =(D29+F29)/2 -> 1862650 | I29: =(E29+G29)/2 -> 374250
A30: 20 | B30: Juego de brazos axiales | C30: 1 | D30: 1169200 | E30: 497000 | F30: 1159000 | G30: 493000 | H30: =(D30+F30)/2 -> 1164100 | I30: =(E30+G30)/2 -> 495000
A31: 21 | B31: Juego de, muñecos, bujes y cauchos de la barra estabilizadora delantera | C31: 1 | D31: 703300 | E31: 255100 | F31: 662000 | G31: 240000 | H31: =(D31+F31)/2 -> 682650 | I31: =(E31+G31)/2 -> 247550
A32: 22 | B32: Juego de Tijeras inferiores delanteras incluyendo bujes cuando aplique. | C32: 1 | D32: 1621600 | E32: 1002600 | F32: 1538000 | G32: 951000 | H32: =(D32+F32)/2 -> 1579800 | I32: =(E32+G32)/2 -> 976800
A33: 23 | B33: Juego espirales delanteros. | C33: 1 | D33: 1195200 | E33: 382500 | F33: 1145000 | G33: 366000 | H33: =(D33+F33)/2 -> 1170100 | I33: =(E33+G33)/2 -> 374250
A34: 24 | B34: Juego soportes amortiguadores delanteros con sus rodamientos | C34: 1 | D34: 1915000 | E34: 758600 | F34: 1882000 | G34: 746000 | H34: =(D34+F34)/2 -> 1898500 | I34: =(E34+G34)/2 -> 752300
A35: 25 | B35: Barra estabilizadora delantera | C35: 1 | D35: 1761500 | E35: 372800 | F35: 1762000 | G35: 373000 | H35: =(D35+F35)/2 -> 1761750 | I35: =(E35+G35)/2 -> 372900
A36: 26 | B36: Juego rodamientos delanteros | C36: 1 | D36: 2727600 | E36: 331600 | F36: 2496000 | G36: 303000 | H36: =(D36+F36)/2 -> 2611800 | I36: =(E36+G36)/2 -> 317300
A37: 27 | B37: Juego de Bocines delanteros | C37: 1 | D37: 2768400 | E37: 163700 | F37: 2561000 | G37: 151000 | H37: =(D37+F37)/2 -> 2664700 | I37: =(E37+G37)/2 -> 157350
A38: 28 | B38: Juego amortiguadores traseros (incluidos bujes, copelas, arandelas, pasadores y tuercas) | C38: 1 | D38: 1679400 | E38: 385800 | F38: 1552000 | G38: 357000 | H38: =(D38+F38)/2 -> 1615700 | I38: =(E38+G38)/2 -> 371400
A39: 29 | B39: Juego espirales traseros | C39: 1 | D39: 1104200 | E39: 395500 | F39: 987000 | G39: 353000 | H39: =(D39+F39)/2 -> 1045600 | I39: =(E39+G39)/2 -> 374250
A40: 30 | B40: Juego de, muñecos completos, bujes y cauchos de la barra estabilizadora trasera | C40: 1 | D40: 946700 | E40: 259400 | F40: 892000 | G40: 244000 | H40: =(D40+F40)/2 -> 919350 | I40: =(E40+G40)/2 -> 251700
... A44: 34 | B44: Esparrago y Tuerca Esparrago | C44: 1 | D44: 105900 | E44: 162800 | F44: 99000 | G44: 153000 | H44: =(D44+F44)/2 -> 102450 | I44: =(E44+G44)/2 -> 157900
A45: 35 | B45: Libra de Grasa | C45: 1 | D45: 71300 | E45: N/A | F45: 66000 | G45: N/A | H45: =(D45+F45)/2 -> 68650 | I45: N/A
B46: SISTEMA DE DIRECCIÓN
A47: 36 | B47: Caja de dirección. | C47: 1 | D47: 2050700 | E47: 758600 | F47: 2016000 | G47: 746000 | H47: =(D47+F47)/2 -> 2033350 | I47: =(E47+G47)/2 -> 752300
A48: 37 | B48: Caja Dirección Hidraulica | C48: 1 | D48: 2138300 | E48: 791000 | F48: 1928000 | G48: 713000 | H48: =(D48+F48)/2 -> 2033150 | I48: =(E48+G48)/2 -> 752000
A49: 38 | B49: Brazo Axial | C49: 1 | D49: 444200 | E49: 261600 | F49: 397000 | G49: 233000 | H49: =(D49+F49)/2 -> 420600 | I49: =(E49+G49)/2 -> 247300
A50: 39 | B50: Terminal de Dirección | C50: 1 | D50: 1467700 | E50: 132000 | F50: 1383000 | G50: 124000 | H50: =(D50+F50)/2 -> 1425350 | I50: =(E50+G50)/2 -> 128000
A51: 40 | B51: Bomba de Dirección | C51: 1 | D51: 4599000 | E51: 510000 | F51: 4287000 | G51: 475000 | H51: =(D51+F51)/2 -> 4443000 | I51: =(E51+G51)/2 -> 492500
A52: 41 | B52: Deposito Tanque Hidraulico | C52: 1 | D52: 318800 | E52: 55600 | F52: 297000 | G52: 52000 | H52: =(D52+F52)/2 -> 307900 | I52: =(E52+G52)/2 -> 53800
A53: 42 | B53: Rin | C53: 1 | D53: 592700 | E53: 50700 | F53: 562000 | G53: 48000 | H53: =(D53+F53)/2 -> 577350 | I53: =(E53+G53)/2 -> 49350
A54: 43 | B54: Juego Guardapolvos caja de dirección con sus abrazaderas | C54: 1 | D54: 703600 | E54: 501300 | F54: 667000 | G54: 475000 | H54: =(D54+F54)/2 -> 685300 | I54: =(E54+G54)/2 -> 488150
A55: 44 | B55: Juego guardapolvos brazos axiales con sus abrazaderas | C55: 1 | D55: 444000 | E55: 97900 | F55: 429000 | G55: 95000 | H55: =(D55+F55)/2 -> 436500 | I55: =(E55+G55)/2 -> 96450
A56: 45 | B56: Bomba hidráulico dirección | C56: 1 | D56: 3128500 | E56: 514300 | F56: 2892000 | G56: 475000 | H56: =(D56+F56)/2 -> 3010250 | I56: =(E56+G56)/2 -> 494650
A57: 46 | B57: Mangueras bomba dirección hidráulica | C57: 1 | D57: 2708300 | E57: 132000 | F57: 2508000 | G57: 122000 | H57: =(D57+F57)/2 -> 2608150 | I57: =(E57+G57)/2 -> 127000
A58: 47 | B58: Juego bujes soportes caja dirección | C58: 1 | D58: 900900 | E58: 70200 | F58: 832000 | G58: 65000 | H58: =(D58+F58)/2 -> 866450 | I58: =(E58+G58)/2 -> 67600
B59: SISTEMA DE TRANSMISIÓN
A60: 48 | B60: caja de transmisión mecánica | C60: 1 | D60: 13035100 | E60: 844400 | F60: 12597000 | G60: 816000 | H60: =(D60+F60)/2 -> 12816050 | I60: =(E60+G60)/2 -> 830200
A61: 49 | B61: Retenedor de entrada trasmisión mec. | C61: 1 | D61: 349600 | E61: 245100 | F61: 327000 | G61: 229000 | H61: =(D61+F61)/2 -> 338300 | I61: =(E61+G61)/2 -> 237050
A62: 50 | B62: Reten lateral caja transversal | C62: 1 | D62: 438400 | E62: 659200 | F62: 402000 | G62: 605000 | H62: =(D62+F62)/2 -> 420200 | I62: =(E62+G62)/2 -> 632100
A63: 51 | B63: Guardapolvo barra cambios | C63: 1 | D63: 457500 | E63: 121400 | F63: 434000 | G63: 115000 | H63: =(D63+F63)/2 -> 445750 | I63: =(E63+G63)/2 -> 118200
A64: 52 | B64: Bujes palanca selectora cambios. (kit) | C64: 1 | D64: 712400 | E64: 124400 | F64: 694000 | G64: 121000 | H64: =(D64+F64)/2 -> 703200 | I64: =(E64+G64)/2 -> 122700
A65: 53 | B65: Sensor velocidad | C65: 1 | D65: 449600 | E65: 129800 | F65: 431000 | G65: 124000 | H65: =(D65+F65)/2 -> 440300 | I65: =(E65+G65)/2 -> 126900
A66: 54 | B66: Guaya velocímetro | C66: 1 | D66: 244600 | E66: 131000 | F66: 234000 | G66: 126000 | H66: =(D66+F66)/2 -> 239300 | I66: =(E66+G66)/2 -> 128500
A67: 55 | B67: Juego de Guayas freno de mano | C67: 1 | D67: 1874400 | E67: 518600 | F67: 1718000 | G67: 475000 | H67: =(D67+F67)/2 -> 1796200 | I67: =(E67+G67)/2 -> 496800
A68: 56 | B68: Rodamiento Diferencial | C68: 1 | D68: 389100 | E68: 795300 | F68: 360000 | G68: 736000 | H68: =(D68+F68)/2 -> 374550 | I68: =(E68+G68)/2 -> 765650
A69: 57 | B69: Barra control de Cambios | C69: 1 | D69: 968000 | E69: 125500 | F69: 935000 | G69: 121000 | H69: =(D69+F69)/2 -> 951500 | I69: =(E69+G69)/2 -> 123250
A70: 58 | B70: Pera de Reverso | C70: 1 | D70: 408600 | E70: 66300 | F70: 371000 | G70: 60000 | H70: =(D70+F70)/2 -> 389800 | I70: =(E70+G70)/2 -> 63150
A71: 59 | B71: Soportes caja velocidades (Jgo.) | C71: 1 | D71: 471400 | E71: 248600 | F71: 467000 | G71: 246000 | H71: =(D71+F71)/2 -> 469200 | I71: =(E71+G71)/2 -> 247300
... A73: 61 | B73: Semi-eje delantero derecho | C73: 1 | D73: 2591500 | E73: 385800 | F73: 2483000 | G73: 370000 | H73: =(D73+F73)/2 -> 2537250 | I73: =(E73+G73)/2 -> 377900
B74: SISTEMA DE EMBRAGUE
A75: 62 | B75: Kit de embrague (prensa, disco, balinera, buje o rodamiento volante, pasador horquilla, soporte horquilla, horquilla) | C75: 1 | D75: 3270300 | E75: 1491000 | F75: 3100000 | G75: 1413000 | H75: =(D75+F75)/2 -> 3185150 | I75: =(E75+G75)/2 -> 1452000
A76: 63 | B76: Guaya embrague | C76: 1 | D76: 264200 | E76: 182600 | F76: 240000 | G76: 166000 | H76: =(D76+F76)/2 -> 252100 | I76: =(E76+G76)/2 -> 174300
A77: 64 | B77: Cremallera volante | C77: 1 | D77: 1023700 | E77: 131100 | F77: 1006000 | G77: 129000 | H77: =(D77+F77)/2 -> 1014850 | I77: =(E77+G77)/2 -> 130050
B78: SISTEMA ELÉCTRICO
A79: 65 | B79: Computador principal motor | C79: 1 | D79: 5301600 | E79: 247400 | F79: 5039000 | G79: 235000 | H79: =(D79+F79)/2 -> 5170300 | I79: =(E79+G79)/2 -> 241200
A80: 66 | B80: Alternador completo. | C80: 1 | D80: 4619100 | E80: 505600 | F80: 4343000 | G80: 475000 | H80: =(D80+F80)/2 -> 4481050 | I80: =(E80+G80)/2 -> 490300
A81: 67 | B81: Motor de Arranque completo. | C81: 1 | D81: 2452500 | E81: 621400 | F81: 2367000 | G81: 600000 | H81: =(D81+F81)/2 -> 2409750 | I81: =(E81+G81)/2 -> 610700
A82: 68 | B82: Batería incluida la instalación y revisión del sistema de carga | C82: 1 | D82: 1170000 | E82: 46800 | F82: 1090000 | G82: 44000 | H82: =(D82+F82)/2 -> 1130000 | I82: =(E82+G82)/2 -> 45400
A83: 69 | B83: Soporte batería incluida la instalación | C83: 1 | D83: 191100 | E83: 407400 | F83: 180000 | G83: 384000 | H83: =(D83+F83)/2 -> 185550 | I83: =(E83+G83)/2 -> 395700
A84: 70 | B84: Bornes o terminales Batería (Jgo.) | C84: 1 | D84: 67600 | E84: 78400 | F84: 60000 | G84: 70000 | H84: =(D84+F84)/2 -> 63800 | I84: =(E84+G84)/2 -> 74200
A85: 71 | B85: Bombillo halógeno o bombillo exploradora | C85: 1 | D85: 349000 | E85: 116300 | F85: 325000 | G85: 108000 | H85: =(D85+F85)/2 -> 337000 | I85: =(E85+G85)/2 -> 112150
A86: 72 | B86: Bombillo (stop, direccional, cocuyo E.T.C.) | C86: 1 | D86: 349000 | E86: 116300 | F86: 340000 | G86: 113000 | H86: =(D86+F86)/2 -> 344500 | I86: =(E86+G86)/2 -> 114650
A87: 73 | B87: Fusibles y /o Mini fusibles, incluida la instalación | C87: 1 | D87: 82100 | E87: 117300 | F87: 76000 | G87: 108000 | H87: =(D87+F87)/2 -> 79050 | I87: =(E87+G87)/2 -> 112650
A88: 74 | B88: arreglo general instalación eléctrica | C88: 1 | D88: 430500 | E88: 814400 | F88: 397000 | G88: 752000 | H88: =(D88+F88)/2 -> 413750 | I88: =(E88+G88)/2 -> 783200
A89: 75 | B89: cambio bombillos halógenos y convencionales | C89: 1 | D89: 343100 | E89: 22600 | F89: 322000 | G89: 21000 | H89: =(D89+F89)/2 -> 332550 | I89: =(E89+G89)/2 -> 21800
A90: 76 | B90: Relevos (disyuntores) | C90: 1 | D90: 81000 | E90: 11700 | F90: 79000 | G90: 11000 | H90: =(D90+F90)/2 -> 80000 | I90: =(E90+G90)/2 -> 11350
... A101: 87 | B101: Motor deposito lava parabrisas | C101: 1 | D101: 717200 | E101: 76500 | F101: 687000 | G101: 73000 | H101: =(D101+F101)/2 -> 702100 | I101: =(E101+G101)/2 -> 74750
B102: SISTEMA DE REFRIGERACIÓN Y A/A.
A103: 88 | B103: Bomba de agua y empaque | C103: 1 | D103: 1250400 | E103: 748900 | F103: 1137000 | G103: 681000 | H103: =(D103+F103)/2 -> 1193700 | I103: =(E103+G103)/2 -> 714950
A104: 89 | B104: Termostato y empaque, incluyendo pera o sensor de temperatura | C104: 1 | D104: 589500 | E104: 128700 | F104: 560000 | G104: 122000 | H104: =(D104+F104)/2 -> 574750 | I104: =(E104+G104)/2 -> 125350
A105: 90 | B105: Radiador completo con tapa | C105: 1 | D105: 1897600 | E105: 263700 | F105: 1758000 | G105: 244000 | H105: =(D105+F105)/2 -> 1827800 | I105: =(E105+G105)/2 -> 253850
A106: 91 | B106: Deposito auxiliar radiador con tapa | C106: 1 | D106: 611800 | E106: 74600 | F106: 606000 | G106: 74000 | H106: =(D106+F106)/2 -> 608900 | I106: =(E106+G106)/2 -> 74300
A107: 92 | B107: Soportes radiador | C107: 1 | D107: 258600 | E107: 64100 | F107: 239000 | G107: 59000 | H107: =(D107+F107)/2 -> 248800 | I107: =(E107+G107)/2 -> 61550
A108: 93 | B108: Enfocador radiador | C108: 1 | D108: 453100 | E108: 248600 | F108: 449000 | G108: 246000 | H108: =(D108+F108)/2 -> 451050 | I108: =(E108+G108)/2 -> 247300
A109: 94 | B109: Mangueras radiador, superior e inferior. | C109: 1 | D109: 448000 | E109: 124400 | F109: 425000 | G109: 118000 | H109: =(D109+F109)/2 -> 436500 | I109: =(E109+G109)/2 -> 121200
A110: 95 | B110: Tapa radiador incluida la instalación | C110: 1 | D110: 349000 | E110: N/A | F110: 337000 | G110: N/A | H110: =(D110+F110)/2 -> 343000 | I110: N/A
A111: 96 | B111: Ventilador o electro ventilador. | C111: 1 | D111: 2602300 | E111: 255100 | F111: 2514000 | G111: 246000 | H111: =(D111+F111)/2 -> 2558150 | I111: =(E111+G111)/2 -> 250550
A112: 97 | B112: M.O Arreglo sistema A/A, repuestos: (filtro A/A, aceite compresor A/A, GAS, etc.) | C112: 1 | D112: N/A | E112: 1082900 | F112: N/A | G112: 967000 | H112: N/A | I112: =(E112+G112)/2 -> 1024950
A113: 98 | B113: Filtro A/A incluida la instalación | C113: 1 | D113: 194300 | E113: N/A | F113: 188000 | G113: N/A | H113: =(D113+F113)/2 -> 191150 | I113: N/A
A114: 99 | B114: Compresor del A/A. | C114: 1 | D114: 3446900 | E114: 510000 | F114: 3184000 | G114: 471000 | H114: =(D114+F114)/2 -> 3315450 | I114: =(E114+G114)/2 -> 490500
A115: 100 | B115: Condensador del A/A. | C115: 1 | D115: 1740000 | E115: 1160000 | F115: 1665000 | G115: 1110000 | H115: =(D115+F115)/2 -> 1702500 | I115: =(E115+G115)/2 -> 1135000
A116: 101 | B116: Evaporador del A/A. | C116: 1 | D116: 4165000 | E116: 2142000 | F116: 3850000 | G116: 1980000 | H116: =(D116+F116)/2 -> 4007500 | I116: =(E116+G116)/2 -> 2061000
...

Sheet NISSAN 
B1: SONDEO DE MERCADO- COTIZACIONES MANTENIMIENTO VEHICULOS MANO DE OBRA Y REPUESTOS | C1: CANTIDAD | D1: COTIZACION CAMPESA SA | F1: COTIZACION TODO REPUESTOS | H1: PROMEDIO
A3: CAMIONETA NISSAN
A4: PATHFINDER
A5: 2002
A6: 3,500 C.C.
A7: NISSAN | D7: Valor Repuesto Sin IVA | E7: Valor M.O. Sin IVA | F7: Valor Repuesto Sin IVA | G7: Valor M.O. Sin IVA | H7: Valor Repuesto Sin IVA | I7: Valor M.O. Sin IVA
A9: ítem | B9: SISTEMA DE FRENOS
A10: 1 | B10: Revisión general de frenos: M.O (graduación general de freno de mano y las bandas, limpieza sistema ABS cuando aplique). Sin Repuestos | C10: 1 | D10: 80500 | E10: 368000 | F10: 77000 | G10: 352000 | H10: =(D10+F10)/2 -> 78750 | I10: =(E10+G10)/2 -> 360000
A11: 2 | B11: Liquido de freno DOT según referencia vehículo (pinta - 290 mi) | C11: 1 | D11: 59000 | E11: 282700 | F11: 57000 | G11: 271000 | H11: =(D11+F11)/2 -> 58000 | I11: =(E11+G11)/2 -> 276850
A12: 3 | B12: Pastillas delanteras o traseras (juego) | C12: 1 | D12: 514100 | E12: 280400 | F12: 488000 | G12: 266000 | H12: =(D12+F12)/2 -> 501050 | I12: =(E12+G12)/2 -> 273200
A13: 4 | B13: Bandas delanteras o traseras (juego), incluyendo cambio de puntillas o resortes bandas, cuando aplique | C13: 1 | D13: 1610000 | E13: 460000 | F13: 1568000 | G13: 448000 | H13: =(D13+F13)/2 -> 1589000 | I13: =(E13+G13)/2 -> 454000
A14: 5 | B14: Cilindros freno delanteros o traseros (Jgo) | C14: 1 | D14: 872400 | E14: 118200 | F14: 801000 | G14: 109000 | H14: =(D14+F14)/2 -> 836700 | I14: =(E14+G14)/2 -> 113600
A15: 6 | B15: Campanas delanteras o traseras (Jgo) | C15: 1 | D15: 788400 | E15: 71700 | F15: 728000 | G15: 66000 | H15: =(D15+F15)/2 -> 758200 | I15: =(E15+G15)/2 -> 68850
A16: 7 | B16: Discos delanteros o traseros (Jgo) | C16: 1 | D16: 2975000 | E16: 535500 | F16: 2800000 | G16: 504000 | H16: =(D16+F16)/2 -> 2887500 | I16: =(E16+G16)/2 -> 519750
A17: 8 | B17: Rectificación de Disco | C17: 1 | D17: N/A | E17: 335200 | F17: N/A | G17: 302000 | H17: N/A | I17: =(E17+G17)/2 -> 318600
A18: 9 | B18: Guaya de freno | C18: 1 | D18: 910900 | E18: 287500 | F18: 835000 | G18: 264000 | H18: =(D18+F18)/2 -> 872950 | I18: =(E18+G18)/2 -> 275750
A19: 10 | B19: Guayas freno de mano o de parqueo (Juego) | C19: 1 | D19: 1745800 | E19: 551100 | F19: 1700000 | G19: 537000 | H19: =(D19+F19)/2 -> 1722900 | I19: =(E19+G19)/2 -> 544050
A20: 11 | B20: Palanca Freno de Mano | C20: 1 | D20: 1018900 | E20: 83100 | F20: 918000 | G20: 75000 | H20: =(D20+F20)/2 -> 968450 | I20: =(E20+G20)/2 -> 79050
A21: 12 | B21: Resorte de Banda | C21: 1 | D21: 172200 | E21: 33500 | F21: 162000 | G21: 32000 | H21: =(D21+F21)/2 -> 167100 | I21: =(E21+G21)/2 -> 32750
A22: 13 | B22: Pistón mordaza (juego) | C22: 1 | D22: 382200 | E22: 285100 | F22: 360000 | G22: 268000 | H22: =(D22+F22)/2 -> 371100 | I22: =(E22+G22)/2 -> 276550
A23: 14 | B23: Mordazas y sus pasadores (juego) | C23: 1 | D23: 1075200 | E23: 287500 | F23: 1003000 | G23: 268000 | H23: =(D23+F23)/2 -> 1039100 | I23: =(E23+G23)/2 -> 277750
A24: 15 | B24: Ligas clíper (jugo) | C24: 1 | D24: 470500 | E24: 409400 | F24: 424000 | G24: 369000 | H24: =(D24+F24)/2 -> 447250 | I24: =(E24+G24)/2 -> 389200
A25: 16 | B25: Bomba de freno | C25: 1 | D25: 945600 | E25: 1121200 | F25: 929000 | G25: 1102000 | H25: =(D25+F25)/2 -> 937300 | I25: =(E25+G25)/2 -> 1111600
A26: 17 | B26: Manguera freno | C26: 1 | D26: 248900 | E26: 146200 | F26: 235000 | G26: 138000 | H26: =(D26+F26)/2 -> 241950 | I26: =(E26+G26)/2 -> 142100
A27: 18 | B27: Limpiador de frenos o discos 536 ml | C27: 1 | D27: 81900 | E27: 31000 | F27: 76000 | G27: 29000 | H27: =(D27+F27)/2 -> 78950 | I27: =(E27+G27)/2 -> 30000
B28: SISTEMA DE SUSPENSIÓN
A29: 19 | B29: M.O Revisión General de Suspensión Delantera | C29: 1 | D29: N/A | E29: 452200 | F29: N/A | G29: 437000 | H29: N/A | I29: =(E29+G29)/2 -> 444600
A30: 20 | B30: M.O Revisión General de Suspensión Trasera | C30: 1 | D30: N/A | E30: 345000 | F30: N/A | G30: 345000 | H30: N/A | I30: =(E30+G30)/2 -> 345000
A31: 21 | B31: Juego amortiguadores delanteros (incluidos bujes, copelas, arandelas, pasadores y tuercas) | C31: 1 | D31: 850200 | E31: 431300 | F31: 786000 | G31: 399000 | H31: =(D31+F31)/2 -> 818100 | I31: =(E31+G31)/2 -> 415150
A32: 22 | B32: Juego de brazos axiales | C32: 1 | D32: 613900 | E32: 555900 | F32: 609000 | G32: 551000 | H32: =(D32+F32)/2 -> 611450 | I32: =(E32+G32)/2 -> 553450
A33: 23 | B33: Juego de rotulas superiores con sus tuercas y pines | C33: 1 | D33: 341500 | E33: 570300 | F33: 313000 | G33: 522000 | H33: =(D33+F33)/2 -> 327250 | I33: =(E33+G33)/2 -> 546150
A34: 24 | B34: Juego de rotulas inferiores con sus tuercas y pines | C34: 1 | D34: 371500 | E34: 551100 | F34: 352000 | G34: 522000 | H34: =(D34+F34)/2 -> 361750 | I34: =(E34+G34)/2 -> 536550
A35: 25 | B35: Juego de, muñecos, bujes y cauchos de la barra estabilizadora delantera | C35: 1 | D35: 545400 | E35: 289900 | F35: 505000 | G35: 268000 | H35: =(D35+F35)/2 -> 525200 | I35: =(E35+G35)/2 -> 278950
A36: 26 | B36: Juego de Tijeras superiores delanteras incluyendo bujes cuando aplique. | C36: 1 | D36: 775000 | E36: 551100 | F36: 775000 | G36: 551000 | H36: =(D36+F36)/2 -> 775000 | I36: =(E36+G36)/2 -> 551050
A37: 27 | B37: Juego de Tijeras inferiores delanteras incluyendo bujes cuando aplique. | C37: 1 | D37: 891800 | E37: 1169100 | F37: 789000 | G37: 1035000 | H37: =(D37+F37)/2 -> 840400 | I37: =(E37+G37)/2 -> 1102050
A38: 28 | B38: Juego de bujes tijeras superior e inferiores | C38: 1 | D38: 407400 | E38: 1169100 | F38: 371000 | G38: 1064000 | H38: =(D38+F38)/2 -> 389200 | I38: =(E38+G38)/2 -> 1116550
A39: 29 | B39: Juego espirales delanteros. | C39: 1 | D39: 1444700 | E39: 438500 | F39: 1350000 | G39: 410000 | H39: =(D39+F39)/2 -> 1397350 | I39: =(E39+G39)/2 -> 424250
A40: 30 | B40: Juego soportes amortiguadores delanteros con sus rodamientos | C40: 1 | D40: 642300 | E40: 833900 | F40: 631000 | G40: 819000 | H40: =(D40+F40)/2 -> 636650 | I40: =(E40+G40)/2 -> 826450
A41: 31 | B41: Barra estabilizadora delantera | C41: 1 | D41: 816300 | E41: 431300 | F41: 748000 | G41: 395000 | H41: =(D41+F41)/2 -> 782150 | I41: =(E41+G41)/2 -> 413150
A42: 32 | B42: Juego rodamientos delanteros | C42: 1 | D42: 1094800 | E42: 373800 | F42: 1013000 | G42: 346000 | H42: =(D42+F42)/2 -> 1053900 | I42: =(E42+G42)/2 -> 359900
... A56: 46 | B56: Esparrago y Tuerca Esparrago | C56: 1 | D56: 113400 | E56: 173900 | F56: 104000 | G56: 159000 | H56: =(D56+F56)/2 -> 108700 | I56: =(E56+G56)/2 -> 166450
A57: 47 | B57: Libra de Grasa | C57: 1 | D57: 73200 | E57: N/A | F57: 70000 | G57: N/A | H57: =(D57+F57)/2 -> 71600 | I57: N/A
A58: 48 | B58: Juego Templetes o tensores traseros largos y cortos con sus bujes o (brazo control superior e inferior con sus bujes) | C58: 1 | D58: 869700 | E58: 292300 | F58: 806000 | G58: 271000 | H58: =(D58+F58)/2 -> 837850 | I58: =(E58+G58)/2 -> 281650
B59: SISTEMA DE DIRECCIÓN
A60: 49 | B60: Caja de dirección. | C60: 1 | D60: 5916300 | E60: 862600 | F60: 5473000 | G60: 798000 | H60: =(D60+F60)/2 -> 5694650 | I60: =(E60+G60)/2 -> 830300
A61: 50 | B61: Brazo Axial | C61: 1 | D61: 223500 | E61: 278000 | F61: 222000 | G61: 276000 | H61: =(D61+F61)/2 -> 222750 | I61: =(E61+G61)/2 -> 277000
A62: 51 | B62: Terminal de Dirección | C62: 1 | D62: 1006300 | E62: 139000 | F62: 980000 | G62: 135000 | H62: =(D62+F62)/2 -> 993150 | I62: =(E62+G62)/2 -> 137000
A63: 52 | B63: Cruceta de Dirección | C63: 1 | D63: 1112800 | E63: 66700 | F63: 1021000 | G63: 61000 | H63: =(D63+F63)/2 -> 1066900 | I63: =(E63+G63)/2 -> 63850
A64: 53 | B64: Bomba de Dirección | C64: 1 | D64: 9334000 | E64: 570300 | F64: 8706000 | G64: 532000 | H64: =(D64+F64)/2 -> 9020000 | I64: =(E64+G64)/2 -> 551150
A65: 54 | B65: Deposito Tanque Hidraulico | C65: 1 | D65: 812200 | E65: 60500 | F65: 726000 | G65: 54000 | H65: =(D65+F65)/2 -> 769100 | I65: =(E65+G65)/2 -> 57250
A66: 55 | B66: Rin | C66: 1 | D66: 1664100 | E66: 51700 | F66: 1577000 | G66: 49000 | H66: =(D66+F66)/2 -> 1620550 | I66: =(E66+G66)/2 -> 50350
A67: 56 | B67: Eje principal dirección o caña dirección | C67: 1 | D67: 521100 | E67: 210900 | F67: 478000 | G67: 193000 | H67: =(D67+F67)/2 -> 499550 | I67: =(E67+G67)/2 -> 201950
A68: 57 | B68: Juego Guardapolvos caja de dirección con sus abrazaderas | C68: 1 | D68: 547800 | E68: 579900 | F68: 489000 | G68: 518000 | H68: =(D68+F68)/2 -> 518400 | I68: =(E68+G68)/2 -> 548950
A69: 58 | B69: Juego guardapolvos brazos axiales con sus abrazaderas | C69: 1 | D69: 165700 | E69: 86900 | F69: 152000 | G69: 80000 | H69: =(D69+F69)/2 -> 158850 | I69: =(E69+G69)/2 -> 83450
A70: 59 | B70: Bomba hidráulico dirección | C70: 1 | D70: 4705000 | E70: 579900 | F70: 4199000 | G70: 518000 | H70: =(D70+F70)/2 -> 4452000 | I70: =(E70+G70)/2 -> 548950
A71: 60 | B71: Mangueras bomba dirección hidráulica | C71: 1 | D71: 874700 | E71: 139000 | F71: 867000 | G71: 138000 | H71: =(D71+F71)/2 -> 870850 | I71: =(E71+G71)/2 -> 138500
A72: 61 | B72: Juego bujes soportes caja dirección | C72: 1 | D72: 435500 | E72: 73900 | F72: 417000 | G72: 71000 | H72: =(D72+F72)/2 -> 426250 | I72: =(E72+G72)/2 -> 72450
B73: SISTEMA DE TRANSMISIÓN
A74: 62 | B74: caja de transmisión mecánica | C74: 1 | D74: 16135200 | E74: 871000 | F74: 15463000 | G74: 835000 | H74: =(D74+F74)/2 -> 15799100 | I74: =(E74+G74)/2 -> 853000
A75: 63 | B75: caja de transmisión automática | C75: 1 | D75: 5199200 | E75: 260400 | F75: 5020000 | G75: 251000 | H75: =(D75+F75)/2 -> 5109600 | I75: =(E75+G75)/2 -> 255700
A76: 64 | B76: Empaquetadura caja de transmisión | C76: 1 | D76: 1040100 | E76: 1186700 | F76: 988000 | G76: 1128000 | H76: =(D76+F76)/2 -> 1014050 | I76: =(E76+G76)/2 -> 1157350
A77: 65 | B77: Retenedor de entrada trasmisión mec. | C77: 1 | D77: 125100 | E77: 240300 | F77: 120000 | G77: 230000 | H77: =(D77+F77)/2 -> 122550 | I77: =(E77+G77)/2 -> 235150
A78: 66 | B78: Reten lateral caja transversal | C78: 1 | D78: 447100 | E78: 700900 | F78: 439000 | G78: 689000 | H78: =(D78+F78)/2 -> 443050 | I78: =(E78+G78)/2 -> 694950
A79: 67 | B79: Guardapolvo barra cambios | C79: 1 | D79: 219500 | E79: 128700 | F79: 207000 | G79: 121000 | H79: =(D79+F79)/2 -> 213250 | I79: =(E79+G79)/2 -> 124850
A80: 68 | B80: Bujes palanca selectora cambios. (kit) | C80: 1 | D80: 272000 | E80: 143800 | F80: 261000 | G80: 138000 | H80: =(D80+F80)/2 -> 266500 | I80: =(E80+G80)/2 -> 140900
A81: 69 | B81: Sensor velocidad | C81: 1 | D81: 300800 | E81: 139000 | F81: 298000 | G81: 138000 | H81: =(D81+F81)/2 -> 299400 | I81: =(E81+G81)/2 -> 138500
A82: 70 | B82: Juego de Guayas freno de mano | C82: 1 | D82: 1761000 | E82: 555900 | F82: 1640000 | G82: 518000 | H82: =(D82+F82)/2 -> 1700500 | I82: =(E82+G82)/2 -> 536950
A83: 71 | B83: Cardan Delantero | C83: 1 | D83: 2817800 | E83: 285100 | F83: 2652000 | G83: 268000 | H83: =(D83+F83)/2 -> 2734900 | I83: =(E83+G83)/2 -> 276550
A84: 72 | B84: Cardan Trasero | C84: 1 | D84: 2367900 | E84: 287500 | F84: 2210000 | G84: 268000 | H84: =(D84+F84)/2 -> 2288950 | I84: =(E84+G84)/2 -> 277750
A85: 73 | B85: Cruceta Cardan | C85: 1 | D85: 278800 | E85: 291400 | F85: 276000 | G85: 289000 | H85: =(D85+F85)/2 -> 277400 | I85: =(E85+G85)/2 -> 290200
... A91: 79 | B91: Semi-eje delantero derecho | C91: 1 | D91: 1226600 | E91: 416900 | F91: 1142000 | G91: 388000 | H91: =(D91+F91)/2 -> 1184300 | I91: =(E91+G91)/2 -> 402450
B92: SISTEMA DE EMBRAGUE
A93: 80 | B93: Kit de embrague (prensa, disco, balinera, buje o rodamiento volante, pasador horquilla, soporte horquilla, horquilla) | C93: 1 | D93: 1810300 | E93: 2587400 | F93: 1629000 | G93: 2329000 | H93: =(D93+F93)/2 -> 1719650 | I93: =(E93+G93)/2 -> 2458200
A94: 81 | B94: Bomba principal embrague | C94: 1 | D94: 635000 | E94: 287500 | F94: 603000 | G94: 273000 | H94: =(D94+F94)/2 -> 619000 | I94: =(E94+G94)/2 -> 280250
A95: 82 | B95: Bomba auxiliar embrague | C95: 1 | D95: 553100 | E95: 289900 | F95: 521000 | G95: 273000 | H95: =(D95+F95)/2 -> 537050 | I95: =(E95+G95)/2 -> 281450
A96: 83 | B96: Manguera embrague | C96: 1 | D96: 395200 | E96: 143800 | F96: 372000 | G96: 135000 | H96: =(D96+F96)/2 -> 383600 | I96: =(E96+G96)/2 -> 139400
A97: 84 | B97: Guaya embrague | C97: 1 | D97: 37800 | E97: 37800 | F97: 38000 | G97: 38000 | H97: =(D97+F97)/2 -> 37900 | I97: =(E97+G97)/2 -> 37900
B98: SISTEMA ELÉCTRICO
A99: 85 | B99: Computador principal motor | C99: 1 | D99: 12885800 | E99: 240500 | F99: 12101000 | G99: 226000 | H99: =(D99+F99)/2 -> 12493400 | I99: =(E99+G99)/2 -> 233250
A100: 86 | B100: Alternador completo. | C100: 1 | D100: 2872100 | E100: 565500 | F100: 2677000 | G100: 527000 | H100: =(D100+F100)/2 -> 2774550 | I100: =(E100+G100)/2 -> 546250
A101: 87 | B101: Motor de Arranque completo. | C101: 1 | D101: 2083300 | E101: 700900 | F101: 1923000 | G101: 647000 | H101: =(D101+F101)/2 -> 2003150 | I101: =(E101+G101)/2 -> 673950
A102: 88 | B102: Batería incluida la instalación y revisión del sistema de carga | C102: 1 | D102: 1708000 | E102: 61000 | F102: 1512000 | G102: 54000 | H102: =(D102+F102)/2 -> 1610000 | I102: =(E102+G102)/2 -> 57500
A103: 89 | B103: Soporte batería incluida la instalación | C103: 1 | D103: 92500 | E103: 416600 | F103: 84000 | G103: 379000 | H103: =(D103+F103)/2 -> 88250 | I103: =(E103+G103)/2 -> 397800
A104: 90 | B104: Bornes o terminales Batería (Jgo.) | C104: 1 | D104: 25100 | E104: 84300 | F104: 24000 | G104: 81000 | H104: =(D104+F104)/2 -> 24550 | I104: =(E104+G104)/2 -> 82650
A105: 91 | B105: Bombillo halógeno o bombillo exploradora | C105: 1 | D105: 358200 | E105: 119400 | F105: 331000 | G105: 110000 | H105: =(D105+F105)/2 -> 344600 | I105: =(E105+G105)/2 -> 114700
A106: 92 | B106: Bombillo (stop, direccional, cocuyo E.T.C.) | C106: 1 | D106: 364200 | E106: 121400 | F106: 331000 | G106: 110000 | H106: =(D106+F106)/2 -> 347600 | I106: =(E106+G106)/2 -> 115700
A107: 93 | B107: Fusibles y /o Mini fusibles, incluida la instalación | C107: 1 | D107: 85000 | E107: 121400 | F107: 76000 | G107: 108000 | H107: =(D107+F107)/2 -> 80500 | I107: =(E107+G107)/2 -> 114700
A108: 94 | B108: Control luces y/o direccionales | C108: 1 | D108: 441800 | E108: 835900 | F108: 409000 | G108: 773000 | H108: =(D108+F108)/2 -> 425400 | I108: =(E108+G108)/2 -> 804450
A109: 95 | B109: Flacher direccionales | C109: 1 | D109: 355200 | E109: 23400 | F109: 340000 | G109: 22000 | H109: =(D109+F109)/2 -> 347600 | I109: =(E109+G109)/2 -> 22700
A110: 96 | B110: Switch encendido | C110: 1 | D110: 258600 | E110: 438500 | F110: 237000 | G110: 403000 | H110: =(D110+F110)/2 -> 247800 | I110: =(E110+G110)/2 -> 420750
... A118: 104 | B118: Motor deposito lava parabrisas | C118: 1 | D118: 194400 | E118: 85700 | F118: 178000 | G118: 79000 | H118: =(D118+F118)/2 -> 186200 | I118: =(E118+G118)/2 -> 82350
B119: SISTEMA DE REFRIGERACIÓN Y A/A.
A120: 105 | B120: Bomba de agua y empaque | C120: 1 | D120: 656000 | E120: 772500 | F120: 596000 | G120: 702000 | H120: =(D120+F120)/2 -> 626000 | I120: =(E120+G120)/2 -> 737250
A121: 106 | B121: Termostato y empaque, incluyendo pera o sensor de temperatura | C121: 1 | D121: 188900 | E121: 146200 | F121: 167000 | G121: 129000 | H121: =(D121+F121)/2 -> 177950 | I121: =(E121+G121)/2 -> 137600
A122: 107 | B122: Radiador completo con tapa | C122: 1 | D122: 808500 | E122: 292300 | F122: 749000 | G122: 271000 | H122: =(D122+F122)/2 -> 778750 | I122: =(E122+G122)/2 -> 281650
A123: 108 | B123: Deposito auxiliar radiador con tapa | C123: 1 | D123: 324400 | E123: 87900 | F123: 306000 | G123: 83000 | H123: =(D123+F123)/2 -> 315200 | I123: =(E123+G123)/2 -> 85450
A124: 109 | B124: Enfocador radiador | C124: 1 | D124: 227800 | E124: 145000 | F124: 217000 | G124: 138000 | H124: =(D124+F124)/2 -> 222400 | I124: =(E124+G124)/2 -> 141500
A125: 110 | B125: Mangueras radiador, superior e inferior. | C125: 1 | D125: 316900 | E125: 57100 | F125: 288000 | G125: 52000 | H125: =(D125+F125)/2 -> 302450 | I125: =(E125+G125)/2 -> 54550
A126: 111 | B126: Tapa radiador incluida la instalación | C126: 1 | D126: 93000 | E126: N/A | F126: 89000 | G126: N/A | H126: =(D126+F126)/2 -> 91000 | I126: N/A
A127: 112 | B127: Ventilador o electro ventilador. | C127: 1 | D127: 677800 | E127: 285100 | F127: 638000 | G127: 268000 | H127: =(D127+F127)/2 -> 657900 | I127: =(E127+G127)/2 -> 276550
...

Sheet MITSUBISHI
A2: Anexo No. 4 Oferta Económica MANTENIMEINTO VEHICULOS MANO DE OBRA Y REPUESTOS | C2: CANTIDAD | D2: COTIZACION CAMPESA SA | F2: COTIZACION TODO REPUESTOS | H2: PROMEDIO
A4: CAMPERO MITSUBISHI
A5: MONTERO
A6: 2015-2016
A7: 3.828 C.C.
A8: MITSUBISHI | D8: Valor Repuesto Sin IVA | E8: Valor M.O. Sin IVA | F8: Valor Repuesto Sin IVA | G8: Valor M.O. Sin IVA | H8: Valor Repuesto Sin IVA | I8: Valor M.O. Sin IVA
A10: ítem | B10: SISTEMA DE FRENOS
A11: 1 | B11: Revisión general de frenos: M.O (graduación general de freno de mano y las bandas, limpieza sistema ABS cuando aplique). Sin Repuestos | C11: 1 | D11: 85400 | E11: 390400 | F11: 79000 | G11: 362000 | H11: =(D11+F11)/2 -> 82200 | I11: =(E11+G11)/2 -> 376200
A12: 2 | B12: Liquido de freno DOT según referencia vehículo (pinta - 290 mi) | C12: 1 | D12: 61000 | E12: 351800 | F12: 55000 | G12: 317000 | H12: =(D12+F12)/2 -> 58000 | I12: =(E12+G12)/2 -> 334400
A13: 3 | B13: Pastillas delanteras o traseras (juego) | C13: 1 | D13: 557300 | E13: 331600 | F13: 552000 | G13: 329000 | H13: =(D13+F13)/2 -> 554650 | I13: =(E13+G13)/2 -> 330300
A14: 4 | B14: Bandas delanteras o traseras (juego), incluyendo cambio de puntillas o resortes bandas, cuando aplique | C14: 1 | D14: 1610000 | E14: 460000 | F14: 1554000 | G14: 444000 | H14: =(D14+F14)/2 -> 1582000 | I14: =(E14+G14)/2 -> 452000
A15: 5 | B15: Cilindros freno delanteros o traseros (Jgo) | C15: 1 | D15: 750100 | E15: 132800 | F15: 686000 | G15: 122000 | H15: =(D15+F15)/2 -> 718050 | I15: =(E15+G15)/2 -> 127400
A16: 6 | B16: Campanas delanteras o traseras (Jgo) | C16: 1 | D16: 789600 | E16: 83800 | F16: 756000 | G16: 80000 | H16: =(D16+F16)/2 -> 772800 | I16: =(E16+G16)/2 -> 81900
A17: 7 | B17: Discos delanteros o traseros (Jgo) | C17: 1 | D17: 2950000 | E17: 531000 | F17: 2700000 | G17: 486000 | H17: =(D17+F17)/2 -> 2825000 | I17: =(E17+G17)/2 -> 508500
A18: 8 | B18: Rectificación de Disco | C18: 1 | D18: N/A | E18: 389300 | F18: N/A | G18: 364000 | H18: N/A | I18: =(E18+G18)/2 -> 376650
A19: 9 | B19: Guaya de freno | C19: 1 | D19: 1079500 | E19: 331600 | F19: 1079000 | G19: 332000 | H19: =(D19+F19)/2 -> 1079250 | I19: =(E19+G19)/2 -> 331800
A20: 10 | B20: Guayas freno de mano o de parqueo (Juego) | C20: 1 | D20: 2250300 | E20: 691900 | F20: 2082000 | G20: 640000 | H20: =(D20+F20)/2 -> 2166150 | I20: =(E20+G20)/2 -> 665950
A21: 11 | B21: Palanca Freno de Mano | C21: 1 | D21: 440300 | E21: 92100 | F21: 414000 | G21: 87000 | H21: =(D21+F21)/2 -> 427150 | I21: =(E21+G21)/2 -> 89550
A22: 12 | B22: Resorte de Banda | C22: 1 | D22: 230300 | E22: 36400 | F22: 228000 | G22: 36000 | H22: =(D22+F22)/2 -> 229150 | I22: =(E22+G22)/2 -> 36200
A23: 13 | B23: Pistón mordaza (juego) | C23: 1 | D23: 476800 | E23: 346100 | F23: 457000 | G23: 332000 | H23: =(D23+F23)/2 -> 466900 | I23: =(E23+G23)/2 -> 339050
A24: 14 | B24: Mordazas y sus pasadores (juego) | C24: 1 | D24: 1279500 | E24: 334500 | F24: 1191000 | G24: 311000 | H24: =(D24+F24)/2 -> 1235250 | I24: =(E24+G24)/2 -> 322750
A25: 15 | B25: Ligas clíper (jugo) | C25: 1 | D25: 550300 | E25: 476100 | F25: 522000 | G25: 452000 | H25: =(D25+F25)/2 -> 536150 | I25: =(E25+G25)/2 -> 464050
A26: 16 | B26: Bomba de freno | C26: 1 | D26: 1079800 | E26: 1337300 | F26: 1052000 | G26: 1303000 | H26: =(D26+F26)/2 -> 1065900 | I26: =(E26+G26)/2 -> 1320150
A27: 17 | B27: Manguera freno | C27: 1 | D27: 178200 | E27: 175900 | F27: 167000 | G27: 164000 | H27: =(D27+F27)/2 -> 172600 | I27: =(E27+G27)/2 -> 169950
A28: 18 | B28: Limpiador de frenos o discos 536 ml | C28: 1 | D28: 83300 | E28: N/A | F28: 81000 | G28: N/A | H28: =(D28+F28)/2 -> 82150 | I28: N/A
B29: SISTEMA DE SUSPENSIÓN
A30: 19 | B30: M.O Revisión General de Suspensión Delantera | C30: 1 | D30: N/A | E30: 444600 | F30: N/A | G30: 429000 | H30: N/A | I30: =(E30+G30)/2 -> 436800
A31: 20 | B31: M.O Revisión General de Suspensión Trasera | C31: 1 | D31: N/A | E31: 363000 | F31: N/A | G31: 336000 | H31: N/A | I31: =(E31+G31)/2 -> 349500
A32: 21 | B32: Juego amortiguadores delanteros (incluidos bujes, copelas, arandelas, pasadores y tuercas) | C32: 1 | D32: 963800 | E32: 501500 | F32: 914000 | G32: 476000 | H32: =(D32+F32)/2 -> 938900 | I32: =(E32+G32)/2 -> 488750
A33: 22 | B33: Juego de brazos axiales | C33: 1 | D33: 529400 | E33: 697600 | F33: 486000 | G33: 640000 | H33: =(D33+F33)/2 -> 507700 | I33: =(E33+G33)/2 -> 668800
A34: 23 | B34: Juego de rotulas superiores con sus tuercas y pines | C34: 1 | D34: 362600 | E34: 680300 | F34: 338000 | G34: 634000 | H34: =(D34+F34)/2 -> 350300 | I34: =(E34+G34)/2 -> 657150
A35: 24 | B35: Juego de rotulas inferiores con sus tuercas y pines | C35: 1 | D35: 443900 | E35: 691900 | F35: 422000 | G35: 657000 | H35: =(D35+F35)/2 -> 432950 | I35: =(E35+G35)/2 -> 674450
A36: 25 | B36: Juego de, muñecos, bujes y cauchos de la barra estabilizadora delantera | C36: 1 | D36: 861600 | E36: 343200 | F36: 833000 | G36: 332000 | H36: =(D36+F36)/2 -> 847300 | I36: =(E36+G36)/2 -> 337600
A37: 26 | B37: Juego de Tijeras superiores delanteras incluyendo bujes cuando aplique. | C37: 1 | D37: 848100 | E37: 668800 | F37: 804000 | G37: 634000 | H37: =(D37+F37)/2 -> 826050 | I37: =(E37+G37)/2 -> 651400
A38: 27 | B38: Juego de Tijeras inferiores delanteras incluyendo bujes cuando aplique. | C38: 1 | D38: 893800 | E38: 1383400 | F38: 812000 | G38: 1257000 | H38: =(D38+F38)/2 -> 852900 | I38: =(E38+G38)/2 -> 1320200
A39: 28 | B39: Juego de bujes tijeras superior e inferiores | C39: 1 | D39: 431500 | E39: 1383400 | F39: 406000 | G39: 1303000 | H39: =(D39+F39)/2 -> 418750 | I39: =(E39+G39)/2 -> 1343200
A40: 29 | B40: Juego espirales delanteros. | C40: 1 | D40: 1396500 | E40: 501500 | F40: 1384000 | G40: 497000 | H40: =(D40+F40)/2 -> 1390250 | I40: =(E40+G40)/2 -> 499250
A41: 30 | B41: Juego soportes amortiguadores delanteros con sus rodamientos | C41: 1 | D41: 800900 | E41: 1054900 | F41: 735000 | G41: 968000 | H41: =(D41+F41)/2 -> 767950 | I41: =(E41+G41)/2 -> 1011450
A42: 31 | B42: Barra estabilizadora delantera | C42: 1 | D42: 962300 | E42: 497200 | F42: 920000 | G42: 476000 | H42: =(D42+F42)/2 -> 941150 | I42: =(E42+G42)/2 -> 486600
A43: 32 | B43: Juego rodamientos delanteros | C43: 1 | D43: 1377200 | E43: 453400 | F43: 1241000 | G43: 408000 | H43: =(D43+F43)/2 -> 1309100 | I43: =(E43+G43)/2 -> 430700
... A59: 48 | B59: Juego Templetes o tensores traseros largos y cortos con sus bujes o (brazo control superior e inferior con sus bujes) | C59: 1 | D59: 1010500 | E59: 351800 | F59: 895000 | G59: 311000 | H59: =(D59+F59)/2 -> 952750 | I59: =(E59+G59)/2 -> 331400
B60: SISTEMA DE DIRECCIÓN
A61: 49 | B61: Caja de dirección. | C61: 1 | D61: 6645400 | E61: 1003100 | F61: 6302000 | G61: 951000 | H61: =(D61+F61)/2 -> 6473700 | I61: =(E61+G61)/2 -> 977050
A62: 50 | B62: Caja Dirección Hidraulica | C62: 1 | D62: 6931900 | E62: 1046300 | F62: 6359000 | G62: 960000 | H62: =(D62+F62)/2 -> 6645450 | I62: =(E62+G62)/2 -> 1003150
A63: 51 | B63: Brazo Axial | C63: 1 | D63: 186900 | E63: 340300 | F63: 181000 | G63: 329000 | H63: =(D63+F63)/2 -> 183950 | I63: =(E63+G63)/2 -> 334650
A64: 52 | B64: Terminal de Dirección | C64: 1 | D64: 1238500 | E64: 170200 | F64: 1134000 | G64: 156000 | H64: =(D64+F64)/2 -> 1186250 | I64: =(E64+G64)/2 -> 163100
A65: 53 | B65: Cruceta de Dirección | C65: 1 | D65: 1147000 | E65: 76400 | F65: 1043000 | G65: 69000 | H65: =(D65+F65)/2 -> 1095000 | I65: =(E65+G65)/2 -> 72700
A66: 54 | B66: Dado de Dirección | C66: 1 | D66: 910400 | E66: 218800 | F66: 828000 | G66: 199000 | H66: =(D66+F66)/2 -> 869200 | I66: =(E66+G66)/2 -> 208900
A67: 55 | B67: Bomba de Dirección | C67: 1 | D67: 8983600 | E67: 663000 | F67: 8515000 | G67: 628000 | H67: =(D67+F67)/2 -> 8749300 | I67: =(E67+G67)/2 -> 645500
A68: 56 | B68: Deposito Tanque Hidraulico | C68: 1 | D68: 879900 | E68: 65500 | F68: 872000 | G68: 65000 | H68: =(D68+F68)/2 -> 875950 | I68: =(E68+G68)/2 -> 65250
A69: 57 | B69: Rin | C69: 1 | D69: 1253500 | E69: 61300 | F69: 1169000 | G69: 57000 | H69: =(D69+F69)/2 -> 1211250 | I69: =(E69+G69)/2 -> 59150
A70: 58 | B70: Eje principal dirección o caña dirección | C70: 1 | D70: 553600 | E70: 233400 | F70: 539000 | G70: 227000 | H70: =(D70+F70)/2 -> 546300 | I70: =(E70+G70)/2 -> 230200
A71: 59 | B71: Juego Guardapolvos caja de dirección con sus abrazaderas | C71: 1 | D71: 489200 | E71: 686100 | F71: 473000 | G71: 663000 | H71: =(D71+F71)/2 -> 481100 | I71: =(E71+G71)/2 -> 674550
A72: 60 | B72: Juego guardapolvos brazos axiales con sus abrazaderas | C72: 1 | D72: 178200 | E72: 79800 | F72: 172000 | G72: 77000 | H72: =(D72+F72)/2 -> 175100 | I72: =(E72+G72)/2 -> 78400
... A76: 64 | B76: Juego bujes soportes caja dirección | C76: 1 | D76: 490100 | E76: 83400 | F76: 469000 | G76: 80000 | H76: =(D76+F76)/2 -> 479550 | I76: =(E76+G76)/2 -> 81700
B77: SISTEMA DE TRANSMISIÓN
A78: 65 | B78: caja de transmisión mecánica | C78: 1 | D78: 15014300 | E78: 1012100 | F78: 14013000 | G78: 945000 | H78: =(D78+F78)/2 -> 14513650 | I78: =(E78+G78)/2 -> 978550
A79: 66 | B79: caja de transmisión automática | C79: 1 | D79: 6197300 | E79: 310300 | F79: 5677000 | G79: 284000 | H79: =(D79+F79)/2 -> 5937150 | I79: =(E79+G79)/2 -> 297150
A80: 67 | B80: Empaquetadura caja de transmisión | C80: 1 | D80: 1180700 | E80: 1364300 | F80: 1122000 | G80: 1297000 | H80: =(D80+F80)/2 -> 1151350 | I80: =(E80+G80)/2 -> 1330650
A81: 68 | B81: Retenedor de entrada trasmisión mec. | C81: 1 | D81: 139000 | E81: 284100 | F81: 134000 | G81: 275000 | H81: =(D81+F81)/2 -> 136500 | I81: =(E81+G81)/2 -> 279550
A82: 69 | B82: Reten lateral caja transversal | C82: 1 | D82: 405400 | E82: 857400 | F82: 371000 | G82: 785000 | H82: =(D82+F82)/2 -> 388200 | I82: =(E82+G82)/2 -> 821200
A83: 70 | B83: Guardapolvo barra cambios | C83: 1 | D83: 227500 | E83: 145500 | F83: 205000 | G83: 131000 | H83: =(D83+F83)/2 -> 216250 | I83: =(E83+G83)/2 -> 138250
A84: 71 | B84: Bujes palanca selectora cambios. (kit) | C84: 1 | D84: 330800 | E84: 171600 | F84: 320000 | G84: 166000 | H84: =(D84+F84)/2 -> 325400 | I84: =(E84+G84)/2 -> 168800
A85: 72 | B85: Sensor velocidad | C85: 1 | D85: 392100 | E85: 171600 | F85: 366000 | G85: 160000 | H85: =(D85+F85)/2 -> 379050 | I85: =(E85+G85)/2 -> 165800
A86: 73 | B86: Guaya velocímetro | C86: 1 | D86: 128800 | E86: 155700 | F86: 122000 | G86: 148000 | H86: =(D86+F86)/2 -> 125400 | I86: =(E86+G86)/2 -> 151850
A87: 74 | B87: Juego de Guayas freno de mano | C87: 1 | D87: 2212800 | E87: 680300 | F87: 2044000 | G87: 628000 | H87: =(D87+F87)/2 -> 2128400 | I87: =(E87+G87)/2 -> 654150
A88: 75 | B88: Cardan Delantero | C88: 1 | D88: 2685600 | E88: 343200 | F88: 2505000 | G88: 320000 | H88: =(D88+F88)/2 -> 2595300 | I88: =(E88+G88)/2 -> 331600
A89: 76 | B89: Cardan Trasero | C89: 1 | D89: 3195800 | E89: 340300 | F89: 2979000 | G89: 317000 | H89: =(D89+F89)/2 -> 3087400 | I89: =(E89+G89)/2 -> 328650
... A96: 83 | B96: Semi-eje delantero derecho | C96: 1 | D96: 1597400 | E96: 497200 | F96: 1597000 | G96: 497000 | H96: =(D96+F96)/2 -> 1597200 | I96: =(E96+G96)/2 -> 497100
B97: SISTEMA DE EMBRAGUE
A98: 84 | B98: Kit de embrague (prensa, disco, balinera, buje o rodamiento volante, pasador horquilla, soporte horquilla, horquilla) | C98: 1 | D98: 1969600 | E98: 3138600 | F98: 1823000 | G98: 2905000 | H98: =(D98+F98)/2 -> 1896300 | I98: =(E98+G98)/2 -> 3021800
A99: 85 | B99: Prensa Embrague | C99: 1 | D99: 720800 | E99: 3060800 | F99: 702000 | G99: 2983000 | H99: =(D99+F99)/2 -> 711400 | I99: =(E99+G99)/2 -> 3021900
A100: 86 | B100: Disco Embrague | C100: 1 | D100: 455400 | E100: 3138600 | F100: 425000 | G100: 2931000 | H100: =(D100+F100)/2 -> 440200 | I100: =(E100+G100)/2 -> 3034800
A101: 87 | B101: Balinera Embrague | C101: 1 | D101: 162800 | E101: 365400 | F101: 161000 | G101: 362000 | H101: =(D101+F101)/2 -> 161900 | I101: =(E101+G101)/2 -> 363700
A102: 88 | B102: Bomba principal embrague | C102: 1 | D102: 774600 | E102: 334500 | F102: 721000 | G102: 311000 | H102: =(D102+F102)/2 -> 747800 | I102: =(E102+G102)/2 -> 322750
A103: 89 | B103: Bomba auxiliar embrague | C103: 1 | D103: 687600 | E103: 349000 | F103: 654000 | G103: 332000 | H103: =(D103+F103)/2 -> 670800 | I103: =(E103+G103)/2 -> 340500
A104: 90 | B104: Manguera embrague | C104: 1 | D104: 409300 | E104: 171600 | F104: 396000 | G104: 166000 | H104: =(D104+F104)/2 -> 402650 | I104: =(E104+G104)/2 -> 168800
A105: 91 | B105: Guaya embrague | C105: 1 | D105: 418500 | E105: 211600 | F105: 393000 | G105: 199000 | H105: =(D105+F105)/2 -> 405750 | I105: =(E105+G105)/2 -> 205300
A106: 92 | B106: Cremallera volante | C106: 1 | D106: 991900 | E106: 1063900 | F106: 934000 | G106: 1001000 | H106: =(D106+F106)/2 -> 962950 | I106: =(E106+G106)/2 -> 1032450
B107: SISTEMA ELÉCTRICO
A108: 93 | B108: Computador principal motor | C108: 1 | D108: 9374200 | E108: 291600 | F108: 8905000 | G108: 277000 | H108: =(D108+F108)/2 -> 9139600 | I108: =(E108+G108)/2 -> 284300
A109: 94 | B109: Alternador completo. | C109: 1 | D109: 2761300 | E109: 668800 | F109: 2618000 | G109: 634000 | H109: =(D109+F109)/2 -> 2689650 | I109: =(E109+G109)/2 -> 651400
A110: 95 | B110: Reparación general Alternador. Repuestos (escobillas, porta escobillas, rodamientos, regulador de voltaje, diodos y porta diodos etc.) | C110: 1 | D110: 2253700 | E110: 921100 | F110: 2215000 | G110: 905000 | H110: =(D110+F110)/2 -> 2234350 | I110: =(E110+G110)/2 -> 913050
A111: 96 | B111: Motor de Arranque completo. | C111: 1 | D111: 3404600 | E111: 857400 | F111: 3290000 | G111: 829000 | H111: =(D111+F111)/2 -> 3347300 | I111: =(E111+G111)/2 -> 843200
A112: 97 | B112: Reparación general de arranque (Inducido, automático, bendix, bujes, escobillas) | C112: 1 | D112: 1020600 | E112: 689000 | F112: 977000 | G112: 660000 | H112: =(D112+F112)/2 -> 998800 | I112: =(E112+G112)/2 -> 674500
A113: 98 | B113: Batería incluida la instalación y revisión del sistema de carga | C113: 1 | D113: 1666000 | E113: 59500 | F113: 1568000 | G113: 56000 | H113: =(D113+F113)/2 -> 1617000 | I113: =(E113+G113)/2 -> 57750
A114: 99 | B114: Soporte batería incluida la instalación | C114: 1 | D114: 128200 | E114: 480200 | F114: 123000 | G114: 460000 | H114: =(D114+F114)/2 -> 125600 | I114: =(E114+G114)/2 -> 470100
A115: 100 | B115: Bornes o terminales Batería (Jgo.) | C115: 1 | D115: 27100 | E115: 102100 | F115: 25000 | G115: 96000 | H115: =(D115+F115)/2 -> 26050 | I115: =(E115+G115)/2 -> 99050
A116: 101 | B116: Bombillo halógeno o bombillo exploradora | C116: 1 | D116: 432600 | E116: 144200 | F116: 390000 | G116: 130000 | H116: =(D116+F116)/2 -> 411300 | I116: =(E116+G116)/2 -> 137100
A117: 102 | B117: Bombillo (stop, direccional, cocuyo E.T.C.) | C117: 1 | D117: 411300 | E117: 137100 | F117: 401000 | G117: 134000 | H117: =(D117+F117)/2 -> 406150 | I117: =(E117+G117)/2 -> 135550
A118: 103 | B118: Fusibles y /o Mini fusibles, incluida la instalación | C118: 1 | D118: 97600 | E118: 139500 | F118: 93000 | G118: 132000 | H118: =(D118+F118)/2 -> 95300 | I118: =(E118+G118)/2 -> 135750
A119: 104 | B119: arreglo general instalación eléctrica | C119: 1 | D119: 516000 | E119: 976300 | F119: 481000 | G119: 910000 | H119: =(D119+F119)/2 -> 498500 | I119: =(E119+G119)/2 -> 943150
... A133: 118 | B133: Motor deposito lava parabrisas | C133: 1 | D133: 228000 | E133: 104700 | F133: 207000 | G133: 95000 | H133: =(D133+F133)/2 -> 217500 | I133: =(E133+G133)/2 -> 99850
B134: SISTEMA DE REFRIGERACIÓN Y A/A.
A135: 119 | B135: Bomba de agua y empaque | C135: 1 | D135: 631500 | E135: 875400 | F135: 573000 | G135: 794000 | H135: =(D135+F135)/2 -> 602250 | I135: =(E135+G135)/2 -> 834700
A136: 120 | B136: Termostato y empaque, incluyendo pera o sensor de temperatura | C136: 1 | D136: 157100 | E136: 167300 | F136: 146000 | G136: 156000 | H136: =(D136+F136)/2 -> 151550 | I136: =(E136+G136)/2 -> 161650
A137: 121 | B137: Radiador completo con tapa | C137: 1 | D137: 772500 | E137: 337400 | F137: 739000 | G137: 323000 | H137: =(D137+F137)/2 -> 755750 | I137: =(E137+G137)/2 -> 330200
A138: 122 | B138: Deposito auxiliar radiador con tapa | C138: 1 | D138: 237700 | E138: 100400 | F138: 227000 | G138: 96000 | H138: =(D138+F138)/2 -> 232350 | I138: =(E138+G138)/2 -> 98200
A139: 123 | B139: Soportes radiador | C139: 1 | D139: 100400 | E139: 75500 | F139: 98000 | G139: 74000 | H139: =(D139+F139)/2 -> 99200 | I139: =(E139+G139)/2 -> 74750
A140: 124 | B140: Enfocador radiador | C140: 1 | D140: 172700 | E140: 170200 | F140: 168000 | G140: 166000 | H140: =(D140+F140)/2 -> 170350 | I140: =(E140+G140)/2 -> 168100
...

Sheet MAZDA
B1: Anexo No. 4 Oferta Económica MANTENIMEINTO VEHICULOS MANO DE OBRA Y REPUESTOS | C1: CANTIDAD | D1: COTIZACION CAMPESA SA | F1: COTIZACION TODO REPUESTOS | H1: PROMEDIO
A3: CAMIONETA MAZDA
A4: B2600 DC3
A5: 2005 a 2009
A6: 2,600 C.C.
A7: MAZDA | D7: Valor Repuesto Sin IVA | E7: Valor M.O. Sin IVA | F7: Valor Repuesto Sin IVA | G7: Valor M.O. Sin IVA | H7: Valor Repuesto Sin IVA | I7: Valor M.O. Sin IVA
A9: ítem | B9: SISTEMA DE FRENOS
A10: 1 | B10: Revisión general de frenos: M.O (graduación general de freno de mano y las bandas, limpieza sistema ABS cuando aplique). Sin Repuestos | C10: 1 | D10: 84700 | E10: 387200 | F10: 76000 | G10: 346000 | H10: =(D10+F10)/2 -> 80350 | I10: =(E10+G10)/2 -> 366600
A11: 2 | B11: Liquido de freno DOT según referencia vehículo (pinta - 290 mi) | C11: 1 | D11: 58500 | E11: 326100 | F11: 57000 | G11: 315000 | H11: =(D11+F11)/2 -> 57750 | I11: =(E11+G11)/2 -> 320550
A12: 3 | B12: Pastillas delanteras o traseras (juego) | C12: 1 | D12: 1940500 | E12: 331700 | F12: 1875000 | G12: 321000 | H12: =(D12+F12)/2 -> 1907750 | I12: =(E12+G12)/2 -> 326350
A13: 4 | B13: Bandas delanteras o traseras (juego), incluyendo cambio de puntillas o resortes bandas, cuando aplique | C13: 1 | D13: 1694000 | E13: 484000 | F13: 1512000 | G13: 432000 | H13: =(D13+F13)/2 -> 1603000 | I13: =(E13+G13)/2 -> 458000
A14: 5 | B14: Cilindros freno delanteros o traseros (Jgo) | C14: 1 | D14: 1410300 | E14: 137700 | F14: 1283000 | G14: 125000 | H14: =(D14+F14)/2 -> 1346650 | I14: =(E14+G14)/2 -> 131350
A15: 6 | B15: Campanas delanteras o traseras (Jgo) | C15: 1 | D15: 7525800 | E15: 66000 | F15: 7007000 | G15: 61000 | H15: =(D15+F15)/2 -> 7266400 | I15: =(E15+G15)/2 -> 63500
A16: 7 | B16: Discos delanteros o traseros (Jgo) | C16: 1 | D16: 3025000 | E16: 544500 | F16: 2875000 | G16: 518000 | H16: =(D16+F16)/2 -> 2950000 | I16: =(E16+G16)/2 -> 531250
A17: 8 | B17: Rectificación de Disco | C17: 1 | D17: N/A | E17: 512700 | F17: N/A | G17: 491000 | H17: N/A | I17: =(E17+G17)/2 -> 501850
A18: 9 | B18: Guaya de freno | C18: 1 | D18: 1053900 | E18: 323300 | F18: 1008000 | G18: 309000 | H18: =(D18+F18)/2 -> 1030950 | I18: =(E18+G18)/2 -> 316150
A19: 10 | B19: Guayas freno de mano o de parqueo (Juego) | C19: 1 | D19: 2431700 | E19: 640800 | F19: 2284000 | G19: 602000 | H19: =(D19+F19)/2 -> 2357850 | I19: =(E19+G19)/2 -> 621400
A20: 11 | B20: Palanca Freno de Mano | C20: 1 | D20: 964800 | E20: 75000 | F20: 884000 | G20: 69000 | H20: =(D20+F20)/2 -> 924400 | I20: =(E20+G20)/2 -> 72000
A21: 12 | B21: Resorte de Banda | C21: 1 | D21: 317700 | E21: 44700 | F21: 304000 | G21: 43000 | H21: =(D21+F21)/2 -> 310850 | I21: =(E21+G21)/2 -> 43850
A22: 13 | B22: Pistón mordaza (juego) | C22: 1 | D22: 4432000 | E22: 340000 | F22: 4069000 | G22: 312000 | H22: =(D22+F22)/2 -> 4250500 | I22: =(E22+G22)/2 -> 326000
A23: 14 | B23: Mordazas y sus pasadores (juego) | C23: 1 | D23: 5275300 | E23: 337200 | F23: 4839000 | G23: 309000 | H23: =(D23+F23)/2 -> 5057150 | I23: =(E23+G23)/2 -> 323100
A24: 15 | B24: Ligas clíper (jugo) | C24: 1 | D24: 1247600 | E24: 468000 | F24: 1185000 | G24: 445000 | H24: =(D24+F24)/2 -> 1216300 | I24: =(E24+G24)/2 -> 456500
A25: 16 | B25: Bomba de freno | C25: 1 | D25: 1301100 | E25: 1325800 | F25: 1181000 | G25: 1203000 | H25: =(D25+F25)/2 -> 1241050 | I25: =(E25+G25)/2 -> 1264400
A26: 17 | B26: Manguera freno | C26: 1 | D26: 279800 | E26: 170000 | F26: 261000 | G26: 159000 | H26: =(D26+F26)/2 -> 270400 | I26: =(E26+G26)/2 -> 164500
A27: 18 | B27: Limpiador de frenos o discos 536 ml | C27: 1 | D27: 84700 | E27: 36800 | F27: 80000 | G27: 35000 | H27: =(D27+F27)/2 -> 82350 | I27: =(E27+G27)/2 -> 35900
B28: SISTEMA DE SUSPENSIÓN
A29: 19 | B29: M.O Revisión General de Suspensión Delantera | C29: 1 | D29: N/A | E29: 452200 | F29: N/A | G29: 414000 | H29: N/A | I29: =(E29+G29)/2 -> 433100
A30: 20 | B30: M.O Revisión General de Suspensión Trasera | C30: 1 | D30: N/A | E30: 360000 | F30: N/A | G30: 324000 | H30: N/A | I30: =(E30+G30)/2 -> 342000
A31: 21 | B31: Juego amortiguadores delanteros (incluidos bujes, copelas, arandelas, pasadores y tuercas) | C31: 1 | D31: 1945500 | E31: 505600 | F31: 1736000 | G31: 451000 | H31: =(D31+F31)/2 -> 1840750 | I31: =(E31+G31)/2 -> 478300
A32: 22 | B32: Juego de brazos axiales | C32: 1 | D32: 817700 | E32: 663100 | F32: 790000 | G32: 641000 | H32: =(D32+F32)/2 -> 803850 | I32: =(E32+G32)/2 -> 652050
A33: 23 | B33: Juego de rotulas superiores con sus tuercas y pines | C33: 1 | D33: 593400 | E33: 679800 | F33: 535000 | G33: 613000 | H33: =(D33+F33)/2 -> 564200 | I33: =(E33+G33)/2 -> 646400
A34: 24 | B34: Juego de rotulas inferiores con sus tuercas y pines | C34: 1 | D34: 1542900 | E34: 640800 | F34: 1530000 | G34: 635000 | H34: =(D34+F34)/2 -> 1536450 | I34: =(E34+G34)/2 -> 637900
A35: 25 | B35: Juego de, muñecos, bujes y cauchos de la barra estabilizadora delantera | C35: 1 | D35: 950200 | E35: 334500 | F35: 887000 | G35: 312000 | H35: =(D35+F35)/2 -> 918600 | I35: =(E35+G35)/2 -> 323250
A36: 26 | B36: Juego de Tijeras superiores delanteras incluyendo bujes cuando aplique. | C36: 1 | D36: 1035400 | E36: 657500 | F36: 965000 | G36: 613000 | H36: =(D36+F36)/2 -> 1000200 | I36: =(E36+G36)/2 -> 635250
A37: 27 | B37: Juego de Tijeras inferiores delanteras incluyendo bujes cuando aplique. | C37: 1 | D37: 2013700 | E37: 1359300 | F37: 1799000 | G37: 1214000 | H37: =(D37+F37)/2 -> 1906350 | I37: =(E37+G37)/2 -> 1286650
A38: 28 | B38: Juego de bujes tijeras superior e inferiores | C38: 1 | D38: 1870700 | E38: 1337000 | F38: 1793000 | G38: 1281000 | H38: =(D38+F38)/2 -> 1831850 | I38: =(E38+G38)/2 -> 1309000
A39: 29 | B39: Juego espirales delanteros. | C39: 1 | D39: 2815100 | E39: 505600 | F39: 2652000 | G39: 476000 | H39: =(D39+F39)/2 -> 2733550 | I39: =(E39+G39)/2 -> 490800
A40: 30 | B40: Juego soportes amortiguadores delanteros con sus rodamientos | C40: 1 | D40: 1182700 | E40: 969400 | F40: 1122000 | G40: 919000 | H40: =(D40+F40)/2 -> 1152350 | I40: =(E40+G40)/2 -> 944200
A41: 31 | B41: Barra estabilizadora delantera | C41: 1 | D41: 277000 | E41: 497200 | F41: 263000 | G41: 472000 | H41: =(D41+F41)/2 -> 270000 | I41: =(E41+G41)/2 -> 484600
A42: 32 | B42: Juego rodamientos delanteros | C42: 1 | D42: 1547700 | E42: 416400 | F42: 1507000 | G42: 406000 | H42: =(D42+F42)/2 -> 1527350 | I42: =(E42+G42)/2 -> 411200
... A56: 46 | B56: Esparrago y Tuerca Esparrago | C56: 1 | D56: 166300 | E56: 195200 | F56: 158000 | G56: 185000 | H56: =(D56+F56)/2 -> 162150 | I56: =(E56+G56)/2 -> 190100
A57: 47 | B57: Libra de Grasa | C57: 1 | D57: 117900 | E57: N/A | F57: 113000 | G57: N/A | H57: =(D57+F57)/2 -> 115450 | I57: N/A
A58: 48 | B58: Juego Templetes o tensores traseros largos y cortos con sus bujes o (brazo control superior e inferior con sus bujes) | C58: 1 | D58: 990200 | E58: 337200 | F58: 917000 | G58: 312000 | H58: =(D58+F58)/2 -> 953600 | I58: =(E58+G58)/2 -> 324600
B59: SISTEMA DE DIRECCIÓN
A60: 49 | B60: Caja de dirección. | C60: 1 | D60: 4669400 | E60: 1011200 | F60: 4245000 | G60: 919000 | H60: =(D60+F60)/2 -> 4457200 | I60: =(E60+G60)/2 -> 965100
A61: 50 | B61: Brazo Axial | C61: 1 | D61: 291500 | E61: 323300 | F61: 276000 | G61: 307000 | H61: =(D61+F61)/2 -> 283750 | I61: =(E61+G61)/2 -> 315150
A62: 51 | B62: Terminal de Dirección | C62: 1 | D62: 1326300 | E62: 164400 | F62: 1259000 | G62: 156000 | H62: =(D62+F62)/2 -> 1292650 | I62: =(E62+G62)/2 -> 160200
A63: 52 | B63: Cruceta de Dirección | C63: 1 | D63: 1151300 | E63: 94500 | F63: 1066000 | G63: 88000 | H63: =(D63+F63)/2 -> 1108650 | I63: =(E63+G63)/2 -> 91250
A64: 53 | B64: Bomba de Dirección | C64: 1 | D64: 14473600 | E64: 640800 | F64: 13593000 | G64: 602000 | H64: =(D64+F64)/2 -> 14033300 | I64: =(E64+G64)/2 -> 621400
A65: 54 | B65: Deposito Tanque Hidraulico | C65: 1 | D65: 913700 | E65: 77600 | F65: 860000 | G65: 73000 | H65: =(D65+F65)/2 -> 886850 | I65: =(E65+G65)/2 -> 75300
A66: 55 | B66: Rin | C66: 1 | D66: 1993300 | E66: 57300 | F66: 1894000 | G66: 54000 | H66: =(D66+F66)/2 -> 1943650 | I66: =(E66+G66)/2 -> 55650
A67: 56 | B67: Eje principal dirección o caña dirección | C67: 1 | D67: 6358800 | E67: 190600 | F67: 5942000 | G67: 178000 | H67: =(D67+F67)/2 -> 6150400 | I67: =(E67+G67)/2 -> 184300
A68: 57 | B68: Juego Guardapolvos caja de dirección con sus abrazaderas | C68: 1 | D68: 705200 | E68: 674200 | F68: 670000 | G68: 641000 | H68: =(D68+F68)/2 -> 687600 | I68: =(E68+G68)/2 -> 657600
A69: 58 | B69: Juego guardapolvos brazos axiales con sus abrazaderas | C69: 1 | D69: 703500 | E69: 102300 | F69: 623000 | G69: 91000 | H69: =(D69+F69)/2 -> 663250 | I69: =(E69+G69)/2 -> 96650
A70: 59 | B70: Bomba hidráulico dirección | C70: 1 | D70: 2920300 | E70: 646300 | F70: 2744000 | G70: 607000 | H70: =(D70+F70)/2 -> 2832150 | I70: =(E70+G70)/2 -> 626650
A71: 60 | B71: Mangueras bomba dirección hidráulica | C71: 1 | D71: 253700 | E71: 164400 | F71: 243000 | G71: 157000 | H71: =(D71+F71)/2 -> 248350 | I71: =(E71+G71)/2 -> 160700
A72: 61 | B72: Juego bujes soportes caja dirección | C72: 1 | D72: 689100 | E72: 85000 | F72: 648000 | G72: 80000 | H72: =(D72+F72)/2 -> 668550 | I72: =(E72+G72)/2 -> 82500
B73: SISTEMA DE TRANSMISIÓN
A74: 62 | B74: caja de transmisión mecánica | C74: 1 | D74: 15691900 | E74: 972100 | F74: 14792000 | G74: 916000 | H74: =(D74+F74)/2 -> 15241950 | I74: =(E74+G74)/2 -> 944050
A75: 63 | B75: caja de transmisión automática | C75: 1 | D75: 6019600 | E75: 301500 | F75: 5659000 | G75: 283000 | H75: =(D75+F75)/2 -> 5839300 | I75: =(E75+G75)/2 -> 292250
A76: 64 | B76: Empaquetadura caja de transmisión | C76: 1 | D76: 1985900 | E76: 1441500 | F76: 1901000 | G76: 1380000 | H76: =(D76+F76)/2 -> 1943450 | I76: =(E76+G76)/2 -> 1410750
A77: 65 | B77: Retenedor de entrada trasmisión mec. | C77: 1 | D77: 545900 | E77: 217000 | F77: 527000 | G77: 209000 | H77: =(D77+F77)/2 -> 536450 | I77: =(E77+G77)/2 -> 213000
A78: 66 | B78: Reten lateral caja transversal | C78: 1 | D78: 431100 | E78: 800800 | F78: 412000 | G78: 766000 | H78: =(D78+F78)/2 -> 421550 | I78: =(E78+G78)/2 -> 783400
A79: 67 | B79: Guardapolvo barra cambios | C79: 1 | D79: 265800 | E79: 152900 | F79: 257000 | G79: 148000 | H79: =(D79+F79)/2 -> 261400 | I79: =(E79+G79)/2 -> 150450
A80: 68 | B80: Bujes palanca selectora cambios. (kit) | C80: 1 | D80: 449200 | E80: 168600 | F80: 423000 | G80: 159000 | H80: =(D80+F80)/2 -> 436100 | I80: =(E80+G80)/2 -> 163800
A81: 69 | B81: Sensor velocidad | C81: 1 | D81: 481500 | E81: 164400 | F81: 449000 | G81: 153000 | H81: =(D81+F81)/2 -> 465250 | I81: =(E81+G81)/2 -> 158700
A82: 70 | B82: Juego de Guayas freno de mano | C82: 1 | D82: 2185100 | E82: 679800 | F82: 2060000 | G82: 641000 | H82: =(D82+F82)/2 -> 2122550 | I82: =(E82+G82)/2 -> 660400
A83: 71 | B83: Cardan Delantero | C83: 1 | D83: 3207400 | E83: 328900 | F83: 3099000 | G83: 318000 | H83: =(D83+F83)/2 -> 3153200 | I83: =(E83+G83)/2 -> 323450
A84: 72 | B84: Cardan Trasero | C84: 1 | D84: 2740800 | E84: 337200 | F84: 2514000 | G84: 309000 | H84: =(D84+F84)/2 -> 2627400 | I84: =(E84+G84)/2 -> 323100
A85: 73 | B85: Cruceta Cardan | C85: 1 | D85: 444300 | E85: 277200 | F85: 421000 | G85: 263000 | H85: =(D85+F85)/2 -> 432650 | I85: =(E85+G85)/2 -> 270100
... A91: 79 | B91: Semi-eje delantero derecho | C91: 1 | D91: 4087100 | E91: 488900 | F91: 3877000 | G91: 464000 | H91: =(D91+F91)/2 -> 3982050 | I91: =(E91+G91)/2 -> 476450
B92: SISTEMA DE EMBRAGUE
A93: 80 | B93: Kit de embrague (prensa, disco, balinera, buje o rodamiento volante, pasador horquilla, soporte horquilla, horquilla) | C93: 1 | D93: 3087800 | E93: 2907900 | F93: 3061000 | G93: 2883000 | H93: =(D93+F93)/2 -> 3074400 | I93: =(E93+G93)/2 -> 2895450
A94: 81 | B94: Bomba principal embrague | C94: 1 | D94: 1040900 | E94: 320500 | F94: 1041000 | G94: 321000 | H94: =(D94+F94)/2 -> 1040950 | I94: =(E94+G94)/2 -> 320750
A95: 82 | B95: Bomba auxiliar embrague | C95: 1 | D95: 773400 | E95: 337200 | F95: 710000 | G95: 309000 | H95: =(D95+F95)/2 -> 741700 | I95: =(E95+G95)/2 -> 323100
A96: 83 | B96: Manguera embrague | C96: 1 | D96: 235300 | E96: 164400 | F96: 223000 | G96: 156000 | H96: =(D96+F96)/2 -> 229150 | I96: =(E96+G96)/2 -> 160200
A97: 84 | B97: Guaya embrague | C97: 1 | D97: 919500 | E97: 394100 | F97: 864000 | G97: 370000 | H97: =(D97+F97)/2 -> 891750 | I97: =(E97+G97)/2 -> 382050
B98: SISTEMA ELÉCTRICO
A99: 85 | B99: Computador principal motor | C99: 1 | D99: 15523000 | E99: 342400 | F99: 14734000 | G99: 325000 | H99: =(D99+F99)/2 -> 15128500 | I99: =(E99+G99)/2 -> 333700
A100: 86 | B100: Alternador completo. | C100: 1 | D100: 4715600 | E100: 657500 | F100: 4476000 | G100: 624000 | H100: =(D100+F100)/2 -> 4595800 | I100: =(E100+G100)/2 -> 640750
A101: 87 | B101: Motor de Arranque completo. | C101: 1 | D101: 4101000 | E101: 842500 | F101: 3728000 | G101: 766000 | H101: =(D101+F101)/2 -> 3914500 | I101: =(E101+G101)/2 -> 804250
A102: 88 | B102: Batería incluida la instalación y revisión del sistema de carga | C102: 1 | D102: 1610000 | E102: 57500 | F102: 1540000 | G102: 55000 | H102: =(D102+F102)/2 -> 1575000 | I102: =(E102+G102)/2 -> 56250
A103: 89 | B103: Soporte batería incluida la instalación | C103: 1 | D103: 148400 | E103: 482900 | F103: 141000 | G103: 458000 | H103: =(D103+F103)/2 -> 144700 | I103: =(E103+G103)/2 -> 470450
A104: 90 | B104: Bornes o terminales Batería (Jgo.) | C104: 1 | D104: 40400 | E104: 102000 | F104: 38000 | G104: 96000 | H104: =(D104+F104)/2 -> 39200 | I104: =(E104+G104)/2 -> 99000
A105: 91 | B105: Bombillo halógeno o bombillo exploradora | C105: 1 | D105: 394100 | E105: 131400 | F105: 387000 | G105: 129000 | H105: =(D105+F105)/2 -> 390550 | I105: =(E105+G105)/2 -> 130200
A106: 92 | B106: Bombillo (stop, direccional, cocuyo E.T.C.) | C106: 1 | D106: 407800 | E106: 135900 | F106: 374000 | G106: 125000 | H106: =(D106+F106)/2 -> 390900 | I106: =(E106+G106)/2 -> 130450
A107: 93 | B107: Fusibles y /o Mini fusibles, incluida la instalación | C107: 1 | D107: 92800 | E107: 132500 | F107: 91000 | G107: 130000 | H107: =(D107+F107)/2 -> 91900 | I107: =(E107+G107)/2 -> 131250
A108: 94 | B108: Control luces y/o direccionales | C108: 1 | D108: 498700 | E108: 943500 | F108: 461000 | G108: 872000 | H108: =(D108+F108)/2 -> 479850 | I108: =(E108+G108)/2 -> 907750
A109: 95 | B109: Flacher direccionales | C109: 1 | D109: 394100 | E109: 26000 | F109: 380000 | G109: 25000 | H109: =(D109+F109)/2 -> 387050 | I109: =(E109+G109)/2 -> 25500
A110: 96 | B110: Switch encendido | C110: 1 | D110: 1151000 | E110: 480500 | F110: 1081000 | G110: 451000 | H110: =(D110+F110)/2 -> 1116000 | I110: =(E110+G110)/2 -> 465750
... A118: 104 | B118: Motor deposito lava parabrisas | C118: 1 | D118: 327500 | E118: 98700 | F118: 319000 | G118: 96000 | H118: =(D118+F118)/2 -> 323250 | I118: =(E118+G118)/2 -> 97350
B119: SISTEMA DE REFRIGERACIÓN Y A/A.
A120: 105 | B120: Bomba de agua y empaque | C120: 1 | D120: 931500 | E120: 663700 | F120: 862000 | G120: 614000 | H120: =(D120+F120)/2 -> 896750 | I120: =(E120+G120)/2 -> 638850
A121: 106 | B121: Termostato y empaque, incluyendo pera o sensor de temperatura | C121: 1 | D121: 636900 | E121: 168600 | F121: 584000 | G121: 155000 | H121: =(D121+F121)/2 -> 610450 | I121: =(E121+G121)/2 -> 161800
A122: 107 | B122: Radiador completo con tapa | C122: 1 | D122: 3604900 | E122: 326100 | F122: 3451000 | G122: 312000 | H122: =(D122+F122)/2 -> 3527950 | I122: =(E122+G122)/2 -> 319050
A123: 108 | B123: Deposito auxiliar radiador con tapa | C123: 1 | D123: 501600 | E123: 99500 | F123: 455000 | G123: 90000 | H123: =(D123+F123)/2 -> 478300 | I123: =(E123+G123)/2 -> 94750
A124: 109 | B124: Enfocador radiador | C124: 1 | D124: 354200 | E124: 165800 | F124: 333000 | G124: 156000 | H124: =(D124+F124)/2 -> 343600 | I124: =(E124+G124)/2 -> 160900
A125: 110 | B125: Mangueras radiador, superior e inferior. | C125: 1 | D125: 335200 | E125: 64100 | F125: 335000 | G125: 64000 | H125: =(D125+F125)/2 -> 335100 | I125: =(E125+G125)/2 -> 64050
A126: 111 | B126: Tapa radiador incluida la instalación | C126: 1 | D126: 244700 | E126: N/A | F126: 222000 | G126: N/A | H126: =(D126+F126)/2 -> 233350 | I126: N/A
A127: 112 | B127: Ventilador o electro ventilador. | C127: 1 | D127: 1347000 | E127: 328900 | F127: 1244000 | G127: 304000 | H127: =(D127+F127)/2 -> 1295500 | I127: =(E127+G127)/2 -> 316450
...

Sheet FORD
A1: Anexo No. 4 Oferta Económica MANTENIMEINTO VEHICULOS MANO DE OBRA Y REPUESTOS | C1: CANTIDAD | D1: COTIZACION CAMPESA SA | F1: COTIZACION TODO REPUESTOS | H1: PROMEDIO
A3: AUTOMOVIL FORD
A4: FIESTA
A5: 2014
A6: 1.600 C.C.
A7: FORD | D7: Valor Repuesto Sin IVA | E7: Valor M.O. Sin IVA | F7: Valor Repuesto Sin IVA | G7: Valor M.O. Sin IVA | H7: Valor Repuesto Sin IVA | I7: Valor M.O. Sin IVA
A9: ítem | B9: SISTEMA DE FRENOS
A10: 1 | B10: Revisión general de frenos: M.O (graduación general de freno de mano y las bandas, limpieza sistema ABS cuando aplique). Sin Repuestos | C10: 1 | D10: 86800 | E10: 310000 | F10: 83000 | G10: 298000 | H10: =(D10+F10)/2 -> 84900 | I10: =(E10+G10)/2 -> 304000
A11: 2 | B11: Liquido de freno DOT según referencia vehículo (pinta - 290 mi) | C11: 1 | D11: 62000 | E11: 307100 | F11: 60000 | G11: 297000 | H11: =(D11+F11)/2 -> 61000 | I11: =(E11+G11)/2 -> 302050
A12: 3 | B12: Pastillas delanteras o traseras (juego) | C12: 1 | D12: 600900 | E12: 302100 | F12: 571000 | G12: 287000 | H12: =(D12+F12)/2 -> 585950 | I12: =(E12+G12)/2 -> 294550
A13: 4 | B13: Bandas delanteras o traseras (juego), incluyendo cambio de puntillas o resortes bandas, cuando aplique | C13: 1 | D13: 913700 | E13: 464500 | F13: 848000 | G13: 431000 | H13: =(D13+F13)/2 -> 880850 | I13: =(E13+G13)/2 -> 447750
A14: 5 | B14: Cilindros freno delanteros o traseros (Jgo) | C14: 1 | D14: 1548200 | E14: 136900 | F14: 1510000 | G14: 134000 | H14: =(D14+F14)/2 -> 1529100 | I14: =(E14+G14)/2 -> 135450
A15: 6 | B15: Campanas delanteras o traseras (Jgo) | C15: 1 | D15: 1278500 | E15: 70100 | F15: 1227000 | G15: 67000 | H15: =(D15+F15)/2 -> 1252750 | I15: =(E15+G15)/2 -> 68550
A16: 7 | B16: Discos delanteros o traseros (Jgo) | C16: 1 | D16: 1220000 | E16: 463600 | F16: 1180000 | G16: 448000 | H16: =(D16+F16)/2 -> 1200000 | I16: =(E16+G16)/2 -> 455800
A17: 8 | B17: Rectificación de Disco | C17: 1 | D17: N/A | E17: 531400 | F17: N/A | G17: 501000 | H17: N/A | I17: =(E17+G17)/2 -> 516200
A18: 9 | B18: Guaya de freno | C18: 1 | D18: 1443700 | E18: 307100 | F18: 1351000 | G18: 287000 | H18: =(D18+F18)/2 -> 1397350 | I18: =(E18+G18)/2 -> 297050
A19: 10 | B19: Guayas freno de mano o de parqueo (Juego) | C19: 1 | D19: 2910700 | E19: 619100 | F19: 2771000 | G19: 589000 | H19: =(D19+F19)/2 -> 2840850 | I19: =(E19+G19)/2 -> 604050
A20: 11 | B20: Palanca Freno de Mano | C20: 1 | D20: 421600 | E20: 76500 | F20: 411000 | G20: 75000 | H20: =(D20+F20)/2 -> 416300 | I20: =(E20+G20)/2 -> 75750
A21: 12 | B21: Pistón mordaza (juego) | C21: 1 | D21: 357700 | E21: 309500 | F21: 335000 | G21: 290000 | H21: =(D21+F21)/2 -> 346350 | I21: =(E21+G21)/2 -> 299750
A22: 13 | B22: Mordazas y sus pasadores (juego) | C22: 1 | D22: 1281900 | E22: 307100 | F22: 1210000 | G22: 290000 | H22: =(D22+F22)/2 -> 1245950 | I22: =(E22+G22)/2 -> 298550
A23: 14 | B23: Ligas clíper (jugo) | C23: 1 | D23: 664200 | E23: 307100 | F23: 621000 | G23: 287000 | H23: =(D23+F23)/2 -> 642600 | I23: =(E23+G23)/2 -> 297050
A24: 15 | B24: Bomba de freno | C24: 1 | D24: 947300 | E24: 906400 | F24: 908000 | G24: 869000 | H24: =(D24+F24)/2 -> 927650 | I24: =(E24+G24)/2 -> 887700
A25: 16 | B25: Manguera freno | C25: 1 | D25: 1331100 | E25: 151200 | F25: 1309000 | G25: 149000 | H25: =(D25+F25)/2 -> 1320050 | I25: =(E25+G25)/2 -> 150100
A26: 17 | B26: Limpiador de frenos o discos 536 ml | C26: 1 | D26: 87500 | E26: 37500 | F26: 81000 | G26: 34000 | H26: =(D26+F26)/2 -> 84250 | I26: =(E26+G26)/2 -> 35750
B27: SISTEMA DE SUSPENSIÓN
A28: 18 | B28: M.O Revisión General de Suspensión Delantera | C28: 1 | D28: N/A | E28: 375000 | F28: N/A | G28: 360000 | H28: N/A | I28: =(E28+G28)/2 -> 367500
A29: 19 | B29: M.O Revisión General de Suspensión Trasera | C29: 1 | D29: N/A | E29: 312500 | F29: N/A | G29: 293000 | H29: N/A | I29: =(E29+G29)/2 -> 302750
A30: 20 | B30: Juego amortiguadores delanteros (incluidos bujes, copelas, arandelas, pasadores y tuercas) | C30: 1 | D30: 2870700 | E30: 464500 | F30: 2710000 | G30: 438000 | H30: =(D30+F30)/2 -> 2790350 | I30: =(E30+G30)/2 -> 451250
A31: 21 | B31: Juego de brazos axiales | C31: 1 | D31: 862500 | E31: 614100 | F31: 828000 | G31: 589000 | H31: =(D31+F31)/2 -> 845250 | I31: =(E31+G31)/2 -> 601550
A32: 22 | B32: Juego de, muñecos, bujes y cauchos de la barra estabilizadora delantera | C32: 1 | D32: 666400 | E32: 309500 | F32: 613000 | G32: 285000 | H32: =(D32+F32)/2 -> 639700 | I32: =(E32+G32)/2 -> 297250
A33: 23 | B33: Juego de Tijeras inferiores delanteras incluyendo bujes cuando aplique. | C33: 1 | D33: 1319000 | E33: 1238200 | F33: 1235000 | G33: 1159000 | H33: =(D33+F33)/2 -> 1277000 | I33: =(E33+G33)/2 -> 1198600
A34: 24 | B34: Juego de bujes tijeras superior e inferiores | C34: 1 | D34: N/A | E34: 1228300 | F34: N/A | G34: 1139000 | H34: N/A | I34: =(E34+G34)/2 -> 1183650
A35: 25 | B35: Juego espirales delanteros. | C35: 1 | D35: 1590400 | E35: 460700 | F35: 1488000 | G35: 431000 | H35: =(D35+F35)/2 -> 1539200 | I35: =(E35+G35)/2 -> 445850
A36: 26 | B36: Juego soportes amortiguadores delanteros con sus rodamientos | C36: 1 | D36: 1117800 | E36: 913800 | F36: 1054000 | G36: 862000 | H36: =(D36+F36)/2 -> 1085900 | I36: =(E36+G36)/2 -> 887900
A37: 27 | B37: Barra estabilizadora delantera | C37: 1 | D37: 1190300 | E37: 453300 | F37: 1161000 | G37: 442000 | H37: =(D37+F37)/2 -> 1175650 | I37: =(E37+G37)/2 -> 447650
A38: 28 | B38: Juego rodamientos delanteros | C38: 1 | D38: 1709100 | E38: 392800 | F38: 1667000 | G38: 383000 | H38: =(D38+F38)/2 -> 1688050 | I38: =(E38+G38)/2 -> 387900
A39: 29 | B39: Juego de Bocines delanteros | C39: 1 | D39: 2865200 | E39: 254200 | F39: 2772000 | G39: 246000 | H39: =(D39+F39)/2 -> 2818600 | I39: =(E39+G39)/2 -> 250100
A40: 30 | B40: Juego amortiguadores traseros (incluidos bujes, copelas, arandelas, pasadores y tuercas) | C40: 1 | D40: 2584900 | E40: 453300 | F40: 2479000 | G40: 435000 | H40: =(D40+F40)/2 -> 2531950 | I40: =(E40+G40)/2 -> 444150
A41: 31 | B41: Juego espirales traseros | C41: 1 | D41: 764100 | E41: 457000 | F41: 714000 | G41: 427000 | H41: =(D41+F41)/2 -> 739050 | I41: =(E41+G41)/2 -> 442000
A42: 32 | B42: Juego de muñecos completos, bujes y cauchos de la barra estabilizadora trasera | C42: 1 | D42: 569900 | E42: 302100 | F42: 547000 | G42: 290000 | H42: =(D42+F42)/2 -> 558450 | I42: =(E42+G42)/2 -> 296050
A43: 33 | B43: Juego Rodamientos Traseros | C43: 1 | D43: 310400 | E43: 402500 | F43: 286000 | G43: 370000 | H43: =(D43+F43)/2 -> 298200 | I43: =(E43+G43)/2 -> 386250
A44: 34 | B44: Juego Rodamientos Delanteros | C44: 1 | D44: 1723100 | E44: 396100 | F44: 1625000 | G44: 374000 | H44: =(D44+F44)/2 -> 1674050 | I44: =(E44+G44)/2 -> 385050
A45: 35 | B45: Punta de Chasis | C45: 1 | D45: 6516000 | E45: 460800 | F45: 6151000 | G45: 435000 | H45: =(D45+F45)/2 -> 6333500 | I45: =(E45+G45)/2 -> 447900
A46: 36 | B46: Esparrago y Tuerca Esparrago | C46: 1 | D46: 133800 | E46: 203900 | F46: 128000 | G46: 196000 | H46: =(D46+F46)/2 -> 130900 | I46: =(E46+G46)/2 -> 199950
A47: 37 | B47: Libra de Grasa | C47: 1 | D47: 87900 | E47: N/A | F47: 84000 | G47: N/A | H47: =(D47+F47)/2 -> 85950 | I47: N/A
B48: SISTEMA DE DIRECCIÓN
A49: 38 | B49: Caja de dirección. | C49: 1 | D49: 2537500 | E49: 928600 | F49: 2395000 | G49: 877000 | H49: =(D49+F49)/2 -> 2466250 | I49: =(E49+G49)/2 -> 902800
A50: 39 | B50: Caja Dirección Hidraulica | C50: 1 | D50: 2476600 | E50: 906400 | F50: 2334000 | G50: 854000 | H50: =(D50+F50)/2 -> 2405300 | I50: =(E50+G50)/2 -> 880200
A51: 40 | B51: Brazo Axial | C51: 1 | D51: 316600 | E51: 309500 | F51: 291000 | G51: 285000 | H51: =(D51+F51)/2 -> 303800 | I51: =(E51+G51)/2 -> 297250
A52: 41 | B52: Terminal de Dirección | C52: 1 | D52: 1161200 | E52: 151200 | F52: 1142000 | G52: 149000 | H52: =(D52+F52)/2 -> 1151600 | I52: =(E52+G52)/2 -> 150100
A53: 42 | B53: Bomba de Dirección | C53: 1 | D53: 4993800 | E53: 609200 | F53: 4872000 | G53: 594000 | H53: =(D53+F53)/2 -> 4932900 | I53: =(E53+G53)/2 -> 601600
A54: 43 | B54: Deposito Tanque Hidraulico | C54: 1 | D54: 632300 | E54: 77800 | F54: 606000 | G54: 75000 | H54: =(D54+F54)/2 -> 619150 | I54: =(E54+G54)/2 -> 76400
A55: 44 | B55: Rin | C55: 1 | D55: 1817100 | E55: 57500 | F55: 1772000 | G55: 56000 | H55: =(D55+F55)/2 -> 1794550 | I55: =(E55+G55)/2 -> 56750
A56: 45 | B56: Juego Guardapolvos caja de dirección con sus abrazaderas | C56: 1 | D56: 406500 | E56: 614100 | F56: 387000 | G56: 584000 | H56: =(D56+F56)/2 -> 396750 | I56: =(E56+G56)/2 -> 599050
A57: 46 | B57: Juego guardapolvos brazos axiales con sus abrazaderas | C57: 1 | D57: 308200 | E57: 146300 | F57: 296000 | G57: 140000 | H57: =(D57+F57)/2 -> 302100 | I57: =(E57+G57)/2 -> 143150
A58: 47 | B58: Bomba hidráulico dirección | C58: 1 | D58: 3724100 | E58: 604200 | F58: 3571000 | G58: 579000 | H58: =(D58+F58)/2 -> 3647550 | I58: =(E58+G58)/2 -> 591600
A59: 48 | B59: Mangueras bomba dirección hidráulica | C59: 1 | D59: 1707300 | E59: 152400 | F59: 1624000 | G59: 145000 | H59: =(D59+F59)/2 -> 1665650 | I59: =(E59+G59)/2 -> 148700
A60: 49 | B60: Juego bujes soportes caja dirección | C60: 1 | D60: 668400 | E60: 89600 | F60: 636000 | G60: 85000 | H60: =(D60+F60)/2 -> 652200 | I60: =(E60+G60)/2 -> 87300
B61: SISTEMA DE TRANSMISIÓN
A62: 50 | B62: caja de transmisión mecánica | C62: 1 | D62: 12483400 | E62: 966700 | F62: 11976000 | G62: 927000 | H62: =(D62+F62)/2 -> 12229700 | I62: =(E62+G62)/2 -> 946850
A63: 51 | B63: caja de transmisión automática | C63: 1 | D63: 12483400 | E63: 1522100 | F63: 11976000 | G63: 1460000 | H63: =(D63+F63)/2 -> 12229700 | I63: =(E63+G63)/2 -> 1491050
A64: 52 | B64: Guardapolvo barra cambios | C64: 1 | D64: 358500 | E64: 161200 | F64: 335000 | G64: 151000 | H64: =(D64+F64)/2 -> 346750 | I64: =(E64+G64)/2 -> 156100
A65: 53 | B65: Bujes palanca selectora cambios. (kit) | C65: 1 | D65: 523900 | E65: 154900 | F65: 499000 | G65: 147000 | H65: =(D65+F65)/2 -> 511450 | I65: =(E65+G65)/2 -> 150950
A66: 54 | B66: Sensor velocidad | C66: 1 | D66: 384500 | E66: 153700 | F66: 369000 | G66: 147000 | H66: =(D66+F66)/2 -> 376750 | I66: =(E66+G66)/2 -> 150350
A67: 55 | B67: Guaya velocímetro | C67: 1 | D67: 168800 | E67: 142500 | F67: 162000 | G67: 137000 | H67: =(D67+F67)/2 -> 165400 | I67: =(E67+G67)/2 -> 139750
A68: 56 | B68: Juego de Guayas freno de mano | C68: 1 | D68: 2887400 | E68: 614100 | F68: 2701000 | G68: 575000 | H68: =(D68+F68)/2 -> 2794200 | I68: =(E68+G68)/2 -> 594550
A69: 57 | B69: Rodamiento Diferencial | C69: 1 | D69: 466900 | E69: 954200 | F69: 452000 | G69: 923000 | H69: =(D69+F69)/2 -> 459450 | I69: =(E69+G69)/2 -> 938600
A70: 58 | B70: Barra control de Cambios | C70: 1 | D70: 1407100 | E70: 152400 | F70: 1350000 | G70: 146000 | H70: =(D70+F70)/2 -> 1378550 | I70: =(E70+G70)/2 -> 149200
A71: 59 | B71: Pera de Reverso | C71: 1 | D71: 425400 | E71: 80900 | F71: 415000 | G71: 79000 | H71: =(D71+F71)/2 -> 420200 | I71: =(E71+G71)/2 -> 79950
A72: 60 | B72: Soportes caja velocidades (Jgo.) | C72: 1 | D72: 323900 | E72: 309500 | F72: 308000 | G72: 295000 | H72: =(D72+F72)/2 -> 315950 | I72: =(E72+G72)/2 -> 302250
A73: 61 | B73: Semi-eje delantero izquierdo | C73: 1 | D73: 2179000 | E73: 457000 | F73: 2090000 | G73: 438000 | H73: =(D73+F73)/2 -> 2134500 | I73: =(E73+G73)/2 -> 447500
A74: 62 | B74: Semi-eje delantero derecho | C74: 1 | D74: 2398200 | E74: 460700 | F74: 2224000 | G74: 427000 | H74: =(D74+F74)/2 -> 2311100 | I74: =(E74+G74)/2 -> 443850
B75: SISTEMA DE EMBRAGUE
A76: 63 | B76: Kit de embrague (prensa, disco, balinera, buje o rodamiento volante, pasador horquilla, soporte horquilla, horquilla) | C76: 1 | D76: 3436300 | E76: 1812400 | F76: 3352000 | G76: 1768000 | H76: =(D76+F76)/2 -> 3394150 | I76: =(E76+G76)/2 -> 1790200
A77: 64 | B77: Guaya embrague | C77: 1 | D77: 970000 | E77: 415700 | F77: 931000 | G77: 399000 | H77: =(D77+F77)/2 -> 950500 | I77: =(E77+G77)/2 -> 407350
A78: 65 | B78: Cremallera volante | C78: 1 | D78: 685700 | E78: 188000 | F78: 658000 | G78: 180000 | H78: =(D78+F78)/2 -> 671850 | I78: =(E78+G78)/2 -> 184000
B79: SISTEMA ELÉCTRICO
A80: 66 | B80: Computador principal motor | C80: 1 | D80: 9362900 | E80: 970000 | F80: 8754000 | G80: 907000 | H80: =(D80+F80)/2 -> 9058450 | I80: =(E80+G80)/2 -> 938500
A81: 67 | B81: Alternador completo. | C81: 1 | D81: 3882700 | E81: 614100 | F81: 3757000 | G81: 594000 | H81: =(D81+F81)/2 -> 3819850 | I81: =(E81+G81)/2 -> 604050
A82: 68 | B82: Reparación general Alternador. Repuestos (escobillas, porta escobillas, rodamientos, regulador de voltaje, diodos y porta diodos etc.) | C82: 1 | D82: 704200 | E82: 985800 | F82: 676000 | G82: 946000 | H82: =(D82+F82)/2 -> 690100 | I82: =(E82+G82)/2 -> 965900
A83: 69 | B83: Motor de Arranque completo. | C83: 1 | D83: 1773200 | E83: 761300 | F83: 1701000 | G83: 730000 | H83: =(D83+F83)/2 -> 1737100 | I83: =(E83+G83)/2 -> 745650
A84: 70 | B84: Reparación general de arranque (Inducido, automático, bendix, bujes, escobillas) | C84: 1 | D84: 632300 | E84: 702900 | F84: 617000 | G84: 686000 | H84: =(D84+F84)/2 -> 624650 | I84: =(E84+G84)/2 -> 694450
A85: 71 | B85: Batería incluida la instalación y revisión del sistema de carga | C85: 1 | D85: 1230000 | E85: 49200 | F85: 1180000 | G85: 47000 | H85: =(D85+F85)/2 -> 1205000 | I85: =(E85+G85)/2 -> 48100
A86: 72 | B86: Soporte batería incluida la instalación | C86: 1 | D86: 145000 | E86: 513600 | F86: 140000 | G86: 497000 | H86: =(D86+F86)/2 -> 142500 | I86: =(E86+G86)/2 -> 505300
A87: 73 | B87: Bornes o terminales Batería (Jgo.) | C87: 1 | D87: 54900 | E87: 91500 | F87: 51000 | G87: 86000 | H87: =(D87+F87)/2 -> 52950 | I87: =(E87+G87)/2 -> 88750
A88: 74 | B88: Bombillo halógeno o bombillo exploradora | C88: 1 | D88: 422500 | E88: 140800 | F88: 392000 | G88: 131000 | H88: =(D88+F88)/2 -> 407250 | I88: =(E88+G88)/2 -> 135900
A89: 75 | B89: Bombillo (stop, direccional, cocuyo E.T.C.) | C89: 1 | D89: 415700 | E89: 138600 | F89: 406000 | G89: 135000 | H89: =(D89+F89)/2 -> 410850 | I89: =(E89+G89)/2 -> 136800
A90: 76 | B90: Fusibles y /o Mini fusibles, incluida la instalación | C90: 1 | D90: 98600 | E90: 140800 | F90: 93000 | G90: 133000 | H90: =(D90+F90)/2 -> 95800 | I90: =(E90+G90)/2 -> 136900
A91: 77 | B91: arreglo general instalación eléctrica | C91: 1 | D91: 521100 | E91: 985800 | F91: 492000 | G91: 931000 | H91: =(D91+F91)/2 -> 506550 | I91: =(E91+G91)/2 -> 958400
... A105: 91 | B105: Motor deposito lava parabrisas | C105: 1 | D105: 510700 | E105: 92900 | F105: 490000 | G105: 89000 | H105: =(D105+F105)/2 -> 500350 | I105: =(E105+G105)/2 -> 90950
B106: SISTEMA DE REFRIGERACIÓN Y A/A.
A107: 92 | B107: Bomba de agua y empaque | C107: 1 | D107: 1050100 | E107: 671000 | F107: 1025000 | G107: 655000 | H107: =(D107+F107)/2 -> 1037550 | I107: =(E107+G107)/2 -> 663000
A108: 93 | B108: Termostato y empaque, incluyendo pera o sensor de temperatura | C108: 1 | D108: 457100 | E108: 154900 | F108: 424000 | G108: 144000 | H108: =(D108+F108)/2 -> 440550 | I108: =(E108+G108)/2 -> 149450
A109: 94 | B109: Radiador completo con tapa | C109: 1 | D109: 1492700 | E109: 302100 | F109: 1444000 | G109: 292000 | H109: =(D109+F109)/2 -> 1468350 | I109: =(E109+G109)/2 -> 297050
A110: 95 | B110: Deposito auxiliar radiador con tapa | C110: 1 | D110: 419100 | E110: 91500 | F110: 405000 | G110: 88000 | H110: =(D110+F110)/2 -> 412050 | I110: =(E110+G110)/2 -> 89750
A111: 96 | B111: Soportes radiador | C111: 1 | D111: 213000 | E111: 70400 | F111: 201000 | G111: 66000 | H111: =(D111+F111)/2 -> 207000 | I111: =(E111+G111)/2 -> 68200
A112: 97 | B112: Enfocador radiador | C112: 1 | D112: 364100 | E112: 307100 | F112: 352000 | G112: 297000 | H112: =(D112+F112)/2 -> 358050 | I112: =(E112+G112)/2 -> 302050
A113: 98 | B113: Mangueras radiador, superior e inferior. | C113: 1 | D113: 305100 | E113: 153700 | F113: 293000 | G113: 147000 | H113: =(D113+F113)/2 -> 299050 | I113: =(E113+G113)/2 -> 150350
A114: 99 | B114: Tapa radiador incluida la instalación | C114: 1 | D114: 202300 | E114: N/A | F114: 189000 | G114: N/A | H114: =(D114+F114)/2 -> 195650 | I114: N/A
A115: 100 | B115: Ventilador o electro ventilador. | C115: 1 | D115: 2080200 | E115: 302100 | F115: 1995000 | G115: 290000 | H115: =(D115+F115)/2 -> 2037600 | I115: =(E115+G115)/2 -> 296050
...

Sheet HYUNDAI
A1: Anexo No. 4 Oferta Económica MANTENIMEINTO VEHICULOS MANO DE OBRA Y REPUESTOS | C1: CANTIDAD | D1: COTIZACION CAMPESA SA | F1: COTIZACION TODO REPUESTOS | H1: PROMEDIO
A3: CAMIONETA HYUNDAI
A4: TUCSON
A5: 2008
A6: 2,000 C.C.
A7: HYUNDAI | D7: Valor Repuesto Sin IVA | E7: Valor M.O. Sin IVA | F7: Valor Repuesto Sin IVA | G7: Valor M.O. Sin IVA | H7: Valor Repuesto Sin IVA | I7: Valor M.O. Sin IVA
A9: ítem | B9: SISTEMA DE FRENOS
A10: 1 | B10: Revisión general de frenos: M.O (graduación general de freno de mano y las bandas, limpieza sistema ABS cuando aplique). Sin Repuestos | C10: 1 | D10: 84000 | E10: 384000 | F10: 76000 | G10: 346000 | H10: =(D10+F10)/2 -> 80000 | I10: =(E10+G10)/2 -> 365000
A11: 2 | B11: Liquido de freno DOT según referencia vehículo (pinta - 290 mi) | C11: 1 | D11: 57500 | E11: 266900 | F11: 55000 | G11: 253000 | H11: =(D11+F11)/2 -> 56250 | I11: =(E11+G11)/2 -> 259950
A12: 3 | B12: Pastillas delanteras o traseras (juego) | C12: 1 | D12: 675900 | E12: 276100 | F12: 653000 | G12: 267000 | H12: =(D12+F12)/2 -> 664450 | I12: =(E12+G12)/2 -> 271550
A13: 4 | B13: Bandas delanteras o traseras (juego), incluyendo cambio de puntillas o resortes bandas, cuando aplique | C13: 1 | D13: 1666000 | E13: 476000 | F13: 1526000 | G13: 436000 | H13: =(D13+F13)/2 -> 1596000 | I13: =(E13+G13)/2 -> 456000
A14: 5 | B14: Cilindros freno delanteros o traseros (Jgo) | C14: 1 | D14: 623600 | E14: 224800 | F14: 582000 | G14: 210000 | H14: =(D14+F14)/2 -> 602800 | I14: =(E14+G14)/2 -> 217400
A15: 6 | B15: Campanas delanteras o traseras (Jgo) | C15: 1 | D15: 1285300 | E15: 65200 | F15: 1229000 | G15: 62000 | H15: =(D15+F15)/2 -> 1257150 | I15: =(E15+G15)/2 -> 63600
A16: 7 | B16: Discos delanteros o traseros (Jgo) | C16: 1 | D16: 2975000 | E16: 535500 | F16: 2725000 | G16: 491000 | H16: =(D16+F16)/2 -> 2850000 | I16: =(E16+G16)/2 -> 513250
A17: 8 | B17: Rectificación de Disco | C17: 1 | D17: N/A | E17: 300300 | F17: N/A | G17: 282000 | H17: N/A | I17: =(E17+G17)/2 -> 291150
A18: 9 | B18: Guaya de freno | C18: 1 | D18: 934200 | E18: 280800 | F18: 872000 | G18: 262000 | H18: =(D18+F18)/2 -> 903100 | I18: =(E18+G18)/2 -> 271400
A19: 10 | B19: Guayas freno de mano o de parqueo (Juego) | C19: 1 | D19: 1883100 | E19: 566000 | F19: 1729000 | G19: 520000 | H19: =(D19+F19)/2 -> 1806050 | I19: =(E19+G19)/2 -> 543000
A20: 11 | B20: Palanca Freno de Mano | C20: 1 | D20: 871900 | E20: 76000 | F20: 799000 | G20: 70000 | H20: =(D20+F20)/2 -> 835450 | I20: =(E20+G20)/2 -> 73000
A21: 12 | B21: Resorte de Banda | C21: 1 | D21: 191700 | E21: 30300 | F21: 182000 | G21: 29000 | H21: =(D21+F21)/2 -> 186850 | I21: =(E21+G21)/2 -> 29650
A22: 13 | B22: Pistón mordaza (juego) | C22: 1 | D22: 432300 | E22: 276100 | F22: 396000 | G22: 253000 | H22: =(D22+F22)/2 -> 414150 | I22: =(E22+G22)/2 -> 264550
A23: 14 | B23: Mordazas y sus pasadores (juego) | C23: 1 | D23: 2914200 | E23: 273800 | F23: 2840000 | G23: 267000 | H23: =(D23+F23)/2 -> 2877100 | I23: =(E23+G23)/2 -> 270400
A24: 15 | B24: Ligas clíper (jugo) | C24: 1 | D24: 581000 | E24: 373400 | F24: 571000 | G24: 367000 | H24: =(D24+F24)/2 -> 576000 | I24: =(E24+G24)/2 -> 370200
A25: 16 | B25: Bomba de freno | C25: 1 | D25: 1057200 | E25: 1066800 | F25: 1011000 | G25: 1020000 | H25: =(D25+F25)/2 -> 1034100 | I25: =(E25+G25)/2 -> 1043400
A26: 17 | B26: Manguera freno | C26: 1 | D26: 147300 | E26: 135800 | F26: 140000 | G26: 129000 | H26: =(D26+F26)/2 -> 143650 | I26: =(E26+G26)/2 -> 132400
A27: 18 | B27: Limpiador de frenos o discos 536 ml | C27: 1 | D27: 81200 | E27: 28700 | F27: 76000 | G27: 27000 | H27: =(D27+F27)/2 -> 78600 | I27: =(E27+G27)/2 -> 27850
B28: SISTEMA DE SUSPENSIÓN
A29: 19 | B29: M.O Revisión General de Suspensión Delantera | C29: 1 | D29: N/A | E29: 440800 | F29: N/A | G29: 422000 | H29: N/A | I29: =(E29+G29)/2 -> 431400
A30: 20 | B30: M.O Revisión General de Suspensión Trasera | C30: 1 | D30: N/A | E30: 366000 | F30: N/A | G30: 342000 | H30: N/A | I30: =(E30+G30)/2 -> 354000
A31: 21 | B31: Juego amortiguadores delanteros (incluidos bujes, copelas, arandelas, pasadores y tuercas) | C31: 1 | D31: 1614400 | E31: 417500 | F31: 1453000 | G31: 376000 | H31: =(D31+F31)/2 -> 1533700 | I31: =(E31+G31)/2 -> 396750
A32: 22 | B32: Juego de brazos axiales | C32: 1 | D32: 1001600 | E32: 561300 | F32: 935000 | G32: 524000 | H32: =(D32+F32)/2 -> 968300 | I32: =(E32+G32)/2 -> 542650
A33: 23 | B33: Juego de rotulas superiores con sus tuercas y pines | C33: 1 | D33: 1164800 | E33: 542800 | F33: 1125000 | G33: 524000 | H33: =(D33+F33)/2 -> 1144900 | I33: =(E33+G33)/2 -> 533400
A34: 24 | B34: Juego de rotulas inferiores con sus tuercas y pines | C34: 1 | D34: 1226000 | E34: 542800 | F34: 1153000 | G34: 510000 | H34: =(D34+F34)/2 -> 1189500 | I34: =(E34+G34)/2 -> 526400
A35: 25 | B35: Juego de, muñecos, bujes y cauchos de la barra estabilizadora delantera | C35: 1 | D35: 641400 | E35: 278500 | F35: 604000 | G35: 262000 | H35: =(D35+F35)/2 -> 622700 | I35: =(E35+G35)/2 -> 270250
A36: 26 | B36: Juego de Tijeras superiores delanteras incluyendo bujes cuando aplique. | C36: 1 | D36: 1413300 | E36: 556700 | F36: 1296000 | G36: 510000 | H36: =(D36+F36)/2 -> 1354650 | I36: =(E36+G36)/2 -> 533350
A37: 27 | B37: Juego de Tijeras inferiores delanteras incluyendo bujes cuando aplique. | C37: 1 | D37: 1426500 | E37: 1103900 | F37: 1307000 | G37: 1011000 | H37: =(D37+F37)/2 -> 1366750 | I37: =(E37+G37)/2 -> 1057450
A38: 28 | B38: Juego de bujes tijeras superior e inferiores | C38: 1 | D38: 1571200 | E38: 1066800 | F38: 1476000 | G38: 1002000 | H38: =(D38+F38)/2 -> 1523600 | I38: =(E38+G38)/2 -> 1034400
A39: 29 | B39: Juego espirales delanteros. | C39: 1 | D39: 1253200 | E39: 400100 | F39: 1220000 | G39: 390000 | H39: =(D39+F39)/2 -> 1236600 | I39: =(E39+G39)/2 -> 395050
A40: 30 | B40: Juego soportes amortiguadores delanteros con sus rodamientos | C40: 1 | D40: 1057800 | E40: 800200 | F40: 1039000 | G40: 786000 | H40: =(D40+F40)/2 -> 1048400 | I40: =(E40+G40)/2 -> 793100
A41: 31 | B41: Barra estabilizadora delantera | C41: 1 | D41: 197500 | E41: 410500 | F41: 187000 | G41: 390000 | H41: =(D41+F41)/2 -> 192250 | I41: =(E41+G41)/2 -> 400250
A42: 32 | B42: Juego rodamientos delanteros | C42: 1 | D42: 1103800 | E42: 361800 | F42: 1003000 | G42: 329000 | H42: =(D42+F42)/2 -> 1053400 | I42: =(E42+G42)/2 -> 345400
... A56: 46 | B56: Esparrago y Tuerca Esparrago | C56: 1 | D56: 101300 | E56: 155700 | F56: 100000 | G56: 154000 | H56: =(D56+F56)/2 -> 100650 | I56: =(E56+G56)/2 -> 154850
A57: 47 | B57: Libra de Grasa | C57: 1 | D57: 69900 | E57: N/A | F57: 64000 | G57: N/A | H57: =(D57+F57)/2 -> 66950 | I57: N/A
A58: 48 | B58: Juego Templetes o tensores traseros largos y cortos con sus bujes o (brazo control superior e inferior con sus bujes) | C58: 1 | D58: 786500 | E58: 273800 | F58: 726000 | G58: 253000 | H58: =(D58+F58)/2 -> 756250 | I58: =(E58+G58)/2 -> 263400
B59: SISTEMA DE DIRECCIÓN
A60: 49 | B60: Caja de dirección. | C60: 1 | D60: 5577800 | E60: 841900 | F60: 4979000 | G60: 751000 | H60: =(D60+F60)/2 -> 5278400 | I60: =(E60+G60)/2 -> 796450
A61: 50 | B61: Brazo Axial | C61: 1 | D61: 350700 | E61: 271500 | F61: 345000 | G61: 267000 | H61: =(D61+F61)/2 -> 347850 | I61: =(E61+G61)/2 -> 269250
A62: 51 | B62: Terminal de Dirección | C62: 1 | D62: 852900 | E62: 138100 | F62: 803000 | G62: 130000 | H62: =(D62+F62)/2 -> 827950 | I62: =(E62+G62)/2 -> 134050
A63: 52 | B63: Cruceta de Dirección | C63: 1 | D63: 884800 | E63: 58900 | F63: 854000 | G63: 57000 | H63: =(D63+F63)/2 -> 869400 | I63: =(E63+G63)/2 -> 57950
A64: 53 | B64: Bomba de Dirección | C64: 1 | D64: 8800300 | E64: 556700 | F64: 8360000 | G64: 529000 | H64: =(D64+F64)/2 -> 8580150 | I64: =(E64+G64)/2 -> 542850
A65: 54 | B65: Deposito Tanque Hidraulico | C65: 1 | D65: 701900 | E65: 52300 | F65: 690000 | G65: 51000 | H65: =(D65+F65)/2 -> 695950 | I65: =(E65+G65)/2 -> 51650
A66: 55 | B66: Rin | C66: 1 | D66: 2088300 | E66: 47700 | F66: 2052000 | G66: 47000 | H66: =(D66+F66)/2 -> 2070150 | I66: =(E66+G66)/2 -> 47350
A67: 56 | B67: Eje principal dirección o caña dirección | C67: 1 | D67: 3449800 | E67: 195900 | F67: 3136000 | G67: 178000 | H67: =(D67+F67)/2 -> 3292900 | I67: =(E67+G67)/2 -> 186950
A68: 57 | B68: Juego Guardapolvos caja de dirección con sus abrazaderas | C68: 1 | D68: 548800 | E68: 533500 | F68: 515000 | G68: 501000 | H68: =(D68+F68)/2 -> 531900 | I68: =(E68+G68)/2 -> 517250
A69: 58 | B69: Juego guardapolvos brazos axiales con sus abrazaderas | C69: 1 | D69: 338700 | E69: 77900 | F69: 310000 | G69: 71000 | H69: =(D69+F69)/2 -> 324350 | I69: =(E69+G69)/2 -> 74450
A70: 59 | B70: Bomba hidráulico dirección | C70: 1 | D70: 2214400 | E70: 552100 | F70: 2010000 | G70: 501000 | H70: =(D70+F70)/2 -> 2112200 | I70: =(E70+G70)/2 -> 526550
A71: 60 | B71: Mangueras bomba dirección hidráulica | C71: 1 | D71: 159100 | E71: 136900 | F71: 154000 | G71: 132000 | H71: =(D71+F71)/2 -> 156550 | I71: =(E71+G71)/2 -> 134450
A72: 61 | B72: Juego bujes soportes caja dirección | C72: 1 | D72: 302000 | E72: 66500 | F72: 289000 | G72: 64000 | H72: =(D72+F72)/2 -> 295500 | I72: =(E72+G72)/2 -> 65250
B73: SISTEMA DE TRANSMISIÓN
A74: 62 | B74: caja de transmisión mecánica | C74: 1 | D74: 7543100 | E74: 754400 | F74: 7103000 | G74: 710000 | H74: =(D74+F74)/2 -> 7323050 | I74: =(E74+G74)/2 -> 732200
A75: 63 | B75: caja de transmisión automática | C75: 1 | D75: 13252700 | E75: 1113800 | F75: 12561000 | G75: 1056000 | H75: =(D75+F75)/2 -> 12906850 | I75: =(E75+G75)/2 -> 1084900
A76: 64 | B76: Empaquetadura caja de transmisión | C76: 1 | D76: 914300 | E76: 1043400 | F76: 883000 | G76: 1007000 | H76: =(D76+F76)/2 -> 898650 | I76: =(E76+G76)/2 -> 1025200
A77: 65 | B77: Retenedor de entrada trasmisión mec. | C77: 1 | D77: 116100 | E77: 222900 | F77: 111000 | G77: 213000 | H77: =(D77+F77)/2 -> 113550 | I77: =(E77+G77)/2 -> 217950
A78: 66 | B78: Reten lateral caja transversal | C78: 1 | D78: 451800 | E78: 678300 | F78: 444000 | G78: 667000 | H78: =(D78+F78)/2 -> 447900 | I78: =(E78+G78)/2 -> 672650
A79: 67 | B79: Guardapolvo barra cambios | C79: 1 | D79: 277400 | E79: 113200 | F79: 273000 | G79: 111000 | H79: =(D79+F79)/2 -> 275200 | I79: =(E79+G79)/2 -> 112100
A80: 68 | B80: Bujes palanca selectora cambios. (kit) | C80: 1 | D80: 178500 | E80: 134600 | F80: 166000 | G80: 125000 | H80: =(D80+F80)/2 -> 172250 | I80: =(E80+G80)/2 -> 129800
A81: 69 | B81: Sensor velocidad | C81: 1 | D81: 362800 | E81: 135800 | F81: 353000 | G81: 132000 | H81: =(D81+F81)/2 -> 357900 | I81: =(E81+G81)/2 -> 133900
A82: 70 | B82: Juego de Guayas freno de mano | C82: 1 | D82: 1867700 | E82: 561300 | F82: 1713000 | G82: 515000 | H82: =(D82+F82)/2 -> 1790350 | I82: =(E82+G82)/2 -> 538150
A83: 71 | B83: Cardan Delantero | C83: 1 | D83: 2571500 | E83: 273800 | F83: 2375000 | G83: 253000 | H83: =(D83+F83)/2 -> 2473250 | I83: =(E83+G83)/2 -> 263400
A84: 72 | B84: Cardan Trasero | C84: 1 | D84: 1477300 | E84: 283100 | F84: 1393000 | G84: 267000 | H84: =(D84+F84)/2 -> 1435150 | I84: =(E84+G84)/2 -> 275050
A85: 73 | B85: Cruceta Cardan | C85: 1 | D85: 503100 | E85: 226700 | F85: 465000 | G85: 210000 | H85: =(D85+F85)/2 -> 484050 | I85: =(E85+G85)/2 -> 218350
... A91: 79 | B91: Semi-eje delantero derecho | C91: 1 | D91: 3387700 | E91: 417500 | F91: 3049000 | G91: 376000 | H91: =(D91+F91)/2 -> 3218350 | I91: =(E91+G91)/2 -> 396750
B92: SISTEMA DE EMBRAGUE
A93: 80 | B93: Kit de embrague (prensa, disco, balinera, buje o rodamiento volante, pasador horquilla, soporte horquilla, horquilla) | C93: 1 | D93: 5324400 | E93: 2525500 | F93: 5060000 | G93: 2400000 | H93: =(D93+F93)/2 -> 5192200 | I93: =(E93+G93)/2 -> 2462750
A94: 81 | B94: Bomba principal embrague | C94: 1 | D94: 583500 | E94: 276100 | F94: 530000 | G94: 251000 | H94: =(D94+F94)/2 -> 556750 | I94: =(E94+G94)/2 -> 263550
A95: 82 | B95: Bomba auxiliar embrague | C95: 1 | D95: 517300 | E95: 283100 | F95: 483000 | G95: 265000 | H95: =(D95+F95)/2 -> 500150 | I95: =(E95+G95)/2 -> 274050
A96: 83 | B96: Manguera embrague | C96: 1 | D96: 359600 | E96: 136900 | F96: 335000 | G96: 128000 | H96: =(D96+F96)/2 -> 347300 | I96: =(E96+G96)/2 -> 132450
A97: 84 | B97: Guaya embrague | C97: 1 | D97: 792200 | E97: 339500 | F97: 746000 | G97: 320000 | H97: =(D97+F97)/2 -> 769100 | I97: =(E97+G97)/2 -> 329750
B98: SISTEMA ELÉCTRICO
A99: 85 | B99: Computador principal motor | C99: 1 | D99: 9722000 | E99: 226800 | F99: 9219000 | G99: 215000 | H99: =(D99+F99)/2 -> 9470500 | I99: =(E99+G99)/2 -> 220900
A100: 86 | B100: Alternador completo. | C100: 1 | D100: 3318800 | E100: 561300 | F100: 3017000 | G100: 510000 | H100: =(D100+F100)/2 -> 3167900 | I100: =(E100+G100)/2 -> 535650
A101: 87 | B101: Motor de Arranque completo. | C101: 1 | D101: 2982400 | E101: 707300 | F101: 2738000 | G101: 649000 | H101: =(D101+F101)/2 -> 2860200 | I101: =(E101+G101)/2 -> 678150
A102: 88 | B102: Batería incluida la instalación y revisión del sistema de carga | C102: 1 | D102: 1610000 | E102: 57500 | F102: 1568000 | G102: 56000 | H102: =(D102+F102)/2 -> 1589000 | I102: =(E102+G102)/2 -> 56750
A103: 89 | B103: Soporte batería incluida la instalación | C103: 1 | D103: 167300 | E103: 383200 | F103: 155000 | G103: 354000 | H103: =(D103+F103)/2 -> 161150 | I103: =(E103+G103)/2 -> 368600
A104: 90 | B104: Bornes o terminales Batería (Jgo.) | C104: 1 | D104: 57800 | E104: 84200 | F104: 53000 | G104: 77000 | H104: =(D104+F104)/2 -> 55400 | I104: =(E104+G104)/2 -> 80600
A105: 91 | B105: Bombillo halógeno o bombillo exploradora | C105: 1 | D105: 336700 | E105: 112200 | F105: 317000 | G105: 106000 | H105: =(D105+F105)/2 -> 326850 | I105: =(E105+G105)/2 -> 109100
A106: 92 | B106: Bombillo (stop, direccional, cocuyo E.T.C.) | C106: 1 | D106: 333800 | E106: 111300 | F106: 311000 | G106: 104000 | H106: =(D106+F106)/2 -> 322400 | I106: =(E106+G106)/2 -> 107650
A107: 93 | B107: Fusibles y /o Mini fusibles, incluida la instalación | C107: 1 | D107: 79200 | E107: 113200 | F107: 75000 | G107: 107000 | H107: =(D107+F107)/2 -> 77100 | I107: =(E107+G107)/2 -> 110100
A108: 94 | B108: Control luces y/o direccionales | C108: 1 | D108: 415200 | E108: 785600 | F108: 405000 | G108: 766000 | H108: =(D108+F108)/2 -> 410100 | I108: =(E108+G108)/2 -> 775800
A109: 95 | B109: Flacher direccionales | C109: 1 | D109: 336700 | E109: 22200 | F109: 317000 | G109: 21000 | H109: =(D109+F109)/2 -> 326850 | I109: =(E109+G109)/2 -> 21600
A110: 96 | B110: Switch encendido | C110: 1 | D110: 725600 | E110: 400100 | F110: 681000 | G110: 376000 | H110: =(D110+F110)/2 -> 703300 | I110: =(E110+G110)/2 -> 388050
... A118: 104 | B118: Motor deposito lava parabrisas | C118: 1 | D118: 212800 | E118: 84900 | F118: 188000 | G118: 75000 | H118: =(D118+F118)/2 -> 200400 | I118: =(E118+G118)/2 -> 79950
B119: SISTEMA DE REFRIGERACIÓN Y A/A.
A120: 105 | B120: Bomba de agua y empaque | C120: 1 | D120: 720300 | E120: 722200 | F120: 673000 | G120: 675000 | H120: =(D120+F120)/2 -> 696650 | I120: =(E120+G120)/2 -> 698600
A121: 106 | B121: Termostato y empaque, incluyendo pera o sensor de temperatura | C121: 1 | D121: 603700 | E121: 140400 | F121: 539000 | G121: 125000 | H121: =(D121+F121)/2 -> 571350 | I121: =(E121+G121)/2 -> 132700
A122: 107 | B122: Radiador completo con tapa | C122: 1 | D122: 2814600 | E122: 280800 | F122: 2675000 | G122: 267000 | H122: =(D122+F122)/2 -> 2744800 | I122: =(E122+G122)/2 -> 273900
A123: 108 | B123: Deposito auxiliar radiador con tapa | C123: 1 | D123: 324600 | E123: 80100 | F123: 325000 | G123: 80000 | H123: =(D123+F123)/2 -> 324800 | I123: =(E123+G123)/2 -> 80050
A124: 109 | B124: Enfocador radiador | C124: 1 | D124: 468600 | E124: 136900 | F124: 445000 | G124: 130000 | H124: =(D124+F124)/2 -> 456800 | I124: =(E124+G124)/2 -> 133450
A125: 110 | B125: Mangueras radiador, superior e inferior. | C125: 1 | D125: 263800 | E125: 56200 | F125: 251000 | G125: 53000 | H125: =(D125+F125)/2 -> 257400 | I125: =(E125+G125)/2 -> 54600
A126: 111 | B126: Tapa radiador incluida la instalación | C126: 1 | D126: 348100 | E126: N/A | F126: 322000 | G126: N/A | H126: =(D126+F126)/2 -> 335050 | I126: N/A
A127: 112 | B127: Ventilador o electro ventilador. | C127: 1 | D127: 671800 | E127: 276100 | F127: 649000 | G127: 267000 | H127: =(D127+F127)/2 -> 660400 | I127: =(E127+G127)/2 -> 271550
...

Sheet DAIHATSU 
B1: Anexo No. 4 Oferta Económica MANTENIMEINTO VEHICULOS MANO DE OBRA Y REPUESTOS | C1: CANTIDAD | D1: COTIZACION CAMPESA SA | F1: COTIZACION TODO REPUESTOS | H1: PROMEDIO
A3: CAMPERO DAIHATSU
A4: TERIOS
A5: 2010
A6: 1,500 C.C.
A7: DAIHATSU | D7: Valor Repuesto Sin IVA | E7: Valor M.O. Sin IVA | F7: Valor Repuesto Sin IVA | G7: Valor M.O. Sin IVA | H7: Valor Repuesto Sin IVA | I7: Valor M.O. Sin IVA
A9: ítem | B9: SISTEMA DE FRENOS
A10: 1 | B10: Revisión general de frenos: M.O (graduación general de freno de mano y las bandas, limpieza sistema ABS cuando aplique). Sin Repuestos | C10: 1 | D10: 85400 | E10: 390400 | F10: 78000 | G10: 355000 | H10: =(D10+F10)/2 -> 81700 | I10: =(E10+G10)/2 -> 372700
A11: 2 | B11: Liquido de freno DOT según referencia vehículo (pinta - 290 mi) | C11: 1 | D11: 58000 | E11: 317700 | F11: 56000 | G11: 304000 | H11: =(D11+F11)/2 -> 57000 | I11: =(E11+G11)/2 -> 310850
A12: 3 | B12: Pastillas delanteras o traseras (juego) | C12: 1 | D12: 1415600 | E12: 325900 | F12: 1368000 | G12: 315000 | H12: =(D12+F12)/2 -> 1391800 | I12: =(E12+G12)/2 -> 320450
A13: 4 | B13: Bandas delanteras o traseras (juego), incluyendo cambio de puntillas o resortes bandas, cuando aplique | C13: 1 | D13: 1624000 | E13: 464000 | F13: 1582000 | G13: 452000 | H13: =(D13+F13)/2 -> 1603000 | I13: =(E13+G13)/2 -> 458000
A14: 5 | B14: Cilindros freno delanteros o traseros (Jgo) | C14: 1 | D14: 938700 | E14: 107700 | F14: 922000 | G14: 106000 | H14: =(D14+F14)/2 -> 930350 | I14: =(E14+G14)/2 -> 106850
A15: 6 | B15: Campanas delanteras o traseras (Jgo) | C15: 1 | D15: 1148700 | E15: 73900 | F15: 1045000 | G15: 67000 | H15: =(D15+F15)/2 -> 1096850 | I15: =(E15+G15)/2 -> 70450
A16: 7 | B16: Discos delanteros o traseros (Jgo) | C16: 1 | D16: 3000000 | E16: 540000 | F16: 2825000 | G16: 509000 | H16: =(D16+F16)/2 -> 2912500 | I16: =(E16+G16)/2 -> 524500
A17: 8 | B17: Rectificación de Disco | C17: 1 | D17: N/A | E17: 430500 | F17: N/A | G17: 399000 | H17: N/A | I17: =(E17+G17)/2 -> 414750
A18: 9 | B18: Guaya de freno | C18: 1 | D18: 1033400 | E18: 315000 | F18: 971000 | G18: 296000 | H18: =(D18+F18)/2 -> 1002200 | I18: =(E18+G18)/2 -> 305500
A19: 10 | B19: Guayas freno de mano o de parqueo (Juego) | C19: 1 | D19: 2172300 | E19: 662500 | F19: 1957000 | G19: 597000 | H19: =(D19+F19)/2 -> 2064650 | I19: =(E19+G19)/2 -> 629750
A20: 11 | B20: Palanca Freno de Mano | C20: 1 | D20: 758900 | E20: 62500 | F20: 701000 | G20: 58000 | H20: =(D20+F20)/2 -> 729950 | I20: =(E20+G20)/2 -> 60250
A21: 12 | B21: Resorte de Banda | C21: 1 | D21: 230100 | E21: 41800 | F21: 213000 | G21: 39000 | H21: =(D21+F21)/2 -> 221550 | I21: =(E21+G21)/2 -> 40400
A22: 13 | B22: Pistón mordaza (juego) | C22: 1 | D22: 456600 | E22: 331400 | F22: 411000 | G22: 299000 | H22: =(D22+F22)/2 -> 433800 | I22: =(E22+G22)/2 -> 315200
A23: 14 | B23: Mordazas y sus pasadores (juego) | C23: 1 | D23: 3709800 | E23: 320400 | F23: 3646000 | G23: 315000 | H23: =(D23+F23)/2 -> 3677900 | I23: =(E23+G23)/2 -> 317700
A24: 15 | B24: Ligas clíper (jugo) | C24: 1 | D24: 529800 | E24: 448400 | F24: 521000 | G24: 441000 | H24: =(D24+F24)/2 -> 525400 | I24: =(E24+G24)/2 -> 444700
A25: 16 | B25: Bomba de freno | C25: 1 | D25: 1239700 | E25: 1291900 | F25: 1135000 | G25: 1182000 | H25: =(D25+F25)/2 -> 1187350 | I25: =(E25+G25)/2 -> 1236950
A26: 17 | B26: Manguera freno | C26: 1 | D26: 394700 | E26: 157500 | F26: 374000 | G26: 149000 | H26: =(D26+F26)/2 -> 384350 | I26: =(E26+G26)/2 -> 153250
A27: 18 | B27: Limpiador de frenos o discos 536 ml | C27: 1 | D27: 85400 | E27: 35600 | F27: 77000 | G27: 32000 | H27: =(D27+F27)/2 -> 81200 | I27: =(E27+G27)/2 -> 33800
B28: SISTEMA DE SUSPENSIÓN
A29: 19 | B29: M.O Revisión General de Suspensión Delantera | C29: 1 | D29: N/A | E29: 444600 | F29: N/A | G29: 433000 | H29: N/A | I29: =(E29+G29)/2 -> 438800
A30: 20 | B30: M.O Revisión General de Suspensión Trasera | C30: 1 | D30: N/A | E30: 345000 | F30: N/A | G30: 330000 | H30: N/A | I30: =(E30+G30)/2 -> 337500
A31: 21 | B31: Juego amortiguadores delanteros (incluidos bujes, copelas, arandelas, pasadores y tuercas) | C31: 1 | D31: 1798300 | E31: 500900 | F31: 1651000 | G31: 460000 | H31: =(D31+F31)/2 -> 1724650 | I31: =(E31+G31)/2 -> 480450
A32: 22 | B32: Juego de brazos axiales | C32: 1 | D32: 905900 | E32: 640600 | F32: 844000 | G32: 597000 | H32: =(D32+F32)/2 -> 874950 | I32: =(E32+G32)/2 -> 618800
A33: 23 | B33: Juego de rotulas superiores con sus tuercas y pines | C33: 1 | D33: 1747700 | E33: 662500 | F33: 1661000 | G33: 630000 | H33: =(D33+F33)/2 -> 1704350 | I33: =(E33+G33)/2 -> 646250
A34: 24 | B34: Juego de rotulas inferiores con sus tuercas y pines | C34: 1 | D34: 1038700 | E34: 662500 | F34: 987000 | G34: 630000 | H34: =(D34+F34)/2 -> 1012850 | I34: =(E34+G34)/2 -> 646250
A35: 25 | B35: Juego de, muñecos, bujes y cauchos de la barra estabilizadora delantera | C35: 1 | D35: 780700 | E35: 328700 | F35: 748000 | G35: 315000 | H35: =(D35+F35)/2 -> 764350 | I35: =(E35+G35)/2 -> 321850
A36: 26 | B36: Juego de Tijeras superiores delanteras incluyendo bujes cuando aplique. | C36: 1 | D36: 2158500 | E36: 651600 | F36: 2068000 | G36: 624000 | H36: =(D36+F36)/2 -> 2113250 | I36: =(E36+G36)/2 -> 637800
A37: 27 | B37: Juego de Tijeras inferiores delanteras incluyendo bujes cuando aplique. | C37: 1 | D37: 4280000 | E37: 1291900 | F37: 4026000 | G37: 1215000 | H37: =(D37+F37)/2 -> 4153000 | I37: =(E37+G37)/2 -> 1253450
A38: 28 | B38: Juego de bujes tijeras superior e inferiores | C38: 1 | D38: 629300 | E38: 1313800 | F38: 587000 | G38: 1226000 | H38: =(D38+F38)/2 -> 608150 | I38: =(E38+G38)/2 -> 1269900
A39: 29 | B39: Juego espirales delanteros. | C39: 1 | D39: 2502900 | E39: 480400 | F39: 2396000 | G39: 460000 | H39: =(D39+F39)/2 -> 2449450 | I39: =(E39+G39)/2 -> 470200
A40: 30 | B40: Juego soportes amortiguadores delanteros con sus rodamientos | C40: 1 | D40: 760600 | E40: 1001900 | F40: 698000 | G40: 920000 | H40: =(D40+F40)/2 -> 729300 | I40: =(E40+G40)/2 -> 960950
A41: 31 | B41: Barra estabilizadora delantera | C41: 1 | D41: 947900 | E41: 480400 | F41: 899000 | G41: 456000 | H41: =(D41+F41)/2 -> 923450 | I41: =(E41+G41)/2 -> 468200
A42: 32 | B42: Juego rodamientos delanteros | C42: 1 | D42: 1152900 | E42: 419900 | F42: 1084000 | G42: 395000 | H42: =(D42+F42)/2 -> 1118450 | I42: =(E42+G42)/2 -> 407450
... A56: 46 | B56: Esparrago y Tuerca Esparrago | C56: 1 | D56: 123700 | E56: 227300 | F56: 113000 | G56: 208000 | H56: =(D56+F56)/2 -> 118350 | I56: =(E56+G56)/2 -> 217650
A57: 47 | B57: Libra de Grasa | C57: 1 | D57: 81200 | E57: N/A | F57: 79000 | G57: N/A | H57: =(D57+F57)/2 -> 80100 | I57: N/A
A58: 48 | B58: Juego Templetes o tensores traseros largos y cortos con sus bujes o (brazo control superior e inferior con sus bujes) | C58: 1 | D58: 904600 | E58: 315000 | F58: 897000 | G58: 312000 | H58: =(D58+F58)/2 -> 900800 | I58: =(E58+G58)/2 -> 313500
B59: SISTEMA DE DIRECCIÓN
A60: 49 | B60: Caja de dirección. | C60: 1 | D60: 6419900 | E60: 969000 | F60: 5876000 | G60: 887000 | H60: =(D60+F60)/2 -> 6147950 | I60: =(E60+G60)/2 -> 928000
A61: 50 | B61: Brazo Axial | C61: 1 | D61: 322700 | E61: 315000 | F61: 317000 | G61: 309000 | H61: =(D61+F61)/2 -> 319850 | I61: =(E61+G61)/2 -> 312000
A62: 51 | B62: Terminal de Dirección | C62: 1 | D62: 1543700 | E62: 158900 | F62: 1451000 | G62: 149000 | H62: =(D62+F62)/2 -> 1497350 | I62: =(E62+G62)/2 -> 153950
A63: 52 | B63: Cruceta de Dirección | C63: 1 | D63: 1044300 | E63: 69800 | F63: 1017000 | G63: 68000 | H63: =(D63+F63)/2 -> 1030650 | I63: =(E63+G63)/2 -> 68900
A64: 53 | B64: Bomba de Dirección | C64: 1 | D64: 10213300 | E64: 646100 | F64: 9348000 | G64: 591000 | H64: =(D64+F64)/2 -> 9780650 | I64: =(E64+G64)/2 -> 618550
A65: 54 | B65: Deposito Tanque Hidraulico | C65: 1 | D65: 842900 | E65: 56500 | F65: 821000 | G65: 55000 | H65: =(D65+F65)/2 -> 831950 | I65: =(E65+G65)/2 -> 55750
A66: 55 | B66: Rin | C66: 1 | D66: 1854800 | E66: 49800 | F66: 1698000 | G66: 46000 | H66: =(D66+F66)/2 -> 1776400 | I66: =(E66+G66)/2 -> 47900
A67: 56 | B67: Eje principal dirección o caña dirección | C67: 1 | D67: 1462600 | E67: 183800 | F67: 1340000 | G67: 168000 | H67: =(D67+F67)/2 -> 1401300 | I67: =(E67+G67)/2 -> 175900
A68: 57 | B68: Juego Guardapolvos caja de dirección con sus abrazaderas | C68: 1 | D68: 529200 | E68: 629700 | F68: 520000 | G68: 619000 | H68: =(D68+F68)/2 -> 524600 | I68: =(E68+G68)/2 -> 624350
A69: 58 | B69: Juego guardapolvos brazos axiales con sus abrazaderas | C69: 1 | D69: 986200 | E69: 162400 | F69: 969000 | G69: 160000 | H69: =(D69+F69)/2 -> 977600 | I69: =(E69+G69)/2 -> 161200
A70: 59 | B70: Bomba hidráulico dirección | C70: 1 | D70: 6033900 | E70: 668000 | F70: 5638000 | G70: 624000 | H70: =(D70+F70)/2 -> 5835950 | I70: =(E70+G70)/2 -> 646000
A71: 60 | B71: Mangueras bomba dirección hidráulica | C71: 1 | D71: 608000 | E71: 167100 | F71: 558000 | G71: 153000 | H71: =(D71+F71)/2 -> 583000 | I71: =(E71+G71)/2 -> 160050
A72: 61 | B72: Juego bujes soportes caja dirección | C72: 1 | D72: 344200 | E72: 95600 | F72: 321000 | G72: 89000 | H72: =(D72+F72)/2 -> 332600 | I72: =(E72+G72)/2 -> 92300
B73: SISTEMA DE TRANSMISIÓN
A74: 62 | B74: caja de transmisión mecánica | C74: 1 | D74: 12797400 | E74: 936900 | F74: 12464000 | G74: 912000 | H74: =(D74+F74)/2 -> 12630700 | I74: =(E74+G74)/2 -> 924450
A75: 63 | B75: caja de transmisión automática | C75: 1 | D75: 12797400 | E75: 284800 | F75: 12241000 | G75: 272000 | H75: =(D75+F75)/2 -> 12519200 | I75: =(E75+G75)/2 -> 278400
A76: 64 | B76: Empaquetadura caja de transmisión | C76: 1 | D76: 300200 | E76: 1281200 | F76: 280000 | G76: 1197000 | H76: =(D76+F76)/2 -> 290100 | I76: =(E76+G76)/2 -> 1239100
A77: 65 | B77: Retenedor de entrada trasmisión mec. | C77: 1 | D77: 381700 | E77: 262500 | F77: 372000 | G77: 256000 | H77: =(D77+F77)/2 -> 376850 | I77: =(E77+G77)/2 -> 259250
A78: 66 | B78: Reten lateral caja transversal | C78: 1 | D78: 378500 | E78: 800600 | F78: 353000 | G78: 746000 | H78: =(D78+F78)/2 -> 365750 | I78: =(E78+G78)/2 -> 773300
A79: 67 | B79: Guardapolvo barra cambios | C79: 1 | D79: 432000 | E79: 142900 | F79: 403000 | G79: 133000 | H79: =(D79+F79)/2 -> 417500 | I79: =(E79+G79)/2 -> 137950
A80: 68 | B80: Bujes palanca selectora cambios. (kit) | C80: 1 | D80: 259100 | E80: 161600 | F80: 239000 | G80: 149000 | H80: =(D80+F80)/2 -> 249050 | I80: =(E80+G80)/2 -> 155300
A81: 69 | B81: Sensor velocidad | C81: 1 | D81: 479600 | E81: 167100 | F81: 444000 | G81: 155000 | H81: =(D81+F81)/2 -> 461800 | I81: =(E81+G81)/2 -> 161050
A82: 70 | B82: Juego de Guayas freno de mano | C82: 1 | D82: 2118400 | E82: 646100 | F82: 1975000 | G82: 602000 | H82: =(D82+F82)/2 -> 2046700 | I82: =(E82+G82)/2 -> 624050
A83: 71 | B83: Cardan Delantero | C83: 1 | D83: 799500 | E83: 323200 | F83: 745000 | G83: 301000 | H83: =(D83+F83)/2 -> 772250 | I83: =(E83+G83)/2 -> 312100
A84: 72 | B84: Cardan Trasero | C84: 1 | D84: 849400 | E84: 320400 | F84: 806000 | G84: 304000 | H84: =(D84+F84)/2 -> 827700 | I84: =(E84+G84)/2 -> 312200
A85: 73 | B85: Cruceta Cardan | C85: 1 | D85: 1058800 | E85: 240400 | F85: 1031000 | G85: 234000 | H85: =(D85+F85)/2 -> 1044900 | I85: =(E85+G85)/2 -> 237200
... A91: 79 | B91: Semi-eje delantero derecho | C91: 1 | D91: 1668100 | E91: 488600 | F91: 1528000 | G91: 448000 | H91: =(D91+F91)/2 -> 1598050 | I91: =(E91+G91)/2 -> 468300
B92: SISTEMA DE EMBRAGUE
A93: 80 | B93: Kit de embrague (prensa, disco, balinera, buje o rodamiento volante, pasador horquilla, soporte horquilla, horquilla) | C93: 1 | D93: 2115800 | E93: 2906800 | F93: 1954000 | G93: 2685000 | H93: =(D93+F93)/2 -> 2034900 | I93: =(E93+G93)/2 -> 2795900
A94: 81 | B94: Bomba principal embrague | C94: 1 | D94: 711000 | E94: 315000 | F94: 692000 | G94: 307000 | H94: =(D94+F94)/2 -> 701500 | I94: =(E94+G94)/2 -> 311000
A95: 82 | B95: Bomba auxiliar embrague | C95: 1 | D95: 487200 | E95: 317700 | F95: 470000 | G95: 307000 | H95: =(D95+F95)/2 -> 478600 | I95: =(E95+G95)/2 -> 312350
A96: 83 | B96: Manguera embrague | C96: 1 | D96: 418700 | E96: 160200 | F96: 408000 | G96: 156000 | H96: =(D96+F96)/2 -> 413350 | I96: =(E96+G96)/2 -> 158100
A97: 84 | B97: Guaya embrague | C97: 1 | D97: 911400 | E97: 395800 | F97: 856000 | G97: 372000 | H97: =(D97+F97)/2 -> 883700 | I97: =(E97+G97)/2 -> 383900
B98: SISTEMA ELÉCTRICO
A99: 85 | B99: Computador principal motor | C99: 1 | D99: 9692800 | E99: 270600 | F99: 9609000 | G99: 268000 | H99: =(D99+F99)/2 -> 9650900 | I99: =(E99+G99)/2 -> 269300
A100: 86 | B100: Alternador completo. | C100: 1 | D100: 3475600 | E100: 651600 | F100: 3154000 | G100: 591000 | H100: =(D100+F100)/2 -> 3314800 | I100: =(E100+G100)/2 -> 621300
A101: 87 | B101: Motor de Arranque completo. | C101: 1 | D101: 2855000 | E101: 821100 | F101: 2617000 | G101: 753000 | H101: =(D101+F101)/2 -> 2736000 | I101: =(E101+G101)/2 -> 787050
A102: 88 | B102: Batería incluida la instalación y revisión del sistema de carga | C102: 1 | D102: 1638000 | E102: 58500 | F102: 1540000 | G102: 55000 | H102: =(D102+F102)/2 -> 1589000 | I102: =(E102+G102)/2 -> 56750
A103: 89 | B103: Soporte batería incluida la instalación | C103: 1 | D103: 313000 | E103: 520600 | F103: 300000 | G103: 498000 | H103: =(D103+F103)/2 -> 306500 | I103: =(E103+G103)/2 -> 509300
A104: 90 | B104: Bornes o terminales Batería (Jgo.) | C104: 1 | D104: 73800 | E104: 96100 | F104: 70000 | G104: 91000 | H104: =(D104+F104)/2 -> 71900 | I104: =(E104+G104)/2 -> 93550
A105: 91 | B105: Bombillo halógeno o bombillo exploradora | C105: 1 | D105: 404100 | E105: 134700 | F105: 367000 | G105: 122000 | H105: =(D105+F105)/2 -> 385550 | I105: =(E105+G105)/2 -> 128350
A106: 92 | B106: Bombillo (stop, direccional, cocuyo E.T.C.) | C106: 1 | D106: 387300 | E106: 129100 | F106: 381000 | G106: 127000 | H106: =(D106+F106)/2 -> 384150 | I106: =(E106+G106)/2 -> 128050
A107: 93 | B107: Fusibles y /o Mini fusibles, incluida la instalación | C107: 1 | D107: 90400 | E107: 129100 | F107: 86000 | G107: 123000 | H107: =(D107+F107)/2 -> 88200 | I107: =(E107+G107)/2 -> 126050
A108: 94 | B108: Control luces y/o direccionales | C108: 1 | D108: 502500 | E108: 950700 | F108: 478000 | G108: 904000 | H108: =(D108+F108)/2 -> 490250 | I108: =(E108+G108)/2 -> 927350
A109: 95 | B109: Flacher direccionales | C109: 1 | D109: 410800 | E109: 27100 | F109: 367000 | G109: 24000 | H109: =(D109+F109)/2 -> 388900 | I109: =(E109+G109)/2 -> 25550
A110: 96 | B110: Switch encendido | C110: 1 | D110: 354400 | E110: 484500 | F110: 336000 | G110: 460000 | H110: =(D110+F110)/2 -> 345200 | I110: =(E110+G110)/2 -> 472250
... A118: 104 | B118: Motor deposito lava parabrisas | C118: 1 | D118: 281600 | E118: 100200 | F118: 258000 | G118: 92000 | H118: =(D118+F118)/2 -> 269800 | I118: =(E118+G118)/2 -> 96100
B119: SISTEMA DE REFRIGERACIÓN Y A/A.
A120: 105 | B120: Bomba de agua y empaque | C120: 1 | D120: 861000 | E120: 823900 | F120: 832000 | G120: 796000 | H120: =(D120+F120)/2 -> 846500 | I120: =(E120+G120)/2 -> 809950
A121: 106 | B121: Termostato y empaque, incluyendo pera o sensor de temperatura | C121: 1 | D121: 285800 | E121: 163000 | F121: 259000 | G121: 148000 | H121: =(D121+F121)/2 -> 272400 | I121: =(E121+G121)/2 -> 155500
A122: 107 | B122: Radiador completo con tapa | C122: 1 | D122: 2394900 | E122: 320400 | F122: 2293000 | G122: 307000 | H122: =(D122+F122)/2 -> 2343950 | I122: =(E122+G122)/2 -> 313700
A123: 108 | B123: Deposito auxiliar radiador con tapa | C123: 1 | D123: 372700 | E123: 96100 | F123: 357000 | G123: 92000 | H123: =(D123+F123)/2 -> 364850 | I123: =(E123+G123)/2 -> 94050
A124: 109 | B124: Enfocador radiador | C124: 1 | D124: 480100 | E124: 160200 | F124: 468000 | G124: 156000 | H124: =(D124+F124)/2 -> 474050 | I124: =(E124+G124)/2 -> 158100
A125: 110 | B125: Mangueras radiador, superior e inferior. | C125: 1 | D125: 518700 | E125: 64100 | F125: 505000 | G125: 62000 | H125: =(D125+F125)/2 -> 511850 | I125: =(E125+G125)/2 -> 63050
A126: 111 | B126: Tapa radiador incluida la instalación | C126: 1 | D126: 390600 | E126: N/A | F126: 387000 | G126: N/A | H126: =(D126+F126)/2 -> 388800 | I126: N/A
A127: 112 | B127: Ventilador o electro ventilador. | C127: 1 | D127: 1554900 | E127: 317700 | F127: 1501000 | G127: 307000 | H127: =(D127+F127)/2 -> 1527950 | I127: =(E127+G127)/2 -> 312350
...

Sheet GREAT WALL
B1: Anexo No. 4 Oferta Económica MANTENIMEINTO VEHICULOS MANO DE OBRA Y REPUESTOS | C1: CANTIDAD | D1: COTIZACION CAMPESA SA | F1: COTIZACION TODO REPUESTOS | H1: PROMEDIO
A3: CAMPERO GREAT WALL
A4: WINGLE
A5: 2013
A6: 2500 C.C.
A7: GREAT WALL | D7: Valor Repuesto Sin IVA | E7: Valor M.O. Sin IVA | F7: Valor Repuesto Sin IVA | G7: Valor M.O. Sin IVA | H7: Valor Repuesto Sin IVA | I7: Valor M.O. Sin IVA
A9: ítem | B9: SISTEMA DE FRENOS
A10: 1 | B10: Revisión general de frenos: M.O (graduación general de freno de mano y las bandas, limpieza sistema ABS cuando aplique). Sin Repuestos | C10: 1 | D10: 82600 | E10: 377600 | F10: 77000 | G10: 352000 | H10: =(D10+F10)/2 -> 79800 | I10: =(E10+G10)/2 -> 364800
A11: 2 | B11: Liquido de freno DOT según referencia vehículo (pinta - 290 mi) | C11: 1 | D11: 59500 | E11: 306800 | F11: 54000 | G11: 278000 | H11: =(D11+F11)/2 -> 56750 | I11: =(E11+G11)/2 -> 292400
A12: 3 | B12: Pastillas delanteras o traseras (juego) | C12: 1 | D12: 1930700 | E12: 301600 | F12: 1832000 | G12: 286000 | H12: =(D12+F12)/2 -> 1881350 | I12: =(E12+G12)/2 -> 293800
A13: 4 | B13: Bandas delanteras o traseras (juego), incluyendo cambio de puntillas o resortes bandas, cuando aplique | C13: 1 | D13: 1694000 | E13: 484000 | F13: 1596000 | G13: 456000 | H13: =(D13+F13)/2 -> 1645000 | I13: =(E13+G13)/2 -> 470000
A14: 5 | B14: Cilindros freno delanteros o traseros (Jgo) | C14: 1 | D14: 1994400 | E14: 138700 | F14: 1864000 | G14: 130000 | H14: =(D14+F14)/2 -> 1929200 | I14: =(E14+G14)/2 -> 134350
A15: 6 | B15: Campanas delanteras o traseras (Jgo) | C15: 1 | D15: 6909500 | E15: 71800 | F15: 6510000 | G15: 68000 | H15: =(D15+F15)/2 -> 6709750 | I15: =(E15+G15)/2 -> 69900
A16: 7 | B16: Discos delanteros o traseros (Jgo) | C16: 1 | D16: 2950000 | E16: 531000 | F16: 2750000 | G16: 495000 | H16: =(D16+F16)/2 -> 2850000 | I16: =(E16+G16)/2 -> 513000
A17: 8 | B17: Rectificación de Disco | C17: 1 | D17: N/A | E17: 511000 | F17: N/A | G17: 494000 | H17: N/A | I17: =(E17+G17)/2 -> 502500
A18: 9 | B18: Guaya de freno | C18: 1 | D18: 1600200 | E18: 314500 | F18: 1443000 | G18: 284000 | H18: =(D18+F18)/2 -> 1521600 | I18: =(E18+G18)/2 -> 299250
A19: 10 | B19: Guayas freno de mano o de parqueo (Juego) | C19: 1 | D19: 3197500 | E19: 628800 | F19: 2988000 | G19: 588000 | H19: =(D19+F19)/2 -> 3092750 | I19: =(E19+G19)/2 -> 608400
A20: 11 | B20: Palanca Freno de Mano | C20: 1 | D20: 1278900 | E20: 79700 | F20: 1225000 | G20: 76000 | H20: =(D20+F20)/2 -> 1251950 | I20: =(E20+G20)/2 -> 77850
A21: 12 | B21: Resorte de Banda | C21: 1 | D21: 216000 | E21: 47000 | F21: 201000 | G21: 44000 | H21: =(D21+F21)/2 -> 208500 | I21: =(E21+G21)/2 -> 45500
A22: 13 | B22: Pistón mordaza (juego) | C22: 1 | D22: 2656800 | E22: 301600 | F22: 2543000 | G22: 289000 | H22: =(D22+F22)/2 -> 2599900 | I22: =(E22+G22)/2 -> 295300
A23: 14 | B23: Mordazas y sus pasadores (juego) | C23: 1 | D23: 4899500 | E23: 311900 | F23: 4373000 | G23: 278000 | H23: =(D23+F23)/2 -> 4636250 | I23: =(E23+G23)/2 -> 294950
A24: 15 | B24: Ligas clíper (jugo) | C24: 1 | D24: 779000 | E24: 429200 | F24: 740000 | G24: 408000 | H24: =(D24+F24)/2 -> 759500 | I24: =(E24+G24)/2 -> 418600
A25: 16 | B25: Bomba de freno | C25: 1 | D25: 4677200 | E25: 1195500 | F25: 4355000 | G25: 1113000 | H25: =(D25+F25)/2 -> 4516100 | I25: =(E25+G25)/2 -> 1154250
A26: 17 | B26: Manguera freno | C26: 1 | D26: 872700 | E26: 148200 | F26: 873000 | G26: 148000 | H26: =(D26+F26)/2 -> 872850 | I26: =(E26+G26)/2 -> 148100
A27: 18 | B27: Limpiador de frenos o discos 536 ml | C27: 1 | D27: 82600 | E27: N/A | F27: 78000 | G27: N/A | H27: =(D27+F27)/2 -> 80300 | I27: N/A
B28: SISTEMA DE SUSPENSIÓN
A29: 19 | B29: M.O Revisión General de Suspensión Delantera | C29: 1 | D29: N/A | E29: 456000 | F29: N/A | G29: 426000 | H29: N/A | I29: =(E29+G29)/2 -> 441000
A30: 20 | B30: M.O Revisión General de Suspensión Trasera | C30: 1 | D30: N/A | E30: 357000 | F30: N/A | G30: 336000 | H30: N/A | I30: =(E30+G30)/2 -> 346500
A31: 21 | B31: Juego amortiguadores delanteros (incluidos bujes, copelas, arandelas, pasadores y tuercas) | C31: 1 | D31: 1398100 | E31: 471500 | F31: 1318000 | G31: 444000 | H31: =(D31+F31)/2 -> 1358050 | I31: =(E31+G31)/2 -> 457750
A32: 22 | B32: Juego de brazos axiales | C32: 1 | D32: 2550300 | E32: 597900 | F32: 2506000 | G32: 588000 | H32: =(D32+F32)/2 -> 2528150 | I32: =(E32+G32)/2 -> 592950
A33: 23 | B33: Juego de rotulas superiores con sus tuercas y pines | C33: 1 | D33: 3348800 | E33: 623600 | F33: 3183000 | G33: 593000 | H33: =(D33+F33)/2 -> 3265900 | I33: =(E33+G33)/2 -> 608300
A34: 24 | B34: Juego de rotulas inferiores con sus tuercas y pines | C34: 1 | D34: 2038900 | E34: 608200 | F34: 1953000 | G34: 582000 | H34: =(D34+F34)/2 -> 1995950 | I34: =(E34+G34)/2 -> 595100
A35: 25 | B35: Juego de, muñecos, bujes y cauchos de la barra estabilizadora delantera | C35: 1 | D35: 1171900 | E35: 304200 | F35: 1132000 | G35: 294000 | H35: =(D35+F35)/2 -> 1151950 | I35: =(E35+G35)/2 -> 299100
A36: 26 | B36: Juego de Tijeras superiores delanteras incluyendo bujes cuando aplique. | C36: 1 | D36: 2629000 | E36: 623600 | F36: 2368000 | G36: 562000 | H36: =(D36+F36)/2 -> 2498500 | I36: =(E36+G36)/2 -> 592800
A37: 27 | B37: Juego de Tijeras inferiores delanteras incluyendo bujes cuando aplique. | C37: 1 | D37: 2629000 | E37: 1247000 | F37: 2499000 | G37: 1185000 | H37: =(D37+F37)/2 -> 2564000 | I37: =(E37+G37)/2 -> 1216000
A38: 28 | B38: Juego de bujes tijeras superior e inferiores | C38: 1 | D38: 1461900 | E38: 1205800 | F38: 1424000 | G38: 1175000 | H38: =(D38+F38)/2 -> 1442950 | I38: =(E38+G38)/2 -> 1190400
A39: 29 | B39: Juego espirales delanteros. | C39: 1 | D39: 2081800 | E39: 456100 | F39: 1923000 | G39: 421000 | H39: =(D39+F39)/2 -> 2002400 | I39: =(E39+G39)/2 -> 438550
A40: 30 | B40: Juego soportes amortiguadores delanteros con sus rodamientos | C40: 1 | D40: 1697300 | E40: 912100 | F40: 1597000 | G40: 858000 | H40: =(D40+F40)/2 -> 1647150 | I40: =(E40+G40)/2 -> 885050
A41: 31 | B41: Barra estabilizadora delantera | C41: 1 | D41: 2469400 | E41: 459900 | F41: 2241000 | G41: 417000 | H41: =(D41+F41)/2 -> 2355200 | I41: =(E41+G41)/2 -> 438450
A42: 32 | B42: Juego rodamientos delanteros | C42: 1 | D42: 2006900 | E42: 398600 | F42: 1906000 | G42: 378000 | H42: =(D42+F42)/2 -> 1956450 | I42: =(E42+G42)/2 -> 388300
... A56: 46 | B56: Esparrago y Tuerca Esparrago | C56: 1 | D56: 132800 | E56: 202900 | F56: 119000 | G56: 181000 | H56: =(D56+F56)/2 -> 125900 | I56: =(E56+G56)/2 -> 191950
A57: 47 | B57: Libra de Grasa | C57: 1 | D57: 88000 | E57: N/A | F57: 80000 | G57: N/A | H57: =(D57+F57)/2 -> 84000 | I57: N/A
A58: 48 | B58: Juego Templetes o tensores traseros largos y cortos con sus bujes o (brazo control superior e inferior con sus bujes) | C58: 1 | D58: 1302100 | E58: 306800 | F58: 1204000 | G58: 284000 | H58: =(D58+F58)/2 -> 1253050 | I58: =(E58+G58)/2 -> 295400
B59: SISTEMA DE DIRECCIÓN
A60: 49 | B60: Caja de dirección. | C60: 1 | D60: 3000300 | E60: 896700 | F60: 2974000 | G60: 889000 | H60: =(D60+F60)/2 -> 2987150 | I60: =(E60+G60)/2 -> 892850
A61: 50 | B61: Caja Dirección Hidraulica | C61: 1 | D61: 3077900 | E61: 919900 | F61: 2949000 | G61: 881000 | H61: =(D61+F61)/2 -> 3013450 | I61: =(E61+G61)/2 -> 900450
A62: 51 | B62: Brazo Axial | C62: 1 | D62: 1006200 | E62: 314500 | F62: 899000 | G62: 281000 | H62: =(D62+F62)/2 -> 952600 | I62: =(E62+G62)/2 -> 297750
A63: 52 | B63: Terminal de Dirección | C63: 1 | D63: 3815000 | E63: 157300 | F63: 3534000 | G63: 146000 | H63: =(D63+F63)/2 -> 3674500 | I63: =(E63+G63)/2 -> 151650
A64: 53 | B64: Cruceta de Dirección | C64: 1 | D64: 3591100 | E64: 97200 | F64: 3468000 | G64: 94000 | H64: =(D64+F64)/2 -> 3529550 | I64: =(E64+G64)/2 -> 95600
A65: 54 | B65: Dado de Dirección | C65: 1 | D65: 908600 | E65: 60300 | F65: 832000 | G65: 55000 | H65: =(D65+F65)/2 -> 870300 | I65: =(E65+G65)/2 -> 57650
A66: 55 | B66: Bomba de Dirección | C66: 1 | D66: 6000700 | E66: 597900 | F66: 5639000 | G66: 562000 | H66: =(D66+F66)/2 -> 5819850 | I66: =(E66+G66)/2 -> 579950
A67: 56 | B67: Deposito Tanque Hidraulico | C67: 1 | D67: 1004700 | E67: 82400 | F67: 904000 | G67: 74000 | H67: =(D67+F67)/2 -> 954350 | I67: =(E67+G67)/2 -> 78200
A68: 57 | B68: Rin | C68: 1 | D68: 2152400 | E68: 61900 | F68: 1976000 | G68: 57000 | H68: =(D68+F68)/2 -> 2064200 | I68: =(E68+G68)/2 -> 59450
A69: 58 | B69: Eje principal dirección o caña dirección | C69: 1 | D69: 4270800 | E69: 201000 | F69: 3918000 | G69: 184000 | H69: =(D69+F69)/2 -> 4094400 | I69: =(E69+G69)/2 -> 192500
A70: 59 | B70: Juego Guardapolvos caja de dirección con sus abrazaderas | C70: 1 | D70: 810000 | E70: 628800 | F70: 717000 | G70: 557000 | H70: =(D70+F70)/2 -> 763500 | I70: =(E70+G70)/2 -> 592900
A71: 60 | B71: Juego guardapolvos brazos axiales con sus abrazaderas | C71: 1 | D71: 778800 | E71: 206200 | F71: 746000 | G71: 197000 | H71: =(D71+F71)/2 -> 762400 | I71: =(E71+G71)/2 -> 201600
... A75: 64 | B75: Juego bujes soportes caja dirección | C75: 1 | D75: 476500 | E75: 89500 | F75: 464000 | G75: 87000 | H75: =(D75+F75)/2 -> 470250 | I75: =(E75+G75)/2 -> 88250
B76: SISTEMA DE TRANSMISIÓN
A77: 65 | B77: caja de transmisión mecánica | C77: 1 | D77: 12208000 | E77: 945500 | F77: 11691000 | G77: 905000 | H77: =(D77+F77)/2 -> 11949500 | I77: =(E77+G77)/2 -> 925250
A78: 66 | B78: caja de transmisión automática | C78: 1 | D78: 6259300 | E78: 313200 | F78: 5639000 | G78: 282000 | H78: =(D78+F78)/2 -> 5949150 | I78: =(E78+G78)/2 -> 297600
A79: 67 | B79: Empaquetadura caja de transmisión | C79: 1 | D79: 1224300 | E79: 1518000 | F79: 1193000 | G79: 1479000 | H79: =(D79+F79)/2 -> 1208650 | I79: =(E79+G79)/2 -> 1498500
A80: 68 | B80: Retenedor de entrada trasmisión mec. | C80: 1 | D80: 382900 | E80: 226700 | F80: 360000 | G80: 213000 | H80: =(D80+F80)/2 -> 371450 | I80: =(E80+G80)/2 -> 219850
A81: 69 | B81: Reten lateral caja transversal | C81: 1 | D81: 909000 | E81: 785800 | F81: 835000 | G81: 721000 | H81: =(D81+F81)/2 -> 872000 | I81: =(E81+G81)/2 -> 753400
A82: 70 | B82: Guardapolvo barra cambios | C82: 1 | D82: 620900 | E82: 158200 | F82: 605000 | G82: 154000 | H82: =(D82+F82)/2 -> 612950 | I82: =(E82+G82)/2 -> 156100
A83: 71 | B83: Bujes palanca selectora cambios. (kit) | C83: 1 | D83: 254300 | E83: 154700 | F83: 240000 | G83: 146000 | H83: =(D83+F83)/2 -> 247150 | I83: =(E83+G83)/2 -> 150350
A84: 72 | B84: Sensor velocidad | C84: 1 | D84: 2257600 | E84: 152100 | F84: 2162000 | G84: 146000 | H84: =(D84+F84)/2 -> 2209800 | I84: =(E84+G84)/2 -> 149050
A85: 73 | B85: Guaya velocímetro | C85: 1 | D85: 752600 | E85: 149400 | F85: 715000 | G85: 142000 | H85: =(D85+F85)/2 -> 733800 | I85: =(E85+G85)/2 -> 145700
A86: 74 | B86: Juego de Guayas freno de mano | C86: 1 | D86: 3066500 | E86: 603000 | F86: 2962000 | G86: 582000 | H86: =(D86+F86)/2 -> 3014250 | I86: =(E86+G86)/2 -> 592500
A87: 75 | B87: Cardan Delantero | C87: 1 | D87: 946500 | E87: 304200 | F87: 882000 | G87: 284000 | H87: =(D87+F87)/2 -> 914250 | I87: =(E87+G87)/2 -> 294100
A88: 76 | B88: Cardan Trasero | C88: 1 | D88: 922500 | E88: 296500 | F88: 890000 | G88: 286000 | H88: =(D88+F88)/2 -> 906250 | I88: =(E88+G88)/2 -> 291250
... A95: 83 | B95: Semi-eje delantero derecho | C95: 1 | D95: 6409100 | E95: 456100 | F95: 6192000 | G95: 441000 | H95: =(D95+F95)/2 -> 6300550 | I95: =(E95+G95)/2 -> 448550
B96: SISTEMA DE EMBRAGUE
A97: 84 | B97: Kit de embrague (prensa, disco, balinera, buje o rodamiento volante, pasador horquilla, soporte horquilla, horquilla) | C97: 1 | D97: 5226200 | E97: 2759300 | F97: 4787000 | G97: 2527000 | H97: =(D97+F97)/2 -> 5006600 | I97: =(E97+G97)/2 -> 2643150
A98: 85 | B98: Prensa Embrague | C98: 1 | D98: 2106800 | E98: 2759300 | F98: 1983000 | G98: 2597000 | H98: =(D98+F98)/2 -> 2044900 | I98: =(E98+G98)/2 -> 2678150
A99: 86 | B99: Disco Embrague | C99: 1 | D99: 1286900 | E99: 2736100 | F99: 1200000 | G99: 2551000 | H99: =(D99+F99)/2 -> 1243450 | I99: =(E99+G99)/2 -> 2643550
A100: 87 | B100: Balinera Embrague | C100: 1 | D100: 490900 | E100: 396100 | F100: 466000 | G100: 376000 | H100: =(D100+F100)/2 -> 478450 | I100: =(E100+G100)/2 -> 386050
A101: 88 | B101: Bomba principal embrague | C101: 1 | D101: 2512400 | E101: 301600 | F101: 2469000 | G101: 296000 | H101: =(D101+F101)/2 -> 2490700 | I101: =(E101+G101)/2 -> 298800
A102: 89 | B102: Bomba auxiliar embrague | C102: 1 | D102: 1115100 | E102: 304200 | F102: 1068000 | G102: 291000 | H102: =(D102+F102)/2 -> 1091550 | I102: =(E102+G102)/2 -> 297600
A103: 90 | B103: Manguera embrague | C103: 1 | D103: 983300 | E103: 157300 | F103: 927000 | G103: 148000 | H103: =(D103+F103)/2 -> 955150 | I103: =(E103+G103)/2 -> 152650
A104: 91 | B104: Guaya embrague | C104: 1 | D104: 902300 | E104: 386700 | F104: 821000 | G104: 352000 | H104: =(D104+F104)/2 -> 861650 | I104: =(E104+G104)/2 -> 369350
A105: 92 | B105: Cremallera volante | C105: 1 | D105: 9623300 | E105: 255700 | F105: 8834000 | G105: 235000 | H105: =(D105+F105)/2 -> 9228650 | I105: =(E105+G105)/2 -> 245350
B106: SISTEMA ELÉCTRICO
A107: 93 | B107: Computador principal motor | C107: 1 | D107: 9155900 | E107: 344400 | F107: 8923000 | G107: 336000 | H107: =(D107+F107)/2 -> 9039450 | I107: =(E107+G107)/2 -> 340200
A108: 94 | B108: Alternador completo. | C108: 1 | D108: 13997500 | E108: 618500 | F108: 12598000 | G108: 557000 | H108: =(D108+F108)/2 -> 13297750 | I108: =(E108+G108)/2 -> 587750
A109: 95 | B109: Reparación general Alternador. Repuestos (escobillas, porta escobillas, rodamientos, regulador de voltaje, diodos y porta diodos etc.) | C109: 1 | D109: 1015500 | E109: 734500 | F109: 932000 | G109: 674000 | H109: =(D109+F109)/2 -> 973750 | I109: =(E109+G109)/2 -> 704250
A110: 96 | B110: Motor de Arranque completo. | C110: 1 | D110: 7267800 | E110: 753600 | F110: 7019000 | G110: 728000 | H110: =(D110+F110)/2 -> 7143400 | I110: =(E110+G110)/2 -> 740800
A111: 97 | B111: Reparación general de arranque (Inducido, automático, bendix, bujes, escobillas) | C111: 1 | D111: 1214100 | E111: 701600 | F111: 1193000 | G111: 689000 | H111: =(D111+F111)/2 -> 1203550 | I111: =(E111+G111)/2 -> 695300
A112: 98 | B112: Batería incluida la instalación y revisión del sistema de carga | C112: 1 | D112: 1680000 | E112: 60000 | F112: 1582000 | G112: 57000 | H112: =(D112+F112)/2 -> 1631000 | I112: =(E112+G112)/2 -> 58500
A113: 99 | B113: Soporte batería incluida la instalación | C113: 1 | D113: 316500 | E113: 510600 | F113: 290000 | G113: 468000 | H113: =(D113+F113)/2 -> 303250 | I113: =(E113+G113)/2 -> 489300
A114: 100 | B114: Bornes o terminales Batería (Jgo.) | C114: 1 | D114: 93100 | E114: 94400 | F114: 87000 | G114: 88000 | H114: =(D114+F114)/2 -> 90050 | I114: =(E114+G114)/2 -> 91200
A115: 101 | B115: Bombillo halógeno o bombillo exploradora | C115: 1 | D115: 364500 | E115: 121500 | F115: 342000 | G115: 114000 | H115: =(D115+F115)/2 -> 353250 | I115: =(E115+G115)/2 -> 117750
A116: 102 | B116: Bombillo (stop, direccional, cocuyo E.T.C.) | C116: 1 | D116: 364500 | E116: 121500 | F116: 352000 | G116: 117000 | H116: =(D116+F116)/2 -> 358250 | I116: =(E116+G116)/2 -> 119250
A117: 103 | B117: Fusibles y /o Mini fusibles, incluida la instalación | C117: 1 | D117: 87300 | E117: 124700 | F117: 84000 | G117: 119000 | H117: =(D117+F117)/2 -> 85650 | I117: =(E117+G117)/2 -> 121850
A118: 104 | B118: arreglo general instalación eléctrica | C118: 1 | D118: 469100 | E118: 887500 | F118: 422000 | G118: 799000 | H118: =(D118+F118)/2 -> 445550 | I118: =(E118+G118)/2 -> 843250
... A132: 118 | B132: Motor deposito lava parabrisas | C132: 1 | D132: 924200 | E132: 90500 | F132: 900000 | G132: 88000 | H132: =(D132+F132)/2 -> 912100 | I132: =(E132+G132)/2 -> 89250
B133: SISTEMA DE REFRIGERACIÓN Y A/A.
A134: 119 | B134: Bomba de agua y empaque | C134: 1 | D134: 2145500 | E134: 692900 | F134: 1915000 | G134: 618000 | H134: =(D134+F134)/2 -> 2030250 | I134: =(E134+G134)/2 -> 655450
A135: 120 | B135: Termostato y empaque, incluyendo pera o sensor de temperatura | C135: 1 | D135: 1129900 | E135: 154700 | F135: 1055000 | G135: 144000 | H135: =(D135+F135)/2 -> 1092450 | I135: =(E135+G135)/2 -> 149350
A136: 121 | B136: Radiador completo con tapa | C136: 1 | D136: 4669300 | E136: 314500 | F136: 4287000 | G136: 289000 | H136: =(D136+F136)/2 -> 4478150 | I136: =(E136+G136)/2 -> 301750
A137: 122 | B137: Deposito auxiliar radiador con tapa | C137: 1 | D137: 1232100 | E137: 92800 | F137: 1140000 | G137: 86000 | H137: =(D137+F137)/2 -> 1186050 | I137: =(E137+G137)/2 -> 89400
...

Sheet DODGE
B1: Anexo No. 4 Oferta Económica MANTENIMEINTO VEHICULOS MANO DE OBRA Y REPUESTOS | C1: CANTIDAD | D1: COTIZACION CAMPESA SA | F1: COTIZACION TODO REPUESTOS | H1: PROMEDIO
A3: CAMIONETA DODGE
A4: DURANGO
A5: 2014
A6: 3600 C.C.
A7: DODGE | D7: Valor Repuesto Sin IVA | E7: Valor M.O. Sin IVA | F7: Valor Repuesto Sin IVA | G7: Valor M.O. Sin IVA | H7: Valor Repuesto Sin IVA | I7: Valor M.O. Sin IVA
A9: ítem | B9: SISTEMA DE FRENOS
A10: 1 | B10: Revisión general de frenos: M.O (graduación general de freno de mano y las bandas, limpieza sistema ABS cuando aplique). Sin Repuestos | C10: 1 | D10: 83300 | E10: 380800 | F10: 79000 | G10: 362000 | H10: =(D10+F10)/2 -> 81150 | I10: =(E10+G10)/2 -> 371400
A11: 2 | B11: Liquido de freno DOT según referencia vehículo (pinta - 290 mi) | C11: 1 | D11: 58000 | E11: 344500 | F11: 55000 | G11: 327000 | H11: =(D11+F11)/2 -> 56500 | I11: =(E11+G11)/2 -> 335750
A12: 3 | B12: Pastillas delanteras o traseras (juego) | C12: 1 | D12: 2213700 | E12: 362300 | F12: 1978000 | G12: 324000 | H12: =(D12+F12)/2 -> 2095850 | I12: =(E12+G12)/2 -> 343150
A13: 4 | B13: Bandas delanteras o traseras (juego), incluyendo cambio de puntillas o resortes bandas, cuando aplique | C13: 1 | D13: 1666000 | E13: 476000 | F13: 1610000 | G13: 460000 | H13: =(D13+F13)/2 -> 1638000 | I13: =(E13+G13)/2 -> 468000
A14: 5 | B14: Cilindros freno delanteros o traseros (Jgo) | C14: 1 | D14: 1827200 | E14: 271800 | F14: 1704000 | G14: 253000 | H14: =(D14+F14)/2 -> 1765600 | I14: =(E14+G14)/2 -> 262400
A15: 6 | B15: Campanas delanteras o traseras (Jgo) | C15: 1 | D15: 9836200 | E15: 178600 | F15: 9412000 | G15: 171000 | H15: =(D15+F15)/2 -> 9624100 | I15: =(E15+G15)/2 -> 174800
A16: 7 | B16: Discos delanteros o traseros (Jgo) | C16: 1 | D16: 2950000 | E16: 531000 | F16: 2875000 | G16: 518000 | H16: =(D16+F16)/2 -> 2912500 | I16: =(E16+G16)/2 -> 524500
A17: 8 | B17: Rectificación de Disco | C17: 1 | D17: N/A | E17: 595400 | F17: N/A | G17: 585000 | H17: N/A | I17: =(E17+G17)/2 -> 590200
A18: 9 | B18: Guaya de freno | C18: 1 | D18: 1871500 | E18: 356400 | F18: 1747000 | G18: 333000 | H18: =(D18+F18)/2 -> 1809250 | I18: =(E18+G18)/2 -> 344700
A19: 10 | B19: Guayas freno de mano o de parqueo (Juego) | C19: 1 | D19: 3958800 | E19: 724600 | F19: 3569000 | G19: 653000 | H19: =(D19+F19)/2 -> 3763900 | I19: =(E19+G19)/2 -> 688800
A20: 11 | B20: Palanca Freno de Mano | C20: 1 | D20: 1552200 | E20: 53000 | F20: 1411000 | G20: 48000 | H20: =(D20+F20)/2 -> 1481600 | I20: =(E20+G20)/2 -> 50500
A21: 12 | B21: Resorte de Banda | C21: 1 | D21: 276200 | E21: 44100 | F21: 249000 | G21: 40000 | H21: =(D21+F21)/2 -> 262600 | I21: =(E21+G21)/2 -> 42050
A22: 13 | B22: Pistón mordaza (juego) | C22: 1 | D22: 6061900 | E22: 344500 | F22: 5644000 | G22: 321000 | H22: =(D22+F22)/2 -> 5852950 | I22: =(E22+G22)/2 -> 332750
A23: 14 | B23: Mordazas y sus pasadores (juego) | C23: 1 | D23: 8188800 | E23: 362300 | F23: 7249000 | G23: 321000 | H23: =(D23+F23)/2 -> 7718900 | I23: =(E23+G23)/2 -> 341650
A24: 15 | B24: Ligas clíper (jugo) | C24: 1 | D24: 2116100 | E24: 507200 | F24: 1995000 | G24: 478000 | H24: =(D24+F24)/2 -> 2055550 | I24: =(E24+G24)/2 -> 492600
A25: 16 | B25: Bomba de freno | C25: 1 | D25: 4228400 | E25: 1389800 | F25: 4084000 | G25: 1342000 | H25: =(D25+F25)/2 -> 4156200 | I25: =(E25+G25)/2 -> 1365900
A26: 17 | B26: Manguera freno | C26: 1 | D26: 1073400 | E26: 178300 | F26: 1011000 | G26: 168000 | H26: =(D26+F26)/2 -> 1042200 | I26: =(E26+G26)/2 -> 173150
A27: 18 | B27: Limpiador de frenos o discos 536 ml | C27: 1 | D27: 83300 | E27: 40100 | F27: 79000 | G27: 38000 | H27: =(D27+F27)/2 -> 81150 | I27: =(E27+G27)/2 -> 39050
B28: SISTEMA DE SUSPENSIÓN
A29: 19 | B29: M.O Revisión General de Suspensión Delantera | C29: 1 | D29: N/A | E29: 448400 | F29: N/A | G29: 410000 | H29: N/A | I29: =(E29+G29)/2 -> 429200
A30: 20 | B30: M.O Revisión General de Suspensión Trasera | C30: 1 | D30: N/A | E30: 351000 | F30: N/A | G30: 333000 | H30: N/A | I30: =(E30+G30)/2 -> 342000
A31: 21 | B31: Juego amortiguadores delanteros (incluidos bujes, copelas, arandelas, pasadores y tuercas) | C31: 1 | D31: 4457800 | E31: 534700 | F31: 4086000 | G31: 490000 | H31: =(D31+F31)/2 -> 4271900 | I31: =(E31+G31)/2 -> 512350
A32: 22 | B32: Juego de brazos axiales | C32: 1 | D32: 2511400 | E32: 724600 | F32: 2306000 | G32: 665000 | H32: =(D32+F32)/2 -> 2408700 | I32: =(E32+G32)/2 -> 694800
A33: 23 | B33: Juego de rotulas superiores con sus tuercas y pines | C33: 1 | D33: 1167200 | E33: 683000 | F33: 1096000 | G33: 641000 | H33: =(D33+F33)/2 -> 1131600 | I33: =(E33+G33)/2 -> 662000
A34: 24 | B34: Juego de rotulas inferiores con sus tuercas y pines | C34: 1 | D34: 3331800 | E34: 706800 | F34: 3192000 | G34: 677000 | H34: =(D34+F34)/2 -> 3261900 | I34: =(E34+G34)/2 -> 691900
A35: 25 | B35: Juego de, muñecos, bujes y cauchos de la barra estabilizadora delantera | C35: 1 | D35: 2834200 | E35: 347500 | F35: 2640000 | G35: 324000 | H35: =(D35+F35)/2 -> 2737100 | I35: =(E35+G35)/2 -> 335750
A36: 26 | B36: Juego de Tijeras superiores delanteras incluyendo bujes cuando aplique. | C36: 1 | D36: 2565300 | E36: 689000 | F36: 2543000 | G36: 683000 | H36: =(D36+F36)/2 -> 2554150 | I36: =(E36+G36)/2 -> 686000
A37: 27 | B37: Juego de Tijeras inferiores delanteras incluyendo bujes cuando aplique. | C37: 1 | D37: 3619900 | E37: 1377900 | F37: 3557000 | G37: 1354000 | H37: =(D37+F37)/2 -> 3588450 | I37: =(E37+G37)/2 -> 1365950
A38: 28 | B38: Juego de bujes tijeras superior e inferiores | C38: 1 | D38: 1661900 | E38: 1401700 | F38: 1620000 | G38: 1366000 | H38: =(D38+F38)/2 -> 1640950 | I38: =(E38+G38)/2 -> 1383850
A39: 29 | B39: Juego espirales delanteros. | C39: 1 | D39: 2922400 | E39: 521300 | F39: 2748000 | G39: 490000 | H39: =(D39+F39)/2 -> 2835200 | I39: =(E39+G39)/2 -> 505650
A40: 30 | B40: Juego soportes amortiguadores delanteros con sus rodamientos | C40: 1 | D40: 1027300 | E40: 1042400 | F40: 1001000 | G40: 1016000 | H40: =(D40+F40)/2 -> 1014150 | I40: =(E40+G40)/2 -> 1029200
A41: 31 | B41: Barra estabilizadora delantera | C41: 1 | D41: 4175400 | E41: 539200 | F41: 3727000 | G41: 481000 | H41: =(D41+F41)/2 -> 3951200 | I41: =(E41+G41)/2 -> 510100
A42: 32 | B42: Juego rodamientos delanteros | C42: 1 | D42: 4600300 | E42: 471000 | F42: 4299000 | G42: 440000 | H42: =(D42+F42)/2 -> 4449650 | I42: =(E42+G42)/2 -> 455500
... A56: 46 | B56: Esparrago y Tuerca Esparrago | C56: 1 | D56: 146800 | E56: 261700 | F56: 141000 | G56: 250000 | H56: =(D56+F56)/2 -> 143900 | I56: =(E56+G56)/2 -> 255850
A57: 47 | B57: Libra de Grasa | C57: 1 | D57: 140100 | E57: N/A | F57: 128000 | G57: N/A | H57: =(D57+F57)/2 -> 134050 | I57: N/A
A58: 48 | B58: Juego Templetes o tensores traseros largos y cortos con sus bujes o (brazo control superior e inferior con sus bujes) | C58: 1 | D58: 1106400 | E58: 362300 | F58: 1034000 | G58: 339000 | H58: =(D58+F58)/2 -> 1070200 | I58: =(E58+G58)/2 -> 350650
B59: SISTEMA DE DIRECCIÓN
A60: 49 | B60: Caja de dirección. | C60: 1 | D60: 5046400 | E60: 1051300 | F60: 4918000 | G60: 1025000 | H60: =(D60+F60)/2 -> 4982200 | I60: =(E60+G60)/2 -> 1038150
A61: 50 | B61: Brazo Axial | C61: 1 | D61: 869600 | E61: 344500 | F61: 810000 | G61: 321000 | H61: =(D61+F61)/2 -> 839800 | I61: =(E61+G61)/2 -> 332750
A62: 51 | B62: Terminal de Dirección | C62: 1 | D62: 5178200 | E62: 181300 | F62: 4626000 | G62: 162000 | H62: =(D62+F62)/2 -> 4902100 | I62: =(E62+G62)/2 -> 171650
A63: 52 | B63: Cruceta de Dirección | C63: 1 | D63: 3875500 | E63: 85800 | F63: 3459000 | G63: 77000 | H63: =(D63+F63)/2 -> 3667250 | I63: =(E63+G63)/2 -> 81400
A64: 53 | B64: Bomba de Dirección | C64: 1 | D64: 13592600 | E64: 694900 | F64: 12547000 | G64: 641000 | H64: =(D64+F64)/2 -> 13069800 | I64: =(E64+G64)/2 -> 667950
A65: 54 | B65: Deposito Tanque Hidraulico | C65: 1 | D65: 1004800 | E65: 67300 | F65: 970000 | G65: 65000 | H65: =(D65+F65)/2 -> 987400 | I65: =(E65+G65)/2 -> 66150
A66: 55 | B66: Rin | C66: 1 | D66: 2245800 | E66: 67300 | F66: 2025000 | G66: 61000 | H66: =(D66+F66)/2 -> 2135400 | I66: =(E66+G66)/2 -> 64150
A67: 56 | B67: Eje principal dirección o caña dirección | C67: 1 | D67: 6787800 | E67: 260200 | F67: 6437000 | G67: 247000 | H67: =(D67+F67)/2 -> 6612400 | I67: =(E67+G67)/2 -> 253600
A68: 57 | B68: Juego Guardapolvos caja de dirección con sus abrazaderas | C68: 1 | D68: 2406500 | E68: 712700 | F68: 2226000 | G68: 659000 | H68: =(D68+F68)/2 -> 2316250 | I68: =(E68+G68)/2 -> 685850
A69: 58 | B69: Juego guardapolvos brazos axiales con sus abrazaderas | C69: 1 | D69: 681600 | E69: 115800 | F69: 620000 | G69: 105000 | H69: =(D69+F69)/2 -> 650800 | I69: =(E69+G69)/2 -> 110400
A70: 59 | B70: Bomba hidráulico dirección | C70: 1 | D70: 8000700 | E70: 706800 | F70: 7597000 | G70: 671000 | H70: =(D70+F70)/2 -> 7798850 | I70: =(E70+G70)/2 -> 688900
A71: 60 | B71: Mangueras bomba dirección hidráulica | C71: 1 | D71: 4623700 | E71: 176800 | F71: 4196000 | G71: 161000 | H71: =(D71+F71)/2 -> 4409850 | I71: =(E71+G71)/2 -> 168900
A72: 61 | B72: Juego bujes soportes caja dirección | C72: 1 | D72: 1450800 | E72: 127700 | F72: 1364000 | G72: 120000 | H72: =(D72+F72)/2 -> 1407400 | I72: =(E72+G72)/2 -> 123850
B73: SISTEMA DE TRANSMISIÓN
A74: 62 | B74: caja de transmisión mecánica | C74: 1 | D74: 61687900 | E74: 1298500 | F74: 58578000 | G74: 1233000 | H74: =(D74+F74)/2 -> 60132950 | I74: =(E74+G74)/2 -> 1265750
A75: 63 | B75: caja de transmisión automática | C75: 1 | D75: 59614400 | E75: 328400 | F75: 59614000 | G75: 328000 | H75: =(D75+F75)/2 -> 59614200 | I75: =(E75+G75)/2 -> 328200
A76: 64 | B76: Empaquetadura caja de transmisión | C76: 1 | D76: 3259200 | E76: 1492300 | F76: 3096000 | G76: 1418000 | H76: =(D76+F76)/2 -> 3177600 | I76: =(E76+G76)/2 -> 1455150
A77: 65 | B77: Retenedor de entrada trasmisión mec. | C77: 1 | D77: 645600 | E77: 328700 | F77: 586000 | G77: 299000 | H77: =(D77+F77)/2 -> 615800 | I77: =(E77+G77)/2 -> 313850
A78: 66 | B78: Reten lateral caja transversal | C78: 1 | D78: 645000 | E78: 883600 | F78: 591000 | G78: 809000 | H78: =(D78+F78)/2 -> 618000 | I78: =(E78+G78)/2 -> 846300
A79: 67 | B79: Guardapolvo barra cambios | C79: 1 | D79: 802900 | E79: 151200 | F79: 756000 | G79: 142000 | H79: =(D79+F79)/2 -> 779450 | I79: =(E79+G79)/2 -> 146600
A80: 68 | B80: Bujes palanca selectora cambios. (kit) | C80: 1 | D80: 1148700 | E80: 173900 | F80: 1060000 | G80: 161000 | H80: =(D80+F80)/2 -> 1104350 | I80: =(E80+G80)/2 -> 167450
A81: 69 | B81: Sensor velocidad | C81: 1 | D81: 1288600 | E81: 181300 | F81: 1183000 | G81: 166000 | H81: =(D81+F81)/2 -> 1235800 | I81: =(E81+G81)/2 -> 173650
A82: 70 | B82: Juego de Guayas freno de mano | C82: 1 | D82: 3369200 | E82: 724600 | F82: 3148000 | G82: 677000 | H82: =(D82+F82)/2 -> 3258600 | I82: =(E82+G82)/2 -> 700800
A83: 71 | B83: Cardan Delantero | C83: 1 | D83: 4454500 | E83: 359300 | F83: 4197000 | G83: 339000 | H83: =(D83+F83)/2 -> 4325750 | I83: =(E83+G83)/2 -> 349150
A84: 72 | B84: Cardan Trasero | C84: 1 | D84: 3644800 | E84: 359300 | F84: 3313000 | G84: 327000 | H84: =(D84+F84)/2 -> 3478900 | I84: =(E84+G84)/2 -> 343150
A85: 73 | B85: Cruceta Cardan | C85: 1 | D85: 1055700 | E85: 143500 | F85: 1056000 | G85: 144000 | H85: =(D85+F85)/2 -> 1055850 | I85: =(E85+G85)/2 -> 143750
... A91: 79 | B91: Semi-eje delantero derecho | C91: 1 | D91: 4741800 | E91: 543600 | F91: 4314000 | G91: 495000 | H91: =(D91+F91)/2 -> 4527900 | I91: =(E91+G91)/2 -> 519300
B92: SISTEMA DE EMBRAGUE
A93: 80 | B93: Kit de embrague (prensa, disco, balinera, buje o rodamiento volante, pasador horquilla, soporte horquilla, horquilla) | C93: 1 | D93: 8046800 | E93: 3100100 | F93: 7700000 | G93: 2966000 | H93: =(D93+F93)/2 -> 7873400 | I93: =(E93+G93)/2 -> 3033050
A94: 81 | B94: Bomba principal embrague | C94: 1 | D94: 2646900 | E94: 344500 | F94: 2487000 | G94: 324000 | H94: =(D94+F94)/2 -> 2566950 | I94: =(E94+G94)/2 -> 334250
A95: 82 | B95: Bomba auxiliar embrague | C95: 1 | D95: 2210200 | E95: 356400 | F95: 2063000 | G95: 333000 | H95: =(D95+F95)/2 -> 2136600 | I95: =(E95+G95)/2 -> 344700
A96: 83 | B96: Manguera embrague | C96: 1 | D96: 1727800 | E96: 179800 | F96: 1542000 | G96: 161000 | H96: =(D96+F96)/2 -> 1634900 | I96: =(E96+G96)/2 -> 170400
A97: 84 | B97: Guaya embrague | C97: 1 | D97: 1063300 | E97: 455700 | F97: 1001000 | G97: 429000 | H97: =(D97+F97)/2 -> 1032150 | I97: =(E97+G97)/2 -> 442350
B98: SISTEMA ELÉCTRICO
A99: 85 | B99: Computador principal motor | C99: 1 | D99: 14942400 | E99: 305400 | F99: 14814000 | G99: 303000 | H99: =(D99+F99)/2 -> 14878200 | I99: =(E99+G99)/2 -> 304200
A100: 86 | B100: Alternador completo. | C100: 1 | D100: 10842600 | E100: 700900 | F100: 10567000 | G100: 683000 | H100: =(D100+F100)/2 -> 10704800 | I100: =(E100+G100)/2 -> 691950
A101: 87 | B101: Motor de Arranque completo. | C101: 1 | D101: 6410900 | E101: 905900 | F101: 5938000 | G101: 839000 | H101: =(D101+F101)/2 -> 6174450 | I101: =(E101+G101)/2 -> 872450
A102: 88 | B102: Reparación general de arranque (Inducido, automático, bendix, bujes, escobillas) | C102: 1 | D102: N/A | E102: 854600 | F102: N/A | G102: 805000 | H102: N/A | I102: =(E102+G102)/2 -> 829800
A103: 89 | B103: Batería incluida la instalación y revisión del sistema de carga | C103: 1 | D103: 1652000 | E103: 59000 | F103: 1610000 | G103: 58000 | H103: =(D103+F103)/2 -> 1631000 | I103: =(E103+G103)/2 -> 58500
A104: 90 | B104: Soporte batería incluida la instalación | C104: 1 | D104: 379600 | E104: 651700 | F104: 342000 | G104: 588000 | H104: =(D104+F104)/2 -> 360800 | I104: =(E104+G104)/2 -> 619850
A105: 91 | B105: Bornes o terminales Batería (Jgo.) | C105: 1 | D105: 90000 | E105: 104300 | F105: 86000 | G105: 100000 | H105: =(D105+F105)/2 -> 88000 | I105: =(E105+G105)/2 -> 102150
A106: 92 | B106: Bombillo halógeno o bombillo exploradora | C106: 1 | D106: 451900 | E106: 150600 | F106: 422000 | G106: 141000 | H106: =(D106+F106)/2 -> 436950 | I106: =(E106+G106)/2 -> 145800
A107: 93 | B107: Bombillo (stop, direccional, cocuyo E.T.C.) | C107: 1 | D107: 463300 | E107: 154400 | F107: 433000 | G107: 144000 | H107: =(D107+F107)/2 -> 448150 | I107: =(E107+G107)/2 -> 149200
A108: 94 | B108: Fusibles y /o Mini fusibles, incluida la instalación | C108: 1 | D108: 103700 | E108: 148100 | F108: 97000 | G108: 138000 | H108: =(D108+F108)/2 -> 100350 | I108: =(E108+G108)/2 -> 143050
A109: 95 | B109: cambio bombillos halógenos y convencionales | C109: 1 | D109: 571400 | E109: 1081000 | F109: 506000 | G109: 957000 | H109: =(D109+F109)/2 -> 538700 | I109: =(E109+G109)/2 -> 1019000
A110: 96 | B110: Control luces y/o direccionales | C110: 1 | D110: 444300 | E110: 29300 | F110: 418000 | G110: 28000 | H110: =(D110+F110)/2 -> 431150 | I110: =(E110+G110)/2 -> 28650
A111: 97 | B111: Flacher direccionales | C111: 1 | D111: 433500 | E111: 46600 | F111: 405000 | G111: 43000 | H111: =(D111+F111)/2 -> 419250 | I111: =(E111+G111)/2 -> 44800
A112: 98 | B112: Switch encendido | C112: 1 | D112: 993700 | E112: 512400 | F112: 994000 | G112: 512000 | H112: =(D112+F112)/2 -> 993850 | I112: =(E112+G112)/2 -> 512200
A113: 99 | B113: Cables de Alta | C113: 1 | D113: 2189700 | E113: 328100 | F113: 2116000 | G113: 317000 | H113: =(D113+F113)/2 -> 2152850 | I113: =(E113+G113)/2 -> 322550
A114: 100 | B114: Juego de Bujias | C114: 1 | D114: 1908900 | E114: 270200 | F114: 1827000 | G114: 259000 | H114: =(D114+F114)/2 -> 1867950 | I114: =(E114+G114)/2 -> 264600
... A120: 106 | B120: Motor deposito lava parabrisas | C120: 1 | D120: 787600 | E120: 104300 | F120: 747000 | G120: 99000 | H120: =(D120+F120)/2 -> 767300 | I120: =(E120+G120)/2 -> 101650
B121: SISTEMA DE REFRIGERACIÓN Y A/A.
A122: 107 | B122: Bomba de agua y empaque | C122: 1 | D122: 2026400 | E122: 782600 | F122: 1938000 | G122: 749000 | H122: =(D122+F122)/2 -> 1982200 | I122: =(E122+G122)/2 -> 765800
A123: 108 | B123: Termostato y empaque, incluyendo pera o sensor de temperatura | C123: 1 | D123: 1019000 | E123: 178300 | F123: 968000 | G123: 169000 | H123: =(D123+F123)/2 -> 993500 | I123: =(E123+G123)/2 -> 173650
A124: 109 | B124: Radiador completo con tapa | C124: 1 | D124: 3628300 | E124: 362300 | F124: 3242000 | G124: 324000 | H124: =(D124+F124)/2 -> 3435150 | I124: =(E124+G124)/2 -> 343150
A125: 110 | B125: Deposito auxiliar radiador con tapa | C125: 1 | D125: 1145400 | E125: 105200 | F125: 1097000 | G125: 101000 | H125: =(D125+F125)/2 -> 1121200 | I125: =(E125+G125)/2 -> 103100
...

Sheet KIA
B1: Anexo No. 4 Oferta Económica MANTENIMEINTO VEHICULOS MANO DE OBRA Y REPUESTOS | C1: CANTIDAD | D1: COTIZACION CAMPESA SA | F1: COTIZACION TODO REPUESTOS | H1: PROMEDIO
A3: AUTOMOVIL KIA
A5: 2014
A6: 3600 C.C.
A7: KIA | D7: Valor Repuesto Sin IVA | E7: Valor M.O. Sin IVA | F7: Valor Repuesto Sin IVA | G7: Valor M.O. Sin IVA | H7: Valor Repuesto Sin IVA | I7: Valor M.O. Sin IVA
A9: ítem | B9: SISTEMA DE FRENOS
A10: 1 | B10: Revisión general de frenos: M.O (graduación general de freno de mano y las bandas, limpieza sistema ABS cuando aplique). Sin Repuestos | C10: 1 | D10: 84000 | E10: 384000 | F10: 77000 | G10: 352000 | H10: =(D10+F10)/2 -> 80500 | I10: =(E10+G10)/2 -> 368000
A11: 2 | B11: Liquido de freno DOT según referencia vehículo (pinta - 290 mi) | C11: 1 | D11: 60500 | E11: 268700 | F11: 56000 | G11: 249000 | H11: =(D11+F11)/2 -> 58250 | I11: =(E11+G11)/2 -> 258850
A12: 3 | B12: Pastillas delanteras o traseras (juego) | C12: 1 | D12: 677300 | E12: 255400 | F12: 642000 | G12: 242000 | H12: =(D12+F12)/2 -> 659650 | I12: =(E12+G12)/2 -> 248700
A13: 4 | B13: Bandas delanteras o traseras (juego), incluyendo cambio de puntillas o resortes bandas, cuando aplique | C13: 1 | D13: 966600 | E13: 402900 | F13: 903000 | G13: 376000 | H13: =(D13+F13)/2 -> 934800 | I13: =(E13+G13)/2 -> 389450
A14: 5 | B14: Cilindros freno delanteros o traseros (Jgo) | C14: 1 | D14: 1084300 | E14: 104200 | F14: 994000 | G14: 96000 | H14: =(D14+F14)/2 -> 1039150 | I14: =(E14+G14)/2 -> 100100
A15: 6 | B15: Campanas delanteras o traseras (Jgo) | C15: 1 | D15: 1823300 | E15: 66500 | F15: 1777000 | G15: 65000 | H15: =(D15+F15)/2 -> 1800150 | I15: =(E15+G15)/2 -> 65750
A16: 7 | B16: Discos delanteros o traseros (Jgo) | C16: 1 | D16: 1150000 | E16: 437000 | F16: 1110000 | G16: 422000 | H16: =(D16+F16)/2 -> 1130000 | I16: =(E16+G16)/2 -> 429500
A17: 8 | B17: Rectificación de Disco | C17: 1 | D17: N/A | E17: 397300 | F17: N/A | G17: 368000 | H17: N/A | I17: =(E17+G17)/2 -> 382650
A18: 9 | B18: Guaya de freno | C18: 1 | D18: 1164100 | E18: 262000 | F18: 1115000 | G18: 251000 | H18: =(D18+F18)/2 -> 1139550 | I18: =(E18+G18)/2 -> 256500
A19: 10 | B19: Guayas freno de mano o de parqueo (Juego) | C19: 1 | D19: 2527900 | E19: 528300 | F19: 2358000 | G19: 493000 | H19: =(D19+F19)/2 -> 2442950 | I19: =(E19+G19)/2 -> 510650
A20: 11 | B20: Palanca Freno de Mano | C20: 1 | D20: 348900 | E20: 61300 | F20: 317000 | G20: 56000 | H20: =(D20+F20)/2 -> 332950 | I20: =(E20+G20)/2 -> 58650
A21: 12 | B21: Pistón mordaza (juego) | C21: 1 | D21: 1095300 | E21: 255400 | F21: 1029000 | G21: 240000 | H21: =(D21+F21)/2 -> 1062150 | I21: =(E21+G21)/2 -> 247700
A22: 13 | B22: Mordazas y sus pasadores (juego) | C22: 1 | D22: 2220600 | E22: 264300 | F22: 2071000 | G22: 247000 | H22: =(D22+F22)/2 -> 2145800 | I22: =(E22+G22)/2 -> 255650
A23: 14 | B23: Ligas clíper (jugo) | C23: 1 | D23: 629100 | E23: 266500 | F23: 592000 | G23: 251000 | H23: =(D23+F23)/2 -> 610550 | I23: =(E23+G23)/2 -> 258750
A24: 15 | B24: Bomba de freno | C24: 1 | D24: 1065300 | E24: 792600 | F24: 976000 | G24: 726000 | H24: =(D24+F24)/2 -> 1020650 | I24: =(E24+G24)/2 -> 759300
A25: 16 | B25: Manguera freno | C25: 1 | D25: 1150200 | E25: 131100 | F25: 1111000 | G25: 127000 | H25: =(D25+F25)/2 -> 1130600 | I25: =(E25+G25)/2 -> 129050
A26: 17 | B26: Limpiador de frenos o discos 536 ml | C26: 1 | D26: 81200 | E26: 31500 | F26: 77000 | G26: 30000 | H26: =(D26+F26)/2 -> 79100 | I26: =(E26+G26)/2 -> 30750
B27: SISTEMA DE SUSPENSIÓN
A28: 18 | B28: M.O Revisión General de Suspensión Delantera | C28: 1 | D28: N/A | E28: 360000 | F28: N/A | G28: 345000 | H28: N/A | I28: =(E28+G28)/2 -> 352500
A29: 19 | B29: M.O Revisión General de Suspensión Trasera | C29: 1 | D29: N/A | E29: 305000 | F29: N/A | G29: 283000 | H29: N/A | I29: =(E29+G29)/2 -> 294000
A30: 20 | B30: Juego amortiguadores delanteros (incluidos bujes, copelas, arandelas, pasadores y tuercas) | C30: 1 | D30: 3824000 | E30: 399600 | F30: 3505000 | G30: 366000 | H30: =(D30+F30)/2 -> 3664500 | I30: =(E30+G30)/2 -> 382800
A31: 21 | B31: Juego de brazos axiales | C31: 1 | D31: 585900 | E31: 528300 | F31: 542000 | G31: 488000 | H31: =(D31+F31)/2 -> 563950 | I31: =(E31+G31)/2 -> 508150
A32: 22 | B32: Juego de, muñecos, bujes y cauchos de la barra estabilizadora delantera | C32: 1 | D32: 577000 | E32: 259800 | F32: 552000 | G32: 249000 | H32: =(D32+F32)/2 -> 564500 | I32: =(E32+G32)/2 -> 254400
