Workbook

Sheet CHEVROLET
B1: Anexo No. 4 Oferta Económica MANTENIMEINTO VEHICULOS MANO DE OBRA Y REPUESTOS | C1: CANTIDAD | D1: COTIZACION CAMPESA SA | F1: COTIZACION TODO REPUESTOS | H1: PROMEDIO
A3: AUTOMOVIL AVEO
A4: AVEO EMOTION Y GT
A5: 2010 A 2012
A6: 1600 C.C.
A7: CHEVROLET | D7: Valor Repuesto Sin IVA | E7: Valor M.O. Sin IVA | F7: Valor Repuesto Sin IVA | G7: Valor M.O. Sin IVA | H7: Valor Repuesto Sin IVA | I7: Valor M.O. Sin IVA
A9: ítem | B9: SISTEMA DE FRENOS
A10: 1 | B10: Revisión general de frenos: M.O (graduación general de freno de mano y las bandas, limpieza sistema ABS cuando aplique). Sin Repuestos | C10: 1 | D10: 82600 | E10: 295000 | F10: 78000 | G10: 278000 | H10: =(D10+F10)/2 -> 80300 | I10: =(E10+G10)/2 -> 286500
A11: 2 | B11: Liquido de freno DOT según referencia vehículo (pinta - 290 mi) | C11: 1 | D11: 59500 | E11: N/A | F11: 54000 | G11: N/A | H11: =(D11+F11)/2 -> 56750 | I11: N/A
A12: 3 | B12: Pastillas delanteras o traseras (juego) | C12: 1 | D12: 440500 | E12: 133400 | F12: 411000 | G12: 125000 | H12: =(D12+F12)/2 -> 425750 | I12: =(E12+G12)/2 -> 129200
A13: 4 | B13: Bandas delanteras o traseras (juego), incluyendo cambio de puntillas o resortes bandas, cuando aplique | C13: 1 | D13: 605000 | E13: 302500 | F13: 540000 | G13: 270000 | H13: =(D13+F13)/2 -> 572500 | I13: =(E13+G13)/2 -> 286250
A14: 5 | B14: Cilindros freno delanteros o traseros (Jgo) | C14: 1 | D14: 509000 | E14: 78100 | F14: 476000 | G14: 73000 | H14: =(D14+F14)/2 -> 492500 | I14: =(E14+G14)/2 -> 75550
A15: 6 | B15: Campanas delanteras o traseras (Jgo) | C15: 1 | D15: 435500 | E15: 46400 | F15: 428000 | G15: 46000 | H15: =(D15+F15)/2 -> 431750 | I15: =(E15+G15)/2 -> 46200
A16: 7 | B16: Discos delanteros o traseros (Jgo) | C16: 1 | D16: 1180000 | E16: 448400 | F16: 896000 | G16: 280000 | H16: =(D16+F16)/2 -> 1038000 | I16: =(E16+G16)/2 -> 364200
A17: 8 | B17: Rectificación de Disco | C17: 1 | D17: N/A | E17: 168600 | F17: N/A | G17: 160000 | H17: N/A | I17: =(E17+G17)/2 -> 164300
A18: 9 | B18: Guaya de freno | C18: 1 | D18: 345400 | E18: 128400 | F18: 324000 | G18: 121000 | H18: =(D18+F18)/2 -> 334700 | I18: =(E18+G18)/2 -> 124700
A19: 10 | B19: Guayas freno de mano o de parqueo (Juego) | C19: 1 | D19: 683300 | E19: 87100 | F19: 642000 | G19: 82000 | H19: =(D19+F19)/2 -> 662650 | I19: =(E19+G19)/2 -> 84550
A20: 11 | B20: Palanca Freno de Mano | C20: 1 | D20: 249500 | E20: 68500 | F20: 243000 | G20: 67000 | H20: =(D20+F20)/2 -> 246250 | I20: =(E20+G20)/2 -> 67750
A21: 12 | B21: Resorte de Banda | C21: 1 | D21: 96800 | E21: 25900 | F21: 92000 | G21: 25000 | H21: =(D21+F21)/2 -> 94400 | I21: =(E21+G21)/2 -> 25450
A22: 13 | B22: Pistón mordaza (juego) | C22: 1 | D22: 345400 | E22: 136900 | F22: 336000 | G22: 133000 | H22: =(D22+F22)/2 -> 340700 | I22: =(E22+G22)/2 -> 134950
A23: 14 | B23: Mordazas y sus pasadores (juego) | C23: 1 | D23: 2674800 | E23: 139300 | F23: 2469000 | G23: 129000 | H23: =(D23+F23)/2 -> 2571900 | I23: =(E23+G23)/2 -> 134150
A24: 15 | B24: Ligas clíper (jugo) | C24: 1 | D24: 248200 | E24: 141700 | F24: 234000 | G24: 133000 | H24: =(D24+F24)/2 -> 241100 | I24: =(E24+G24)/2 -> 137350
A25: 16 | B25: Bomba de freno | C25: 1 | D25: 1526900 | E25: 217900 | F25: 1427000 | G25: 204000 | H25: =(D25+F25)/2 -> 1476950 | I25: =(E25+G25)/2 -> 210950
A26: 17 | B26: Manguera freno | C26: 1 | D26: 125800 | E26: 69100 | F26: 118000 | G26: 65000 | H26: =(D26+F26)/2 -> 121900 | I26: =(E26+G26)/2 -> 67050
A27: 18 | B27: Limpiador de frenos o discos 536 ml | C27: 1 | D27: 85400 | E27: N/A | F27: 81000 | G27: N/A | H27: =(D27+F27)/2 -> 83200 | I27: N/A
B28: SISTEMA DE SUSPENSIÓN
A29: 19 | B29: M.O Revisión General de Suspensión Delantera | C29: 1 | D29: N/A | E29: 357000 | F29: N/A | G29: 330000 | H29: N/A | I29: =(E29+G29)/2 -> 343500
A30: 20 | B30: M.O Revisión General de Suspensión Trasera | C30: 1 | D30: N/A | E30: 297500 | F30: N/A | G30: 280000 | H30: N/A | I30: =(E30+G30)/2 -> 288750
A31: 21 | B31: Juego amortiguadores delanteros (incluidos bujes, copelas, arandelas, pasadores y tuercas) | C31: 1 | D31: 1092200 | E31: 333200 | F31: 1010000 | G31: 308000 | H31: =(D31+F31)/2 -> 1051100 | I31: =(E31+G31)/2 -> 320600
A32: 22 | B32: Juego de rotulas inferiores con sus tuercas y pines | C32: 1 | D32: 1058600 | E32: 263300 | F32: 989000 | G32: 246000 | H32: =(D32+F32)/2 -> 1023800 | I32: =(E32+G32)/2 -> 254650
A33: 23 | B33: Juego de, muñecos, bujes y cauchos de la barra estabilizadora delantera | C33: 1 | D33: 560700 | E33: 133900 | F33: 533000 | G33: 127000 | H33: =(D33+F33)/2 -> 546850 | I33: =(E33+G33)/2 -> 130450
A34: 24 | B34: Juego de Tijeras inferiores delanteras incluyendo bujes cuando aplique. | C34: 1 | D34: 997900 | E34: 496400 | F34: 963000 | G34: 479000 | H34: =(D34+F34)/2 -> 980450 | I34: =(E34+G34)/2 -> 487700
A35: 25 | B35: Juego de bujes tijeras superior e inferiores | C35: 1 | D35: 483900 | E35: 138100 | F35: 476000 | G35: 136000 | H35: =(D35+F35)/2 -> 479950 | I35: =(E35+G35)/2 -> 137050
A36: 26 | B36: Juego espirales delanteros. | C36: 1 | D36: 901100 | E36: 214300 | F36: 856000 | G36: 204000 | H36: =(D36+F36)/2 -> 878550 | I36: =(E36+G36)/2 -> 209150
A37: 27 | B37: Juego soportes amortiguadores delanteros con sus rodamientos | C37: 1 | D37: 754600 | E37: 389600 | F37: 704000 | G37: 363000 | H37: =(D37+F37)/2 -> 729300 | I37: =(E37+G37)/2 -> 376300
A38: 28 | B38: Barra estabilizadora delantera | C38: 1 | D38: 605200 | E38: 191500 | F38: 569000 | G38: 180000 | H38: =(D38+F38)/2 -> 587100 | I38: =(E38+G38)/2 -> 185750
A39: 29 | B39: Juego rodamientos delanteros | C39: 1 | D39: 1626000 | E39: 155400 | F39: 1584000 | G39: 151000 | H39: =(D39+F39)/2 -> 1605000 | I39: =(E39+G39)/2 -> 153200
A40: 30 | B40: Juego de Bocines delanteros | C40: 1 | D40: 1601000 | E40: 104500 | F40: 1505000 | G40: 98000 | H40: =(D40+F40)/2 -> 1553000 | I40: =(E40+G40)/2 -> 101250
A41: 31 | B41: Juego amortiguadores traseros (incluidos bujes, copelas, arandelas, pasadores y tuercas) | C41: 1 | D41: 1131900 | E41: 238000 | F41: 1084000 | G41: 228000 | H41: =(D41+F41)/2 -> 1107950 | I41: =(E41+G41)/2 -> 233000
A42: 32 | B42: Juego espirales traseros | C42: 1 | D42: 811000 | E42: 142900 | F42: 770000 | G42: 136000 | H42: =(D42+F42)/2 -> 790500 | I42: =(E42+G42)/2 -> 139450
...

Sheet VOLKSWAGEN
B1: Anexo No. 4 Oferta Económica MANTENIMEINTO VEHICULOS MANO DE OBRA Y REPUESTOS | C1: CANTIDAD | D1: COTIZACION CAMPESA SA | F1: COTIZACION TODO REPUESTOS | H1: PROMEDIO
A3: CAMIONETA
A4: VOLKSWAGEN AMAROK
A5: 2015
A6: 2000 C.C.
A7: VOLKSWAGEN AMAROK | D7: Valor Repuesto Sin IVA | E7: Valor M.O. Sin IVA | F7: Valor Repuesto Sin IVA | G7: Valor M.O. Sin IVA | H7: Valor Repuesto Sin IVA | I7: Valor M.O. Sin IVA
A9: ítem | B9: SISTEMA DE FRENOS
A10: 1 | B10: Revisión general de frenos: M.O (graduación general de freno de mano y las bandas, limpieza sistema ABS cuando aplique). Sin Repuestos | C10: 1 | D10: 87500 | E10: 400000 | F10: 83000 | G10: 381000 | H10: =(D10+F10)/2 -> 85250 | I10: =(E10+G10)/2 -> 390500
A11: 2 | B11: Liquido de freno DOT según referencia vehículo (pinta - 290 mi) | C11: 1 | D11: 61500 | E11: 342200 | F11: 61000 | G11: 337000 | H11: =(D11+F11)/2 -> 61250 | I11: =(E11+G11)/2 -> 339600
A12: 3 | B12: Pastillas delanteras o traseras (juego) | C12: 1 | D12: 2220100 | E12: 347700 | F12: 2149000 | G12: 337000 | H12: =(D12+F12)/2 -> 2184550 | I12: =(E12+G12)/2 -> 342350
A13: 4 | B13: Bandas delanteras o traseras (juego), incluyendo cambio de puntillas o resortes bandas, cuando aplique | C13: 1 | D13: 1764000 | E13: 504000 | F13: 2163000 | G13: 505000 | H13: =(D13+F13)/2 -> 1963500 | I13: =(E13+G13)/2 -> 504500
A14: 5 | B14: Cilindros freno delanteros o traseros (Jgo) | C14: 1 | D14: 1570600 | E14: 149700 | F14: 1508000 | G14: 144000 | H14: =(D14+F14)/2 -> 1539300 | I14: =(E14+G14)/2 -> 146850
A15: 6 | B15: Campanas delanteras o traseras (Jgo) | C15: 1 | D15: 9576200 | E15: 144400 | F15: 9270000 | G15: 140000 | H15: =(D15+F15)/2 -> 9423100 | I15: =(E15+G15)/2 -> 142200
A16: 7 | B16: Discos delanteros o traseros (Jgo) | C16: 1 | D16: 3125000 | E16: 562500 | F16: 10521000 | G16: 501000 | H16: =(D16+F16)/2 -> 6823000 | I16: =(E16+G16)/2 -> 531750
A17: 8 | B17: Rectificación de Disco | C17: 1 | D17: N/A | E17: 608800 | F17: N/A | G17: 584000 | H17: N/A | I17: =(E17+G17)/2 -> 596400
A18: 9 | B18: Guaya de freno | C18: 1 | D18: 2968900 | E18: 347700 | F18: 2850000 | G18: 334000 | H18: =(D18+F18)/2 -> 2909450 | I18: =(E18+G18)/2 -> 340850
A19: 10 | B19: Guayas freno de mano o de parqueo (Juego) | C19: 1 | D19: 6343500 | E19: 684300 | F19: 6240000 | G19: 673000 | H19: =(D19+F19)/2 -> 6291750 | I19: =(E19+G19)/2 -> 678650
A20: 11 | B20: Palanca Freno de Mano | C20: 1 | D20: 1723900 | E20: 119800 | F20: 1696000 | G20: 118000 | H20: =(D20+F20)/2 -> 1709950 | I20: =(E20+G20)/2 -> 118900
A21: 12 | B21: Resorte de Banda | C21: 1 | D21: 386100 | E21: 80700 | F21: 377000 | G21: 79000 | H21: =(D21+F21)/2 -> 381550 | I21: =(E21+G21)/2 -> 79850
A22: 13 | B22: Pistón mordaza (juego) | C22: 1 | D22: 5628000 | E22: 350500 | F22: 5494000 | G22: 342000 | H22: =(D22+F22)/2 -> 5561000 | I22: =(E22+G22)/2 -> 346250
A23: 14 | B23: Mordazas y sus pasadores (juego) | C23: 1 | D23: 8394800 | E23: 350500 | F23: 8128000 | G23: 339000 | H23: =(D23+F23)/2 -> 8261400 | I23: =(E23+G23)/2 -> 344750
A24: 15 | B24: Ligas clíper (jugo) | C24: 1 | D24: 1035400 | E24: 490700 | F24: 1011000 | G24: 479000 | H24: =(D24+F24)/2 -> 1023200 | I24: =(E24+G24)/2 -> 484850
A25: 16 | B25: Bomba de freno | C25: 1 | D25: 8663100 | E25: 1402100 | F25: 8251000 | G25: 1335000 | H25: =(D25+F25)/2 -> 8457050 | I25: =(E25+G25)/2 -> 1368550
A26: 17 | B26: Manguera freno | C26: 1 | D26: 1188500 | E26: 174000 | F26: 1160000 | G26: 170000 | H26: =(D26+F26)/2 -> 1174250 | I26: =(E26+G26)/2 -> 172000
A27: 18 | B27: Limpiador de frenos o discos 536 ml | C27: 1 | D27: 87500 | E27: 49200 | F27: 84000 | G27: 47000 | H27: =(D27+F27)/2 -> 85750 | I27: =(E27+G27)/2 -> 48100
B28: SISTEMA DE SUSPENSIÓN
A29: 19 | B29: M.O Revisión General de Suspensión Delantera | C29: 1 | D29: N/A | E29: 615000 | F29: N/A | G29: 464000 | H29: N/A | I29: =(E29+G29)/2 -> 539500
A30: 20 | B30: M.O Revisión General de Suspensión Trasera | C30: 1 | D30: N/A | E30: 372000 | F30: N/A | G30: 354000 | H30: N/A | I30: =(E30+G30)/2 -> 363000
A31: 21 | B31: Juego amortiguadores delanteros (incluidos bujes, copelas, arandelas, pasadores y tuercas) | C31: 1 | D31: 2254400 | E31: 517600 | F31: 2200000 | G31: 505000 | H31: =(D31+F31)/2 -> 2227200 | I31: =(E31+G31)/2 -> 511300
A32: 22 | B32: Juego de brazos axiales | C32: 1 | D32: 3455700 | E32: 689900 | F32: 3344000 | G32: 668000 | H32: =(D32+F32)/2 -> 3399850 | I32: =(E32+G32)/2 -> 678950
A33: 23 | B33: Juego de rotulas superiores con sus tuercas y pines | C33: 1 | D33: 5170500 | E33: 689900 | F33: 5087000 | G33: 679000 | H33: =(D33+F33)/2 -> 5128750 | I33: =(E33+G33)/2 -> 684450
A34: 24 | B34: Juego de rotulas inferiores con sus tuercas y pines | C34: 1 | D34: 2340900 | E34: 684300 | F34: 2246000 | G34: 657000 | H34: =(D34+F34)/2 -> 2293450 | I34: =(E34+G34)/2 -> 670650
A35: 25 | B35: Juego de, muñecos, bujes y cauchos de la barra estabilizadora delantera | C35: 1 | D35: 2256400 | E35: 342200 | F35: 2165000 | G35: 328000 | H35: =(D35+F35)/2 -> 2210700 | I35: =(E35+G35)/2 -> 335100
A36: 26 | B36: Juego de Tijeras superiores delanteras incluyendo bujes cuando aplique. | C36: 1 | D36: 11606500 | E36: 701000 | F36: 10870000 | G36: 657000 | H36: =(D36+F36)/2 -> 11238250 | I36: =(E36+G36)/2 -> 679000
A37: 27 | B37: Juego de Tijeras inferiores delanteras incluyendo bujes cuando aplique. | C37: 1 | D37: 6480700 | E37: 1390900 | F37: 6273000 | G37: 1346000 | H37: =(D37+F37)/2 -> 6376850 | I37: =(E37+G37)/2 -> 1368450
A38: 28 | B38: Juego de bujes tijeras superior e inferiores | C38: 1 | D38: 1542100 | E38: 1379800 | F38: 1468000 | G38: 1313000 | H38: =(D38+F38)/2 -> 1505050 | I38: =(E38+G38)/2 -> 1346400
A39: 29 | B39: Juego espirales delanteros. | C39: 1 | D39: 3147800 | E39: 513400 | F39: 3045000 | G39: 497000 | H39: =(D39+F39)/2 -> 3096400 | I39: =(E39+G39)/2 -> 505200
A40: 30 | B40: Juego soportes amortiguadores delanteros con sus rodamientos | C40: 1 | D40: 2516000 | E40: 1026500 | F40: 2434000 | G40: 993000 | H40: =(D40+F40)/2 -> 2475000 | I40: =(E40+G40)/2 -> 1009750
A41: 31 | B41: Barra estabilizadora delantera | C41: 1 | D41: 3255100 | E41: 525900 | F41: 3178000 | G41: 513000 | H41: =(D41+F41)/2 -> 3216550 | I41: =(E41+G41)/2 -> 519450
A42: 32 | B42: Juego rodamientos delanteros | C42: 1 | D42: 3532500 | E42: 448500 | F42: 3390000 | G42: 430000 | H42: =(D42+F42)/2 -> 3461250 | I42: =(E42+G42)/2 -> 439250
...

Sheet TOYOTA 
B1: Anexo No. 4 Oferta Económica MANTENIMEINTO VEHICULOS MANO DE OBRA Y REPUESTOS | C1: CANTIDAD | D1: COTIZACION CAMPESA SA | F1: COTIZACION TODO REPUESTOS | H1: PROMEDIO
A3: CAMIONETA TOYOTA
A4: FORTUNER
A5: 2011 a 2013
A6: 4,000 C.C.
A7: TOYOTA | D7: Valor Repuesto Sin IVA | E7: Valor M.O. Sin IVA | F7: Valor Repuesto Sin IVA | G7: Valor M.O. Sin IVA | H7: Valor Repuesto Sin IVA | I7: Valor M.O. Sin IVA
A9: ítem | B9: SISTEMA DE FRENOS
A10: 1 | B10: Revisión general de frenos: M.O (graduación general de freno de mano y las bandas, limpieza sistema ABS cuando aplique). Sin Repuestos | C10: 1 | D10: 84000 | E10: 384000 | F10: 81000 | G10: 368000 | H10: =(D10+F10)/2 -> 82500 | I10: =(E10+G10)/2 -> 376000
A11: 2 | B11: Liquido de freno DOT según referencia vehículo (pinta - 290 mi) | C11: 1 | D11: 61000 | E11: N/A | F11: 57000 | G11: N/A | H11: =(D11+F11)/2 -> 59000 | I11: N/A
A12: 3 | B12: Pastillas delanteras o traseras (juego) | C12: 1 | D12: 2801000 | E12: 333800 | F12: 2544000 | G12: 303000 | H12: =(D12+F12)/2 -> 2672500 | I12: =(E12+G12)/2 -> 318400
A13: 4 | B13: Bandas delanteras o traseras (juego), incluyendo cambio de puntillas o resortes bandas, cuando aplique | C13: 1 | D13: 1750000 | E13: 500000 | F13: 1568000 | G13: 448000 | H13: =(D13+F13)/2 -> 1659000 | I13: =(E13+G13)/2 -> 474000
A14: 5 | B14: Cilindros freno delanteros o traseros (Jgo) | C14: 1 | D14: 4087800 | E14: 139800 | F14: 3885000 | G14: 133000 | H14: =(D14+F14)/2 -> 3986400 | I14: =(E14+G14)/2 -> 136400
A15: 6 | B15: Campanas delanteras o traseras (Jgo) | C15: 1 | D15: 4082100 | E15: 90600 | F15: 3588000 | G15: 80000 | H15: =(D15+F15)/2 -> 3835050 | I15: =(E15+G15)/2 -> 85300
A16: 7 | B16: Discos delanteros o traseros (Jgo) | C16: 1 | D16: 3000000 | E16: 540000 | F16: 1808000 | G16: 452000 | H16: =(D16+F16)/2 -> 2404000 | I16: =(E16+G16)/2 -> 496000
A17: 8 | B17: Rectificación de Disco | C17: 1 | D17: N/A | E17: 399500 | F17: N/A | G17: 373000 | H17: N/A | I17: =(E17+G17)/2 -> 386250
A18: 9 | B18: Guaya de freno | C18: 1 | D18: 1073400 | E18: 345000 | F18: 970000 | G18: 312000 | H18: =(D18+F18)/2 -> 1021700 | I18: =(E18+G18)/2 -> 328500
A19: 10 | B19: Guayas freno de mano o de parqueo (Juego) | C19: 1 | D19: 2144100 | E19: 689900 | F19: 1867000 | G19: 601000 | H19: =(D19+F19)/2 -> 2005550 | I19: =(E19+G19)/2 -> 645450
A20: 11 | B20: Palanca Freno de Mano | C20: 1 | D20: 1129000 | E20: 98200 | F20: 1044000 | G20: 91000 | H20: =(D20+F20)/2 -> 1086500 | I20: =(E20+G20)/2 -> 94600
A21: 12 | B21: Resorte de Banda | C21: 1 | D21: 258400 | E21: 40200 | F21: 231000 | G21: 36000 | H21: =(D21+F21)/2 -> 244700 | I21: =(E21+G21)/2 -> 38100
A22: 13 | B22: Pistón mordaza (juego) | C22: 1 | D22: 2004500 | E22: 339400 | F22: 1857000 | G22: 314000 | H22: =(D22+F22)/2 -> 1930750 | I22: =(E22+G22)/2 -> 326700
A23: 14 | B23: Mordazas y sus pasadores (juego) | C23: 1 | D23: 6319200 | E23: 345000 | F23: 5810000 | G23: 317000 | H23: =(D23+F23)/2 -> 6064600 | I23: =(E23+G23)/2 -> 331000
A24: 15 | B24: Ligas clíper (jugo) | C24: 1 | D24: 2360300 | E24: 486800 | F24: 2096000 | G24: 432000 | H24: =(D24+F24)/2 -> 2228150 | I24: =(E24+G24)/2 -> 459400
A25: 16 | B25: Bomba de freno | C25: 1 | D25: 5027300 | E25: 1368700 | F25: 4700000 | G25: 1280000 | H25: =(D25+F25)/2 -> 4863650 | I25: =(E25+G25)/2 -> 1324350
A26: 17 | B26: Manguera freno | C26: 1 | D26: 1203600 | E26: 169800 | F26: 1105000 | G26: 156000 | H26: =(D26+F26)/2 -> 1154300 | I26: =(E26+G26)/2 -> 162900
A27: 18 | B27: Limpiador de frenos o discos 536 ml | C27: 1 | D27: 98400 | E27: 43100 | F27: 86000 | G27: 38000 | H27: =(D27+F27)/2 -> 92200 | I27: =(E27+G27)/2 -> 40550
B28: SISTEMA DE SUSPENSIÓN
A29: 19 | B29: M.O Revisión General de Suspensión Delantera | C29: 1 | D29: N/A | E29: 600000 | F29: N/A | G29: 540000 | H29: N/A | I29: =(E29+G29)/2 -> 570000
A30: 20 | B30: M.O Revisión General de Suspensión Trasera | C30: 1 | D30: N/A | E30: 480000 | F30: N/A | G30: 432000 | H30: N/A | I30: =(E30+G30)/2 -> 456000
A31: 21 | B31: Juego amortiguadores delanteros (incluidos bujes, copelas, arandelas, pasadores y tuercas) | C31: 1 | D31: 4050900 | E31: 500900 | F31: 3646000 | G31: 451000 | H31: =(D31+F31)/2 -> 3848450 | I31: =(E31+G31)/2 -> 475950
A32: 22 | B32: Juego de brazos axiales | C32: 1 | D32: 2681600 | E32: 678800 | F32: 2440000 | G32: 618000 | H32: =(D32+F32)/2 -> 2560800 | I32: =(E32+G32)/2 -> 648400
A33: 23 | B33: Juego de rotulas superiores con sus tuercas y pines | C33: 1 | D33: 2121600 | E33: 667700 | F33: 1909000 | G33: 601000 | H33: =(D33+F33)/2 -> 2015300 | I33: =(E33+G33)/2 -> 634350
A34: 24 | B34: Juego de rotulas inferiores con sus tuercas y pines | C34: 1 | D34: 2070000 | E34: 684300 | F34: 1851000 | G34: 612000 | H34: =(D34+F34)/2 -> 1960500 | I34: =(E34+G34)/2 -> 648150
A35: 25 | B35: Juego de, muñecos, bujes y cauchos de la barra estabilizadora delantera | C35: 1 | D35: 3399400 | E35: 336600 | F35: 3034000 | G35: 300000 | H35: =(D35+F35)/2 -> 3216700 | I35: =(E35+G35)/2 -> 318300
A36: 26 | B36: Juego de Tijeras superiores delanteras incluyendo bujes cuando aplique. | C36: 1 | D36: 3849100 | E36: 695500 | F36: 3541000 | G36: 640000 | H36: =(D36+F36)/2 -> 3695050 | I36: =(E36+G36)/2 -> 667750
A37: 27 | B37: Juego de Tijeras inferiores delanteras incluyendo bujes cuando aplique. | C37: 1 | D37: 3762300 | E37: 1335300 | F37: 3606000 | G37: 1280000 | H37: =(D37+F37)/2 -> 3684150 | I37: =(E37+G37)/2 -> 1307650
A38: 28 | B38: Juego de bujes tijeras superior e inferiores | C38: 1 | D38: 1833000 | E38: 1390900 | F38: 1672000 | G38: 1269000 | H38: =(D38+F38)/2 -> 1752500 | I38: =(E38+G38)/2 -> 1329950
A39: 29 | B39: Juego espirales delanteros. | C39: 1 | D39: 1843600 | E39: 509200 | F39: 1723000 | G39: 476000 | H39: =(D39+F39)/2 -> 1783300 | I39: =(E39+G39)/2 -> 492600
A40: 30 | B40: Juego soportes amortiguadores delanteros con sus rodamientos | C40: 1 | D40: 857600 | E40: 1026500 | F40: 795000 | G40: 951000 | H40: =(D40+F40)/2 -> 826300 | I40: =(E40+G40)/2 -> 988750
A41: 31 | B41: Barra estabilizadora delantera | C41: 1 | D41: 3922000 | E41: 500900 | F41: 3530000 | G41: 451000 | H41: =(D41+F41)/2 -> 3726000 | I41: =(E41+G41)/2 -> 475950
A42: 32 | B42: Juego rodamientos delanteros | C42: 1 | D42: 5712500 | E42: 448500 | F42: 5160000 | G42: 405000 | H42: =(D42+F42)/2 -> 5436250 | I42: =(E42+G42)/2 -> 426750
...

Sheet RENAULT
B1: Anexo No. 4 Oferta Económica MANTENIMEINTO VEHICULOS MANO DE OBRA Y REPUESTOS | C1: CANTIDAD | D1: COTIZACION CAMPESA SA | F1: COTIZACION TODO REPUESTOS | H1: PROMEDIO
A3: AUTOMOVIL RENAULT
A4: CITIUS TAXI
A5: 2008
A6: 1.400 C.C.
A7: RENAULT | D7: Valor Repuesto Sin IVA | E7: Valor M.O. Sin IVA | F7: Valor Repuesto Sin IVA | G7: Valor M.O. Sin IVA | H7: Valor Repuesto Sin IVA | I7: Valor M.O. Sin IVA
A9: ítem | B9: SISTEMA DE FRENOS
A10: 1 | B10: Revisión general de frenos: M.O (graduación general de freno de mano y las bandas, limpieza sistema ABS cuando aplique). Sin Repuestos | C10: 1 | D10: 85400 | E10: 305000 | F10: 80000 | G10: 285000 | H10: =(D10+F10)/2 -> 82700 | I10: =(E10+G10)/2 -> 295000
A11: 2 | B11: Liquido de freno DOT según referencia vehículo (pinta - 290 mi) | C11: 1 | D11: 57500 | E11: 248600 | F11: 57000 | G11: 244000 | H11: =(D11+F11)/2 -> 57250 | I11: =(E11+G11)/2 -> 246300
A12: 3 | B12: Pastillas delanteras o traseras (juego) | C12: 1 | D12: 474800 | E12: 261600 | F12: 443000 | G12: 244000 | H12: =(D12+F12)/2 -> 458900 | I12: =(E12+G12)/2 -> 252800
A13: 4 | B13: Bandas delanteras o traseras (juego), incluyendo cambio de puntillas o resortes bandas, cuando aplique | C13: 1 | D13: 732000 | E13: 376000 | F13: 694000 | G13: 357000 | H13: =(D13+F13)/2 -> 713000 | I13: =(E13+G13)/2 -> 366500
A14: 5 | B14: Cilindros freno delanteros o traseros (Jgo) | C14: 1 | D14: 925800 | E14: 111700 | F14: 855000 | G14: 103000 | H14: =(D14+F14)/2 -> 890400 | I14: =(E14+G14)/2 -> 107350
A15: 6 | B15: Campanas delanteras o traseras (Jgo) | C15: 1 | D15: 827200 | E15: 69300 | F15: 771000 | G15: 65000 | H15: =(D15+F15)/2 -> 799100 | I15: =(E15+G15)/2 -> 67150
A16: 7 | B16: Discos delanteros o traseros (Jgo) | C16: 1 | D16: 1160000 | E16: 440800 | F16: 1120000 | G16: 426000 | H16: =(D16+F16)/2 -> 1140000 | I16: =(E16+G16)/2 -> 433400
A17: 8 | B17: Rectificación de Disco | C17: 1 | D17: N/A | E17: 311300 | F17: N/A | G17: 306000 | H17: N/A | I17: =(E17+G17)/2 -> 308650
A18: 9 | B18: Guaya de freno | C18: 1 | D18: 946000 | E18: 261600 | F18: 860000 | G18: 238000 | H18: =(D18+F18)/2 -> 903000 | I18: =(E18+G18)/2 -> 249800
A19: 10 | B19: Guayas freno de mano o de parqueo (Juego) | C19: 1 | D19: 1827500 | E19: 505600 | F19: 1687000 | G19: 467000 | H19: =(D19+F19)/2 -> 1757250 | I19: =(E19+G19)/2 -> 486300
A20: 11 | B20: Palanca Freno de Mano | C20: 1 | D20: 201100 | E20: 80800 | F20: 188000 | G20: 75000 | H20: =(D20+F20)/2 -> 194550 | I20: =(E20+G20)/2 -> 77900
A21: 12 | B21: Mordazas y sus pasadores (juego) | C21: 1 | D21: 2151100 | E21: 257300 | F21: 2043000 | G21: 244000 | H21: =(D21+F21)/2 -> 2097050 | I21: =(E21+G21)/2 -> 250650
A22: 13 | B22: Ligas clíper (jugo) | C22: 1 | D22: 785000 | E22: 261600 | F22: 707000 | G22: 236000 | H22: =(D22+F22)/2 -> 746000 | I22: =(E22+G22)/2 -> 248800
A23: 14 | B23: Bomba de freno | C23: 1 | D23: 1312600 | E23: 758600 | F23: 1245000 | G23: 720000 | H23: =(D23+F23)/2 -> 1278800 | I23: =(E23+G23)/2 -> 739300
A24: 15 | B24: Manguera freno | C24: 1 | D24: 2048600 | E24: 130900 | F24: 1845000 | G24: 118000 | H24: =(D24+F24)/2 -> 1946800 | I24: =(E24+G24)/2 -> 124450
A25: 16 | B25: Limpiador de frenos o discos 536 ml | C25: 1 | D25: 84000 | E25: 31000 | F25: 80000 | G25: 29000 | H25: =(D25+F25)/2 -> 82000 | I25: =(E25+G25)/2 -> 30000
B26: SISTEMA DE SUSPENSIÓN
A27: 17 | B27: M.O Revisión General de Suspensión Delantera | C27: 1 | D27: N/A | E27: 354000 | F27: N/A | G27: 333000 | H27: N/A | I27: =(E27+G27)/2 -> 343500
A28: 18 | B28: M.O Revisión General de Suspensión Trasera | C28: 1 | D28: N/A | E28: 300000 | F28: N/A | G28: 273000 | H28: N/A | I28: =(E28+G28)/2 -> 286500
A29: 19 | B29: Juego amortiguadores delanteros (incluidos bujes, copelas, arandelas, pasadores y tuercas) | C29: 1 | D29: 1967300 | E29: 395500 | F29: 1758000 | G29: 353000 | H29: =(D29+F29)/2 -> 1862650 | I29: =(E29+G29)/2 -> 374250
A30: 20 | B30: Juego de brazos axiales | C30: 1 | D30: 1169200 | E30: 497000 | F30: 1159000 | G30: 493000 | H30: =(D30+F30)/2 -> 1164100 | I30: =(E30+G30)/2 -> 495000
A31: 21 | B31: Juego de, muñecos, bujes y cauchos de la barra estabilizadora delantera | C31: 1 | D31: 703300 | E31: 255100 | F31: 662000 | G31: 240000 | H31: =(D31+F31)/2 -> 682650 | I31: =(E31+G31)/2 -> 247550
A32: 22 | B32: Juego de Tijeras inferiores delanteras incluyendo bujes cuando aplique. | C32: 1 | D32: 1621600 | E32: 1002600 | F32: 1538000 | G32: 951000 | H32: =(D32+F32)/2 -> 1579800 | I32: =(E32+G32)/2 -> 976800
A33: 23 | B33: Juego espirales delanteros. | C33: 1 | D33: 1195200 | E33: 382500 | F33: 1145000 | G33: 366000 | H33: =(D33+F33)/2 -> 1170100 | I33: =(E33+G33)/2 -> 374250
A34: 24 | B34: Juego soportes amortiguadores delanteros con sus rodamientos | C34: 1 | D34: 1915000 | E34: 758600 | F34: 1882000 | G34: 746000 | H34: =(D34+F34)/2 -> 1898500 | I34: =(E34+G34)/2 -> 752300
A35: 25 | B35: Barra estabilizadora delantera | C35: 1 | D35: 1761500 | E35: 372800 | F35: 1762000 | G35: 373000 | H35: =(D35+F35)/2 -> 1761750 | I35: =(E35+G35)/2 -> 372900
A36: 26 | B36: Juego rodamientos delanteros | C36: 1 | D36: 2727600 | E36: 331600 | F36: 2496000 | G36: 303000 | H36: =(D36+F36)/2 -> 2611800 | I36: =(E36+G36)/2 -> 317300
A37: 27 | B37: Juego de Bocines delanteros | C37: 1 | D37: 2768400 | E37: 163700 | F37: 2561000 | G37: 151000 | H37: =(D37+F37)/2 -> 2664700 | I37: =(E37+G37)/2 -> 157350
A38: 28 | B38: Juego amortiguadores traseros (incluidos bujes, copelas, arandelas, pasadores y tuercas) | C38: 1 | D38: 1679400 | E38: 385800 | F38: 1552000 | G38: 357000 | H38: =(D38+F38)/2 -> 1615700 | I38: =(E38+G38)/2 -> 371400
A39: 29 | B39: Juego espirales traseros | C39: 1 | D39: 1104200 | E39: 395500 | F39: 987000 | G39: 353000 | H39: =(D39+F39)/2 -> 1045600 | I39: =(E39+G39)/2 -> 374250
A40: 30 | B40: Juego de, muñecos completos, bujes y cauchos de la barra estabilizadora trasera | C40: 1 | D40: 946700 | E40: 259400 | F40: 892000 | G40: 244000 | H40: =(D40+F40)/2 -> 919350 | I40: =(E40+G40)/2 -> 251700
... A44: 34 | B44: Esparrago y Tuerca Esparrago | C44: 1 | D44: 105900 | E44: 162800 | F44: 99000 | G44: 153000 | H44: =(D44+F44)/2 -> 102450 | I44: =(E44+G44)/2 -> 157900
A45: 35 | B45: Libra de Grasa | C45: 1 | D45: 71300 | E45: N/A | F45: 66000 | G45: N/A | H45: =(D45+F45)/2 -> 68650 | I45: N/A
...

Sheet NISSAN 
B1: SONDEO DE MERCADO- COTIZACIONES MANTENIMIENTO VEHICULOS MANO DE OBRA Y REPUESTOS | C1: CANTIDAD | D1: COTIZACION CAMPESA SA | F1: COTIZACION TODO REPUESTOS | H1: PROMEDIO
A3: CAMIONETA NISSAN
A4: PATHFINDER
A5: 2002
A6: 3,500 C.C.
A7: NISSAN | D7: Valor Repuesto Sin IVA | E7: Valor M.O. Sin IVA | F7: Valor Repuesto Sin IVA | G7: Valor M.O. Sin IVA | H7: Valor Repuesto Sin IVA | I7: Valor M.O. Sin IVA
A9: ítem | B9: SISTEMA DE FRENOS
A10: 1 | B10: Revisión general de frenos: M.O (graduación general de freno de mano y las bandas, limpieza sistema ABS cuando aplique). Sin Repuestos | C10: 1 | D10: 80500 | E10: 368000 | F10: 77000 | G10: 352000 | H10: =(D10+F10)/2 -> 78750 | I10: =(E10+G10)/2 -> 360000
A11: 2 | B11: Liquido de freno DOT según referencia vehículo (pinta - 290 mi) | C11: 1 | D11: 59000 | E11: 282700 | F11: 57000 | G11: 271000 | H11: =(D11+F11)/2 -> 58000 | I11: =(E11+G11)/2 -> 276850
A12: 3 | B12: Pastillas delanteras o traseras (juego) | C12: 1 | D12: 514100 | E12: 280400 | F12: 488000 | G12: 266000 | H12: =(D12+F12)/2 -> 501050 | I12: =(E12+G12)/2 -> 273200
A13: 4 | B13: Bandas delanteras o traseras (juego), incluyendo cambio de puntillas o resortes bandas, cuando aplique | C13: 1 | D13: 1610000 | E13: 460000 | F13: 1568000 | G13: 448000 | H13: =(D13+F13)/2 -> 1589000 | I13: =(E13+G13)/2 -> 454000
A14: 5 | B14: Cilindros freno delanteros o traseros (Jgo) | C14: 1 | D14: 872400 | E14: 118200 | F14: 801000 | G14: 109000 | H14: =(D14+F14)/2 -> 836700 | I14: =(E14+G14)/2 -> 113600
A15: 6 | B15: Campanas delanteras o traseras (Jgo) | C15: 1 | D15: 788400 | E15: 71700 | F15: 728000 | G15: 66000 | H15: =(D15+F15)/2 -> 758200 | I15: =(E15+G15)/2 -> 68850
A16: 7 | B16: Discos delanteros o traseros (Jgo) | C16: 1 | D16: 2975000 | E16: 535500 | F16: 2800000 | G16: 504000 | H16: =(D16+F16)/2 -> 2887500 | I16: =(E16+G16)/2 -> 519750
A17: 8 | B17: Rectificación de Disco | C17: 1 | D17: N/A | E17: 335200 | F17: N/A | G17: 302000 | H17: N/A | I17: =(E17+G17)/2 -> 318600
A18: 9 | B18: Guaya de freno | C18: 1 | D18: 910900 | E18: 287500 | F18: 835000 | G18: 264000 | H18: =(D18+F18)/2 -> 872950 | I18: =(E18+G18)/2 -> 275750
A19: 10 | B19: Guayas freno de mano o de parqueo (Juego) | C19: 1 | D19: 1745800 | E19: 551100 | F19: 1700000 | G19: 537000 | H19: =(D19+F19)/2 -> 1722900 | I19: =(E19+G19)/2 -> 544050
A20: 11 | B20: Palanca Freno de Mano | C20: 1 | D20: 1018900 | E20: 83100 | F20: 918000 | G20: 75000 | H20: =(D20+F20)/2 -> 968450 | I20: =(E20+G20)/2 -> 79050
A21: 12 | B21: Resorte de Banda | C21: 1 | D21: 172200 | E21: 33500 | F21: 162000 | G21: 32000 | H21: =(D21+F21)/2 -> 167100 | I21: =(E21+G21)/2 -> 32750
A22: 13 | B22: Pistón mordaza (juego) | C22: 1 | D22: 382200 | E22: 285100 | F22: 360000 | G22: 268000 | H22: =(D22+F22)/2 -> 371100 | I22: =(E22+G22)/2 -> 276550
A23: 14 | B23: Mordazas y sus pasadores (juego) | C23: 1 | D23: 1075200 | E23: 287500 | F23: 1003000 | G23: 268000 | H23: =(D23+F23)/2 -> 1039100 | I23: =(E23+G23)/2 -> 277750
A24: 15 | B24: Ligas clíper (jugo) | C24: 1 | D24: 470500 | E24: 409400 | F24: 424000 | G24: 369000 | H24: =(D24+F24)/2 -> 447250 | I24: =(E24+G24)/2 -> 389200
A25: 16 | B25: Bomba de freno | C25: 1 | D25: 945600 | E25: 1121200 | F25: 929000 | G25: 1102000 | H25: =(D25+F25)/2 -> 937300 | I25: =(E25+G25)/2 -> 1111600
A26: 17 | B26: Manguera freno | C26: 1 | D26: 248900 | E26: 146200 | F26: 235000 | G26: 138000 | H26: =(D26+F26)/2 -> 241950 | I26: =(E26+G26)/2 -> 142100
A27: 18 | B27: Limpiador de frenos o discos 536 ml | C27: 1 | D27: 81900 | E27: 31000 | F27: 76000 | G27: 29000 | H27: =(D27+F27)/2 -> 78950 | I27: =(E27+G27)/2 -> 30000
B28: SISTEMA DE SUSPENSIÓN
A29: 19 | B29: M.O Revisión General de Suspensión Delantera | C29: 1 | D29: N/A | E29: 452200 | F29: N/A | G29: 437000 | H29: N/A | I29: =(E29+G29)/2 -> 444600
A30: 20 | B30: M.O Revisión General de Suspensión Trasera | C30: 1 | D30: N/A | E30: 345000 | F30: N/A | G30: 345000 | H30: N/A | I30: =(E30+G30)/2 -> 345000
A31: 21 | B31: Juego amortiguadores delanteros (incluidos bujes, copelas, arandelas, pasadores y tuercas) | C31: 1 | D31: 850200 | E31: 431300 | F31: 786000 | G31: 399000 | H31: =(D31+F31)/2 -> 818100 | I31: =(E31+G31)/2 -> 415150
A32: 22 | B32: Juego de brazos axiales | C32: 1 | D32: 613900 | E32: 555900 | F32: 609000 | G32: 551000 | H32: =(D32+F32)/2 -> 611450 | I32: =(E32+G32)/2 -> 553450
A33: 23 | B33: Juego de rotulas superiores con sus tuercas y pines | C33: 1 | D33: 341500 | E33: 570300 | F33: 313000 | G33: 522000 | H33: =(D33+F33)/2 -> 327250 | I33: =(E33+G33)/2 -> 546150
A34: 24 | B34: Juego de rotulas inferiores con sus tuercas y pines | C34: 1 | D34: 371500 | E34: 551100 | F34: 352000 | G34: 522000 | H34: =(D34+F34)/2 -> 361750 | I34: =(E34+G34)/2 -> 536550
A35: 25 | B35: Juego de, muñecos, bujes y cauchos de la barra estabilizadora delantera | C35: 1 | D35: 545400 | E35: 289900 | F35: 505000 | G35: 268000 | H35: =(D35+F35)/2 -> 525200 | I35: =(E35+G35)/2 -> 278950
A36: 26 | B36: Juego de Tijeras superiores delanteras incluyendo bujes cuando aplique. | C36: 1 | D36: 775000 | E36: 551100 | F36: 775000 | G36: 551000 | H36: =(D36+F36)/2 -> 775000 | I36: =(E36+G36)/2 -> 551050
A37: 27 | B37: Juego de Tijeras inferiores delanteras incluyendo bujes cuando aplique. | C37: 1 | D37: 891800 | E37: 1169100 | F37: 789000 | G37: 1035000 | H37: =(D37+F37)/2 -> 840400 | I37: =(E37+G37)/2 -> 1102050
A38: 28 | B38: Juego de bujes tijeras superior e inferiores | C38: 1 | D38: 407400 | E38: 1169100 | F38: 371000 | G38: 1064000 | H38: =(D38+F38)/2 -> 389200 | I38: =(E38+G38)/2 -> 1116550
A39: 29 | B39: Juego espirales delanteros. | C39: 1 | D39: 1444700 | E39: 438500 | F39: 1350000 | G39: 410000 | H39: =(D39+F39)/2 -> 1397350 | I39: =(E39+G39)/2 -> 424250
A40: 30 | B40: Juego soportes amortiguadores delanteros con sus rodamientos | C40: 1 | D40: 642300 | E40: 833900 | F40: 631000 | G40: 819000 | H40: =(D40+F40)/2 -> 636650 | I40: =(E40+G40)/2 -> 826450
A41: 31 | B41: Barra estabilizadora delantera | C41: 1 | D41: 816300 | E41: 431300 | F41: 748000 | G41: 395000 | H41: =(D41+F41)/2 -> 782150 | I41: =(E41+G41)/2 -> 413150
A42: 32 | B42: Juego rodamientos delanteros | C42: 1 | D42: 1094800 | E42: 373800 | F42: 1013000 | G42: 346000 | H42: =(D42+F42)/2 -> 1053900 | I42: =(E42+G42)/2 -> 359900
...

Sheet MITSUBISHI
A2: Anexo No. 4 Oferta Económica MANTENIMEINTO VEHICULOS MANO DE OBRA Y REPUESTOS | C2: CANTIDAD | D2: COTIZACION CAMPESA SA | F2: COTIZACION TODO REPUESTOS | H2: PROMEDIO
A4: CAMPERO MITSUBISHI
A5: MONTERO
A6: 2015-2016
A7: 3.828 C.C.
A8: MITSUBISHI | D8: Valor Repuesto Sin IVA | E8: Valor M.O. Sin IVA | F8: Valor Repuesto Sin IVA | G8: Valor M.O. Sin IVA | H8: Valor Repuesto Sin IVA | I8: Valor M.O. Sin IVA
A10: ítem | B10: SISTEMA DE FRENOS
A11: 1 | B11: Revisión general de frenos: M.O (graduación general de freno de mano y las bandas, limpieza sistema ABS cuando aplique). Sin Repuestos | C11: 1 | D11: 85400 | E11: 390400 | F11: 79000 | G11: 362000 | H11: =(D11+F11)/2 -> 82200 | I11: =(E11+G11)/2 -> 376200
A12: 2 | B12: Liquido de freno DOT según referencia vehículo (pinta - 290 mi) | C12: 1 | D12: 61000 | E12: 351800 | F12: 55000 | G12: 317000 | H12: =(D12+F12)/2 -> 58000 | I12: =(E12+G12)/2 -> 334400
A13: 3 | B13: Pastillas delanteras o traseras (juego) | C13: 1 | D13: 557300 | E13: 331600 | F13: 552000 | G13: 329000 | H13: =(D13+F13)/2 -> 554650 | I13: =(E13+G13)/2 -> 330300
A14: 4 | B14: Bandas delanteras o traseras (juego), incluyendo cambio de puntillas o resortes bandas, cuando aplique | C14: 1 | D14: 1610000 | E14: 460000 | F14: 1554000 | G14: 444000 | H14: =(D14+F14)/2 -> 1582000 | I14: =(E14+G14)/2 -> 452000
A15: 5 | B15: Cilindros freno delanteros o traseros (Jgo) | C15: 1 | D15: 750100 | E15: 132800 | F15: 686000 | G15: 122000 | H15: =(D15+F15)/2 -> 718050 | I15: =(E15+G15)/2 -> 127400
A16: 6 | B16: Campanas delanteras o traseras (Jgo) | C16: 1 | D16: 789600 | E16: 83800 | F16: 756000 | G16: 80000 | H16: =(D16+F16)/2 -> 772800 | I16: =(E16+G16)/2 -> 81900
A17: 7 | B17: Discos delanteros o traseros (Jgo) | C17: 1 | D17: 2950000 | E17: 531000 | F17: 2700000 | G17: 486000 | H17: =(D17+F17)/2 -> 2825000 | I17: =(E17+G17)/2 -> 508500
A18: 8 | B18: Rectificación de Disco | C18: 1 | D18: N/A | E18: 389300 | F18: N/A | G18: 364000 | H18: N/A | I18: =(E18+G18)/2 -> 376650
A19: 9 | B19: Guaya de freno | C19: 1 | D19: 1079500 | E19: 331600 | F19: 1079000 | G19: 332000 | H19: =(D19+F19)/2 -> 1079250 | I19: =(E19+G19)/2 -> 331800
A20: 10 | B20: Guayas freno de mano o de parqueo (Juego) | C20: 1 | D20: 2250300 | E20: 691900 | F20: 2082000 | G20: 640000 | H20: =(D20+F20)/2 -> 2166150 | I20: =(E20+G20)/2 -> 665950
A21: 11 | B21: Palanca Freno de Mano | C21: 1 | D21: 440300 | E21: 92100 | F21: 414000 | G21: 87000 | H21: =(D21+F21)/2 -> 427150 | I21: =(E21+G21)/2 -> 89550
A22: 12 | B22: Resorte de Banda | C22: 1 | D22: 230300 | E22: 36400 | F22: 228000 | G22: 36000 | H22: =(D22+F22)/2 -> 229150 | I22: =(E22+G22)/2 -> 36200
A23: 13 | B23: Pistón mordaza (juego) | C23: 1 | D23: 476800 | E23: 346100 | F23: 457000 | G23: 332000 | H23: =(D23+F23)/2 -> 466900 | I23: =(E23+G23)/2 -> 339050
A24: 14 | B24: Mordazas y sus pasadores (juego) | C24: 1 | D24: 1279500 | E24: 334500 | F24: 1191000 | G24: 311000 | H24: =(D24+F24)/2 -> 1235250 | I24: =(E24+G24)/2 -> 322750
A25: 15 | B25: Ligas clíper (jugo) | C25: 1 | D25: 550300 | E25: 476100 | F25: 522000 | G25: 452000 | H25: =(D25+F25)/2 -> 536150 | I25: =(E25+G25)/2 -> 464050
A26: 16 | B26: Bomba de freno | C26: 1 | D26: 1079800 | E26: 1337300 | F26: 1052000 | G26: 1303000 | H26: =(D26+F26)/2 -> 1065900 | I26: =(E26+G26)/2 -> 1320150
A27: 17 | B27: Manguera freno | C27: 1 | D27: 178200 | E27: 175900 | F27: 167000 | G27: 164000 | H27: =(D27+F27)/2 -> 172600 | I27: =(E27+G27)/2 -> 169950
A28: 18 | B28: Limpiador de frenos o discos 536 ml | C28: 1 | D28: 83300 | E28: N/A | F28: 81000 | G28: N/A | H28: =(D28+F28)/2 -> 82150 | I28: N/A
B29: SISTEMA DE SUSPENSIÓN
A30: 19 | B30: M.O Revisión General de Suspensión Delantera | C30: 1 | D30: N/A | E30: 444600 | F30: N/A | G30: 429000 | H30: N/A | I30: =(E30+G30)/2 -> 436800
A31: 20 | B31: M.O Revisión General de Suspensión Trasera | C31: 1 | D31: N/A | E31: 363000 | F31: N/A | G31: 336000 | H31: N/A | I31: =(E31+G31)/2 -> 349500
A32: 21 | B32: Juego amortiguadores delanteros (incluidos bujes, copelas, arandelas, pasadores y tuercas) | C32: 1 | D32: 963800 | E32: 501500 | F32: 914000 | G32: 476000 | H32: =(D32+F32)/2 -> 938900 | I32: =(E32+G32)/2 -> 488750
A33: 22 | B33: Juego de brazos axiales | C33: 1 | D33: 529400 | E33: 697600 | F33: 486000 | G33: 640000 | H33: =(D33+F33)/2 -> 507700 | I33: =(E33+G33)/2 -> 668800
A34: 23 | B34: Juego de rotulas superiores con sus tuercas y pines | C34: 1 | D34: 362600 | E34: 680300 | F34: 338000 | G34: 634000 | H34: =(D34+F34)/2 -> 350300 | I34: =(E34+G34)/2 -> 657150
A35: 24 | B35: Juego de rotulas inferiores con sus tuercas y pines | C35: 1 | D35: 443900 | E35: 691900 | F35: 422000 | G35: 657000 | H35: =(D35+F35)/2 -> 432950 | I35: =(E35+G35)/2 -> 674450
A36: 25 | B36: Juego de, muñecos, bujes y cauchos de la barra estabilizadora delantera | C36: 1 | D36: 861600 | E36: 343200 | F36: 833000 | G36: 332000 | H36: =(D36+F36)/2 -> 847300 | I36: =(E36+G36)/2 -> 337600
A37: 26 | B37: Juego de Tijeras superiores delanteras incluyendo bujes cuando aplique. | C37: 1 | D37: 848100 | E37: 668800 | F37: 804000 | G37: 634000 | H37: =(D37+F37)/2 -> 826050 | I37: =(E37+G37)/2 -> 651400
A38: 27 | B38: Juego de Tijeras inferiores delanteras incluyendo bujes cuando aplique. | C38: 1 | D38: 893800 | E38: 1383400 | F38: 812000 | G38: 1257000 | H38: =(D38+F38)/2 -> 852900 | I38: =(E38+G38)/2 -> 1320200
A39: 28 | B39: Juego de bujes tijeras superior e inferiores | C39: 1 | D39: 431500 | E39: 1383400 | F39: 406000 | G39: 1303000 | H39: =(D39+F39)/2 -> 418750 | I39: =(E39+G39)/2 -> 1343200
A40: 29 | B40: Juego espirales delanteros. | C40: 1 | D40: 1396500 | E40: 501500 | F40: 1384000 | G40: 497000 | H40: =(D40+F40)/2 -> 1390250 | I40: =(E40+G40)/2 -> 499250
A41: 30 | B41: Juego soportes amortiguadores delanteros con sus rodamientos | C41: 1 | D41: 800900 | E41: 1054900 | F41: 735000 | G41: 968000 | H41: =(D41+F41)/2 -> 767950 | I41: =(E41+G41)/2 -> 1011450
A42: 31 | B42: Barra estabilizadora delantera | C42: 1 | D42: 962300 | E42: 497200 | F42: 920000 | G42: 476000 | H42: =(D42+F42)/2 -> 941150 | I42: =(E42+G42)/2 -> 486600
A43: 32 | B43: Juego rodamientos delanteros | C43: 1 | D43: 1377200 | E43: 453400 | F43: 1241000 | G43: 408000 | H43: =(D43+F43)/2 -> 1309100 | I43: =(E43+G43)/2 -> 430700
...

Sheet MAZDA
B1: Anexo No. 4 Oferta Económica MANTENIMEINTO VEHICULOS MANO DE OBRA Y REPUESTOS | C1: CANTIDAD | D1: COTIZACION CAMPESA SA | F1: COTIZACION TODO REPUESTOS | H1: PROMEDIO
A3: CAMIONETA MAZDA
A4: B2600 DC3
A5: 2005 a 2009
A6: 2,600 C.C.
A7: MAZDA | D7: Valor Repuesto Sin IVA | E7: Valor M.O. Sin IVA | F7: Valor Repuesto Sin IVA | G7: Valor M.O. Sin IVA | H7: Valor Repuesto Sin IVA | I7: Valor M.O. Sin IVA
A9: ítem | B9: SISTEMA DE FRENOS
A10: 1 | B10: Revisión general de frenos: M.O (graduación general de freno de mano y las bandas, limpieza sistema ABS cuando aplique). Sin Repuestos | C10: 1 | D10: 84700 | E10: 387200 | F10: 76000 | G10: 346000 | H10: =(D10+F10)/2 -> 80350 | I10: =(E10+G10)/2 -> 366600
A11: 2 | B11: Liquido de freno DOT según referencia vehículo (pinta - 290 mi) | C11: 1 | D11: 58500 | E11: 326100 | F11: 57000 | G11: 315000 | H11: =(D11+F11)/2 -> 57750 | I11: =(E11+G11)/2 -> 320550
A12: 3 | B12: Pastillas delanteras o traseras (juego) | C12: 1 | D12: 1940500 | E12: 331700 | F12: 1875000 | G12: 321000 | H12: =(D12+F12)/2 -> 1907750 | I12: =(E12+G12)/2 -> 326350
A13: 4 | B13: Bandas delanteras o traseras (juego), incluyendo cambio de puntillas o resortes bandas, cuando aplique | C13: 1 | D13: 1694000 | E13: 484000 | F13: 1512000 | G13: 432000 | H13: =(D13+F13)/2 -> 1603000 | I13: =(E13+G13)/2 -> 458000
A14: 5 | B14: Cilindros freno delanteros o traseros (Jgo) | C14: 1 | D14: 1410300 | E14: 137700 | F14: 1283000 | G14: 125000 | H14: =(D14+F14)/2 -> 1346650 | I14: =(E14+G14)/2 -> 131350
A15: 6 | B15: Campanas delanteras o traseras (Jgo) | C15: 1 | D15: 7525800 | E15: 66000 | F15: 7007000 | G15: 61000 | H15: =(D15+F15)/2 -> 7266400 | I15: =(E15+G15)/2 -> 63500
A16: 7 | B16: Discos delanteros o traseros (Jgo) | C16: 1 | D16: 3025000 | E16: 544500 | F16: 2875000 | G16: 518000 | H16: =(D16+F16)/2 -> 2950000 | I16: =(E16+G16)/2 -> 531250
A17: 8 | B17: Rectificación de Disco | C17: 1 | D17: N/A | E17: 512700 | F17: N/A | G17: 491000 | H17: N/A | I17: =(E17+G17)/2 -> 501850
A18: 9 | B18: Guaya de freno | C18: 1 | D18: 1053900 | E18: 323300 | F18: 1008000 | G18: 309000 | H18: =(D18+F18)/2 -> 1030950 | I18: =(E18+G18)/2 -> 316150
A19: 10 | B19: Guayas freno de mano o de parqueo (Juego) | C19: 1 | D19: 2431700 | E19: 640800 | F19: 2284000 | G19: 602000 | H19: =(D19+F19)/2 -> 2357850 | I19: =(E19+G19)/2 -> 621400
A20: 11 | B20: Palanca Freno de Mano | C20: 1 | D20: 964800 | E20: 75000 | F20: 884000 | G20: 69000 | H20: =(D20+F20)/2 -> 924400 | I20: =(E20+G20)/2 -> 72000
A21: 12 | B21: Resorte de Banda | C21: 1 | D21: 317700 | E21: 44700 | F21: 304000 | G21: 43000 | H21: =(D21+F21)/2 -> 310850 | I21: =(E21+G21)/2 -> 43850
A22: 13 | B22: Pistón mordaza (juego) | C22: 1 | D22: 4432000 | E22: 340000 | F22: 4069000 | G22: 312000 | H22: =(D22+F22)/2 -> 4250500 | I22: =(E22+G22)/2 -> 326000
A23: 14 | B23: Mordazas y sus pasadores (juego) | C23: 1 | D23: 5275300 | E23: 337200 | F23: 4839000 | G23: 309000 | H23: =(D23+F23)/2 -> 5057150 | I23: =(E23+G23)/2 -> 323100
A24: 15 | B24: Ligas clíper (jugo) | C24: 1 | D24: 1247600 | E24: 468000 | F24: 1185000 | G24: 445000 | H24: =(D24+F24)/2 -> 1216300 | I24: =(E24+G24)/2 -> 456500
A25: 16 | B25: Bomba de freno | C25: 1 | D25: 1301100 | E25: 1325800 | F25: 1181000 | G25: 1203000 | H25: =(D25+F25)/2 -> 1241050 | I25: =(E25+G25)/2 -> 1264400
A26: 17 | B26: Manguera freno | C26: 1 | D26: 279800 | E26: 170000 | F26: 261000 | G26: 159000 | H26: =(D26+F26)/2 -> 270400 | I26: =(E26+G26)/2 -> 164500
A27: 18 | B27: Limpiador de frenos o discos 536 ml | C27: 1 | D27: 84700 | E27: 36800 | F27: 80000 | G27: 35000 | H27: =(D27+F27)/2 -> 82350 | I27: =(E27+G27)/2 -> 35900
B28: SISTEMA DE SUSPENSIÓN
A29: 19 | B29: M.O Revisión General de Suspensión Delantera | C29: 1 | D29: N/A | E29: 452200 | F29: N/A | G29: 414000 | H29: N/A | I29: =(E29+G29)/2 -> 433100
A30: 20 | B30: M.O Revisión General de Suspensión Trasera | C30: 1 | D30: N/A | E30: 360000 | F30: N/A | G30: 324000 | H30: N/A | I30: =(E30+G30)/2 -> 342000
A31: 21 | B31: Juego amortiguadores delanteros (incluidos bujes, copelas, arandelas, pasadores y tuercas) | C31: 1 | D31: 1945500 | E31: 505600 | F31: 1736000 | G31: 451000 | H31: =(D31+F31)/2 -> 1840750 | I31: =(E31+G31)/2 -> 478300
A32: 22 | B32: Juego de brazos axiales | C32: 1 | D32: 817700 | E32: 663100 | F32: 790000 | G32: 641000 | H32: =(D32+F32)/2 -> 803850 | I32: =(E32+G32)/2 -> 652050
A33: 23 | B33: Juego de rotulas superiores con sus tuercas y pines | C33: 1 | D33: 593400 | E33: 679800 | F33: 535000 | G33: 613000 | H33: =(D33+F33)/2 -> 564200 | I33: =(E33+G33)/2 -> 646400
A34: 24 | B34: Juego de rotulas inferiores con sus tuercas y pines | C34: 1 | D34: 1542900 | E34: 640800 | F34: 1530000 | G34: 635000 | H34: =(D34+F34)/2 -> 1536450 | I34: =(E34+G34)/2 -> 637900
A35: 25 | B35: Juego de, muñecos, bujes y cauchos de la barra estabilizadora delantera | C35: 1 | D35: 950200 | E35: 334500 | F35: 887000 | G35: 312000 | H35: =(D35+F35)/2 -> 918600 | I35: =(E35+G35)/2 -> 323250
A36: 26 | B36: Juego de Tijeras superiores delanteras incluyendo bujes cuando aplique. | C36: 1 | D36: 1035400 | E36: 657500 | F36: 965000 | G36: 613000 | H36: =(D36+F36)/2 -> 1000200 | I36: =(E36+G36)/2 -> 635250
A37: 27 | B37: Juego de Tijeras inferiores delanteras incluyendo bujes cuando aplique. | C37: 1 | D37: 2013700 | E37: 1359300 | F37: 1799000 | G37: 1214000 | H37: =(D37+F37)/2 -> 1906350 | I37: =(E37+G37)/2 -> 1286650
A38: 28 | B38: Juego de bujes tijeras superior e inferiores | C38: 1 | D38: 1870700 | E38: 1337000 | F38: 1793000 | G38: 1281000 | H38: =(D38+F38)/2 -> 1831850 | I38: =(E38+G38)/2 -> 1309000
A39: 29 | B39: Juego espirales delanteros. | C39: 1 | D39: 2815100 | E39: 505600 | F39: 2652000 | G39: 476000 | H39: =(D39+F39)/2 -> 2733550 | I39: =(E39+G39)/2 -> 490800
A40: 30 | B40: Juego soportes amortiguadores delanteros con sus rodamientos | C40: 1 | D40: 1182700 | E40: 969400 | F40: 1122000 | G40: 919000 | H40: =(D40+F40)/2 -> 1152350 | I40: =(E40+G40)/2 -> 944200
A41: 31 | B41: Barra estabilizadora delantera | C41: 1 | D41: 277000 | E41: 497200 | F41: 263000 | G41: 472000 | H41: =(D41+F41)/2 -> 270000 | I41: =(E41+G41)/2 -> 484600
A42: 32 | B42: Juego rodamientos delanteros | C42: 1 | D42: 1547700 | E42: 416400 | F42: 1507000 | G42: 406000 | H42: =(D42+F42)/2 -> 1527350 | I42: =(E42+G42)/2 -> 411200
...

Sheet FORD
A1: Anexo No. 4 Oferta Económica MANTENIMEINTO VEHICULOS MANO DE OBRA Y REPUESTOS | C1: CANTIDAD | D1: COTIZACION CAMPESA SA | F1: COTIZACION TODO REPUESTOS | H1: PROMEDIO
A3: AUTOMOVIL FORD
A4: FIESTA
A5: 2014
A6: 1.600 C.C.
A7: FORD | D7: Valor Repuesto Sin IVA | E7: Valor M.O. Sin IVA | F7: Valor Repuesto Sin IVA | G7: Valor M.O. Sin IVA | H7: Valor Repuesto Sin IVA | I7: Valor M.O. Sin IVA
A9: ítem | B9: SISTEMA DE FRENOS
A10: 1 | B10: Revisión general de frenos: M.O (graduación general de freno de mano y las bandas, limpieza sistema ABS cuando aplique). Sin Repuestos | C10: 1 | D10: 86800 | E10: 310000 | F10: 83000 | G10: 298000 | H10: =(D10+F10)/2 -> 84900 | I10: =(E10+G10)/2 -> 304000
A11: 2 | B11: Liquido de freno DOT según referencia vehículo (pinta - 290 mi) | C11: 1 | D11: 62000 | E11: 307100 | F11: 60000 | G11: 297000 | H11: =(D11+F11)/2 -> 61000 | I11: =(E11+G11)/2 -> 302050
A12: 3 | B12: Pastillas delanteras o traseras (juego) | C12: 1 | D12: 600900 | E12: 302100 | F12: 571000 | G12: 287000 | H12: =(D12+F12)/2 -> 585950 | I12: =(E12+G12)/2 -> 294550
A13: 4 | B13: Bandas delanteras o traseras (juego), incluyendo cambio de puntillas o resortes bandas, cuando aplique | C13: 1 | D13: 913700 | E13: 464500 | F13: 848000 | G13: 431000 | H13: =(D13+F13)/2 -> 880850 | I13: =(E13+G13)/2 -> 447750
A14: 5 | B14: Cilindros freno delanteros o traseros (Jgo) | C14: 1 | D14: 1548200 | E14: 136900 | F14: 1510000 | G14: 134000 | H14: =(D14+F14)/2 -> 1529100 | I14: =(E14+G14)/2 -> 135450
A15: 6 | B15: Campanas delanteras o traseras (Jgo) | C15: 1 | D15: 1278500 | E15: 70100 | F15: 1227000 | G15: 67000 | H15: =(D15+F15)/2 -> 1252750 | I15: =(E15+G15)/2 -> 68550
A16: 7 | B16: Discos delanteros o traseros (Jgo) | C16: 1 | D16: 1220000 | E16: 463600 | F16: 1180000 | G16: 448000 | H16: =(D16+F16)/2 -> 1200000 | I16: =(E16+G16)/2 -> 455800
A17: 8 | B17: Rectificación de Disco | C17: 1 | D17: N/A | E17: 531400 | F17: N/A | G17: 501000 | H17: N/A | I17: =(E17+G17)/2 -> 516200
A18: 9 | B18: Guaya de freno | C18: 1 | D18: 1443700 | E18: 307100 | F18: 1351000 | G18: 287000 | H18: =(D18+F18)/2 -> 1397350 | I18: =(E18+G18)/2 -> 297050
A19: 10 | B19: Guayas freno de mano o de parqueo (Juego) | C19: 1 | D19: 2910700 | E19: 619100 | F19: 2771000 | G19: 589000 | H19: =(D19+F19)/2 -> 2840850 | I19: =(E19+G19)/2 -> 604050
A20: 11 | B20: Palanca Freno de Mano | C20: 1 | D20: 421600 | E20: 76500 | F20: 411000 | G20: 75000 | H20: =(D20+F20)/2 -> 416300 | I20: =(E20+G20)/2 -> 75750
A21: 12 | B21: Pistón mordaza (juego) | C21: 1 | D21: 357700 | E21: 309500 | F21: 335000 | G21: 290000 | H21: =(D21+F21)/2 -> 346350 | I21: =(E21+G21)/2 -> 299750
A22: 13 | B22: Mordazas y sus pasadores (juego) | C22: 1 | D22: 1281900 | E22: 307100 | F22: 1210000 | G22: 290000 | H22: =(D22+F22)/2 -> 1245950 | I22: =(E22+G22)/2 -> 298550
A23: 14 | B23: Ligas clíper (jugo) | C23: 1 | D23: 664200 | E23: 307100 | F23: 621000 | G23: 287000 | H23: =(D23+F23)/2 -> 642600 | I23: =(E23+G23)/2 -> 297050
A24: 15 | B24: Bomba de freno | C24: 1 | D24: 947300 | E24: 906400 | F24: 908000 | G24: 869000 | H24: =(D24+F24)/2 -> 927650 | I24: =(E24+G24)/2 -> 887700
A25: 16 | B25: Manguera freno | C25: 1 | D25: 1331100 | E25: 151200 | F25: 1309000 | G25: 149000 | H25: =(D25+F25)/2 -> 1320050 | I25: =(E25+G25)/2 -> 150100
A26: 17 | B26: Limpiador de frenos o discos 536 ml | C26: 1 | D26: 87500 | E26: 37500 | F26: 81000 | G26: 34000 | H26: =(D26+F26)/2 -> 84250 | I26: =(E26+G26)/2 -> 35750
B27: SISTEMA DE SUSPENSIÓN
A28: 18 | B28: M.O Revisión General de Suspensión Delantera | C28: 1 | D28: N/A | E28: 375000 | F28: N/A | G28: 360000 | H28: N/A | I28: =(E28+G28)/2 -> 367500
A29: 19 | B29: M.O Revisión General de Suspensión Trasera | C29: 1 | D29: N/A | E29: 312500 | F29: N/A | G29: 293000 | H29: N/A | I29: =(E29+G29)/2 -> 302750
A30: 20 | B30: Juego amortiguadores delanteros (incluidos bujes, copelas, arandelas, pasadores y tuercas) | C30: 1 | D30: 2870700 | E30: 464500 | F30: 2710000 | G30: 438000 | H30: =(D30+F30)/2 -> 2790350 | I30: =(E30+G30)/2 -> 451250
A31: 21 | B31: Juego de brazos axiales | C31: 1 | D31: 862500 | E31: 614100 | F31: 828000 | G31: 589000 | H31: =(D31+F31)/2 -> 845250 | I31: =(E31+G31)/2 -> 601550
A32: 22 | B32: Juego de, muñecos, bujes y cauchos de la barra estabilizadora delantera | C32: 1 | D32: 666400 | E32: 309500 | F32: 613000 | G32: 285000 | H32: =(D32+F32)/2 -> 639700 | I32: =(E32+G32)/2 -> 297250
A33: 23 | B33: Juego de Tijeras inferiores delanteras incluyendo bujes cuando aplique. | C33: 1 | D33: 1319000 | E33: 1238200 | F33: 1235000 | G33: 1159000 | H33: =(D33+F33)/2 -> 1277000 | I33: =(E33+G33)/2 -> 1198600
A34: 24 | B34: Juego de bujes tijeras superior e inferiores | C34: 1 | D34: N/A | E34: 1228300 | F34: N/A | G34: 1139000 | H34: N/A | I34: =(E34+G34)/2 -> 1183650
A35: 25 | B35: Juego espirales delanteros. | C35: 1 | D35: 1590400 | E35: 460700 | F35: 1488000 | G35: 431000 | H35: =(D35+F35)/2 -> 1539200 | I35: =(E35+G35)/2 -> 445850
A36: 26 | B36: Juego soportes amortiguadores delanteros con sus rodamientos | C36: 1 | D36: 1117800 | E36: 913800 | F36: 1054000 | G36: 862000 | H36: =(D36+F36)/2 -> 1085900 | I36: =(E36+G36)/2 -> 887900
A37: 27 | B37: Barra estabilizadora delantera | C37: 1 | D37: 1190300 | E37: 453300 | F37: 1161000 | G37: 442000 | H37: =(D37+F37)/2 -> 1175650 | I37: =(E37+G37)/2 -> 447650
A38: 28 | B38: Juego rodamientos delanteros | C38: 1 | D38: 1709100 | E38: 392800 | F38: 1667000 | G38: 383000 | H38: =(D38+F38)/2 -> 1688050 | I38: =(E38+G38)/2 -> 387900
A39: 29 | B39: Juego de Bocines delanteros | C39: 1 | D39: 2865200 | E39: 254200 | F39: 2772000 | G39: 246000 | H39: =(D39+F39)/2 -> 2818600 | I39: =(E39+G39)/2 -> 250100
A40: 30 | B40: Juego amortiguadores traseros (incluidos bujes, copelas, arandelas, pasadores y tuercas) | C40: 1 | D40: 2584900 | E40: 453300 | F40: 2479000 | G40: 435000 | H40: =(D40+F40)/2 -> 2531950 | I40: =(E40+G40)/2 -> 444150
A41: 31 | B41: Juego espirales traseros | C41: 1 | D41: 764100 | E41: 457000 | F41: 714000 | G41: 427000 | H41: =(D41+F41)/2 -> 739050 | I41: =(E41+G41)/2 -> 442000
A42: 32 | B42: Juego de muñecos completos, bujes y cauchos de la barra estabilizadora trasera | C42: 1 | D42: 569900 | E42: 302100 | F42: 547000 | G42: 290000 | H42: =(D42+F42)/2 -> 558450 | I42: =(E42+G42)/2 -> 296050
...

Sheet HYUNDAI
A1: Anexo No. 4 Oferta Económica MANTENIMEINTO VEHICULOS MANO DE OBRA Y REPUESTOS | C1: CANTIDAD | D1: COTIZACION CAMPESA SA | F1: COTIZACION TODO REPUESTOS | H1: PROMEDIO
A3: CAMIONETA HYUNDAI
A4: TUCSON
A5: 2008
A6: 2,000 C.C.
A7: HYUNDAI | D7: Valor Repuesto Sin IVA | E7: Valor M.O. Sin IVA | F7: Valor Repuesto Sin IVA | G7: Valor M.O. Sin IVA | H7: Valor Repuesto Sin IVA | I7: Valor M.O. Sin IVA
A9: ítem | B9: SISTEMA DE FRENOS
A10: 1 | B10: Revisión general de frenos: M.O (graduación general de freno de mano y las bandas, limpieza sistema ABS cuando aplique). Sin Repuestos | C10: 1 | D10: 84000 | E10: 384000 | F10: 76000 | G10: 346000 | H10: =(D10+F10)/2 -> 80000 | I10: =(E10+G10)/2 -> 365000
A11: 2 | B11: Liquido de freno DOT según referencia vehículo (pinta - 290 mi) | C11: 1 | D11: 57500 | E11: 266900 | F11: 55000 | G11: 253000 | H11: =(D11+F11)/2 -> 56250 | I11: =(E11+G11)/2 -> 259950
A12: 3 | B12: Pastillas delanteras o traseras (juego) | C12: 1 | D12: 675900 | E12: 276100 | F12: 653000 | G12: 267000 | H12: =(D12+F12)/2 -> 664450 | I12: =(E12+G12)/2 -> 271550
A13: 4 | B13: Bandas delanteras o traseras (juego), incluyendo cambio de puntillas o resortes bandas, cuando aplique | C13: 1 | D13: 1666000 | E13: 476000 | F13: 1526000 | G13: 436000 | H13: =(D13+F13)/2 -> 1596000 | I13: =(E13+G13)/2 -> 456000
A14: 5 | B14: Cilindros freno delanteros o traseros (Jgo) | C14: 1 | D14: 623600 | E14: 224800 | F14: 582000 | G14: 210000 | H14: =(D14+F14)/2 -> 602800 | I14: =(E14+G14)/2 -> 217400
A15: 6 | B15: Campanas delanteras o traseras (Jgo) | C15: 1 | D15: 1285300 | E15: 65200 | F15: 1229000 | G15: 62000 | H15: =(D15+F15)/2 -> 1257150 | I15: =(E15+G15)/2 -> 63600
A16: 7 | B16: Discos delanteros o traseros (Jgo) | C16: 1 | D16: 2975000 | E16: 535500 | F16: 2725000 | G16: 491000 | H16: =(D16+F16)/2 -> 2850000 | I16: =(E16+G16)/2 -> 513250
A17: 8 | B17: Rectificación de Disco | C17: 1 | D17: N/A | E17: 300300 | F17: N/A | G17: 282000 | H17: N/A | I17: =(E17+G17)/2 -> 291150
A18: 9 | B18: Guaya de freno | C18: 1 | D18: 934200 | E18: 280800 | F18: 872000 | G18: 262000 | H18: =(D18+F18)/2 -> 903100 | I18: =(E18+G18)/2 -> 271400
A19: 10 | B19: Guayas freno de mano o de parqueo (Juego) | C19: 1 | D19: 1883100 | E19: 566000 | F19: 1729000 | G19: 520000 | H19: =(D19+F19)/2 -> 1806050 | I19: =(E19+G19)/2 -> 543000
A20: 11 | B20: Palanca Freno de Mano | C20: 1 | D20: 871900 | E20: 76000 | F20: 799000 | G20: 70000 | H20: =(D20+F20)/2 -> 835450 | I20: =(E20+G20)/2 -> 73000
A21: 12 | B21: Resorte de Banda | C21: 1 | D21: 191700 | E21: 30300 | F21: 182000 | G21: 29000 | H21: =(D21+F21)/2 -> 186850 | I21: =(E21+G21)/2 -> 29650
A22: 13 | B22: Pistón mordaza (juego) | C22: 1 | D22: 432300 | E22: 276100 | F22: 396000 | G22: 253000 | H22: =(D22+F22)/2 -> 414150 | I22: =(E22+G22)/2 -> 264550
A23: 14 | B23: Mordazas y sus pasadores (juego) | C23: 1 | D23: 2914200 | E23: 273800 | F23: 2840000 | G23: 267000 | H23: =(D23+F23)/2 -> 2877100 | I23: =(E23+G23)/2 -> 270400
A24: 15 | B24: Ligas clíper (jugo) | C24: 1 | D24: 581000 | E24: 373400 | F24: 571000 | G24: 367000 | H24: =(D24+F24)/2 -> 576000 | I24: =(E24+G24)/2 -> 370200
A25: 16 | B25: Bomba de freno | C25: 1 | D25: 1057200 | E25: 1066800 | F25: 1011000 | G25: 1020000 | H25: =(D25+F25)/2 -> 1034100 | I25: =(E25+G25)/2 -> 1043400
A26: 17 | B26: Manguera freno | C26: 1 | D26: 147300 | E26: 135800 | F26: 140000 | G26: 129000 | H26: =(D26+F26)/2 -> 143650 | I26: =(E26+G26)/2 -> 132400
A27: 18 | B27: Limpiador de frenos o discos 536 ml | C27: 1 | D27: 81200 | E27: 28700 | F27: 76000 | G27: 27000 | H27: =(D27+F27)/2 -> 78600 | I27: =(E27+G27)/2 -> 27850
B28: SISTEMA DE SUSPENSIÓN
A29: 19 | B29: M.O Revisión General de Suspensión Delantera | C29: 1 | D29: N/A | E29: 440800 | F29: N/A | G29: 422000 | H29: N/A | I29: =(E29+G29)/2 -> 431400
A30: 20 | B30: M.O Revisión General de Suspensión Trasera | C30: 1 | D30: N/A | E30: 366000 | F30: N/A | G30: 342000 | H30: N/A | I30: =(E30+G30)/2 -> 354000
A31: 21 | B31: Juego amortiguadores delanteros (incluidos bujes, copelas, arandelas, pasadores y tuercas) | C31: 1 | D31: 1614400 | E31: 417500 | F31: 1453000 | G31: 376000 | H31: =(D31+F31)/2 -> 1533700 | I31: =(E31+G31)/2 -> 396750
A32: 22 | B32: Juego de brazos axiales | C32: 1 | D32: 1001600 | E32: 561300 | F32: 935000 | G32: 524000 | H32: =(D32+F32)/2 -> 968300 | I32: =(E32+G32)/2 -> 542650
A33: 23 | B33: Juego de rotulas superiores con sus tuercas y pines | C33: 1 | D33: 1164800 | E33: 542800 | F33: 1125000 | G33: 524000 | H33: =(D33+F33)/2 -> 1144900 | I33: =(E33+G33)/2 -> 533400
A34: 24 | B34: Juego de rotulas inferiores con sus tuercas y pines | C34: 1 | D34: 1226000 | E34: 542800 | F34: 1153000 | G34: 510000 | H34: =(D34+F34)/2 -> 1189500 | I34: =(E34+G34)/2 -> 526400
A35: 25 | B35: Juego de, muñecos, bujes y cauchos de la barra estabilizadora delantera | C35: 1 | D35: 641400 | E35: 278500 | F35: 604000 | G35: 262000 | H35: =(D35+F35)/2 -> 622700 | I35: =(E35+G35)/2 -> 270250
A36: 26 | B36: Juego de Tijeras superiores delanteras incluyendo bujes cuando aplique. | C36: 1 | D36: 1413300 | E36: 556700 | F36: 1296000 | G36: 510000 | H36: =(D36+F36)/2 -> 1354650 | I36: =(E36+G36)/2 -> 533350
A37: 27 | B37: Juego de Tijeras inferiores delanteras incluyendo bujes cuando aplique. | C37: 1 | D37: 1426500 | E37: 1103900 | F37: 1307000 | G37: 1011000 | H37: =(D37+F37)/2 -> 1366750 | I37: =(E37+G37)/2 -> 1057450
A38: 28 | B38: Juego de bujes tijeras superior e inferiores | C38: 1 | D38: 1571200 | E38: 1066800 | F38: 1476000 | G38: 1002000 | H38: =(D38+F38)/2 -> 1523600 | I38: =(E38+G38)/2 -> 1034400
A39: 29 | B39: Juego espirales delanteros. | C39: 1 | D39: 1253200 | E39: 400100 | F39: 1220000 | G39: 390000 | H39: =(D39+F39)/2 -> 1236600 | I39: =(E39+G39)/2 -> 395050
A40: 30 | B40: Juego soportes amortiguadores delanteros con sus rodamientos | C40: 1 | D40: 1057800 | E40: 800200 | F40: 1039000 | G40: 786000 | H40: =(D40+F40)/2 -> 1048400 | I40: =(E40+G40)/2 -> 793100
A41: 31 | B41: Barra estabilizadora delantera | C41: 1 | D41: 197500 | E41: 410500 | F41: 187000 | G41: 390000 | H41: =(D41+F41)/2 -> 192250 | I41: =(E41+G41)/2 -> 400250
A42: 32 | B42: Juego rodamientos delanteros | C42: 1 | D42: 1103800 | E42: 361800 | F42: 1003000 | G42: 329000 | H42: =(D42+F42)/2 -> 1053400 | I42: =(E42+G42)/2 -> 345400
...

Sheet DAIHATSU 
B1: Anexo No. 4 Oferta Económica MANTENIMEINTO VEHICULOS MANO DE OBRA Y REPUESTOS | C1: CANTIDAD | D1: COTIZACION CAMPESA SA | F1: COTIZACION TODO REPUESTOS | H1: PROMEDIO
A3: CAMPERO DAIHATSU
A4: TERIOS
A5: 2010
A6: 1,500 C.C.
A7: DAIHATSU | D7: Valor Repuesto Sin IVA | E7: Valor M.O. Sin IVA | F7: Valor Repuesto Sin IVA | G7: Valor M.O. Sin IVA | H7: Valor Repuesto Sin IVA | I7: Valor M.O. Sin IVA
A9: ítem | B9: SISTEMA DE FRENOS
A10: 1 | B10: Revisión general de frenos: M.O (graduación general de freno de mano y las bandas, limpieza sistema ABS cuando aplique). Sin Repuestos | C10: 1 | D10: 85400 | E10: 390400 | F10: 78000 | G10: 355000 | H10: =(D10+F10)/2 -> 81700 | I10: =(E10+G10)/2 -> 372700
A11: 2 | B11: Liquido de freno DOT según referencia vehículo (pinta - 290 mi) | C11: 1 | D11: 58000 | E11: 317700 | F11: 56000 | G11: 304000 | H11: =(D11+F11)/2 -> 57000 | I11: =(E11+G11)/2 -> 310850
A12: 3 | B12: Pastillas delanteras o traseras (juego) | C12: 1 | D12: 1415600 | E12: 325900 | F12: 1368000 | G12: 315000 | H12: =(D12+F12)/2 -> 1391800 | I12: =(E12+G12)/2 -> 320450
A13: 4 | B13: Bandas delanteras o traseras (juego), incluyendo cambio de puntillas o resortes bandas, cuando aplique | C13: 1 | D13: 1624000 | E13: 464000 | F13: 1582000 | G13: 452000 | H13: =(D13+F13)/2 -> 1603000 | I13: =(E13+G13)/2 -> 458000
A14: 5 | B14: Cilindros freno delanteros o traseros (Jgo) | C14: 1 | D14: 938700 | E14: 107700 | F14: 922000 | G14: 106000 | H14: =(D14+F14)/2 -> 930350 | I14: =(E14+G14)/2 -> 106850
A15: 6 | B15: Campanas delanteras o traseras (Jgo) | C15: 1 | D15: 1148700 | E15: 73900 | F15: 1045000 | G15: 67000 | H15: =(D15+F15)/2 -> 1096850 | I15: =(E15+G15)/2 -> 70450
A16: 7 | B16: Discos delanteros o traseros (Jgo) | C16: 1 | D16: 3000000 | E16: 540000 | F16: 2825000 | G16: 509000 | H16: =(D16+F16)/2 -> 2912500 | I16: =(E16+G16)/2 -> 524500
A17: 8 | B17: Rectificación de Disco | C17: 1 | D17: N/A | E17: 430500 | F17: N/A | G17: 399000 | H17: N/A | I17: =(E17+G17)/2 -> 414750
A18: 9 | B18: Guaya de freno | C18: 1 | D18: 1033400 | E18: 315000 | F18: 971000 | G18: 296000 | H18: =(D18+F18)/2 -> 1002200 | I18: =(E18+G18)/2 -> 305500
A19: 10 | B19: Guayas freno de mano o de parqueo (Juego) | C19: 1 | D19: 2172300 | E19: 662500 | F19: 1957000 | G19: 597000 | H19: =(D19+F19)/2 -> 2064650 | I19: =(E19+G19)/2 -> 629750
A20: 11 | B20: Palanca Freno de Mano | C20: 1 | D20: 758900 | E20: 62500 | F20: 701000 | G20: 58000 | H20: =(D20+F20)/2 -> 729950 | I20: =(E20+G20)/2 -> 60250
A21: 12 | B21: Resorte de Banda | C21: 1 | D21: 230100 | E21: 41800 | F21: 213000 | G21: 39000 | H21: =(D21+F21)/2 -> 221550 | I21: =(E21+G21)/2 -> 40400
A22: 13 | B22: Pistón mordaza (juego) | C22: 1 | D22: 456600 | E22: 331400 | F22: 411000 | G22: 299000 | H22: =(D22+F22)/2 -> 433800 | I22: =(E22+G22)/2 -> 315200
