Workbook

Sheet Base principal
A3: INVENTARIO VEHÍCULOS MINCOMERCIO 2024
A4: ITEM | B4: DEPENDENCIA | C4: TOTAL, EN SERVICIO | D4: POR CHATARRIZ. | E4: SOLICITUD DE ASIGNACIÓN | F4: ASIGNADOS EN PROCESO DE LEGALIZACIÓN | G4: OBSERVACIONES
A5: 1 | B5: DESPACHO | C5: 8 | D5: N/A | E5: N/A | F5: N/A
A6: 2 | B6: SECRETARIA GENERAL | C6: 1 | D6: N/A | E6: N/A | F6: N/A
A7: 3 | B7: VICEMINISTERIO DE TURISMO | C7: 1 | D7: N/A | E7: N/A | F7: N/A
A8: 4 | B8: VICEMINISTERIO DE DESARROLLO EMPRESARIAL | C8: 1 | D8: N/A | E8: N/A | F8: N/A
A9: 5 | B9: VICEMINISTERIO DE COMERCIO | C9: 1 | D9: N/A | E9: N/A | F9: N/A
A10: 6 | B10: DIRECCIÓN DE CALIDAD | C10: 1 | D10: N/A | E10: N/A | F10: N/A
A11: 7 | B11: DIRECCIÓN DE REGULACIÓN | C11: 1 | D11: N/A | E11: N/A | F11: N/A
A12: 8 | B12: DIRECCIÓN DE INTEGRACIÓN ECONÓMICA | C12: 1 | D12: N/A | E12: N/A | F12: N/A
A13: 9 | B13: DIRECCIÓN DE INVERSIÓN EXTRANJERA | C13: 1 | D13: N/A | E13: N/A | F13: N/A
A14: 10 | B14: TALLER | C14: 2 | D14: N/A | E14: N/A | F14: N/A
A15: 11 | B15: BAJA | C15: 1 | D15: N/A | E15: N/A | F15: N/A
A16: 12 | B16: COORDINACIÓN ADMINISTRATIVA | C16: 1 | D16: N/A | E16: N/A | F16: N/A | G16: Vehículo donado por la DIAN, en proceso de matricula.
C17: =SUM(C5:C16) -> 20 | D17: 0 | E17: 0 | F17: 0

Sheet Base Veh MINCIT
C1: BASE DE DATOS VEHÍCULOS PARQUE AUTOMOTOR MINCIT
AH2: Placa
A3: No. | B3: PLACA | C3: ADMINISTRACION | D3: Ubicación / Asignación | E3: Modelo | F3: Marca | G3: Linea | H3: Tipo de Vehiculo | I3: Color | J3: Numero de Pasajeros | K3: Fin Vigencia SOAT | L3: Fin vigencia póliza Autos | M3: Fin vigencia tecnicomecánica | N3: Kilometraje | O3: Estado Físico | P3: Estado Mecanico | Q3: Taller Asignado | R3: Mantenimientos Realizados | S3: Garantias | T3: Observaciones | U3: ESTADO | V3: SEMAFORO ESTADO DEL VEHÍCULO | AH3: Administración
A4: 1 | B4: JKL048 | C4: DESPACHO | D4: BOGOTA | E4: 2016 | F4: TOYOTA | G4: FORTUNER | H4: CAMIONETA | I4: NEGRO | J4: 7 | K4: 13/05/2026 | L4: 31/07/2026 | M4: 21/02/2026 | N4: 201977 | O4: Aceptable | P4: Bueno | Q4: COPCON | R4: 8 | S4: SI | U4: ACEPTABLE | V4: =IF(U4="BIEN",100,IF(U4="ACEPTABLE",30,IF(U4="MAL",10))) -> 30 | AH4: Ubicación / Asignación
A5: 2 | B5: OCK321 | C5: DESPACHO | D5: BOGOTA | E5: 2013 | F5: TOYOTA | G5: PRADO | H5: CAMIONETA | I5: Gris Metalico | J5: 7 | K5: 22/12/2026 | L5: 31/07/2026 | M5: 14/02/2026 | N5: 458299 | O5: Aceptable, rayones leves en pintura | P5: Bueno | Q5: COPCON | R5: 8 | S5: SI | U5: ACEPTABLE | V5: =IF(U5="BIEN",100,IF(U5="ACEPTABLE",30,IF(U5="MAL",10))) -> 30 | AH5: Modelo
A6: 3 | B6: OCK322 | C6: DESPACHO | D6: BOGOTA | E6: 2013 | F6: TOYOTA | G6: PRADO | H6: CAMIONETA | I6: Gris Metalico | J6: 7 | K6: 22/12/2026 | L6: 31/07/2026 | M6: 17/02/2026 | N6: 454095 | O6: Aceptable, rayones leves en pintura | P6: Bueno | Q6: COPCON | R6: 8 | S6: SI | U6: ACEPTABLE | V6: =IF(U6="BIEN",100,IF(U6="ACEPTABLE",30,IF(U6="MAL",10))) -> 30 | AH6: Marca
A7: 4 | B7: OBG222 | C7: VICEMIINISTERIO DE TURISMO TEMPORAL | D7: BOGOTA | E7: 2008 | F7: HYUNDAI | G7: ELANTRA | H7: AUTOMOVIL | I7: Gris Acero | J7: 5 | K7: 45656 | L7: 31/07/2026 | M7: 45847 | N7: 322762 | O7: Aceptable, rayones leves en pintura | P7: Bueno | Q7: AUTOINVERCOL SA | R7: 7 | S7: SI | U7: ACEPTABLE | V7: =IF(U7="BIEN",100,IF(U7="ACEPTABLE",30,IF(U7="MAL",10))) -> 30 | AH7: Línea
A8: 5 | B8: BTQ476 | C8: DESPACHO | D8: BOGOTA | E8: 2006 | F8: TOYOTA | G8: HILUX | H8: CAMIONETA | I8: Gris Acero | J8: 5 | K8: 13/05/2026 | L8: 31/07/2026 | M8: 46301 | N8: 469572 | O8: Aceptable, rayones leves en pintura | P8: Bueno | Q8: COPCON | R8: 6 | S8: SI | U8: ACEPTABLE | V8: =IF(U8="BIEN",100,IF(U8="ACEPTABLE",30,IF(U8="MAL",10))) -> 30 | AH8: Tipo de Vehículo
A9: 6 | B9: OCK727 | C9: DESPACHO | D9: BOGOTA | E9: 2013 | F9: CHEVROLET | G9: CAPTIVA SPORT | H9: CAMIONETA | I9: Negro | J9: 5 | K9: 45454 | L9: 45819 | M9: 45822 | N9: 207694 | O9: Aceptable, rayones leves en pintura | P9: Bueno | Q9: AUTOINVERCOL SA | R9: 8 | S9: SI | T9: Se han aplicado grarantias de acuerdo con los reportes bervales de los conductores - y se devuelve el vehículo al taller inmediatamente | U9: ACEPTABLE | V9: =IF(U9="BIEN",100,IF(U9="ACEPTABLE",30,IF(U9="MAL",10))) -> 30 | AH9: Color
A10: 7 | B10: OBH151 | C10: DESPACHO | D10: BOGOTA | E10: 2009 | F10: RENAULT | G10: LOGAN | H10: AUTOMOVIL | I10: Negro | J10: 5 | K10: 45388 | L10: 45752 | M10: 45637 | N10: 268027 | O10: Aceptable, rayones leves en pintura | P10: Bueno | Q10: AUTOINVERCOL SA | R10: 7 | S10: SI | T10: Se han aplicado grarantias de acuerdo con los reportes bervales de los conductores - y se devuelve el vehículo al taller inmediatamente | U10: ACEPTABLE | V10: =IF(U10="BIEN",100,IF(U10="ACEPTABLE",30,IF(U10="MAL",10))) -> 30 | AH10: Número de Pasajeros
A11: 8 | B11: OBG225 | C11: DESPACHO TEMPORAL | D11: BOGOTA | E11: 2008 | F11: HYUNDAI | G11: ELANTRA | H11: AUTOMOVIL | I11: Rojo | J11: 5 | K11: 45656 | L11: 46020 | M11: 45785 | N11: 292498 | O11: Aceptable, rayones leves en pintura | P11: Bueno | Q11: AUTOINVERCOL SA | R11: 8 | S11: SI | T11: Se han aplicado grarantias de acuerdo con los reportes bervales de los conductores - y se devuelve el vehículo al taller inmediatamente | U11: ACEPTABLE | V11: =IF(U11="BIEN",100,IF(U11="ACEPTABLE",30,IF(U11="MAL",10))) -> 30 | AH11: Fin Vigencia SOAT
A12: 9 | B12: OBH153 | C12: Viceministerio de Desarrollo Empresarial | D12: BOGOTA | E12: 2009 | F12: RENAULT | G12: LOGAN | H12: AUTOMOVIL | I12: Gris Platino | J12: 5 | K12: 45632 | L12: 45631 | M12: 45693 | N12: 325235 | O12: Aceptable, rayones leves en pintura | P12: Bueno | Q12: AUTOINVERCOL SA | R12: 7 | S12: SI | T12: Se han aplicado grarantias de acuerdo con los reportes bervales de los conductores - y se devuelve el vehículo al taller inmediatamente | U12: ACEPTABLE | V12: =IF(U12="BIEN",100,IF(U12="ACEPTABLE",30,IF(U12="MAL",10))) -> 30 | AH12: Fin vigencia póliza Autos
A13: 10 | B13: OBG223 | C13: Viceministerio de Comercio Exterior | D13: BOGOTA | E13: 2008 | F13: HYUNDAI | G13: ELANTRA | H13: AUTOMOVIL | I13: Negro | J13: 5 | K13: 45656 | L13: 46020 | M13: 45856 | N13: 330285 | O13: Aceptable, rayones leves en pintura | P13: Bueno | Q13: AUTOINVERCOL SA | R13: 7 | S13: SI | T13: Se han aplicado grarantias de acuerdo con los reportes bervales de los conductores - y se devuelve el vehículo al taller inmediatamente | U13: ACEPTABLE | V13: =IF(U13="BIEN",100,IF(U13="ACEPTABLE",30,IF(U13="MAL",10))) -> 30 | AH13: Fin vigencia tecnicomecánica
A14: 11 | B14: OBG226 | C14: SECRETARIA GENERAL TEMPORAL | D14: BOGOTA | E14: 2008 | F14: HYUNDAI | G14: ELANTRA | H14: AUTOMOVIL | I14: Plata | J14: 5 | K14: 45656 | L14: 46020 | M14: 45687 | N14: 284335 | O14: Aceptable, rayones leves en pintura | P14: Bueno | Q14: AUTOINVERCOL SA | R14: 4 | S14: SI | T14: Se han aplicado grarantias de acuerdo con los reportes bervales de los conductores - y se devuelve el vehículo al taller inmediatamente | U14: ACEPTABLE | V14: =IF(U14="BIEN",100,IF(U14="ACEPTABLE",30,IF(U14="MAL",10))) -> 30 | AH14: Kilometraje
A15: 12 | B15: OBH321 | C15: Direccion de Regulacion | D15: BOGOTA | E15: 2009 | F15: RENAULT | G15: LOGAN | H15: AUTOMOVIL | I15: Negro | J15: 5 | K15: 45637 | L15: 45636 | M15: 45849 | N15: 252790 | O15: Aceptable, rayones leves en pintura | P15: Regular, Golpe guardabarro delantero izquierdo | Q15: AUTOINVERCOL SA | R15: 11 | S15: SI | T15: Se han aplicado grarantias de acuerdo con los reportes bervales de los conductores - y se devuelve el vehículo al taller inmediatamente | U15: ACEPTABLE | V15: =IF(U15="BIEN",100,IF(U15="ACEPTABLE",30,IF(U15="MAL",10))) -> 30 | AH15: Estádo mecánico
A16: 13 | B16: OBH322 | C16: Direccion de Integracion Economica | D16: BOGOTA | E16: 2009 | F16: RENAULT | G16: LOGAN | H16: AUTOMOVIL | I16: Gris Elipse | J16: 5 | K16: 45632 | L16: 45996 | M16: 45641 | N16: 279378 | O16: Aceptable, rayones leves en pintura | P16: Bueno | Q16: AUTOINVERCOL SA | R16: 7 | S16: SI | T16: Se han aplicado grarantias de acuerdo con los reportes bervales de los conductores - y se devuelve el vehículo al taller inmediatamente | U16: ACEPTABLE | V16: =IF(U16="BIEN",100,IF(U16="ACEPTABLE",30,IF(U16="MAL",10))) -> 30
A17: 14 | B17: OBH150 | C17: Direccion de Inversion Extrajera | D17: BOGOTA | E17: 2009 | F17: RENAULT | G17: LOGAN | H17: AUTOMOVIL | I17: Vinotinto | J17: 5 | K17: 45631 | L17: 45995 | M17: 45639 | N17: 285984 | O17: Aceptable, rayones leves en pintura | P17: Bueno | Q17: AUTOINVERCOL SA | R17: 7 | S17: SI | T17: Se han aplicado grarantias de acuerdo con los reportes bervales de los conductores - y se devuelve el vehículo al taller inmediatamente | U17: MAL | V17: =IF(U17="BIEN",100,IF(U17="ACEPTABLE",30,IF(U17="MAL",10))) -> 10 | W17: Carro Varado
A18: 15 | B18: OBE913 | C18: Secretaria General | D18: BOGOTA | E18: 2008 | F18: KIA | G18: SPORTAGE | H18: AUTOMOVIL | I18: Gris Plata | J18: 5 | K18: 45591 | L18: 45955 | M18: 45568 | N18: 247518 | O18: Aceptable, rayones leves en pintura | P18: Bueno | Q18: AUTOINVERCOL SA | R18: 6 | S18: SI | T18: Se han aplicado grarantias de acuerdo con los reportes bervales de los conductores - y se devuelve el vehículo al taller inmediatamente | U18: ACEPTABLE | V18: =IF(U18="BIEN",100,IF(U18="ACEPTABLE",30,IF(U18="MAL",10))) -> 30
A19: 16 | B19: OBH154 | C19: Direccion de Calidad y Desarrollo Sonstenible | D19: BOGOTA | E19: 2008 | F19: NISSAN | G19: URVAN | H19: MICROBUS | I19: Blanco | J19: 14 | K19: 45508 | L19: 45872 | M19: 45895 | N19: 170648 | O19: Aceptable, rayones leves en pintura | P19: Bueno | Q19: CENTRO CAR 19 | R19: 3 | S19: SI | T19: Se han aplicado grarantias de acuerdo con los reportes bervales de los conductores - y se devuelve el vehículo al taller inmediatamente | U19: ACEPTABLE | V19: =IF(U19="BIEN",100,IF(U19="ACEPTABLE",30,IF(U19="MAL",10))) -> 30
A20: 17 | B20: NPK464 | C20: Vehiculo Donacion Dian | D20: BOGOTA | E20: 2012 | F20: NISSAN | G20: QUEST | H20: MICROBUS | I20: Negro | J20: 7 | K20: 45650 | L20: 46014 | M20: N/A | N20: N/A | O20: Vehiculo Donacion | P20: Vehiculo Donacion | Q20: Vehiculo Donacion | R20: Vehiculo Donacion | S20: Vehiculo Donacion | T20: Vehiculo Donacion | U20: Vehiculo Donacion | V20: =IF(U20="BIEN",100,IF(U20="ACEPTABLE",30,IF(U20="MAL",10))) -> FALSE
A21: 18 | B21: UVF60C | C21: DESPACHO | D21: BOGOTA | E21: 2013 | F21: YAMAHA | G21: XT660R | H21: AUTOMOVIL | I21: Azul | J21: 2 | K21: 45554 | L21: 45918 | M21: 45800 | N21: 102737 | O21: Aceptable, rayones leves en pintura | P21: Bueno | Q21: MOTO MUNDIAL SA | R21: 3 | S21: SI | T21: Se han aplicado grarantias de acuerdo con los reportes bervales de los conductores - y se devuelve el vehículo al taller inmediatamente | U21: ACEPTABLE | V21: =IF(U21="BIEN",100,IF(U21="ACEPTABLE",30,IF(U21="MAL",10))) -> 30
A22: 19 | B22: BOA18 | C22: DESPACHO | D22: BOGOTA | E22: 2007 | F22: YAMAHA | G22: 660 | H22: AUTOMOVIL | I22: Azul | J22: 2 | K22: 45456 | L22: 45820 | M22: 45723 | N22: 157894 | O22: Aceptable, rayones leves en pintura | P22: Regular, llave rota | Q22: MOTO MUNDIAL SA | R22: 3 | S22: SI | T22: Se han aplicado grarantias de acuerdo con los reportes bervales de los conductores - y se devuelve el vehículo al taller inmediatamente | U22: ACEPTABLE | V22: =IF(U22="BIEN",100,IF(U22="ACEPTABLE",30,IF(U22="MAL",10))) -> 30 | W22: Moto en el Taller
B16387: 20 | C16387: 23
B16388: OJX334 | C16388: OJX338
B16389: ARMENIA | C16389: BARRANCABERMEJA
B16390: ARMENIA | C16390: BARRANCABERMEJA
B16391: 2015 | C16391: 2015
B16392: VOLKSWAGEN | C16392: VOLKSWAGEN
B16393: AMAROK ANDINA T MT 2000CC 4X4 1 | C16393: AMAROK ANDINA T MT 2000CC 4X4 1
B16394: Camionetas | C16394: Camionetas
B16395: VERDE ONTARIO | C16395: GRIS NATURAL METALIZADO
B16396: 5 | C16396: 5
B16397: 58650 | C16397: 11127
B16398: ACEPTABLE, RAYONES LEVES EN PINTURA | C16398: Optimas condiciones
B16399: BUENAS, FUGA EMPAQUE CARTER | C16399: Optimas Condiciones
B16400: ok | C16400: ok
B32771: 20 | C32771: 23
B32772: OJX334 | C32772: OJX338
B32773: ARMENIA | C32773: BARRANCABERMEJA
B32774: ARMENIA | C32774: BARRANCABERMEJA
...

Sheet Fichas Vehículos MINCIT
C3: FICHAS VEHÍCULOS PARQUE AUTOMOTOR MINCIT
A6: ='Base Veh MINCIT'!D4 -> BOGOTA | D6: ='Base Veh MINCIT'!D5 -> BOGOTA | G6: ='Base Veh MINCIT'!D6 -> BOGOTA | K6: ='Base Veh MINCIT'!D8 -> BOGOTA
A7: ='Base Veh DG'!$A$4 -> Placa | B7: ='Base Veh MINCIT'!B4 -> JKL048 | D7: ='Base Veh DG'!$A$4 -> Placa | E7: ='Base Veh MINCIT'!B5 -> OCK321 | G7: ='Base Veh DG'!$A$4 -> Placa | H7: ='Base Veh MINCIT'!B6 -> OCK322 | K7: ='Base Veh DG'!$A$4 -> Placa | L7: ='Base Veh MINCIT'!B8 -> BTQ476
A8: ='Base Veh DG'!$A$7 -> Modelo | B8: ='Base Veh MINCIT'!E4 -> 2016 | D8: ='Base Veh DG'!$A$7 -> Modelo | E8: ='Base Veh MINCIT'!E5 -> 2013 | G8: ='Base Veh DG'!$A$7 -> Modelo | H8: ='Base Veh MINCIT'!E6 -> 2013 | K8: ='Base Veh DG'!$A$7 -> Modelo | L8: ='Base Veh MINCIT'!E8 -> 2006
A9: ='Base Veh DG'!$A$8 -> Marca | B9: ='Base Veh MINCIT'!F4 -> TOYOTA | D9: ='Base Veh DG'!$A$8 -> Marca | E9: ='Base Veh MINCIT'!F5 -> TOYOTA | G9: ='Base Veh DG'!$A$8 -> Marca | H9: ='Base Veh MINCIT'!F6 -> TOYOTA | K9: ='Base Veh DG'!$A$8 -> Marca | L9: ='Base Veh MINCIT'!$F8 -> TOYOTA
A10: ='Base Veh DG'!$A$9 -> Línea | B10: ='Base Veh MINCIT'!G4 -> FORTUNER | D10: ='Base Veh DG'!$A$9 -> Línea | E10: ='Base Veh MINCIT'!G5 -> PRADO | G10: ='Base Veh DG'!$A$9 -> Línea | H10: ='Base Veh MINCIT'!G6 -> PRADO | K10: ='Base Veh DG'!$A$9 -> Línea | L10: ='Base Veh MINCIT'!G8 -> HILUX
A11: ='Base Veh DG'!$A$10 -> Tipo de Vehículo | B11: ='Base Veh MINCIT'!H4 -> CAMIONETA | D11: ='Base Veh DG'!$A$10 -> Tipo de Vehículo | E11: ='Base Veh MINCIT'!H5 -> CAMIONETA | G11: ='Base Veh DG'!$A$10 -> Tipo de Vehículo | H11: ='Base Veh MINCIT'!H6 -> CAMIONETA | K11: ='Base Veh DG'!$A$10 -> Tipo de Vehículo | L11: ='Base Veh MINCIT'!H8 -> CAMIONETA
A12: ='Base Veh DG'!$A$11 -> Color | B12: ='Base Veh MINCIT'!I4 -> NEGRO | D12: ='Base Veh DG'!$A$11 -> Color | E12: ='Base Veh MINCIT'!I5 -> Gris Metalico | G12: ='Base Veh DG'!$A$11 -> Color | H12: ='Base Veh MINCIT'!I6 -> Gris Metalico | K12: ='Base Veh DG'!$A$11 -> Color | L12: ='Base Veh MINCIT'!I8 -> Gris Acero
A13: ='Base Veh DG'!$A$12 -> Número de Pasajeros | B13: ='Base Veh MINCIT'!J4 -> 7 | D13: ='Base Veh DG'!$A$12 -> Número de Pasajeros | E13: ='Base Veh MINCIT'!J5 -> 7 | G13: ='Base Veh DG'!$A$12 -> Número de Pasajeros | H13: ='Base Veh MINCIT'!J6 -> 7 | K13: ='Base Veh DG'!$A$12 -> Número de Pasajeros | L13: ='Base Veh MINCIT'!J8 -> 5
A14: ='Base Veh DG'!$A$13 -> Fin Vigencia SOAT | B14: ='Base Veh MINCIT'!K4 -> 13/05/2026 | D14: ='Base Veh DG'!$A$13 -> Fin Vigencia SOAT | E14: ='Base Veh MINCIT'!K5 -> 22/12/2026 | G14: ='Base Veh DG'!$A$13 -> Fin Vigencia SOAT | H14: ='Base Veh MINCIT'!K6 -> 22/12/2026 | K14: ='Base Veh DG'!$A$13 -> Fin Vigencia SOAT | L14: ='Base Veh MINCIT'!K8 -> 13/05/2026
A15: ='Base Veh DG'!$A$14 -> Fin vigencia póliza Autos | B15: ='Base Veh MINCIT'!L4 -> 31/07/2026 | D15: ='Base Veh DG'!$A$14 -> Fin vigencia póliza Autos | E15: ='Base Veh MINCIT'!L5 -> 31/07/2026 | G15: ='Base Veh DG'!$A$14 -> Fin vigencia póliza Autos | H15: ='Base Veh MINCIT'!L6 -> 31/07/2026 | K15: ='Base Veh DG'!$A$14 -> Fin vigencia póliza Autos | L15: ='Base Veh MINCIT'!L8 -> 31/07/2026
A16: ='Base Veh DG'!$A$15 -> Fin vigencia tecnicomecánica | B16: ='Base Veh MINCIT'!M4 -> 21/02/2026 | D16: ='Base Veh DG'!$A$15 -> Fin vigencia tecnicomecánica | E16: ='Base Veh MINCIT'!M5 -> 14/02/2026 | G16: ='Base Veh DG'!$A$15 -> Fin vigencia tecnicomecánica | H16: ='Base Veh MINCIT'!M6 -> 17/02/2026 | K16: ='Base Veh DG'!$A$15 -> Fin vigencia tecnicomecánica | L16: ='Base Veh MINCIT'!M8 -> 46301
A17: ='Base Veh DG'!$A$16 -> Kilometraje | B17: ='Base Veh MINCIT'!N4 -> 201977 | D17: ='Base Veh DG'!$A$16 -> Kilometraje | E17: ='Base Veh MINCIT'!N5 -> 458299 | G17: ='Base Veh DG'!$A$16 -> Kilometraje | H17: ='Base Veh MINCIT'!N6 -> 454095 | K17: ='Base Veh DG'!$A$16 -> Kilometraje | L17: ='Base Veh MINCIT'!N8 -> 469572
A18: ='Base Veh DG'!$A$17 -> Estado Físico | B18: ='Base Veh MINCIT'!O4 -> Aceptable | D18: ='Base Veh DG'!$A$17 -> Estado Físico | E18: ='Base Veh MINCIT'!O5 -> Aceptable, rayones leves en pintura | G18: ='Base Veh DG'!$A$17 -> Estado Físico | H18: ='Base Veh MINCIT'!O6 -> Aceptable, rayones leves en pintura | K18: ='Base Veh DG'!$A$17 -> Estado Físico | L18: ='Base Veh MINCIT'!O8 -> Aceptable, rayones leves en pintura
A19: ='Base Veh DG'!$A$18 -> Estádo mecánico | B19: ='Base Veh MINCIT'!P4 -> Bueno | D19: ='Base Veh DG'!$A$18 -> Estádo mecánico | E19: ='Base Veh MINCIT'!P5 -> Bueno | G19: ='Base Veh DG'!$A$18 -> Estádo mecánico | H19: ='Base Veh MINCIT'!P6 -> Bueno | K19: ='Base Veh DG'!$A$18 -> Estádo mecánico | L19: ='Base Veh MINCIT'!P8 -> Bueno
A20: ='Base Veh DG'!$A$19 -> Accesorios | B20: 0 | D20: ='Base Veh DG'!$A$19 -> Accesorios | E20: 0 | G20: ='Base Veh DG'!$A$19 -> Accesorios | H20: 0 | K20: ='Base Veh DG'!$A$19 -> Accesorios | L20: 0

Sheet Base Veh DG
C1: BASE DE DATOS VEHÍCULOS DIRECCIONES DE GESTIÓN
A3: No. | B3: 1 | C3: 2 | D3: 3 | E3: 4 | F3: 5 | G3: 6 | H3: 7 | I3: 8 | J3: 9 | K3: 10
A4: Placa | B4: GCW934 | C4: OJX347 | D4: OLM854 | E4: OLO570 | F4: OLO746 | G4: OJX269 | H4: OLM855 | I4: OJX703 | J4: OJX721 | K4: OJX719
A5: Administración | B5: SERVICIOS GENERALES | C5: SERVICIOS GENERALES | D5: SERVICIOS GENERALES | E5: SERVICIOS GENERALES | F5: SERVICIOS GENERALES | G5: SERVICIOS GENERALES | H5: SERVICIOS GENERALES | I5: SERVICIOS GENERALES | J5: SERVICIOS GENERALES | K5: SERVICIOS GENERALES
A6: Ubicación / Asignación | B6: DG DE INNOVACIÓN Y TECNOLOGIA | C6: POLICIA FISCAL Y ADUANERA | D6: DG CORPORATIVA | E6: DG JURIDICA | F6: DG DE INGRESOS | G6: DG DE ANALITICA Y ESTRATEGICA | H6: DEFENSORIA DEL CONTRIBUYENTE | I6: DG DE FISCALIZACION | J6: DG DE ADUANAS | K6: GRANDES CONTRIBUYENTES
A7: Modelo | B7: 2020 | C7: 2015 | D7: 2016 | E7: 2017 | F7: 2011 | G7: 2006 | H7: 2010 | I7: 2015 | J7: 2015 | K7: 2015
A8: Marca | B8: NISSAN | C8: VOLKSWAGEN | D8: LEXUS | E8: KIA | F8: LEXUS | G8: TOYOTA | H8: CHEVROLET | I8: VOLKSWAGEN | J8: VOLKSWAGEN | K8: VOLKSWAGEN
A9: Línea | B9: KICKS SENSE MT 1600CC R16 | C9: AMAROK ANDINA T MT 2000CC 4X4 1 | D9: GX [3] 460 PREMIUM TP 4600CC 4X4 1 | E9: SPORTAGE [4] EMOTION MT 2000CC 2AB A | F9: LX [3] 570 TP 5700CC 4X4 | G9: TACOMA [2] [FL] SR5 AT 4000CC 4X4 | H9: GRAND VITARA 2.0 L MT 2000CC 5P 4X | I9: AMAROK ANDINA T MT 2000CC 4X4 1 | J9: AMAROK ANDINA T MT 2000CC 4X4 1 | K9: AMAROK ANDINA T MT 2000CC 4X4 1
A10: Tipo de Vehículo | B10: Camionetas | C10: Camionetas | D10: Camionetas | E10: Camionetas | F10: Camionetas | G10: Camionetas | H10: Camperos | I10: Camionetas | J10: Camionetas | K10: Camionetas
A11: Color | B11: PLATA | C11: GRIS NATURAL METALIZADO | D11: NEGRO | E11: ROJO | F11: VINO TINTO | G11: PLATA | H11: VINO | I11: PLATA METALIZADO | J11: GRIS NATURAL METALIZADO | K11: VERDE ONTARIO
A12: Número de Pasajeros | B12: 5 | C12: 5 | D12: 7 | E12: 5 | F12: 7 | G12: 5 | H12: 5 | I12: 5 | J12: 5 | K12: 5
A13: Fin Vigencia SOAT | B13: 45346 | C13: 45627 | D13: 45627 | E13: 45627 | F13: 45440 | G13: 45627 | H13: 45627 | I13: 45627 | J13: 45627 | K13: 45627
A14: Fin vigencia póliza Autos | B14: 45482 | C14: 45482 | D14: 45482 | E14: 45482 | F14: 45482 | G14: 45482 | H14: 45482 | I14: 45482 | J14: 45482 | K14: 45482
A15: Fin vigencia tecnicomecánica | B15: No aplica | C15: 45432 | D15: 45666 | E15: No aplica | F15: No aplica | G15: 45582 | H15: No aplica | I15: 45640 | J15: 45639 | K15: 45644
A16: Kilometraje | B16: 34199 | C16: 0 | D16: 138617 | E16: 80915 | F16: 72624 | G16: 148103 | H16: 80005 | I16: 80265 | J16: 91771 | K16: 104607
A17: Estado Físico | B17: Buen estado | C17: Buen estado | D17: Buen estado | E17: Buen estado | F17: Buen estado | G17: Buen estado. Rayones en carrocería | H17: Buen estado | I17: Buen estado | J17: Buen estado | K17: Buen estado
A18: Estádo mecánico | B18: Buen estado | C18: Fuera de servicio por realentamiento de motor | D18: Fallas en suspención | E18: Buen estado, pendiente cambio de bombillo farola derecha delantera | F18: Tapizado deteriorado | G18: Fallas en suspención Abolladura en costado derecho trasero | H18: Vehículo con más de 13 años de servicio | I18: Tapizado deteriorado | J18: Buen estado; revisión preventiva del sistema de frenos | K18: Tapizado con deterioro
A19: Accesorios | B19: Radio en funcionamiento; conector enchufe eléctrico en funcionamiento; aire acondicionado en funcionamiento; no tiene conector usb | C19: Radio en funcionamiento; conector enchufe eléctrico en funcionamiento; aire acondicionado en funcionamiento; no tiene conector usb | D19: No funciona el rádio; conector enchufe eléctrico en funcionamiento; aire acondicionado en funcionamiento; no tiene conector usb | E19: Radio en funcionamiento; conector enchufe eléctrico en funcionamiento; aire acondicionado en funcionamiento; no tiene conector usb | F19: Radio en funcionamiento; conector enchufe eléctrico en funcionamiento; aire acondicionado en funcionamiento; no tiene conector usb | G19: Radio en funcionamiento; conector enchufe eléctrico en funcionamiento; aire acondicionado en funcionamiento; no tiene conector usb | H19: Radio en funcionamiento; conector enchufe eléctrico en funcionamiento; aire acondicionado en funcionamiento; no tiene conector usb | I19: Radio en funcionamiento; conector enchufe eléctrico en funcionamiento; aire acondicionado en funcionamiento; no tiene conector usb | J19: Radio en funcionamiento; conector enchufe eléctrico en funcionamiento; aire acondicionado en funcionamiento; no tiene conector usb | K19: Radio en funcionamiento; conector enchufe eléctrico en funcionamiento; aire acondicionado en funcionamiento
B16390: 20 | C16390: 23
B16391: OJX334 | C16391: OJX338
B16392: ARMENIA | C16392: BARRANCABERMEJA
B16393: ARMENIA | C16393: BARRANCABERMEJA
B16394: 2015 | C16394: 2015
B16395: VOLKSWAGEN | C16395: VOLKSWAGEN
B16396: AMAROK ANDINA T MT 2000CC 4X4 1 | C16396: AMAROK ANDINA T MT 2000CC 4X4 1
B16397: Camionetas | C16397: Camionetas
B16398: VERDE ONTARIO | C16398: GRIS NATURAL METALIZADO
B16399: 5 | C16399: 5
B16400: 58650 | C16400: 11127
B16401: ACEPTABLE, RAYONES LEVES EN PINTURA | C16401: Optimas condiciones
B16402: BUENAS, FUGA EMPAQUE CARTER | C16402: Optimas Condiciones
B16403: ok | C16403: ok
B32774: 20 | C32774: 23
B32775: OJX334 | C32775: OJX338
B32776: ARMENIA | C32776: BARRANCABERMEJA
B32777: ARMENIA | C32777: BARRANCABERMEJA
B32778: 2015 | C32778: 2015
B32779: VOLKSWAGEN | C32779: VOLKSWAGEN
B32780: AMAROK ANDINA T MT 2000CC 4X4 1 | C32780: AMAROK ANDINA T MT 2000CC 4X4 1
B32781: Camionetas | C32781: Camionetas
...

Sheet Fichas Vehículos DG
C3: FICHAS VEHÍCULOS DIRECCIONES DE GESTION
A6: ='Base Veh DG'!B6 -> DG DE INNOVACIÓN Y TECNOLOGIA | D6: ='Base Veh DG'!C6 -> POLICIA FISCAL Y ADUANERA | G6: ='Base Veh DG'!D6 -> DG CORPORATIVA | J6: ='Base Veh DG'!E6 -> DG JURIDICA | M6: ='Base Veh DG'!F6 -> DG DE INGRESOS
A7: ='Base Veh DG'!$A$4 -> Placa | B7: ='Base Veh DG'!B4 -> GCW934 | D7: ='Base Veh DG'!$A$4 -> Placa | E7: ='Base Veh DG'!C4 -> OJX347 | G7: ='Base Veh DG'!$A$4 -> Placa | H7: ='Base Veh DG'!D4 -> OLM854 | J7: ='Base Veh DG'!$A$4 -> Placa | K7: ='Base Veh DG'!E4 -> OLO570 | M7: ='Base Veh DG'!$A$4 -> Placa | N7: ='Base Veh DG'!F4 -> OLO746
A8: ='Base Veh DG'!$A$7 -> Modelo | B8: ='Base Veh DG'!B7 -> 2020 | D8: ='Base Veh DG'!$A$7 -> Modelo | E8: ='Base Veh DG'!C7 -> 2015 | G8: ='Base Veh DG'!$A$7 -> Modelo | H8: ='Base Veh DG'!D7 -> 2016 | J8: ='Base Veh DG'!$A$7 -> Modelo | K8: ='Base Veh DG'!E7 -> 2017 | M8: ='Base Veh DG'!$A$7 -> Modelo | N8: ='Base Veh DG'!F7 -> 2011
A9: ='Base Veh DG'!$A$8 -> Marca | B9: ='Base Veh DG'!B8 -> NISSAN | D9: ='Base Veh DG'!$A$8 -> Marca | E9: ='Base Veh DG'!C8 -> VOLKSWAGEN | G9: ='Base Veh DG'!$A$8 -> Marca | H9: ='Base Veh DG'!D8 -> LEXUS | J9: ='Base Veh DG'!$A$8 -> Marca | K9: ='Base Veh DG'!E8 -> KIA | M9: ='Base Veh DG'!$A$8 -> Marca | N9: ='Base Veh DG'!F8 -> LEXUS
A10: ='Base Veh DG'!$A$9 -> Línea | B10: ='Base Veh DG'!B9 -> KICKS SENSE MT 1600CC R16 | D10: ='Base Veh DG'!$A$9 -> Línea | E10: ='Base Veh DG'!C9 -> AMAROK ANDINA T MT 2000CC 4X4 1 | G10: ='Base Veh DG'!$A$9 -> Línea | H10: ='Base Veh DG'!D9 -> GX [3] 460 PREMIUM TP 4600CC 4X4 1 | J10: ='Base Veh DG'!$A$9 -> Línea | K10: ='Base Veh DG'!E9 -> SPORTAGE [4] EMOTION MT 2000CC 2AB A | M10: ='Base Veh DG'!$A$9 -> Línea | N10: ='Base Veh DG'!F9 -> LX [3] 570 TP 5700CC 4X4
A11: ='Base Veh DG'!$A$10 -> Tipo de Vehículo | B11: ='Base Veh DG'!B10 -> Camionetas | D11: ='Base Veh DG'!$A$10 -> Tipo de Vehículo | E11: ='Base Veh DG'!C10 -> Camionetas | G11: ='Base Veh DG'!$A$10 -> Tipo de Vehículo | H11: ='Base Veh DG'!D10 -> Camionetas | J11: ='Base Veh DG'!$A$10 -> Tipo de Vehículo | K11: ='Base Veh DG'!E10 -> Camionetas | M11: ='Base Veh DG'!$A$10 -> Tipo de Vehículo | N11: ='Base Veh DG'!F10 -> Camionetas
A12: ='Base Veh DG'!$A$11 -> Color | B12: ='Base Veh DG'!B11 -> PLATA | D12: ='Base Veh DG'!$A$11 -> Color | E12: ='Base Veh DG'!C11 -> GRIS NATURAL METALIZADO | G12: ='Base Veh DG'!$A$11 -> Color | H12: ='Base Veh DG'!D11 -> NEGRO | J12: ='Base Veh DG'!$A$11 -> Color | K12: ='Base Veh DG'!E11 -> ROJO | M12: ='Base Veh DG'!$A$11 -> Color | N12: ='Base Veh DG'!F11 -> VINO TINTO
A13: ='Base Veh DG'!$A$12 -> Número de Pasajeros | B13: ='Base Veh DG'!B12 -> 5 | D13: ='Base Veh DG'!$A$12 -> Número de Pasajeros | E13: ='Base Veh DG'!C12 -> 5 | G13: ='Base Veh DG'!$A$12 -> Número de Pasajeros | H13: ='Base Veh DG'!D12 -> 7 | J13: ='Base Veh DG'!$A$12 -> Número de Pasajeros | K13: ='Base Veh DG'!E12 -> 5 | M13: ='Base Veh DG'!$A$12 -> Número de Pasajeros | N13: ='Base Veh DG'!F12 -> 7
A14: ='Base Veh DG'!$A$13 -> Fin Vigencia SOAT | B14: ='Base Veh DG'!B13 -> 45346 | D14: ='Base Veh DG'!$A$13 -> Fin Vigencia SOAT | E14: ='Base Veh DG'!C13 -> 45627 | G14: ='Base Veh DG'!$A$13 -> Fin Vigencia SOAT | H14: ='Base Veh DG'!D13 -> 45627 | J14: ='Base Veh DG'!$A$13 -> Fin Vigencia SOAT | K14: ='Base Veh DG'!E13 -> 45627 | M14: ='Base Veh DG'!$A$13 -> Fin Vigencia SOAT | N14: ='Base Veh DG'!H13 -> 45627
A15: ='Base Veh DG'!$A$14 -> Fin vigencia póliza Autos | B15: ='Base Veh DG'!B14 -> 45482 | D15: ='Base Veh DG'!$A$14 -> Fin vigencia póliza Autos | E15: ='Base Veh DG'!C14 -> 45482 | G15: ='Base Veh DG'!$A$14 -> Fin vigencia póliza Autos | H15: ='Base Veh DG'!D14 -> 45482 | J15: ='Base Veh DG'!$A$14 -> Fin vigencia póliza Autos | K15: ='Base Veh DG'!E14 -> 45482 | M15: ='Base Veh DG'!$A$14 -> Fin vigencia póliza Autos | N15: ='Base Veh DG'!H14 -> 45482
A16: ='Base Veh DG'!$A$15 -> Fin vigencia tecnicomecánica | B16: ='Base Veh DG'!B15 -> No aplica | D16: ='Base Veh DG'!$A$15 -> Fin vigencia tecnicomecánica | E16: ='Base Veh DG'!C15 -> 45432 | G16: ='Base Veh DG'!$A$15 -> Fin vigencia tecnicomecánica | H16: ='Base Veh DG'!D15 -> 45666 | J16: ='Base Veh DG'!$A$15 -> Fin vigencia tecnicomecánica | K16: ='Base Veh DG'!E15 -> No aplica | M16: ='Base Veh DG'!$A$15 -> Fin vigencia tecnicomecánica | N16: ='Base Veh DG'!H15 -> No aplica
A17: ='Base Veh DG'!$A$16 -> Kilometraje | B17: ='Base Veh DG'!B16 -> 34199 | D17: ='Base Veh DG'!$A$16 -> Kilometraje | E17: ='Base Veh DG'!C16 -> 0 | G17: ='Base Veh DG'!$A$16 -> Kilometraje | H17: ='Base Veh DG'!D16 -> 138617 | J17: ='Base Veh DG'!$A$16 -> Kilometraje | K17: ='Base Veh DG'!E16 -> 80915 | M17: ='Base Veh DG'!$A$16 -> Kilometraje | N17: ='Base Veh DG'!F16 -> 72624
A18: ='Base Veh DG'!$A$17 -> Estado Físico | B18: ='Base Veh DG'!B17 -> Buen estado | D18: ='Base Veh DG'!$A$17 -> Estado Físico | E18: ='Base Veh DG'!C17 -> Buen estado | G18: ='Base Veh DG'!$A$17 -> Estado Físico | H18: ='Base Veh DG'!D17 -> Buen estado | J18: ='Base Veh DG'!$A$17 -> Estado Físico | K18: ='Base Veh DG'!E17 -> Buen estado | M18: ='Base Veh DG'!$A$17 -> Estado Físico | N18: ='Base Veh DG'!F17 -> Buen estado
A19: ='Base Veh DG'!$A$18 -> Estádo mecánico | B19: ='Base Veh DG'!B18 -> Buen estado | D19: ='Base Veh DG'!$A$18 -> Estádo mecánico | E19: ='Base Veh DG'!C18 -> Fuera de servicio por realentamiento de motor | G19: ='Base Veh DG'!$A$18 -> Estádo mecánico | H19: ='Base Veh DG'!D18 -> Fallas en suspención | J19: ='Base Veh DG'!$A$18 -> Estádo mecánico | K19: ='Base Veh DG'!E18 -> Buen estado, pendiente cambio de bombillo farola derecha delantera | M19: ='Base Veh DG'!$A$18 -> Estádo mecánico | N19: ='Base Veh DG'!F18 -> Tapizado deteriorado
A20: ='Base Veh DG'!$A$19 -> Accesorios | B20: ='Base Veh DG'!B19 -> Radio en funcionamiento; conector enchufe eléctrico en funcionamiento; aire acondicionado en funcionamiento; no tiene conector usb | D20: ='Base Veh DG'!$A$19 -> Accesorios | E20: ='Base Veh DG'!C19 -> Radio en funcionamiento; conector enchufe eléctrico en funcionamiento; aire acondicionado en funcionamiento; no tiene conector usb | G20: ='Base Veh DG'!$A$19 -> Accesorios | H20: ='Base Veh DG'!D19 -> No funciona el rádio; conector enchufe eléctrico en funcionamiento; aire acondicionado en funcionamiento; no tiene conector usb | J20: ='Base Veh DG'!$A$19 -> Accesorios | K20: ='Base Veh DG'!E19 -> Radio en funcionamiento; conector enchufe eléctrico en funcionamiento; aire acondicionado en funcionamiento; no tiene conector usb | M20: ='Base Veh DG'!$A$19 -> Accesorios | N20: ='Base Veh DG'!F19 -> Radio en funcionamiento; conector enchufe eléctrico en funcionamiento; aire acondicionado en funcionamiento; no tiene conector usb
A23: ='Base Veh DG'!G6 -> DG DE ANALITICA Y ESTRATEGICA | D23: ='Base Veh DG'!H6 -> DEFENSORIA DEL CONTRIBUYENTE | G23: ='Base Veh DG'!I6 -> DG DE FISCALIZACION | J23: ='Base Veh DG'!J6 -> DG DE ADUANAS | M23: ='Base Veh DG'!K6 -> GRANDES CONTRIBUYENTES
A24: ='Base Veh DG'!$A$4 -> Placa | B24: ='Base Veh DG'!G4 -> OJX269 | D24: ='Base Veh DG'!$A$4 -> Placa | E24: ='Base Veh DG'!H4 -> OLM855 | G24: ='Base Veh DG'!$A$4 -> Placa | H24: ='Base Veh DG'!I4 -> OJX703 | J24: ='Base Veh DG'!$A$4 -> Placa | K24: ='Base Veh DG'!J4 -> OJX721 | M24: ='Base Veh DG'!$A$4 -> Placa | N24: ='Base Veh DG'!K4 -> OJX719
A25: ='Base Veh DG'!$A$7 -> Modelo | B25: ='Base Veh DG'!G7 -> 2006 | D25: ='Base Veh DG'!$A$7 -> Modelo | E25: ='Base Veh DG'!H7 -> 2010 | G25: ='Base Veh DG'!$A$7 -> Modelo | H25: ='Base Veh DG'!I7 -> 2015 | J25: ='Base Veh DG'!$A$7 -> Modelo | K25: ='Base Veh DG'!J7 -> 2015 | M25: ='Base Veh DG'!$A$7 -> Modelo | N25: ='Base Veh DG'!K7 -> 2015
A26: ='Base Veh DG'!$A$8 -> Marca | B26: ='Base Veh DG'!G8 -> TOYOTA | D26: ='Base Veh DG'!$A$8 -> Marca | E26: ='Base Veh DG'!H8 -> CHEVROLET | G26: ='Base Veh DG'!$A$8 -> Marca | H26: ='Base Veh DG'!I8 -> VOLKSWAGEN | J26: ='Base Veh DG'!$A$8 -> Marca | K26: ='Base Veh DG'!J8 -> VOLKSWAGEN | M26: ='Base Veh DG'!$A$8 -> Marca | N26: ='Base Veh DG'!K8 -> VOLKSWAGEN
A27: ='Base Veh DG'!$A$9 -> Línea | B27: ='Base Veh DG'!G9 -> TACOMA [2] [FL] SR5 AT 4000CC 4X4 | D27: ='Base Veh DG'!$A$9 -> Línea | E27: ='Base Veh DG'!H9 -> GRAND VITARA 2.0 L MT 2000CC 5P 4X | G27: ='Base Veh DG'!$A$9 -> Línea | H27: ='Base Veh DG'!I9 -> AMAROK ANDINA T MT 2000CC 4X4 1 | J27: ='Base Veh DG'!$A$9 -> Línea | K27: ='Base Veh DG'!J9 -> AMAROK ANDINA T MT 2000CC 4X4 1 | M27: ='Base Veh DG'!$A$9 -> Línea | N27: ='Base Veh DG'!K9 -> AMAROK ANDINA T MT 2000CC 4X4 1
A28: ='Base Veh DG'!$A$10 -> Tipo de Vehículo | B28: ='Base Veh DG'!G10 -> Camionetas | D28: ='Base Veh DG'!$A$10 -> Tipo de Vehículo | E28: ='Base Veh DG'!H10 -> Camperos | G28: ='Base Veh DG'!$A$10 -> Tipo de Vehículo | H28: ='Base Veh DG'!I10 -> Camionetas | J28: ='Base Veh DG'!$A$10 -> Tipo de Vehículo | K28: ='Base Veh DG'!J10 -> Camionetas | M28: ='Base Veh DG'!$A$10 -> Tipo de Vehículo | N28: ='Base Veh DG'!K10 -> Camionetas
A29: ='Base Veh DG'!$A$11 -> Color | B29: ='Base Veh DG'!G11 -> PLATA | D29: ='Base Veh DG'!$A$11 -> Color | E29: ='Base Veh DG'!H11 -> VINO | G29: ='Base Veh DG'!$A$11 -> Color | H29: ='Base Veh DG'!I11 -> PLATA METALIZADO | J29: ='Base Veh DG'!$A$11 -> Color | K29: ='Base Veh DG'!J11 -> GRIS NATURAL METALIZADO | M29: ='Base Veh DG'!$A$11 -> Color | N29: ='Base Veh DG'!K11 -> VERDE ONTARIO
A30: ='Base Veh DG'!$A$12 -> Número de Pasajeros | B30: ='Base Veh DG'!G12 -> 5 | D30: ='Base Veh DG'!$A$12 -> Número de Pasajeros | E30: ='Base Veh DG'!H12 -> 5 | G30: ='Base Veh DG'!$A$12 -> Número de Pasajeros | H30: ='Base Veh DG'!I12 -> 5 | J30: ='Base Veh DG'!$A$12 -> Número de Pasajeros | K30: ='Base Veh DG'!J12 -> 5 | M30: ='Base Veh DG'!$A$12 -> Número de Pasajeros | N30: ='Base Veh DG'!K12 -> 5
A31: ='Base Veh DG'!$A$13 -> Fin Vigencia SOAT | B31: ='Base Veh DG'!G13 -> 45627 | D31: ='Base Veh DG'!$A$13 -> Fin Vigencia SOAT | E31: ='Base Veh DG'!H13 -> 45627 | G31: ='Base Veh DG'!$A$13 -> Fin Vigencia SOAT | H31: ='Base Veh DG'!I13 -> 45627 | J31: ='Base Veh DG'!$A$13 -> Fin Vigencia SOAT | K31: ='Base Veh DG'!J13 -> 45627 | M31: ='Base Veh DG'!$A$13 -> Fin Vigencia SOAT | N31: ='Base Veh DG'!K13 -> 45627
A32: ='Base Veh DG'!$A$14 -> Fin vigencia póliza Autos | B32: ='Base Veh DG'!G14 -> 45482 | D32: ='Base Veh DG'!$A$14 -> Fin vigencia póliza Autos | E32: ='Base Veh DG'!H14 -> 45482 | G32: ='Base Veh DG'!$A$14 -> Fin vigencia póliza Autos | H32: ='Base Veh DG'!I14 -> 45482 | J32: ='Base Veh DG'!$A$14 -> Fin vigencia póliza Autos | K32: ='Base Veh DG'!J14 -> 45482 | M32: ='Base Veh DG'!$A$14 -> Fin vigencia póliza Autos | N32: ='Base Veh DG'!K14 -> 45482
A33: ='Base Veh DG'!$A$15 -> Fin vigencia tecnicomecánica | B33: ='Base Veh DG'!G15 -> 45582 | D33: ='Base Veh DG'!$A$15 -> Fin vigencia tecnicomecánica | E33: ='Base Veh DG'!H15 -> No aplica | G33: ='Base Veh DG'!$A$15 -> Fin vigencia tecnicomecánica | H33: ='Base Veh DG'!I15 -> 45640 | J33: ='Base Veh DG'!$A$15 -> Fin vigencia tecnicomecánica | K33: ='Base Veh DG'!J15 -> 45639 | M33: ='Base Veh DG'!$A$15 -> Fin vigencia tecnicomecánica | N33: ='Base Veh DG'!K15 -> 45644
A34: ='Base Veh DG'!$A$16 -> Kilometraje | B34: ='Base Veh DG'!G16 -> 148103 | D34: ='Base Veh DG'!$A$16 -> Kilometraje | E34: ='Base Veh DG'!H16 -> 80005 | G34: ='Base Veh DG'!$A$16 -> Kilometraje | H34: ='Base Veh DG'!I16 -> 80265 | J34: ='Base Veh DG'!$A$16 -> Kilometraje | K34: ='Base Veh DG'!J16 -> 91771 | M34: ='Base Veh DG'!$A$16 -> Kilometraje | N34: ='Base Veh DG'!K16 -> 104607
A35: ='Base Veh DG'!$A$17 -> Estado Físico | B35: ='Base Veh DG'!G17 -> Buen estado. Rayones en carrocería | D35: ='Base Veh DG'!$A$17 -> Estado Físico | E35: ='Base Veh DG'!H17 -> Buen estado | G35: ='Base Veh DG'!$A$17 -> Estado Físico | H35: ='Base Veh DG'!I17 -> Buen estado | J35: ='Base Veh DG'!$A$17 -> Estado Físico | K35: ='Base Veh DG'!J17 -> Buen estado | M35: ='Base Veh DG'!$A$17 -> Estado Físico | N35: ='Base Veh DG'!K17 -> Buen estado
A36: ='Base Veh DG'!$A$18 -> Estádo mecánico | B36: ='Base Veh DG'!G18 -> Fallas en suspención Abolladura en costado derecho trasero | D36: ='Base Veh DG'!$A$18 -> Estádo mecánico | E36: ='Base Veh DG'!H18 -> Vehículo con más de 13 años de servicio | G36: ='Base Veh DG'!$A$18 -> Estádo mecánico | H36: ='Base Veh DG'!I18 -> Tapizado deteriorado | J36: ='Base Veh DG'!$A$18 -> Estádo mecánico | K36: ='Base Veh DG'!J18 -> Buen estado; revisión preventiva del sistema de frenos | M36: ='Base Veh DG'!$A$18 -> Estádo mecánico | N36: ='Base Veh DG'!K18 -> Tapizado con deterioro
A37: ='Base Veh DG'!$A$19 -> Accesorios | B37: ='Base Veh DG'!G19 -> Radio en funcionamiento; conector enchufe eléctrico en funcionamiento; aire acondicionado en funcionamiento; no tiene conector usb | D37: ='Base Veh DG'!$A$19 -> Accesorios | E37: ='Base Veh DG'!H19 -> Radio en funcionamiento; conector enchufe eléctrico en funcionamiento; aire acondicionado en funcionamiento; no tiene conector usb | G37: ='Base Veh DG'!$A$19 -> Accesorios | H37: ='Base Veh DG'!I19 -> Radio en funcionamiento; conector enchufe eléctrico en funcionamiento; aire acondicionado en funcionamiento; no tiene conector usb | J37: ='Base Veh DG'!$A$19 -> Accesorios | K37: ='Base Veh DG'!J19 -> Radio en funcionamiento; conector enchufe eléctrico en funcionamiento; aire acondicionado en funcionamiento; no tiene conector usb | M37: ='Base Veh DG'!$A$19 -> Accesorios | N37: ='Base Veh DG'!K19 -> Radio en funcionamiento; conector enchufe eléctrico en funcionamiento; aire acondicionado en funcionamiento
