Workbook

Sheet  ESPECIFICACIONES TECNICAS
A1: ESPECIFICACIONES TECNICAS
A2: LA PRESTACIÓN DEL SERVICIO DE MANTENIMIENTO PREVENTIVO Y CORRECTIVO INCLUIDOS REPUESTOS PARA LOS DIFERENTES EQUIPOS BIOMÉDICOS DEL HOSPITAL CENTRAL DE LA POLICÍA NACIONAL
A3: ITEM | B3: EQUIPO | C3: ACTIVIDADES DE MANTENIMIENTO PREVENTIVO | D3: CANTIDAD DE EQUIPOS | E3: UNIDAD DE MEDIDA | F3: MES / VISITA
A4: 1 | B4: MANTENIMIENTO PREVENTIVO BASCULA CON TALLIMETRO DE LA MARCA HEALTH O METER | C4: Revisión Estado General del Equipo | D4: 15 | E4: VISITA | F4: Segundo semestre del 2026
C5: Verificación de Partes limpieza de soporte, Escala y Resortes
C6: Lubricación de partes mecánicas
C7: Verificación con pesas de prueba de 10kg, 20kg, 50kg, 100kg,120kg,180kg,
C8: Ajuste medida cero
C9: Inspección de medidas
C10: Limpieza externa general
C11: Realizar pruebas de funcionamiento
A12: 2 | B12: MANTENIMIENTO PREVENTIVO BASCULA CON TALLIMETRO DE LA MARCA NUEVO LEON | C12: Revisión Estado General del Equipo | D12: 10 | E12: VISITA
C13: Verificación de Partes limpieza de soporte, Escala y Resortes
C14: Lubricación de partes mecánicas
C15: Verificación con pesas de prueba de 10kg, 20kg, 50kg, 100kg,120kg,180kg,
C16: Ajuste medida cero
C17: Inspección de medidas
C18: Limpieza externa general
C19: Realizar pruebas de funcionamiento
A20: 3 | B20: MANTENIMIENTO PREVENTIVO BASCULA CON TALLIMETRO DE LA MARCA DETECTO | C20: Revisión Estado General del Equipo | D20: 9 | E20: VISITA
C21: Verificación de Partes limpieza de soporte, Escala y Resortes
C22: Lubricación de partes mecánicas
C23: Verificación con pesas de prueba de 10kg, 20kg, 50kg, 100kg,120kg,180kg,
C24: Ajuste medida cero
C25: Inspección de medidas
C26: Limpieza externa general
C27: Realizar pruebas de funcionamiento
A28: 4 | B28: MANTENIMIENTO PREVENTIVO BALANZA PESA BEBE MACA SECA DIGITAL | C28: Limpieza general. | D28: 2 | E28: VISITA
C29: Verificación de pantalla
C30: Verificación de plataforma
C31: Verificación de cargador
C32: Verificación de colchoneta
C33: Verificación con masas patrón
C34: Verificación de baterías. Pruebas de funcionamiento.
A35: 5 | B35: MANTENIMIENTO PREVENTIVO DESFIBRILADOR MARCA MINDRAY | C35: Limpieza interna del equipo. | D35: 3 | E35: VISITA
C36: Verificaciones y pruebas de funcionamiento
C37: Verificación de encendido normal (Chequeo leds o alarmas audibles característicos)
C38: Transferencia de datos-interface equipo medico pc
C39: Toma de mediciones
C40: Adquisición de señales ECG con Equipo Patrón
...

Sheet 5.2._x0009_PRECIOS HISTÓRICOS  ok
A1: GRUPO 1 - 5.2 PRECIO HISTORICO
A2: ITEM | B2: ENTIDAD CONTRATANTE Y CONTRATISTA | C2: EQUIPO / DESCRIPCION ACTIVIDAD DE MANTENIMIENTO CORRECTIVO HOJA 2023 | D2: Unidad | E2: PRECIO HISTORICO CONTRATO 2023 | F2: 9,28 2023 | G2: 5,2 2024 | H2: 5,1 2025 | I2: PRECIO HISTORICO CONTRATO + IPC 2023 (9.28%) + IPC 2024 (5,20%) + IPC 2025 (5,10%) | J2: VALOR CONTRATO 2024 MTTO | K2: 5.2 | L2: PRECIO HISTORICO VALOR UNITARIO PROYECTADO CON IPC 2024 (5,20%) + IPC 2025 (5,10%) | M2: PRECIO HISTORICO VALOR UNITARIO (IVA INCLUIDO) | N2: VALOR CONTRATO 2025 MTTO | O2: PRECIO HISTORICO VALOR UNITARIO PROYECTADO CON IPC 2025 (5.1%) (IVA INCLUIDO) | P2: PRECIO HISTORICO VALOR UNITARIO (IVA INCLUIDO)
A3: 1 | B3: HOCEN-INBIOMECS SAS | C3: MANTENIMIENTO PREVENTIVO BASCULA CON TALLIMETRO DE LA MARCA HEALTH O METER | D3: HOCEN | E3: 100632 | F3: =+E3*9.28%+E3 -> 109970.65 | G3: =+F3*5.2%+F3 -> 115689.12 | H3: =+G3*5.1%+G3 -> 121589.27 | I3: =+H3 -> 121589.27 | J3: 73051 | K3: =+J3*5.2%+J3 -> 76849.652 | L3: =+K3*5.1%+K3 -> 80768.984 | M3: =+L3 -> 80768.984 | N3: NO SE CONTRATO | O3: NO SE CONTRATO | P3: =+M3 -> 80768.984
A4: 2 | B4: HOCEN-INBIOMECS SAS | C4: MANTENIMIENTO PREVENTIVO BASCULA CON TALLIMETRO DE LA MARCA NUEVO LEON | D4: HOCEN | E4: 100632 | F4: =+E4*9.28%+E4 -> 109970.65 | G4: =+F4*5.2%+F4 -> 115689.12 | H4: =+G4*5.1%+G4 -> 121589.27 | I4: =+H4 -> 121589.27 | J4: 73051 | K4: =+J4*5.2%+J4 -> 76849.652 | L4: =+K4*5.1%+K4 -> 80768.984 | M4: =+L4 -> 80768.984 | N4: NO SE CONTRATO | O4: NO SE CONTRATO | P4: =+M4 -> 80768.984
A5: 3 | B5: HOCEN-INBIOMECS SAS | C5: MANTENIMIENTO PREVENTIVO BASCULA CON TALLIMETRO DE LA MARCA DETECTO | D5: HOCEN | E5: 100632 | F5: =+E5*9.28%+E5 -> 109970.65 | G5: =+F5*5.2%+F5 -> 115689.12 | H5: =+G5*5.1%+G5 -> 121589.27 | I5: =+H5 -> 121589.27 | J5: 73051 | K5: =+J5*5.2%+J5 -> 76849.652 | L5: =+K5*5.1%+K5 -> 80768.984 | M5: =+L5 -> 80768.984 | N5: NO SE CONTRATO | O5: NO SE CONTRATO | P5: =+M5 -> 80768.984
A6: 4 | B6: HOCEN-INBIOMECS SAS | C6: MANTENIMIENTO PREVENTIVO BALANZA PESA BEBE MACA SECA DIGITAL | D6: HOCEN | E6: 93000 | F6: =+E6*9.28%+E6 -> 101630.4 | G6: =+F6*5.2%+F6 -> 106915.18 | H6: =+G6*5.1%+G6 -> 112367.86 | I6: =+H6 -> 112367.86 | J6: 60826 | K6: =+J6*5.2%+J6 -> 63988.952 | L6: =+K6*5.1%+K6 -> 67252.389 | M6: =+L6 -> 67252.389 | N6: NO SE CONTRATO | O6: NO SE CONTRATO | P6: =+M6 -> 67252.389
A7: 5 | B7: HOCEN-INBIOMECS SAS | C7: MANTENIMIENTO PREVENTIVO DESFIBRILADOR MARCA MINDRAY | D7: HOCEN | E7: 214553 | F7: =+E7*9.28%+E7 -> 234463.52 | G7: =+F7*5.2%+F7 -> 246655.62 | H7: =+G7*5.1%+G7 -> 259235.06 | I7: =+H7 -> 259235.06 | J7: 156164 | K7: =+J7*5.2%+J7 -> 164284.53 | L7: =+K7*5.1%+K7 -> 172663.04 | M7: =+L7 -> 172663.04 | N7: NO SE CONTRATO | O7: NO SE CONTRATO | P7: =+M7 -> 172663.04
A8: 6 | B8: HOCEN-INBIOMECS SAS | C8: MANTENIMIENTO PREVENTIVO DESFIBRILADOR MARCA GENERAL ELECTRIC | D8: HOCEN | E8: 214553 | F8: =+E8*9.28%+E8 -> 234463.52 | G8: =+F8*5.2%+F8 -> 246655.62 | H8: =+G8*5.1%+G8 -> 259235.06 | I8: =+H8 -> 259235.06 | J8: 156164 | K8: =+J8*5.2%+J8 -> 164284.53 | L8: =+K8*5.1%+K8 -> 172663.04 | M8: =+L8 -> 172663.04 | N8: NO SE CONTRATO | O8: NO SE CONTRATO | P8: =+M8 -> 172663.04
A9: 7 | B9: HOCEN-INBIOMECS SAS | C9: MANTENIMIENTO PREVENTIVO DESFIBRILADOR DEA SAMARITAN | D9: HOCEN | E9: 257211 | F9: =+E9*9.28%+E9 -> 281080.18 | G9: =+F9*5.2%+F9 -> 295696.35 | H9: =+G9*5.1%+G9 -> 310776.86 | I9: =+H9 -> 310776.86 | J9: 187010 | K9: =+J9*5.2%+J9 -> 196734.52 | L9: =+K9*5.1%+K9 -> 206767.98 | M9: =+L9 -> 206767.98 | N9: NO SE CONTRATO | O9: NO SE CONTRATO | P9: =+M9 -> 206767.98
A10: 8 | B10: HOCEN-INBIOMECS SAS | C10: MANTENIMIENTO PREVENTIVO DOPPLER FETAL MARCA HUNTLEIGH | D10: HOCEN | E10: 125651.47 | F10: =+E10*9.28%+E10 -> 137311.93 | G10: =+F10*5.2%+F10 -> 144452.15 | H10: =+G10*5.1%+G10 -> 151819.21 | I10: =+H10 -> 151819.21 | J10: 91291 | K10: =+J10*5.2%+J10 -> 96038.132 | L10: =+K10*5.1%+K10 -> 100936.08 | M10: =+L10 -> 100936.08 | N10: NO SE CONTRATO | O10: NO SE CONTRATO | P10: =+M10 -> 100936.08
A11: 9 | B11: HOCEN-INBIOMECS SAS | C11: MANTENIMIENTO PREVENTIVO ECOGRAFO ALOKA | D11: HOCEN | E11: 640000 | F11: =+E11*9.28%+E11 -> 699392 | G11: =+F11*5.2%+F11 -> 735760.38 | H11: =+G11*5.1%+G11 -> 773284.16 | I11: =+H11 -> 773284.16 | J11: 418586 | K11: =+J11*5.2%+J11 -> 440352.47 | L11: =+K11*5.1%+K11 -> 462810.45 | M11: =+L11 -> 462810.45 | N11: NO SE CONTRATO | O11: NO SE CONTRATO | P11: =+M11 -> 462810.45
A12: 10 | B12: HOCEN-INBIOMECS SAS | C12: MANTENIMIENTO PREVENTIVO ECOGRAFO MARCA PHILIPS | D12: HOCEN | E12: 11305000 | F12: =+E12*9.28%+E12 -> 12354104 | G12: =+F12*5.2%+F12 -> 12996517 | H12: =+G12*5.1%+G12 -> 13659340 | I12: =+H12 -> 13659340 | J12: 1038695 | K12: =+J12*5.2%+J12 -> 1092707.1 | L12: =+K12*5.1%+K12 -> 1148435.2 | M12: =+L12 -> 1148435.2 | N12: NO SE CONTRATO | O12: NO SE CONTRATO | P12: =+M12 -> 1148435.2
A13: 11 | B13: HOCEN-INBIOMECS SAS | C13: MANTENIMIENTO PREVENTIVO DE ECOGRAFO HITACHI | D13: HOCEN | E13: 700000 | F13: =+E13*9.28%+E13 -> 764960 | G13: =+F13*5.2%+F13 -> 804737.92 | H13: =+G13*5.1%+G13 -> 845779.55 | I13: =+H13 -> 845779.55 | J13: 457829 | K13: =+J13*5.2%+J13 -> 481636.11 | L13: =+K13*5.1%+K13 -> 506199.55 | M13: =+L13 -> 506199.55 | N13: NO SE CONTRATO | O13: NO SE CONTRATO | P13: =+M13 -> 506199.55
A14: 12 | B14: HOCEN-INBIOMECS SAS | C14: MANTENIMIENTO PREVENTIVO ELECTROCARDIOGRAFO MARCA TRISMED | D14: HOCEN | E14: 219963 | F14: =+E14*9.28%+E14 -> 240375.57 | G14: =+F14*5.2%+F14 -> 252875.1 | H14: =+G14*5.1%+G14 -> 265771.73 | I14: =+H14 -> 265771.73 | J14: 143865 | K14: =+J14*5.2%+J14 -> 151345.98 | L14: =+K14*5.1%+K14 -> 159064.62 | M14: =+L14 -> 159064.62 | N14: NO SE CONTRATO | O14: NO SE CONTRATO | P14: =+M14 -> 159064.62
... A52: 50 | B52: HOCEN-INBIOMECS SAS | C52: MANTENIMIENTO DE TENSIOMETRO PRESTIGE | D52: HOCEN | E52: 85000 | F52: =+E52*9.28%+E52 -> 92888 | G52: =+F52*5.2%+F52 -> 97718.176 | H52: =+G52*5.1%+G52 -> 102701.8 | I52: =+H52 -> 102701.8 | J52: 55593 | K52: =+J52*5.2%+J52 -> 58483.836 | L52: =+K52*5.1%+K52 -> 61466.512 | M52: =+L52 -> 61466.512 | N52: NO SE CONTRATO | O52: NO SE CONTRATO | P52: =+M52 -> 61466.512
A53: 51 | B53: HOCEN-INBIOMECS SAS | C53: MANTENIMIENTO PREVENTIVO TENSIOMETRO DE TRANSPORTE MARCA RIESTER | D53: HOCEN | E53: NO SE CONTRATO | F53: =+E53*9.28%+E53 -> #VALUE! | G53: =+F53*5.2%+F53 -> #VALUE! | H53: =+G53*5.1%+G53 -> #VALUE! | I53: NO SE CONTRATO | J53: 80087 | K53: =+J53*5.2%+J53 -> 84251.524 | L53: =+K53*5.1%+K53 -> 88548.352 | M53: =+L53 -> 88548.352 | N53: NO SE CONTRATO | O53: NO SE CONTRATO | P53: =+M53 -> 88548.352
A54: 52 | B54: HOCEN-INBIOMECS SAS | C54: MANTENIMIENTO PREVENTIVO DE TENSIOMETRO DE PARED MARCA BOKANG | D54: HOCEN | E54: 91000 | F54: =+E54*9.28%+E54 -> 99444.8 | G54: =+F54*5.2%+F54 -> 104615.93 | H54: =+G54*5.1%+G54 -> 109951.34 | I54: =+H54 -> 109951.34 | J54: 59518 | K54: =+J54*5.2%+J54 -> 62612.936 | L54: =+K54*5.1%+K54 -> 65806.196 | M54: =+L54 -> 65806.196 | N54: NO SE CONTRATO | O54: NO SE CONTRATO | P54: =+M54 -> 65806.196
A55: 53 | B55: HOCEN-INBIOMECS SAS | C55: TENSIOMETRO DE ESTUCHE DE LAS MARCAS (WELCHALLYN, GMD, ALPK2, TYCOS, SPHYGNOMANOMETER) | D55: HOCEN | E55: 91000 | F55: =+E55*9.28%+E55 -> 99444.8 | G55: =+F55*5.2%+F55 -> 104615.93 | H55: =+G55*5.1%+G55 -> 109951.34 | I55: =+H55 -> 109951.34 | J55: 59518 | K55: =+J55*5.2%+J55 -> 62612.936 | L55: =+K55*5.1%+K55 -> 65806.196 | M55: =+L55 -> 65806.196 | N55: NO SE CONTRATO | O55: NO SE CONTRATO | P55: =+M55 -> 65806.196
A56: 54 | B56: HOCEN-INBIOMECS SAS | C56: MANTENIMIENTO PREVENTIVO VENTILADOR MARCA ACUTRONIC | D56: HOCEN | E56: 388000 | F56: =+E56*9.28%+E56 -> 424006.4 | G56: =+F56*5.2%+F56 -> 446054.73 | H56: =+G56*5.1%+G56 -> 468803.52 | I56: =+H56 -> 468803.52 | J56: 253768 | K56: =+J56*5.2%+J56 -> 266963.94 | L56: =+K56*5.1%+K56 -> 280579.1 | M56: =+L56 -> 280579.1 | N56: NO SE CONTRATO | O56: NO SE CONTRATO | P56: =+M56 -> 280579.1
A57: 55 | B57: HOCEN-INBIOMECS SAS | C57: MANTENIMIENTO PREVENTIVO CAMA MARCA MERIVARA | D57: HOCEN | E57: 215024 | F57: =+E57*9.28%+E57 -> 234978.23 | G57: =+F57*5.2%+F57 -> 247197.1 | H57: =+G57*5.1%+G57 -> 259804.15 | I57: =+H57 -> 259804.15 | J57: 140634 | K57: =+J57*5.2%+J57 -> 147946.97 | L57: =+K57*5.1%+K57 -> 155492.26 | M57: =+L57 -> 155492.26 | N57: NO SE CONTRATO | O57: NO SE CONTRATO | P57: =+M57 -> 155492.26
A58: 56 | B58: HOCEN-INBIOMECS SAS | C58: MANTENIMIENTO PREVENTIVO CAMA HOSPITALARIA MARCA HILL ROM | D58: HOCEN | E58: 246422 | F58: =+E58*9.28%+E58 -> 269289.96 | G58: =+F58*5.2%+F58 -> 283293.04 | H58: =+G58*5.1%+G58 -> 297740.98 | I58: =+H58 -> 297740.98 | J58: 161170 | K58: =+J58*5.2%+J58 -> 169550.84 | L58: =+K58*5.1%+K58 -> 178197.93 | M58: =+L58 -> 178197.93 | N58: NO SE CONTRATO | O58: NO SE CONTRATO | P58: =+M58 -> 178197.93
A59: 57 | B59: HOCEN-INBIOMECS SAS | C59: MANTENIMIENTO PREVENTIVO CAMA CUNA, MESA DE PROCEDIMIENTOS MARCA MIDMARK | D59: HOCEN | E59: 254681 | F59: =+E59*9.28%+E59 -> 278315.4 | G59: =+F59*5.2%+F59 -> 292787.8 | H59: =+G59*5.1%+G59 -> 307719.98 | I59: =+H59 -> 307719.98 | J59: 166572 | K59: =+J59*5.2%+J59 -> 175233.74 | L59: =+K59*5.1%+K59 -> 184170.66 | M59: =+L59 -> 184170.66 | N59: NO SE CONTRATO | O59: NO SE CONTRATO | P59: =+M59 -> 184170.66
A60: 58 | B60: HOCEN-INBIOMECS SAS | C60: MANTENIMIENTO PREVENTIVO CUNAS PEDIATRICAS MARCA DOMETAL | D60: HOCEN | E60: 227283 | F60: =+E60*9.28%+E60 -> 248374.86 | G60: =+F60*5.2%+F60 -> 261290.36 | H60: =+G60*5.1%+G60 -> 274616.16 | I60: =+H60 -> 274616.16 | J60: 148652 | K60: =+J60*5.2%+J60 -> 156381.9 | L60: =+K60*5.1%+K60 -> 164357.38 | M60: =+L60 -> 164357.38 | N60: NO SE CONTRATO | O60: NO SE CONTRATO | P60: =+M60 -> 164357.38
A61: 59 | B61: HOCEN-INBIOMECS SAS | C61: MANTENIMIENTO PREVENTIVO CAMILLAS DE LA MARCA STERIS | D61: HOCEN | E61: NO SE CONTRATO | F61: =+E61*9.28%+E61 -> #VALUE! | G61: =+F61*5.2%+F61 -> #VALUE! | H61: =+G61*5.1%+G61 -> #VALUE! | I61: NO SE CONTRATO | J61: 205286 | K61: =+J61*5.2%+J61 -> 215960.87 | L61: =+K61*5.1%+K61 -> 226974.88 | M61: =+L61 -> 226974.88 | N61: NO SE CONTRATO | O61: NO SE CONTRATO | P61: =+M61 -> 226974.88
A62: 60 | B62: HOCEN-INBIOMECS SAS | C62: MANTENIMIENTO PREVENTIVO CAMILLAS DE LA MARCA ARJOHUNTLEIHGT | D62: HOCEN | E62: 240000 | F62: =+E62*9.28%+E62 -> 262272 | G62: =+F62*5.2%+F62 -> 275910.14 | H62: =+G62*5.1%+G62 -> 289981.56 | I62: =+H62 -> 289981.56 | J62: 156970 | K62: =+J62*5.2%+J62 -> 165132.44 | L62: =+K62*5.1%+K62 -> 173554.19 | M62: =+L62 -> 173554.19 | N62: NO SE CONTRATO | O62: NO SE CONTRATO | P62: =+M62 -> 173554.19
A63: 61 | B63: HOCEN-INBIOMECS SAS | C63: MANTENIMIENTO PREVENTIVO ELECTROBISTURI MARCA MARTIN, BOVIE | D63: HOCEN | E63: 214436 | F63: =+E63*9.28%+E63 -> 234335.66 | G63: =+F63*5.2%+F63 -> 246521.12 | H63: =+G63*5.1%+G63 -> 259093.69 | I63: =+H63 -> 259093.69 | J63: 140250 | K63: =+J63*5.2%+J63 -> 147543 | L63: =+K63*5.1%+K63 -> 155067.69 | M63: =+L63 -> 155067.69 | N63: NO SE CONTRATO | O63: NO SE CONTRATO | P63: =+M63 -> 155067.69
A64: 62 | B64: HOCEN-INBIOMECS SAS | C64: MANTENIMIENTO PREVENTIVO ELECTROBISTURI MARCA ERBE | D64: HOCEN | E64: 220316 | F64: =+E64*9.28%+E64 -> 240761.32 | G64: =+F64*5.2%+F64 -> 253280.91 | H64: =+G64*5.1%+G64 -> 266198.24 | I64: =+H64 -> 266198.24 | J64: 144096 | K64: =+J64*5.2%+J64 -> 151588.99 | L64: =+K64*5.1%+K64 -> 159320.03 | M64: =+L64 -> 159320.03 | N64: NO SE CONTRATO | O64: NO SE CONTRATO | P64: =+M64 -> 159320.03
A65: 63 | B65: HOCEN-INBIOMECS SAS | C65: MANTENIMIENTO PREVENTIVO ELECTROBISTURI MARCA AESCULAB | D65: HOCEN | E65: 220315 | F65: =+E65*9.28%+E65 -> 240760.23 | G65: =+F65*5.2%+F65 -> 253279.76 | H65: =+G65*5.1%+G65 -> 266197.03 | I65: =+H65 -> 266197.03 | J65: 144095 | K65: =+J65*5.2%+J65 -> 151587.94 | L65: =+K65*5.1%+K65 -> 159318.92 | M65: =+L65 -> 159318.92 | N65: NO SE CONTRATO | O65: NO SE CONTRATO | P65: =+M65 -> 159318.92
A66: 64 | B66: HOCEN-INBIOMECS SAS | C66: MANTENIMIENTO PREVENTIVO ELECTROBISTURI MARCA ALSA | D66: HOCEN | E66: 214436 | F66: =+E66*9.28%+E66 -> 234335.66 | G66: =+F66*5.2%+F66 -> 246521.12 | H66: =+G66*5.1%+G66 -> 259093.69 | I66: =+H66 -> 259093.69 | J66: 140250 | K66: =+J66*5.2%+J66 -> 147543 | L66: =+K66*5.1%+K66 -> 155067.69 | M66: =+L66 -> 155067.69 | N66: NO SE CONTRATO | O66: NO SE CONTRATO | P66: =+M66 -> 155067.69
A67: 65 | B67: HOCEN-INBIOMECS SAS | C67: MANTENIMIENTO PREVENTIVO RADIOFRECUENCIA MARCA LOKTAL MEDICAL ELECTRONICS | D67: HOCEN | E67: 310000 | F67: =+E67*9.28%+E67 -> 338768 | G67: =+F67*5.2%+F67 -> 356383.94 | H67: =+G67*5.1%+G67 -> 374559.52 | I67: =+H67 -> 374559.52 | J67: 202753 | K67: =+J67*5.2%+J67 -> 213296.16 | L67: =+K67*5.1%+K67 -> 224174.26 | M67: =+L67 -> 224174.26 | N67: NO SE CONTRATO | O67: NO SE CONTRATO | P67: =+M67 -> 224174.26
A68: 66 | B68: HOCEN-INBIOMECS SAS | C68: MANTENIMIENTO PREVENTIVO LÁMPARA CIELITICA MARCA ILUMITEC | D68: HOCEN | E68: 240000 | F68: =+E68*9.28%+E68 -> 262272 | G68: =+F68*5.2%+F68 -> 275910.14 | H68: =+G68*5.1%+G68 -> 289981.56 | I68: =+H68 -> 289981.56 | J68: 156970 | K68: =+J68*5.2%+J68 -> 165132.44 | L68: =+K68*5.1%+K68 -> 173554.19 | M68: =+L68 -> 173554.19 | N68: NO SE CONTRATO | O68: NO SE CONTRATO | P68: =+M68 -> 173554.19
A69: 67 | B69: HOCEN-INBIOMECS SAS | C69: MANTENIMIENTO PREVENTIVO LAMPARAS PIELITICAS MARCA HERAUS | D69: HOCEN | E69: 240660 | F69: =+E69*9.28%+E69 -> 262993.25 | G69: =+F69*5.2%+F69 -> 276668.9 | H69: =+G69*5.1%+G69 -> 290779.01 | I69: =+H69 -> 290779.01 | J69: 157401 | K69: =+J69*5.2%+J69 -> 165585.85 | L69: =+K69*5.1%+K69 -> 174030.73 | M69: =+L69 -> 174030.73 | N69: NO SE CONTRATO | O69: NO SE CONTRATO | P69: =+M69 -> 174030.73
A70: 68 | B70: HOCEN-INBIOMECS SAS | C70: MANTENIMIENTO PREVENTIVO LAMPARAS PIELITICAS MARCA MARTIN | D70: HOCEN | E70: 240660 | F70: =+E70*9.28%+E70 -> 262993.25 | G70: =+F70*5.2%+F70 -> 276668.9 | H70: =+G70*5.1%+G70 -> 290779.01 | I70: =+H70 -> 290779.01 | J70: 157401 | K70: =+J70*5.2%+J70 -> 165585.85 | L70: =+K70*5.1%+K70 -> 174030.73 | M70: =+L70 -> 174030.73 | N70: NO SE CONTRATO | O70: NO SE CONTRATO | P70: =+M70 -> 174030.73
A71: 69 | B71: HOCEN-INBIOMECS SAS | C71: MANTENIMIENTO PREVENTIVO LAMPARAS PIELITICAS MARCA DR. MACH | D71: HOCEN | E71: 240660 | F71: =+E71*9.28%+E71 -> 262993.25 | G71: =+F71*5.2%+F71 -> 276668.9 | H71: =+G71*5.1%+G71 -> 290779.01 | I71: =+H71 -> 290779.01 | J71: 157401 | K71: =+J71*5.2%+J71 -> 165585.85 | L71: =+K71*5.1%+K71 -> 174030.73 | M71: =+L71 -> 174030.73 | N71: NO SE CONTRATO | O71: NO SE CONTRATO | P71: =+M71 -> 174030.73
A72: 70 | B72: HOCEN-INBIOMECS SAS | C72: MANTENIMIENTO PREVENTIVO MESA DE CIRUGIA MARCA MAQUET | D72: HOCEN | E72: 221168 | F72: =+E72*9.28%+E72 -> 241692.39 | G72: =+F72*5.2%+F72 -> 254260.39 | H72: =+G72*5.1%+G72 -> 267227.67 | I72: =+H72 -> 267227.67 | J72: 144653 | K72: =+J72*5.2%+J72 -> 152174.96 | L72: =+K72*5.1%+K72 -> 159935.88 | M72: =+L72 -> 159935.88 | N72: NO SE CONTRATO | O72: NO SE CONTRATO | P72: =+M72 -> 159935.88
A73: 71 | B73: HOCEN-INBIOMECS SAS | C73: MANTENIMIENTO PREVENTIVO MESA DE CIRUGIA MARCA AMSCO | D73: HOCEN | E73: 221168 | F73: =+E73*9.28%+E73 -> 241692.39 | G73: =+F73*5.2%+F73 -> 254260.39 | H73: =+G73*5.1%+G73 -> 267227.67 | I73: =+H73 -> 267227.67 | J73: 144653 | K73: =+J73*5.2%+J73 -> 152174.96 | L73: =+K73*5.1%+K73 -> 159935.88 | M73: =+L73 -> 159935.88 | N73: NO SE CONTRATO | O73: NO SE CONTRATO | P73: =+M73 -> 159935.88
... A145: 143 | B145: HOCEN-INBIOMECS SAS | C145: MANTENIMIENTO EXTRACTOR DE LECHE MARCA MEDELA | D145: HOCEN | E145: 180000 | F145: =+E145*9.28%+E145 -> 196704 | G145: =+F145*5.2%+F145 -> 206932.61 | H145: =+G145*5.1%+G145 -> 217486.17 | I145: =+H145 -> 217486.17 | J145: 117727 | K145: =+J145*5.2%+J145 -> 123848.8 | L145: =+K145*5.1%+K145 -> 130165.09 | M145: =+L145 -> 130165.09 | N145: NO SE CONTRATO | O145: NO SE CONTRATO | P145: =+M145 -> 130165.09
A146: 144 | B146: HOCEN-INBIOMECS SAS | C146: MANTENIMIENTO EXTRACTOR DE LECHE MARCA ARDO | D146: HOCEN | E146: NO SE CONTRATO | F146: =+E146*9.28%+E146 -> #VALUE! | G146: =+F146*5.2%+F146 -> #VALUE! | H146: =+G146*5.1%+G146 -> #VALUE! | I146: NO SE CONTRATO | J146: 165298 | K146: =+J146*5.2%+J146 -> 173893.5 | L146: =+K146*5.1%+K146 -> 182762.06 | M146: =+L146 -> 182762.06 | N146: NO SE CONTRATO | O146: NO SE CONTRATO | P146: =+M146 -> 182762.06
A147: 145 | B147: HOCEN-INBIOMECS SAS | C147: MANTENIMIENTO PREVENTIVO CAMA HOSPITALARIA MARCA MB | D147: HOCEN | E147: NO SE CONTRATO | F147: =+E147*9.28%+E147 -> #VALUE! | G147: =+F147*5.2%+F147 -> #VALUE! | H147: =+G147*5.1%+G147 -> #VALUE! | I147: NO SE CONTRATO | J147: 202022 | K147: =+J147*5.2%+J147 -> 212527.14 | L147: =+K147*5.1%+K147 -> 223366.03 | M147: =+L147 -> 223366.03 | N147: NO SE CONTRATO | O147: NO SE CONTRATO | P147: =+M147 -> 223366.03
A148: 146 | B148: HOCEN-INBIOMECS SAS | C148: MANTENIMIENTO PIPETA MARCA GIANT | D148: HOCEN | E148: NO SE CONTRATO | F148: =+E148*9.28%+E148 -> #VALUE! | G148: =+F148*5.2%+F148 -> #VALUE! | H148: =+G148*5.1%+G148 -> #VALUE! | I148: NO SE CONTRATO | J148: 138945 | K148: =+J148*5.2%+J148 -> 146170.14 | L148: =+K148*5.1%+K148 -> 153624.82 | M148: =+L148 -> 153624.82 | N148: NO SE CONTRATO | O148: NO SE CONTRATO | P148: =+M148 -> 153624.82
...

Sheet 5.4 PRECIOS DE MERCADO
A1: 5.4 PRECIOS DE MERCADO - GRUPO 1
A2: PRESTACIÓN DEL SERVICIO DE MANTENIMIENTO PREVENTIVO Y CORRECTIVO INCLUIDOS REPUESTOS PARA LOS DIFERENTES EQUIPOS BIOMÉDICOS DEL HOSPITAL CENTRAL DE LA POLICÍA NACIONAL
A3: ITEM | C3: DESCRIPCIÓN | D3: UNIDAD DE MEDIDA | E3: COTIZACION N.1 DKP | F3: COTIZACION N.2 G BARCO | G3: COTIZACION N.3 ICH | H3: COTIZACION N.4 INBIOMECS | I3: PRECIO DEL MERCADO
A4: 1 | C4: MANTENIMIENTO PREVENTIVO BASCULA CON TALLIMETRO DE LA MARCA HEALTH O METER | D4: VISITA | E4: 131936.14 | G4: 135845.35 | H4: 97730.47 | I4: =+MIN(E4:H4) -> 97730.47
A5: 2 | C5: MANTENIMIENTO PREVENTIVO BASCULA CON TALLIMETRO DE LA MARCA NUEVO LEON | D5: VISITA | E5: 131936.14 | G5: 135845.35 | H5: 97730.47 | I5: =+MIN(E5:H5) -> 97730.47
A6: 3 | C6: MANTENIMIENTO PREVENTIVO BASCULA CON TALLIMETRO DE LA MARCA DETECTO | D6: VISITA | E6: 131936.14 | G6: 135845.35 | H6: 97730.47 | I6: =+MIN(E6:H6) -> 97730.47
A7: 4 | C7: MANTENIMIENTO PREVENTIVO BALANZA PESA BEBE MACA SECA DIGITAL | D7: VISITA | E7: 98010 | G7: 100914 | H7: 72600 | I7: =+MIN(E7:H7) -> 72600
A8: 5 | C8: MANTENIMIENTO PREVENTIVO DESFIBRILADOR MARCA MINDRAY | D8: VISITA | E8: 282045.07 | G8: 290401.97 | H8: 208922.28 | I8: =+MIN(E8:H8) -> 208922.28
A9: 6 | C9: MANTENIMIENTO PREVENTIVO DESFIBRILADOR MARCA GENERAL ELECTRIC | D9: VISITA | E9: 241758 | G9: 248921.2 | H9: 179080 | I9: =+MIN(E9:H9) -> 179080
A10: 7 | C10: MANTENIMIENTO PREVENTIVO DESFIBRILADOR DEA SAMARITAN | D10: VISITA | E10: 245025 | G10: 252285 | H10: 181500 | I10: =+MIN(E10:H10) -> 181500
A11: 8 | C11: MANTENIMIENTO PREVENTIVO DOPPLER FETAL MARCA HUNTLEIGH | D11: VISITA | E11: 150282 | G11: 154734.8 | H11: 111320 | I11: =+MIN(E11:H11) -> 111320
A12: 9 | C12: MANTENIMIENTO PREVENTIVO ECOGRAFO ALOKA | D12: VISITA | E12: 756000.87 | G12: 778400.89 | H12: 560000.64 | I12: =+MIN(E12:H12) -> 560000.64
A13: 10 | C13: MANTENIMIENTO PREVENTIVO ECOGRAFO MARCA PHILIPS | D13: VISITA | E13: 1875968.9 | G13: 1931553.2 | H13: 1389606.6 | I13: =+MIN(E13:H13) -> 1389606.6
A14: 11 | C14: MANTENIMIENTO PREVENTIVO DE ECOGRAFO HITACHI | D14: VISITA | E14: 826876.96 | G14: 851377.02 | H14: 612501.45 | I14: =+MIN(E14:H14) -> 612501.45
A15: 12 | C15: MANTENIMIENTO PREVENTIVO ELECTROCARDIOGRAFO MARCA TRISMED | D15: VISITA | E15: 236857.5 | G15: 243875.5 | H15: 175450 | I15: =+MIN(E15:H15) -> 175450
A16: 13 | C16: MANTENIMIENTO PREVENTIVO ELECTROCARDIOGRAFO EDAN | D16: VISITA | E16: 280667.03 | G16: 288983.09 | H16: 207901.51 | I16: =+MIN(E16:H16) -> 207901.51
A17: 14 | C17: MANTENIMIENTO PREVENTIVO DE ELECTROCARDIOGRAFO SHILLER | D17: VISITA | E17: 248292 | F17: 600.000,00 | G17: 255648.8 | H17: 183920 | I17: =+MIN(E17:H17) -> 183920
A18: 15 | C18: MANTENIMIENTO PREVENTIVO EQUIPO DE ORGANOS PORTATIL MARCA WELCH ALLYN | D18: VISITA | E18: 120879 | G18: 124460.6 | H18: 89540 | I18: =+MIN(E18:H18) -> 89540
A19: 16 | C19: MANTENIMIENTO PREVENTIVO EQUIPO DE ORGANOS PORTATIL MARCA RIESTER | D19: VISITA | E19: 120879 | G19: 124460.6 | H19: 89540 | I19: =+MIN(E19:H19) -> 89540
A20: 17 | C20: MANTENIMIENTO PREVENTIVO EQUIPOS DE ORGANOS DE PARED MARCA WELCH ALLYN | D20: VISITA | E20: 148006.66 | G20: 152392.04 | H20: 109634.56 | I20: =+MIN(E20:H20) -> 109634.56
A21: 18 | C21: MANTENIMIENTO PREVENTIVO LARINGOSCOPIOS DE LA MARCA WELCH ALLYN | D21: VISITA | E21: 132405.72 | G21: 136328.85 | H21: 98078.31 | I21: =+MIN(E21:H21) -> 98078.31
A22: 19 | C22: MANTENIMIENTO PREVENTIVO LARINGOSCOPIOS STANDARD, STAINLESS,RUSH Y SIN MARCA | D22: VISITA | E22: 114097.46 | G22: 117478.12 | H22: 84516.64 | I22: =+MIN(E22:H22) -> 84516.64
A23: 20 | C23: MANTENIMIENTO PREVENTIVO DE MARCAPASOS OSYPKA | D23: VISITA | E23: 224438.27 | G23: 231088.29 | H23: 166250.57 | I23: =+MIN(E23:H23) -> 166250.57
A24: 21 | C24: MANTENIMIENTO PREVENTIVO MONITOR DE SIGNOS VITALES MARCA MINDRAY | D24: VISITA | E24: 251559 | G24: 259012.6 | H24: 186340 | I24: =+MIN(E24:H24) -> 186340
A25: 22 | C25: MANTENIMIENTO PREVENTIVO MONITOR DE SIGNOS VITALES MARCA CRITICARE | D25: VISITA | E25: 264627 | G25: 272467.8 | H25: 196020 | I25: =+MIN(E25:H25) -> 196020
A26: 23 | C26: MANTENIMIENTO PREVENTIVO MONITOR DE SIGNOS VITALES EDAN | D26: VISITA | E26: 267469.99 | G26: 275395.02 | H26: 198125.92 | I26: =+MIN(E26:H26) -> 198125.92
A27: 24 | C27: MANTENIMIENTO PREVENTIVO MONITOR DE SIGNOS VITALES NIHON KOHDEN | D27: VISITA | E27: 267469.99 | G27: 275395.02 | H27: 198125.92 | I27: =+MIN(E27:H27) -> 198125.92
A28: 25 | C28: MANTENIMIENTO PREVENTIVO MONITOR MULTIPARÁMETRO MARCA SPACE LABS | D28: VISITA | E28: 263418.94 | G28: 271223.95 | H28: 195125.14 | I28: =+MIN(E28:H28) -> 195125.14
A29: 26 | C29: MANTENIMIENTO PREVENTIVO MONITOR DE SIGNOS VITALES MARCA SPACE LABS | D29: VISITA | E29: 343035 | G29: 353199 | H29: 254100 | I29: =+MIN(E29:H29) -> 254100
... A226: 223 | C226: MANTENIMIENTO PREVENTIVO BANDA TROTADORA MATRIX TREADMILL | D226: VISITA | E226: 295336.8 | G226: 304087.52 | H226: 218768 | I226: =+MIN(E226:H226) -> 218768
A227: 224 | C227: MANTENIMIENTO PREVENTIVO BANDA TROTADORA TRACKMASTER | D227: VISITA | E227: 295336.8 | F227: 1000000 | G227: 304087.52 | H227: 218768 | I227: =+MIN(E227:H227) -> 218768
A228: 225 | C228: MANTENIMIENTO PREVENTIVO DOPPLER FETAL MARCA GMD | D228: VISITA | E228: 150282 | G228: 154734.8 | H228: 111320 | I228: =+MIN(E228:H228) -> 111320
A229: 226 | C229: MANTENIMIENTO PREVENTIVO CASCADA DE LAS MARCAS FISHER & PAYKEL Y MARCA BODY | D229: VISITA | E229: 321799.5 | G229: 331334.3 | H229: 238370 | I229: =+MIN(E229:H229) -> 238370
A230: 227 | C230: MANTENIMIENTO PREVENTIVO ELECTROBISTURÍ MARCA ALAN | D230: VISITA | E230: 261360 | G230: 269104 | H230: 193600 | I230: =+MIN(E230:H230) -> 193600
A231: 228 | C231: MANTENIMIENTO PREVENTIVO TANQUE DE PAQUETES CALIENTES (TANQUE HIDROCOLECTOR) MARCA FISIOTECH | D231: VISITA | E231: 236857.5 | G231: 243875.5 | H231: 175450 | I231: =+MIN(E231:H231) -> 175450
A232: 229 | C232: MANTENIMIENTO PREVENTIVO TANQUE DE PAQUETES FRIOS MARCA FISIOTECH | D232: VISITA | E232: 236857.5 | G232: 243875.5 | H232: 175450 | I232: =+MIN(E232:H232) -> 175450
A233: 230 | C233: MANTENIMIENTO PREVENTIVO TORRE MULTIDISCIPLINAR (MONITOR, FUENTE DE LUZ, CÁMARA DE VIDEO, Y CABEZAL DE CÁMARA ) | D233: VISITA | E233: 11353033 | G233: 11689420 | H233: 8409654.4 | I233: =+MIN(E233:H233) -> 8409654.4
A234: 231 | C234: MANTENIMIENTO PREVENTIVO UNIDAD DE OTORRINOLARINGOLOGÍA BASIC | D234: VISITA | E234: 4471567.7 | G234: 4604058.6 | H234: 3312272.4 | I234: =+MIN(E234:H234) -> 3312272.4
A235: 232 | C235: MANTENIMIENTO PREVENTIVO UNIDAD DE OTORRINOLARINGOLOGÍA SMART | D235: VISITA | E235: 4218283.4 | G235: 4343269.6 | H235: 3124654.4 | I235: =+MIN(E235:H235) -> 3124654.4
A236: 233 | C236: MANTENIMIENTO PREVENTIVO NEVERA MP 155S MARCA DOMETIC | D236: VISITA | E236: 1476705.4 | G236: 1520459.6 | H236: 1093855.8 | I236: =+MIN(E236:H236) -> 1093855.8
...

Sheet 5.5_x0009_ANÁLISIS DEL VALOR ESTIMADO
A1: 5.5 ANALISIS DEL VALOR ESTIMADO - GRUPO 1
A2: ITEM | C2: ACTIVIDADES DE MANTENIMIENTO PREVENTIVO | D2: CANT | E2: UNIDAD DE MEDIDA | F2: PRECIOS SECOP | G2: PRECIO HISTÓRICO | H2: PRECIO DEL MERCADO | I2: VALOR ESTIMADO | K2: MAXIMO VALOR | L2: MENOR VALOR | M2: DIFERENCIA $ | N2: DIFERENCIA %
A3: 1 | C3: MANTENIMIENTO PREVENTIVO BASCULA CON TALLIMETRO DE LA MARCA HEALTH O METER | D3: UN | E3: VISITA | F3: N/A | G3: =+'5.2. PRECIOS HISTÓRICOS ok'!P3 -> 80768.984 | H3: =+'5.4 PRECIOS DE MERCADO'!I4 -> 97730.47 | I3: =+MIN(G3:H3) -> 80768.984 | K3: =+MAX(G3:H3) -> 97730.47 | L3: =+MIN(G3:H3) -> 80768.984 | M3: =+K3-L3 -> 16961.486 | N3: =+M3/K3 -> 0.17355371
A4: 2 | C4: MANTENIMIENTO PREVENTIVO BASCULA CON TALLIMETRO DE LA MARCA NUEVO LEON | D4: UN | E4: VISITA | F4: N/A | G4: =+'5.2. PRECIOS HISTÓRICOS ok'!P4 -> 80768.984 | H4: =+'5.4 PRECIOS DE MERCADO'!I5 -> 97730.47 | I4: =+MIN(G4:H4) -> 80768.984 | K4: =+MAX(G4:H4) -> 97730.47 | L4: =+MIN(G4:H4) -> 80768.984 | M4: =+K4-L4 -> 16961.486 | N4: =+M4/K4 -> 0.17355371
A5: 3 | C5: MANTENIMIENTO PREVENTIVO BASCULA CON TALLIMETRO DE LA MARCA DETECTO | D5: UN | E5: VISITA | F5: N/A | G5: =+'5.2. PRECIOS HISTÓRICOS ok'!P5 -> 80768.984 | H5: =+'5.4 PRECIOS DE MERCADO'!I6 -> 97730.47 | I5: =+MIN(G5:H5) -> 80768.984 | K5: =+MAX(G5:H5) -> 97730.47 | L5: =+MIN(G5:H5) -> 80768.984 | M5: =+K5-L5 -> 16961.486 | N5: =+M5/K5 -> 0.17355371
A6: 4 | C6: MANTENIMIENTO PREVENTIVO BALANZA PESA BEBE MACA SECA DIGITAL | D6: UN | E6: VISITA | F6: N/A | G6: =+'5.2. PRECIOS HISTÓRICOS ok'!P6 -> 67252.389 | H6: =+'5.4 PRECIOS DE MERCADO'!I7 -> 72600 | I6: =+MIN(G6:H6) -> 67252.389 | K6: =+MAX(G6:H6) -> 72600 | L6: =+MIN(G6:H6) -> 67252.389 | M6: =+K6-L6 -> 5347.6114 | N6: =+M6/K6 -> 0.07365856
A7: 5 | C7: MANTENIMIENTO PREVENTIVO DESFIBRILADOR MARCA MINDRAY | D7: UN | E7: VISITA | F7: N/A | G7: =+'5.2. PRECIOS HISTÓRICOS ok'!P7 -> 172663.04 | H7: =+'5.4 PRECIOS DE MERCADO'!I8 -> 208922.28 | I7: =+MIN(G7:H7) -> 172663.04 | K7: =+MAX(G7:H7) -> 208922.28 | L7: =+MIN(G7:H7) -> 172663.04 | M7: =+K7-L7 -> 36259.241 | N7: =+M7/K7 -> 0.17355373
A8: 6 | C8: MANTENIMIENTO PREVENTIVO DESFIBRILADOR MARCA GENERAL ELECTRIC | D8: UN | E8: VISITA | F8: N/A | G8: =+'5.2. PRECIOS HISTÓRICOS ok'!P8 -> 172663.04 | H8: =+'5.4 PRECIOS DE MERCADO'!I9 -> 179080 | I8: =+MIN(G8:H8) -> 172663.04 | K8: =+MAX(G8:H8) -> 179080 | L8: =+MIN(G8:H8) -> 172663.04 | M8: =+K8-L8 -> 6416.9611 | N8: =+M8/K8 -> 0.03583293
A9: 7 | C9: MANTENIMIENTO PREVENTIVO DESFIBRILADOR DEA SAMARITAN | D9: UN | E9: VISITA | F9: N/A | G9: =+'5.2. PRECIOS HISTÓRICOS ok'!P9 -> 206767.98 | H9: =+'5.4 PRECIOS DE MERCADO'!I10 -> 181500 | I9: =+MIN(G9:H9) -> 181500 | K9: =+MAX(G9:H9) -> 206767.98 | L9: =+MIN(G9:H9) -> 181500 | M9: =+K9-L9 -> 25267.981 | N9: =+M9/K9 -> 0.12220451
A10: 8 | C10: MANTENIMIENTO PREVENTIVO DOPPLER FETAL MARCA HUNTLEIGH | D10: UN | E10: VISITA | F10: N/A | G10: =+'5.2. PRECIOS HISTÓRICOS ok'!P10 -> 100936.08 | H10: =+'5.4 PRECIOS DE MERCADO'!I11 -> 111320 | I10: =+MIN(G10:H10) -> 100936.08 | K10: =+MAX(G10:H10) -> 111320 | L10: =+MIN(G10:H10) -> 100936.08 | M10: =+K10-L10 -> 10383.923 | N10: =+M10/K10 -> 0.093279943
A11: 9 | C11: MANTENIMIENTO PREVENTIVO ECOGRAFO ALOKA | D11: UN | E11: VISITA | F11: N/A | G11: =+'5.2. PRECIOS HISTÓRICOS ok'!P11 -> 462810.45 | H11: =+'5.4 PRECIOS DE MERCADO'!I12 -> 560000.64 | I11: =+MIN(G11:H11) -> 462810.45 | K11: =+MAX(G11:H11) -> 560000.64 | L11: =+MIN(G11:H11) -> 462810.45 | M11: =+K11-L11 -> 97190.192 | N11: =+M11/K11 -> 0.17355372
A12: 10 | C12: MANTENIMIENTO PREVENTIVO ECOGRAFO MARCA PHILIPS | D12: UN | E12: VISITA | F12: N/A | G12: =+'5.2. PRECIOS HISTÓRICOS ok'!P12 -> 1148435.2 | H12: =+'5.4 PRECIOS DE MERCADO'!I13 -> 1389606.6 | I12: =+MIN(G12:H12) -> 1148435.2 | K12: =+MAX(G12:H12) -> 1389606.6 | L12: =+MIN(G12:H12) -> 1148435.2 | M12: =+K12-L12 -> 241171.4 | N12: =+M12/K12 -> 0.17355372
A13: 11 | C13: MANTENIMIENTO PREVENTIVO DE ECOGRAFO HITACHI | D13: UN | E13: VISITA | F13: N/A | G13: =+'5.2. PRECIOS HISTÓRICOS ok'!P13 -> 506199.55 | H13: =+'5.4 PRECIOS DE MERCADO'!I14 -> 612501.45 | I13: =+MIN(G13:H13) -> 506199.55 | K13: =+MAX(G13:H13) -> 612501.45 | L13: =+MIN(G13:H13) -> 506199.55 | M13: =+K13-L13 -> 106301.9 | N13: =+M13/K13 -> 0.17355371
A14: 12 | C14: MANTENIMIENTO PREVENTIVO ELECTROCARDIOGRAFO MARCA TRISMED | D14: UN | E14: VISITA | F14: N/A | G14: =+'5.2. PRECIOS HISTÓRICOS ok'!P14 -> 159064.62 | H14: =+'5.4 PRECIOS DE MERCADO'!I15 -> 175450 | I14: =+MIN(G14:H14) -> 159064.62 | K14: =+MAX(G14:H14) -> 175450 | L14: =+MIN(G14:H14) -> 159064.62 | M14: =+K14-L14 -> 16385.375 | N14: =+M14/K14 -> 0.093390567
... A258: 256 | C258: MANTENIMIENTO PREVENTIVO LASER TERAPEUTICO DE LA MARCA CHATTANOGA | D258: UN | E258: VISITA | F258: N/A | G258: =+'5.2. PRECIOS HISTÓRICOS ok'!P258 -> NO SE CONTRATO | H258: =+'5.4 PRECIOS DE MERCADO'!I259 -> 578954 | I258: =+MIN(G258:H258) -> 578954 | K258: =+MAX(G258:H258) -> 578954 | L258: =+MIN(G258:H258) -> 578954 | M258: =+K258-L258 -> 0 | N258: =+M258/K258 -> 0
A259: MANTENIMIENTOS CORRECTIVOS | D259: UNIDAD DE MEDIDA | F259: PRECIOS SECOP | G259: PRECIO HISTÓRICO | H259: PRECIO DEL MERCADO | I259: VALOR ESTIMADO | K259: MAXIMO VALOR | L259: MENOR VALOR | M259: DIFERENCIA $ | N259: DIFERENCIA %
A260: 257 | B260: BASCULA CON TALLIMETRO DE LA MARCA HEALTH O METER | C260: CAMBIO E INSTALACION TALLIMETRO | D260: ACTIVIDAD | F260: N/A | G260: =+'5.2. PRECIOS HISTÓRICOS ok'!P259 -> 64338.835 | H260: =+'5.4 PRECIOS DE MERCADO'!I261 -> 105097.49 | I260: =+MIN(G260:H260) -> 64338.835 | K260: =+MAX(G260:H260) -> 105097.49 | L260: =+MIN(G260:H260) -> 64338.835 | M260: =+K260-L260 -> 40758.655 | N260: =+M260/K260 -> 0.38781759
A261: 258 | C261: CAMBIO E INSTALACION PLATAFORMA | D261: ACTIVIDAD | F261: N/A | G261: =+'5.2. PRECIOS HISTÓRICOS ok'!P260 -> 270878.88 | H261: =+'5.4 PRECIOS DE MERCADO'!I262 -> 327763.44 | I261: =+MIN(G261:H261) -> 270878.88 | K261: =+MAX(G261:H261) -> 327763.44 | L261: =+MIN(G261:H261) -> 270878.88 | M261: =+K261-L261 -> 56884.563 | N261: =+M261/K261 -> 0.17355372
A262: 259 | C262: CAMBIO E INSTALACIÓN DE CONTRAPESO | D262: ACTIVIDAD | F262: N/A | G262: =+'5.2. PRECIOS HISTÓRICOS ok'!P261 -> 155290.71 | H262: =+'5.4 PRECIOS DE MERCADO'!I263 -> 187901.76 | I262: =+MIN(G262:H262) -> 155290.71 | K262: =+MAX(G262:H262) -> 187901.76 | L262: =+MIN(G262:H262) -> 155290.71 | M262: =+K262-L262 -> 32611.046 | N262: =+M262/K262 -> 0.1735537
A263: 260 | C263: CAMBIO E INSTALACIÓN DE PLOMOS DE CONTRAPESO | D263: ACTIVIDAD | F263: N/A | G263: =+'5.2. PRECIOS HISTÓRICOS ok'!P262 -> 115226.82 | H263: =+'5.4 PRECIOS DE MERCADO'!I264 -> 139424.45 | I263: =+MIN(G263:H263) -> 115226.82 | K263: =+MAX(G263:H263) -> 139424.45 | L263: =+MIN(G263:H263) -> 115226.82 | M263: =+K263-L263 -> 24197.634 | N263: =+M263/K263 -> 0.17355374
A264: 261 | C264: CAMBIO E INSTALACIÓN ESCALA GRADUADA | D264: ACTIVIDAD | F264: N/A | G264: =+'5.2. PRECIOS HISTÓRICOS ok'!P263 -> 401519.27 | H264: =+'5.4 PRECIOS DE MERCADO'!I265 -> 485838.31 | I264: =+MIN(G264:H264) -> 401519.27 | K264: =+MAX(G264:H264) -> 485838.31 | L264: =+MIN(G264:H264) -> 401519.27 | M264: =+K264-L264 -> 84319.044 | N264: =+M264/K264 -> 0.17355372
A265: 262 | C265: CAMBIO E INSTALACIÓN TAPETE EXTERNO | D265: ACTIVIDAD | F265: N/A | G265: =+'5.2. PRECIOS HISTÓRICOS ok'!P264 -> 134445.75 | H265: =+'5.4 PRECIOS DE MERCADO'!I266 -> 162679.36 | I265: =+MIN(G265:H265) -> 134445.75 | K265: =+MAX(G265:H265) -> 162679.36 | L265: =+MIN(G265:H265) -> 134445.75 | M265: =+K265-L265 -> 28233.612 | N265: =+M265/K265 -> 0.17355374
A266: 263 | C266: CAMBIO E INSTASLACIÓN RESORTES INTERNOS | D266: ACTIVIDAD | F266: N/A | G266: =+'5.2. PRECIOS HISTÓRICOS ok'!P265 -> 43167.21 | H266: =+'5.4 PRECIOS DE MERCADO'!I267 -> 52232.32 | I266: =+MIN(G266:H266) -> 43167.21 | K266: =+MAX(G266:H266) -> 52232.32 | L266: =+MIN(G266:H266) -> 43167.21 | M266: =+K266-L266 -> 9065.1102 | N266: =+M266/K266 -> 0.17355366
A267: 264 | C267: CAMBIO E INSTALACIÓN TORNILLO DE AJUSTE | D267: ACTIVIDAD | F267: N/A | G267: =+'5.2. PRECIOS HISTÓRICOS ok'!P266 -> 32166.058 | H267: =+'5.4 PRECIOS DE MERCADO'!I268 -> 38920.93 | I267: =+MIN(G267:H267) -> 32166.058 | K267: =+MAX(G267:H267) -> 38920.93 | L267: =+MIN(G267:H267) -> 32166.058 | M267: =+K267-L267 -> 6754.8721 | N267: =+M267/K267 -> 0.17355372
A268: 265 | C268: CAMBIO E INSTALACION BRAZO KILOS/LIBRAS | D268: ACTIVIDAD | F268: N/A | G268: =+'5.2. PRECIOS HISTÓRICOS ok'!P267 -> 293105.89 | H268: =+'5.4 PRECIOS DE MERCADO'!I269 -> 354658.13 | I268: =+MIN(G268:H268) -> 293105.89 | K268: =+MAX(G268:H268) -> 354658.13 | L268: =+MIN(G268:H268) -> 293105.89 | M268: =+K268-L268 -> 61552.24 | N268: =+M268/K268 -> 0.17355373
A269: 266 | C269: CAMBIO E INSTALACION BASE METALICA | D269: ACTIVIDAD | F269: N/A | G269: =+'5.2. PRECIOS HISTÓRICOS ok'!P268 -> 202646.67 | H269: =+'5.4 PRECIOS DE MERCADO'!I270 -> 245202.47 | I269: =+MIN(G269:H269) -> 202646.67 | K269: =+MAX(G269:H269) -> 245202.47 | L269: =+MIN(G269:H269) -> 202646.67 | M269: =+K269-L269 -> 42555.799 | N269: =+M269/K269 -> 0.17355371
A270: 267 | B270: BASCULA CON TALLIMETRO DE LA MARCA NUEVO LEON | C270: CAMBIO E INSTALACION TALLIMETRO | D270: ACTIVIDAD | F270: N/A | G270: =+'5.2. PRECIOS HISTÓRICOS ok'!P269 -> 64338.95 | H270: =+'5.4 PRECIOS DE MERCADO'!I271 -> 77850.13 | I270: =+MIN(G270:H270) -> 64338.95 | K270: =+MAX(G270:H270) -> 77850.13 | L270: =+MIN(G270:H270) -> 64338.95 | M270: =+K270-L270 -> 13511.18 | N270: =+M270/K270 -> 0.17355372
A271: 268 | C271: CAMBIO E INSTALACION PLATAFORMA | D271: ACTIVIDAD | F271: N/A | G271: =+'5.2. PRECIOS HISTÓRICOS ok'!P270 -> 270878.69 | H271: =+'5.4 PRECIOS DE MERCADO'!I272 -> 327763.21 | I271: =+MIN(G271:H271) -> 270878.69 | K271: =+MAX(G271:H271) -> 327763.21 | L271: =+MIN(G271:H271) -> 270878.69 | M271: =+K271-L271 -> 56884.521 | N271: =+M271/K271 -> 0.17355371
A272: 269 | C272: CAMBIO E INSTALACIÓN DE CONTRAPESO | D272: ACTIVIDAD | F272: N/A | G272: =+'5.2. PRECIOS HISTÓRICOS ok'!P271 -> 155291.03 | H272: =+'5.4 PRECIOS DE MERCADO'!I273 -> 187902.14 | I272: =+MIN(G272:H272) -> 155291.03 | K272: =+MAX(G272:H272) -> 187902.14 | L272: =+MIN(G272:H272) -> 155291.03 | M272: =+K272-L272 -> 32611.115 | N272: =+M272/K272 -> 0.17355372
A273: 270 | C273: CAMBIO E INSTALACIÓN DE PLOMOS DE CONTRAPESO | D273: ACTIVIDAD | F273: N/A | G273: =+'5.2. PRECIOS HISTÓRICOS ok'!P272 -> 115226.82 | H273: =+'5.4 PRECIOS DE MERCADO'!I274 -> 139424.45 | I273: =+MIN(G273:H273) -> 115226.82 | K273: =+MAX(G273:H273) -> 139424.45 | L273: =+MIN(G273:H273) -> 115226.82 | M273: =+K273-L273 -> 24197.634 | N273: =+M273/K273 -> 0.17355374
A274: 271 | C274: CAMBIO E INSTALACIÓN ESCALA GRADUADA | D274: ACTIVIDAD | F274: N/A | G274: =+'5.2. PRECIOS HISTÓRICOS ok'!P273 -> 401519.27 | H274: =+'5.4 PRECIOS DE MERCADO'!I275 -> 485838.31 | I274: =+MIN(G274:H274) -> 401519.27 | K274: =+MAX(G274:H274) -> 485838.31 | L274: =+MIN(G274:H274) -> 401519.27 | M274: =+K274-L274 -> 84319.044 | N274: =+M274/K274 -> 0.17355372
A275: 272 | C275: CAMBIO E INSTALACIÓN TAPETE EXTERNO | D275: ACTIVIDAD | F275: N/A | G275: =+'5.2. PRECIOS HISTÓRICOS ok'!P274 -> 134445.75 | H275: =+'5.4 PRECIOS DE MERCADO'!I276 -> 162679.36 | I275: =+MIN(G275:H275) -> 134445.75 | K275: =+MAX(G275:H275) -> 162679.36 | L275: =+MIN(G275:H275) -> 134445.75 | M275: =+K275-L275 -> 28233.612 | N275: =+M275/K275 -> 0.17355374
A276: 273 | C276: CAMBIO E INSTASLACIÓN RESORTES INTERNOS | D276: ACTIVIDAD | F276: N/A | G276: =+'5.2. PRECIOS HISTÓRICOS ok'!P275 -> 43167.21 | H276: =+'5.4 PRECIOS DE MERCADO'!I277 -> 70513.64 | I276: =+MIN(G276:H276) -> 43167.21 | K276: =+MAX(G276:H276) -> 70513.64 | L276: =+MIN(G276:H276) -> 43167.21 | M276: =+K276-L276 -> 27346.43 | N276: =+M276/K276 -> 0.38781759
A277: 274 | C277: CAMBIO E INSTALACIÓN TORNILLO DE AJUSTE | D277: ACTIVIDAD | F277: N/A | G277: =+'5.2. PRECIOS HISTÓRICOS ok'!P276 -> 32166.058 | H277: =+'5.4 PRECIOS DE MERCADO'!I278 -> 52543.26 | I277: =+MIN(G277:H277) -> 32166.058 | K277: =+MAX(G277:H277) -> 52543.26 | L277: =+MIN(G277:H277) -> 32166.058 | M277: =+K277-L277 -> 20377.202 | N277: =+M277/K277 -> 0.38781762
A278: 275 | C278: CAMBIO E INSTALACION BRAZO KILOS/LIBRAS | D278: ACTIVIDAD | F278: N/A | G278: =+'5.2. PRECIOS HISTÓRICOS ok'!P277 -> 293105.89 | H278: =+'5.4 PRECIOS DE MERCADO'!I279 -> 354658.13 | I278: =+MIN(G278:H278) -> 293105.89 | K278: =+MAX(G278:H278) -> 354658.13 | L278: =+MIN(G278:H278) -> 293105.89 | M278: =+K278-L278 -> 61552.24 | N278: =+M278/K278 -> 0.17355373
A279: 276 | C279: CAMBIO E INSTALACION BASE METALICA | D279: ACTIVIDAD | F279: N/A | G279: =+'5.2. PRECIOS HISTÓRICOS ok'!P278 -> 202646.67 | H279: =+'5.4 PRECIOS DE MERCADO'!I280 -> 245202.47 | I279: =+MIN(G279:H279) -> 202646.67 | K279: =+MAX(G279:H279) -> 245202.47 | L279: =+MIN(G279:H279) -> 202646.67 | M279: =+K279-L279 -> 42555.799 | N279: =+M279/K279 -> 0.17355371
A280: 277 | B280: BASCULA CON TALLIMETRO DE LA MARCA DETECTO | C280: CAMBIO E INSTALACION TALLIMETRO | D280: ACTIVIDAD | F280: N/A | G280: =+'5.2. PRECIOS HISTÓRICOS ok'!P279 -> 64338.95 | H280: =+'5.4 PRECIOS DE MERCADO'!I281 -> 105097.68 | I280: =+MIN(G280:H280) -> 64338.95 | K280: =+MAX(G280:H280) -> 105097.68 | L280: =+MIN(G280:H280) -> 64338.95 | M280: =+K280-L280 -> 40758.73 | N280: =+M280/K280 -> 0.3878176
A281: 278 | C281: CAMBIO E INSTALACION PLATAFORMA | D281: ACTIVIDAD | F281: N/A | G281: =+'5.2. PRECIOS HISTÓRICOS ok'!P280 -> 270878.69 | H281: =+'5.4 PRECIOS DE MERCADO'!I282 -> 327763.21 | I281: =+MIN(G281:H281) -> 270878.69 | K281: =+MAX(G281:H281) -> 327763.21 | L281: =+MIN(G281:H281) -> 270878.69 | M281: =+K281-L281 -> 56884.521 | N281: =+M281/K281 -> 0.17355371
A282: 279 | C282: CAMBIO E INSTALACIÓN DE CONTRAPESO | D282: ACTIVIDAD | F282: N/A | G282: =+'5.2. PRECIOS HISTÓRICOS ok'!P281 -> 155291.03 | H282: =+'5.4 PRECIOS DE MERCADO'!I283 -> 187902.14 | I282: =+MIN(G282:H282) -> 155291.03 | K282: =+MAX(G282:H282) -> 187902.14 | L282: =+MIN(G282:H282) -> 155291.03 | M282: =+K282-L282 -> 32611.115 | N282: =+M282/K282 -> 0.17355372
A283: 280 | C283: CAMBIO E INSTALACIÓN DE PLOMOS DE CONTRAPESO | D283: ACTIVIDAD | F283: N/A | G283: =+'5.2. PRECIOS HISTÓRICOS ok'!P282 -> 115226.82 | H283: =+'5.4 PRECIOS DE MERCADO'!I284 -> 139424.45 | I283: =+MIN(G283:H283) -> 115226.82 | K283: =+MAX(G283:H283) -> 139424.45 | L283: =+MIN(G283:H283) -> 115226.82 | M283: =+K283-L283 -> 24197.634 | N283: =+M283/K283 -> 0.17355374
...

Sheet CUADRO 6 FICHA TECNICA 
A1: FICHA TÉCNICA DE PRODUCTO
A2: DENOMINACIÓN DE BIEN O SERVICIO
A3: equipo médico, accesorios y suministros
A4: DENOMINACIÓN TÉCNICA DEL BIEN O SERVICIO
A5: MANTENIMIENTO PREVENTIVO Y CORRECTIVO
A6: UNIDAD DE MEDIDA
A7: Equipo médico, accesorios y mantenimiento
A8: DESCRIPCIÓN GENERAL
A9: EQUIPO | B9: ITEM | C9: DESCRIPCION | D9: CLASIFICACIÓN UNSPSC
A10: MANTENIMIENTO PREVENTIVO BASCULA CON TALLIMETRO DE LA MARCA HEALTH O METER | B10: 1 | C10: Revisión Estado General del Equipo | D10: 41103900 42201600 42201700 81101700 85161500
C11: Verificación de Partes limpieza de soporte, Escala y Resortes
C12: Lubricación de partes mecánicas
C13: Verificación con pesas de prueba de 10kg, 20kg, 50kg, 100kg,120kg,180kg,
C14: Ajuste medida cero
C15: Inspección de medidas
C16: Limpieza externa general
C17: Realizar pruebas de funcionamiento
A18: MANTENIMIENTO PREVENTIVO BASCULA CON TALLIMETRO DE LA MARCA NUEVO LEON | B18: 2 | C18: Revisión Estado General del Equipo
C19: Verificación de Partes limpieza de soporte, Escala y Resortes
C20: Lubricación de partes mecánicas
C21: Verificación con pesas de prueba de 10kg, 20kg, 50kg, 100kg,120kg,180kg,
C22: Ajuste medida cero
C23: Inspección de medidas
C24: Limpieza externa general
C25: Realizar pruebas de funcionamiento
A26: MANTENIMIENTO PREVENTIVO BASCULA CON TALLIMETRO DE LA MARCA DETECTO | B26: 3 | C26: Revisión Estado General del Equipo
C27: Verificación de Partes limpieza de soporte, Escala y Resortes
C28: Lubricación de partes mecánicas
C29: Verificación con pesas de prueba de 10kg, 20kg, 50kg, 100kg,120kg,180kg,
C30: Ajuste medida cero
C31: Inspección de medidas
C32: Limpieza externa general
C33: Realizar pruebas de funcionamiento
A34: MANTENIMIENTO PREVENTIVO BALANZA PESA BEBE MACA SECA DIGITAL | B34: 4 | C34: Limpieza general.
C35: Verificación de pantalla
C36: Verificación de plataforma
C37: Verificación de cargador
C38: Verificación de colchoneta
C39: Verificación con masas patrón
C40: Verificación de baterías. Pruebas de funcionamiento.
...

Sheet FORMULARIO ESPECIFICACIONES TEC
A1: ESPECIFICACIONES TECNICAS- GRUPO 1
A2: LA PRESTACIÓN DEL SERVICIO DE MANTENIMIENTO PREVENTIVO Y CORRECTIVO INCLUIDOS REPUESTOS PARA LOS DIFERENTES EQUIPOS BIOMÉDICOS DEL HOSPITAL CENTRAL DE LA POLICÍA NACIONAL
A3: ITEM | B3: EQUIPO | C3: ACTIVIDADES DE MANTENIMIENTO PREVENTIVO | D3: CANTIDAD DE EQUIPOS | E3: UNIDAD DE MEDIDA | F3: MES / VISITA | G3: SI OFRECE | H3: NO OFRECE
A4: 1 | B4: MANTENIMIENTO PREVENTIVO BASCULA CON TALLIMETRO DE LA MARCA HEALTH O METER | C4: Revisión Estado General del Equipo | D4: 15 | E4: VISITA | F4: Segundo semestre del 2026
C5: Verificación de Partes limpieza de soporte, Escala y Resortes
C6: Lubricación de partes mecánicas
C7: Verificación con pesas de prueba de 10kg, 20kg, 50kg, 100kg,120kg,180kg,
C8: Ajuste medida cero
C9: Inspección de medidas
C10: Limpieza externa general
C11: Realizar pruebas de funcionamiento
A12: 2 | B12: MANTENIMIENTO PREVENTIVO BASCULA CON TALLIMETRO DE LA MARCA NUEVO LEON | C12: Revisión Estado General del Equipo | D12: 10 | E12: VISITA
C13: Verificación de Partes limpieza de soporte, Escala y Resortes
C14: Lubricación de partes mecánicas
C15: Verificación con pesas de prueba de 10kg, 20kg, 50kg, 100kg,120kg,180kg,
C16: Ajuste medida cero
C17: Inspección de medidas
C18: Limpieza externa general
C19: Realizar pruebas de funcionamiento
A20: 3 | B20: MANTENIMIENTO PREVENTIVO BASCULA CON TALLIMETRO DE LA MARCA DETECTO | C20: Revisión Estado General del Equipo | D20: 9 | E20: VISITA
C21: Verificación de Partes limpieza de soporte, Escala y Resortes
C22: Lubricación de partes mecánicas
C23: Verificación con pesas de prueba de 10kg, 20kg, 50kg, 100kg,120kg,180kg,
C24: Ajuste medida cero
C25: Inspección de medidas
C26: Limpieza externa general
C27: Realizar pruebas de funcionamiento
A28: 4 | B28: MANTENIMIENTO PREVENTIVO BALANZA PESA BEBE MACA SECA DIGITAL | C28: Limpieza general. | D28: 2 | E28: VISITA
C29: Verificación de pantalla
C30: Verificación de plataforma
C31: Verificación de cargador
C32: Verificación de colchoneta
C33: Verificación con masas patrón
C34: Verificación de baterías. Pruebas de funcionamiento.
A35: 5 | B35: MANTENIMIENTO PREVENTIVO DESFIBRILADOR MARCA MINDRAY | C35: Limpieza interna del equipo. | D35: 3 | E35: VISITA
C36: Verificaciones y pruebas de funcionamiento
C37: Verificación de encendido normal (Chequeo leds o alarmas audibles característicos)
C38: Transferencia de datos-interface equipo medico pc
C39: Toma de mediciones
C40: Adquisición de señales ECG con Equipo Patrón
...

Sheet 5.6 VALOR ESTIMADO DE MTTO
A1: 5.6 VALOR ESTIMADO DE LA CONTRATACIÓN- GRUPO 1
A2: ITEM | B2: RUBRO Y DESAGREGACIÓN PRESUPUESTAL | C2: REC | D2: UNIDAD DE DESTINO | E2: ACTIVIDADES DE MANTENIMIENTO PREVENTIVO | F2: CANT | G2: UNIDAD DE MEDIDA | H2: VALOR UNITARIO
A3: 1 | B3: 02-02-02-008 | C3: 16 | D3: HOCEN | E3: MANTENIMIENTO PREVENTIVO BASCULA CON TALLIMETRO DE LA MARCA HEALTH O METER | F3: 15 | G3: VISITA | H3: =+'5.5 ANÁLISIS DEL VALOR ESTIMADO'!I3 -> 80768.984
A4: 2 | B4: 02-02-02-008 | C4: 16 | D4: HOCEN | E4: MANTENIMIENTO PREVENTIVO BASCULA CON TALLIMETRO DE LA MARCA NUEVO LEON | F4: 10 | G4: VISITA | H4: =+'5.5 ANÁLISIS DEL VALOR ESTIMADO'!I4 -> 80768.984
A5: 3 | B5: 02-02-02-008 | C5: 16 | D5: HOCEN | E5: MANTENIMIENTO PREVENTIVO BASCULA CON TALLIMETRO DE LA MARCA DETECTO | F5: 9 | G5: VISITA | H5: =+'5.5 ANÁLISIS DEL VALOR ESTIMADO'!I5 -> 80768.984
A6: 4 | B6: 02-02-02-008 | C6: 16 | D6: HOCEN | E6: MANTENIMIENTO PREVENTIVO BALANZA PESA BEBE MACA SECA DIGITAL | F6: 2 | G6: VISITA | H6: =+'5.5 ANÁLISIS DEL VALOR ESTIMADO'!I6 -> 67252.389
A7: 5 | B7: 02-02-02-008 | C7: 16 | D7: HOCEN | E7: MANTENIMIENTO PREVENTIVO DESFIBRILADOR MARCA MINDRAY | F7: 3 | G7: VISITA | H7: =+'5.5 ANÁLISIS DEL VALOR ESTIMADO'!I7 -> 172663.04
A8: 6 | B8: 02-02-02-008 | C8: 16 | D8: HOCEN | E8: MANTENIMIENTO PREVENTIVO DESFIBRILADOR MARCA GENERAL ELECTRIC | F8: 3 | G8: VISITA | H8: =+'5.5 ANÁLISIS DEL VALOR ESTIMADO'!I8 -> 172663.04
A9: 7 | B9: 02-02-02-008 | C9: 16 | D9: HOCEN | E9: MANTENIMIENTO PREVENTIVO DESFIBRILADOR DEA SAMARITAN | F9: 1 | G9: VISITA | H9: =+'5.5 ANÁLISIS DEL VALOR ESTIMADO'!I9 -> 181500
A10: 8 | B10: 02-02-02-008 | C10: 16 | D10: HOCEN | E10: MANTENIMIENTO PREVENTIVO DOPPLER FETAL MARCA HUNTLEIGH | F10: 4 | G10: VISITA | H10: =+'5.5 ANÁLISIS DEL VALOR ESTIMADO'!I10 -> 100936.08
A11: 9 | B11: 02-02-02-008 | C11: 16 | D11: HOCEN | E11: MANTENIMIENTO PREVENTIVO ECOGRAFO ALOKA | F11: 1 | G11: VISITA | H11: =+'5.5 ANÁLISIS DEL VALOR ESTIMADO'!I11 -> 462810.45
A12: 10 | B12: 02-02-02-008 | C12: 16 | D12: HOCEN | E12: MANTENIMIENTO PREVENTIVO ECOGRAFO MARCA PHILIPS | F12: 4 | G12: VISITA | H12: =+'5.5 ANÁLISIS DEL VALOR ESTIMADO'!I12 -> 1148435.2
A13: 11 | B13: 02-02-02-008 | C13: 16 | D13: HOCEN | E13: MANTENIMIENTO PREVENTIVO DE ECOGRAFO HITACHI | F13: 1 | G13: VISITA | H13: =+'5.5 ANÁLISIS DEL VALOR ESTIMADO'!I13 -> 506199.55
A14: 12 | B14: 02-02-02-008 | C14: 16 | D14: HOCEN | E14: MANTENIMIENTO PREVENTIVO ELECTROCARDIOGRAFO MARCA TRISMED | F14: 1 | G14: VISITA | H14: =+'5.5 ANÁLISIS DEL VALOR ESTIMADO'!I14 -> 159064.62
... A257: 255 | B257: 02-02-02-008 | C257: 16 | D257: HOCEN | E257: MANTENIMIENTO PREVENTIVO CAMA ELÉCTRICA MARCA LOS PINOS MODELO 840 | F257: 16 | G257: VISITA | H257: =+'5.5 ANÁLISIS DEL VALOR ESTIMADO'!I257 -> 235154.8
A258: 256 | B258: 02-02-02-008 | C258: 16 | D258: HOCEN | E258: MANTENIMIENTO PREVENTIVO LASER TERAPEUTICO DE LA MARCA CHATTANOGA | F258: 1 | G258: VISITA | H258: =+'5.5 ANÁLISIS DEL VALOR ESTIMADO'!I258 -> 578954 | J258: =SUM(I3:I258) -> 0
A259: ITEM | B259: RUBRO Y DESAGREGACIÓN PRESUPUESTAL | C259: REC | D259: UNIDAD DE DESTINO | E259: EQUIPO | F259: ACTIVIDADES DE MANTENIMIENTO CORRECTIVO | G259: CANT | H259: UNIDAD DE MEDIDA | I259: VALOR UNITARIO
A260: 257 | B260: 02-02-02-008 | C260: 16 | D260: HOCEN | E260: BASCULA CON TALLIMETRO DE LA MARCA HEALTH O METER | F260: CAMBIO E INSTALACION TALLIMETRO | G260: 1 | H260: ACTIVIDAD | I260: ='5.5 ANÁLISIS DEL VALOR ESTIMADO'!I260 -> 64338.835
A261: 258 | B261: 02-02-02-008 | C261: 16 | D261: HOCEN | F261: CAMBIO E INSTALACION PLATAFORMA | G261: 1 | H261: ACTIVIDAD | I261: ='5.5 ANÁLISIS DEL VALOR ESTIMADO'!I261 -> 270878.88
A262: 259 | B262: 02-02-02-008 | C262: 16 | D262: HOCEN | F262: CAMBIO E INSTALACIÓN DE CONTRAPESO | G262: 1 | H262: ACTIVIDAD | I262: ='5.5 ANÁLISIS DEL VALOR ESTIMADO'!I262 -> 155290.71
A263: 260 | B263: 02-02-02-008 | C263: 16 | D263: HOCEN | F263: CAMBIO E INSTALACIÓN DE PLOMOS DE CONTRAPESO | G263: 1 | H263: ACTIVIDAD | I263: ='5.5 ANÁLISIS DEL VALOR ESTIMADO'!I263 -> 115226.82
A264: 261 | B264: 02-02-02-008 | C264: 16 | D264: HOCEN | F264: CAMBIO E INSTALACIÓN ESCALA GRADUADA | G264: 1 | H264: ACTIVIDAD | I264: ='5.5 ANÁLISIS DEL VALOR ESTIMADO'!I264 -> 401519.27
A265: 262 | B265: 02-02-02-008 | C265: 16 | D265: HOCEN | F265: CAMBIO E INSTALACIÓN TAPETE EXTERNO | G265: 1 | H265: ACTIVIDAD | I265: ='5.5 ANÁLISIS DEL VALOR ESTIMADO'!I265 -> 134445.75
A266: 263 | B266: 02-02-02-008 | C266: 16 | D266: HOCEN | F266: CAMBIO E INSTASLACIÓN RESORTES INTERNOS | G266: 1 | H266: ACTIVIDAD | I266: ='5.5 ANÁLISIS DEL VALOR ESTIMADO'!I266 -> 43167.21
A267: 264 | B267: 02-02-02-008 | C267: 16 | D267: HOCEN | F267: CAMBIO E INSTALACIÓN TORNILLO DE AJUSTE | G267: 1 | H267: ACTIVIDAD | I267: ='5.5 ANÁLISIS DEL VALOR ESTIMADO'!I267 -> 32166.058
A268: 265 | B268: 02-02-02-008 | C268: 16 | D268: HOCEN | F268: CAMBIO E INSTALACION BRAZO KILOS/LIBRAS | G268: 1 | H268: ACTIVIDAD | I268: ='5.5 ANÁLISIS DEL VALOR ESTIMADO'!I268 -> 293105.89
A269: 266 | B269: 02-02-02-008 | C269: 16 | D269: HOCEN | F269: CAMBIO E INSTALACION BASE METALICA | G269: 1 | H269: ACTIVIDAD | I269: ='5.5 ANÁLISIS DEL VALOR ESTIMADO'!I269 -> 202646.67
A270: 267 | B270: 02-02-02-008 | C270: 16 | D270: HOCEN | E270: BASCULA CON TALLIMETRO DE LA MARCA NUEVO LEON | F270: CAMBIO E INSTALACION TALLIMETRO | G270: 1 | H270: ACTIVIDAD | I270: ='5.5 ANÁLISIS DEL VALOR ESTIMADO'!I270 -> 64338.95
A271: 268 | B271: 02-02-02-008 | C271: 16 | D271: HOCEN | F271: CAMBIO E INSTALACION PLATAFORMA | G271: 1 | H271: ACTIVIDAD | I271: ='5.5 ANÁLISIS DEL VALOR ESTIMADO'!I271 -> 270878.69
A272: 269 | B272: 02-02-02-008 | C272: 16 | D272: HOCEN | F272: CAMBIO E INSTALACIÓN DE CONTRAPESO | G272: 1 | H272: ACTIVIDAD | I272: ='5.5 ANÁLISIS DEL VALOR ESTIMADO'!I272 -> 155291.03
A273: 270 | B273: 02-02-02-008 | C273: 16 | D273: HOCEN | F273: CAMBIO E INSTALACIÓN DE PLOMOS DE CONTRAPESO | G273: 1 | H273: ACTIVIDAD | I273: ='5.5 ANÁLISIS DEL VALOR ESTIMADO'!I273 -> 115226.82
A274: 271 | B274: 02-02-02-008 | C274: 16 | D274: HOCEN | F274: CAMBIO E INSTALACIÓN ESCALA GRADUADA | G274: 1 | H274: ACTIVIDAD | I274: ='5.5 ANÁLISIS DEL VALOR ESTIMADO'!I274 -> 401519.27
A275: 272 | B275: 02-02-02-008 | C275: 16 | D275: HOCEN | F275: CAMBIO E INSTALACIÓN TAPETE EXTERNO | G275: 1 | H275: ACTIVIDAD | I275: ='5.5 ANÁLISIS DEL VALOR ESTIMADO'!I275 -> 134445.75
A276: 273 | B276: 02-02-02-008 | C276: 16 | D276: HOCEN | F276: CAMBIO E INSTASLACIÓN RESORTES INTERNOS | G276: 1 | H276: ACTIVIDAD | I276: ='5.5 ANÁLISIS DEL VALOR ESTIMADO'!I276 -> 43167.21
A277: 274 | B277: 02-02-02-008 | C277: 16 | D277: HOCEN | F277: CAMBIO E INSTALACIÓN TORNILLO DE AJUSTE | G277: 1 | H277: ACTIVIDAD | I277: ='5.5 ANÁLISIS DEL VALOR ESTIMADO'!I277 -> 32166.058
A278: 275 | B278: 02-02-02-008 | C278: 16 | D278: HOCEN | F278: CAMBIO E INSTALACION BRAZO KILOS/LIBRAS | G278: 1 | H278: ACTIVIDAD | I278: ='5.5 ANÁLISIS DEL VALOR ESTIMADO'!I278 -> 293105.89
A279: 276 | B279: 02-02-02-008 | C279: 16 | D279: HOCEN | F279: CAMBIO E INSTALACION BASE METALICA | G279: 1 | H279: ACTIVIDAD | I279: ='5.5 ANÁLISIS DEL VALOR ESTIMADO'!I279 -> 202646.67
A280: 277 | B280: 02-02-02-008 | C280: 16 | D280: HOCEN | E280: BASCULA CON TALLIMETRO DE LA MARCA DETECTO | F280: CAMBIO E INSTALACION TALLIMETRO | G280: 1 | H280: ACTIVIDAD | I280: ='5.5 ANÁLISIS DEL VALOR ESTIMADO'!I280 -> 64338.95
A281: 278 | B281: 02-02-02-008 | C281: 16 | D281: HOCEN | F281: CAMBIO E INSTALACION PLATAFORMA | G281: 1 | H281: ACTIVIDAD | I281: ='5.5 ANÁLISIS DEL VALOR ESTIMADO'!I281 -> 270878.69
A282: 279 | B282: 02-02-02-008 | C282: 16 | D282: HOCEN | F282: CAMBIO E INSTALACIÓN DE CONTRAPESO | G282: 1 | H282: ACTIVIDAD | I282: ='5.5 ANÁLISIS DEL VALOR ESTIMADO'!I282 -> 155291.03
...

Sheet ESPECIFICACION TECNICA SI OFRE 
A1: ESPECIFICACIONES TECNICAS
A2: LA PRESTACIÓN DEL SERVICIO DE MANTENIMIENTO PREVENTIVO Y CORRECTIVO INCLUIDOS REPUESTOS PARA LOS DIFERENTES EQUIPOS BIOMÉDICOS DEL HOSPITAL CENTRAL DE LA POLICÍA NACIONAL
A3: EQUIPO | B3: ACTIVIDADES DE MANTENIMIENTO PREVENTIVO | C3: OFRECE | D3: NO OFRECE
A4: MANTENIMIENTO PREVENTIVO BASCULA CON TALLIMETRO DE LA MARCA HEALTH O METER | B4: Revisión Estado General del Equipo
B5: Verificación de Partes limpieza de soporte, Escala y Resortes
B6: Lubricación de partes mecánicas
B7: Verificación con pesas de prueba de 10kg, 20kg, 50kg, 100kg,120kg,180kg,
B8: Ajuste medida cero
B9: Inspección de medidas
B10: Limpieza externa general
B11: Realizar pruebas de funcionamiento
A12: MANTENIMIENTO PREVENTIVO BASCULA CON TALLIMETRO DE LA MARCA NUEVO LEON | B12: Revisión Estado General del Equipo
B13: Verificación de Partes limpieza de soporte, Escala y Resortes
B14: Lubricación de partes mecánicas
B15: Verificación con pesas de prueba de 10kg, 20kg, 50kg, 100kg,120kg,180kg,
B16: Ajuste medida cero
B17: Inspección de medidas
B18: Limpieza externa general
B19: Realizar pruebas de funcionamiento
A20: MANTENIMIENTO PREVENTIVO BASCULA CON TALLIMETRO DE LA MARCA DETECTO | B20: Revisión Estado General del Equipo
B21: Verificación de Partes limpieza de soporte, Escala y Resortes
B22: Lubricación de partes mecánicas
B23: Verificación con pesas de prueba de 10kg, 20kg, 50kg, 100kg,120kg,180kg,
B24: Ajuste medida cero
B25: Inspección de medidas
B26: Limpieza externa general
B27: Realizar pruebas de funcionamiento
A28: MANTENIMIENTO PREVENTIVO BALANZA PESA BEBE MACA SECA DIGITAL | B28: Limpieza general.
B29: Verificación de pantalla
B30: Verificación de plataforma
B31: Verificación de cargador
B32: Verificación de colchoneta
B33: Verificación con masas patrón
B34: Verificación de baterías. Pruebas de funcionamiento.
A35: MANTENIMIENTO PREVENTIVO DESFIBRILADOR MARCA MINDRAY | B35: Limpieza interna del equipo.
B36: Verificaciones y pruebas de funcionamiento
B37: Verificación de encendido normal (Chequeo leds o alarmas audibles característicos)
B38: Transferencia de datos-interface equipo medico pc
B39: Toma de mediciones
B40: Adquisición de señales ECG con Equipo Patrón
...

Sheet FORMULARIO PORCENTAJE DE IVA
A1: PRESTACIÓN DEL SERVICIO DE MANTENIMIENTO PREVENTIVO Y CORRECTIVO INCLUIDOS REPUESTOS PARA LOS DIFERENTES EQUIPOS BIOMÉDICOS DEL HOSPITAL CENTRAL DE LA POLICÍA NACIONAL
A2: ITEM | C2: DESCRIPCIÓN | D2: UNIDAD DE MEDIDA | E2: CANTIDAD | F2: % IVA | G2: EXENTO IVA | H2: EXCLUIDO IVA
A3: 1 | C3: MANTENIMIENTO PREVENTIVO BASCULA CON TALLIMETRO DE LA MARCA HEALTH O METER | D3: VISITA | E3: 1 | F3: %
A4: 2 | C4: MANTENIMIENTO PREVENTIVO BASCULA CON TALLIMETRO DE LA MARCA NUEVO LEON | D4: VISITA | E4: 1 | F4: %
A5: 3 | C5: MANTENIMIENTO PREVENTIVO BASCULA CON TALLIMETRO DE LA MARCA DETECTO | D5: VISITA | E5: 1 | F5: %
A6: 4 | C6: MANTENIMIENTO PREVENTIVO BALANZA PESA BEBE MACA SECA DIGITAL | D6: VISITA | E6: 1 | F6: %
A7: 5 | C7: MANTENIMIENTO PREVENTIVO DESFIBRILADOR MARCA MINDRAY | D7: VISITA | E7: 1 | F7: %
A8: 6 | C8: MANTENIMIENTO PREVENTIVO DESFIBRILADOR MARCA GENERAL ELECTRIC | D8: VISITA | E8: 1 | F8: %
A9: 7 | C9: MANTENIMIENTO PREVENTIVO DESFIBRILADOR DEA SAMARITAN | D9: VISITA | E9: 1 | F9: %
A10: 8 | C10: MANTENIMIENTO PREVENTIVO DOPPLER FETAL MARCA HUNTLEIGH | D10: VISITA | E10: 1 | F10: %
A11: 9 | C11: MANTENIMIENTO PREVENTIVO ECOGRAFO ALOKA | D11: VISITA | E11: 1 | F11: %
A12: 10 | C12: MANTENIMIENTO PREVENTIVO ECOGRAFO MARCA PHILIPS | D12: VISITA | E12: 1 | F12: %
A13: 11 | C13: MANTENIMIENTO PREVENTIVO DE ECOGRAFO HITACHI | D13: VISITA | E13: 1 | F13: %
A14: 12 | C14: MANTENIMIENTO PREVENTIVO ELECTROCARDIOGRAFO MARCA TRISMED | D14: VISITA | E14: 1 | F14: %
... A258: 256 | C258: MANTENIMIENTO PREVENTIVO LASER TERAPEUTICO DE LA MARCA CHATTANOGA | D258: VISITA | E258: 1 | F258: %
A259: PRESTACIÓN DEL SERVICIO DE MANTENIMIENTO PREVENTIVO Y CORRECTIVO INCLUIDOS REPUESTOS PARA LOS DIFERENTES EQUIPOS BIOMÉDICOS DEL HOSPITAL CENTRAL DE LA POLICÍA NACIONAL
A260: ITEM | B260: DESCRIPCIÓN | D260: UNIDAD DE MEDIDA | E260: CANTIDAD | F260: % IVA | G260: EXENTO IVA | H260: EXCLUIDO IVA
A261: 257 | B261: BASCULA CON TALLIMETRO DE LA MARCA HEALTH O METER | C261: CAMBIO E INSTALACION TALLIMETRO | D261: ACTIVIDAD | E261: 1 | F261: %
A262: 258 | C262: CAMBIO E INSTALACION PLATAFORMA | D262: ACTIVIDAD | E262: 1 | F262: %
A263: 259 | C263: CAMBIO E INSTALACIÓN DE CONTRAPESO | D263: ACTIVIDAD | E263: 1 | F263: %
A264: 260 | C264: CAMBIO E INSTALACIÓN DE PLOMOS DE CONTRAPESO | D264: ACTIVIDAD | E264: 1 | F264: %
A265: 261 | C265: CAMBIO E INSTALACIÓN ESCALA GRADUADA | D265: ACTIVIDAD | E265: 1 | F265: %
A266: 262 | C266: CAMBIO E INSTALACIÓN TAPETE EXTERNO | D266: ACTIVIDAD | E266: 1 | F266: %
A267: 263 | C267: CAMBIO E INSTASLACIÓN RESORTES INTERNOS | D267: ACTIVIDAD | E267: 1 | F267: %
A268: 264 | C268: CAMBIO E INSTALACIÓN TORNILLO DE AJUSTE | D268: ACTIVIDAD | E268: 1 | F268: %
A269: 265 | C269: CAMBIO E INSTALACION BRAZO KILOS/LIBRAS | D269: ACTIVIDAD | E269: 1 | F269: %
A270: 266 | C270: CAMBIO E INSTALACION BASE METALICA | D270: ACTIVIDAD | E270: 1 | F270: %
A271: 267 | B271: BASCULA CON TALLIMETRO DE LA MARCA NUEVO LEON | C271: CAMBIO E INSTALACION TALLIMETRO | D271: ACTIVIDAD | E271: 1 | F271: %
A272: 268 | C272: CAMBIO E INSTALACION PLATAFORMA | D272: ACTIVIDAD | E272: 1 | F272: %
A273: 269 | C273: CAMBIO E INSTALACIÓN DE CONTRAPESO | D273: ACTIVIDAD | E273: 1 | F273: %
A274: 270 | C274: CAMBIO E INSTALACIÓN DE PLOMOS DE CONTRAPESO | D274: ACTIVIDAD | E274: 1 | F274: %
A275: 271 | C275: CAMBIO E INSTALACIÓN ESCALA GRADUADA | D275: ACTIVIDAD | E275: 1 | F275: %
A276: 272 | C276: CAMBIO E INSTALACIÓN TAPETE EXTERNO | D276: ACTIVIDAD | E276: 1 | F276: %
A277: 273 | C277: CAMBIO E INSTASLACIÓN RESORTES INTERNOS | D277: ACTIVIDAD | E277: 1 | F277: %
A278: 274 | C278: CAMBIO E INSTALACIÓN TORNILLO DE AJUSTE | D278: ACTIVIDAD | E278: 1 | F278: %
A279: 275 | C279: CAMBIO E INSTALACION BRAZO KILOS/LIBRAS | D279: ACTIVIDAD | E279: 1 | F279: %
A280: 276 | C280: CAMBIO E INSTALACION BASE METALICA | D280: ACTIVIDAD | E280: 1 | F280: %
A281: 277 | B281: BASCULA CON TALLIMETRO DE LA MARCA DETECTO | C281: CAMBIO E INSTALACION TALLIMETRO | D281: ACTIVIDAD | E281: 1 | F281: %
A282: 278 | C282: CAMBIO E INSTALACION PLATAFORMA | D282: ACTIVIDAD | E282: 1 | F282: %
A283: 279 | C283: CAMBIO E INSTALACIÓN DE CONTRAPESO | D283: ACTIVIDAD | E283: 1 | F283: %
...
