Workbook

Sheet ESPECIFICACIONES TECNICAS
A1: MANTENIMIENTO PREVENTIVO Y CORRECTIVO INCLUIDOS REPUESTOS GENUINOS DE EQUIPOS DE LA MARCA CADWELL
A2: ITEM | B2: EQUIPO | C2: ACTIVIDADES DE MANTENIMIENTO PREVENTIVO | D2: CANTIDAD | E2: UNIDAD DE MEDIDA | F2: MES / VISITA
A3: 1 | B3: MANTENIMIENTO PREVENTIVO EQUIPO ELECTROMIOGRAFO POTENCIALES EVOCADOS MODELO SIERRA II WEDGE | C3: Desarme, Limpieza interna y externa Diagnóstico y verificación del estado físico y funcionamiento de cada una de las partes y el hardware Verificación del funcionamiento de cada uno de los componentes organización de la información en la basa de datos y el disco duro del pc Comprobación de funcionamiento de estimulador eléctrico Comprobación de impedancias de electrodos Comprobación de registro en los diferentes protocolos Revisión de la conexión de los pines a la tarjeta del amplificador Documentación y elaboración de reportes de servicio técnico detallados de todos los mantenimientos. | D3: 1 | E3: VISITA | F3: SEGUNDO SEMESTRE DEL 2026
A4: 2 | B4: MANTENIMIENTO PREVENTIVO EQUIPO POLISOMNOGRAFO, ELECTROENCEFALOGRAFO Y VIDEO TELEMETRIA, MODELO EASY III SLEEP Q- VIDEO | C4: Desarme, limpieza interna y externa Diagnóstico y verificación del estado físico y funcionamiento de cada una de las partes y el hardware Verificación del funcionamiento de cada uno de los componentes Organización de la información en la basa de datos y el disco duro del pc Comprobación de funcionamiento de estimulador eléctrico Comprobación de impedancias de electrodos Comprobación de registro en los diferentes protocolos Revisión de la conexión de los pines a la tarjeta del amplificador | D4: 1
A5: 3 | B5: MANTENIMIENTO PREVENTIVO PARA EQUIPO ELECTROMIOGRAFO POTENCIALES EVOCADOS MODELO SIERRA | C5: Desarme, Limpieza interna y externa Diagnóstico y verificación del estado físico y funcionamiento de cada una de las partes y el hardware Verificación del funcionamiento de cada uno de los componentes Organización de la información en la basa de datos y el disco duro del pc Comprobación de impedancias de electrodos Comprobación de registro en los diferentes protocolos Revisión de la conexión de los pines a la tarjeta del amplificador Documentación y elaboración de reportes de servicio técnico detallados de todos los mantenimientos. | D5: 1
A6: ITEM | B6: EQUIPO | C6: ACTIVIDADES DE MANTENIMIENTO CORRECTIVO (INCLUYE REPUESTOS E INSTALACION) | D6: UNIDAD DE MEDIDA | E6: PERIODICIDAD
A7: 4 | B7: EQUIPO ELECTROMIOGRAFO POTENCIALES EVOCADOS MODELO SIERRA II WEDGE (INCLUYE CAMBIO E INSTALACIÓN) | C7: CAMBIO E INSTALACION DE AMPLIFICADOR CADWELL SIERRA | D7: ACTIVIDAD | E7: A SOLICITUD DEL SUPERVISOR
A8: 5 | C8: CAMBIO E INSTALACION DE MODULO DE CAPTACION Y ALMACENAMIENTO SIERRA | D8: ACTIVIDAD
A9: 6 | C9: CAMBIO E INSTALACIÓN PUNTAS PARA ESTIMULADOR ELÉCTRICO CADWELL (PAR) | D9: ACTIVIDAD
A10: 7 | C10: CAMBIO E INSTALACIÓN DE REDUCTOR DE TRANSIENTES | D10: ACTIVIDAD
A11: 8 | C11: CAMBIO E INSTALACIÓN DE TARJETA DE PERILLAS PARA CONSOLA | D11: ACTIVIDAD
A12: 9 | C12: CAMBIO E INSTALACIÓN DE AMPLIFICADOR CADWELL SIERRA | D12: ACTIVIDAD
A13: 10 | C13: CAMBIO E INSTALACIÓN DE MODULO DE CAPTACIÓN Y ALMACENAMIENTO SIERRA | D13: ACTIVIDAD
A14: 11 | C14: CAMBIO E INSTALACIÓN DE SOPORTE PARA EQUIPO SIERRA | D14: ACTIVIDAD
A15: 12 | C15: CAMBIO E INSTALACIÓN CABLE PARA AMPLIFICADOR | D15: ACTIVIDAD
A16: 13 | C16: CAMBIO E INSTALACIÓN CARCASA PARA ESTIMULADOR ELÉCTRICO | D16: ACTIVIDAD
A17: 14 | C17: CAMBIO E INSTALACIÓN DE ESTIMULADOR ELÉCTRICO | D17: ACTIVIDAD
A18: 15 | C18: CAMBIO E INSTALACIÓN PUNTAS PARA ESTIMULADOR ELÉCTRICO (PAR) | D18: ACTIVIDAD
A19: 16 | C19: CAMBIO E INSTALACIÓN TARJETA REMOTE ANÁLOGA PARA AMPLIFICADOR | D19: ACTIVIDAD
... A23: 20 | C23: CAMBIO E INSTALACIÓN TARJETA DATA BASE | D23: ACTIVIDAD
A24: 21 | B24: EQUIPO POLISOMNOGRAFO, ELECTROENCEFALOGRAFO Y VIDEO TELEMETRIA, MODELO EASY III SLEEP Q- VIDEO (INCLUYE CAMBIO E INSTALACIÓN) | C24: CAMBIO E INSTALACIÓN SOPORTE DE PARED PARA AMPLIFICADOR CADWELL EASY | D24: ACTIVIDAD
A25: 22 | C25: CAMBIO E INSTALACION DE SOPORTE DE PARED PARA ARC ESSENTIA | D25: ACTIVIDAD
A26: 23 | C26: CAMBIO E INSTALACIÓN MODULO AMBULATORIO AMPLIFIER | D26: ACTIVIDAD
A27: 24 | C27: CAMBIO E INSTALACIÓN DE MODULO DE ALMACENAMIENTO AMBULATORIO VERSION 2.0 | D27: ACTIVIDAD
A28: 25 | C28: CAMBIO E INSTALACION EASY AMB EEG FLASH ARC | D28: ACTIVIDAD
A29: 26 | C29: CAMBIO E INSTLACION DE CABLE PARA AMPLIFICADOR LARGO | D29: ACTIVIDAD
A30: 27 | C30: CAMBIO E INSTLACION DE CABLE PARA FLASH LARGO | D30: ACTIVIDAD
A31: 28 | C31: CAMBIO E INSTALACION DE MULTIPUERTO PARA CONEXIÓN AMBULATORA | D31: ACTIVIDAD
A32: 29 | C32: CAMBIO E INSTALACION DE PAQUETE DE CABLES PARA CONEXION EEG ARC ESSENTIA X 40 | D32: ACTIVIDAD
A33: 30 | C33: CAMBIO E INSTALACION DE MODULO ARC PARA IMPRESIÓN | D33: ACTIVIDAD
A34: 31 | C34: CAMBIO E INSTALACION DE PAQUETE DE CABLES PARA CONEXION EEG Y LTM EASY 3 X 40 | D34: ACTIVIDAD
A35: 32 | C35: CAMBIO E INSTALACION CABLE DE AMPLIFICADOR EASY 3 Ref. 362039-000 | D35: ACTIVIDAD
A36: 33 | C36: CAMBIO E INSTALACION CARCASA DE AMPLIFICADOR EASY 3 | D36: ACTIVIDAD
... A58: 55 | C58: CAMBIO E INSTALACION CAMARA, PAN-TILT-ZOOM, FULL HD (PANASONIC) + POE SUPPLY, DUAL PORT, 60W | D58: ACTIVIDAD
A59: 56 | B59: EQUIPO ELECTROMIOGRAFO POTENCIALES EVOCADOS MODELO SIERRA (INCLUYE CAMBIO E INSTALACIÓN) | C59: CAMBIO E INSTALACIÓN DE TARJETA ANÁLOGA PARA AMPLIFICADOR | D59: ACTIVIDAD
A60: 57 | C60: CAMBIO E INSTALACIÓN DE TARJETA INPUT PARA AMPLIFICADOR | D60: ACTIVIDAD
A61: 58 | C61: CABLE PARA AMPLIFICADOR | D61: ACTIVIDAD
A62: 59 | C62: CAMBIO E INSTALACION CABLE USB A A USB B PARA CONSOLA | D62: ACTIVIDAD
A63: 60 | C63: CAMBIO E INSTALACION CABLE DE PODER GRADO HOSPITALARIO | D63: ACTIVIDAD
A64: 61 | C64: CAMBIO E INSTALACION CARCASA PARA ESTIMULADOR ELÉCTRICO | D64: ACTIVIDAD
...

Sheet HISTORICOS 
A1: GRPO 2 - 5.2 PRECIOS HISTORICOS
A2: PRESTACIÓN DEL SERVICIO DE MANTENIMIENTO PREVENTIVO Y CORRECTIVO INCLUIDOS REPUESTOS GENUINOS DE EQUIPOS COMO ELECTROENCEFALOGRAFO Y ELECTROMIOGRAFO DE LA MARCA CADWELL
A3: ÍTEM | B3: ENTIDAD CONTRATANTE Y CONTRATISTA | C3: DESCRIPCIÓN | D3: VALOR CONTRATO 2023 | G3: PRECIO HISTORICO VALOR UNITARIO PROYECTADO CON IPC 2023 (9.28%) + IPC 2024 (5,20%) + IPC 2025 (5,10%) | H3: VALOR CONTRATO 2024 | I3: VALOR CONTRATO 2025 | J3: PRECIO HISTORICO VALOR UNITARIO (IVA INCLUIDO)
A4: 1 | B4: HOCEN - A&B EQUIPOS | C4: MANTENIMIENTO PREVENTIVO EQUIPO ELECTROMIOGRAFO POTENCIALES EVOCADOS MODELO SIERRA II WEDGE | D4: 2805575.5 | E4: =(D4*9.28%)+D4 -> 3065932.9 | F4: =(E4*5.2%)+E4 -> 3225361.4 | G4: =(F4*5.1%)+F4 -> 3389854.8 | H4: NO SE CONTRATO | I4: NO SE CONTRATO | J4: 3389854.8
A5: 2 | B5: HOCEN - A&B EQUIPOS | C5: MANTENIMIENTO PREVENTIVO EQUIPO POLISOMNOGRAFO, ELECTROENCEFALOGRAFO Y VIDEO TELEMETRIA, MODELO EASY III SLEEP Q- VIDEO | D5: 2805575.5 | E5: =(D5*9.28%)+D5 -> 3065932.9 | F5: =(E5*5.2%)+E5 -> 3225361.4 | G5: =(F5*5.1%)+F5 -> 3389854.8 | H5: NO SE CONTRATO | I5: NO SE CONTRATO | J5: 3389854.8
A6: 3 | B6: HOCEN - A&B EQUIPOS | C6: MANTENIMIENTO PREVENTIVO PARA EQUIPO ELECTROMIOGRAFO POTENCIALES EVOCADOS MODELO SIERRA | D6: NO SE CONTRATO | E6: NO SE CONTRATO | F6: NO SE CONTRATO | G6: NO SE CONTRATO | H6: NO SE CONTRATO | I6: NO SE CONTRATO | J6: NO SE CONTRATO
A7: 4 | B7: HOCEN - A&B EQUIPOS | C7: CAMBIO E INSTALACION DE AMPLIFICADOR CADWELL SIERRA | D7: 38212305 | E7: =(D7*9.28%)+D7 -> 41758406 | F7: =(E7*5.2%)+E7 -> 43929844 | G7: =(F7*5.1%)+F7 -> 46170266 | H7: NO SE CONTRATO | I7: NO SE CONTRATO | J7: 46170266
A8: 5 | B8: HOCEN - A&B EQUIPOS | C8: CAMBIO E INSTALACION DE MODULO DE CAPTACION Y ALMACENAMIENTO SIERRA | D8: 6826070.7 | E8: =(D8*9.28%)+D8 -> 7459530.1 | F8: =(E8*5.2%)+E8 -> 7847425.7 | G8: =(F8*5.1%)+F8 -> 8247644.4 | H8: NO SE CONTRATO | I8: NO SE CONTRATO | J8: 8247644.4
A9: 6 | B9: HOCEN - A&B EQUIPOS | C9: CAMBIO E INSTALACIÓN PUNTAS PARA ESTIMULADOR ELÉCTRICO CADWELL (PAR) | D9: 303380.92 | E9: =(D9*9.28%)+D9 -> 331534.67 | F9: =(E9*5.2%)+E9 -> 348774.47 | G9: =(F9*5.1%)+F9 -> 366561.97 | H9: NO SE CONTRATO | I9: NO SE CONTRATO | J9: 366561.97
A10: 7 | B10: HOCEN - A&B EQUIPOS | C10: CAMBIO E INSTALACIÓN DE REDUCTOR DE TRANSIENTES | D10: 758452.31 | E10: =(D10*9.28%)+D10 -> 828836.68 | F10: =(E10*5.2%)+E10 -> 871936.19 | G10: =(F10*5.1%)+F10 -> 916404.93 | H10: NO SE CONTRATO | I10: NO SE CONTRATO | J10: 916404.93
A11: 8 | B11: HOCEN - A&B EQUIPOS | C11: CAMBIO E INSTALACIÓN DE TARJETA DE PERILLAS PARA CONSOLA | D11: 3943952 | E11: =(D11*9.28%)+D11 -> 4309950.7 | F11: =(E11*5.2%)+E11 -> 4534068.2 | G11: =(F11*5.1%)+F11 -> 4765305.6 | H11: NO SE CONTRATO | I11: NO SE CONTRATO | J11: 4765305.6
A12: 9 | B12: HOCEN - A&B EQUIPOS | C12: CAMBIO E INSTALACIÓN DE AMPLIFICADOR CADWELL SIERRA | D12: 38212305 | E12: =(D12*9.28%)+D12 -> 41758406 | F12: =(E12*5.2%)+E12 -> 43929844 | G12: =(F12*5.1%)+F12 -> 46170266 | H12: NO SE CONTRATO | I12: NO SE CONTRATO | J12: 46170266
A13: 10 | B13: HOCEN - A&B EQUIPOS | C13: CAMBIO E INSTALACIÓN DE MODULO DE CAPTACIÓN Y ALMACENAMIENTO SIERRA | D13: 6826070.7 | E13: =(D13*9.28%)+D13 -> 7459530.1 | F13: =(E13*5.2%)+E13 -> 7847425.7 | G13: =(F13*5.1%)+F13 -> 8247644.4 | H13: NO SE CONTRATO | I13: NO SE CONTRATO | J13: 8247644.4
A14: 11 | B14: HOCEN - A&B EQUIPOS | C14: CAMBIO E INSTALACIÓN DE SOPORTE PARA EQUIPO SIERRA | D14: 2167006.6 | E14: =(D14*9.28%)+D14 -> 2368104.8 | F14: =(E14*5.2%)+E14 -> 2491246.2 | G14: =(F14*5.1%)+F14 -> 2618299.8 | H14: NO SE CONTRATO | I14: NO SE CONTRATO | J14: 2618299.8
A15: 12 | B15: HOCEN - A&B EQUIPOS | C15: CAMBIO E INSTALACIÓN CABLE PARA AMPLIFICADOR | D15: 937447.05 | E15: =(D15*9.28%)+D15 -> 1024442.1 | F15: =(E15*5.2%)+E15 -> 1077713.1 | G15: =(F15*5.1%)+F15 -> 1132676.5 | H15: NO SE CONTRATO | I15: NO SE CONTRATO | J15: 1132676.5
A16: 13 | B16: HOCEN - A&B EQUIPOS | C16: CAMBIO E INSTALACIÓN CARCASA PARA ESTIMULADOR ELÉCTRICO | D16: 703084.98 | E16: =(D16*9.28%)+D16 -> 768331.27 | F16: =(E16*5.2%)+E16 -> 808284.5 | G16: =(F16*5.1%)+F16 -> 849507.01 | H16: NO SE CONTRATO | I16: NO SE CONTRATO | J16: 849507.01
A17: 14 | B17: HOCEN - A&B EQUIPOS | C17: CAMBIO E INSTALACIÓN DE ESTIMULADOR ELÉCTRICO | D17: 1015567.3 | E17: =(D17*9.28%)+D17 -> 1109812 | F17: =(E17*5.2%)+E17 -> 1167522.2 | G17: =(F17*5.1%)+F17 -> 1227065.8 | H17: NO SE CONTRATO | I17: NO SE CONTRATO | J17: 1227065.8
A18: 15 | B18: HOCEN - A&B EQUIPOS | C18: CAMBIO E INSTALACIÓN PUNTAS PARA ESTIMULADOR ELÉCTRICO (PAR) | D18: 728114.21 | E18: =(D18*9.28%)+D18 -> 795683.21 | F18: =(E18*5.2%)+E18 -> 837058.74 | G18: =(F18*5.1%)+F18 -> 879748.73 | H18: NO SE CONTRATO | I18: NO SE CONTRATO | J18: 879748.73
A19: 16 | B19: HOCEN - A&B EQUIPOS | C19: CAMBIO E INSTALACIÓN TARJETA REMOTE ANÁLOGA PARA AMPLIFICADOR | D19: 3593547.6 | E19: =(D19*9.28%)+D19 -> 3927028.9 | F19: =(E19*5.2%)+E19 -> 4131234.4 | G19: =(F19*5.1%)+F19 -> 4341927.3 | H19: NO SE CONTRATO | I19: NO SE CONTRATO | J19: 4341927.3
A20: 17 | B20: HOCEN - A&B EQUIPOS | C20: CAMBIO E INSTALACIÓN CABLE DE PODER GRADO HOSPITALARIO | D20: NO SE CONTRATO | E20: NO SE CONTRATO | F20: NO SE CONTRATO | G20: NO SE CONTRATO | H20: NO SE CONTRATO | I20: NO SE CONTRATO | J20: NO SE CONTRATO
A21: 18 | B21: HOCEN - A&B EQUIPOS | C21: CAMBIO E INSTALACIÓN GAFAS DE LEDS | D21: NO SE CONTRATO | E21: NO SE CONTRATO | F21: NO SE CONTRATO | G21: NO SE CONTRATO | H21: NO SE CONTRATO | I21: NO SE CONTRATO | J21: NO SE CONTRATO
A22: 19 | B22: HOCEN - A&B EQUIPOS | C22: CAMBIO E INSTALACIÓN CONECTOR USB PARA CONSOLA | D22: NO SE CONTRATO | E22: NO SE CONTRATO | F22: NO SE CONTRATO | G22: NO SE CONTRATO | H22: NO SE CONTRATO | I22: NO SE CONTRATO | J22: NO SE CONTRATO
A23: 20 | B23: HOCEN - A&B EQUIPOS | C23: CAMBIO E INSTALACIÓN TARJETA DATA BASE | D23: NO SE CONTRATO | E23: NO SE CONTRATO | F23: NO SE CONTRATO | G23: NO SE CONTRATO | H23: NO SE CONTRATO | I23: NO SE CONTRATO | J23: NO SE CONTRATO
A24: 21 | B24: HOCEN - A&B EQUIPOS | C24: CAMBIO E INSTALACIÓN SOPORTE DE PARED PARA AMPLIFICADOR CADWELL EASY | D24: 3821701.3 | E24: =(D24*9.28%)+D24 -> 4176355.1 | F24: =(E24*5.2%)+E24 -> 4393525.6 | G24: =(F24*5.1%)+F24 -> 4617595.4 | H24: NO SE CONTRATO | I24: NO SE CONTRATO | J24: 4617595.4
A25: 22 | B25: HOCEN - A&B EQUIPOS | C25: CAMBIO E INSTALACION DE SOPORTE DE PARED PARA ARC ESSENTIA | D25: 4269670.7 | E25: =(D25*9.28%)+D25 -> 4665896.1 | F25: =(E25*5.2%)+E25 -> 4908522.7 | G25: =(F25*5.1%)+F25 -> 5158857.4 | H25: NO SE CONTRATO | I25: NO SE CONTRATO | J25: 5158857.4
A26: 23 | B26: HOCEN - A&B EQUIPOS | C26: CAMBIO E INSTALACIÓN MODULO AMBULATORIO AMPLIFIER | D26: 27322311 | E26: =(D26*9.28%)+D26 -> 29857821 | F26: =(E26*5.2%)+E26 -> 31410428 | G26: =(F26*5.1%)+F26 -> 33012360 | H26: NO SE CONTRATO | I26: NO SE CONTRATO | J26: 33012360
A27: 24 | B27: HOCEN - A&B EQUIPOS | C27: CAMBIO E INSTALACIÓN DE MODULO DE ALMACENAMIENTO AMBULATORIO VERSION 2.0 | D27: 8379092.1 | E27: =(D27*9.28%)+D27 -> 9156671.9 | F27: =(E27*5.2%)+E27 -> 9632818.8 | G27: =(F27*5.1%)+F27 -> 10124093 | H27: NO SE CONTRATO | I27: NO SE CONTRATO | J27: 10124093
A28: 25 | B28: HOCEN - A&B EQUIPOS | C28: CAMBIO E INSTALACION EASY AMB EEG FLASH ARC | D28: 24342707 | E28: =(D28*9.28%)+D28 -> 26601711 | F28: =(E28*5.2%)+E28 -> 27985000 | G28: =(F28*5.1%)+F28 -> 29412234 | H28: NO SE CONTRATO | I28: NO SE CONTRATO | J28: 29412234
A29: 26 | B29: HOCEN - A&B EQUIPOS | C29: CAMBIO E INSTLACION DE CABLE PARA AMPLIFICADOR LARGO | D29: 5308862.6 | E29: =(D29*9.28%)+D29 -> 5801525.1 | F29: =(E29*5.2%)+E29 -> 6103204.4 | G29: =(F29*5.1%)+F29 -> 6414467.8 | H29: NO SE CONTRATO | I29: NO SE CONTRATO | J29: 6414467.8
A30: 27 | B30: HOCEN - A&B EQUIPOS | C30: CAMBIO E INSTLACION DE CABLE PARA FLASH LARGO | D30: 5839384.7 | E30: =(D30*9.28%)+D30 -> 6381279.6 | F30: =(E30*5.2%)+E30 -> 6713106.1 | G30: =(F30*5.1%)+F30 -> 7055474.5 | H30: NO SE CONTRATO | I30: NO SE CONTRATO | J30: 7055474.5
A31: 28 | B31: HOCEN - A&B EQUIPOS | C31: CAMBIO E INSTALACION DE MULTIPUERTO PARA CONEXIÓN AMBULATORA | D31: 682273.22 | E31: =(D31*9.28%)+D31 -> 745588.18 | F31: =(E31*5.2%)+E31 -> 784358.76 | G31: =(F31*5.1%)+F31 -> 824361.06 | H31: NO SE CONTRATO | I31: NO SE CONTRATO | J31: 824361.06
A32: 29 | B32: HOCEN - A&B EQUIPOS | C32: CAMBIO E INSTALACION DE PAQUETE DE CABLES PARA CONEXION EEG ARC ESSENTIA X 40 | D32: 4246604.5 | E32: =(D32*9.28%)+D32 -> 4640689.4 | F32: =(E32*5.2%)+E32 -> 4882005.3 | G32: =(F32*5.1%)+F32 -> 5130987.5 | H32: NO SE CONTRATO | I32: NO SE CONTRATO | J32: 5130987.5
A33: 30 | B33: HOCEN - A&B EQUIPOS | C33: CAMBIO E INSTALACION DE MODULO ARC PARA IMPRESIÓN | D33: 1155736.8 | E33: =(D33*9.28%)+D33 -> 1262989.2 | F33: =(E33*5.2%)+E33 -> 1328664.7 | G33: =(F33*5.1%)+F33 -> 1396426.6 | H33: NO SE CONTRATO | I33: NO SE CONTRATO | J33: 1396426.6
A34: 31 | B34: HOCEN - A&B EQUIPOS | C34: CAMBIO E INSTALACION DE PAQUETE DE CABLES PARA CONEXION EEG Y LTM EASY 3 X 40 | D34: 4732208.2 | E34: =(D34*9.28%)+D34 -> 5171357.1 | F34: =(E34*5.2%)+E34 -> 5440267.7 | G34: =(F34*5.1%)+F34 -> 5717721.4 | H34: NO SE CONTRATO | I34: NO SE CONTRATO | J34: 5717721.4
A35: 32 | B35: HOCEN - A&B EQUIPOS | C35: CAMBIO E INSTALACION CABLE DE AMPLIFICADOR EASY 3 Ref. 362039-000 | D35: 406674.9 | E35: =(D35*9.28%)+D35 -> 444414.33 | F35: =(E35*5.2%)+E35 -> 467523.88 | G35: =(F35*5.1%)+F35 -> 491367.6 | H35: NO SE CONTRATO | I35: NO SE CONTRATO | J35: 491367.6
... A57: 54 | B57: HOCEN - A&B EQUIPOS | C57: CAMBIO E INSTALACION BOMBILLA PARA FOTOESTIMULADOR UND ARC E3 | D57: 800829.73 | E57: =(D57*9.28%)+D57 -> 875146.73 | F57: =(E57*5.2%)+E57 -> 920654.36 | G57: =(F57*5.1%)+F57 -> 967607.73 | H57: NO SE CONTRATO | I57: NO SE CONTRATO | J57: 967607.73
A58: 55 | B58: HOCEN - A&B EQUIPOS | C58: CAMBIO E INSTALACION CAMARA, PAN-TILT-ZOOM, FULL HD (PANASONIC) + POE SUPPLY, DUAL PORT, 60W | D58: NO SE CONTRATO | E58: NO SE CONTRATO | F58: NO SE CONTRATO | G58: NO SE CONTRATO | H58: NO SE CONTRATO | I58: NO SE CONTRATO | J58: NO SE CONTRATO
A59: 56 | B59: HOCEN - A&B EQUIPOS | C59: CAMBIO E INSTALACIÓN DE TARJETA ANÁLOGA PARA AMPLIFICADOR | D59: NO SE CONTRATO | E59: NO SE CONTRATO | F59: NO SE CONTRATO | G59: NO SE CONTRATO | H59: NO SE CONTRATO | I59: NO SE CONTRATO | J59: NO SE CONTRATO
A60: 57 | B60: HOCEN - A&B EQUIPOS | C60: CAMBIO E INSTALACIÓN DE TARJETA INPUT PARA AMPLIFICADOR | D60: 16000000 | E60: =(D60*9.28%)+D60 -> 17484800 | F60: =(E60*5.2%)+E60 -> 18394010 | G60: =(F60*5.1%)+F60 -> 19332104 | H60: NO SE CONTRATO | I60: NO SE CONTRATO | J60: 19332104
A61: 58 | B61: HOCEN - A&B EQUIPOS | C61: CABLE PARA AMPLIFICADOR | D61: 1428000 | E61: =(D61*9.28%)+D61 -> 1560518.4 | F61: =(E61*5.2%)+E61 -> 1641665.4 | G61: =(F61*5.1%)+F61 -> 1725390.3 | H61: NO SE CONTRATO | I61: NO SE CONTRATO | J61: 1725390.3
...

Sheet PRECIOS DE MERCADO
A1: 5,4 PRECIOS DE MERCADO PRESTACIÓN DEL SERVICIO DE MANTENIMIENTO PREVENTIVO Y CORRECTIVO INCLUIDOS REPUESTOS GENUINOS DE EQUIPOS DE LA MARCA CADWELL- GRUPO 2
A2: ITEM | B2: DESCRIPCION ACTIVIDAD DE MANTENIMIENTO PREVENTIVO | C2: UNICA COTIZACIÓN | D2: UNICO VALOR COTIZADO
A3: 1 | B3: MANTENIMIENTO PREVENTIVO EQUIPO ELECTROMIOGRAFO POTENCIALES EVOCADOS MODELO SIERRA II WEDGE | C3: =+E3/2 -> 952000 | D3: =+C3 -> 952000 | E3: 1.904.000,00 | F3: Valor por 2 visitas de mantenimiento al año
A4: 2 | B4: MANTENIMIENTO PREVENTIVO EQUIPO POLISOMNOGRAFO, ELECTROENCEFALOGRAFO Y VIDEO TELEMETRIA, MODELO EASY III SLEEP Q- VIDEO | C4: =+E4/2 -> 952000 | D4: =+C4 -> 952000 | E4: 1.904.000,00 | F4: Valor por dos visitas de mantenimiento al año.
A5: 3 | B5: MANTENIMIENTO PREVENTIVO PARA EQUIPO ELECTROMIOGRAFO POTENCIALES EVOCADOS MODELO SIERRA | C5: =+E5/2 -> 952000 | D5: =+C5 -> 952000 | E5: 1.904.000,00 | F5: Valor por dos visitas de mantenimiento al año.
A6: 4 | B6: CAMBIO E INSTALACION DE AMPLIFICADOR CADWELL SIERRA | C6: 1064920 | D6: =+C6 -> 1064920
A7: 5 | B7: CAMBIO E INSTALACION DE MODULO DE CAPTACION Y ALMACENAMIENTO SIERRA | C7: 11067000 | D7: =+C7 -> 11067000
A8: 6 | B8: CAMBIO E INSTALACIÓN PUNTAS PARA ESTIMULADOR ELÉCTRICO CADWELL (PAR) | C8: 330946 | D8: =+C8 -> 330946
A9: 7 | B9: CAMBIO E INSTALACIÓN DE REDUCTOR DE TRANSIENTES | C9: 1570800 | D9: =+C9 -> 1570800
A10: 8 | B10: CAMBIO E INSTALACIÓN DE TARJETA DE PERILLAS PARA CONSOLA | C10: 3335570 | D10: =+C10 -> 3335570
A11: 9 | B11: CAMBIO E INSTALACIÓN DE AMPLIFICADOR CADWELL SIERRA | C11: 19807633 | D11: =+C11 -> 19807633
A12: 10 | B12: CAMBIO E INSTALACIÓN DE MODULO DE CAPTACIÓN Y ALMACENAMIENTO SIERRA | C12: 11067000 | D12: =+C12 -> 11067000
A13: 11 | B13: CAMBIO E INSTALACIÓN DE SOPORTE PARA EQUIPO SIERRA | C13: 5393544 | D13: =+C13 -> 5393544
A14: 12 | B14: CAMBIO E INSTALACIÓN CABLE PARA AMPLIFICADOR | C14: 1111609 | D14: =+C14 -> 1111609
A15: 13 | B15: CAMBIO E INSTALACIÓN CARCASA PARA ESTIMULADOR ELÉCTRICO | C15: 2879688 | D15: =+C15 -> 2879688
A16: 14 | B16: CAMBIO E INSTALACIÓN DE ESTIMULADOR ELÉCTRICO | C16: 5245679 | D16: =+C16 -> 5245679
A17: 15 | B17: CAMBIO E INSTALACIÓN PUNTAS PARA ESTIMULADOR ELÉCTRICO (PAR) | C17: 330946 | D17: =+C17 -> 330946
A18: 16 | B18: CAMBIO E INSTALACIÓN TARJETA REMOTE ANÁLOGA PARA AMPLIFICADOR | C18: 5863000 | D18: =+C18 -> 5863000 | F18: Tarjeta para amplificador Sierra Summit
A19: 17 | B19: CAMBIO E INSTALACIÓN CABLE DE PODER GRADO HOSPITALARIO | C19: 357000 | D19: =+C19 -> 357000
A20: 18 | B20: CAMBIO E INSTALACIÓN GAFAS DE LEDS | C20: 2156152 | D20: =+C20 -> 2156152
A21: 19 | B21: CAMBIO E INSTALACIÓN CONECTOR USB PARA CONSOLA | C21: 131500 | D21: =+C21 -> 131500
A22: 20 | B22: CAMBIO E INSTALACIÓN TARJETA DATA BASE | C22: 4137618 | D22: =+C22 -> 4137618 | F22: Tarjeta para equipo Sierra Summit
A23: 21 | B23: CAMBIO E INSTALACIÓN SOPORTE DE PARED PARA AMPLIFICADOR CADWELL EASY | C23: 357314 | D23: =+C23 -> 357314
A24: 22 | B24: CAMBIO E INSTALACION DE SOPORTE DE PARED PARA ARC ESSENTIA | C24: 4550454 | D24: =+C24 -> 4550454
A25: 23 | B25: CAMBIO E INSTALACIÓN MODULO AMBULATORIO AMPLIFIER | C25: 33477237 | D25: =+C25 -> 33477237
A26: 24 | B26: CAMBIO E INSTALACIÓN DE MODULO DE ALMACENAMIENTO AMBULATORIO VERSION 2.0 | C26: 14895994 | D26: =+C26 -> 14895994
A27: 25 | B27: CAMBIO E INSTALACION EASY AMB EEG FLASH ARC | C27: 28251009 | D27: =+C27 -> 28251009
A28: 26 | B28: CAMBIO E INSTLACION DE CABLE PARA AMPLIFICADOR LARGO | C28: 6279454 | D28: =+C28 -> 6279454
A29: 27 | B29: CAMBIO E INSTLACION DE CABLE PARA FLASH LARGO | C29: 6411194 | D29: =+C29 -> 6411194
A30: 28 | B30: CAMBIO E INSTALACION DE MULTIPUERTO PARA CONEXIÓN AMBULATORA | C30: 907613 | D30: =+C30 -> 907613
A31: 29 | B31: CAMBIO E INSTALACION DE PAQUETE DE CABLES PARA CONEXION EEG ARC ESSENTIA X 40 | C31: 5110840 | D31: =+C31 -> 5110840
A32: 30 | B32: CAMBIO E INSTALACION DE MODULO ARC PARA IMPRESIÓN | C32: 1387979 | D32: =+C32 -> 1387979
A33: 31 | B33: CAMBIO E INSTALACION DE PAQUETE DE CABLES PARA CONEXION EEG Y LTM EASY 3 X 40 | C33: 5110840 | D33: =+C33 -> 5110840
A34: 32 | B34: CAMBIO E INSTALACION CABLE DE AMPLIFICADOR EASY 3 Ref. 362039-000 | C34: 364916 | D34: =+C34 -> 364916 | F34: Ref. 362039-000 con un largo de 4m
A35: 33 | B35: CAMBIO E INSTALACION CARCASA DE AMPLIFICADOR EASY 3 | C35: 14256000 | D35: =+C35 -> 14256000 | F35: Proceso se debe realizar por exportación temporal
A36: 34 | B36: CAMBIO E INSTALACION TARJETA PANEL DE IMPEDANCIAS EASY 3 | C36: 1606255 | D36: =+C36 -> 1606255
A37: 35 | B37: CAMBIO E INSTALACION TARJETA PCB CONTROLLER EASY 3 | C37: 23891408 | D37: =+C37 -> 23891408
A38: 36 | B38: CAMBIO E INSTALACION TARJETA IMPUT EASY 3 | C38: 7266626 | D38: =+C38 -> 7266626
A39: 37 | B39: CAMBIO E INSTALACION TARJETA CANALES DC EASY 3 | C39: 18804950 | D39: =+C39 -> 18804950
A40: 38 | B40: CAMBIO E INSTALACION TARJETA ANALOGA EASY 3 | C40: 42915759 | D40: =+C40 -> 42915759
...

Sheet ANALISIS DE PRECIOS 
A1: 5.5 ANALISIS DEL VALOR ESTIMADO - GRUPO 2
A2: PRESTACIÓN DEL SERVICIO DE MANTENIMIENTO PREVENTIVO Y CORRECTIVO INCLUIDOS REPUESTOS GENUINOS DE EQUIPOS DE LA MARCA CADWELL
A3: ITEM | B3: UNIDAD DE DESTINO | C3: DESCRIPCION ACTIVIDAD DE MANTENIMIENTO PREVENTIVO | D3: UNIDAD DE MEDIDA | E3: PRECIO SECOP | F3: PRECIOS DE CATÁLOGO | G3: PRECIOS HISTÓRICOS PROYECTADOS IVA INCLUIDO | H3: PRECIOS DE MERCADO IVA INCLUIDO | I3: VALOR UNITARIO ESTIMADO, INCLUIDO IVA | J3: VALOR TOTAL ESTIMADO
A4: 1 | B4: HOCEN | C4: =+'ESPECIFICACIONES TECNICAS'!B3 -> MANTENIMIENTO PREVENTIVO EQUIPO ELECTROMIOGRAFO POTENCIALES EVOCADOS MODELO SIERRA II WEDGE | D4: VISITA | E4: N/A | F4: N/A | G4: =+'HISTORICOS '!J4 -> 3389854.8 | H4: =+'PRECIOS DE MERCADO'!D3 -> 952000 | I4: =+MIN(G4:H4) -> 952000 | J4: =+MIN(G4:H4) -> 952000
A5: 2 | B5: HOCEN | C5: =+'ESPECIFICACIONES TECNICAS'!B4 -> MANTENIMIENTO PREVENTIVO EQUIPO POLISOMNOGRAFO, ELECTROENCEFALOGRAFO Y VIDEO TELEMETRIA, MODELO EASY III SLEEP Q- VIDEO | D5: VISITA | E5: N/A | F5: N/A | G5: =+'HISTORICOS '!J5 -> 3389854.8 | H5: =+'PRECIOS DE MERCADO'!D4 -> 952000 | I5: =+MIN(G5:H5) -> 952000 | J5: =+MIN(G5:H5) -> 952000
A6: 3 | B6: HOCEN | C6: =+'ESPECIFICACIONES TECNICAS'!B5 -> MANTENIMIENTO PREVENTIVO PARA EQUIPO ELECTROMIOGRAFO POTENCIALES EVOCADOS MODELO SIERRA | D6: VISITA | E6: N/A | F6: N/A | G6: =+'HISTORICOS '!J6 -> NO SE CONTRATO | H6: =+'PRECIOS DE MERCADO'!D5 -> 952000 | I6: =+MIN(G6:H6) -> 952000 | J6: =+MIN(G6:H6) -> 952000
A7: 4 | B7: HOCEN | C7: =+'ESPECIFICACIONES TECNICAS'!C7 -> CAMBIO E INSTALACION DE AMPLIFICADOR CADWELL SIERRA | D7: ACTIVIDAD | E7: N/A | F7: N/A | G7: =+'HISTORICOS '!J7 -> 46170266 | H7: =+'PRECIOS DE MERCADO'!D6 -> 1064920 | I7: =+MIN(G7:H7) -> 1064920 | J7: =+MIN(G7:H7) -> 1064920
A8: 5 | B8: HOCEN | C8: =+'ESPECIFICACIONES TECNICAS'!C8 -> CAMBIO E INSTALACION DE MODULO DE CAPTACION Y ALMACENAMIENTO SIERRA | D8: ACTIVIDAD | E8: N/A | F8: N/A | G8: =+'HISTORICOS '!J8 -> 8247644.4 | H8: =+'PRECIOS DE MERCADO'!D7 -> 11067000 | I8: =+MIN(G8:H8) -> 8247644.4 | J8: =+MIN(G8:H8) -> 8247644.4
A9: 6 | B9: HOCEN | C9: =+'ESPECIFICACIONES TECNICAS'!C9 -> CAMBIO E INSTALACIÓN PUNTAS PARA ESTIMULADOR ELÉCTRICO CADWELL (PAR) | D9: ACTIVIDAD | E9: N/A | F9: N/A | G9: =+'HISTORICOS '!J9 -> 366561.97 | H9: =+'PRECIOS DE MERCADO'!D8 -> 330946 | I9: =+MIN(G9:H9) -> 330946 | J9: =+MIN(G9:H9) -> 330946
A10: 7 | B10: HOCEN | C10: =+'ESPECIFICACIONES TECNICAS'!C10 -> CAMBIO E INSTALACIÓN DE REDUCTOR DE TRANSIENTES | D10: ACTIVIDAD | E10: N/A | F10: N/A | G10: =+'HISTORICOS '!J10 -> 916404.93 | H10: =+'PRECIOS DE MERCADO'!D9 -> 1570800 | I10: =+MIN(G10:H10) -> 916404.93 | J10: =+MIN(G10:H10) -> 916404.93
A11: 8 | B11: HOCEN | C11: =+'ESPECIFICACIONES TECNICAS'!C11 -> CAMBIO E INSTALACIÓN DE TARJETA DE PERILLAS PARA CONSOLA | D11: ACTIVIDAD | E11: N/A | F11: N/A | G11: =+'HISTORICOS '!J11 -> 4765305.6 | H11: =+'PRECIOS DE MERCADO'!D10 -> 3335570 | I11: =+MIN(G11:H11) -> 3335570 | J11: =+MIN(G11:H11) -> 3335570
A12: 9 | B12: HOCEN | C12: =+'ESPECIFICACIONES TECNICAS'!C12 -> CAMBIO E INSTALACIÓN DE AMPLIFICADOR CADWELL SIERRA | D12: ACTIVIDAD | E12: N/A | F12: N/A | G12: =+'HISTORICOS '!J12 -> 46170266 | H12: =+'PRECIOS DE MERCADO'!D11 -> 19807633 | I12: =+MIN(G12:H12) -> 19807633 | J12: =+MIN(G12:H12) -> 19807633
A13: 10 | B13: HOCEN | C13: =+'ESPECIFICACIONES TECNICAS'!C13 -> CAMBIO E INSTALACIÓN DE MODULO DE CAPTACIÓN Y ALMACENAMIENTO SIERRA | D13: ACTIVIDAD | E13: N/A | F13: N/A | G13: =+'HISTORICOS '!J13 -> 8247644.4 | H13: =+'PRECIOS DE MERCADO'!D12 -> 11067000 | I13: =+MIN(G13:H13) -> 8247644.4 | J13: =+MIN(G13:H13) -> 8247644.4
A14: 11 | B14: HOCEN | C14: =+'ESPECIFICACIONES TECNICAS'!C14 -> CAMBIO E INSTALACIÓN DE SOPORTE PARA EQUIPO SIERRA | D14: ACTIVIDAD | E14: N/A | F14: N/A | G14: =+'HISTORICOS '!J14 -> 2618299.8 | H14: =+'PRECIOS DE MERCADO'!D13 -> 5393544 | I14: =+MIN(G14:H14) -> 2618299.8 | J14: =+MIN(G14:H14) -> 2618299.8
A15: 12 | B15: HOCEN | C15: =+'ESPECIFICACIONES TECNICAS'!C15 -> CAMBIO E INSTALACIÓN CABLE PARA AMPLIFICADOR | D15: ACTIVIDAD | E15: N/A | F15: N/A | G15: =+'HISTORICOS '!J15 -> 1132676.5 | H15: =+'PRECIOS DE MERCADO'!D14 -> 1111609 | I15: =+MIN(G15:H15) -> 1111609 | J15: =+MIN(G15:H15) -> 1111609
A16: 13 | B16: HOCEN | C16: =+'ESPECIFICACIONES TECNICAS'!C16 -> CAMBIO E INSTALACIÓN CARCASA PARA ESTIMULADOR ELÉCTRICO | D16: ACTIVIDAD | E16: N/A | F16: N/A | G16: =+'HISTORICOS '!J16 -> 849507.01 | H16: =+'PRECIOS DE MERCADO'!D15 -> 2879688 | I16: =+MIN(G16:H16) -> 849507.01 | J16: =+MIN(G16:H16) -> 849507.01
A17: 14 | B17: HOCEN | C17: =+'ESPECIFICACIONES TECNICAS'!C17 -> CAMBIO E INSTALACIÓN DE ESTIMULADOR ELÉCTRICO | D17: ACTIVIDAD | E17: N/A | F17: N/A | G17: =+'HISTORICOS '!J17 -> 1227065.8 | H17: =+'PRECIOS DE MERCADO'!D16 -> 5245679 | I17: =+MIN(G17:H17) -> 1227065.8 | J17: =+MIN(G17:H17) -> 1227065.8
A18: 15 | B18: HOCEN | C18: =+'ESPECIFICACIONES TECNICAS'!C18 -> CAMBIO E INSTALACIÓN PUNTAS PARA ESTIMULADOR ELÉCTRICO (PAR) | D18: ACTIVIDAD | E18: N/A | F18: N/A | G18: =+'HISTORICOS '!J18 -> 879748.73 | H18: =+'PRECIOS DE MERCADO'!D17 -> 330946 | I18: =+MIN(G18:H18) -> 330946 | J18: =+MIN(G18:H18) -> 330946
... A68: 65 | B68: HOCEN | C68: =+'ESPECIFICACIONES TECNICAS'!C68 -> CAMBIO E INSTALACION AUDÍFONOS DE BAJO PESO | D68: ACTIVIDAD | E68: N/A | F68: N/A | G68: =+'HISTORICOS '!J68 -> 5316328.6 | H68: =+'PRECIOS DE MERCADO'!D67 -> 4749285 | I68: =+MIN(G68:H68) -> 4749285 | J68: =+MIN(G68:H68) -> 4749285
A69: 66 | B69: HOCEN | C69: CAMBIO E INSTALACIÓN CABLE PARA PATRÓN REVERSIBLE | D69: ACTIVIDAD | E69: N/A | F69: N/A | G69: =+'HISTORICOS '!J69 -> 1570979.9 | H69: =+'PRECIOS DE MERCADO'!D68 -> 1634523 | I69: =+MIN(G69:H69) -> 1570979.9 | J69: =+MIN(G69:H69) -> 1570979.9
A70: 67 | B70: HOCEN | C70: CAMBIO E INSTALACIÓN TARJETA DATA PARA CONSOLA | D70: ACTIVIDAD | E70: N/A | F70: N/A | G70: =+'HISTORICOS '!J70 -> 366561.97 | H70: =+'PRECIOS DE MERCADO'!D69 -> 4711875 | I70: =+MIN(G70:H70) -> 366561.97 | J70: =+MIN(G70:H70) -> 366561.97
A71: 68 | B71: HOCEN | C71: CAMBIO E INSTALACIÓN TARJETA PCB ASSY ENCODER | D71: ACTIVIDAD | E71: N/A | F71: N/A | G71: =+'HISTORICOS '!J71 -> 4765305.6 | H71: =+'PRECIOS DE MERCADO'!D70 -> 743404 | I71: =+MIN(G71:H71) -> 743404 | J71: =+MIN(G71:H71) -> 743404
A72: 69 | B72: HOCEN | C72: CAMBIO E INSTALACIÓN TARJETA REMOTE INPUT PARA AMPLIFICADOR | D72: ACTIVIDAD | E72: N/A | F72: N/A | G72: =+'HISTORICOS '!J72 -> 2749214.8 | H72: =+'PRECIOS DE MERCADO'!D71 -> 2279096 | I72: =+MIN(G72:H72) -> 2279096 | J72: =+MIN(G72:H72) -> 2279096
A73: 70 | B73: HOCEN | C73: CAMBIO E INSTALACIÓN CABLE USB A a USB B PARA CONSOLA | D73: ACTIVIDAD | E73: N/A | F73: N/A | G73: =+'HISTORICOS '!J73 -> NO SE CONTRATO | H73: =+'PRECIOS DE MERCADO'!D72 -> 68421 | I73: =+MIN(G73:H73) -> 68421 | J73: =+MIN(G73:H73) -> 68421

Sheet FICHA TECNICA
A1: FICHA TÉCNICA DE PRODUCTO
A2: DENOMINACIÓN DE BIEN O SERVICIO
A3: equipo médico, accesorios y suministros
A4: DENOMINACIÓN TÉCNICA DEL BIEN O SERVICIO
A5: MANTENIMIENTO PREVENTIVO Y CORRECTIVO
A6: UNIDAD DE MEDIDA
A7: Equipo médico, accesorios y mantenimiento
A8: DESCRIPCIÓN GENERAL
A9: EQUIPO | B9: ITEM | C9: DESCRIPCION | D9: CLASIFICACIÓN UNSPSC
A10: =+'ESPECIFICACIONES TECNICAS'!B3 -> MANTENIMIENTO PREVENTIVO EQUIPO ELECTROMIOGRAFO POTENCIALES EVOCADOS MODELO SIERRA II WEDGE | B10: =+'ESPECIFICACIONES TECNICAS'!A3 -> 1 | C10: =+'ESPECIFICACIONES TECNICAS'!C3 -> Desarme, Limpieza interna y externa Diagnóstico y verificación del estado físico y funcionamiento de cada una de las partes y el hardware Verificación del funcionamiento de cada uno de los componentes organización de la información en la basa de datos y el disco duro del pc Comprobación de funcionamiento de estimulador eléctrico Comprobación de impedancias de electrodos Comprobación de registro en los diferentes protocolos Revisión de la conexión de los pines a la tarjeta del amplificador Documentación y elaboración de reportes de servicio técnico detallados de todos los mantenimientos. | D10: 41103900 42201600 42201700 81101700 85161500
A11: =+'ESPECIFICACIONES TECNICAS'!B4 -> MANTENIMIENTO PREVENTIVO EQUIPO POLISOMNOGRAFO, ELECTROENCEFALOGRAFO Y VIDEO TELEMETRIA, MODELO EASY III SLEEP Q- VIDEO | B11: =+'ESPECIFICACIONES TECNICAS'!A4 -> 2 | C11: =+'ESPECIFICACIONES TECNICAS'!C4 -> Desarme, limpieza interna y externa Diagnóstico y verificación del estado físico y funcionamiento de cada una de las partes y el hardware Verificación del funcionamiento de cada uno de los componentes Organización de la información en la basa de datos y el disco duro del pc Comprobación de funcionamiento de estimulador eléctrico Comprobación de impedancias de electrodos Comprobación de registro en los diferentes protocolos Revisión de la conexión de los pines a la tarjeta del amplificador
A12: =+'ESPECIFICACIONES TECNICAS'!B5 -> MANTENIMIENTO PREVENTIVO PARA EQUIPO ELECTROMIOGRAFO POTENCIALES EVOCADOS MODELO SIERRA | B12: =+'ESPECIFICACIONES TECNICAS'!A5 -> 3 | C12: =+'ESPECIFICACIONES TECNICAS'!C5 -> Desarme, Limpieza interna y externa Diagnóstico y verificación del estado físico y funcionamiento de cada una de las partes y el hardware Verificación del funcionamiento de cada uno de los componentes Organización de la información en la basa de datos y el disco duro del pc Comprobación de impedancias de electrodos Comprobación de registro en los diferentes protocolos Revisión de la conexión de los pines a la tarjeta del amplificador Documentación y elaboración de reportes de servicio técnico detallados de todos los mantenimientos.
A13: EQUIPO ELECTROMIOGRAFO POTENCIALES EVOCADOS MODELO SIERRA II WEDGE (INCLUYE CAMBIO E INSTALACIÓN) | B13: =+'ESPECIFICACIONES TECNICAS'!A7 -> 4 | C13: CAMBIO E INSTALACION DE AMPLIFICADOR CADWELL SIERRA
B14: =+'ESPECIFICACIONES TECNICAS'!A8 -> 5 | C14: CAMBIO E INSTALACION DE MODULO DE CAPTACION Y ALMACENAMIENTO SIERRA
B15: =+'ESPECIFICACIONES TECNICAS'!A9 -> 6 | C15: CAMBIO E INSTALACIÓN PUNTAS PARA ESTIMULADOR ELÉCTRICO CADWELL (PAR)
B16: =+'ESPECIFICACIONES TECNICAS'!A10 -> 7 | C16: CAMBIO E INSTALACIÓN DE REDUCTOR DE TRANSIENTES
B17: =+'ESPECIFICACIONES TECNICAS'!A11 -> 8 | C17: CAMBIO E INSTALACIÓN DE TARJETA DE PERILLAS PARA CONSOLA
B18: =+'ESPECIFICACIONES TECNICAS'!A12 -> 9 | C18: CAMBIO E INSTALACIÓN DE AMPLIFICADOR CADWELL SIERRA
B19: =+'ESPECIFICACIONES TECNICAS'!A13 -> 10 | C19: CAMBIO E INSTALACIÓN DE MODULO DE CAPTACIÓN Y ALMACENAMIENTO SIERRA
B20: =+'ESPECIFICACIONES TECNICAS'!A14 -> 11 | C20: CAMBIO E INSTALACIÓN DE SOPORTE PARA EQUIPO SIERRA
B21: =+'ESPECIFICACIONES TECNICAS'!A15 -> 12 | C21: CAMBIO E INSTALACIÓN CABLE PARA AMPLIFICADOR
B22: =+'ESPECIFICACIONES TECNICAS'!A16 -> 13 | C22: CAMBIO E INSTALACIÓN CARCASA PARA ESTIMULADOR ELÉCTRICO
B23: =+'ESPECIFICACIONES TECNICAS'!A17 -> 14 | C23: CAMBIO E INSTALACIÓN DE ESTIMULADOR ELÉCTRICO
B24: =+'ESPECIFICACIONES TECNICAS'!A18 -> 15 | C24: CAMBIO E INSTALACIÓN PUNTAS PARA ESTIMULADOR ELÉCTRICO (PAR)
B25: =+'ESPECIFICACIONES TECNICAS'!A19 -> 16 | C25: CAMBIO E INSTALACIÓN TARJETA REMOTE ANÁLOGA PARA AMPLIFICADOR
... B29: =+'ESPECIFICACIONES TECNICAS'!A23 -> 20 | C29: CAMBIO E INSTALACIÓN TARJETA DATA BASE
A30: EQUIPO POLISOMNOGRAFO, ELECTROENCEFALOGRAFO Y VIDEO TELEMETRIA, MODELO EASY III SLEEP Q- VIDEO (INCLUYE CAMBIO E INSTALACIÓN) | B30: =+'ESPECIFICACIONES TECNICAS'!A24 -> 21 | C30: CAMBIO E INSTALACIÓN SOPORTE DE PARED PARA AMPLIFICADOR CADWELL EASY
B31: =+'ESPECIFICACIONES TECNICAS'!A25 -> 22 | C31: CAMBIO E INSTALACION DE SOPORTE DE PARED PARA ARC ESSENTIA
B32: =+'ESPECIFICACIONES TECNICAS'!A26 -> 23 | C32: CAMBIO E INSTALACIÓN MODULO AMBULATORIO AMPLIFIER
B33: =+'ESPECIFICACIONES TECNICAS'!A27 -> 24 | C33: CAMBIO E INSTALACIÓN DE MODULO DE ALMACENAMIENTO AMBULATORIO VERSION 2.0
B34: =+'ESPECIFICACIONES TECNICAS'!A28 -> 25 | C34: CAMBIO E INSTALACION EASY AMB EEG FLASH ARC
B35: =+'ESPECIFICACIONES TECNICAS'!A29 -> 26 | C35: CAMBIO E INSTLACION DE CABLE PARA AMPLIFICADOR LARGO
B36: =+'ESPECIFICACIONES TECNICAS'!A30 -> 27 | C36: CAMBIO E INSTLACION DE CABLE PARA FLASH LARGO
B37: =+'ESPECIFICACIONES TECNICAS'!A31 -> 28 | C37: CAMBIO E INSTALACION DE MULTIPUERTO PARA CONEXIÓN AMBULATORA
B38: =+'ESPECIFICACIONES TECNICAS'!A32 -> 29 | C38: CAMBIO E INSTALACION DE PAQUETE DE CABLES PARA CONEXION EEG ARC ESSENTIA X 40
B39: =+'ESPECIFICACIONES TECNICAS'!A33 -> 30 | C39: CAMBIO E INSTALACION DE MODULO ARC PARA IMPRESIÓN
B40: =+'ESPECIFICACIONES TECNICAS'!A34 -> 31 | C40: CAMBIO E INSTALACION DE PAQUETE DE CABLES PARA CONEXION EEG Y LTM EASY 3 X 40
B41: =+'ESPECIFICACIONES TECNICAS'!A35 -> 32 | C41: CAMBIO E INSTALACION CABLE DE AMPLIFICADOR EASY 3 Ref. 362039-000
B42: =+'ESPECIFICACIONES TECNICAS'!A36 -> 33 | C42: CAMBIO E INSTALACION CARCASA DE AMPLIFICADOR EASY 3
... B64: =+'ESPECIFICACIONES TECNICAS'!A58 -> 55 | C64: CAMBIO E INSTALACION CAMARA, PAN-TILT-ZOOM, FULL HD (PANASONIC) + POE SUPPLY, DUAL PORT, 60W
...

Sheet VALOR ESTIMADO
A1: 5,6 VALOR ESTIMADO - GRUPO 2
A2: ITEM | B2: RUBRO Y DESAGREGACIÓN PRESUPUESTAL | C2: RECURSO | D2: UNIDAD DE DESTINO | E2: DESCRIPCION ACTIVIDAD DE MANTENIMIENTO PREVENTIVO | F2: CANTIDAD | G2: VALOR UNITARIO ESTIMADO | H2: VALOR VIGENCIA 2026
A3: 1 | D3: HOCEN | E3: =+'ESPECIFICACIONES TECNICAS'!B3 -> MANTENIMIENTO PREVENTIVO EQUIPO ELECTROMIOGRAFO POTENCIALES EVOCADOS MODELO SIERRA II WEDGE | F3: 1 | G3: =+'ANALISIS DE PRECIOS '!J4 -> 952000 | H3: =+G3 -> 952000
A4: 2 | D4: HOCEN | E4: =+'ESPECIFICACIONES TECNICAS'!B4 -> MANTENIMIENTO PREVENTIVO EQUIPO POLISOMNOGRAFO, ELECTROENCEFALOGRAFO Y VIDEO TELEMETRIA, MODELO EASY III SLEEP Q- VIDEO | F4: 1 | G4: =+'ANALISIS DE PRECIOS '!J5 -> 952000 | H4: =+G4 -> 952000
A5: 3 | D5: HOCEN | E5: =+'ESPECIFICACIONES TECNICAS'!B5 -> MANTENIMIENTO PREVENTIVO PARA EQUIPO ELECTROMIOGRAFO POTENCIALES EVOCADOS MODELO SIERRA | F5: 1 | G5: =+'ANALISIS DE PRECIOS '!J6 -> 952000 | H5: =+G5 -> 952000
A6: 4 | D6: HOCEN | E6: =+'ESPECIFICACIONES TECNICAS'!C7 -> CAMBIO E INSTALACION DE AMPLIFICADOR CADWELL SIERRA | F6: 1 | G6: =+'ANALISIS DE PRECIOS '!J7 -> 1064920 | H6: =+G6 -> 1064920
A7: 5 | D7: HOCEN | E7: =+'ESPECIFICACIONES TECNICAS'!C8 -> CAMBIO E INSTALACION DE MODULO DE CAPTACION Y ALMACENAMIENTO SIERRA | F7: 1 | G7: =+'ANALISIS DE PRECIOS '!J8 -> 8247644.4 | H7: =+G7 -> 8247644.4
A8: 6 | D8: HOCEN | E8: =+'ESPECIFICACIONES TECNICAS'!C9 -> CAMBIO E INSTALACIÓN PUNTAS PARA ESTIMULADOR ELÉCTRICO CADWELL (PAR) | F8: 1 | G8: =+'ANALISIS DE PRECIOS '!J9 -> 330946 | H8: =+G8 -> 330946
A9: 7 | D9: HOCEN | E9: =+'ESPECIFICACIONES TECNICAS'!C10 -> CAMBIO E INSTALACIÓN DE REDUCTOR DE TRANSIENTES | F9: 1 | G9: =+'ANALISIS DE PRECIOS '!J10 -> 916404.93 | H9: =+G9 -> 916404.93
A10: 8 | D10: HOCEN | E10: =+'ESPECIFICACIONES TECNICAS'!C11 -> CAMBIO E INSTALACIÓN DE TARJETA DE PERILLAS PARA CONSOLA | F10: 1 | G10: =+'ANALISIS DE PRECIOS '!J11 -> 3335570 | H10: =+G10 -> 3335570
A11: 9 | D11: HOCEN | E11: =+'ESPECIFICACIONES TECNICAS'!C12 -> CAMBIO E INSTALACIÓN DE AMPLIFICADOR CADWELL SIERRA | F11: 1 | G11: =+'ANALISIS DE PRECIOS '!J12 -> 19807633 | H11: =+G11 -> 19807633
A12: 10 | D12: HOCEN | E12: =+'ESPECIFICACIONES TECNICAS'!C13 -> CAMBIO E INSTALACIÓN DE MODULO DE CAPTACIÓN Y ALMACENAMIENTO SIERRA | F12: 1 | G12: =+'ANALISIS DE PRECIOS '!J13 -> 8247644.4 | H12: =+G12 -> 8247644.4
A13: 11 | D13: HOCEN | E13: =+'ESPECIFICACIONES TECNICAS'!C14 -> CAMBIO E INSTALACIÓN DE SOPORTE PARA EQUIPO SIERRA | F13: 1 | G13: =+'ANALISIS DE PRECIOS '!J14 -> 2618299.8 | H13: =+G13 -> 2618299.8
A14: 12 | D14: HOCEN | E14: =+'ESPECIFICACIONES TECNICAS'!C15 -> CAMBIO E INSTALACIÓN CABLE PARA AMPLIFICADOR | F14: 1 | G14: =+'ANALISIS DE PRECIOS '!J15 -> 1111609 | H14: =+G14 -> 1111609
A15: 13 | D15: HOCEN | E15: =+'ESPECIFICACIONES TECNICAS'!C16 -> CAMBIO E INSTALACIÓN CARCASA PARA ESTIMULADOR ELÉCTRICO | F15: 1 | G15: =+'ANALISIS DE PRECIOS '!J16 -> 849507.01 | H15: =+G15 -> 849507.01
A16: 14 | D16: HOCEN | E16: =+'ESPECIFICACIONES TECNICAS'!C17 -> CAMBIO E INSTALACIÓN DE ESTIMULADOR ELÉCTRICO | F16: 1 | G16: =+'ANALISIS DE PRECIOS '!J17 -> 1227065.8 | H16: =+G16 -> 1227065.8
A17: 15 | D17: HOCEN | E17: =+'ESPECIFICACIONES TECNICAS'!C18 -> CAMBIO E INSTALACIÓN PUNTAS PARA ESTIMULADOR ELÉCTRICO (PAR) | F17: 1 | G17: =+'ANALISIS DE PRECIOS '!J18 -> 330946 | H17: =+G17 -> 330946
... A67: 65 | D67: HOCEN | E67: =+'ESPECIFICACIONES TECNICAS'!C68 -> CAMBIO E INSTALACION AUDÍFONOS DE BAJO PESO | F67: 1 | G67: =+'ANALISIS DE PRECIOS '!J68 -> 4749285 | H67: =+G67 -> 4749285
A68: 66 | D68: HOCEN | E68: CAMBIO E INSTALACIÓN CABLE PARA PATRÓN REVERSIBLE | F68: 1 | G68: =+'ANALISIS DE PRECIOS '!J69 -> 1570979.9 | H68: =+G68 -> 1570979.9
A69: 67 | D69: HOCEN | E69: CAMBIO E INSTALACIÓN TARJETA DATA PARA CONSOLA | F69: 1 | G69: =+'ANALISIS DE PRECIOS '!J70 -> 366561.97 | H69: =+G69 -> 366561.97
A70: 68 | D70: HOCEN | E70: CAMBIO E INSTALACIÓN TARJETA PCB ASSY ENCODER | F70: 1 | G70: =+'ANALISIS DE PRECIOS '!J71 -> 743404 | H70: =+G70 -> 743404
A71: 69 | D71: HOCEN | E71: CAMBIO E INSTALACIÓN TARJETA REMOTE INPUT PARA AMPLIFICADOR | F71: 1 | G71: =+'ANALISIS DE PRECIOS '!J72 -> 2279096 | H71: =+G71 -> 2279096
A72: 70 | D72: HOCEN | E72: CAMBIO E INSTALACIÓN CABLE USB A a USB B PARA CONSOLA | F72: 1 | G72: =+'ANALISIS DE PRECIOS '!J73 -> 68421 | H72: =+G72 -> 68421

Sheet FORMULARIO ESPECIFICACIONES TE 
A1: ESPECIFICACION TECNICA PRESTACIÓN DEL SERVICIO DE MANTENIMIENTO PREVENTIVO Y CORRECTIVO INCLUIDOS REPUESTOS GENUINOS DE EQUIPOS DE LA MARCA CADWELL
A2: ITEM | B2: EQUIPO | C2: ACTIVIDADES DE MANTENIMIENTO PREVENTIVO | D2: CANTIDAD DE EQUIPOS | E2: UNIDAD DE MEDIDA | F2: MES / VISITA | G2: SI OFRECE | H2: NO OFRECE
A3: 1 | B3: =+'VALOR ESTIMADO'!E3 -> MANTENIMIENTO PREVENTIVO EQUIPO ELECTROMIOGRAFO POTENCIALES EVOCADOS MODELO SIERRA II WEDGE | C3: Desarme, Limpieza interna y externa Diagnóstico y verificación del estado físico y funcionamiento de cada una de las partes y el hardware Verificación del funcionamiento de cada uno de los componentes organización de la información en la basa de datos y el disco duro del pc Comprobación de funcionamiento de estimulador eléctrico Comprobación de impedancias de electrodos Comprobación de registro en los diferentes protocolos Revisión de la conexión de los pines a la tarjeta del amplificador Documentación y elaboración de reportes de servicio técnico detallados de todos los mantenimientos. | D3: 1 | E3: VISITA | F3: SEGUNDO SEMESTRE DEL 2026
A4: 2 | B4: =+'VALOR ESTIMADO'!E4 -> MANTENIMIENTO PREVENTIVO EQUIPO POLISOMNOGRAFO, ELECTROENCEFALOGRAFO Y VIDEO TELEMETRIA, MODELO EASY III SLEEP Q- VIDEO | C4: Desarme, limpieza interna y externa Diagnóstico y verificación del estado físico y funcionamiento de cada una de las partes y el hardware Verificación del funcionamiento de cada uno de los componentes Organización de la información en la basa de datos y el disco duro del pc Comprobación de funcionamiento de estimulador eléctrico Comprobación de impedancias de electrodos Comprobación de registro en los diferentes protocolos Revisión de la conexión de los pines a la tarjeta del amplificador | D4: 1
A5: 3 | B5: =+'VALOR ESTIMADO'!E5 -> MANTENIMIENTO PREVENTIVO PARA EQUIPO ELECTROMIOGRAFO POTENCIALES EVOCADOS MODELO SIERRA | C5: Desarme, Limpieza interna y externa Diagnóstico y verificación del estado físico y funcionamiento de cada una de las partes y el hardware Verificación del funcionamiento de cada uno de los componentes Organización de la información en la basa de datos y el disco duro del pc Comprobación de impedancias de electrodos Comprobación de registro en los diferentes protocolos Revisión de la conexión de los pines a la tarjeta del amplificador Documentación y elaboración de reportes de servicio técnico detallados de todos los mantenimientos. | D5: 1
A6: ITEM | B6: EQUIPO | C6: ACTIVIDADES DE MANTENIMIENTO CORRECTIVO (INCLUYE REPUESTOS E INSTALACION) | D6: UNIDAD DE MEDIDA | E6: PERIODICIDAD | G6: SI OFRECE | H6: NO OFRECE
A7: 4 | B7: EQUIPO ELECTROMIOGRAFO POTENCIALES EVOCADOS MODELO SIERRA II WEDGE (INCLUYE CAMBIO E INSTALACIÓN) | C7: =+'VALOR ESTIMADO'!E6 -> CAMBIO E INSTALACION DE AMPLIFICADOR CADWELL SIERRA | D7: 1 | E7: ACTIVIDAD | F7: A SOLICITUD DEL SUPERVISOR
A8: 5 | C8: =+'VALOR ESTIMADO'!E7 -> CAMBIO E INSTALACION DE MODULO DE CAPTACION Y ALMACENAMIENTO SIERRA | D8: 1 | E8: ACTIVIDAD
A9: 6 | C9: =+'VALOR ESTIMADO'!E8 -> CAMBIO E INSTALACIÓN PUNTAS PARA ESTIMULADOR ELÉCTRICO CADWELL (PAR) | D9: 1 | E9: ACTIVIDAD
A10: 7 | C10: =+'VALOR ESTIMADO'!E9 -> CAMBIO E INSTALACIÓN DE REDUCTOR DE TRANSIENTES | D10: 1 | E10: ACTIVIDAD
A11: 8 | C11: =+'VALOR ESTIMADO'!E10 -> CAMBIO E INSTALACIÓN DE TARJETA DE PERILLAS PARA CONSOLA | D11: 1 | E11: ACTIVIDAD
A12: 9 | C12: =+'VALOR ESTIMADO'!E11 -> CAMBIO E INSTALACIÓN DE AMPLIFICADOR CADWELL SIERRA | D12: 1 | E12: ACTIVIDAD
A13: 10 | C13: =+'VALOR ESTIMADO'!E12 -> CAMBIO E INSTALACIÓN DE MODULO DE CAPTACIÓN Y ALMACENAMIENTO SIERRA | D13: 1 | E13: ACTIVIDAD
A14: 11 | C14: =+'VALOR ESTIMADO'!E13 -> CAMBIO E INSTALACIÓN DE SOPORTE PARA EQUIPO SIERRA | D14: 1 | E14: ACTIVIDAD
A15: 12 | C15: =+'VALOR ESTIMADO'!E14 -> CAMBIO E INSTALACIÓN CABLE PARA AMPLIFICADOR | D15: 1 | E15: ACTIVIDAD
A16: 13 | C16: =+'VALOR ESTIMADO'!E15 -> CAMBIO E INSTALACIÓN CARCASA PARA ESTIMULADOR ELÉCTRICO | D16: 1 | E16: ACTIVIDAD
A17: 14 | C17: =+'VALOR ESTIMADO'!E16 -> CAMBIO E INSTALACIÓN DE ESTIMULADOR ELÉCTRICO | D17: 1 | E17: ACTIVIDAD
A18: 15 | C18: =+'VALOR ESTIMADO'!E17 -> CAMBIO E INSTALACIÓN PUNTAS PARA ESTIMULADOR ELÉCTRICO (PAR) | D18: 1 | E18: ACTIVIDAD
A19: 16 | C19: =+'VALOR ESTIMADO'!E18 -> CAMBIO E INSTALACIÓN TARJETA REMOTE ANÁLOGA PARA AMPLIFICADOR | D19: 1 | E19: ACTIVIDAD
... A23: 20 | C23: =+'VALOR ESTIMADO'!E22 -> CAMBIO E INSTALACIÓN TARJETA DATA BASE | D23: 1 | E23: ACTIVIDAD
A24: 21 | B24: EQUIPO POLISOMNOGRAFO, ELECTROENCEFALOGRAFO Y VIDEO TELEMETRIA, MODELO EASY III SLEEP Q- VIDEO (INCLUYE CAMBIO E INSTALACIÓN) | C24: =+'VALOR ESTIMADO'!E23 -> CAMBIO E INSTALACIÓN SOPORTE DE PARED PARA AMPLIFICADOR CADWELL EASY | D24: 1 | E24: ACTIVIDAD
A25: 22 | C25: =+'VALOR ESTIMADO'!E24 -> CAMBIO E INSTALACION DE SOPORTE DE PARED PARA ARC ESSENTIA | D25: 1 | E25: ACTIVIDAD
A26: 23 | C26: =+'VALOR ESTIMADO'!E25 -> CAMBIO E INSTALACIÓN MODULO AMBULATORIO AMPLIFIER | D26: 1 | E26: ACTIVIDAD
A27: 24 | C27: =+'VALOR ESTIMADO'!E26 -> CAMBIO E INSTALACIÓN DE MODULO DE ALMACENAMIENTO AMBULATORIO VERSION 2.0 | D27: 1 | E27: ACTIVIDAD
A28: 25 | C28: =+'VALOR ESTIMADO'!E27 -> CAMBIO E INSTALACION EASY AMB EEG FLASH ARC | D28: 1 | E28: ACTIVIDAD
A29: 26 | C29: =+'VALOR ESTIMADO'!E28 -> CAMBIO E INSTLACION DE CABLE PARA AMPLIFICADOR LARGO | D29: 1 | E29: ACTIVIDAD
A30: 27 | C30: =+'VALOR ESTIMADO'!E29 -> CAMBIO E INSTLACION DE CABLE PARA FLASH LARGO | D30: 1 | E30: ACTIVIDAD
A31: 28 | C31: =+'VALOR ESTIMADO'!E30 -> CAMBIO E INSTALACION DE MULTIPUERTO PARA CONEXIÓN AMBULATORA | D31: 1 | E31: ACTIVIDAD
A32: 29 | C32: =+'VALOR ESTIMADO'!E31 -> CAMBIO E INSTALACION DE PAQUETE DE CABLES PARA CONEXION EEG ARC ESSENTIA X 40 | D32: 1 | E32: ACTIVIDAD
A33: 30 | C33: =+'VALOR ESTIMADO'!E32 -> CAMBIO E INSTALACION DE MODULO ARC PARA IMPRESIÓN | D33: 1 | E33: ACTIVIDAD
A34: 31 | C34: =+'VALOR ESTIMADO'!E33 -> CAMBIO E INSTALACION DE PAQUETE DE CABLES PARA CONEXION EEG Y LTM EASY 3 X 40 | D34: 1 | E34: ACTIVIDAD
A35: 32 | C35: =+'VALOR ESTIMADO'!E34 -> CAMBIO E INSTALACION CABLE DE AMPLIFICADOR EASY 3 Ref. 362039-000 | D35: 1 | E35: ACTIVIDAD
A36: 33 | C36: =+'VALOR ESTIMADO'!E35 -> CAMBIO E INSTALACION CARCASA DE AMPLIFICADOR EASY 3 | D36: 1 | E36: ACTIVIDAD
... A58: 55 | C58: =+'VALOR ESTIMADO'!E57 -> CAMBIO E INSTALACION CAMARA, PAN-TILT-ZOOM, FULL HD (PANASONIC) + POE SUPPLY, DUAL PORT, 60W | D58: 1 | E58: ACTIVIDAD
A59: 56 | B59: EQUIPO ELECTROMIOGRAFO POTENCIALES EVOCADOS MODELO SIERRA (INCLUYE CAMBIO E INSTALACIÓN) | C59: =+'VALOR ESTIMADO'!E58 -> CAMBIO E INSTALACIÓN DE TARJETA ANÁLOGA PARA AMPLIFICADOR | D59: 1 | E59: ACTIVIDAD
A60: 57 | C60: =+'VALOR ESTIMADO'!E59 -> CAMBIO E INSTALACIÓN DE TARJETA INPUT PARA AMPLIFICADOR | D60: 1 | E60: ACTIVIDAD
A61: 58 | C61: =+'VALOR ESTIMADO'!E60 -> CABLE PARA AMPLIFICADOR | D61: 1 | E61: ACTIVIDAD
A62: 59 | C62: =+'VALOR ESTIMADO'!E61 -> CAMBIO E INSTALACION CABLE USB A A USB B PARA CONSOLA | D62: 1 | E62: ACTIVIDAD
A63: 60 | C63: =+'VALOR ESTIMADO'!E62 -> CAMBIO E INSTALACION CABLE DE PODER GRADO HOSPITALARIO | D63: 1 | E63: ACTIVIDAD
A64: 61 | C64: =+'VALOR ESTIMADO'!E63 -> CAMBIO E INSTALACION CARCASA PARA ESTIMULADOR ELÉCTRICO | D64: 1 | E64: ACTIVIDAD
...

Sheet FORMULARIOS % IVA
A1: PORCENTAJE DE IVA PRESTACIÓN DEL SERVICIO DE MANTENIMIENTO PREVENTIVO Y CORRECTIVO INCLUIDOS REPUESTOS GENUINOS DE EQUIPOS DE LA MARCA CADWELL
A2: ITEM | B2: DESCRIPCION ACTIVIDAD DE MANTENIMIENTO PREVENTIVO | C2: CANTIDAD | D2: UNIDAD DE MEDIDA | E2: % IVA | F2: EXENTO IVA | G2: EXCLUIDO IVA
A3: 1 | B3: =+'FORMULARIO ESPECIFICACIONES TE '!B3 -> MANTENIMIENTO PREVENTIVO EQUIPO ELECTROMIOGRAFO POTENCIALES EVOCADOS MODELO SIERRA II WEDGE | C3: 1 | D3: VISITA | E3: _______ %
A4: 2 | B4: =+'FORMULARIO ESPECIFICACIONES TE '!B4 -> MANTENIMIENTO PREVENTIVO EQUIPO POLISOMNOGRAFO, ELECTROENCEFALOGRAFO Y VIDEO TELEMETRIA, MODELO EASY III SLEEP Q- VIDEO | C4: 1 | D4: VISITA | E4: _______ %
A5: 3 | B5: =+'FORMULARIO ESPECIFICACIONES TE '!B5 -> MANTENIMIENTO PREVENTIVO PARA EQUIPO ELECTROMIOGRAFO POTENCIALES EVOCADOS MODELO SIERRA | C5: 1 | D5: VISITA | E5: _______ %
A6: 4 | B6: =+'FORMULARIO ESPECIFICACIONES TE '!C7 -> CAMBIO E INSTALACION DE AMPLIFICADOR CADWELL SIERRA | C6: 1 | D6: ACTIVIDAD | E6: _______ %
A7: 5 | B7: =+'FORMULARIO ESPECIFICACIONES TE '!C8 -> CAMBIO E INSTALACION DE MODULO DE CAPTACION Y ALMACENAMIENTO SIERRA | C7: 1 | D7: ACTIVIDAD | E7: _______ %
A8: 6 | B8: =+'FORMULARIO ESPECIFICACIONES TE '!C9 -> CAMBIO E INSTALACIÓN PUNTAS PARA ESTIMULADOR ELÉCTRICO CADWELL (PAR) | C8: 1 | D8: ACTIVIDAD | E8: _______ %
A9: 7 | B9: =+'FORMULARIO ESPECIFICACIONES TE '!C10 -> CAMBIO E INSTALACIÓN DE REDUCTOR DE TRANSIENTES | C9: 1 | D9: ACTIVIDAD | E9: _______ %
A10: 8 | B10: =+'FORMULARIO ESPECIFICACIONES TE '!C11 -> CAMBIO E INSTALACIÓN DE TARJETA DE PERILLAS PARA CONSOLA | C10: 1 | D10: ACTIVIDAD | E10: _______ %
A11: 9 | B11: =+'FORMULARIO ESPECIFICACIONES TE '!C12 -> CAMBIO E INSTALACIÓN DE AMPLIFICADOR CADWELL SIERRA | C11: 1 | D11: ACTIVIDAD | E11: _______ %
A12: 10 | B12: =+'FORMULARIO ESPECIFICACIONES TE '!C13 -> CAMBIO E INSTALACIÓN DE MODULO DE CAPTACIÓN Y ALMACENAMIENTO SIERRA | C12: 1 | D12: ACTIVIDAD | E12: _______ %
A13: 11 | B13: =+'FORMULARIO ESPECIFICACIONES TE '!C14 -> CAMBIO E INSTALACIÓN DE SOPORTE PARA EQUIPO SIERRA | C13: 1 | D13: ACTIVIDAD | E13: _______ %
A14: 12 | B14: =+'FORMULARIO ESPECIFICACIONES TE '!C15 -> CAMBIO E INSTALACIÓN CABLE PARA AMPLIFICADOR | C14: 1 | D14: ACTIVIDAD | E14: _______ %
A15: 13 | B15: =+'FORMULARIO ESPECIFICACIONES TE '!C16 -> CAMBIO E INSTALACIÓN CARCASA PARA ESTIMULADOR ELÉCTRICO | C15: 1 | D15: ACTIVIDAD | E15: _______ %
A16: 14 | B16: =+'FORMULARIO ESPECIFICACIONES TE '!C17 -> CAMBIO E INSTALACIÓN DE ESTIMULADOR ELÉCTRICO | C16: 1 | D16: ACTIVIDAD | E16: _______ %
A17: 15 | B17: =+'FORMULARIO ESPECIFICACIONES TE '!C18 -> CAMBIO E INSTALACIÓN PUNTAS PARA ESTIMULADOR ELÉCTRICO (PAR) | C17: 1 | D17: ACTIVIDAD | E17: _______ %
... A67: 65 | B67: =+'FORMULARIO ESPECIFICACIONES TE '!C68 -> CAMBIO E INSTALACION AUDÍFONOS DE BAJO PESO | C67: 1 | D67: ACTIVIDAD | E67: _______ %
A68: 66 | B68: CAMBIO E INSTALACIÓN CABLE PARA PATRÓN REVERSIBLE | C68: 1 | D68: ACTIVIDAD | E68: _______ %
A69: 67 | B69: CAMBIO E INSTALACIÓN TARJETA DATA PARA CONSOLA | C69: 1 | D69: ACTIVIDAD | E69: _______ %
A70: 68 | B70: CAMBIO E INSTALACIÓN TARJETA PCB ASSY ENCODER | C70: 1 | D70: ACTIVIDAD | E70: _______ %
A71: 69 | B71: CAMBIO E INSTALACIÓN TARJETA REMOTE INPUT PARA AMPLIFICADOR | C71: 1 | D71: ACTIVIDAD | E71: _______ %
A72: 70 | B72: CAMBIO E INSTALACIÓN CABLE USB A a USB B PARA CONSOLA | C72: 1 | D72: ACTIVIDAD | E72: _______ %
