Workbook

Sheet  ESPECIFICACIONES TECNICAS
A1: MANTENIMIENTO PREVENTIVO Y CORRECTIVO INCLUIDOS REPUESTOS GENUINOS DE EQUIPOS DE LA MARCA WESCOR ELITECH
A2: ITEM | B2: EQUIPO | C2: ACTIVIDADES DE MANTENIMIENTO PREVENTIVO | D2: CANTIDAD | E2: UNIDAD DE MEDIDA | F2: MES / VISITA
A3: 1 | B3: EQUIPO AEROSPRAY GRAM 7322 | C3: Verificar estado general del equipo Verificar integridad de carcasa y tapas Verificar conexiones eléctricas Confirmar ausencia de alarmas o mensajes de error Realizar limpieza externa del equipo Limpiar panel de control y superficies externas Revisar estado de boquillas de aspersión Realizar limpieza de boquillas Verificar ausencia de obstrucciones en boquillas Revisar líneas y conexiones de reactivos Verificar funcionamiento del rotor Realizar limpieza interna del dispositivo. Realizar limpieza de los rotores disponibles. Verificar que no se intercambien las posiciones Verificar el estado de las mangueras internas. Verificar el estado de las mangueras externas. Revisar rotor y mecanismos de giro Verificar ausencia de vibraciones anormales Revisar bandejas y soportes de láminas Verificar estado de conexiones internas Inspeccionar tarjetas electrónicas Verificar ausencia de sulfatación o sobrecalentamiento Verificar patrón de rociado de boquillas Realizar test de volumen dispensado Ejecutar prueba funcional Verificar entrega operativa del equipo al servicio | D3: 1 | E3: VISITA | F3: SEGUNDO SEMESTREL DEL 2026
A4: 2 | B4: EQUIPO AEROSPRAY HEMATOLOGÍA 7152 | C4: Verificar estado general del equipo Verificar integridad de carcasa y tapas Verificar conexiones eléctricas Confirmar ausencia de alarmas o mensajes de error Realizar limpieza externa del equipo Limpiar panel de control y superficies externas Revisar estado de boquillas de aspersión Realizar limpieza de boquillas Verificar ausencia de obstrucciones en boquillas Revisar líneas y conexiones de reactivos Verificar funcionamiento del rotor Realizar limpieza interna del dispositivo. Realizar limpieza de los rotores disponibles. Verificar que no se intercambien las posiciones Verificar el estado de las mangueras internas. Verificar el estado de las mangueras externas. Revisar rotor y mecanismos de giro Verificar ausencia de vibraciones anormales Revisar bandejas y soportes de láminas Verificar estado de conexiones internas Inspeccionar tarjetas electrónicas Verificar ausencia de sulfatación o sobrecalentamiento Verificar patrón de rociado de boquillas Realizar test de volumen dispensado Ejecutar prueba funcional Verificar entrega operativa del equipo al servicio | D4: 1 | E4: VISITA
A5: 3 | B5: EQUIPO AEROSPRAY TB 7722 | C5: Verificar estado general del equipo Verificar integridad de carcasa y tapas Verificar conexiones eléctricas Confirmar ausencia de alarmas o mensajes de error Realizar limpieza externa del equipo Limpiar panel de control y superficies externas Revisar estado de boquillas de aspersión Realizar limpieza de boquillas Verificar ausencia de obstrucciones en boquillas Revisar líneas y conexiones de reactivos Verificar funcionamiento del rotor Realizar limpieza interna del dispositivo. Realizar limpieza de los rotores disponibles. Verificar que no se intercambien las posiciones Verificar el estado de las mangueras internas. Verificar el estado de las mangueras externas. Revisar rotor y mecanismos de giro Verificar ausencia de vibraciones anormales Revisar bandejas y soportes de láminas Verificar estado de conexiones internas Inspeccionar tarjetas electrónicas Verificar ausencia de sulfatación o sobrecalentamiento Verificar patrón de rociado de boquillas Realizar test de volumen dispensado Ejecutar prueba funcional Verificar entrega operativa del equipo al servicio | D5: 1 | E5: VISITA
A6: ITEM | B6: EQUIPO | C6: ACTIVIDADES DE MANTENIMIENTO CORRECTIVO (INCLUYE REPUESTOS E INSTALACION) | D6: CANTIDAD | E6: UNIDAD DE MEDIDA | F6: PERIODICIDAD
A7: 4 | B7: EQUIPO AEROSPRAY GRAM 7322 | C7: CAMBIO E INSTALACION REF: RP-147 DRIVE MOTOR ASSEMBLY FOR AEROSPRAY AND CYTOPRO | D7: 1 | E7: ACTIVIDAD | F7: A SOLICITUD DEL SUPERVISOR
A8: 5 | C8: CAMBIO E INSTALACION REF: RP-171 PICKUP TUBE ASSY FOR 5-LITER BOTTLE, AEROSPRAY, NO LEVEL DETECT | D8: 1 | E8: ACTIVIDAD
A9: 6 | C9: CAMBIO E INSTALACION REF: RP-181 DRIVE HUB, UNIVERSAL, 12/30 PLACE, AERO/CYTO | D9: 1 | E9: ACTIVIDAD
A10: 7 | C10: CAMBIO E INSTALACION REF: RP-186 DRAIN/VENT SPIGOT REPAIR KIT FOR AEROSPRAY | D10: 1 | E10: ACTIVIDAD
A11: 8 | C11: CAMBIO E INSTALACION REF: RP-208 150 INCH/PK TUBING, AEROSPRAY | D11: 1 | E11: ACTIVIDAD
A12: 9 | C12: CAMBIO E INSTALACION REF: RP-215 PUMP ASSEMBLY FOR AEROSPRAY | D12: 1 | E12: ACTIVIDAD
A13: 10 | C13: CAMBIO E INSTALACION REF: RP-259 5.25" PRECISION NORPRENE (A 60 G) TUBING AEROSPRAY | D13: 1 | E13: ACTIVIDAD
A14: 11 | C14: CAMBIO E INSTALACION REF: RP-260 5.5" PRECISION NORPRENE (A 60 G)TUBING AEROSPRAY | D14: 1 | E14: ACTIVIDAD
A15: 12 | C15: CAMBIO E INSTALACION REF: RP-275 AEROSPRAY BARB FITTING REPAIR KIT $ 5 13.478 | D15: 1 | E15: ACTIVIDAD
A16: 13 | C16: CAMBIO E INSTALACION REF: RP-293 MAGNETIC SENSOR PCBA FOR AEROSPRAY BOWL | D16: 1 | E16: ACTIVIDAD
A17: 14 | C17: CAMBIO E INSTALACION REF: RP-294 2/PK HINGE ASSEMBLY FOR AEROSPRAY LID | D17: 1 | E17: ACTIVIDAD
A18: 15 | C18: CAMBIO E INSTALACION REF: RP-299 4/PK CHECK VALVE, AEROSPRAY SOLENOID | D18: 1 | E18: ACTIVIDAD
A19: 16 | C19: CAMBIO E INSTALACION REF: RP-307 VENT HOSE, AEROSPRAY | D19: 1 | E19: ACTIVIDAD
... A51: 48 | C51: CAMBIO E INSTALACION REF: AC 188 12-SLIDE VENTED CAROUSEL FOR AEROSPRAY | D51: 1 | E51: ACTIVIDAD
A52: 49 | B52: EQUIPO AEROSPRAY HEMATOLOGÍA 7152 | C52: CAMBIO E INSTALACION REF: RP-147 DRIVE MOTOR ASSEMBLY FOR AEROSPRAY AND CYTOPRO | D52: 1 | E52: ACTIVIDAD
A53: 50 | C53: CAMBIO E INSTALACION REF: RP-171 PICKUP TUBE ASSY FOR 5-LITER BOTTLE, AEROSPRAY | D53: 1 | E53: ACTIVIDAD
A54: 51 | C54: CAMBIO E INSTALACION REF: RP-181 DRIVE HUB, UNIVERSAL, 12/30 PLACE, AERO/CYTO | D54: 1 | E54: ACTIVIDAD
A55: 52 | C55: CAMBIO E INSTALACION REF: RP-186 DRAIN/VENT SPIGOT REPAIR KIT FOR AEROSPRAY | D55: 1 | E55: ACTIVIDAD
A56: 53 | C56: CAMBIO E INSTALACION REF: RP-208 150 INCH/PK TUBING, AEROSPRAY | D56: 1 | E56: ACTIVIDAD
A57: 54 | C57: CAMBIO E INSTALACION REF: RP-215 PUMP ASSEMBLY FOR AEROSPRAY | D57: 1 | E57: ACTIVIDAD
A58: 55 | C58: CAMBIO E INSTALACION REF: RP-259 5.25" PRECISION NORPRENE (A 60 G)TUBING AEROSPRAY | D58: 1 | E58: ACTIVIDAD
A59: 56 | C59: CAMBIO E INSTALACION REF: RP-260 5.5" PRECISION NORPRENE (A 60 G)TUBING AEROSPRAY | D59: 1 | E59: ACTIVIDAD
A60: 57 | C60: CAMBIO E INSTALACION REF: RP-275 AEROSPRAY BARB FITTING REPAIR KIT | D60: 1 | E60: ACTIVIDAD
A61: 58 | C61: CAMBIO E INSTALACION REF: RP-293 MAGNETIC SENSOR PCBA FOR AEROSPRAY BOWL | D61: 1 | E61: ACTIVIDAD
A62: 59 | C62: CAMBIO E INSTALACION REF: RP-294 2/PK HINGE ASSEMBLY FOR AEROSPRAY LID | D62: 1 | E62: ACTIVIDAD
A63: 60 | C63: CAMBIO E INSTALACION REF: RP-299 4/PK CHECK VALVE, AEROSPRAY 7150 SOLENOID | D63: 1 | E63: ACTIVIDAD
A64: 61 | C64: CAMBIO E INSTALACION REF: RP-307 VENT HOSE, AEROSPRAY | D64: 1 | E64: ACTIVIDAD
... A99: 96 | C99: CAMBIO E INSTALACION REF: RP-585 LID LOCK ASSEMBLY, AEROSPARY 7XX2 | D99: 1 | E99: ACTIVIDAD
A100: 97 | B100: EQUIPO AEROSPRAY TB 7722 | C100: CAMBIO E INSTALACION REF: RP-147 DRIVE MOTOR ASSEMBLY FOR AEROSPRAY AND CYTOPRO | D100: 1 | E100: ACTIVIDAD
A101: 98 | C101: CAMBIO E INSTALACION REF: RP-171 PICKUP TUBE ASSY FOR 5-LITER BOTTLE, AEROSPRAY | D101: 1 | E101: ACTIVIDAD
A102: 99 | C102: CAMBIO E INSTALACION REF: RP-181 DRIVE HUB, UNIVERSAL, 12/30 PLACE, AERO/CYTO | D102: 1 | E102: ACTIVIDAD
A103: 100 | C103: CAMBIO E INSTALACION REF: RP-186 DRAIN/VENT SPIGOT REPAIR KIT FOR AEROSPRAY | D103: 1 | E103: ACTIVIDAD
A104: 101 | C104: CAMBIO E INSTALACION REF: RP-208 150 INCH/PK TUBING, AEROSPRAY | D104: 1 | E104: ACTIVIDAD
A105: 102 | C105: CAMBIO E INSTALACION REF: RP-215 PUMP ASSEMBLY FOR AEROSPRAY | D105: 1 | E105: ACTIVIDAD
A106: 103 | C106: CAMBIO E INSTALACION REF: RP-259 5.25" PRECISION NORPRENE (A 60 G)TUBING AEROSPRAY | D106: 1 | E106: ACTIVIDAD
A107: 104 | C107: CAMBIO E INSTALACION REF: RP-260 5.5" PRECISION NORPRENE (A 60 G)TUBING AEROSPRAY | D107: 1 | E107: ACTIVIDAD
A108: 105 | C108: CAMBIO E INSTALACION REF: RP-275 AEROSPRAY BARB FITTING REPAIR KIT | D108: 1 | E108: ACTIVIDAD
A109: 106 | C109: CAMBIO E INSTALACION REF: RP-293 MAGNETIC SENSOR PCBA FOR AEROSPRAY BOWL | D109: 1 | E109: ACTIVIDAD
A110: 107 | C110: CAMBIO E INSTALACION REF: RP-294 2/PK HINGE ASSEMBLY FOR AEROSPRAY LID | D110: 1 | E110: ACTIVIDAD
A111: 108 | C111: CAMBIO E INSTALACION REF: RP-299 4/PK CHECK VALVE, AEROSPRAY SOLENOID | D111: 1 | E111: ACTIVIDAD
A112: 109 | C112: CAMBIO E INSTALACION REF: RP-332 LID LATCH FOR AEROSPRAY/CYTOPRO | D112: 1 | E112: ACTIVIDAD
... A139: 136 | C139: CAMBIO E INSTALACION REF: RP-515 IMBALANCE SENSOR, AEROSPRAY 7XX2 | D139: 1 | E139: ACTIVIDAD

Sheet HISTORICOS 
A1: GRPO 3 - 5.2 PRECIOS HISTORICOS
A2: PRESTACIÓN DEL SERVICIO DE MANTENIMIENTO PREVENTIVO Y CORRECTIVO INCLUIDOS REPUESTOS GENUINOS DE LA MARCA WESCOR ELITECH
A3: ÍTEM | B3: ENTIDAD CONTRATANTE Y CONTRATISTA | C3: DESCRIPCIÓN | D3: VALOR CONTRATO 2023 | E3: PRECIO HISTORICO VALOR UNITARIO PROYECTADO CON IPC 2023 (9.28%) (IVA INCLUIDO) | F3: VALOR CONTRATO 2024 | G3: VALOR CONTRATO 2025 | H3: 0.052 | I3: 0.051 | J3: PRECIO HISTORICO VALOR UNITARIO PROYECTADO CON IPC 2023 (9.28%), 2024 (5.2%), 2025 (5.1%) (IVA INCLUIDO)
A4: 1 | C4: =+' ESPECIFICACIONES TECNICAS'!B3 -> EQUIPO AEROSPRAY GRAM 7322 | D4: NO SE CONTRATO | E4: NO SE CONTRATO | F4: NO SE CONTRATO | G4: NO SE CONTRATO | H4: NO SE CONTRATO | I4: NO SE CONTRATO | J4: NO SE CONTRATO
A5: 2 | C5: =+' ESPECIFICACIONES TECNICAS'!B4 -> EQUIPO AEROSPRAY HEMATOLOGÍA 7152 | D5: NO SE CONTRATO | E5: NO SE CONTRATO | F5: NO SE CONTRATO | G5: NO SE CONTRATO | H5: NO SE CONTRATO | I5: NO SE CONTRATO | J5: NO SE CONTRATO
A6: 3 | C6: =+' ESPECIFICACIONES TECNICAS'!B5 -> EQUIPO AEROSPRAY TB 7722 | D6: NO SE CONTRATO | E6: NO SE CONTRATO | F6: NO SE CONTRATO | G6: NO SE CONTRATO | H6: NO SE CONTRATO | I6: NO SE CONTRATO | J6: NO SE CONTRATO
A7: 4 | C7: =+' ESPECIFICACIONES TECNICAS'!C7 -> CAMBIO E INSTALACION REF: RP-147 DRIVE MOTOR ASSEMBLY FOR AEROSPRAY AND CYTOPRO | D7: 7850519 | E7: =D7*9.4%+D7 -> 8588467.8 | F7: NO SE CONTRATO | G7: NO SE CONTRATO | H7: =+E7*5.1%+E7 -> 9026479.6 | I7: =+H7*5.1%+H7 -> 9486830.1 | J7: =+I7 -> 9486830.1
A8: 5 | C8: =+' ESPECIFICACIONES TECNICAS'!C8 -> CAMBIO E INSTALACION REF: RP-171 PICKUP TUBE ASSY FOR 5-LITER BOTTLE, AEROSPRAY, NO LEVEL DETECT | D8: 636799 | E8: =D8*9.4%+D8 -> 696658.11 | F8: NO SE CONTRATO | G8: NO SE CONTRATO | H8: =+E8*5.1%+E8 -> 732187.67 | I8: =+H8*5.1%+H8 -> 769529.24 | J8: =+I8 -> 769529.24
A9: 6 | C9: =+' ESPECIFICACIONES TECNICAS'!C9 -> CAMBIO E INSTALACION REF: RP-181 DRIVE HUB, UNIVERSAL, 12/30 PLACE, AERO/CYTO | D9: 1807223 | E9: =D9*9.4%+D9 -> 1977102 | F9: NO SE CONTRATO | G9: NO SE CONTRATO | H9: =+E9*5.1%+E9 -> 2077934.2 | I9: =+H9*5.1%+H9 -> 2183908.8 | J9: =+I9 -> 2183908.8
A10: 7 | C10: =+' ESPECIFICACIONES TECNICAS'!C10 -> CAMBIO E INSTALACION REF: RP-186 DRAIN/VENT SPIGOT REPAIR KIT FOR AEROSPRAY | D10: 543890 | E10: =D10*9.4%+D10 -> 595015.66 | F10: NO SE CONTRATO | G10: NO SE CONTRATO | H10: =+E10*5.1%+E10 -> 625361.46 | I10: =+H10*5.1%+H10 -> 657254.89 | J10: =+I10 -> 657254.89
A11: 8 | C11: =+' ESPECIFICACIONES TECNICAS'!C11 -> CAMBIO E INSTALACION REF: RP-208 150 INCH/PK TUBING, AEROSPRAY | D11: 649472 | E11: =D11*9.4%+D11 -> 710522.37 | F11: NO SE CONTRATO | G11: NO SE CONTRATO | H11: =+E11*5.1%+E11 -> 746759.01 | I11: =+H11*5.1%+H11 -> 784843.72 | J11: =+I11 -> 784843.72
A12: 9 | C12: =+' ESPECIFICACIONES TECNICAS'!C12 -> CAMBIO E INSTALACION REF: RP-215 PUMP ASSEMBLY FOR AEROSPRAY | D12: 12461264 | E12: =D12*9.4%+D12 -> 13632623 | F12: NO SE CONTRATO | G12: NO SE CONTRATO | H12: =+E12*5.1%+E12 -> 14327887 | I12: =+H12*5.1%+H12 -> 15058609 | J12: =+I12 -> 15058609
A13: 10 | C13: =+' ESPECIFICACIONES TECNICAS'!C13 -> CAMBIO E INSTALACION REF: RP-259 5.25" PRECISION NORPRENE (A 60 G) TUBING AEROSPRAY | D13: 277300 | E13: =D13*9.4%+D13 -> 303366.2 | F13: NO SE CONTRATO | G13: NO SE CONTRATO | H13: =+E13*5.1%+E13 -> 318837.88 | I13: =+H13*5.1%+H13 -> 335098.61 | J13: =+I13 -> 335098.61
A14: 11 | C14: =+' ESPECIFICACIONES TECNICAS'!C14 -> CAMBIO E INSTALACION REF: RP-260 5.5" PRECISION NORPRENE (A 60 G)TUBING AEROSPRAY | D14: 277300 | E14: =D14*9.4%+D14 -> 303366.2 | F14: NO SE CONTRATO | G14: NO SE CONTRATO | H14: =+E14*5.1%+E14 -> 318837.88 | I14: =+H14*5.1%+H14 -> 335098.61 | J14: =+I14 -> 335098.61
A15: 12 | C15: =+' ESPECIFICACIONES TECNICAS'!C15 -> CAMBIO E INSTALACION REF: RP-275 AEROSPRAY BARB FITTING REPAIR KIT $ 5 13.478 | D15: 703736 | E15: =D15*9.4%+D15 -> 769887.18 | F15: NO SE CONTRATO | G15: NO SE CONTRATO | H15: =+E15*5.1%+E15 -> 809151.43 | I15: =+H15*5.1%+H15 -> 850418.15 | J15: =+I15 -> 850418.15
A16: 13 | C16: =+' ESPECIFICACIONES TECNICAS'!C16 -> CAMBIO E INSTALACION REF: RP-293 MAGNETIC SENSOR PCBA FOR AEROSPRAY BOWL | D16: 571022 | E16: =D16*9.4%+D16 -> 624698.07 | F16: NO SE CONTRATO | G16: NO SE CONTRATO | H16: =+E16*5.1%+E16 -> 656557.67 | I16: =+H16*5.1%+H16 -> 690042.11 | J16: =+I16 -> 690042.11
A17: 14 | C17: =+' ESPECIFICACIONES TECNICAS'!C17 -> CAMBIO E INSTALACION REF: RP-294 2/PK HINGE ASSEMBLY FOR AEROSPRAY LID | D17: 462137 | E17: =D17*9.4%+D17 -> 505577.88 | F17: NO SE CONTRATO | G17: NO SE CONTRATO | H17: =+E17*5.1%+E17 -> 531362.35 | I17: =+H17*5.1%+H17 -> 558461.83 | J17: =+I17 -> 558461.83
A18: 15 | C18: =+' ESPECIFICACIONES TECNICAS'!C18 -> CAMBIO E INSTALACION REF: RP-299 4/PK CHECK VALVE, AEROSPRAY SOLENOID | D18: 908922 | E18: =D18*9.4%+D18 -> 994360.67 | F18: NO SE CONTRATO | G18: NO SE CONTRATO | H18: =+E18*5.1%+E18 -> 1045073.1 | I18: =+H18*5.1%+H18 -> 1098371.8 | J18: =+I18 -> 1098371.8
A19: 16 | C19: =+' ESPECIFICACIONES TECNICAS'!C19 -> CAMBIO E INSTALACION REF: RP-307 VENT HOSE, AEROSPRAY | D19: 83538 | E19: =D19*9.4%+D19 -> 91390.572 | F19: NO SE CONTRATO | G19: NO SE CONTRATO | H19: =+E19*5.1%+E19 -> 96051.491 | I19: =+H19*5.1%+H19 -> 100950.12 | J19: =+I19 -> 100950.12
A20: 17 | C20: =+' ESPECIFICACIONES TECNICAS'!C20 -> CAMBIO E INSTALACION REF: RP-308 NOZZLE/O-RING ASSY, SS, FOR AEROSPRAY | D20: NO SE CONTRATO | E20: NO SE CONTRATO | F20: NO SE CONTRATO | G20: NO SE CONTRATO | H20: =+E20*5.1%+E20 -> #VALUE! | I20: =+H20*5.1%+H20 -> #VALUE! | J20: NO SE CONTRATO
A21: 18 | C21: =+' ESPECIFICACIONES TECNICAS'!C21 -> CAMBIO E INSTALACION REF: RP-311 5/PK HOSE ASSY FOR REAGENT BOTTLE,AEROSPRAY | D21: 1798745 | E21: =D21*9.4%+D21 -> 1967827 | F21: NO SE CONTRATO | G21: NO SE CONTRATO | H21: =+E21*5.1%+E21 -> 2068186.2 | I21: =+H21*5.1%+H21 -> 2173663.7 | J21: =+I21 -> 2173663.7
A22: 19 | C22: =+' ESPECIFICACIONES TECNICAS'!C22 -> CAMBIO E INSTALACION REF: RP-318 ENCODER FOR DRIVE MOTOR, AEROSPRAY/CYTOPRO | D22: 1739036 | E22: =D22*9.4%+D22 -> 1902505.4 | F22: NO SE CONTRATO | G22: NO SE CONTRATO | H22: =+E22*5.1%+E22 -> 1999533.2 | I22: =+H22*5.1%+H22 -> 2101509.3 | J22: =+I22 -> 2101509.3
A23: 20 | C23: =+' ESPECIFICACIONES TECNICAS'!C23 -> CAMBIO E INSTALACION REF: RP-332 LID LATCH FOR AEROSPRAY/CYTOPRO | D23: 613058 | E23: =D23*9.4%+D23 -> 670685.45 | F23: NO SE CONTRATO | G23: NO SE CONTRATO | H23: =+E23*5.1%+E23 -> 704890.41 | I23: =+H23*5.1%+H23 -> 740839.82 | J23: =+I23 -> 740839.82
A24: 21 | C24: =+' ESPECIFICACIONES TECNICAS'!C24 -> CAMBIO E INSTALACION REF: RP-345 MIXER INSERT FOR NOZZLE, AEROSPRAY | D24: NO SE CONTRATO | E24: NO SE CONTRATO | F24: NO SE CONTRATO | G24: NO SE CONTRATO | H24: =+E24*5.1%+E24 -> #VALUE! | I24: =+H24*5.1%+H24 -> #VALUE! | J24: NO SE CONTRATO
A25: 22 | C25: =+' ESPECIFICACIONES TECNICAS'!C25 -> CAMBIO E INSTALACION REF: RP-408 BRUSH FOR NOZZLE CLEANING, AEROSPRAY 7150 | D25: NO SE CONTRATO | E25: NO SE CONTRATO | F25: NO SE CONTRATO | G25: NO SE CONTRATO | H25: =+E25*5.1%+E25 -> #VALUE! | I25: =+H25*5.1%+H25 -> #VALUE! | J25: NO SE CONTRATO
A26: 23 | C26: =+' ESPECIFICACIONES TECNICAS'!C26 -> CAMBIO E INSTALACION REF: RP-451 MANUAL, CYTOPRO METHODS, AEROPSRAY/CYTOPRO (7XX1) | D26: NO SE CONTRATO | E26: NO SE CONTRATO | F26: NO SE CONTRATO | G26: NO SE CONTRATO | H26: =+E26*5.1%+E26 -> #VALUE! | I26: =+H26*5.1%+H26 -> #VALUE! | J26: NO SE CONTRATO
A27: 24 | C27: =+' ESPECIFICACIONES TECNICAS'!C27 -> CAMBIO E INSTALACION REF: RP-462 MANUAL, APPLICATION, FOR AEROSPRAY GRAM 7322 | D27: 333617 | E27: =D27*9.4%+D27 -> 364977 | F27: NO SE CONTRATO | G27: NO SE CONTRATO | H27: =+E27*5.1%+E27 -> 383590.82 | I27: =+H27*5.1%+H27 -> 403153.96 | J27: =+I27 -> 403153.96
A28: 25 | C28: =+' ESPECIFICACIONES TECNICAS'!C28 -> CAMBIO E INSTALACION REF: RP-470 5-POSITION BOTTLE TRAY, AEROSPRAY 7XX1 AND 7XX2 | D28: 869920 | E28: =D28*9.4%+D28 -> 951692.48 | F28: NO SE CONTRATO | G28: NO SE CONTRATO | H28: =+E28*5.1%+E28 -> 1000228.8 | I28: =+H28*5.1%+H28 -> 1051240.5 | J28: =+I28 -> 1051240.5
A29: 26 | C29: =+' ESPECIFICACIONES TECNICAS'!C29 -> CAMBIO E INSTALACION REF: RP-473 LOAD CELL ASSEMBLY 7XX1 AEROSPRAY | D29: 604580 | E29: =D29*9.4%+D29 -> 661410.52 | F29: NO SE CONTRATO | G29: NO SE CONTRATO | H29: =+E29*5.1%+E29 -> 695142.46 | I29: =+H29*5.1%+H29 -> 730594.72 | J29: =+I29 -> 730594.72
A30: 27 | C30: =+' ESPECIFICACIONES TECNICAS'!C30 -> CAMBIO E INSTALACION REF: RP-474 WASTE CONTAINER ADAPTER FOR AEROSPRAY, NO LEVEL DETECT | D30: 198849 | E30: =D30*9.4%+D30 -> 217540.81 | F30: NO SE CONTRATO | G30: NO SE CONTRATO | H30: =+E30*5.1%+E30 -> 228635.39 | I30: =+H30*5.1%+H30 -> 240295.79 | J30: =+I30 -> 240295.79
A31: 28 | C31: =+' ESPECIFICACIONES TECNICAS'!C31 -> CAMBIO E INSTALACION REF: RP-475 AEROSPRAY NOZZLE INDICATOR LABEL, 6 NOZZLES | D31: 114865 | E31: =D31*9.4%+D31 -> 125662.31 | F31: NO SE CONTRATO | G31: NO SE CONTRATO | H31: =+E31*5.1%+E31 -> 132071.09 | I31: =+H31*5.1%+H31 -> 138806.71 | J31: =+I31 -> 138806.71
A32: 29 | C32: =+' ESPECIFICACIONES TECNICAS'!C32 -> CAMBIO E INSTALACION REF: RP-493 SOLENOID VALVE WHITE 3-WAY | D32: 1830161 | E32: =D32*9.4%+D32 -> 2002196.1 | F32: NO SE CONTRATO | G32: NO SE CONTRATO | H32: =+E32*5.1%+E32 -> 2104308.1 | I32: =+H32*5.1%+H32 -> 2211627.9 | J32: =+I32 -> 2211627.9
A33: 30 | C33: =+' ESPECIFICACIONES TECNICAS'!C33 -> CAMBIO E INSTALACION REF: RP-499 NOZZLE WITH MIXING INSERT, AEROSPRAY | D33: 889019 | E33: =D33*9.4%+D33 -> 972586.79 | F33: NO SE CONTRATO | G33: NO SE CONTRATO | H33: =+E33*5.1%+E33 -> 1022188.7 | I33: =+H33*5.1%+H33 -> 1074320.3 | J33: =+I33 -> 1074320.3
A34: 31 | C34: =+' ESPECIFICACIONES TECNICAS'!C34 -> CAMBIO E INSTALACION REF: RP-500 PAPER TEST SLIDES, 1 INCH X 3 INCH PAPER, 100 PIECES | D34: 156902 | E34: =D34*9.4%+D34 -> 171650.79 | F34: NO SE CONTRATO | G34: NO SE CONTRATO | H34: =+E34*5.1%+E34 -> 180404.98 | I34: =+H34*5.1%+H34 -> 189605.63 | J34: =+I34 -> 189605.63
A35: 32 | C35: =+' ESPECIFICACIONES TECNICAS'!C35 -> CAMBIO E INSTALACION REF: RP-501 PCBA SOLENOID 7322 | D35: 6745247 | E35: =D35*9.4%+D35 -> 7379300.2 | F35: NO SE CONTRATO | G35: NO SE CONTRATO | H35: =+E35*5.1%+E35 -> 7755644.5 | I35: =+H35*5.1%+H35 -> 8151182.4 | J35: =+I35 -> 8151182.4
A36: 33 | C36: =+' ESPECIFICACIONES TECNICAS'!C36 -> CAMBIO E INSTALACION REF: RP-503 WASTE LEVEL DETECT ASSEMBLY WITH CABLE, AEROSPRAY | D36: 2875992 | E36: =D36*9.4%+D36 -> 3146335.2 | F36: NO SE CONTRATO | G36: NO SE CONTRATO | H36: =+E36*5.1%+E36 -> 3306798.3 | I36: =+H36*5.1%+H36 -> 3475445.1 | J36: =+I36 -> 3475445.1
A37: 34 | C37: =+' ESPECIFICACIONES TECNICAS'!C37 -> CAMBIO E INSTALACION REF: RP-504 5L REAGENT BOTTLE LEVEL DETECT ASSMEBLY WITH CABLE, AEROSPRAY | D37: 2875992 | E37: =D37*9.4%+D37 -> 3146335.2 | F37: NO SE CONTRATO | G37: NO SE CONTRATO | H37: =+E37*5.1%+E37 -> 3306798.3 | I37: =+H37*5.1%+H37 -> 3475445.1 | J37: =+I37 -> 3475445.1
A38: 35 | C38: =+' ESPECIFICACIONES TECNICAS'!C38 -> CAMBIO E INSTALACION REF: RP-505 POWER SUPPLY, AEROSPRAY 7XX2 | D38: 3137138 | E38: =D38*9.4%+D38 -> 3432029 | F38: NO SE CONTRATO | G38: NO SE CONTRATO | H38: =+E38*5.1%+E38 -> 3607062.4 | I38: =+H38*5.1%+H38 -> 3791022.6 | J38: =+I38 -> 3791022.6
... A97: 94 | C97: =+' ESPECIFICACIONES TECNICAS'!C97 -> CAMBIO E INSTALACION REF: RP-515 IMBALANCE SENSOR, AEROSPRAY 7XX2 | D97: 889019 | E97: =D97*9.4%+D97 -> 972586.79 | F97: NO SE CONTRATO | G97: NO SE CONTRATO | H97: =+E97*5.1%+E97 -> 1022188.7 | I97: =+H97*5.1%+H97 -> 1074320.3 | J97: =+I97 -> 1074320.3
A98: 95 | C98: =+' ESPECIFICACIONES TECNICAS'!C98 -> CAMBIO E INSTALACION REF: RP-586 LOCK DETECT PCBA & CABLE AEROSPRAY 7XX2 | D98: NO SE CONTRATO | E98: NO SE CONTRATO | F98: NO SE CONTRATO | G98: NO SE CONTRATO | H98: =+E98*5.1%+E98 -> #VALUE! | I98: =+H98*5.1%+H98 -> #VALUE! | J98: NO SE CONTRATO
A99: 96 | C99: =+' ESPECIFICACIONES TECNICAS'!C99 -> CAMBIO E INSTALACION REF: RP-585 LID LOCK ASSEMBLY, AEROSPARY 7XX2 | D99: NO SE CONTRATO | E99: NO SE CONTRATO | F99: NO SE CONTRATO | G99: NO SE CONTRATO | H99: =+E99*5.1%+E99 -> #VALUE! | I99: =+H99*5.1%+H99 -> #VALUE! | J99: NO SE CONTRATO
A100: 97 | C100: =+' ESPECIFICACIONES TECNICAS'!C100 -> CAMBIO E INSTALACION REF: RP-147 DRIVE MOTOR ASSEMBLY FOR AEROSPRAY AND CYTOPRO | D100: 7850519 | E100: =D100*9.4%+D100 -> 8588467.8 | F100: NO SE CONTRATO | G100: NO SE CONTRATO | H100: =+E100*5.1%+E100 -> 9026479.6 | I100: =+H100*5.1%+H100 -> 9486830.1 | J100: =+I100 -> 9486830.1
A101: 98 | C101: =+' ESPECIFICACIONES TECNICAS'!C101 -> CAMBIO E INSTALACION REF: RP-171 PICKUP TUBE ASSY FOR 5-LITER BOTTLE, AEROSPRAY | D101: 636799 | E101: =D101*9.4%+D101 -> 696658.11 | F101: NO SE CONTRATO | G101: NO SE CONTRATO | H101: =+E101*5.1%+E101 -> 732187.67 | I101: =+H101*5.1%+H101 -> 769529.24 | J101: =+I101 -> 769529.24
A102: 99 | C102: =+' ESPECIFICACIONES TECNICAS'!C102 -> CAMBIO E INSTALACION REF: RP-181 DRIVE HUB, UNIVERSAL, 12/30 PLACE, AERO/CYTO | D102: 1807223 | E102: =D102*9.4%+D102 -> 1977102 | F102: NO SE CONTRATO | G102: NO SE CONTRATO | H102: =+E102*5.1%+E102 -> 2077934.2 | I102: =+H102*5.1%+H102 -> 2183908.8 | J102: =+I102 -> 2183908.8
A103: 100 | C103: =+' ESPECIFICACIONES TECNICAS'!C103 -> CAMBIO E INSTALACION REF: RP-186 DRAIN/VENT SPIGOT REPAIR KIT FOR AEROSPRAY | D103: 543890 | E103: =D103*9.4%+D103 -> 595015.66 | F103: NO SE CONTRATO | G103: NO SE CONTRATO | H103: =+E103*5.1%+E103 -> 625361.46 | I103: =+H103*5.1%+H103 -> 657254.89 | J103: =+I103 -> 657254.89
A104: 101 | C104: =+' ESPECIFICACIONES TECNICAS'!C104 -> CAMBIO E INSTALACION REF: RP-208 150 INCH/PK TUBING, AEROSPRAY | D104: 649472 | E104: =D104*9.4%+D104 -> 710522.37 | F104: NO SE CONTRATO | G104: NO SE CONTRATO | H104: =+E104*5.1%+E104 -> 746759.01 | I104: =+H104*5.1%+H104 -> 784843.72 | J104: =+I104 -> 784843.72
A105: 102 | C105: =+' ESPECIFICACIONES TECNICAS'!C105 -> CAMBIO E INSTALACION REF: RP-215 PUMP ASSEMBLY FOR AEROSPRAY | D105: 12461264 | E105: =D105*9.4%+D105 -> 13632623 | F105: NO SE CONTRATO | G105: NO SE CONTRATO | H105: =+E105*5.1%+E105 -> 14327887 | I105: =+H105*5.1%+H105 -> 15058609 | J105: =+I105 -> 15058609
A106: 103 | C106: =+' ESPECIFICACIONES TECNICAS'!C106 -> CAMBIO E INSTALACION REF: RP-259 5.25" PRECISION NORPRENE (A 60 G)TUBING AEROSPRAY | D106: 277300 | E106: =D106*9.4%+D106 -> 303366.2 | F106: NO SE CONTRATO | G106: NO SE CONTRATO | H106: =+E106*5.1%+E106 -> 318837.88 | I106: =+H106*5.1%+H106 -> 335098.61 | J106: =+I106 -> 335098.61
A107: 104 | C107: =+' ESPECIFICACIONES TECNICAS'!C107 -> CAMBIO E INSTALACION REF: RP-260 5.5" PRECISION NORPRENE (A 60 G)TUBING AEROSPRAY | D107: 277300 | E107: =D107*9.4%+D107 -> 303366.2 | F107: NO SE CONTRATO | G107: NO SE CONTRATO | H107: =+E107*5.1%+E107 -> 318837.88 | I107: =+H107*5.1%+H107 -> 335098.61 | J107: =+I107 -> 335098.61
A108: 105 | C108: =+' ESPECIFICACIONES TECNICAS'!C108 -> CAMBIO E INSTALACION REF: RP-275 AEROSPRAY BARB FITTING REPAIR KIT | D108: 703736 | E108: =D108*9.4%+D108 -> 769887.18 | F108: NO SE CONTRATO | G108: NO SE CONTRATO | H108: =+E108*5.1%+E108 -> 809151.43 | I108: =+H108*5.1%+H108 -> 850418.15 | J108: =+I108 -> 850418.15
A109: 106 | C109: =+' ESPECIFICACIONES TECNICAS'!C109 -> CAMBIO E INSTALACION REF: RP-293 MAGNETIC SENSOR PCBA FOR AEROSPRAY BOWL | D109: 571022 | E109: =D109*9.4%+D109 -> 624698.07 | F109: NO SE CONTRATO | G109: NO SE CONTRATO | H109: =+E109*5.1%+E109 -> 656557.67 | I109: =+H109*5.1%+H109 -> 690042.11 | J109: =+I109 -> 690042.11
A110: 107 | C110: =+' ESPECIFICACIONES TECNICAS'!C110 -> CAMBIO E INSTALACION REF: RP-294 2/PK HINGE ASSEMBLY FOR AEROSPRAY LID | D110: 462137 | E110: =D110*9.4%+D110 -> 505577.88 | F110: NO SE CONTRATO | G110: NO SE CONTRATO | H110: =+E110*5.1%+E110 -> 531362.35 | I110: =+H110*5.1%+H110 -> 558461.83 | J110: =+I110 -> 558461.83
A111: 108 | C111: =+' ESPECIFICACIONES TECNICAS'!C111 -> CAMBIO E INSTALACION REF: RP-299 4/PK CHECK VALVE, AEROSPRAY SOLENOID | D111: 908922 | E111: =D111*9.4%+D111 -> 994360.67 | F111: NO SE CONTRATO | G111: NO SE CONTRATO | H111: =+E111*5.1%+E111 -> 1045073.1 | I111: =+H111*5.1%+H111 -> 1098371.8 | J111: =+I111 -> 1098371.8
... A127: 124 | C127: =+' ESPECIFICACIONES TECNICAS'!C127 -> CAMBIO E INSTALACION REF: RP-507 PCBA COMPUTER, AEROSPRAY 7XX2 | D127: 6745247 | E127: =D127*9.4%+D127 -> 7379300.2 | F127: NO SE CONTRATO | G127: NO SE CONTRATO | H127: =+E127*5.1%+E127 -> 7755644.5 | I127: =+H127*5.1%+H127 -> 8151182.4 | J127: =+I127 -> 8151182.4
A128: 125 | C128: =+' ESPECIFICACIONES TECNICAS'!C128 -> CAMBIO E INSTALACION REF: RP-528 RIGHT PANEL ASSEMBLY, 7722 | D128: NO SE CONTRATO | E128: NO SE CONTRATO | F128: NO SE CONTRATO | G128: NO SE CONTRATO | H128: =+E128*5.1%+E128 -> #VALUE! | I128: =+H128*5.1%+H128 -> #VALUE! | J128: NO SE CONTRATO
A129: 126 | C129: =+' ESPECIFICACIONES TECNICAS'!C129 -> CAMBIO E INSTALACION REF: RP-513 LEFT PANEL ASSEMBLY, AEROSPRAY 7XX2 | D129: 1306977 | E129: =D129*9.4%+D129 -> 1429832.8 | F129: NO SE CONTRATO | G129: NO SE CONTRATO | H129: =+E129*5.1%+E129 -> 1502754.3 | I129: =+H129*5.1%+H129 -> 1579394.8 | J129: =+I129 -> 1579394.8
A130: 127 | C130: =+' ESPECIFICACIONES TECNICAS'!C130 -> CAMBIO E INSTALACION REF: RP-514 LCD SCREEN ASSEMBLY, AEROSPRAY 7XX2 | D130: 2875992 | E130: =D130*9.4%+D130 -> 3146335.2 | F130: NO SE CONTRATO | G130: NO SE CONTRATO | H130: =+E130*5.1%+E130 -> 3306798.3 | I130: =+H130*5.1%+H130 -> 3475445.1 | J130: =+I130 -> 3475445.1
A131: 128 | C131: =+' ESPECIFICACIONES TECNICAS'!C131 -> CAMBIO E INSTALACION REF: RP-515 IMBALANCE SENSOR, AEROSPRAY 7XX2 | D131: 889019 | E131: =D131*9.4%+D131 -> 972586.79 | F131: NO SE CONTRATO | G131: NO SE CONTRATO | H131: =+E131*5.1%+E131 -> 1022188.7 | I131: =+H131*5.1%+H131 -> 1074320.3 | J131: =+I131 -> 1074320.3
A132: 129 | C132: =+' ESPECIFICACIONES TECNICAS'!C132 -> CAMBIO E INSTALACION REF: RP-516 MANUAL, SERVICE, CD-ROM AERO/CYTO 7XX2 | D132: 581196 | E132: =D132*9.4%+D132 -> 635828.42 | F132: NO SE CONTRATO | G132: NO SE CONTRATO | H132: =+E132*5.1%+E132 -> 668255.67 | I132: =+H132*5.1%+H132 -> 702336.71 | J132: =+I132 -> 702336.71
A133: 130 | C133: =+' ESPECIFICACIONES TECNICAS'!C133 -> CAMBIO E INSTALACION REF: RP-517 MANUAL, USER, FOR CYTOPRO ROTOR AC-160 WITH 7XX2 | D133: 581196 | E133: =D133*9.4%+D133 -> 635828.42 | F133: NO SE CONTRATO | G133: NO SE CONTRATO | H133: =+E133*5.1%+E133 -> 668255.67 | I133: =+H133*5.1%+H133 -> 702336.71 | J133: =+I133 -> 702336.71
A134: 131 | C134: =+' ESPECIFICACIONES TECNICAS'!C134 -> CAMBIO E INSTALACION REF: RP-518 NOZZLE CLEANING STRAINER, AEROSPRAY | D134: 156902 | E134: =D134*9.4%+D134 -> 171650.79 | F134: NO SE CONTRATO | G134: NO SE CONTRATO | H134: =+E134*5.1%+E134 -> 180404.98 | I134: =+H134*5.1%+H134 -> 189605.63 | J134: =+I134 -> 189605.63
A135: 132 | C135: =+' ESPECIFICACIONES TECNICAS'!C135 -> CAMBIO E INSTALACION REF: RP-520 REPLACEMENT DRAIN CONNECTOR, AEROSPRAY 7XX1+ | D135: 365836 | E135: =D135*9.4%+D135 -> 400224.58 | F135: NO SE CONTRATO | G135: NO SE CONTRATO | H135: =+E135*5.1%+E135 -> 420636.04 | I135: =+H135*5.1%+H135 -> 442088.48 | J135: =+I135 -> 442088.48
A136: 133 | C136: =+' ESPECIFICACIONES TECNICAS'!C136 -> CAMBIO E INSTALACION REF: RP-521 10 L WASTE CONTAINER AND CAP | D136: 627428 | E136: =D136*9.4%+D136 -> 686406.23 | F136: NO SE CONTRATO | G136: NO SE CONTRATO | H136: =+E136*5.1%+E136 -> 721412.95 | I136: =+H136*5.1%+H136 -> 758205.01 | J136: =+I136 -> 758205.01
A137: 134 | C137: =+' ESPECIFICACIONES TECNICAS'!C137 -> CAMBIO E INSTALACION REF-584 DISPLAY Cbl ASSY 7XX2+ STAINERS CYTOPRO | D137: NO SE CONTRATO | E137: NO SE CONTRATO | F137: NO SE CONTRATO | G137: NO SE CONTRATO | H137: =+E137*5.1%+E137 -> #VALUE! | I137: =+H137*5.1%+H137 -> #VALUE! | J137: NO SE CONTRATO
A138: 135 | C138: =+' ESPECIFICACIONES TECNICAS'!C138 -> CAMBIO E INSTALACION REF: AC 188 12-SLIDE VENTED CAROUSEL FOR AEROSPRAY | D138: 2418140 | E138: =D138*9.4%+D138 -> 2645445.2 | F138: NO SE CONTRATO | G138: NO SE CONTRATO | H138: =+E138*5.1%+E138 -> 2780362.9 | I138: =+H138*5.1%+H138 -> 2922161.4 | J138: =+I138 -> 2922161.4
A139: 136 | C139: =+' ESPECIFICACIONES TECNICAS'!C139 -> CAMBIO E INSTALACION REF: RP-515 IMBALANCE SENSOR, AEROSPRAY 7XX2 | D139: 889019 | E139: =D139*9.4%+D139 -> 972586.79 | F139: NO SE CONTRATO | G139: NO SE CONTRATO | H139: =+E139*5.1%+E139 -> 1022188.7 | I139: =+H139*5.1%+H139 -> 1074320.3 | J139: =+I139 -> 1074320.3

Sheet COTIZACION 
A1: 5,4 PRECIOS DE MERCADO PRESTACIÓN DEL SERVICIO DE MANTENIMIENTO PREVENTIVO Y CORRECTIVO INCLUIDOS REPUESTOS GENUINOS DE LA MARCA WESCOR ELITECH - GRUPO 3
A2: ITEM | B2: DESCRIPCION ACTIVIDAD DE MANTENIMIENTO PREVENTIVO | C2: UNICA COTIZACIÓN | D2: UNICO VALOR COTIZADO
A3: 1 | B3: =+' ESPECIFICACIONES TECNICAS'!B3 -> EQUIPO AEROSPRAY GRAM 7322 | C3: 831810 | D3: =C3 -> 831810
A4: 2 | B4: =+' ESPECIFICACIONES TECNICAS'!B4 -> EQUIPO AEROSPRAY HEMATOLOGÍA 7152 | C4: 831810 | D4: =C4 -> 831810
A5: 3 | B5: =+' ESPECIFICACIONES TECNICAS'!B5 -> EQUIPO AEROSPRAY TB 7722 | C5: 831810 | D5: =C5 -> 831810
A6: 4 | B6: =+' ESPECIFICACIONES TECNICAS'!C7 -> CAMBIO E INSTALACION REF: RP-147 DRIVE MOTOR ASSEMBLY FOR AEROSPRAY AND CYTOPRO | C6: 8373291 | D6: =C6 -> 8373291
A7: 5 | B7: =+' ESPECIFICACIONES TECNICAS'!C8 -> CAMBIO E INSTALACION REF: RP-171 PICKUP TUBE ASSY FOR 5-LITER BOTTLE, AEROSPRAY, NO LEVEL DETECT | C7: 685378 | D7: =C7 -> 685378
A8: 6 | B8: =+' ESPECIFICACIONES TECNICAS'!C9 -> CAMBIO E INSTALACION REF: RP-181 DRIVE HUB, UNIVERSAL, 12/30 PLACE, AERO/CYTO | C8: 1927294 | D8: =C8 -> 1927294
A9: 7 | B9: =+' ESPECIFICACIONES TECNICAS'!C10 -> CAMBIO E INSTALACION REF: RP-186 DRAIN/VENT SPIGOT REPAIR KIT FOR AEROSPRAY | C9: 579825 | D9: =C9 -> 579825
A10: 8 | B10: =+' ESPECIFICACIONES TECNICAS'!C11 -> CAMBIO E INSTALACION REF: RP-208 150 INCH/PK TUBING, AEROSPRAY | C10: 692972 | D10: =C10 -> 692972
A11: 9 | B11: =+' ESPECIFICACIONES TECNICAS'!C12 -> CAMBIO E INSTALACION REF: RP-215 PUMP ASSEMBLY FOR AEROSPRAY | C11: 13291003 | D11: =C11 -> 13291003
A12: 10 | B12: =+' ESPECIFICACIONES TECNICAS'!C13 -> CAMBIO E INSTALACION REF: RP-259 5.25" PRECISION NORPRENE (A 60 G) TUBING AEROSPRAY | C12: 295819 | D12: =C12 -> 295819
A13: 11 | B13: =+' ESPECIFICACIONES TECNICAS'!C14 -> CAMBIO E INSTALACION REF: RP-260 5.5" PRECISION NORPRENE (A 60 G)TUBING AEROSPRAY | C13: 295819 | D13: =C13 -> 295819
A14: 12 | B14: =+' ESPECIFICACIONES TECNICAS'!C15 -> CAMBIO E INSTALACION REF: RP-275 AEROSPRAY BARB FITTING REPAIR KIT $ 5 13.478 | C14: 750684 | D14: =C14 -> 750684
A15: 13 | B15: =+' ESPECIFICACIONES TECNICAS'!C16 -> CAMBIO E INSTALACION REF: RP-293 MAGNETIC SENSOR PCBA FOR AEROSPRAY BOWL | C15: 609019 | D15: =C15 -> 609019
A16: 14 | B16: =+' ESPECIFICACIONES TECNICAS'!C17 -> CAMBIO E INSTALACION REF: RP-294 2/PK HINGE ASSEMBLY FOR AEROSPRAY LID | C16: 492834 | D16: =C16 -> 492834
A17: 15 | B17: =+' ESPECIFICACIONES TECNICAS'!C18 -> CAMBIO E INSTALACION REF: RP-299 4/PK CHECK VALVE, AEROSPRAY SOLENOID | C17: 969722 | D17: =C17 -> 969722
... A138: 136 | B138: =+' ESPECIFICACIONES TECNICAS'!C139 -> CAMBIO E INSTALACION REF: RP-515 IMBALANCE SENSOR, AEROSPRAY 7XX2 | C138: 948122 | D138: =C138 -> 948122

Sheet ANALISIS DE PRECIOS 
A1: 5.5 ANALISIS DEL VALOR ESTIMADO- GRUPO 3
A2: PRESTACIÓN DEL SERVICIO DE MANTENIMIENTO PREVENTIVO Y CORRECTIVO INCLUIDOS REPUESTOS GENUINOS DE LA MARCAWESCOR ELITECH
A3: ITEM | B3: UNIDAD DE DESTINO | C3: DESCRIPCION ACTIVIDAD DE MANTENIMIENTO PREVENTIVO | D3: UNIDAD DE MEDIDA | E3: PRECIO SECOP | F3: PRECIOS DE CATÁLOGO | G3: PRECIOS HISTÓRICOS PROYECTADOS IVA INCLUIDO | H3: PRECIOS DE MERCADO IVA INCLUIDO | I3: VALOR UNITARIO ESTIMADO, INCLUIDO IVA | J3: VALOR TOTAL ESTIMADO
A4: 1 | B4: HOCEN- VELEZLAB | C4: =+' ESPECIFICACIONES TECNICAS'!B3 -> EQUIPO AEROSPRAY GRAM 7322 | D4: VISITA | E4: N/A | F4: N/A | G4: =+'HISTORICOS '!J4 -> NO SE CONTRATO | H4: =+'COTIZACION '!D3 -> 831810 | I4: =+MIN(G4:H4) -> 831810 | J4: =+I4 -> 831810
A5: 2 | B5: HOCEN- VELEZLAB | C5: =+' ESPECIFICACIONES TECNICAS'!B4 -> EQUIPO AEROSPRAY HEMATOLOGÍA 7152 | D5: VISITA | E5: N/A | F5: N/A | G5: =+'HISTORICOS '!J5 -> NO SE CONTRATO | H5: =+'COTIZACION '!D4 -> 831810 | I5: =+MIN(G5:H5) -> 831810 | J5: =+I5 -> 831810
A6: 3 | B6: HOCEN- VELEZLAB | C6: =+' ESPECIFICACIONES TECNICAS'!B5 -> EQUIPO AEROSPRAY TB 7722 | D6: VISITA | E6: N/A | F6: N/A | G6: =+'HISTORICOS '!J6 -> NO SE CONTRATO | H6: =+'COTIZACION '!D5 -> 831810 | I6: =+MIN(G6:H6) -> 831810 | J6: =+I6 -> 831810
A7: 4 | B7: HOCEN- VELEZLAB | C7: =+' ESPECIFICACIONES TECNICAS'!C7 -> CAMBIO E INSTALACION REF: RP-147 DRIVE MOTOR ASSEMBLY FOR AEROSPRAY AND CYTOPRO | D7: ACTIVIDAD | E7: N/A | F7: N/A | G7: =+'HISTORICOS '!J7 -> 9486830.1 | H7: =+'COTIZACION '!D6 -> 8373291 | I7: =+MIN(G7:H7) -> 8373291 | J7: =+I7 -> 8373291
A8: 5 | B8: HOCEN- VELEZLAB | C8: =+' ESPECIFICACIONES TECNICAS'!C8 -> CAMBIO E INSTALACION REF: RP-171 PICKUP TUBE ASSY FOR 5-LITER BOTTLE, AEROSPRAY, NO LEVEL DETECT | D8: ACTIVIDAD | E8: N/A | F8: N/A | G8: =+'HISTORICOS '!J8 -> 769529.24 | H8: =+'COTIZACION '!D7 -> 685378 | I8: =+MIN(G8:H8) -> 685378 | J8: =+I8 -> 685378
A9: 6 | B9: HOCEN- VELEZLAB | C9: =+' ESPECIFICACIONES TECNICAS'!C9 -> CAMBIO E INSTALACION REF: RP-181 DRIVE HUB, UNIVERSAL, 12/30 PLACE, AERO/CYTO | D9: ACTIVIDAD | E9: N/A | F9: N/A | G9: =+'HISTORICOS '!J9 -> 2183908.8 | H9: =+'COTIZACION '!D8 -> 1927294 | I9: =+MIN(G9:H9) -> 1927294 | J9: =+I9 -> 1927294
A10: 7 | B10: HOCEN- VELEZLAB | C10: =+' ESPECIFICACIONES TECNICAS'!C10 -> CAMBIO E INSTALACION REF: RP-186 DRAIN/VENT SPIGOT REPAIR KIT FOR AEROSPRAY | D10: ACTIVIDAD | E10: N/A | F10: N/A | G10: =+'HISTORICOS '!J10 -> 657254.89 | H10: =+'COTIZACION '!D9 -> 579825 | I10: =+MIN(G10:H10) -> 579825 | J10: =+I10 -> 579825
A11: 8 | B11: HOCEN- VELEZLAB | C11: =+' ESPECIFICACIONES TECNICAS'!C11 -> CAMBIO E INSTALACION REF: RP-208 150 INCH/PK TUBING, AEROSPRAY | D11: ACTIVIDAD | E11: N/A | F11: N/A | G11: =+'HISTORICOS '!J11 -> 784843.72 | H11: =+'COTIZACION '!D10 -> 692972 | I11: =+MIN(G11:H11) -> 692972 | J11: =+I11 -> 692972
A12: 9 | B12: HOCEN- VELEZLAB | C12: =+' ESPECIFICACIONES TECNICAS'!C12 -> CAMBIO E INSTALACION REF: RP-215 PUMP ASSEMBLY FOR AEROSPRAY | D12: ACTIVIDAD | E12: N/A | F12: N/A | G12: =+'HISTORICOS '!J12 -> 15058609 | H12: =+'COTIZACION '!D11 -> 13291003 | I12: =+MIN(G12:H12) -> 13291003 | J12: =+I12 -> 13291003
A13: 10 | B13: HOCEN- VELEZLAB | C13: =+' ESPECIFICACIONES TECNICAS'!C13 -> CAMBIO E INSTALACION REF: RP-259 5.25" PRECISION NORPRENE (A 60 G) TUBING AEROSPRAY | D13: ACTIVIDAD | E13: N/A | F13: N/A | G13: =+'HISTORICOS '!J13 -> 335098.61 | H13: =+'COTIZACION '!D12 -> 295819 | I13: =+MIN(G13:H13) -> 295819 | J13: =+I13 -> 295819
A14: 11 | B14: HOCEN- VELEZLAB | C14: =+' ESPECIFICACIONES TECNICAS'!C14 -> CAMBIO E INSTALACION REF: RP-260 5.5" PRECISION NORPRENE (A 60 G)TUBING AEROSPRAY | D14: ACTIVIDAD | E14: N/A | F14: N/A | G14: =+'HISTORICOS '!J14 -> 335098.61 | H14: =+'COTIZACION '!D13 -> 295819 | I14: =+MIN(G14:H14) -> 295819 | J14: =+I14 -> 295819
A15: 12 | B15: HOCEN- VELEZLAB | C15: =+' ESPECIFICACIONES TECNICAS'!C15 -> CAMBIO E INSTALACION REF: RP-275 AEROSPRAY BARB FITTING REPAIR KIT $ 5 13.478 | D15: ACTIVIDAD | E15: N/A | F15: N/A | G15: =+'HISTORICOS '!J15 -> 850418.15 | H15: =+'COTIZACION '!D14 -> 750684 | I15: =+MIN(G15:H15) -> 750684 | J15: =+I15 -> 750684
A16: 13 | B16: HOCEN- VELEZLAB | C16: =+' ESPECIFICACIONES TECNICAS'!C16 -> CAMBIO E INSTALACION REF: RP-293 MAGNETIC SENSOR PCBA FOR AEROSPRAY BOWL | D16: ACTIVIDAD | E16: N/A | F16: N/A | G16: =+'HISTORICOS '!J16 -> 690042.11 | H16: =+'COTIZACION '!D15 -> 609019 | I16: =+MIN(G16:H16) -> 609019 | J16: =+I16 -> 609019
A17: 14 | B17: HOCEN- VELEZLAB | C17: =+' ESPECIFICACIONES TECNICAS'!C17 -> CAMBIO E INSTALACION REF: RP-294 2/PK HINGE ASSEMBLY FOR AEROSPRAY LID | D17: ACTIVIDAD | E17: N/A | F17: N/A | G17: =+'HISTORICOS '!J17 -> 558461.83 | H17: =+'COTIZACION '!D16 -> 492834 | I17: =+MIN(G17:H17) -> 492834 | J17: =+I17 -> 492834
A18: 15 | B18: HOCEN- VELEZLAB | C18: =+' ESPECIFICACIONES TECNICAS'!C18 -> CAMBIO E INSTALACION REF: RP-299 4/PK CHECK VALVE, AEROSPRAY SOLENOID | D18: ACTIVIDAD | E18: N/A | F18: N/A | G18: =+'HISTORICOS '!J18 -> 1098371.8 | H18: =+'COTIZACION '!D17 -> 969722 | I18: =+MIN(G18:H18) -> 969722 | J18: =+I18 -> 969722
... A139: 136 | B139: HOCEN- VELEZLAB | C139: =+' ESPECIFICACIONES TECNICAS'!C139 -> CAMBIO E INSTALACION REF: RP-515 IMBALANCE SENSOR, AEROSPRAY 7XX2 | D139: ACTIVIDAD | E139: N/A | F139: N/A | G139: =+'HISTORICOS '!J139 -> 1074320.3 | H139: =+'COTIZACION '!D138 -> 948122 | I139: =+MIN(G139:H139) -> 948122 | J139: =+I139 -> 948122

Sheet FICHA TECNICA
A1: FICHA TÉCNICA DE PRODUCTO
A2: DENOMINACIÓN DE BIEN O SERVICIO
A3: equipo médico, accesorios y suministros
A4: DENOMINACIÓN TÉCNICA DEL BIEN O SERVICIO
A5: MANTENIMIENTO PREVENTIVO Y CORRECTIVO
A6: UNIDAD DE MEDIDA
A7: Equipo médico, accesorios y mantenimiento
A8: DESCRIPCIÓN GENERAL
A9: EQUIPO | B9: ITEM | C9: DESCRIPCION | D9: CLASIFICACIÓN UNSPSC
A10: EQUIPO AEROSPRAY GRAM 7322 | B10: 1 | C10: =+' ESPECIFICACIONES TECNICAS'!C3 -> Verificar estado general del equipo Verificar integridad de carcasa y tapas Verificar conexiones eléctricas Confirmar ausencia de alarmas o mensajes de error Realizar limpieza externa del equipo Limpiar panel de control y superficies externas Revisar estado de boquillas de aspersión Realizar limpieza de boquillas Verificar ausencia de obstrucciones en boquillas Revisar líneas y conexiones de reactivos Verificar funcionamiento del rotor Realizar limpieza interna del dispositivo. Realizar limpieza de los rotores disponibles. Verificar que no se intercambien las posiciones Verificar el estado de las mangueras internas. Verificar el estado de las mangueras externas. Revisar rotor y mecanismos de giro Verificar ausencia de vibraciones anormales Revisar bandejas y soportes de láminas Verificar estado de conexiones internas Inspeccionar tarjetas electrónicas Verificar ausencia de sulfatación o sobrecalentamiento Verificar patrón de rociado de boquillas Realizar test de volumen dispensado Ejecutar prueba funcional Verificar entrega operativa del equipo al servicio | D10: 41103900 42201600 42201700 81101700 85161500
A11: EQUIPO AEROSPRAY HEMATOLOGÍA 7152 | B11: 2 | C11: =+' ESPECIFICACIONES TECNICAS'!C4 -> Verificar estado general del equipo Verificar integridad de carcasa y tapas Verificar conexiones eléctricas Confirmar ausencia de alarmas o mensajes de error Realizar limpieza externa del equipo Limpiar panel de control y superficies externas Revisar estado de boquillas de aspersión Realizar limpieza de boquillas Verificar ausencia de obstrucciones en boquillas Revisar líneas y conexiones de reactivos Verificar funcionamiento del rotor Realizar limpieza interna del dispositivo. Realizar limpieza de los rotores disponibles. Verificar que no se intercambien las posiciones Verificar el estado de las mangueras internas. Verificar el estado de las mangueras externas. Revisar rotor y mecanismos de giro Verificar ausencia de vibraciones anormales Revisar bandejas y soportes de láminas Verificar estado de conexiones internas Inspeccionar tarjetas electrónicas Verificar ausencia de sulfatación o sobrecalentamiento Verificar patrón de rociado de boquillas Realizar test de volumen dispensado Ejecutar prueba funcional Verificar entrega operativa del equipo al servicio
A12: EQUIPO AEROSPRAY TB 7722 | B12: 3 | C12: =+' ESPECIFICACIONES TECNICAS'!C5 -> Verificar estado general del equipo Verificar integridad de carcasa y tapas Verificar conexiones eléctricas Confirmar ausencia de alarmas o mensajes de error Realizar limpieza externa del equipo Limpiar panel de control y superficies externas Revisar estado de boquillas de aspersión Realizar limpieza de boquillas Verificar ausencia de obstrucciones en boquillas Revisar líneas y conexiones de reactivos Verificar funcionamiento del rotor Realizar limpieza interna del dispositivo. Realizar limpieza de los rotores disponibles. Verificar que no se intercambien las posiciones Verificar el estado de las mangueras internas. Verificar el estado de las mangueras externas. Revisar rotor y mecanismos de giro Verificar ausencia de vibraciones anormales Revisar bandejas y soportes de láminas Verificar estado de conexiones internas Inspeccionar tarjetas electrónicas Verificar ausencia de sulfatación o sobrecalentamiento Verificar patrón de rociado de boquillas Realizar test de volumen dispensado Ejecutar prueba funcional Verificar entrega operativa del equipo al servicio
A13: EQUIPO AEROSPRAY GRAM 7322 | B13: 4 | C13: =+' ESPECIFICACIONES TECNICAS'!C7 -> CAMBIO E INSTALACION REF: RP-147 DRIVE MOTOR ASSEMBLY FOR AEROSPRAY AND CYTOPRO
B14: 5 | C14: =+' ESPECIFICACIONES TECNICAS'!C8 -> CAMBIO E INSTALACION REF: RP-171 PICKUP TUBE ASSY FOR 5-LITER BOTTLE, AEROSPRAY, NO LEVEL DETECT
B15: 6 | C15: =+' ESPECIFICACIONES TECNICAS'!C9 -> CAMBIO E INSTALACION REF: RP-181 DRIVE HUB, UNIVERSAL, 12/30 PLACE, AERO/CYTO
B16: 7 | C16: =+' ESPECIFICACIONES TECNICAS'!C10 -> CAMBIO E INSTALACION REF: RP-186 DRAIN/VENT SPIGOT REPAIR KIT FOR AEROSPRAY
B17: 8 | C17: =+' ESPECIFICACIONES TECNICAS'!C11 -> CAMBIO E INSTALACION REF: RP-208 150 INCH/PK TUBING, AEROSPRAY
B18: 9 | C18: =+' ESPECIFICACIONES TECNICAS'!C12 -> CAMBIO E INSTALACION REF: RP-215 PUMP ASSEMBLY FOR AEROSPRAY
B19: 10 | C19: =+' ESPECIFICACIONES TECNICAS'!C13 -> CAMBIO E INSTALACION REF: RP-259 5.25" PRECISION NORPRENE (A 60 G) TUBING AEROSPRAY
B20: 11 | C20: =+' ESPECIFICACIONES TECNICAS'!C14 -> CAMBIO E INSTALACION REF: RP-260 5.5" PRECISION NORPRENE (A 60 G)TUBING AEROSPRAY
B21: 12 | C21: =+' ESPECIFICACIONES TECNICAS'!C15 -> CAMBIO E INSTALACION REF: RP-275 AEROSPRAY BARB FITTING REPAIR KIT $ 5 13.478
B22: 13 | C22: =+' ESPECIFICACIONES TECNICAS'!C16 -> CAMBIO E INSTALACION REF: RP-293 MAGNETIC SENSOR PCBA FOR AEROSPRAY BOWL
B23: 14 | C23: =+' ESPECIFICACIONES TECNICAS'!C17 -> CAMBIO E INSTALACION REF: RP-294 2/PK HINGE ASSEMBLY FOR AEROSPRAY LID
B24: 15 | C24: =+' ESPECIFICACIONES TECNICAS'!C18 -> CAMBIO E INSTALACION REF: RP-299 4/PK CHECK VALVE, AEROSPRAY SOLENOID
B25: 16 | C25: =+' ESPECIFICACIONES TECNICAS'!C19 -> CAMBIO E INSTALACION REF: RP-307 VENT HOSE, AEROSPRAY
... B57: 48 | C57: =+' ESPECIFICACIONES TECNICAS'!C51 -> CAMBIO E INSTALACION REF: AC 188 12-SLIDE VENTED CAROUSEL FOR AEROSPRAY
A58: EQUIPO AEROSPRAY HEMATOLOGÍA 7152 | B58: 49 | C58: =+' ESPECIFICACIONES TECNICAS'!C52 -> CAMBIO E INSTALACION REF: RP-147 DRIVE MOTOR ASSEMBLY FOR AEROSPRAY AND CYTOPRO
B59: 50 | C59: =+' ESPECIFICACIONES TECNICAS'!C53 -> CAMBIO E INSTALACION REF: RP-171 PICKUP TUBE ASSY FOR 5-LITER BOTTLE, AEROSPRAY
B60: 51 | C60: =+' ESPECIFICACIONES TECNICAS'!C54 -> CAMBIO E INSTALACION REF: RP-181 DRIVE HUB, UNIVERSAL, 12/30 PLACE, AERO/CYTO
B61: 52 | C61: =+' ESPECIFICACIONES TECNICAS'!C55 -> CAMBIO E INSTALACION REF: RP-186 DRAIN/VENT SPIGOT REPAIR KIT FOR AEROSPRAY
B62: 53 | C62: =+' ESPECIFICACIONES TECNICAS'!C56 -> CAMBIO E INSTALACION REF: RP-208 150 INCH/PK TUBING, AEROSPRAY
B63: 54 | C63: =+' ESPECIFICACIONES TECNICAS'!C57 -> CAMBIO E INSTALACION REF: RP-215 PUMP ASSEMBLY FOR AEROSPRAY
B64: 55 | C64: =+' ESPECIFICACIONES TECNICAS'!C58 -> CAMBIO E INSTALACION REF: RP-259 5.25" PRECISION NORPRENE (A 60 G)TUBING AEROSPRAY
B65: 56 | C65: =+' ESPECIFICACIONES TECNICAS'!C59 -> CAMBIO E INSTALACION REF: RP-260 5.5" PRECISION NORPRENE (A 60 G)TUBING AEROSPRAY
B66: 57 | C66: =+' ESPECIFICACIONES TECNICAS'!C60 -> CAMBIO E INSTALACION REF: RP-275 AEROSPRAY BARB FITTING REPAIR KIT
B67: 58 | C67: =+' ESPECIFICACIONES TECNICAS'!C61 -> CAMBIO E INSTALACION REF: RP-293 MAGNETIC SENSOR PCBA FOR AEROSPRAY BOWL
B68: 59 | C68: =+' ESPECIFICACIONES TECNICAS'!C62 -> CAMBIO E INSTALACION REF: RP-294 2/PK HINGE ASSEMBLY FOR AEROSPRAY LID
B69: 60 | C69: =+' ESPECIFICACIONES TECNICAS'!C63 -> CAMBIO E INSTALACION REF: RP-299 4/PK CHECK VALVE, AEROSPRAY 7150 SOLENOID
B70: 61 | C70: =+' ESPECIFICACIONES TECNICAS'!C64 -> CAMBIO E INSTALACION REF: RP-307 VENT HOSE, AEROSPRAY
... B105: 96 | C105: =+' ESPECIFICACIONES TECNICAS'!C99 -> CAMBIO E INSTALACION REF: RP-585 LID LOCK ASSEMBLY, AEROSPARY 7XX2
A106: EQUIPO AEROSPRAY TB 7722 | B106: 97 | C106: =+' ESPECIFICACIONES TECNICAS'!C100 -> CAMBIO E INSTALACION REF: RP-147 DRIVE MOTOR ASSEMBLY FOR AEROSPRAY AND CYTOPRO
B107: 98 | C107: =+' ESPECIFICACIONES TECNICAS'!C101 -> CAMBIO E INSTALACION REF: RP-171 PICKUP TUBE ASSY FOR 5-LITER BOTTLE, AEROSPRAY
B108: 99 | C108: =+' ESPECIFICACIONES TECNICAS'!C102 -> CAMBIO E INSTALACION REF: RP-181 DRIVE HUB, UNIVERSAL, 12/30 PLACE, AERO/CYTO
B109: 100 | C109: =+' ESPECIFICACIONES TECNICAS'!C103 -> CAMBIO E INSTALACION REF: RP-186 DRAIN/VENT SPIGOT REPAIR KIT FOR AEROSPRAY
B110: 101 | C110: =+' ESPECIFICACIONES TECNICAS'!C104 -> CAMBIO E INSTALACION REF: RP-208 150 INCH/PK TUBING, AEROSPRAY
B111: 102 | C111: =+' ESPECIFICACIONES TECNICAS'!C105 -> CAMBIO E INSTALACION REF: RP-215 PUMP ASSEMBLY FOR AEROSPRAY
B112: 103 | C112: =+' ESPECIFICACIONES TECNICAS'!C106 -> CAMBIO E INSTALACION REF: RP-259 5.25" PRECISION NORPRENE (A 60 G)TUBING AEROSPRAY
B113: 104 | C113: =+' ESPECIFICACIONES TECNICAS'!C107 -> CAMBIO E INSTALACION REF: RP-260 5.5" PRECISION NORPRENE (A 60 G)TUBING AEROSPRAY
B114: 105 | C114: =+' ESPECIFICACIONES TECNICAS'!C108 -> CAMBIO E INSTALACION REF: RP-275 AEROSPRAY BARB FITTING REPAIR KIT
B115: 106 | C115: =+' ESPECIFICACIONES TECNICAS'!C109 -> CAMBIO E INSTALACION REF: RP-293 MAGNETIC SENSOR PCBA FOR AEROSPRAY BOWL
B116: 107 | C116: =+' ESPECIFICACIONES TECNICAS'!C110 -> CAMBIO E INSTALACION REF: RP-294 2/PK HINGE ASSEMBLY FOR AEROSPRAY LID
B117: 108 | C117: =+' ESPECIFICACIONES TECNICAS'!C111 -> CAMBIO E INSTALACION REF: RP-299 4/PK CHECK VALVE, AEROSPRAY SOLENOID
B118: 109 | C118: =+' ESPECIFICACIONES TECNICAS'!C112 -> CAMBIO E INSTALACION REF: RP-332 LID LATCH FOR AEROSPRAY/CYTOPRO
... B145: 136 | C145: =+' ESPECIFICACIONES TECNICAS'!C139 -> CAMBIO E INSTALACION REF: RP-515 IMBALANCE SENSOR, AEROSPRAY 7XX2

Sheet VALOR ESTIMADO
A1: 5.6 VALOR ESTIMADO - GRUPO 3
A2: ITEM | B2: RUBRO Y DESAGREGACIÓN PRESUPUESTAL | C2: RECURSO | D2: UNIDAD DE DESTINO | E2: DESCRIPCION ACTIVIDAD DE MANTENIMIENTO PREVENTIVO | F2: CANTIDAD | G2: VALOR UNITARIO ESTIMADO | H2: VALOR VIGENCIA 2026
A3: 1 | E3: =+' ESPECIFICACIONES TECNICAS'!B3 -> EQUIPO AEROSPRAY GRAM 7322 | F3: ACTIVIDAD | G3: =+'ANALISIS DE PRECIOS '!J4 -> 831810 | H3: =+G3 -> 831810
A4: 2 | E4: =+' ESPECIFICACIONES TECNICAS'!B4 -> EQUIPO AEROSPRAY HEMATOLOGÍA 7152 | F4: ACTIVIDAD | G4: =+'ANALISIS DE PRECIOS '!J5 -> 831810 | H4: =+G4 -> 831810
A5: 3 | E5: =+' ESPECIFICACIONES TECNICAS'!B5 -> EQUIPO AEROSPRAY TB 7722 | F5: ACTIVIDAD | G5: =+'ANALISIS DE PRECIOS '!J6 -> 831810 | H5: =+G5 -> 831810
A6: 4 | E6: =+' ESPECIFICACIONES TECNICAS'!C7 -> CAMBIO E INSTALACION REF: RP-147 DRIVE MOTOR ASSEMBLY FOR AEROSPRAY AND CYTOPRO | F6: UN | G6: =+'ANALISIS DE PRECIOS '!J7 -> 8373291 | H6: =+G6 -> 8373291
A7: 5 | E7: =+' ESPECIFICACIONES TECNICAS'!C8 -> CAMBIO E INSTALACION REF: RP-171 PICKUP TUBE ASSY FOR 5-LITER BOTTLE, AEROSPRAY, NO LEVEL DETECT | F7: UN | G7: =+'ANALISIS DE PRECIOS '!J8 -> 685378 | H7: =+G7 -> 685378
A8: 6 | E8: =+' ESPECIFICACIONES TECNICAS'!C9 -> CAMBIO E INSTALACION REF: RP-181 DRIVE HUB, UNIVERSAL, 12/30 PLACE, AERO/CYTO | F8: UN | G8: =+'ANALISIS DE PRECIOS '!J9 -> 1927294 | H8: =+G8 -> 1927294
A9: 7 | E9: =+' ESPECIFICACIONES TECNICAS'!C10 -> CAMBIO E INSTALACION REF: RP-186 DRAIN/VENT SPIGOT REPAIR KIT FOR AEROSPRAY | F9: UN | G9: =+'ANALISIS DE PRECIOS '!J10 -> 579825 | H9: =+G9 -> 579825
A10: 8 | E10: =+' ESPECIFICACIONES TECNICAS'!C11 -> CAMBIO E INSTALACION REF: RP-208 150 INCH/PK TUBING, AEROSPRAY | F10: UN | G10: =+'ANALISIS DE PRECIOS '!J11 -> 692972 | H10: =+G10 -> 692972
A11: 9 | E11: =+' ESPECIFICACIONES TECNICAS'!C12 -> CAMBIO E INSTALACION REF: RP-215 PUMP ASSEMBLY FOR AEROSPRAY | F11: UN | G11: =+'ANALISIS DE PRECIOS '!J12 -> 13291003 | H11: =+G11 -> 13291003
A12: 10 | E12: =+' ESPECIFICACIONES TECNICAS'!C13 -> CAMBIO E INSTALACION REF: RP-259 5.25" PRECISION NORPRENE (A 60 G) TUBING AEROSPRAY | F12: UN | G12: =+'ANALISIS DE PRECIOS '!J13 -> 295819 | H12: =+G12 -> 295819
A13: 11 | E13: =+' ESPECIFICACIONES TECNICAS'!C14 -> CAMBIO E INSTALACION REF: RP-260 5.5" PRECISION NORPRENE (A 60 G)TUBING AEROSPRAY | F13: UN | G13: =+'ANALISIS DE PRECIOS '!J14 -> 295819 | H13: =+G13 -> 295819
A14: 12 | E14: =+' ESPECIFICACIONES TECNICAS'!C15 -> CAMBIO E INSTALACION REF: RP-275 AEROSPRAY BARB FITTING REPAIR KIT $ 5 13.478 | F14: UN | G14: =+'ANALISIS DE PRECIOS '!J15 -> 750684 | H14: =+G14 -> 750684
A15: 13 | E15: =+' ESPECIFICACIONES TECNICAS'!C16 -> CAMBIO E INSTALACION REF: RP-293 MAGNETIC SENSOR PCBA FOR AEROSPRAY BOWL | F15: UN | G15: =+'ANALISIS DE PRECIOS '!J16 -> 609019 | H15: =+G15 -> 609019
A16: 14 | E16: =+' ESPECIFICACIONES TECNICAS'!C17 -> CAMBIO E INSTALACION REF: RP-294 2/PK HINGE ASSEMBLY FOR AEROSPRAY LID | F16: UN | G16: =+'ANALISIS DE PRECIOS '!J17 -> 492834 | H16: =+G16 -> 492834
A17: 15 | E17: =+' ESPECIFICACIONES TECNICAS'!C18 -> CAMBIO E INSTALACION REF: RP-299 4/PK CHECK VALVE, AEROSPRAY SOLENOID | F17: UN | G17: =+'ANALISIS DE PRECIOS '!J18 -> 969722 | H17: =+G17 -> 969722
... A80: 78 | E80: =+' ESPECIFICACIONES TECNICAS'!C81 -> CAMBIO E INSTALACION REF: RP-513 LEFT PANEL ASSEMBLY, AEROSPRAY 7XX2 | F80: UN | G80: =+'ANALISIS DE PRECIOS '!J81 -> 1394213 | H80: =+G80 -> 1394213
A81: 79 | E81: CAMBIO E INSTALACION REF: RP-514 LCD SCREEN ASSEMBLY, AEROSPRAY 7XX2 | F81: UN | G81: =+'ANALISIS DE PRECIOS '!J82 -> 3067538 | H81: =+G81 -> 3067538
A82: 80 | E82: CAMBIO E INSTALACION REF: RP-515 IMBALANCE SENSOR, AEROSPRAY 7XX2 | F82: UN | G82: =+'ANALISIS DE PRECIOS '!J83 -> 948122 | H82: =+G82 -> 948122
A83: 81 | E83: CAMBIO E INSTALACION REF: RP-516 MANUAL, SERVICE, CD-ROM AERO/CYTO 7XX2 | F83: UN | G83: =+'ANALISIS DE PRECIOS '!J84 -> 620072 | H83: =+G83 -> 620072
A84: 82 | E84: CAMBIO E INSTALACION REF: RP-517 MANUAL, USER, FOR CYTOPRO ROTOR AC-160 WITH 7XX2 | F84: UN | G84: =+'ANALISIS DE PRECIOS '!J85 -> 620072 | H84: =+G84 -> 620072
A85: 83 | E85: CAMBIO E INSTALACION REF: RP-518 NOZZLE CLEANING STRAINER, AEROSPRAY | F85: UN | G85: =+'ANALISIS DE PRECIOS '!J86 -> 189605.63 | H85: =+G85 -> 189605.63
A86: 84 | E86: CAMBIO E INSTALACION REF: RP-520 REPLACEMENT DRAIN CONNECTOR, AEROSPRAY 7XX1+ | F86: UN | G86: =+'ANALISIS DE PRECIOS '!J87 -> 389981 | H86: =+G86 -> 389981
A87: 85 | E87: CAMBIO E INSTALACION REF: RP-521 WASTE BOTTLE WITH CAP, AEROSPRAY | F87: UN | G87: =+'ANALISIS DE PRECIOS '!J88 -> 669431 | H87: =+G87 -> 669431
A88: 86 | E88: CAMBIO E INSTALACION REF: RP-524 FRONT PANEL ASSEMBLY, 7152 | F88: UN | G88: =+'ANALISIS DE PRECIOS '!J89 -> 5520656 | H88: =+G88 -> 5520656
A89: 87 | E89: CAMBIO E INSTALACION REF: RP-525 RIGHT PANEL ASSEMBLY, 7152 | F89: UN | G89: =+'ANALISIS DE PRECIOS '!J90 -> 3624919 | H89: =+G89 -> 3624919
A90: 88 | E90: CAMBIO E INSTALACION REF: RP-221 LID ASSEMBLY FOR CYTOPRO ROTOR | F90: UN | G90: =+'ANALISIS DE PRECIOS '!J91 -> 10988916 | H90: =+G90 -> 10988916
A91: 89 | E91: CAMBIO E INSTALACION REF: RP-267 LID KNOB/LATCH ASSEMBLY FOR CYTOPRO ROTOR | F91: UN | G91: =+'ANALISIS DE PRECIOS '!J92 -> 2748600 | H91: =+G91 -> 2748600
A92: 90 | E92: CAMBIO E INSTALACION REF: RP-269 SEAL FOR CYTOPRO ROTOR LID (AC-060 & AC-160) | F92: UN | G92: =+'ANALISIS DE PRECIOS '!J93 -> 451828 | H92: =+G92 -> 451828
... A138: 136 | E138: CAMBIO E INSTALACION REF: RP-515 IMBALANCE SENSOR, AEROSPRAY 7XX2 | F138: UN | G138: =+'ANALISIS DE PRECIOS '!J139 -> 948122 | H138: =+G138 -> 948122

Sheet FORMULARIOS ESPECIFIC TECNICAS
A1: PRESTACIÓN DEL SERVICIO DE MANTENIMIENTO PREVENTIVO Y CORRECTIVO INCLUIDOS REPUESTOS GENUINOS DE LA MARCA WESCOR ELITECH
A2: ITEM | B2: EQUIPO | C2: ACTIVIDADES DE MANTENIMIENTO PREVENTIVO | D2: CANTIDAD DE EQUIPOS | E2: UNIDAD DE MEDIDA | F2: MES / VISITA | G2: SI OFRECE | H2: NO OFRECE
A3: 1 | B3: =+'VALOR ESTIMADO'!E3 -> EQUIPO AEROSPRAY GRAM 7322 | C3: Desarme, Limpieza interna y externa Diagnóstico y verificación del estado físico y funcionamiento de cada una de las partes y el hardware Verificación del funcionamiento de cada uno de los componentes organización de la información en la basa de datos y el disco duro del pc Comprobación de funcionamiento de estimulador eléctrico Comprobación de impedancias de electrodos Comprobación de registro en los diferentes protocolos Revisión de la conexión de los pines a la tarjeta del amplificador Documentación y elaboración de reportes de servicio técnico detallados de todos los mantenimientos. | D3: 1 | E3: VISITA | F3: SEGUNDO SEMESTREL DEL 2026
A4: 2 | B4: =+'VALOR ESTIMADO'!E4 -> EQUIPO AEROSPRAY HEMATOLOGÍA 7152 | C4: Desarme, limpieza interna y externa Diagnóstico y verificación del estado físico y funcionamiento de cada una de las partes y el hardware Verificación del funcionamiento de cada uno de los componentes Organización de la información en la basa de datos y el disco duro del pc Comprobación de funcionamiento de estimulador eléctrico Comprobación de impedancias de electrodos Comprobación de registro en los diferentes protocolos Revisión de la conexión de los pines a la tarjeta del amplificador | D4: 1 | E4: VISITA
A5: 3 | B5: =+'VALOR ESTIMADO'!E5 -> EQUIPO AEROSPRAY TB 7722 | C5: Desarme, Limpieza interna y externa Diagnóstico y verificación del estado físico y funcionamiento de cada una de las partes y el hardware Verificación del funcionamiento de cada uno de los componentes Organización de la información en la basa de datos y el disco duro del pc Comprobación de impedancias de electrodos Comprobación de registro en los diferentes protocolos Revisión de la conexión de los pines a la tarjeta del amplificador Documentación y elaboración de reportes de servicio técnico detallados de todos los mantenimientos. | D5: 1 | E5: VISITA
A6: ITEM | B6: EQUIPO | C6: ACTIVIDADES DE MANTENIMIENTO CORRECTIVO (INCLUYE REPUESTOS E INSTALACION) | D6: CANTIDAD DE EQUIPOS | E6: PERIODICIDAD | G6: SI OFRECE | H6: NO OFRECE
A7: 4 | B7: EQUIPO AEROSPRAY GRAM 7322 | C7: CAMBIO E INSTALACION REF: RP-147 DRIVE MOTOR ASSEMBLY FOR AEROSPRAY AND CYTOPRO | D7: 1 | E7: ACTIVIDAD | F7: A solicitud del Supervisor
A8: 5 | C8: CAMBIO E INSTALACION REF: RP-171 PICKUP TUBE ASSY FOR 5-LITER BOTTLE, AEROSPRAY, NO LEVEL DETECT | D8: 1 | E8: ACTIVIDAD
A9: 6 | C9: CAMBIO E INSTALACION REF: RP-181 DRIVE HUB, UNIVERSAL, 12/30 PLACE, AERO/CYTO | D9: 1 | E9: ACTIVIDAD
A10: 7 | C10: CAMBIO E INSTALACION REF: RP-186 DRAIN/VENT SPIGOT REPAIR KIT FOR AEROSPRAY | D10: 1 | E10: ACTIVIDAD
A11: 8 | C11: CAMBIO E INSTALACION REF: RP-208 150 INCH/PK TUBING, AEROSPRAY | D11: 1 | E11: ACTIVIDAD
A12: 9 | C12: CAMBIO E INSTALACION REF: RP-215 PUMP ASSEMBLY FOR AEROSPRAY | D12: 1 | E12: ACTIVIDAD
A13: 10 | C13: CAMBIO E INSTALACION REF: RP-259 5.25" PRECISION NORPRENE (A 60 G) TUBING AEROSPRAY | D13: 1 | E13: ACTIVIDAD
A14: 11 | C14: CAMBIO E INSTALACION REF: RP-260 5.5" PRECISION NORPRENE (A 60 G)TUBING AEROSPRAY | D14: 1 | E14: ACTIVIDAD
A15: 12 | C15: CAMBIO E INSTALACION REF: RP-275 AEROSPRAY BARB FITTING REPAIR KIT $ 5 13.478 | D15: 1 | E15: ACTIVIDAD
A16: 13 | C16: CAMBIO E INSTALACION REF: RP-293 MAGNETIC SENSOR PCBA FOR AEROSPRAY BOWL | D16: 1 | E16: ACTIVIDAD
A17: 14 | C17: CAMBIO E INSTALACION REF: RP-294 2/PK HINGE ASSEMBLY FOR AEROSPRAY LID | D17: 1 | E17: ACTIVIDAD
A18: 15 | C18: CAMBIO E INSTALACION REF: RP-299 4/PK CHECK VALVE, AEROSPRAY SOLENOID | D18: 1 | E18: ACTIVIDAD
A19: 16 | C19: CAMBIO E INSTALACION REF: RP-307 VENT HOSE, AEROSPRAY | D19: 1 | E19: ACTIVIDAD
... A51: 48 | C51: CAMBIO E INSTALACION REF: AC 188 12-SLIDE VENTED CAROUSEL FOR AEROSPRAY | D51: 1 | E51: ACTIVIDAD
A52: 49 | B52: EQUIPO AEROSPRAY HEMATOLOGÍA 7152 | C52: CAMBIO E INSTALACION REF: RP-147 DRIVE MOTOR ASSEMBLY FOR AEROSPRAY AND CYTOPRO | D52: 1 | E52: ACTIVIDAD
A53: 50 | C53: CAMBIO E INSTALACION REF: RP-171 PICKUP TUBE ASSY FOR 5-LITER BOTTLE, AEROSPRAY | D53: 1 | E53: ACTIVIDAD
A54: 51 | C54: CAMBIO E INSTALACION REF: RP-181 DRIVE HUB, UNIVERSAL, 12/30 PLACE, AERO/CYTO | D54: 1 | E54: ACTIVIDAD
A55: 52 | C55: CAMBIO E INSTALACION REF: RP-186 DRAIN/VENT SPIGOT REPAIR KIT FOR AEROSPRAY | D55: 1 | E55: ACTIVIDAD
A56: 53 | C56: CAMBIO E INSTALACION REF: RP-208 150 INCH/PK TUBING, AEROSPRAY | D56: 1 | E56: ACTIVIDAD
A57: 54 | C57: CAMBIO E INSTALACION REF: RP-215 PUMP ASSEMBLY FOR AEROSPRAY | D57: 1 | E57: ACTIVIDAD
A58: 55 | C58: CAMBIO E INSTALACION REF: RP-259 5.25" PRECISION NORPRENE (A 60 G)TUBING AEROSPRAY | D58: 1 | E58: ACTIVIDAD
A59: 56 | C59: CAMBIO E INSTALACION REF: RP-260 5.5" PRECISION NORPRENE (A 60 G)TUBING AEROSPRAY | D59: 1 | E59: ACTIVIDAD
A60: 57 | C60: CAMBIO E INSTALACION REF: RP-275 AEROSPRAY BARB FITTING REPAIR KIT | D60: 1 | E60: ACTIVIDAD
A61: 58 | C61: CAMBIO E INSTALACION REF: RP-293 MAGNETIC SENSOR PCBA FOR AEROSPRAY BOWL | D61: 1 | E61: ACTIVIDAD
A62: 59 | C62: CAMBIO E INSTALACION REF: RP-294 2/PK HINGE ASSEMBLY FOR AEROSPRAY LID | D62: 1 | E62: ACTIVIDAD
A63: 60 | C63: CAMBIO E INSTALACION REF: RP-299 4/PK CHECK VALVE, AEROSPRAY 7150 SOLENOID | D63: 1 | E63: ACTIVIDAD
A64: 61 | C64: CAMBIO E INSTALACION REF: RP-307 VENT HOSE, AEROSPRAY | D64: 1 | E64: ACTIVIDAD
... A99: 96 | C99: CAMBIO E INSTALACION REF: RP-585 LID LOCK ASSEMBLY, AEROSPARY 7XX2 | D99: 1 | E99: ACTIVIDAD
A100: 97 | B100: EQUIPO AEROSPRAY TB 7722 | C100: CAMBIO E INSTALACION REF: RP-147 DRIVE MOTOR ASSEMBLY FOR AEROSPRAY AND CYTOPRO | D100: 1 | E100: ACTIVIDAD
A101: 98 | C101: CAMBIO E INSTALACION REF: RP-171 PICKUP TUBE ASSY FOR 5-LITER BOTTLE, AEROSPRAY | D101: 1 | E101: ACTIVIDAD
A102: 99 | C102: CAMBIO E INSTALACION REF: RP-181 DRIVE HUB, UNIVERSAL, 12/30 PLACE, AERO/CYTO | D102: 1 | E102: ACTIVIDAD
A103: 100 | C103: CAMBIO E INSTALACION REF: RP-186 DRAIN/VENT SPIGOT REPAIR KIT FOR AEROSPRAY | D103: 1 | E103: ACTIVIDAD
A104: 101 | C104: CAMBIO E INSTALACION REF: RP-208 150 INCH/PK TUBING, AEROSPRAY | D104: 1 | E104: ACTIVIDAD
A105: 102 | C105: CAMBIO E INSTALACION REF: RP-215 PUMP ASSEMBLY FOR AEROSPRAY | D105: 1 | E105: ACTIVIDAD
A106: 103 | C106: CAMBIO E INSTALACION REF: RP-259 5.25" PRECISION NORPRENE (A 60 G)TUBING AEROSPRAY | D106: 1 | E106: ACTIVIDAD
A107: 104 | C107: CAMBIO E INSTALACION REF: RP-260 5.5" PRECISION NORPRENE (A 60 G)TUBING AEROSPRAY | D107: 1 | E107: ACTIVIDAD
A108: 105 | C108: CAMBIO E INSTALACION REF: RP-275 AEROSPRAY BARB FITTING REPAIR KIT | D108: 1 | E108: ACTIVIDAD
A109: 106 | C109: CAMBIO E INSTALACION REF: RP-293 MAGNETIC SENSOR PCBA FOR AEROSPRAY BOWL | D109: 1 | E109: ACTIVIDAD
A110: 107 | C110: CAMBIO E INSTALACION REF: RP-294 2/PK HINGE ASSEMBLY FOR AEROSPRAY LID | D110: 1 | E110: ACTIVIDAD
A111: 108 | C111: CAMBIO E INSTALACION REF: RP-299 4/PK CHECK VALVE, AEROSPRAY SOLENOID | D111: 1 | E111: ACTIVIDAD
A112: 109 | C112: CAMBIO E INSTALACION REF: RP-332 LID LATCH FOR AEROSPRAY/CYTOPRO | D112: 1 | E112: ACTIVIDAD
... A139: 136 | C139: CAMBIO E INSTALACION REF: RP-515 IMBALANCE SENSOR, AEROSPRAY 7XX2 | D139: 1 | E139: ACTIVIDAD

Sheet FORMULARIO % IVA
A1: PRESTACIÓN DEL SERVICIO DE MANTENIMIENTO PREVENTIVO Y CORRECTIVO INCLUIDOS REPUESTOS GENUINOS DE LA MARCA WESCOR ELITECH
A2: ITEM | B2: DESCRIPCION ACTIVIDAD DE MANTENIMIENTO PREVENTIVO | C2: CANTIDAD | D2: UNIDAD DE MEDIDA | E2: % IVA | F2: EXENTO IVA | G2: EXCLUIDO IVA
A3: 1 | B3: =+'FORMULARIOS ESPECIFIC TECNICAS'!B3 -> EQUIPO AEROSPRAY GRAM 7322 | C3: 1 | D3: VISITA | E3: _______ %
A4: 2 | B4: =+'FORMULARIOS ESPECIFIC TECNICAS'!B4 -> EQUIPO AEROSPRAY HEMATOLOGÍA 7152 | C4: 1 | D4: VISITA | E4: _______ %
A5: 3 | B5: =+'FORMULARIOS ESPECIFIC TECNICAS'!B5 -> EQUIPO AEROSPRAY TB 7722 | C5: 1 | D5: VISITA | E5: _______ %
A6: 4 | B6: =+'FORMULARIOS ESPECIFIC TECNICAS'!C7 -> CAMBIO E INSTALACION REF: RP-147 DRIVE MOTOR ASSEMBLY FOR AEROSPRAY AND CYTOPRO | C6: 1 | D6: ACTIVIDAD | E6: _______ %
A7: 5 | B7: =+'FORMULARIOS ESPECIFIC TECNICAS'!C8 -> CAMBIO E INSTALACION REF: RP-171 PICKUP TUBE ASSY FOR 5-LITER BOTTLE, AEROSPRAY, NO LEVEL DETECT | C7: 1 | D7: ACTIVIDAD | E7: _______ %
A8: 6 | B8: =+'FORMULARIOS ESPECIFIC TECNICAS'!C9 -> CAMBIO E INSTALACION REF: RP-181 DRIVE HUB, UNIVERSAL, 12/30 PLACE, AERO/CYTO | C8: 1 | D8: ACTIVIDAD | E8: _______ %
A9: 7 | B9: =+'FORMULARIOS ESPECIFIC TECNICAS'!C10 -> CAMBIO E INSTALACION REF: RP-186 DRAIN/VENT SPIGOT REPAIR KIT FOR AEROSPRAY | C9: 1 | D9: ACTIVIDAD | E9: _______ %
A10: 8 | B10: =+'FORMULARIOS ESPECIFIC TECNICAS'!C11 -> CAMBIO E INSTALACION REF: RP-208 150 INCH/PK TUBING, AEROSPRAY | C10: 1 | D10: ACTIVIDAD | E10: _______ %
A11: 9 | B11: =+'FORMULARIOS ESPECIFIC TECNICAS'!C12 -> CAMBIO E INSTALACION REF: RP-215 PUMP ASSEMBLY FOR AEROSPRAY | C11: 1 | D11: ACTIVIDAD | E11: _______ %
A12: 10 | B12: =+'FORMULARIOS ESPECIFIC TECNICAS'!C13 -> CAMBIO E INSTALACION REF: RP-259 5.25" PRECISION NORPRENE (A 60 G) TUBING AEROSPRAY | C12: 1 | D12: ACTIVIDAD | E12: _______ %
A13: 11 | B13: =+'FORMULARIOS ESPECIFIC TECNICAS'!C14 -> CAMBIO E INSTALACION REF: RP-260 5.5" PRECISION NORPRENE (A 60 G)TUBING AEROSPRAY | C13: 1 | D13: ACTIVIDAD | E13: _______ %
A14: 12 | B14: =+'FORMULARIOS ESPECIFIC TECNICAS'!C15 -> CAMBIO E INSTALACION REF: RP-275 AEROSPRAY BARB FITTING REPAIR KIT $ 5 13.478 | C14: 1 | D14: ACTIVIDAD | E14: _______ %
A15: 13 | B15: =+'FORMULARIOS ESPECIFIC TECNICAS'!C16 -> CAMBIO E INSTALACION REF: RP-293 MAGNETIC SENSOR PCBA FOR AEROSPRAY BOWL | C15: 1 | D15: ACTIVIDAD | E15: _______ %
A16: 14 | B16: =+'FORMULARIOS ESPECIFIC TECNICAS'!C17 -> CAMBIO E INSTALACION REF: RP-294 2/PK HINGE ASSEMBLY FOR AEROSPRAY LID | C16: 1 | D16: ACTIVIDAD | E16: _______ %
A17: 15 | B17: =+'FORMULARIOS ESPECIFIC TECNICAS'!C18 -> CAMBIO E INSTALACION REF: RP-299 4/PK CHECK VALVE, AEROSPRAY SOLENOID | C17: 1 | D17: ACTIVIDAD | E17: _______ %
... A80: 78 | B80: =+'FORMULARIOS ESPECIFIC TECNICAS'!C81 -> CAMBIO E INSTALACION REF: RP-513 LEFT PANEL ASSEMBLY, AEROSPRAY 7XX2 | C80: 1 | D80: ACTIVIDAD | E80: _______ %
A81: 79 | B81: CAMBIO E INSTALACION REF: RP-514 LCD SCREEN ASSEMBLY, AEROSPRAY 7XX2 | C81: 1 | D81: ACTIVIDAD | E81: _______ %
A82: 80 | B82: CAMBIO E INSTALACION REF: RP-515 IMBALANCE SENSOR, AEROSPRAY 7XX2 | C82: 1 | D82: ACTIVIDAD | E82: _______ %
A83: 81 | B83: CAMBIO E INSTALACION REF: RP-516 MANUAL, SERVICE, CD-ROM AERO/CYTO 7XX2 | C83: 1 | D83: ACTIVIDAD | E83: _______ %
A84: 82 | B84: CAMBIO E INSTALACION REF: RP-517 MANUAL, USER, FOR CYTOPRO ROTOR AC-160 WITH 7XX2 | C84: 1 | D84: ACTIVIDAD | E84: _______ %
A85: 83 | B85: CAMBIO E INSTALACION REF: RP-518 NOZZLE CLEANING STRAINER, AEROSPRAY | C85: 1 | D85: ACTIVIDAD | E85: _______ %
A86: 84 | B86: CAMBIO E INSTALACION REF: RP-520 REPLACEMENT DRAIN CONNECTOR, AEROSPRAY 7XX1+ | C86: 1 | D86: ACTIVIDAD | E86: _______ %
A87: 85 | B87: CAMBIO E INSTALACION REF: RP-521 WASTE BOTTLE WITH CAP, AEROSPRAY | C87: 1 | D87: ACTIVIDAD | E87: _______ %
A88: 86 | B88: CAMBIO E INSTALACION REF: RP-524 FRONT PANEL ASSEMBLY, 7152 | C88: 1 | D88: ACTIVIDAD | E88: _______ %
A89: 87 | B89: CAMBIO E INSTALACION REF: RP-525 RIGHT PANEL ASSEMBLY, 7152 | C89: 1 | D89: ACTIVIDAD | E89: _______ %
A90: 88 | B90: CAMBIO E INSTALACION REF: RP-221 LID ASSEMBLY FOR CYTOPRO ROTOR | C90: 1 | D90: ACTIVIDAD | E90: _______ %
A91: 89 | B91: CAMBIO E INSTALACION REF: RP-267 LID KNOB/LATCH ASSEMBLY FOR CYTOPRO ROTOR | C91: 1 | D91: ACTIVIDAD | E91: _______ %
A92: 90 | B92: CAMBIO E INSTALACION REF: RP-269 SEAL FOR CYTOPRO ROTOR LID (AC-060 & AC-160) | C92: 1 | D92: ACTIVIDAD | E92: _______ %
... A138: 136 | B138: CAMBIO E INSTALACION REF: RP-515 IMBALANCE SENSOR, AEROSPRAY 7XX2 | C138: 1 | D138: ACTIVIDAD | E138: _______ %
