Workbook

Sheet ESPECIFICACIONES TECNICAS
A1: ESPECIFICACIONES TECNICAS
A2: PRESTACIÓN DEL SERVICIO DE MANTENIMIENTO PREVENTIVO Y CORRECTIVO INCLUIDOS REPUESTOS GENUINOS DE EQUIPOS DE LA MARCA LABORIE
A3: ITEM | B3: EQUIPO | C3: ACTIVIDADES DE MANTENIMIENTO PREVENTIVO MANTENIMIENTO PREVENTIVO EQUIPO DE URODINAMIA MARCA LABORIE, MODELO GOBY | D3: CANTIDAD | E3: UNIDAD DE MEDIDA | F3: MES / VISITA
A4: 1 | B4: EQUIPO DE URODINAMIA MARCA LABORIE, MODELO GOBY | C4: El sistema goby es no sumergible. Debe ser limpiado con un paño limpio humedecido con una solución de limpieza tal como jabón y agua o de acuerdo con las instrucciones de limpieza hospitalaria. El vaso debe ser enjuagado y juagado después de cada uso Los electrodos EMG, tubos, catéteres descartables, franja y funda opcionales para la pierna y cartuchos son solo para uso por un paciente, no vuelva a usar los objetos descartables Verificar la calibración del transductor del GOBY cada 6 meses o cuando se sospeche que estos no estén calibrados Verificación de funcionamiento del transductor de flujometría componentes eléctricos y electrónicos Verificación de funcionamiento del transductor de presión (membrana, botones de prueba). Verificación de funcionamiento de la unidad de paciente ROAM. Verificación de funcionamiento de la bomba peristáltica Verificación de funcionamiento de la estación GOBY HUB Verificación de funcionamiento del set de cables de EMG X 3 Verificación de funcionamiento del cable de interface de presiones Verificación de funcionamiento del vaso graduado Verificación de funcionamiento de la extensión de EMG Verificación de funcionamiento de la silla orinal Verificación de funcionamiento de la manguera para sensor de presión Verificación de funcionamiento de la manguera para bomba de infusión Verificación de funcionamiento del catéter abdominal Verificación de funcionamiento del catéter vesical Verificación de funcionamiento de los cartuchos para transductor de presión Verificación de funcionamiento del embudo corto | D4: 1 | E4: VISITA | F4: SEGUNDO SEMESTREL DEL 2026
A5: 2 | B5: EQUIPO DE URODINAMIA MARCA LABORIE, MODELO GOBY | C5: CAMBIO E INSTALACIÓN TRANSDUCTOR DE PRESIÓN VESICAL (MX960) REFERENCIA TRA600 | D5: 1 | E5: ACTIVIDAD | F5: A SOLICITUD DEL SUPERVISOR
A6: 3 | C6: CAMBIO E INSTALACIÓN TRANSDUCTOR DE PRESIÓN ABDOMINAL (MX960) REFERENCIA TRA 602 | D6: 1 | E6: ACTIVIDAD
A7: 4 | C7: CAMBIO E INSTALACIÓN CABLE INTERFACE PARA TRANSDUCTOR P1 REFERENCIA CAB1036 | D7: 1 | E7: ACTIVIDAD
A8: 5 | C8: CAMBIO E INSTALACIÓN CABLE INTERFACE PARA TRANSDUCTOR P2 REFERENCIA CAB1038 | D8: 1 | E8: ACTIVIDAD
A9: 6 | C9: CAMBIO E INSTALACIÓN SET DE TRES CABLES PARA ELECTROMIOGRAFÍA REFERENCIA ELE350 | D9: 1 | E9: ACTIVIDAD
A10: 7 | C10: CAMBIO E INSTALACIÓN MAIN BOARD UROCAP IV | D10: 1 | E10: ACTIVIDAD
A11: 8 | C11: CAMBIO E INSTALACIÓN GALGA EXTENSIOMÉTRICA UROCAP IV | D11: 1 | E11: ACTIVIDAD
A12: 9 | C12: CAMBIO E INSTALACIÓN BATERÍA UROCAP IV | D12: 1 | E12: ACTIVIDAD
A13: 10 | C13: CAMBIO E INSTALACIÓN MAIN BOARD ROAM | D13: 1 | E13: ACTIVIDAD

Sheet 5.2._x0009_PRECIOS HISTÓRICOS
A1: GRUPO 5 - 5.2 PRECIOS HISTORICOS
A2: PRESTACIÓN DEL SERVICIO DE MANTENIMIENTO PREVENTIVO Y CORRECTIVO INCLUIDOS REPUESTOS GENUINOS DE EQUIPOS DE LA MARCA LABORIE
A3: ITEM | B3: ENTIDAD CONTRATANTE Y CONTRATISTA | C3: ACTIVIDADES DE MANTENIMIENTO PREVENTIVO | D3: UNIDAD DE MEDIDA | E3: VALOR CONTRATO 2022 | F3: PRECIO HISTORICO VALOR UNITARIO PROYECTADO CON IPC 2021 (5.62%) IPC 2022 (13.12%) IPC 2023 (9.28%)(IVA INCLUIDO) | G3: VALOR CONTRATO 2023 | H3: VALOR CONTRATO 2024 | I3: VALOR CONTRATO 2025 | J3: 9.28 | K3: 5.2 | L3: 5.1 | M3: PRECIO HISTORICO VALOR UNITARIO PROYECTADO CON IPC 2023 (9.28%), 2024 (5.2%), 2025 (5.1%) (IVA INCLUIDO)
A4: 1 | B4: HOCEN - TMC | C4: MANTENIMIENTO PREVENTIVO EQUIPO DE URODINAMIA MARCA LABORIE, MODELO GOBY | D4: ACTIVIDAD | E4: NO SE CONTRATO | F4: NO SE CONTRATO | G4: 1071714 | H4: NO SE CONTRATO | I4: NO SE CONTRATO | J4: =+G4*9.28%+G4 -> 1171169.1 | K4: =+J4*5.2%+J4 -> 1232069.9 | L4: =+K4*5.1%+K4 -> 1294905.4 | M4: =+L4 -> 1294905.4
A5: 2 | B5: HOCEN - TMC | C5: CAMBIO E INSTALACIÓN TRANSDUCTOR DE PRESIÓN VESICAL (MX960) REFERENCIA TRA600 | D5: ACTIVIDAD | E5: NO SE CONTRATO | F5: NO SE CONTRATO | G5: 2886301 | H5: NO SE CONTRATO | I5: NO SE CONTRATO | J5: =+G5*9.28%+G5 -> 3154149.7 | K5: =+G5*5.2%+G5 -> 3036388.6 | L5: =+K5*5.1%+K5 -> 3191244.4 | M5: =+L5 -> 3191244.4
A6: 3 | B6: HOCEN - TMC | C6: CAMBIO E INSTALACIÓN TRANSDUCTOR DE PRESIÓN ABDOMINAL (MX960) REFERENCIA TRA 602 | D6: ACTIVIDAD | E6: NO SE CONTRATO | F6: NO SE CONTRATO | G6: 2886301 | H6: NO SE CONTRATO | I6: NO SE CONTRATO | J6: =+G6*9.28%+G6 -> 3154149.7 | K6: =+G6*5.2%+G6 -> 3036388.6 | L6: =+K6*5.1%+K6 -> 3191244.4 | M6: =+L6 -> 3191244.4
A7: 4 | B7: HOCEN - TMC | C7: CAMBIO E INSTALACIÓN CABLE INTERFACE PARA TRANSDUCTOR P1 REFERENCIA CAB1036 | D7: ACTIVIDAD | E7: NO SE CONTRATO | F7: NO SE CONTRATO | G7: 2972620 | H7: NO SE CONTRATO | I7: NO SE CONTRATO | J7: =+G7*9.28%+G7 -> 3248479.1 | K7: =+G7*5.2%+G7 -> 3127196.2 | L7: =+K7*5.1%+K7 -> 3286683.2 | M7: =+L7 -> 3286683.2
A8: 5 | B8: HOCEN - TMC | C8: CAMBIO E INSTALACIÓN CABLE INTERFACE PARA TRANSDUCTOR P2 REFERENCIA CAB1038 | D8: ACTIVIDAD | E8: NO SE CONTRATO | F8: NO SE CONTRATO | G8: 2972620 | H8: NO SE CONTRATO | I8: NO SE CONTRATO | J8: =+G8*9.28%+G8 -> 3248479.1 | K8: =+G8*5.2%+G8 -> 3127196.2 | L8: =+K8*5.1%+K8 -> 3286683.2 | M8: =+L8 -> 3286683.2
A9: 6 | B9: HOCEN - TMC | C9: CAMBIO E INSTALACIÓN SET DE TRES CABLES PARA ELECTROMIOGRAFÍA REFERENCIA ELE350 | D9: ACTIVIDAD | E9: NO SE CONTRATO | F9: NO SE CONTRATO | G9: 822267.39 | H9: NO SE CONTRATO | I9: NO SE CONTRATO | J9: =+G9*9.28%+G9 -> 898573.8 | K9: =+G9*5.2%+G9 -> 865025.29 | L9: =+K9*5.1%+K9 -> 909141.58 | M9: =+L9 -> 909141.58
A10: 7 | B10: HOCEN - TMC | C10: CAMBIO E INSTALACIÓN MAIN BOARD UROCAP IV | D10: ACTIVIDAD | E10: NO SE CONTRATO | F10: NO SE CONTRATO | G10: 15422400 | H10: NO SE CONTRATO | I10: NO SE CONTRATO | J10: =+G10*9.28%+G10 -> 16853599 | K10: =+G10*5.2%+G10 -> 16224365 | L10: =+K10*5.1%+K10 -> 17051807 | M10: =+L10 -> 17051807
A11: 8 | B11: HOCEN - TMC | C11: CAMBIO E INSTALACIÓN GALGA EXTENSIOMÉTRICA UROCAP IV | D11: ACTIVIDAD | E11: NO SE CONTRATO | F11: NO SE CONTRATO | G11: 4073370 | H11: NO SE CONTRATO | I11: NO SE CONTRATO | J11: =+G11*9.28%+G11 -> 4451378.7 | K11: =+G11*5.2%+G11 -> 4285185.2 | L11: =+K11*5.1%+K11 -> 4503729.7 | M11: =+L11 -> 4503729.7
A12: 9 | B12: HOCEN - TMC | C12: CAMBIO E INSTALACIÓN BATERÍA UROCAP IV | D12: ACTIVIDAD | E12: NO SE CONTRATO | F12: NO SE CONTRATO | G12: 1072890 | H12: NO SE CONTRATO | I12: NO SE CONTRATO | J12: =+G12*9.28%+G12 -> 1172454.2 | K12: =+G12*5.2%+G12 -> 1128680.3 | L12: =+K12*5.1%+K12 -> 1186243 | M12: =+L12 -> 1186243
A13: 10 | B13: HOCEN - TMC | C13: CAMBIO E INSTALACIÓN MAIN BOARD ROAM | D13: ACTIVIDAD | E13: NO SE CONTRATO | F13: NO SE CONTRATO | G13: NO SE CONTRATO | H13: NO SE CONTRATO | I13: NO SE CONTRATO | J13: =+G13*9.28%+G13 -> #VALUE! | K13: NO SE CONTRATO | L13: NO SE CONTRATO | M13: =+L13 -> NO SE CONTRATO

Sheet 5.4 PRECIOS DE MERCADO 
A1: 5.4 PRECIOS DE MERCADO- GRUPO 5
A2: PRESTACIÓN DEL SERVICIO DE MANTENIMIENTO PREVENTIVO Y CORRECTIVO INCLUIDOS REPUESTOS GENUINOS DE EQUIPOS DE LA MARCA LABORIE
A3: ITEM | B3: ACTIVIDADES DE MANTENIMIENTO PREVENTIVO | C3: VALOR UNITARIO ESTIMADO. INCLUIDO IVA | D3: UNICO VALOR COTIZADO
A4: 1 | B4: MANTENIMIENTO PREVENTIVO EQUIPO DE URODINAMIA MARCA LABORIE, MODELO GOBY, SERIE No GHUB-9-18094118 | C4: 1359650 | D4: =+C4 -> 1359650
A5: 2 | B5: CAMBIO E INSTALACIÓN TRANSDUCTOR DE PRESIÓN VESICAL (MX960) REFERENCIA TRA600 | C5: 3350806.7 | D5: =+C5 -> 3350806.7
A6: 3 | B6: CAMBIO E INSTALACIÓN TRANSDUCTOR DE PRESIÓN ABDOMINAL (MX960) REFERENCIA TRA 602 | C6: 3350806.7 | D6: =+C6 -> 3350806.7
A7: 4 | B7: CAMBIO E INSTALACIÓN CABLE INTERFACE PARA TRANSDUCTOR P1 REFERENCIA CAB1036 | C7: 3451017.4 | D7: =+C7 -> 3451017.4
A8: 5 | B8: CAMBIO E INSTALACIÓN CABLE INTERFACE PARA TRANSDUCTOR P2 REFERENCIA CAB1038 | C8: 3451017.4 | D8: =+C8 -> 3451017.4
A9: 6 | B9: CAMBIO E INSTALACIÓN SET DE TRES CABLES PARA ELECTROMIOGRAFÍA REFERENCIA ELE350 | C9: 954598.66 | D9: =+C9 -> 954598.66
A10: 7 | B10: CAMBIO E INSTALACIÓN MAIN BOARD UROCAP IV | C10: 6495820 | D10: =+C10 -> 6495820
A11: 8 | B11: CAMBIO E INSTALACIÓN GALGA EXTENSIOMÉTRICA UROCAP IV | C11: 4728916.2 | D11: =+C11 -> 4728916.2
A12: 9 | B12: CAMBIO E INSTALACIÓN BATERÍA UROCAP IV | C12: 1245555.1 | D12: =+C12 -> 1245555.1
A13: 10 | B13: CAMBIO E INSTALACIÓN MAIN BOARD ROAM | C13: 9177908.3 | D13: =+C13 -> 9177908.3

Sheet 5.5 ANÁLISIS DEL VALOR ESTIMADO
A1: 5.5 ANALISIS DEL VALOR ESTIMADO PRESTACIÓN DEL SERVICIO DE MANTENIMIENTO PREVENTIVO Y CORRECTIVO INCLUIDOS REPUESTOS GENUINOS DE EQUIPOS DE LA MARCA LABORIE GRUPO 5
A2: ITEM | B2: ACTIVIDADES DE MANTENIMIENTO PREVENTIVO | C2: UNIDAD DE MEDIDA | D2: PRECIOS SECOP | E2: PRECIO HISTÓRICO | F2: PRECIO DEL MERCADO | G2: VALOR ESTIMADO | H2: MAYOR VALOR | I2: MENOR VALOR | J2: DIFERENCIA | K2: DIFERENCIA %
A3: 1 | B3: MANTENIMIENTO PREVENTIVO EQUIPO DE URODINAMIA MARCA LABORIE, MODELO GOBY | C3: VISITA | D3: N/A | E3: =+'5.2. PRECIOS HISTÓRICOS'!M4 -> 1294905.4 | F3: =+'5.4 PRECIOS DE MERCADO '!D4 -> 1359650 | G3: =+MIN(E3:F3) -> 1294905.4 | H3: =MAX(E3:F3) -> 1359650 | I3: =MIN(E3:F3) -> 1294905.4 | J3: =+H3-I3 -> 64744.587 | K3: =+J3/H3 -> 0.047618569
A4: 2 | B4: CAMBIO E INSTALACIÓN TRANSDUCTOR DE PRESIÓN VESICAL (MX960) REFERENCIA TRA600 | C4: ACTIVIDAD | D4: N/A | E4: =+'5.2. PRECIOS HISTÓRICOS'!M5 -> 3191244.4 | F4: =+'5.4 PRECIOS DE MERCADO '!D5 -> 3350806.7 | G4: =+MIN(E4:F4) -> 3191244.4 | H4: =MAX(E4:F4) -> 3350806.7 | I4: =MIN(E4:F4) -> 3191244.4 | J4: =+H4-I4 -> 159562.22 | K4: =+J4/H4 -> 0.047619047
A5: 3 | B5: CAMBIO E INSTALACIÓN TRANSDUCTOR DE PRESIÓN ABDOMINAL (MX960) REFERENCIA TRA 602 | C5: ACTIVIDAD | D5: N/A | E5: =+'5.2. PRECIOS HISTÓRICOS'!M6 -> 3191244.4 | F5: =+'5.4 PRECIOS DE MERCADO '!D6 -> 3350806.7 | G5: =+MIN(E5:F5) -> 3191244.4 | H5: =MAX(E5:F5) -> 3350806.7 | I5: =MIN(E5:F5) -> 3191244.4 | J5: =+H5-I5 -> 159562.22 | K5: =+J5/H5 -> 0.047619047
A6: 4 | B6: CAMBIO E INSTALACIÓN CABLE INTERFACE PARA TRANSDUCTOR P1 REFERENCIA CAB1036 | C6: ACTIVIDAD | D6: N/A | E6: =+'5.2. PRECIOS HISTÓRICOS'!M7 -> 3286683.2 | F6: =+'5.4 PRECIOS DE MERCADO '!D7 -> 3451017.4 | G6: =+MIN(E6:F6) -> 3286683.2 | H6: =MAX(E6:F6) -> 3451017.4 | I6: =MIN(E6:F6) -> 3286683.2 | J6: =+H6-I6 -> 164334.16 | K6: =+J6/H6 -> 0.047619047
A7: 5 | B7: CAMBIO E INSTALACIÓN CABLE INTERFACE PARA TRANSDUCTOR P2 REFERENCIA CAB1038 | C7: ACTIVIDAD | D7: N/A | E7: =+'5.2. PRECIOS HISTÓRICOS'!M8 -> 3286683.2 | F7: =+'5.4 PRECIOS DE MERCADO '!D8 -> 3451017.4 | G7: =+MIN(E7:F7) -> 3286683.2 | H7: =MAX(E7:F7) -> 3451017.4 | I7: =MIN(E7:F7) -> 3286683.2 | J7: =+H7-I7 -> 164334.16 | K7: =+J7/H7 -> 0.047619047
A8: 6 | B8: CAMBIO E INSTALACIÓN SET DE TRES CABLES PARA ELECTROMIOGRAFÍA REFERENCIA ELE350 | C8: ACTIVIDAD | D8: N/A | E8: =+'5.2. PRECIOS HISTÓRICOS'!M9 -> 909141.58 | F8: =+'5.4 PRECIOS DE MERCADO '!D9 -> 954598.66 | G8: =+MIN(E8:F8) -> 909141.58 | H8: =MAX(E8:F8) -> 954598.66 | I8: =MIN(E8:F8) -> 909141.58 | J8: =+H8-I8 -> 45457.076 | K8: =+J8/H8 -> 0.047619044
A9: 7 | B9: CAMBIO E INSTALACIÓN MAIN BOARD UROCAP IV | C9: ACTIVIDAD | D9: N/A | E9: =+'5.2. PRECIOS HISTÓRICOS'!M10 -> 17051807 | F9: =+'5.4 PRECIOS DE MERCADO '!D10 -> 6495820 | G9: =+MIN(E9:F9) -> 6495820 | H9: =MAX(E9:F9) -> 17051807 | I9: =MIN(E9:F9) -> 6495820 | J9: =+H9-I9 -> 10555987 | K9: =+J9/H9 -> 0.61905387
A10: 8 | B10: CAMBIO E INSTALACIÓN GALGA EXTENSIOMÉTRICA UROCAP IV | C10: ACTIVIDAD | D10: N/A | E10: =+'5.2. PRECIOS HISTÓRICOS'!M11 -> 4503729.7 | F10: =+'5.4 PRECIOS DE MERCADO '!D11 -> 4728916.2 | G10: =+MIN(E10:F10) -> 4503729.7 | H10: =MAX(E10:F10) -> 4728916.2 | I10: =MIN(E10:F10) -> 4503729.7 | J10: =+H10-I10 -> 225186.48 | K10: =+J10/H10 -> 0.047619047
A11: 9 | B11: CAMBIO E INSTALACIÓN BATERÍA UROCAP IV | C11: ACTIVIDAD | D11: N/A | E11: =+'5.2. PRECIOS HISTÓRICOS'!M12 -> 1186243 | F11: =+'5.4 PRECIOS DE MERCADO '!D12 -> 1245555.1 | G11: =+MIN(E11:F11) -> 1186243 | H11: =MAX(E11:F11) -> 1245555.1 | I11: =MIN(E11:F11) -> 1186243 | J11: =+H11-I11 -> 59312.146 | K11: =+J11/H11 -> 0.047619045
A12: 10 | B12: CAMBIO E INSTALACIÓN MAIN BOARD ROAM | C12: ACTIVIDAD | D12: N/A | E12: =+'5.2. PRECIOS HISTÓRICOS'!M13 -> NO SE CONTRATO | F12: =+'5.4 PRECIOS DE MERCADO '!D13 -> 9177908.3 | G12: =+MIN(E12:F12) -> 9177908.3

Sheet cuadro 6 ficha tecnica
A1: FICHA TÉCNICA DE PRODUCTO
A2: DENOMINACIÓN DE BIEN O SERVICIO
A3: equipo médico, accesorios y suministros
A4: DENOMINACIÓN TÉCNICA DEL BIEN O SERVICIO
A5: MANTENIMIENTO PREVENTIVO Y CORRECTIVO
A6: UNIDAD DE MEDIDA
A7: Equipo médico, accesorios y mantenimiento
A8: DESCRIPCIÓN GENERAL
A9: EQUIPO | B9: ITEM | C9: DESCRIPCION | D9: CLASIFICACIÓN UNSPSC
A10: =+'ESPECIFICACIONES TECNICAS'!B4 -> EQUIPO DE URODINAMIA MARCA LABORIE, MODELO GOBY | B10: 1 | C10: =+'ESPECIFICACIONES TECNICAS'!C4 -> El sistema goby es no sumergible. Debe ser limpiado con un paño limpio humedecido con una solución de limpieza tal como jabón y agua o de acuerdo con las instrucciones de limpieza hospitalaria. El vaso debe ser enjuagado y juagado después de cada uso Los electrodos EMG, tubos, catéteres descartables, franja y funda opcionales para la pierna y cartuchos son solo para uso por un paciente, no vuelva a usar los objetos descartables Verificar la calibración del transductor del GOBY cada 6 meses o cuando se sospeche que estos no estén calibrados Verificación de funcionamiento del transductor de flujometría componentes eléctricos y electrónicos Verificación de funcionamiento del transductor de presión (membrana, botones de prueba). Verificación de funcionamiento de la unidad de paciente ROAM. Verificación de funcionamiento de la bomba peristáltica Verificación de funcionamiento de la estación GOBY HUB Verificación de funcionamiento del set de cables de EMG X 3 Verificación de funcionamiento del cable de interface de presiones Verificación de funcionamiento del vaso graduado Verificación de funcionamiento de la extensión de EMG Verificación de funcionamiento de la silla orinal Verificación de funcionamiento de la manguera para sensor de presión Verificación de funcionamiento de la manguera para bomba de infusión Verificación de funcionamiento del catéter abdominal Verificación de funcionamiento del catéter vesical Verificación de funcionamiento de los cartuchos para transductor de presión Verificación de funcionamiento del embudo corto | D10: 41103900 42201600 42201700 81101700 85161500
B11: 2 | C11: =+'ESPECIFICACIONES TECNICAS'!C5 -> CAMBIO E INSTALACIÓN TRANSDUCTOR DE PRESIÓN VESICAL (MX960) REFERENCIA TRA600
B12: 3 | C12: =+'ESPECIFICACIONES TECNICAS'!C6 -> CAMBIO E INSTALACIÓN TRANSDUCTOR DE PRESIÓN ABDOMINAL (MX960) REFERENCIA TRA 602
B13: 4 | C13: =+'ESPECIFICACIONES TECNICAS'!C7 -> CAMBIO E INSTALACIÓN CABLE INTERFACE PARA TRANSDUCTOR P1 REFERENCIA CAB1036
B14: 5 | C14: =+'ESPECIFICACIONES TECNICAS'!C8 -> CAMBIO E INSTALACIÓN CABLE INTERFACE PARA TRANSDUCTOR P2 REFERENCIA CAB1038
B15: 6 | C15: =+'ESPECIFICACIONES TECNICAS'!C9 -> CAMBIO E INSTALACIÓN SET DE TRES CABLES PARA ELECTROMIOGRAFÍA REFERENCIA ELE350
B16: 7 | C16: =+'ESPECIFICACIONES TECNICAS'!C10 -> CAMBIO E INSTALACIÓN MAIN BOARD UROCAP IV
B17: 8 | C17: =+'ESPECIFICACIONES TECNICAS'!C11 -> CAMBIO E INSTALACIÓN GALGA EXTENSIOMÉTRICA UROCAP IV
B18: 9 | C18: =+'ESPECIFICACIONES TECNICAS'!C12 -> CAMBIO E INSTALACIÓN BATERÍA UROCAP IV
B19: 10 | C19: =+'ESPECIFICACIONES TECNICAS'!C13 -> CAMBIO E INSTALACIÓN MAIN BOARD ROAM

Sheet 5.6 VALOR ESTIMADO
A1: 5.6 VALOR ESTIMADO DE LA CONTRATCION - GRUPO 5
A2: PRESTACIÓN DEL SERVICIO DE MANTENIMIENTO PREVENTIVO Y CORRECTIVO INCLUIDOS REPUESTOS GENUINOS DE EQUIPOS DE LA MARCA LABORIE
A3: ITEM | B3: RUBRO Y DESAGREGACIÓN PRESUPUESTAL | C3: RECURSO | D3: UNIDAD DE DESTINO | E3: ACTIVIDADES DE MANTENIMIENTO PREVENTIVO | F3: CANTIDAD | G3: UNIDAD DE MEDIDA | H3: VALOR UNITARIO | I3: VALOR VIGENCIA 2026
A4: 1 | C4: 16 | D4: HOCEN | E4: MANTENIMIENTO PREVENTIVO EQUIPO DE URODINAMIA MARCA LABORIE, MODELO GOBY | F4: 1 | G4: VISITA | H4: =+'5.5 ANÁLISIS DEL VALOR ESTIMADO'!G3 -> 1294905.4 | I4: 15000000 | J4: =+#REF!*2 -> #REF!
A5: 2 | C5: 16 | D5: HOCEN | E5: CAMBIO E INSTALACIÓN TRANSDUCTOR DE PRESIÓN VESICAL (MX960) REFERENCIA TRA600 | F5: 1 | G5: ACTIVIDAD | H5: =+'5.5 ANÁLISIS DEL VALOR ESTIMADO'!G4 -> 3191244.4 | K5: =#REF! -> #REF!
A6: 3 | C6: 16 | D6: HOCEN | E6: CAMBIO E INSTALACIÓN TRANSDUCTOR DE PRESIÓN ABDOMINAL (MX960) REFERENCIA TRA 602 | F6: 1 | G6: ACTIVIDAD | H6: =+'5.5 ANÁLISIS DEL VALOR ESTIMADO'!G5 -> 3191244.4
A7: 4 | C7: 16 | D7: HOCEN | E7: CAMBIO E INSTALACIÓN CABLE INTERFACE PARA TRANSDUCTOR P1 REFERENCIA CAB1036 | F7: 1 | G7: ACTIVIDAD | H7: =+'5.5 ANÁLISIS DEL VALOR ESTIMADO'!G6 -> 3286683.2
A8: 5 | C8: 16 | D8: HOCEN | E8: CAMBIO E INSTALACIÓN CABLE INTERFACE PARA TRANSDUCTOR P2 REFERENCIA CAB1038 | F8: 1 | G8: ACTIVIDAD | H8: =+'5.5 ANÁLISIS DEL VALOR ESTIMADO'!G7 -> 3286683.2
A9: 6 | C9: 16 | D9: HOCEN | E9: CAMBIO E INSTALACIÓN SET DE TRES CABLES PARA ELECTROMIOGRAFÍA REFERENCIA ELE350 | F9: 1 | G9: ACTIVIDAD | H9: =+'5.5 ANÁLISIS DEL VALOR ESTIMADO'!G8 -> 909141.58
A10: 7 | C10: 16 | D10: HOCEN | E10: CAMBIO E INSTALACIÓN MAIN BOARD UROCAP IV | F10: 1 | G10: ACTIVIDAD | H10: =+'5.5 ANÁLISIS DEL VALOR ESTIMADO'!G9 -> 6495820
A11: 8 | C11: 16 | D11: HOCEN | E11: CAMBIO E INSTALACIÓN GALGA EXTENSIOMÉTRICA UROCAP IV | F11: 1 | G11: ACTIVIDAD | H11: =+'5.5 ANÁLISIS DEL VALOR ESTIMADO'!G10 -> 4503729.7
A12: 9 | C12: 16 | D12: HOCEN | E12: CAMBIO E INSTALACIÓN BATERÍA UROCAP IV | F12: 1 | G12: ACTIVIDAD | H12: =+'5.5 ANÁLISIS DEL VALOR ESTIMADO'!G11 -> 1186243
A13: 10 | C13: 16 | D13: HOCEN | E13: CAMBIO E INSTALACIÓN MAIN BOARD ROAM | F13: 1 | G13: ACTIVIDAD | H13: =+'5.5 ANÁLISIS DEL VALOR ESTIMADO'!G11 -> 1186243

Sheet FORMULARIO ESPECIFICACIONES TE 
A1: FORMULARIO ESPECIFICACIONES TECNICAS
A2: PRESTACIÓN DEL SERVICIO DE MANTENIMIENTO PREVENTIVO Y CORRECTIVO INCLUIDOS REPUESTOS GENUINOS DE EQUIPOS DE LA MARCA LABORIE
A3: ITEM | B3: EQUIPO | C3: ACTIVIDADES DE MANTENIMIENTO PREVENTIVO | D3: CANTIDAD | E3: UNIDAD DE MEDIDA | F3: MES / VISITA | G3: SI OFRECE | H3: NO OFRECE
A4: 1 | B4: MANTENIMIENTO PREVENTIVO EQUIPO DE URODINAMIA MARCA LABORIE, MODELO GOBY | C4: El sistema goby es no sumergible. Debe ser limpiado con un paño limpio humedecido con una solución de limpieza tal como jabón y agua o de acuerdo con las instrucciones de limpieza hospitalaria. El vaso debe ser enjuagado y juagado después de cada uso Los electrodos EMG, tubos, catéteres descartables, franja y funda opcionales para la pierna y cartuchos son solo para uso por un paciente, no vuelva a usar los objetos descartables Verificar la calibración del transductor del GOBY cada 6 meses o cuando se sospeche que estos no estén calibrados Verificación de funcionamiento del transductor de flujometría componentes eléctricos y electrónicos Verificación de funcionamiento del transductor de presión (membrana, botones de prueba). Verificación de funcionamiento de la unidad de paciente ROAM. Verificación de funcionamiento de la bomba peristáltica Verificación de funcionamiento de la estación GOBY HUB Verificación de funcionamiento del set de cables de EMG X 3 Verificación de funcionamiento del cable de interface de presiones Verificación de funcionamiento del vaso graduado Verificación de funcionamiento de la extensión de EMG Verificación de funcionamiento de la silla orinal Verificación de funcionamiento de la manguera para sensor de presión Verificación de funcionamiento de la manguera para bomba de infusión Verificación de funcionamiento del catéter abdominal Verificación de funcionamiento del catéter vesical Verificación de funcionamiento de los cartuchos para transductor de presión Verificación de funcionamiento del embudo corto | D4: 1 | E4: VISITA | F4: SEGUNDO SEMESTREL DEL 2026
A5: 2 | B5: EQUIPO DE URODINAMIA MARCA LABORIE, MODELO GOBY | C5: CAMBIO E INSTALACIÓN TRANSDUCTOR DE PRESIÓN VESICAL (MX960) REFERENCIA TRA600 | D5: 1 | E5: ACTIVIDAD | F5: A SOLICITUD DEL SUPERVISOR
A6: 3 | C6: CAMBIO E INSTALACIÓN TRANSDUCTOR DE PRESIÓN ABDOMINAL (MX960) REFERENCIA TRA 602 | D6: 1 | E6: ACTIVIDAD
A7: 4 | C7: CAMBIO E INSTALACIÓN CABLE INTERFACE PARA TRANSDUCTOR P1 REFERENCIA CAB1036 | D7: 1 | E7: ACTIVIDAD
A8: 5 | C8: CAMBIO E INSTALACIÓN CABLE INTERFACE PARA TRANSDUCTOR P2 REFERENCIA CAB1038 | D8: 1 | E8: ACTIVIDAD
A9: 6 | C9: CAMBIO E INSTALACIÓN SET DE TRES CABLES PARA ELECTROMIOGRAFÍA REFERENCIA ELE350 | D9: 1 | E9: ACTIVIDAD
A10: 7 | C10: CAMBIO E INSTALACIÓN MAIN BOARD UROCAP IV | D10: 1 | E10: ACTIVIDAD
A11: 8 | C11: CAMBIO E INSTALACIÓN GALGA EXTENSIOMÉTRICA UROCAP IV | D11: 1 | E11: ACTIVIDAD
A12: 9 | C12: CAMBIO E INSTALACIÓN BATERÍA UROCAP IV | D12: 1 | E12: ACTIVIDAD
A13: 10 | C13: CAMBIO E INSTALACIÓN MAIN BOARD ROAM | D13: 1 | E13: ACTIVIDAD

Sheet FORMULARIO % de iva
A2: PRESTACIÓN DEL SERVICIO DE MANTENIMIENTO PREVENTIVO Y CORRECTIVO INCLUIDOS REPUESTOS GENUINOS DE EQUIPOS DE LA MARCA LABORIE
A3: ITEM | B3: ACTIVIDADES DE MANTENIMIENTO PREVENTIVO | C3: CANTIDAD | D3: UNIDAD DE MEDIDA | E3: PORCENTAJE DE IVA | F3: EXENTO DE IVA | G3: INCLUIDO IVA
A4: 1 | B4: MANTENIMIENTO PREVENTIVO EQUIPO DE URODINAMIA MARCA LABORIE, MODELO GOBY | C4: 1 | D4: VISITA | E4: _______ %
A5: 2 | B5: CAMBIO E INSTALACIÓN TRANSDUCTOR DE PRESIÓN VESICAL (MX960) REFERENCIA TRA600 | C5: 1 | D5: ACTIVIDA | E5: _______ %
A6: 3 | B6: CAMBIO E INSTALACIÓN TRANSDUCTOR DE PRESIÓN ABDOMINAL (MX960) REFERENCIA TRA 602 | C6: 1 | D6: ACTIVIDA | E6: _______ %
A7: 4 | B7: CAMBIO E INSTALACIÓN CABLE INTERFACE PARA TRANSDUCTOR P1 REFERENCIA CAB1036 | C7: 1 | D7: ACTIVIDA | E7: _______ %
A8: 5 | B8: CAMBIO E INSTALACIÓN CABLE INTERFACE PARA TRANSDUCTOR P2 REFERENCIA CAB1038 | C8: 1 | D8: ACTIVIDA | E8: _______ %
A9: 6 | B9: CAMBIO E INSTALACIÓN SET DE TRES CABLES PARA ELECTROMIOGRAFÍA REFERENCIA ELE350 | C9: 1 | D9: ACTIVIDA | E9: _______ %
A10: 7 | B10: CAMBIO E INSTALACIÓN MAIN BOARD UROCAP IV | C10: 1 | D10: ACTIVIDA | E10: _______ %
A11: 8 | B11: CAMBIO E INSTALACIÓN GALGA EXTENSIOMÉTRICA UROCAP IV | C11: 1 | D11: ACTIVIDA | E11: _______ %
A12: 9 | B12: CAMBIO E INSTALACIÓN BATERÍA UROCAP IV | C12: 1 | D12: ACTIVIDA | E12: _______ %
A13: 9 | B13: CAMBIO E INSTALACIÓN MAIN BOARD ROAM | C13: 1 | D13: ACTIVIDA | E13: _______ %
