Workbook

Sheet ESPECIFICACIONES TECNICAS
A1: PRESTACIÓN DEL SERVICIO DE MANTENIMIENTO PREVENTIVO Y CORRECTIVO INCLUIDOS REPUESTOS GENUINOS DE EQUIPOS DE LA MARCA BARKEY
A2: ITEM | B2: EQUIPO | C2: ACTIVIDADES DE MANTENIMIENTO PREVENTIVO | D2: CANTIDAD | E2: UNIDAD DE MEDIDA | F2: MES / VISITA
A3: 1 | B3: MANTENIMIENTO PREVENTIVO DESCONGELADOR DE PLASMA MARCA BARKEY MODELO PLASMATHER | C3: • Revisión del sistema electrónico y elementos de calefacción y enfriamiento • Revisión del sistema de ventilación y recirculación de aire. • Ajuste y comprobación de voltajes, transformadores, controles, compresor y sensores. • Verificación eléctrica de motor y poleas de arranque • Limpieza y engrase de juntas y rodamientos • Limpieza y lubricación de ventilador, rotores, escobillas, partes internas y externas • Limpieza interna y externa. | D3: 3 | E3: VISITA | F3: SEGUNDO SEMESTREL DEL 2026
A4: ITEM | B4: EQUIPO | C4: ACTIVIDADES DE MANTENIMIENTO CORRECTIVO (INCLUYE REPUESTOS E INSTALACION) | D4: UNIDAD DE MEDIDA | E4: PERIODICIDAD
A5: 2 | B5: DESCONGELADOR DE PLASMA MARCA BARKEY MODELO PLASMATHER | C5: CAMBIO E INSTALACION FILTRO DE PURGA | D5: 1 | E5: ACTIVIDAD | F5: A SOLICITUD DEL SUPERVISOR
A6: 3 | C6: CAMBIO E INSTALACION COJINETES DE CALEFACCION SET DE 2 UNIDADES | D6: 1 | E6: ACTIVIDAD
A7: 4 | C7: CAMBIO E INSTALACION PAPEL SECANTE CAJA X 50 HOJAS | D7: 1 | E7: ACTIVIDAD
A8: 5 | C8: CAMBIO E INSTALACION SENSOR DE FUGA SET 2 | D8: 1 | E8: ACTIVIDAD
A9: 6 | C9: CAMBIO E INSTALACION EMPAQUE DE VACIO | D9: 1 | E9: ACTIVIDAD
A10: 7 | C10: CAMBIO E INSTALACION BOMBA PERISTALTICA | D10: 1 | E10: ACTIVIDAD
A11: 8 | C11: CAMBIO E INSTALACION TARJETA ELECTRÓBNICA DE POTENCIA | D11: 1 | E11: ACTIVIDAD
A12: 9 | C12: CAMBIO E INSTALACION DE DISPLAY | D12: 1 | E12: ACTIVIDAD
A13: 10 | C13: CAMBIO E INSTALACION SENSOR DE TEMPERATURA | D13: 1 | E13: ACTIVIDAD
A14: 11 | C14: CAMBIO E INSTALACIÓN CUBIERTA CÁMARA DE CALEFACCIÓN | D14: 1 | E14: ACTIVIDAD

Sheet HISTORICOS 
A1: GRUPO 6 - 5.2 PRECIO HISTORICO
A2: PRECIO HISTORICO PRESTACIÓN DEL SERVICIO DE MANTENIMIENTO PREVENTIVO Y CORRECTIVO INCLUIDOS REPUESTOS GENUINOS DE EQUIPOS DE LA MARCA BARKEY
A3: ITEM | B3: ENTIDAD CONTRATANTE Y CONTRATISTA | C3: DESCRIPCION ACTIVIDAD DE MANTENIMIENTO PREVENTIVO | D3: UNIDAD DE MEDIDA | E3: VALOR CONTRATO 2023 | F3: PRECIO HISTORICO VALOR UNITARIO PROYECTADO CON IPC 2023 (9.28%) (IVA INCLUIDO) | G3: PRECIO HISTORICO VALOR UNITARIO PROYECTADO CON IPC 2024 (5.2%) (IVA INCLUIDO) | H3: PRECIO HISTORICO VALOR UNITARIO PROYECTADO CON IPC 2021 Y 2022 (18,74%)(IVA INCLUIDO) | I3: VALOR CONTRATO 2024 | K3: PRECIO HISTORICO VALOR UNITARIO PROYECTADO CON IPC 2024 (5,20%)+ IPC 2025 (5,10%) | L3: VALOR CONTRATO 2025 | M3: PRECIO HISTORICO VALOR UNITARIO PROYECTADO CON (5.2%) (IVA INCLUIDO)
A4: 1 | B4: HOCEN-SCALPEL | C4: MANTENIMIENTO PREVENTIVO DESCONGELADOR DE PLASMA MARCA BARKEY MODELO PLASMATHER | D4: VISITA | E4: 1782000 | F4: =E4*9.28%+E4 -> 1947369.6 | G4: NO SE CONTRATÓ | H4: =G4 -> NO SE CONTRATÓ | I4: 1907000 | J4: =+I4*5.2%+I4 -> 2006164 | K4: =+J4*5.1%+J4 -> 2108478.4 | L4: NO SE CONTRATÓ | M4: =+K4 -> 2108478.4
A5: 2 | B5: HOCEN-SCALPEL | C5: CAMBIO E INSTALACION FILTRO DE PURGA | D5: ACTIVIDAD | E5: 415800 | F5: =E5*5.62%+E5 -> 439167.96 | G5: NO SE CONTRATÓ | H5: =G5 -> NO SE CONTRATÓ | I5: 450000 | J5: =+I5*5.2%+I5 -> 473400 | K5: =+J5*5.1%+J5 -> 497543.4 | L5: NO SE CONTRATÓ | M5: =+K5 -> 497543.4
A6: 3 | B6: HOCEN-SCALPEL | C6: CAMBIO E INSTALACION COJINETES DE CALEFACCION SET DE 2 UNIDADES | D6: ACTIVIDAD | E6: 5445000 | F6: =E6*5.62%+E6 -> 5751009 | G6: NO SE CONTRATÓ | H6: =G6 -> NO SE CONTRATÓ | I6: 5827000 | J6: =+I6*5.2%+I6 -> 6130004 | K6: =+J6*5.1%+J6 -> 6442634.2 | L6: NO SE CONTRATÓ | M6: =+K6 -> 6442634.2
A7: 4 | B7: HOCEN-SCALPEL | C7: CAMBIO E INSTALACION PAPEL SECANTE CAJA X 50 HOJAS | D7: ACTIVIDAD | E7: 376200 | F7: =E7*5.62%+E7 -> 397342.44 | G7: NO SE CONTRATÓ | H7: =G7 -> NO SE CONTRATÓ | I7: 403000 | J7: =+I7*5.2%+I7 -> 423956 | K7: =+J7*5.1%+J7 -> 445577.76 | L7: NO SE CONTRATÓ | M7: =+K7 -> 445577.76
A8: 5 | B8: HOCEN-SCALPEL | C8: CAMBIO E INSTALACION SENSOR DE FUGA SET 2 | D8: ACTIVIDAD | E8: 396000 | F8: =E8*5.62%+E8 -> 418255.2 | G8: NO SE CONTRATÓ | H8: =G8 -> NO SE CONTRATÓ | I8: 425000 | J8: =+I8*5.2%+I8 -> 447100 | K8: =+J8*5.1%+J8 -> 469902.1 | L8: NO SE CONTRATÓ | M8: =+K8 -> 469902.1
A9: 6 | B9: HOCEN-SCALPEL | C9: CAMBIO E INSTALACION EMPAQUE DE VACIO | D9: ACTIVIDAD | E9: 277200 | F9: =E9*5.62%+E9 -> 292778.64 | G9: NO SE CONTRATÓ | H9: =G9 -> NO SE CONTRATÓ | I9: 297000 | J9: =+I9*5.2%+I9 -> 312444 | K9: =+J9*5.1%+J9 -> 328378.64 | L9: NO SE CONTRATÓ | M9: =+K9 -> 328378.64
A10: 7 | B10: HOCEN-SCALPEL | C10: CAMBIO E INSTALACION BOMBA PERISTALTICA | D10: ACTIVIDAD | E10: 12672000 | F10: =E10*5.62%+E10 -> 13384166 | G10: NO SE CONTRATÓ | H10: =G10 -> NO SE CONTRATÓ | I10: 13560000 | J10: =+I10*5.2%+I10 -> 14265120 | K10: =+J10*5.1%+J10 -> 14992641 | L10: NO SE CONTRATÓ | M10: =+K10 -> 14992641
A11: 8 | B11: HOCEN-SCALPEL | C11: CAMBIO E INSTALACION TARJETA ELECTRÓBNICA DE POTENCIA | D11: ACTIVIDAD | E11: 13365000 | F11: =E11*5.62%+E11 -> 14116113 | G11: NO SE CONTRATÓ | H11: =G11 -> NO SE CONTRATÓ | I11: 14300000 | J11: =+I11*5.2%+I11 -> 15043600 | K11: =+J11*5.1%+J11 -> 15810824 | L11: NO SE CONTRATÓ | M11: =+K11 -> 15810824
A12: 9 | B12: HOCEN-SCALPEL | C12: CAMBIO E INSTALACION DE DISPLAY | D12: ACTIVIDAD | E12: 10395000 | F12: =E12*5.62%+E12 -> 10979199 | G12: NO SE CONTRATÓ | H12: =G12 -> NO SE CONTRATÓ | I12: 11125000 | J12: =+I12*5.2%+I12 -> 11703500 | K12: =+J12*5.1%+J12 -> 12300378 | L12: NO SE CONTRATÓ | M12: =+K12 -> 12300378
A13: 10 | B13: HOCEN-SCALPEL | C13: CAMBIO E INSTALACION SENSOR DE TEMPERATURA | D13: ACTIVIDAD | E13: 891000 | F13: =E13*5.62%+E13 -> 941074.2 | G13: NO SE CONTRATÓ | H13: =G13 -> NO SE CONTRATÓ | I13: 955000 | J13: =+I13*5.2%+I13 -> 1004660 | K13: =+J13*5.1%+J13 -> 1055897.7 | L13: NO SE CONTRATÓ | M13: =+K13 -> 1055897.7
A14: 11 | B14: HOCEN-SCALPEL | C14: CAMBIO E INSTALACIÓN CUBIERTA CÁMARA DE CALEFACCIÓN | D14: ACTIVIDAD | E14: NO SE CONTRATÓ | F14: NO SE CONTRATÓ | G14: NO SE CONTRATÓ | H14: =G14 -> NO SE CONTRATÓ | I14: 5652500 | J14: =+I14*5.2%+I14 -> 5946430 | K14: =+J14*5.1%+J14 -> 6249697.9 | L14: NO SE CONTRATÓ | M14: =+K14 -> 6249697.9

Sheet COTIZACION 
A1: 5,4 PRECIOS DE MERCADO GRUPO 6 PRESTACIÓN DEL SERVICIO DE MANTENIMIENTO PREVENTIVO Y CORRECTIVO INCLUIDOS REPUESTOS GENUINOS DE EQUIPOS DE LA MARCA BARKEY
A2: ITEM | B2: DESCRIPCION ACTIVIDAD DE MANTENIMIENTO PREVENTIVO | C2: UNICA COTIZACIÓN | D2: UNICO VALOR COTIZADO
A3: 1 | B3: MANTENIMIENTO PREVENTIVO DESCONGELADOR DE PLASMA MARCA BARKEY MODELO PLASMATHER | C3: 2220450 | D3: =C3 -> 2220450
A4: 2 | B4: CAMBIO E INSTALACION FILTRO DE PURGA | C4: 480000 | D4: =C4 -> 480000
A5: 3 | B5: CAMBIO E INSTALACION COJINETES DE CALEFACCION SET DE 2 UNIDADES | C5: 5980000 | D5: =C5 -> 5980000
A6: 4 | B6: CAMBIO E INSTALACION PAPEL SECANTE CAJA X 50 HOJAS | C6: 420000 | D6: =C6 -> 420000
A7: 5 | B7: CAMBIO E INSTALACION SENSOR DE FUGA SET 2 | C7: 450000 | D7: =C7 -> 450000
A8: 6 | B8: CAMBIO E INSTALACION EMPAQUE DE VACIO | C8: 309700 | D8: =C8 -> 309700
A9: 7 | B9: CAMBIO E INSTALACION BOMBA PERISTALTICA | C9: 13780000 | D9: =C9 -> 13780000
A10: 8 | B10: CAMBIO E INSTALACION TARJETA ELECTRÓBNICA DE POTENCIA | C10: 14500000 | D10: =C10 -> 14500000
A11: 9 | B11: CAMBIO E INSTALACION DE DISPLAY | C11: 11220000 | D11: =C11 -> 11220000
A12: 10 | B12: CAMBIO E INSTALACION SENSOR DE TEMPERATURA | C12: 1040000 | D12: =C12 -> 1040000
A13: 11 | B13: CAMBIO E INSTALACIÓN CUBIERTA CÁMARA DE CALEFACCIÓN | C13: 5830000 | D13: =C13 -> 5830000

Sheet ANALISIS DE PRECIOS 
A1: 5.5 ANALISIS DEL VALOR ESTIMADO - GRUPO 6
A2: PRESTACIÓN DEL SERVICIO DE MANTENIMIENTO PREVENTIVO Y CORRECTIVO INCLUIDOS REPUESTOS GENUINOS DE EQUIPOS DE LA MARCA BARKEY
A3: ITEM | B3: UNIDAD DE DESTINO | C3: DESCRIPCION ACTIVIDAD DE MANTENIMIENTO PREVENTIVO | D3: UNIDAD DE MEDIDA | E3: PRECIO SECOP | F3: PRECIOS DE CATÁLOGO | G3: PRECIOS HISTÓRICOS PROYECTADOS IVA INCLUIDO | H3: PRECIOS DE MERCADO IVA INCLUIDO | I3: VALOR UNITARIO ESTIMADO, INCLUIDO IVA | J3: VALOR TOTAL ESTIMADO
A4: 1 | B4: HOCEN | C4: MANTENIMIENTO PREVENTIVO DESCONGELADOR DE PLASMA MARCA BARKEY MODELO PLASMATHER | D4: VISITA | E4: N/A | F4: N/A | G4: =+'HISTORICOS '!M4 -> 2108478.4 | H4: =+'COTIZACION '!D3 -> 2220450 | I4: =+MIN(G4:H4) -> 2108478.4 | J4: =+I4 -> 2108478.4
A5: 2 | B5: HOCEN | C5: CAMBIO E INSTALACION FILTRO DE PURGA | D5: ACTIVIDAD | E5: N/A | F5: N/A | G5: =+'HISTORICOS '!M5 -> 497543.4 | H5: =+'COTIZACION '!D4 -> 480000 | I5: =+MIN(G5:H5) -> 480000 | J5: =+I5 -> 480000
A6: 3 | B6: HOCEN | C6: CAMBIO E INSTALACION COJINETES DE CALEFACCION SET DE 2 UNIDADES | D6: ACTIVIDAD | E6: N/A | F6: N/A | G6: =+'HISTORICOS '!M6 -> 6442634.2 | H6: =+'COTIZACION '!D5 -> 5980000 | I6: =+MIN(G6:H6) -> 5980000 | J6: =+I6 -> 5980000
A7: 4 | B7: HOCEN | C7: CAMBIO E INSTALACION PAPEL SECANTE CAJA X 50 HOJAS | D7: ACTIVIDAD | E7: N/A | F7: N/A | G7: =+'HISTORICOS '!M7 -> 445577.76 | H7: =+'COTIZACION '!D6 -> 420000 | I7: =+MIN(G7:H7) -> 420000 | J7: =+I7 -> 420000
A8: 5 | B8: HOCEN | C8: CAMBIO E INSTALACION SENSOR DE FUGA SET 2 | D8: ACTIVIDAD | E8: N/A | F8: N/A | G8: =+'HISTORICOS '!M8 -> 469902.1 | H8: =+'COTIZACION '!D7 -> 450000 | I8: =+MIN(G8:H8) -> 450000 | J8: =+I8 -> 450000
A9: 6 | B9: HOCEN | C9: CAMBIO E INSTALACION EMPAQUE DE VACIO | D9: ACTIVIDAD | E9: N/A | F9: N/A | G9: =+'HISTORICOS '!M9 -> 328378.64 | H9: =+'COTIZACION '!D8 -> 309700 | I9: =+MIN(G9:H9) -> 309700 | J9: =+I9 -> 309700
A10: 7 | B10: HOCEN | C10: CAMBIO E INSTALACION BOMBA PERISTALTICA | D10: ACTIVIDAD | E10: N/A | F10: N/A | G10: =+'HISTORICOS '!M10 -> 14992641 | H10: =+'COTIZACION '!D9 -> 13780000 | I10: =+MIN(G10:H10) -> 13780000 | J10: =+I10 -> 13780000
A11: 8 | B11: HOCEN | C11: CAMBIO E INSTALACION TARJETA ELECTRÓBNICA DE POTENCIA | D11: ACTIVIDAD | E11: N/A | F11: N/A | G11: =+'HISTORICOS '!M11 -> 15810824 | H11: =+'COTIZACION '!D10 -> 14500000 | I11: =+MIN(G11:H11) -> 14500000 | J11: =+I11 -> 14500000
A12: 9 | B12: HOCEN | C12: CAMBIO E INSTALACION DE DISPLAY | D12: ACTIVIDAD | E12: N/A | F12: N/A | G12: =+'HISTORICOS '!M12 -> 12300378 | H12: =+'COTIZACION '!D11 -> 11220000 | I12: =+MIN(G12:H12) -> 11220000 | J12: =+I12 -> 11220000
A13: 10 | B13: HOCEN | C13: CAMBIO E INSTALACION SENSOR DE TEMPERATURA | D13: ACTIVIDAD | E13: N/A | F13: N/A | G13: =+'HISTORICOS '!M13 -> 1055897.7 | H13: =+'COTIZACION '!D12 -> 1040000 | I13: =+MIN(G13:H13) -> 1040000 | J13: =+I13 -> 1040000
A14: 11 | B14: HOCEN | C14: CAMBIO E INSTALACIÓN CUBIERTA CÁMARA DE CALEFACCIÓN | D14: ACTIVIDAD | E14: N/A | F14: N/A | G14: =+'HISTORICOS '!M14 -> 6249697.9 | H14: =+'COTIZACION '!D13 -> 5830000 | I14: =+MIN(G14:H14) -> 5830000 | J14: =+I14 -> 5830000

Sheet FICHA TECNICA
A1: FICHA TÉCNICA DE PRODUCTO
A2: DENOMINACIÓN DE BIEN O SERVICIO
A3: equipo médico, accesorios y suministros
A4: DENOMINACIÓN TÉCNICA DEL BIEN O SERVICIO
A5: MANTENIMIENTO PREVENTIVO Y CORRECTIVO
A6: UNIDAD DE MEDIDA
A7: Equipo médico, accesorios y mantenimiento
A8: DESCRIPCIÓN GENERAL
A9: EQUIPO | B9: ITEM | C9: DESCRIPCION | D9: CLASIFICACIÓN UNSPSC
A10: MANTENIMIENTO PREVENTIVO DESCONGELADOR DE PLASMA MARCA BARKEY MODELO PLASMATHER | B10: 1 | C10: =+'ESPECIFICACIONES TECNICAS'!C3 -> • Revisión del sistema electrónico y elementos de calefacción y enfriamiento • Revisión del sistema de ventilación y recirculación de aire. • Ajuste y comprobación de voltajes, transformadores, controles, compresor y sensores. • Verificación eléctrica de motor y poleas de arranque • Limpieza y engrase de juntas y rodamientos • Limpieza y lubricación de ventilador, rotores, escobillas, partes internas y externas • Limpieza interna y externa. | D10: 41103900 42201600 42201700 81101700 85161500
B11: 2 | C11: CAMBIO E INSTALACION FILTRO DE PURGA
B12: 3 | C12: CAMBIO E INSTALACION COJINETES DE CALEFACCION SET DE 2 UNIDADES
B13: 4 | C13: CAMBIO E INSTALACION PAPEL SECANTE CAJA X 50 HOJAS
B14: 5 | C14: CAMBIO E INSTALACION SENSOR DE FUGA SET 2
B15: 6 | C15: CAMBIO E INSTALACION EMPAQUE DE VACIO
B16: 7 | C16: CAMBIO E INSTALACION BOMBA PERISTALTICA
B17: 8 | C17: CAMBIO E INSTALACION TARJETA ELECTRÓBNICA DE POTENCIA
B18: 9 | C18: CAMBIO E INSTALACION DE DISPLAY
B19: 10 | C19: CAMBIO E INSTALACION SENSOR DE TEMPERATURA
B20: 11 | C20: CAMBIO E INSTALACIÓN CUBIERTA CÁMARA DE CALEFACCIÓN

Sheet VALOR ESTIMADO
A1: 5,6 VALOR ESTIMADO PRESTACIÓN DEL SERVICIO DE MANTENIMIENTO PREVENTIVO Y CORRECTIVO INCLUIDOS REPUESTOS GENUINOS DE EQUIPOS DE LA MARCA BARKEY
A2: ITEM | B2: RUBRO Y DESAGREGACIÓN PRESUPUESTAL | C2: RECURSO | D2: UNIDAD DE DESTINO | E2: DESCRIPCION ACTIVIDAD DE MANTENIMIENTO PREVENTIVO | F2: CANTIDAD | G2: UNIDAD DE MEDIDA | H2: VALOR UNITARIO ESTIMADO
A3: 1 | D3: HOCEN | E3: MANTENIMIENTO PREVENTIVO DESCONGELADOR DE PLASMA MARCA BARKEY MODELO PLASMATHER | F3: 3 | G3: VISITA | H3: =+'ANALISIS DE PRECIOS '!J4 -> 2108478.4
A4: 2 | D4: HOCEN | E4: CAMBIO E INSTALACION FILTRO DE PURGA | F4: 1 | G4: ACTIVIDAD | H4: =+'ANALISIS DE PRECIOS '!J5 -> 480000
A5: 3 | D5: HOCEN | E5: CAMBIO E INSTALACION COJINETES DE CALEFACCION SET DE 2 UNIDADES | F5: 1 | G5: ACTIVIDAD | H5: =+'ANALISIS DE PRECIOS '!J6 -> 5980000
A6: 4 | D6: HOCEN | E6: CAMBIO E INSTALACION PAPEL SECANTE CAJA X 50 HOJAS | F6: 1 | G6: ACTIVIDAD | H6: =+'ANALISIS DE PRECIOS '!J7 -> 420000
A7: 5 | D7: HOCEN | E7: CAMBIO E INSTALACION SENSOR DE FUGA SET 2 | F7: 1 | G7: ACTIVIDAD | H7: =+'ANALISIS DE PRECIOS '!J8 -> 450000
A8: 6 | D8: HOCEN | E8: CAMBIO E INSTALACION EMPAQUE DE VACIO | F8: 1 | G8: ACTIVIDAD | H8: =+'ANALISIS DE PRECIOS '!J9 -> 309700
A9: 7 | D9: HOCEN | E9: CAMBIO E INSTALACION BOMBA PERISTALTICA | F9: 1 | G9: ACTIVIDAD | H9: =+'ANALISIS DE PRECIOS '!J10 -> 13780000
A10: 8 | D10: HOCEN | E10: CAMBIO E INSTALACION TARJETA ELECTRÓBNICA DE POTENCIA | F10: 1 | G10: ACTIVIDAD | H10: =+'ANALISIS DE PRECIOS '!J11 -> 14500000
A11: 9 | D11: HOCEN | E11: CAMBIO E INSTALACION DE DISPLAY - GRUPO | F11: 1 | G11: ACTIVIDAD | H11: =+'ANALISIS DE PRECIOS '!J12 -> 11220000
A12: 10 | D12: HOCEN | E12: CAMBIO E INSTALACION SENSOR DE TEMPERATURA | F12: 1 | G12: ACTIVIDAD | H12: =+'ANALISIS DE PRECIOS '!J13 -> 1040000
A13: 11 | D13: HOCEN | E13: CAMBIO E INSTALACIÓN CUBIERTA CÁMARA DE CALEFACCIÓN | F13: 1 | G13: ACTIVIDAD | H13: =+'ANALISIS DE PRECIOS '!J14 -> 5830000

Sheet FORMULARIO ESPECIFICACIONES TE 
A1: ESPECIFICACION TECNICA PRESTACIÓN DEL SERVICIO DE MANTENIMIENTO PREVENTIVO Y CORRECTIVO INCLUIDOS REPUESTOS GENUINOS DE EQUIPOS DE LA MARCA BARKEY
A2: ITEM | B2: EQUIPO | C2: ACTIVIDADES DE MANTENIMIENTO PREVENTIVO | D2: CANTIDAD DE EQUIPOS | E2: UNIDAD DE MEDIDA | F2: MES / VISITA | G2: SI OFRECE | H2: NO OFRECE
A3: 1 | B3: MANTENIMIENTO PREVENTIVO DESCONGELADOR DE PLASMA MARCA BARKEY MODELO PLASMATHER | C3: • Revisión del sistema electrónico y elementos de calefacción y enfriamiento • Revisión del sistema de ventilación y recirculación de aire. • Ajuste y comprobación de voltajes, transformadores, controles, compresor y sensores. • Verificación eléctrica de motor y poleas de arranque • Limpieza y engrase de juntas y rodamientos • Limpieza y lubricación de ventilador, rotores, escobillas, partes internas y externas • Limpieza interna y externa. | D3: 3 | E3: VISITA | F3: SEGUNDO SEMESTREL DEL 2026
A4: ITEM | B4: EQUIPO | C4: ACTIVIDADES DE MANTENIMIENTO CORRECTIVO (INCLUYE REPUESTOS E INSTALACION) | D4: UNIDAD DE MEDIDA | E4: PERIODICIDAD | G4: SI OFRECE | H4: NO OFRECE
A5: 2 | B5: DESCONGELADOR DE PLASMA MARCA BARKEY MODELO PLASMATHER | C5: CAMBIO E INSTALACION FILTRO DE PURGA | D5: 1 | E5: ACTIVIDAD | F5: A solicitud del Supervisor
A6: 3 | C6: CAMBIO E INSTALACION COJINETES DE CALEFACCION SET DE 2 UNIDADES | D6: 1 | E6: ACTIVIDAD
A7: 4 | C7: CAMBIO E INSTALACION PAPEL SECANTE CAJA X 50 HOJAS | D7: 1 | E7: ACTIVIDAD
A8: 5 | C8: CAMBIO E INSTALACION SENSOR DE FUGA SET 2 | D8: 1 | E8: ACTIVIDAD
A9: 6 | C9: CAMBIO E INSTALACION EMPAQUE DE VACIO | D9: 1 | E9: ACTIVIDAD
A10: 7 | C10: CAMBIO E INSTALACION BOMBA PERISTALTICA | D10: 1 | E10: ACTIVIDAD
A11: 8 | C11: CAMBIO E INSTALACION TARJETA ELECTRÓBNICA DE POTENCIA | D11: 1 | E11: ACTIVIDAD
A12: 9 | C12: CAMBIO E INSTALACION DE DISPLAY | D12: 1 | E12: ACTIVIDAD
A13: 10 | C13: CAMBIO E INSTALACION SENSOR DE TEMPERATURA | D13: 1 | E13: ACTIVIDAD
A14: 11 | C14: CAMBIO E INSTALACIÓN CUBIERTA CÁMARA DE CALEFACCIÓN | D14: 1 | E14: ACTIVIDAD

Sheet FORMULARIO % IVA
A1: PORCENTAJE DE IVA PRESTACIÓN DEL SERVICIO DE MANTENIMIENTO PREVENTIVO Y CORRECTIVO INCLUIDOS REPUESTOS GENUINOS DE EQUIPOS DE LA MARCA BARKEY
A2: ITEM | B2: DESCRIPCION ACTIVIDAD DE MANTENIMIENTO PREVENTIVO | C2: CANTIDAD | D2: UNIDAD DE MEDIDA | E2: % IVA | F2: EXENTO IVA | G2: EXCLUIDO IVA
A3: 1 | B3: MANTENIMIENTO PREVENTIVO DESCONGELADOR DE PLASMA MARCA BARKEY MODELO PLASMATHER | C3: 3 | D3: VISITA | E3: _______ %
A4: 2 | B4: CAMBIO E INSTALACION FILTRO DE PURGA | C4: 1 | D4: ACTIVIDAD | E4: _______ %
A5: 3 | B5: CAMBIO E INSTALACION COJINETES DE CALEFACCION SET DE 2 UNIDADES | C5: 1 | D5: ACTIVIDAD | E5: _______ %
A6: 4 | B6: CAMBIO E INSTALACION PAPEL SECANTE CAJA X 50 HOJAS | C6: 1 | D6: ACTIVIDAD | E6: _______ %
A7: 5 | B7: CAMBIO E INSTALACION SENSOR DE FUGA SET 2 | C7: 1 | D7: ACTIVIDAD | E7: _______ %
A8: 6 | B8: CAMBIO E INSTALACION EMPAQUE DE VACIO | C8: 1 | D8: ACTIVIDAD | E8: _______ %
A9: 7 | B9: CAMBIO E INSTALACION BOMBA PERISTALTICA | C9: 1 | D9: ACTIVIDAD | E9: _______ %
A10: 8 | B10: CAMBIO E INSTALACION TARJETA ELECTRÓBNICA DE POTENCIA | C10: 1 | D10: ACTIVIDAD | E10: _______ %
A11: 9 | B11: CAMBIO E INSTALACION DE DISPLAY | C11: 1 | D11: ACTIVIDAD | E11: _______ %
A12: 10 | B12: CAMBIO E INSTALACION SENSOR DE TEMPERATURA | C12: 1 | D12: ACTIVIDAD | E12: _______ %
A13: 11 | B13: CAMBIO E INSTALACIÓN CUBIERTA CÁMARA DE CALEFACCIÓN | C13: 1 | D13: ACTIVIDAD | E13: _______ %
