Workbook
Name \a: #REF!
Name \b: #REF!
Name \c: #REF!
Name \eliminar: #REF!
Name \eliminar1: #REF!
Name \i: #REF!
Name \m: #REF!
Name \o: #REF!
Name \q: #REF!
Name \r: #REF!
Name \t: #REF!
Name \x: #REF!
Name \z: #REF!
Name _: #REF!
Name _________________________________apu1: #REF!
Name ________________________________apu1: #REF!
Name _______________________________apu1: #REF!
Name ______________________________apu1: #REF!
Name ____________________________apu1: #REF!
Name ___________________________apu1: #REF!
Name __________________________apu1: #REF!
Name _________________________apu1: #REF!
Name ________________________apu1: #REF!
Name _______________________apu1: #REF!
Name _____________________apu1: #REF!
Name ____________________apu1: #REF!
Name ___________________apu1: #REF!
Name __________________apu1: #REF!
Name _________________apu1: #REF!
Name ________________apu1: #REF!
Name _______________apu1: #REF!
Name _______________EST1: #REF!
Name _______________EST10: #REF!
Name _______________EST11: #REF!
Name _______________EST12: #REF!
Name _______________EST13: #REF!
Name _______________EST14: #REF!
Name _______________EST15: #REF!
Name _______________EST16: #REF!
Name _______________EST17: #REF!
Name _______________EST18: #REF!
Name _______________EST19: #REF!
Name _______________EST2: #REF!
Name _______________EST3: #REF!
Name _______________EST4: #REF!
Name _______________EST5: #REF!
Name _______________EST6: #REF!
Name _______________EST7: #REF!
Name _______________EST8: #REF!
Name _______________EST9: #REF!
Name _______________EXC1: #REF!
Name _______________EXC10: #REF!
Name _______________EXC11: #REF!
Name _______________EXC12: #REF!
Name _______________EXC2: #REF!
Name _______________EXC3: #REF!
Name _______________EXC4: #REF!
Name _______________EXC5: #REF!
Name _______________EXC6: #REF!
Name _______________EXC7: #REF!

Sheet CAPITULOS
A1: MUNICIPIO DE DABEIBA – ANTIOQUIA | B1: MUNICIPIO DE DABEIBA – ANTIOQUIA | C1: MUNICIPIO DE DABEIBA – ANTIOQUIA | D1: MUNICIPIO DE DABEIBA – ANTIOQUIA | E1: MUNICIPIO DE DABEIBA – ANTIOQUIA
A2: CONSTRUCCIÓN DE AULA Y MEJORAMIENTO DE INFRAESTRUCTURA EXISTENTE DE LA INSTITUCIÓN EDUCATIVA DE LA VEREDA EL RETIRO DEL MUNICIPIO DE DABEIBA, ANTIOQUIA | B2: CONSTRUCCIÓN DE AULA Y MEJORAMIENTO DE INFRAESTRUCTURA EXISTENTE DE LA INSTITUCIÓN EDUCATIVA DE LA VEREDA EL RETIRO DEL MUNICIPIO DE DABEIBA, ANTIOQUIA | C2: CONSTRUCCIÓN DE AULA Y MEJORAMIENTO DE INFRAESTRUCTURA EXISTENTE DE LA INSTITUCIÓN EDUCATIVA DE LA VEREDA EL RETIRO DEL MUNICIPIO DE DABEIBA, ANTIOQUIA | D2: CONSTRUCCIÓN DE AULA Y MEJORAMIENTO DE INFRAESTRUCTURA EXISTENTE DE LA INSTITUCIÓN EDUCATIVA DE LA VEREDA EL RETIRO DEL MUNICIPIO DE DABEIBA, ANTIOQUIA | E2: CONSTRUCCIÓN DE AULA Y MEJORAMIENTO DE INFRAESTRUCTURA EXISTENTE DE LA INSTITUCIÓN EDUCATIVA DE LA VEREDA EL RETIRO DEL MUNICIPIO DE DABEIBA, ANTIOQUIA
A4: COMPONENTE | B4: CAPÍTULO | C4: DESCRIPCIÓN | D4: VALOR | E4: % COSTO DIRECTO
A5: 1 | C5: CONSTRUCCIÓN DE AULA | D5: =ROUND(ACTIVIDADES!$H$82,0) -> 314940879 | E5: =IFERROR(D5/$D$44,0) -> 0.48337892
A6: 1 | B6: 1 | C6: PRELIMINARES | D6: =ROUND(ACTIVIDADES!$H$10,0) -> 2672875 | E6: =IFERROR(D6/$D$44,0) -> 0.0041023936
A7: 1 | B7: 2 | C7: CIMENTACIÓN | D7: =ROUND(ACTIVIDADES!$H$32,0) -> 123692782 | E7: =IFERROR(D7/$D$44,0) -> 0.18984669
A8: 1 | B8: 3 | C8: PISOS | D8: =ROUND(ACTIVIDADES!$H$36,0) -> 24435515 | E8: =IFERROR(D8/$D$44,0) -> 0.037504223
A9: 1 | B9: 4 | C9: ACERO DE REFUERZO | D9: =ROUND(ACTIVIDADES!$H$40,0) -> 65161995 | E9: =IFERROR(D9/$D$44,0) -> 0.10001221
A10: 1 | B10: 5 | C10: MAMPOSTERÍA | D10: =ROUND(ACTIVIDADES!$H$47,0) -> 15079367 | E10: =IFERROR(D10/$D$44,0) -> 0.023144179
A11: 1 | B11: 6 | C11: ESTRUCTURA DE CUBIERTA Y CUBIERTA | D11: =ROUND(ACTIVIDADES!$H$52,0) -> 58188657 | E11: =IFERROR(D11/$D$44,0) -> 0.089309366
A12: 1 | B12: 7 | C12: IMPERMEABILIZACIONES | D12: =ROUND(ACTIVIDADES!$H$55,0) -> 2646275 | E12: =IFERROR(D12/$D$44,0) -> 0.0040615672
A13: 1 | B13: 8 | C13: INSTALACIONES ELÉCTRICAS | D13: =ROUND(ACTIVIDADES!$H$68,0) -> 14757276 | E13: =IFERROR(D13/$D$44,0) -> 0.022649826
A14: 1 | B14: 9 | C14: ILUMINACIÓN | D14: =ROUND(ACTIVIDADES!$H$72,0) -> 1484940 | E14: =IFERROR(D14/$D$44,0) -> 0.002279122
A15: 1 | B15: 10 | C15: CARPINTERÍA METÁLICA | D15: =ROUND(ACTIVIDADES!$H$75,0) -> 2636771 | E15: =IFERROR(D15/$D$44,0) -> 0.0040469803
A16: 1 | B16: 11 | C16: PINTURA | D16: =ROUND(ACTIVIDADES!$H$78,0) -> 3810176 | E16: =IFERROR(D16/$D$44,0) -> 0.0058479508
A17: 1 | B17: 12 | C17: ASEO OBRA | D17: =ROUND(ACTIVIDADES!$H$81,0) -> 374250 | E17: =IFERROR(D17/$D$44,0) -> 0.000574408
A18: 2 | C18: BATERÍA SANITARIA | D18: =ROUND(ACTIVIDADES!$H$143,0) -> 82603534 | E18: =IFERROR(D18/$D$44,0) -> 0.12678191
A19: 2 | B19: 1 | C19: PRELIMINARES | D19: =ROUND(ACTIVIDADES!$H$87,0) -> 251650 | E19: =IFERROR(D19/$D$44,0) -> 0.00038623854
A20: 2 | B20: 2 | C20: EXCAVACIONES Y LLENOS | D20: =ROUND(ACTIVIDADES!$H$91,0) -> 641619 | E20: =IFERROR(D20/$D$44,0) -> 0.00098477245
A21: 2 | B21: 3 | C21: CONCRETOS | D21: =ROUND(ACTIVIDADES!$H$99,0) -> 15289358 | E21: =IFERROR(D21/$D$44,0) -> 0.023466479
A22: 2 | B22: 4 | C22: MAMPOSTERÍA | D22: =ROUND(ACTIVIDADES!$H$104,0) -> 6184061 | E22: =IFERROR(D22/$D$44,0) -> 0.0094914472
A23: 2 | B23: 5 | C23: INSTALACIONES ELÉCTRICAS | D23: =ROUND(ACTIVIDADES!$H$108,0) -> 1102810 | E23: =IFERROR(D23/$D$44,0) -> 0.0016926196
A24: 2 | B24: 6.1 | C24: INSTALACIONES HIDRÁULICAS | D24: =ROUND(ACTIVIDADES!$H$113,0) -> 1684982 | E24: =IFERROR(D24/$D$44,0) -> 0.0025861514
A25: 2 | B25: 6.2 | C25: INSTALACIONES SANITARIAS Y APARATOS | D25: =ROUND(ACTIVIDADES!$H$129,0) -> 27006943 | E25: =IFERROR(D25/$D$44,0) -> 0.041450913
A26: 2 | B26: 7 | C26: CARPINTERÍA METÁLICA | D26: =ROUND(ACTIVIDADES!$H$133,0) -> 5711834 | E26: =IFERROR(D26/$D$44,0) -> 0.0087666617
A27: 2 | B27: 8 | C27: PINTURA | D27: =ROUND(ACTIVIDADES!$H$137,0) -> 1142914 | E27: =IFERROR(D27/$D$44,0) -> 0.0017541722
A28: 2 | B28: 9 | C28: CUBIERTA | D28: =ROUND(ACTIVIDADES!$H$142,0) -> 23587363 | E28: =IFERROR(D28/$D$44,0) -> 0.036202458
A29: COSTO DIRECTO DE OBRA | D29: =ROUND(ACTIVIDADES!$H$145,0) -> 397544413 | E29: =IFERROR(D29/$D$44,0) -> 0.61016083
A31: COSTO OBRA CIVIL E INSTALACIONES ANTES DE A.U. | D31: =ROUND(D29,0) -> 397544413 | E31: =IFERROR(D31/$D$44,0) -> 0.61016083
A33: ADMINISTRACIÓN | D33: =ROUND('FORM-AU'!$K$57,0) -> 142153792 | E33: =IFERROR(D33/$D$44,0) -> 0.2181811
A34: UTILIDAD | D34: =ROUND('FORM-AU'!$K$59,0) -> 19877221 | E34: =IFERROR(D34/$D$44,0) -> 0.030508042
A36: SUBTOTAL COSTO DIRECTO + A + U | D36: =ROUND(SUM(D31,D33:D34),0) -> 559575426 | E36: =IFERROR(D36/$D$44,0) -> 0.85884997
A38: PGIO | D38: =ROUND(PGIO!$F$35,0) -> 11634058 | E38: =IFERROR(D38/$D$44,0) -> 0.017856235
A39: PÓLIZAS | D39: =ROUND(POLIZAS!G44,0) -> 4731360 | E39: =IFERROR(D39/$D$44,0) -> 0.0072618064
A40: INTERVENTORÍA | D40: =ROUND('FORM-INTER'!$H$32,0) -> 75599522 | E40: =IFERROR(D40/$D$44,0) -> 0.11603199 | H40: =+D40/D44 -> 0.11603199
A41: OTROS | D41: 0 | E41: =IFERROR(D41/$D$44,0) -> 0
A42: TOTAL COSTOS INDIRECTOS / REEMBOLSABLES | D42: =ROUND(SUM(D38:D41),0) -> 91964940 | E42: =IFERROR(D42/$D$44,0) -> 0.14115003
A44: COSTO TOTAL DEL PROYECTO | D44: =ROUND(D36+D42,0) -> 651540366 | E44: =IFERROR(D44/$D$44,0) -> 1
A46: FUENTES DE FINANCIACIÓN DEL PROYECTO
A47: GOBERNACIÓN DE ANTIOQUIA | D47: =ROUND(D44*E47,0) -> 456078256 | E47: =70% -> 0.7
...

Sheet ACTIVIDADES
A1: MUNICIPIO DE DABEIBA – ANTIOQUIA | B1: MUNICIPIO DE DABEIBA – ANTIOQUIA | C1: MUNICIPIO DE DABEIBA – ANTIOQUIA | D1: MUNICIPIO DE DABEIBA – ANTIOQUIA | E1: MUNICIPIO DE DABEIBA – ANTIOQUIA | F1: MUNICIPIO DE DABEIBA – ANTIOQUIA | G1: MUNICIPIO DE DABEIBA – ANTIOQUIA | H1: MUNICIPIO DE DABEIBA – ANTIOQUIA
A2: CONSTRUCCIÓN DE AULA Y MEJORAMIENTO DE INFRAESTRUCTURA EXISTENTE DE LA INSTITUCIÓN EDUCATIVA DE LA VEREDA EL RETIRO DEL MUNICIPIO DE DABEIBA, ANTIOQUIA | B2: CONSTRUCCIÓN DE AULA Y MEJORAMIENTO DE INFRAESTRUCTURA EXISTENTE DE LA INSTITUCIÓN EDUCATIVA DE LA VEREDA EL RETIRO DEL MUNICIPIO DE DABEIBA, ANTIOQUIA | C2: CONSTRUCCIÓN DE AULA Y MEJORAMIENTO DE INFRAESTRUCTURA EXISTENTE DE LA INSTITUCIÓN EDUCATIVA DE LA VEREDA EL RETIRO DEL MUNICIPIO DE DABEIBA, ANTIOQUIA | D2: CONSTRUCCIÓN DE AULA Y MEJORAMIENTO DE INFRAESTRUCTURA EXISTENTE DE LA INSTITUCIÓN EDUCATIVA DE LA VEREDA EL RETIRO DEL MUNICIPIO DE DABEIBA, ANTIOQUIA | E2: CONSTRUCCIÓN DE AULA Y MEJORAMIENTO DE INFRAESTRUCTURA EXISTENTE DE LA INSTITUCIÓN EDUCATIVA DE LA VEREDA EL RETIRO DEL MUNICIPIO DE DABEIBA, ANTIOQUIA | F2: CONSTRUCCIÓN DE AULA Y MEJORAMIENTO DE INFRAESTRUCTURA EXISTENTE DE LA INSTITUCIÓN EDUCATIVA DE LA VEREDA EL RETIRO DEL MUNICIPIO DE DABEIBA, ANTIOQUIA | G2: CONSTRUCCIÓN DE AULA Y MEJORAMIENTO DE INFRAESTRUCTURA EXISTENTE DE LA INSTITUCIÓN EDUCATIVA DE LA VEREDA EL RETIRO DEL MUNICIPIO DE DABEIBA, ANTIOQUIA | H2: CONSTRUCCIÓN DE AULA Y MEJORAMIENTO DE INFRAESTRUCTURA EXISTENTE DE LA INSTITUCIÓN EDUCATIVA DE LA VEREDA EL RETIRO DEL MUNICIPIO DE DABEIBA, ANTIOQUIA
A3: PRESUPUESTO DE ACTIVIDADES | B3: PRESUPUESTO DE ACTIVIDADES | C3: PRESUPUESTO DE ACTIVIDADES | D3: PRESUPUESTO DE ACTIVIDADES | E3: PRESUPUESTO DE ACTIVIDADES | F3: PRESUPUESTO DE ACTIVIDADES | G3: PRESUPUESTO DE ACTIVIDADES | H3: PRESUPUESTO DE ACTIVIDADES
A5: COMP. | B5: CAPÍTULO | C5: ÍTEM | D5: DESCRIPCIÓN | E5: UNIDAD | F5: CANTIDAD | G5: VALOR UNITARIO | H5: VALOR PARCIAL
A6: COMPONENTE 1. CONSTRUCCIÓN DE AULA | B6: COMPONENTE 1. CONSTRUCCIÓN DE AULA | C6: COMPONENTE 1. CONSTRUCCIÓN DE AULA | D6: COMPONENTE 1. CONSTRUCCIÓN DE AULA | E6: COMPONENTE 1. CONSTRUCCIÓN DE AULA | F6: COMPONENTE 1. CONSTRUCCIÓN DE AULA | G6: COMPONENTE 1. CONSTRUCCIÓN DE AULA | H6: COMPONENTE 1. CONSTRUCCIÓN DE AULA
A7: 1 | B7: 1 | D7: PRELIMINARES
A8: 1 | B8: 1 | C8: 1.1.1 | D8: LOCALIZACIÓN, TRAZADO Y REPLANTEO. Incluye demarcación con pintura, línea de trazado, corte de piso, libretas y planos. | E8: m² | F8: 125 | G8: =ROUND(APU!$G$22,0) -> 7190 | H8: =ROUND(F8*G8,0) -> 898750
A9: 1 | B9: 1 | C9: 1.1.2 | D9: SUMINISTRO, INSTALACIÓN, MANTENIMIENTO Y DESMONTE DE CERRAMIENTO PROVISIONAL EN TELA NARANJA DE 2,00 m DE ALTURA, CON ESTRUCTURA EN MADERA Y ANCLAJES EN CONCRETO DE 17,5 MPa. INCLUYE EXCAVACIÓN PUNTUAL, ACOPIO INTERNO Y TODOS LOS ELEMENTOS NECESARIOS PARA SU CORRECTA EJECUCIÓN. | E9: m | F9: 57 | G9: =ROUND(APU!$G$38,0) -> 31125 | H9: =ROUND(F9*G9,0) -> 1774125
A10: SUBTOTAL 1. PRELIMINARES | B10: SUBTOTAL 1. PRELIMINARES | C10: SUBTOTAL 1. PRELIMINARES | D10: SUBTOTAL 1. PRELIMINARES | E10: SUBTOTAL 1. PRELIMINARES | F10: SUBTOTAL 1. PRELIMINARES | G10: SUBTOTAL 1. PRELIMINARES | H10: =ROUND(SUM(H8:H9),0) -> 2672875
A11: 1 | B11: 2 | D11: CONCRETOS
A12: 1 | B12: 2 | C12: 2.1.1 | D12: EXCAVACIÓN MANUAL DE MATERIAL HETEROGÉNEO ENTRE 0 Y 2 m DE PROFUNDIDAD, BAJO CUALQUIER GRADO DE HUMEDAD. INCLUYE ROCA DESCOMPUESTA, BOLAS DE ROCA MENORES A 0,35 m³, CARGUE Y ACOPIO O TRASIEGO INTERNO. NO INCLUYE ENTIBADO, TRANSPORTE EXTERNO NI DISPOSICIÓN FINAL. | E12: m³ | F12: 139.97 | G12: =ROUND(APU!$G$48,0) -> 79360 | H12: =ROUND(F12*G12,0) -> 11108019
A13: 1 | B13: 2 | C13: 2.2.3 | D13: LLENO CON MATERIAL PROVENIENTE DE LA EXCAVACIÓN, COMPACTADO MECÁNICAMENTE HASTA ALCANZAR EL 95 % DE LA DENSIDAD MÁXIMA DEL ENSAYO PRÓCTOR MODIFICADO. INCLUYE TRANSPORTE INTERNO. MEDIDA EN SITIO COMPACTADO. | E13: m³ | F13: 85 | G13: =ROUND(APU!$G$60,0) -> 64239 | H13: =ROUND(F13*G13,0) -> 5460315
A14: 1 | B14: 2 | C14: 2.3.1 | D14: SUMINISTRO E INSTALACIÓN DE CONCRETO POBRE DE LIMPIEZA DE 2.000 PSI PARA SOLADO, ESPESOR 0,05 m. INCLUYE TRANSPORTE, COLOCACIÓN, NIVELACIÓN, CURADO Y TODO LO NECESARIO PARA SU CORRECTA EJECUCIÓN. NO INCLUYE REFUERZO. | E14: m² | F14: 20.06 | G14: =ROUND(APU!$G$75,0) -> 55079 | H14: =ROUND(F14*G14,0) -> 1104885
A15: 1 | B15: 2 | C15: 2.3.2 | D15: SUMINISTRO E INSTALACIÓN DE CONCRETO DE 3.000 PSI PARA ZAPATAS DE FUNDACIÓN. INCLUYE FORMALETA Y CURADO. NO INCLUYE ACERO DE REFUERZO. | E15: m³ | F15: 2.35 | G15: =ROUND(APU!$G$95,0) -> 1191123 | H15: =ROUND(F15*G15,0) -> 2799139
A16: 1 | B16: 2 | C16: 2.3.3 | D16: SUMINISTRO E INSTALACIÓN DE CONCRETO DE 3.000 PSI PARA COLUMNAS. INCLUYE FORMALETA, VIBRADO Y CURADO. NO INCLUYE ACERO DE REFUERZO. | E16: m³ | F16: 3.04 | G16: =ROUND(APU!$G$115,0) -> 1498064 | H16: =ROUND(F16*G16,0) -> 4554115
A17: 1 | B17: 2 | C17: 2.3.4 | D17: SUMINISTRO E INSTALACIÓN DE CONCRETO DE 3.000 PSI PARA VIGAS DE CIMENTACIÓN. INCLUYE FORMALETA, VIBRADO Y CURADO. NO INCLUYE ACERO DE REFUERZO. | E17: m³ | F17: 5.76 | G17: =ROUND(APU!$G$135,0) -> 1283205 | H17: =ROUND(F17*G17,0) -> 7391261
A18: 1 | B18: 2 | C18: 2.3.5 | D18: SUMINISTRO E INSTALACIÓN DE CONCRETO DE 3.000 PSI PARA VIGA DE ANDÉN. INCLUYE FORMALETA, VIBRADO Y CURADO. NO INCLUYE ACERO DE REFUERZO. | E18: m³ | F18: 1.8 | G18: =ROUND(APU!$G$155,0) -> 1498064 | H18: =ROUND(F18*G18,0) -> 2696515
A19: 1 | B19: 2 | C19: 2.3.6 | D19: SUMINISTRO E INSTALACIÓN DE CONCRETO DE 3.000 PSI PARA VIGA DE AMARRE SUPERIOR. INCLUYE FORMALETA, VIBRADO Y CURADO. NO INCLUYE ACERO DE REFUERZO. | E19: m³ | F19: 5.98 | G19: =ROUND(APU!$G$175,0) -> 1390635 | H19: =ROUND(F19*G19,0) -> 8315997
A20: 1 | B20: 2 | C20: 2.3.7 | D20: SUMINISTRO E INSTALACIÓN DE CONCRETO DE 3.000 PSI PARA VIGA CINTA. INCLUYE FORMALETA, VIBRADO Y CURADO. NO INCLUYE ACERO DE REFUERZO. | E20: m³ | F20: 0.82 | G20: =ROUND(APU!$G$195,0) -> 1498064 | H20: =ROUND(F20*G20,0) -> 1228412
A21: 1 | B21: 2 | C21: 2.3.8 | D21: SUMINISTRO E INSTALACIÓN DE CONCRETO DE 3.000 PSI PARA VIGA DE BORDE DE PLACA DE FACHADA. INCLUYE FORMALETA, VIBRADO Y CURADO. NO INCLUYE ACERO DE REFUERZO. | E21: m³ | F21: 0.92 | G21: =ROUND(APU!$G$215,0) -> 1240234 | H21: =ROUND(F21*G21,0) -> 1141015
A22: 1 | B22: 2 | C22: 2.3.9 | D22: SUMINISTRO E INSTALACIÓN DE CONCRETO DE 3.000 PSI PARA MOJINETE O CUCHILLAS LATERALES. INCLUYE FORMALETA, VIBRADO Y CURADO. NO INCLUYE ACERO DE REFUERZO. | E22: m³ | F22: 1.5 | G22: =ROUND(APU!$G$235,0) -> 1784541 | H22: =ROUND(F22*G22,0) -> 2676812
A23: 1 | B23: 2 | C23: 2.3.10 | D23: CONSTRUCCIÓN DE LOSA EN CONCRETO DE 21 MPa (3.000 PSI), ESPESOR 0,10 m. INCLUYE SUMINISTRO, TRANSPORTE, COLOCACIÓN, VIBRADO, PROTECCIÓN, CURADO, ACABADO CON LLANA METÁLICA Y JUNTAS DE DILATACIÓN FORMALTEADAS O CORTADAS CON DISCO DIAMANTADO DE 3 A 5 mm. NO INCLUYE ACERO DE REFUERZO. | E23: m² | F23: 125 | G23: =ROUND(APU!$G$254,0) -> 133758 | H23: =ROUND(F23*G23,0) -> 16719750
A24: 1 | B24: 2 | C24: 2.3.11 | D24: SUMINISTRO E INSTALACIÓN DE CONCRETO DE 3.000 PSI PARA PLACA DE FACHADA DE 0,15 m DE ESPESOR, SEGÚN CORTE 1-1 DEL DISEÑO ESTRUCTURAL. INCLUYE FORMALETA, ANDAMIOS, CLAVOS, ALAMBRE, VIBRADO, CURADO Y TODO LO NECESARIO PARA SU CORRECTA EJECUCIÓN. NO INCLUYE ACERO DE REFUERZO. | E24: m² | F24: 25.2 | G24: =ROUND(APU!$G$273,0) -> 377337 | H24: =ROUND(F24*G24,0) -> 9508892
A25: 1 | B25: 2 | C25: 2.3.12 | D25: BORDILLO FUNDIDO EN CONCRETO DE 3.000 PSI, CON ACABADO ARQUITECTÓNICO A LA VISTA. INCLUYE FORMALETA, VIBRADO Y CURADO. NO INCLUYE ACERO DE REFUERZO. | E25: m³ | F25: 1.45 | G25: =ROUND(APU!$G$293,0) -> 1927780 | H25: =ROUND(F25*G25,0) -> 2795281
A26: 1 | B26: 2 | C26: 2.3.13 | D26: CUNETA EN CONCRETO DE 3.000 PSI. INCLUYE FORMALETA, VIBRADO, CURADO Y ACABADO. NO INCLUYE ACERO DE REFUERZO NI MATERIAL FILTRANTE, LOS CUALES DEBEN PAGARSE EN LOS ÍTEMS CORRESPONDIENTES. | E26: m³ | F26: 3.89 | G26: =ROUND(APU!$G$313,0) -> 1317736 | H26: =ROUND(F26*G26,0) -> 5125993
A27: 1 | B27: 2 | C27: 2.3.14 | D27: SUMINISTRO E INSTALACIÓN DE GÁRGOLA PREFABRICADA, INCLUYE ANCLAJES, SELLOS Y TODO LO NECESARIO PARA SU CORRECTA INSTALACIÓN. | E27: und | F27: 2 | G27: =ROUND(APU!$G$328,0) -> 184861 | H27: =ROUND(F27*G27,0) -> 369722
A28: 1 | B28: 2 | C28: 2.3.14.1.1 | D28: EXCAVACIÓN MANUAL DE MATERIAL HETEROGÉNEO ENTRE 0 Y 2 m DE PROFUNDIDAD PARA MURO DE CONTENCIÓN. INCLUYE CARGUE Y ACOPIO O TRASIEGO INTERNO. NO INCLUYE TRANSPORTE EXTERNO NI DISPOSICIÓN FINAL. | E28: m³ | F28: 75 | G28: =ROUND(APU!$G$338,0) -> 79360 | H28: =ROUND(F28*G28,0) -> 5952000
A29: 1 | B29: 2 | C29: 2.3.14.1.2 | D29: SUMINISTRO E INSTALACIÓN DE CONCRETO POBRE DE LIMPIEZA DE 2.000 PSI PARA SOLADO, ESPESOR 0,05 m. INCLUYE TRANSPORTE, COLOCACIÓN, NIVELACIÓN Y CURADO. NO INCLUYE REFUERZO. | E29: m² | F29: 24.6 | G29: =ROUND(APU!$G$353,0) -> 55079 | H29: =ROUND(F29*G29,0) -> 1354943
A30: 1 | B30: 2 | C30: 2.3.14.1.3 | D30: SUMINISTRO E INSTALACIÓN DE CONCRETO DE 3.000 PSI PARA ZAPATA DE MURO DE CONTENCIÓN. INCLUYE FORMALETA, VIBRADO Y CURADO. NO INCLUYE ACERO DE REFUERZO. | E30: m³ | F30: 13.84 | G30: =ROUND(APU!$G$373,0) -> 1135465 | H30: =ROUND(F30*G30,0) -> 15714836
A31: 1 | B31: 2 | C31: 2.3.14.1.4 | D31: SUMINISTRO E INSTALACIÓN DE CONCRETO DE 3.000 PSI PARA FUSTE DE MURO DE CONTENCIÓN. INCLUYE FORMALETA, VIBRADO Y CURADO. NO INCLUYE ACERO DE REFUERZO. | E31: m³ | F31: 13.39 | G31: =ROUND(APU!$G$393,0) -> 1320006 | H31: =ROUND(F31*G31,0) -> 17674880
A32: SUBTOTAL 2. CIMENTACIÓN | B32: SUBTOTAL 2. CIMENTACIÓN | C32: SUBTOTAL 2. CIMENTACIÓN | D32: SUBTOTAL 2. CIMENTACIÓN | E32: SUBTOTAL 2. CIMENTACIÓN | F32: SUBTOTAL 2. CIMENTACIÓN | G32: SUBTOTAL 2. CIMENTACIÓN | H32: =ROUND(SUM(H12:H31),0) -> 123692782
A33: 1 | B33: 3 | D33: PISOS
A34: 1 | B34: 3 | C34: 3.1 | D34: SUMINISTRO E INSTALACIÓN DE PISO CERÁMICO 40 × 40 cm, TRÁFICO 5. INCLUYE ZÓCALO, PEGANTE, BOQUILLA, CORTES, LIMPIEZA Y TODO LO NECESARIO PARA SU CORRECTA INSTALACIÓN. | E34: m² | F34: 66.42 | G34: =ROUND(APU!$G$410,0) -> 191877 | H34: =ROUND(F34*G34,0) -> 12744470
A35: 1 | B35: 3 | C35: 3.2 | D35: SUMINISTRO E INSTALACIÓN DE PISO ANTIDESLIZANTE PARA EXTERIORES CON JUNTA EN PIEDRA CHINA O ARENÓN CHINO. INCLUYE PEGANTE, BOQUILLA, CORTES Y LIMPIEZA. | E35: m² | F35: 59.17 | G35: =ROUND(APU!$G$427,0) -> 197584 | H35: =ROUND(F35*G35,0) -> 11691045
A36: SUBTOTAL 3. PISOS | B36: SUBTOTAL 3. PISOS | C36: SUBTOTAL 3. PISOS | D36: SUBTOTAL 3. PISOS | E36: SUBTOTAL 3. PISOS | F36: SUBTOTAL 3. PISOS | G36: SUBTOTAL 3. PISOS | H36: =ROUND(SUM(H34:H35),0) -> 24435515
A37: 1 | B37: 4 | D37: ACERO DE REFUERZO
A38: 1 | B38: 4 | C38: 4.1 | D38: SUMINISTRO E INSTALACIÓN DE ACERO DE REFUERZO DE 60.000 PSI. INCLUYE ALAMBRE NEGRO, FIGURACIÓN, CORTE, DOBLADO, AMARRE, TRASLAPOS, SEPARADORES Y TODO LO NECESARIO PARA SU CORRECTA COLOCACIÓN. | E38: kg | F38: 5475 | G38: =ROUND(APU!$G$443,0) -> 11210 | H38: =ROUND(F38*G38,0) -> 61374750
A39: 1 | B39: 4 | C39: 4.2 | D39: SUMINISTRO E INSTALACIÓN DE MALLA ELECTROSOLDADA ESTÁNDAR. INCLUYE ALAMBRE NEGRO, CORTE, TRASLAPOS, AMARRE, SEPARADORES Y TODO LO NECESARIO PARA SU CORRECTA COLOCACIÓN. | E39: und | F39: 15 | G39: =ROUND(APU!$G$458,0) -> 252483 | H39: =ROUND(F39*G39,0) -> 3787245
A40: SUBTOTAL 4. ACERO DE REFUERZO | B40: SUBTOTAL 4. ACERO DE REFUERZO | C40: SUBTOTAL 4. ACERO DE REFUERZO | D40: SUBTOTAL 4. ACERO DE REFUERZO | E40: SUBTOTAL 4. ACERO DE REFUERZO | F40: SUBTOTAL 4. ACERO DE REFUERZO | G40: SUBTOTAL 4. ACERO DE REFUERZO | H40: =ROUND(SUM(H38:H39),0) -> 65161995
A41: 1 | B41: 5 | D41: MAMPOSTERÍA
...

Sheet MEMORIAS
A1: MUNICIPIO DE DABEIBA – ANTIOQUIA | B1: MUNICIPIO DE DABEIBA – ANTIOQUIA | C1: MUNICIPIO DE DABEIBA – ANTIOQUIA | D1: MUNICIPIO DE DABEIBA – ANTIOQUIA | E1: MUNICIPIO DE DABEIBA – ANTIOQUIA | F1: MUNICIPIO DE DABEIBA – ANTIOQUIA | G1: MUNICIPIO DE DABEIBA – ANTIOQUIA
A2: CONSTRUCCIÓN DE AULA Y MEJORAMIENTO DE INFRAESTRUCTURA EXISTENTE DE LA INSTITUCIÓN EDUCATIVA DE LA VEREDA EL RETIRO DEL MUNICIPIO DE DABEIBA, ANTIOQUIA | B2: CONSTRUCCIÓN DE AULA Y MEJORAMIENTO DE INFRAESTRUCTURA EXISTENTE DE LA INSTITUCIÓN EDUCATIVA DE LA VEREDA EL RETIRO DEL MUNICIPIO DE DABEIBA, ANTIOQUIA | C2: CONSTRUCCIÓN DE AULA Y MEJORAMIENTO DE INFRAESTRUCTURA EXISTENTE DE LA INSTITUCIÓN EDUCATIVA DE LA VEREDA EL RETIRO DEL MUNICIPIO DE DABEIBA, ANTIOQUIA | D2: CONSTRUCCIÓN DE AULA Y MEJORAMIENTO DE INFRAESTRUCTURA EXISTENTE DE LA INSTITUCIÓN EDUCATIVA DE LA VEREDA EL RETIRO DEL MUNICIPIO DE DABEIBA, ANTIOQUIA | E2: CONSTRUCCIÓN DE AULA Y MEJORAMIENTO DE INFRAESTRUCTURA EXISTENTE DE LA INSTITUCIÓN EDUCATIVA DE LA VEREDA EL RETIRO DEL MUNICIPIO DE DABEIBA, ANTIOQUIA | F2: CONSTRUCCIÓN DE AULA Y MEJORAMIENTO DE INFRAESTRUCTURA EXISTENTE DE LA INSTITUCIÓN EDUCATIVA DE LA VEREDA EL RETIRO DEL MUNICIPIO DE DABEIBA, ANTIOQUIA | G2: CONSTRUCCIÓN DE AULA Y MEJORAMIENTO DE INFRAESTRUCTURA EXISTENTE DE LA INSTITUCIÓN EDUCATIVA DE LA VEREDA EL RETIRO DEL MUNICIPIO DE DABEIBA, ANTIOQUIA
A3: MEMORIAS DE CANTIDADES CONSOLIDADAS | B3: MEMORIAS DE CANTIDADES CONSOLIDADAS | C3: MEMORIAS DE CANTIDADES CONSOLIDADAS | D3: MEMORIAS DE CANTIDADES CONSOLIDADAS | E3: MEMORIAS DE CANTIDADES CONSOLIDADAS | F3: MEMORIAS DE CANTIDADES CONSOLIDADAS | G3: MEMORIAS DE CANTIDADES CONSOLIDADAS
A5: C1-1.1.1 | B5: 1.1.1 | C5: LOCALIZACIÓN, TRAZADO Y REPLANTEO. Incluye demarcación con pintura, línea de trazado, corte de piso, libretas y planos. | G5: m²
A6: N.° | B6: DETALLE | C6: LONGITUD | D6: ANCHO | E6: ALTO / ESPESOR | F6: VECES / CANTIDAD | G6: PARCIAL
A7: 1 | B7: aula | C7: 10.403 | D7: 12.5 | F7: 1 | G7: =ROUND(IF(COUNTA(B7:F7)=0,0,IF(C7="",1,C7)*IF(D7="",1,D7)*IF(E7="",1,E7)*IF(F7="",1,F7)),2) -> 130.04
A8: 2 | G8: =ROUND(IF(COUNTA(B8:F8)=0,0,IF(C8="",1,C8)*IF(D8="",1,D8)*IF(E8="",1,E8)*IF(F8="",1,F8)),2) -> 0
A9: 3 | G9: =ROUND(IF(COUNTA(B9:F9)=0,0,IF(C9="",1,C9)*IF(D9="",1,D9)*IF(E9="",1,E9)*IF(F9="",1,F9)),2) -> 0
A10: 4 | G10: =ROUND(IF(COUNTA(B10:F10)=0,0,IF(C10="",1,C10)*IF(D10="",1,D10)*IF(E10="",1,E10)*IF(F10="",1,F10)),2) -> 0
A11: 5 | G11: =ROUND(IF(COUNTA(B11:F11)=0,0,IF(C11="",1,C11)*IF(D11="",1,D11)*IF(E11="",1,E11)*IF(F11="",1,F11)),2) -> 0
A12: CANTIDAD TOTAL DE LA MEMORIA | B12: CANTIDAD TOTAL DE LA MEMORIA | C12: CANTIDAD TOTAL DE LA MEMORIA | D12: CANTIDAD TOTAL DE LA MEMORIA | E12: CANTIDAD TOTAL DE LA MEMORIA | F12: CANTIDAD TOTAL DE LA MEMORIA | G12: =ROUND(SUM(G7:G11),2) -> 130.04
A14: C1-1.1.2 | B14: 1.1.2 | C14: SUMINISTRO, INSTALACIÓN, MANTENIMIENTO Y DESMONTE DE CERRAMIENTO PROVISIONAL EN TELA NARANJA DE 2,00 m DE ALTURA, CON ESTRUCTURA EN MADERA Y ANCLAJES EN CONCRETO DE 17,5 MPa. INCLUYE EXCAVACIÓN PUNTUAL, ACOPIO INTERNO Y TODOS LOS ELEMENTOS NECESARIOS PARA SU CORRECTA EJECUCIÓN. | G14: m
A15: N.° | B15: DETALLE | C15: LONGITUD | D15: ANCHO | E15: ALTO / ESPESOR | F15: VECES / CANTIDAD | G15: PARCIAL
A16: 1 | B16: Lado 1 | C16: 12.5 | F16: 2 | G16: =ROUND(IF(COUNTA(B16:F16)=0,0,IF(C16="",1,C16)*IF(D16="",1,D16)*IF(E16="",1,E16)*IF(F16="",1,F16)),2) -> 25
A17: 2 | B17: Lado 2 | C17: 16 | F17: 2 | G17: =ROUND(IF(COUNTA(B17:F17)=0,0,IF(C17="",1,C17)*IF(D17="",1,D17)*IF(E17="",1,E17)*IF(F17="",1,F17)),2) -> 32
A18: 3 | G18: =ROUND(IF(COUNTA(B18:F18)=0,0,IF(C18="",1,C18)*IF(D18="",1,D18)*IF(E18="",1,E18)*IF(F18="",1,F18)),2) -> 0
A19: 4 | G19: =ROUND(IF(COUNTA(B19:F19)=0,0,IF(C19="",1,C19)*IF(D19="",1,D19)*IF(E19="",1,E19)*IF(F19="",1,F19)),2) -> 0
A20: 5 | G20: =ROUND(IF(COUNTA(B20:F20)=0,0,IF(C20="",1,C20)*IF(D20="",1,D20)*IF(E20="",1,E20)*IF(F20="",1,F20)),2) -> 0
A21: CANTIDAD TOTAL DE LA MEMORIA | B21: CANTIDAD TOTAL DE LA MEMORIA | C21: CANTIDAD TOTAL DE LA MEMORIA | D21: CANTIDAD TOTAL DE LA MEMORIA | E21: CANTIDAD TOTAL DE LA MEMORIA | F21: CANTIDAD TOTAL DE LA MEMORIA | G21: =ROUND(SUM(G16:G20),2) -> 57
A23: C1-2.1.1 | B23: 2.1.1 | C23: EXCAVACIÓN MANUAL DE MATERIAL HETEROGÉNEO ENTRE 0 Y 2 m DE PROFUNDIDAD, BAJO CUALQUIER GRADO DE HUMEDAD. INCLUYE ROCA DESCOMPUESTA, BOLAS DE ROCA MENORES A 0,35 m³, CARGUE Y ACOPIO O TRASIEGO INTERNO. NO INCLUYE ENTIBADO, TRANSPORTE EXTERNO NI DISPOSICIÓN FINAL. | G23: m³
A24: N.° | B24: DETALLE | C24: LONGITUD | D24: ANCHO | E24: ALTO / ESPESOR | F24: VECES / CANTIDAD | G24: PARCIAL
A25: 1 | B25: Excavación de zapatas de 1,40 × 1,40 × 1,00 m | C25: =$C$52 -> 1.4 | D25: =$D$52 -> 1.4 | E25: 1 | F25: =$F$52 -> 4 | G25: =ROUND(IF(COUNTA(B25:F25)=0,0,IF(C25="",1,C25)*IF(D25="",1,D25)*IF(E25="",1,E25)*IF(F25="",1,F25)),2) -> 7.84
A26: 2 | B26: Zanja: eje 8,00 m menos zapata; sección de viga | C26: =8-$C$52 -> 6.6 | D26: =$D$70 -> 0.4 | E26: =$E$70 -> 0.45 | F26: 2 | G26: =ROUND(IF(COUNTA(B26:F26)=0,0,IF(C26="",1,C26)*IF(D26="",1,D26)*IF(E26="",1,E26)*IF(F26="",1,F26)),2) -> 2.38
A27: 3 | B27: Zanja: eje 8,20 m menos zapata; sección de viga | C27: =8.2-$C$52 -> 6.8 | D27: =$D$70 -> 0.4 | E27: =$E$70 -> 0.45 | F27: 2 | G27: =ROUND(IF(COUNTA(B27:F27)=0,0,IF(C27="",1,C27)*IF(D27="",1,D27)*IF(E27="",1,E27)*IF(F27="",1,F27)),2) -> 2.45
A28: 4 | B28: Excavación lineal de 44,83 m, sección 0,20 × 0,20 m | C28: 44.83 | D28: 0.2 | E28: 0.2 | F28: 1 | G28: =ROUND(IF(COUNTA(B28:F28)=0,0,IF(C28="",1,C28)*IF(D28="",1,D28)*IF(E28="",1,E28)*IF(F28="",1,F28)),2) -> 1.79
A29: 5 | B29: Excavación de caja de 8,00 × 8,00 × 2,00 m | C29: 8 | D29: 8 | E29: 2 | F29: 1 | G29: =ROUND(IF(COUNTA(B29:F29)=0,0,IF(C29="",1,C29)*IF(D29="",1,D29)*IF(E29="",1,E29)*IF(F29="",1,F29)),2) -> 128
A30: CANTIDAD TOTAL DE LA MEMORIA | B30: CANTIDAD TOTAL DE LA MEMORIA | C30: CANTIDAD TOTAL DE LA MEMORIA | D30: CANTIDAD TOTAL DE LA MEMORIA | E30: CANTIDAD TOTAL DE LA MEMORIA | F30: CANTIDAD TOTAL DE LA MEMORIA | G30: =ROUND(SUM(G25:G29),2) -> 142.46
A32: C1-2.2.3 | B32: 2.2.3 | C32: LLENO CON MATERIAL PROVENIENTE DE LA EXCAVACIÓN, COMPACTADO MECÁNICAMENTE HASTA ALCANZAR EL 95 % DE LA DENSIDAD MÁXIMA DEL ENSAYO PRÓCTOR MODIFICADO. INCLUYE TRANSPORTE INTERNO. MEDIDA EN SITIO COMPACTADO. | G32: m³
A33: N.° | B33: DETALLE | C33: LONGITUD | D33: ANCHO | E33: ALTO / ESPESOR | F33: VECES / CANTIDAD | G33: PARCIAL
A34: 1 | B34: Lleno sobre área de 125,00 m², espesor 0,20 m | C34: 125 | E34: 0.2 | F34: 1 | G34: =ROUND(IF(COUNTA(B34:F34)=0,0,IF(C34="",1,C34)*IF(D34="",1,D34)*IF(E34="",1,E34)*IF(F34="",1,F34)),2) -> 25
A35: 2 | B35: Lleno en sector de 5,00 × 12,00 × 1,00 m | C35: 5 | D35: 12 | E35: 1 | F35: 1 | G35: =ROUND(IF(COUNTA(B35:F35)=0,0,IF(C35="",1,C35)*IF(D35="",1,D35)*IF(E35="",1,E35)*IF(F35="",1,F35)),2) -> 60
A36: 3 | G36: =ROUND(IF(COUNTA(B36:F36)=0,0,IF(C36="",1,C36)*IF(D36="",1,D36)*IF(E36="",1,E36)*IF(F36="",1,F36)),2) -> 0
A37: 4 | G37: =ROUND(IF(COUNTA(B37:F37)=0,0,IF(C37="",1,C37)*IF(D37="",1,D37)*IF(E37="",1,E37)*IF(F37="",1,F37)),2) -> 0
A38: 5 | G38: =ROUND(IF(COUNTA(B38:F38)=0,0,IF(C38="",1,C38)*IF(D38="",1,D38)*IF(E38="",1,E38)*IF(F38="",1,F38)),2) -> 0
A39: CANTIDAD TOTAL DE LA MEMORIA | B39: CANTIDAD TOTAL DE LA MEMORIA | C39: CANTIDAD TOTAL DE LA MEMORIA | D39: CANTIDAD TOTAL DE LA MEMORIA | E39: CANTIDAD TOTAL DE LA MEMORIA | F39: CANTIDAD TOTAL DE LA MEMORIA | G39: =ROUND(SUM(G34:G38),2) -> 85
A41: C1-2.3.1 | B41: 2.3.1 | C41: SUMINISTRO E INSTALACIÓN DE CONCRETO POBRE DE LIMPIEZA DE 2.000 PSI PARA SOLADO, ESPESOR 0,05 m. INCLUYE TRANSPORTE, COLOCACIÓN, NIVELACIÓN, CURADO Y TODO LO NECESARIO PARA SU CORRECTA EJECUCIÓN. NO INCLUYE REFUERZO. | G41: m²
A42: N.° | B42: DETALLE | C42: LONGITUD | D42: ANCHO | E42: ALTO / ESPESOR | F42: VECES / CANTIDAD | G42: PARCIAL
A43: 1 | B43: Solado para 8 zapatas de 1,20 × 1,20 m | C43: 1.2 | D43: 1.2 | F43: 8 | G43: =ROUND(IF(COUNTA(B43:F43)=0,0,IF(C43="",1,C43)*IF(D43="",1,D43)*IF(E43="",1,E43)*IF(F43="",1,F43)),2) -> 11.52
A44: 2 | B44: Franja de solado: tramo de 3,42 m × 0,30 m | C44: 3.42 | D44: 0.3 | F44: 2 | G44: =ROUND(IF(COUNTA(B44:F44)=0,0,IF(C44="",1,C44)*IF(D44="",1,D44)*IF(E44="",1,E44)*IF(F44="",1,F44)),2) -> 2.05
A45: 3 | B45: Franja de solado: tramo de 3,62 m × 0,30 m | C45: 3.62 | D45: 0.3 | F45: 2 | G45: =ROUND(IF(COUNTA(B45:F45)=0,0,IF(C45="",1,C45)*IF(D45="",1,D45)*IF(E45="",1,E45)*IF(F45="",1,F45)),2) -> 2.17
...

Sheet APU
A1: MUNICIPIO DE DABEIBA – ANTIOQUIA | B1: MUNICIPIO DE DABEIBA – ANTIOQUIA | C1: MUNICIPIO DE DABEIBA – ANTIOQUIA | D1: MUNICIPIO DE DABEIBA – ANTIOQUIA | E1: MUNICIPIO DE DABEIBA – ANTIOQUIA | F1: MUNICIPIO DE DABEIBA – ANTIOQUIA | G1: MUNICIPIO DE DABEIBA – ANTIOQUIA
A2: CONSTRUCCIÓN DE AULA Y MEJORAMIENTO DE INFRAESTRUCTURA EXISTENTE DE LA INSTITUCIÓN EDUCATIVA DE LA VEREDA EL RETIRO DEL MUNICIPIO DE DABEIBA, ANTIOQUIA | B2: CONSTRUCCIÓN DE AULA Y MEJORAMIENTO DE INFRAESTRUCTURA EXISTENTE DE LA INSTITUCIÓN EDUCATIVA DE LA VEREDA EL RETIRO DEL MUNICIPIO DE DABEIBA, ANTIOQUIA | C2: CONSTRUCCIÓN DE AULA Y MEJORAMIENTO DE INFRAESTRUCTURA EXISTENTE DE LA INSTITUCIÓN EDUCATIVA DE LA VEREDA EL RETIRO DEL MUNICIPIO DE DABEIBA, ANTIOQUIA | D2: CONSTRUCCIÓN DE AULA Y MEJORAMIENTO DE INFRAESTRUCTURA EXISTENTE DE LA INSTITUCIÓN EDUCATIVA DE LA VEREDA EL RETIRO DEL MUNICIPIO DE DABEIBA, ANTIOQUIA | E2: CONSTRUCCIÓN DE AULA Y MEJORAMIENTO DE INFRAESTRUCTURA EXISTENTE DE LA INSTITUCIÓN EDUCATIVA DE LA VEREDA EL RETIRO DEL MUNICIPIO DE DABEIBA, ANTIOQUIA | F2: CONSTRUCCIÓN DE AULA Y MEJORAMIENTO DE INFRAESTRUCTURA EXISTENTE DE LA INSTITUCIÓN EDUCATIVA DE LA VEREDA EL RETIRO DEL MUNICIPIO DE DABEIBA, ANTIOQUIA | G2: CONSTRUCCIÓN DE AULA Y MEJORAMIENTO DE INFRAESTRUCTURA EXISTENTE DE LA INSTITUCIÓN EDUCATIVA DE LA VEREDA EL RETIRO DEL MUNICIPIO DE DABEIBA, ANTIOQUIA
A3: ANÁLISIS DE PRECIOS UNITARIOS CONSOLIDADOS | B3: ANÁLISIS DE PRECIOS UNITARIOS CONSOLIDADOS | C3: ANÁLISIS DE PRECIOS UNITARIOS CONSOLIDADOS | D3: ANÁLISIS DE PRECIOS UNITARIOS CONSOLIDADOS | E3: ANÁLISIS DE PRECIOS UNITARIOS CONSOLIDADOS | F3: ANÁLISIS DE PRECIOS UNITARIOS CONSOLIDADOS | G3: ANÁLISIS DE PRECIOS UNITARIOS CONSOLIDADOS
A5: C1-1.1.1 | B5: 1.1.1 | C5: LOCALIZACIÓN, TRAZADO Y REPLANTEO. Incluye demarcación con pintura, línea de trazado, corte de piso, libretas y planos. | G5: m²
A6: TIPO | B6: CÓDIGO | C6: DESCRIPCIÓN | D6: UNIDAD | E6: TARIFA / BASE | F6: CONSUMO | G6: PARCIAL
A7: EQUIPO Y HERRAMIENTAS | B7: EQUIPO Y HERRAMIENTAS | C7: EQUIPO Y HERRAMIENTAS | D7: EQUIPO Y HERRAMIENTAS | E7: EQUIPO Y HERRAMIENTAS | F7: EQUIPO Y HERRAMIENTAS | G7: EQUIPO Y HERRAMIENTAS
A8: EQUIPO | B8: EQ-002 | C8: Escalera Tijera Aluminio 2m (7 peldaños) | D8: día | E8: =ROUND(EQUIPOS!$E$7,0) -> 15000 | F8: 0.005 | G8: =ROUND(E8*F8,0) -> 75
A9: EQUIPO | B9: AUTO | C9: HERRAMIENTA MENOR (5 % DE MANO DE OBRA) | D9: % | E9: =ROUND($G$21,0) -> 5559 | F9: 0.05 | G9: =ROUND(E9*F9,0) -> 278
A10: SUBTOTAL EQUIPO Y HERRAMIENTAS | B10: SUBTOTAL EQUIPO Y HERRAMIENTAS | C10: SUBTOTAL EQUIPO Y HERRAMIENTAS | D10: SUBTOTAL EQUIPO Y HERRAMIENTAS | E10: SUBTOTAL EQUIPO Y HERRAMIENTAS | F10: SUBTOTAL EQUIPO Y HERRAMIENTAS | G10: =ROUND(SUM(G8:G9),0) -> 353
A11: MATERIALES | B11: MATERIALES | C11: MATERIALES | D11: MATERIALES | E11: MATERIALES | F11: MATERIALES | G11: MATERIALES
A12: MATERIAL | B12: MAT-006 | C12: DURMIENTE | D12: m | E12: =ROUND(INSUMOS!$E$11,0) -> 8925 | F12: 0.05 | G12: =ROUND(E12*F12,0) -> 446
A13: MATERIAL | B13: MAT-007 | C13: ESMALTE PINTULUX DE PINTUCO | D13: gal | E13: =ROUND(INSUMOS!$E$12,0) -> 130781 | F13: 0.002 | G13: =ROUND(E13*F13,0) -> 262
A14: MATERIAL | B14: MAT-008 | C14: PUNTILLA CON CABEZA 2 1/2" | D14: lb | E14: =ROUND(INSUMOS!$E$13,0) -> 6248 | F14: 0.07 | G14: =ROUND(E14*F14,0) -> 437
A15: MATERIAL | B15: MAT-009 | C15: DISOLVENTE THINNER | D15: gal | E15: =ROUND(INSUMOS!$E$14,0) -> 66402 | F15: 0.002 | G15: =ROUND(E15*F15,0) -> 133
A16: SUBTOTAL MATERIALES | B16: SUBTOTAL MATERIALES | C16: SUBTOTAL MATERIALES | D16: SUBTOTAL MATERIALES | E16: SUBTOTAL MATERIALES | F16: SUBTOTAL MATERIALES | G16: =ROUND(SUM(G12:G15),0) -> 1278
A17: MANO DE OBRA | B17: MANO DE OBRA | C17: MANO DE OBRA | D17: MANO DE OBRA | E17: MANO DE OBRA | F17: MANO DE OBRA | G17: MANO DE OBRA
A18: MANO DE OBRA | B18: MO-003 | C18: TOPOGRAFO | D18: día | E18: =ROUND('MANO DE OBRA'!$E$9,0) -> 251576 | F18: 0.01 | G18: =ROUND(E18*F18,0) -> 2516
A19: MANO DE OBRA | B19: MO-004 | C19: CADENERO | D19: día | E19: =ROUND('MANO DE OBRA'!$E$10,0) -> 196251 | F19: 0.01 | G19: =ROUND(E19*F19,0) -> 1963
A20: MANO DE OBRA | B20: MO-005 | C20: AYUDANTE | D20: día | E20: =ROUND('MANO DE OBRA'!$E$11,0) -> 107973 | F20: 0.01 | G20: =ROUND(E20*F20,0) -> 1080
A21: SUBTOTAL MANO DE OBRA | B21: SUBTOTAL MANO DE OBRA | C21: SUBTOTAL MANO DE OBRA | D21: SUBTOTAL MANO DE OBRA | E21: SUBTOTAL MANO DE OBRA | F21: SUBTOTAL MANO DE OBRA | G21: =ROUND(SUM(G18:G20),0) -> 5559
A22: VALOR UNITARIO | B22: TOTAL COSTO DIRECTO APROXIMADO AL PESO | C22: TOTAL COSTO DIRECTO APROXIMADO AL PESO | D22: TOTAL COSTO DIRECTO APROXIMADO AL PESO | E22: TOTAL COSTO DIRECTO APROXIMADO AL PESO | G22: =ROUND(SUM(G10,G16,G21),0) -> 7190
A24: C1-1.1.2 | B24: 1.1.2 | C24: SUMINISTRO, INSTALACIÓN, MANTENIMIENTO Y DESMONTE DE CERRAMIENTO PROVISIONAL EN TELA NARANJA DE 2,00 m DE ALTURA, CON ESTRUCTURA EN MADERA Y ANCLAJES EN CONCRETO DE 17,5 MPa. INCLUYE EXCAVACIÓN PUNTUAL, ACOPIO INTERNO Y TODOS LOS ELEMENTOS NECESARIOS PARA SU CORRECTA EJECUCIÓN. | G24: m
A25: TIPO | B25: CÓDIGO | C25: DESCRIPCIÓN | D25: UNIDAD | E25: TARIFA / BASE | F25: CONSUMO | G25: PARCIAL
A26: EQUIPO Y HERRAMIENTAS | B26: EQUIPO Y HERRAMIENTAS | C26: EQUIPO Y HERRAMIENTAS | D26: EQUIPO Y HERRAMIENTAS | E26: EQUIPO Y HERRAMIENTAS | F26: EQUIPO Y HERRAMIENTAS | G26: EQUIPO Y HERRAMIENTAS
A27: EQUIPO | B27: AUTO | C27: HERRAMIENTA MENOR (5 % DE MANO DE OBRA) | D27: % | E27: =ROUND($G$37,0) -> 19953 | F27: 0.05 | G27: =ROUND(E27*F27,0) -> 998
A28: SUBTOTAL EQUIPO Y HERRAMIENTAS | B28: SUBTOTAL EQUIPO Y HERRAMIENTAS | C28: SUBTOTAL EQUIPO Y HERRAMIENTAS | D28: SUBTOTAL EQUIPO Y HERRAMIENTAS | E28: SUBTOTAL EQUIPO Y HERRAMIENTAS | F28: SUBTOTAL EQUIPO Y HERRAMIENTAS | G28: =ROUND(SUM(G27:G27),0) -> 998
A29: MATERIALES | B29: MATERIALES | C29: MATERIALES | D29: MATERIALES | E29: MATERIALES | F29: MATERIALES | G29: MATERIALES
A30: MATERIAL | B30: MAT-010 | C30: LISTON ORDINARIO 3 X 3 | D30: m | E30: =ROUND(INSUMOS!$E$15,0) -> 5500 | F30: 1.1 | G30: =ROUND(E30*F30,0) -> 6050
A31: MATERIAL | B31: MAT-011 | C31: TELA VERDE DE CERRAMIENTO H:2.00m | D31: m | E31: =ROUND(INSUMOS!$E$16,0) -> 3332 | F31: 1.05 | G31: =ROUND(E31*F31,0) -> 3499
A32: MATERIAL | B32: MAT-008 | C32: PUNTILLA CON CABEZA 2 1/2" | D32: lb | E32: =ROUND(INSUMOS!$E$13,0) -> 6248 | F32: 0.1 | G32: =ROUND(E32*F32,0) -> 625
A33: SUBTOTAL MATERIALES | B33: SUBTOTAL MATERIALES | C33: SUBTOTAL MATERIALES | D33: SUBTOTAL MATERIALES | E33: SUBTOTAL MATERIALES | F33: SUBTOTAL MATERIALES | G33: =ROUND(SUM(G30:G32),0) -> 10174
A34: MANO DE OBRA | B34: MANO DE OBRA | C34: MANO DE OBRA | D34: MANO DE OBRA | E34: MANO DE OBRA | F34: MANO DE OBRA | G34: MANO DE OBRA
A35: MANO DE OBRA | B35: MO-005 | C35: AYUDANTE | D35: día | E35: =ROUND('MANO DE OBRA'!$E$11,0) -> 107973 | F35: 0.07 | G35: =ROUND(E35*F35,0) -> 7558
A36: MANO DE OBRA | B36: MO-006 | C36: OFICIAL | D36: día | E36: =ROUND('MANO DE OBRA'!$E$12,0) -> 177075 | F36: 0.07 | G36: =ROUND(E36*F36,0) -> 12395
A37: SUBTOTAL MANO DE OBRA | B37: SUBTOTAL MANO DE OBRA | C37: SUBTOTAL MANO DE OBRA | D37: SUBTOTAL MANO DE OBRA | E37: SUBTOTAL MANO DE OBRA | F37: SUBTOTAL MANO DE OBRA | G37: =ROUND(SUM(G35:G36),0) -> 19953
A38: VALOR UNITARIO | B38: TOTAL COSTO DIRECTO APROXIMADO AL PESO | C38: TOTAL COSTO DIRECTO APROXIMADO AL PESO | D38: TOTAL COSTO DIRECTO APROXIMADO AL PESO | E38: TOTAL COSTO DIRECTO APROXIMADO AL PESO | G38: =ROUND(SUM(G28,G33,G37),0) -> 31125
A40: C1-2.1.1 | B40: 2.1.1 | C40: EXCAVACIÓN MANUAL DE MATERIAL HETEROGÉNEO ENTRE 0 Y 2 m DE PROFUNDIDAD, BAJO CUALQUIER GRADO DE HUMEDAD. INCLUYE ROCA DESCOMPUESTA, BOLAS DE ROCA MENORES A 0,35 m³, CARGUE Y ACOPIO O TRASIEGO INTERNO. NO INCLUYE ENTIBADO, TRANSPORTE EXTERNO NI DISPOSICIÓN FINAL. | G40: m³
A41: TIPO | B41: CÓDIGO | C41: DESCRIPCIÓN | D41: UNIDAD | E41: TARIFA / BASE | F41: CONSUMO | G41: PARCIAL
A42: EQUIPO Y HERRAMIENTAS | B42: EQUIPO Y HERRAMIENTAS | C42: EQUIPO Y HERRAMIENTAS | D42: EQUIPO Y HERRAMIENTAS | E42: EQUIPO Y HERRAMIENTAS | F42: EQUIPO Y HERRAMIENTAS | G42: EQUIPO Y HERRAMIENTAS
A43: EQUIPO | B43: AUTO | C43: HERRAMIENTA MENOR (5 % DE MANO DE OBRA) | D43: % | E43: =ROUND($G$47,0) -> 75581 | F43: 0.05 | G43: =ROUND(E43*F43,0) -> 3779
...

Sheet APA
A1: MUNICIPIO DE DABEIBA – ANTIOQUIA | B1: MUNICIPIO DE DABEIBA – ANTIOQUIA | C1: MUNICIPIO DE DABEIBA – ANTIOQUIA | D1: MUNICIPIO DE DABEIBA – ANTIOQUIA | E1: MUNICIPIO DE DABEIBA – ANTIOQUIA | F1: MUNICIPIO DE DABEIBA – ANTIOQUIA | G1: MUNICIPIO DE DABEIBA – ANTIOQUIA
A2: CONSTRUCCIÓN DE AULA Y MEJORAMIENTO DE INFRAESTRUCTURA EXISTENTE DE LA INSTITUCIÓN EDUCATIVA DE LA VEREDA EL RETIRO DEL MUNICIPIO DE DABEIBA, ANTIOQUIA | B2: CONSTRUCCIÓN DE AULA Y MEJORAMIENTO DE INFRAESTRUCTURA EXISTENTE DE LA INSTITUCIÓN EDUCATIVA DE LA VEREDA EL RETIRO DEL MUNICIPIO DE DABEIBA, ANTIOQUIA | C2: CONSTRUCCIÓN DE AULA Y MEJORAMIENTO DE INFRAESTRUCTURA EXISTENTE DE LA INSTITUCIÓN EDUCATIVA DE LA VEREDA EL RETIRO DEL MUNICIPIO DE DABEIBA, ANTIOQUIA | D2: CONSTRUCCIÓN DE AULA Y MEJORAMIENTO DE INFRAESTRUCTURA EXISTENTE DE LA INSTITUCIÓN EDUCATIVA DE LA VEREDA EL RETIRO DEL MUNICIPIO DE DABEIBA, ANTIOQUIA | E2: CONSTRUCCIÓN DE AULA Y MEJORAMIENTO DE INFRAESTRUCTURA EXISTENTE DE LA INSTITUCIÓN EDUCATIVA DE LA VEREDA EL RETIRO DEL MUNICIPIO DE DABEIBA, ANTIOQUIA | F2: CONSTRUCCIÓN DE AULA Y MEJORAMIENTO DE INFRAESTRUCTURA EXISTENTE DE LA INSTITUCIÓN EDUCATIVA DE LA VEREDA EL RETIRO DEL MUNICIPIO DE DABEIBA, ANTIOQUIA | G2: CONSTRUCCIÓN DE AULA Y MEJORAMIENTO DE INFRAESTRUCTURA EXISTENTE DE LA INSTITUCIÓN EDUCATIVA DE LA VEREDA EL RETIRO DEL MUNICIPIO DE DABEIBA, ANTIOQUIA
A3: ANÁLISIS DE PRECIOS AUXILIARES CONSOLIDADOS | B3: ANÁLISIS DE PRECIOS AUXILIARES CONSOLIDADOS | C3: ANÁLISIS DE PRECIOS AUXILIARES CONSOLIDADOS | D3: ANÁLISIS DE PRECIOS AUXILIARES CONSOLIDADOS | E3: ANÁLISIS DE PRECIOS AUXILIARES CONSOLIDADOS | F3: ANÁLISIS DE PRECIOS AUXILIARES CONSOLIDADOS | G3: ANÁLISIS DE PRECIOS AUXILIARES CONSOLIDADOS
A5: APA-01 | B5: MORTERO 1:3 IMPERMEABILIZADO | C5: Subanálisis de precio auxiliar | G5: m³
A6: TIPO | B6: CÓDIGO | C6: DESCRIPCIÓN | D6: UNIDAD | E6: TARIFA / BASE | F6: CONSUMO | G6: PARCIAL
A7: EQUIPO Y HERRAMIENTAS | B7: EQUIPO Y HERRAMIENTAS | C7: EQUIPO Y HERRAMIENTAS | D7: EQUIPO Y HERRAMIENTAS | E7: EQUIPO Y HERRAMIENTAS | F7: EQUIPO Y HERRAMIENTAS | G7: EQUIPO Y HERRAMIENTAS
A8: EQUIPO | B8: EQ-001 | C8: MEZCLADORA ELECT/GASOLINA 2BT | D8: h | E8: =ROUND(EQUIPOS!$E$6,0) -> 15000 | F8: 0.14705882 | G8: =ROUND(E8*F8,0) -> 2206
A9: EQUIPO | B9: AUTO | C9: HERRAMIENTA MENOR (5 % DE MANO DE OBRA) | D9: % | E9: =ROUND($G$21,0) -> 121146 | F9: 0.05 | G9: =ROUND(E9*F9,0) -> 6057
A10: SUBTOTAL EQUIPO Y HERRAMIENTAS | B10: SUBTOTAL EQUIPO Y HERRAMIENTAS | C10: SUBTOTAL EQUIPO Y HERRAMIENTAS | D10: SUBTOTAL EQUIPO Y HERRAMIENTAS | E10: SUBTOTAL EQUIPO Y HERRAMIENTAS | F10: SUBTOTAL EQUIPO Y HERRAMIENTAS | G10: =ROUND(SUM(G8:G9),0) -> 8263
A11: MATERIALES | B11: MATERIALES | C11: MATERIALES | D11: MATERIALES | E11: MATERIALES | F11: MATERIALES | G11: MATERIALES
A12: MATERIAL | B12: MAT-001 | C12: CEMENTO GRIS | D12: bulto | E12: =ROUND(INSUMOS!$E$6,0) -> 41983 | F12: 9.08 | G12: =ROUND(E12*F12,0) -> 381206
A13: MATERIAL | B13: MAT-002 | C13: ARENA LAVADA DE PEÑA | D13: m³ | E13: =ROUND(INSUMOS!$E$7,0) -> 160650 | F13: 1.09 | G13: =ROUND(E13*F13,0) -> 175109
A14: MATERIAL | B14: MAT-003 | C14: AGUA | D14: L | E14: =ROUND(INSUMOS!$E$8,0) -> 25 | F14: 240 | G14: =ROUND(E14*F14,0) -> 6000
A15: MATERIAL | B15: MAT-004 | C15: PLASTOCRETE | D15: gramos | E15: =ROUND(INSUMOS!$E$9,0) -> 32 | F15: 2270 | G15: =ROUND(E15*F15,0) -> 72640
A16: MATERIAL | B16: AUTO | C16: DESPERDICIO DE MATERIALES (5 %) | D16: % | E16: =ROUND(SUM($G$12:$G$15),0) -> 634955 | F16: 0.05 | G16: =ROUND(E16*F16,0) -> 31748
A17: SUBTOTAL MATERIALES | B17: SUBTOTAL MATERIALES | C17: SUBTOTAL MATERIALES | D17: SUBTOTAL MATERIALES | E17: SUBTOTAL MATERIALES | F17: SUBTOTAL MATERIALES | G17: =ROUND(SUM(G12:G16),0) -> 666703
A18: MANO DE OBRA | B18: MANO DE OBRA | C18: MANO DE OBRA | D18: MANO DE OBRA | E18: MANO DE OBRA | F18: MANO DE OBRA | G18: MANO DE OBRA
A19: MANO DE OBRA | B19: MO-001 | C19: OFICIAL | D19: día | E19: =ROUND('MANO DE OBRA'!$E$7,0) -> 176836 | F19: 0.14705882 | G19: =ROUND(E19*F19,0) -> 26005
A20: MANO DE OBRA | B20: MO-002 | C20: AYUDANTE | D20: día | E20: =ROUND('MANO DE OBRA'!$E$8,0) -> 107827 | F20: 0.88235294 | G20: =ROUND(E20*F20,0) -> 95141
A21: SUBTOTAL MANO DE OBRA | B21: SUBTOTAL MANO DE OBRA | C21: SUBTOTAL MANO DE OBRA | D21: SUBTOTAL MANO DE OBRA | E21: SUBTOTAL MANO DE OBRA | F21: SUBTOTAL MANO DE OBRA | G21: =ROUND(SUM(G19:G20),0) -> 121146
A22: TRANSPORTE | B22: TRANSPORTE | C22: TRANSPORTE | D22: TRANSPORTE | E22: TRANSPORTE | F22: TRANSPORTE | G22: TRANSPORTE
A23: TRANSPORTE | B23: TR-001 | C23: ARENA LAVADA | D23: m³·km | E23: =ROUND(TRANSPORTE!$E$6,0) -> 1000 | F23: 141.7 | G23: =ROUND(E23*F23,0) -> 141700
A24: SUBTOTAL TRANSPORTE | B24: SUBTOTAL TRANSPORTE | C24: SUBTOTAL TRANSPORTE | D24: SUBTOTAL TRANSPORTE | E24: SUBTOTAL TRANSPORTE | F24: SUBTOTAL TRANSPORTE | G24: =ROUND(SUM(G23:G23),0) -> 141700
A25: TOTAL COSTO DIRECTO APROXIMADO AL PESO | B25: TOTAL COSTO DIRECTO APROXIMADO AL PESO | C25: TOTAL COSTO DIRECTO APROXIMADO AL PESO | D25: TOTAL COSTO DIRECTO APROXIMADO AL PESO | E25: TOTAL COSTO DIRECTO APROXIMADO AL PESO | F25: 943173 | G25: =ROUND(SUM(G10,G17,G21,G24),0) -> 937812
A27: APA-02 | B27: MORTERO 1:4 IMPERMEABILIZADO | C27: Subanálisis de precio auxiliar | G27: m³
A28: TIPO | B28: CÓDIGO | C28: DESCRIPCIÓN | D28: UNIDAD | E28: TARIFA / BASE | F28: CONSUMO | G28: PARCIAL
A29: EQUIPO Y HERRAMIENTAS | B29: EQUIPO Y HERRAMIENTAS | C29: EQUIPO Y HERRAMIENTAS | D29: EQUIPO Y HERRAMIENTAS | E29: EQUIPO Y HERRAMIENTAS | F29: EQUIPO Y HERRAMIENTAS | G29: EQUIPO Y HERRAMIENTAS
A30: EQUIPO | B30: EQ-001 | C30: MEZCLADORA ELECT/GASOLINA 2BT | D30: h | E30: =ROUND(EQUIPOS!$E$6,0) -> 15000 | F30: 0.14705882 | G30: =ROUND(E30*F30,0) -> 2206
A31: EQUIPO | B31: AUTO | C31: HERRAMIENTA MENOR (5 % DE MANO DE OBRA) | D31: % | E31: =ROUND($G$43,0) -> 121146 | F31: 0.05 | G31: =ROUND(E31*F31,0) -> 6057
A32: SUBTOTAL EQUIPO Y HERRAMIENTAS | B32: SUBTOTAL EQUIPO Y HERRAMIENTAS | C32: SUBTOTAL EQUIPO Y HERRAMIENTAS | D32: SUBTOTAL EQUIPO Y HERRAMIENTAS | E32: SUBTOTAL EQUIPO Y HERRAMIENTAS | F32: SUBTOTAL EQUIPO Y HERRAMIENTAS | G32: =ROUND(SUM(G30:G31),0) -> 8263
A33: MATERIALES | B33: MATERIALES | C33: MATERIALES | D33: MATERIALES | E33: MATERIALES | F33: MATERIALES | G33: MATERIALES
A34: MATERIAL | B34: MAT-001 | C34: CEMENTO GRIS | D34: bulto | E34: =ROUND(INSUMOS!$E$6,0) -> 41983 | F34: 7.28 | G34: =ROUND(E34*F34,0) -> 305636
A35: MATERIAL | B35: MAT-002 | C35: ARENA LAVADA DE PEÑA | D35: m³ | E35: =ROUND(INSUMOS!$E$7,0) -> 160650 | F35: 1.16 | G35: =ROUND(E35*F35,0) -> 186354
A36: MATERIAL | B36: MAT-003 | C36: AGUA | D36: L | E36: =ROUND(INSUMOS!$E$8,0) -> 25 | F36: 220 | G36: =ROUND(E36*F36,0) -> 5500
A37: MATERIAL | B37: MAT-004 | C37: PLASTOCRETE | D37: gramos | E37: =ROUND(INSUMOS!$E$9,0) -> 32 | F37: 1820 | G37: =ROUND(E37*F37,0) -> 58240
A38: MATERIAL | B38: AUTO | C38: DESPERDICIO DE MATERIALES (5 %) | D38: % | E38: =ROUND(SUM($G$34:$G$37),0) -> 555730 | F38: 0.05 | G38: =ROUND(E38*F38,0) -> 27787
A39: SUBTOTAL MATERIALES | B39: SUBTOTAL MATERIALES | C39: SUBTOTAL MATERIALES | D39: SUBTOTAL MATERIALES | E39: SUBTOTAL MATERIALES | F39: SUBTOTAL MATERIALES | G39: =ROUND(SUM(G34:G38),0) -> 583517
A40: MANO DE OBRA | B40: MANO DE OBRA | C40: MANO DE OBRA | D40: MANO DE OBRA | E40: MANO DE OBRA | F40: MANO DE OBRA | G40: MANO DE OBRA
A41: MANO DE OBRA | B41: MO-001 | C41: Oficial | D41: día | E41: =ROUND('MANO DE OBRA'!$E$7,0) -> 176836 | F41: 0.14705882 | G41: =ROUND(E41*F41,0) -> 26005
A42: MANO DE OBRA | B42: MO-002 | C42: AYUDANTE | D42: día | E42: =ROUND('MANO DE OBRA'!$E$8,0) -> 107827 | F42: 0.88235294 | G42: =ROUND(E42*F42,0) -> 95141
...

Sheet INSUMOS
A1: MUNICIPIO DE DABEIBA – ANTIOQUIA | B1: MUNICIPIO DE DABEIBA – ANTIOQUIA | C1: MUNICIPIO DE DABEIBA – ANTIOQUIA | D1: MUNICIPIO DE DABEIBA – ANTIOQUIA | E1: MUNICIPIO DE DABEIBA – ANTIOQUIA
A2: CONSTRUCCIÓN DE AULA Y MEJORAMIENTO DE INFRAESTRUCTURA EXISTENTE DE LA INSTITUCIÓN EDUCATIVA DE LA VEREDA EL RETIRO DEL MUNICIPIO DE DABEIBA, ANTIOQUIA | B2: CONSTRUCCIÓN DE AULA Y MEJORAMIENTO DE INFRAESTRUCTURA EXISTENTE DE LA INSTITUCIÓN EDUCATIVA DE LA VEREDA EL RETIRO DEL MUNICIPIO DE DABEIBA, ANTIOQUIA | C2: CONSTRUCCIÓN DE AULA Y MEJORAMIENTO DE INFRAESTRUCTURA EXISTENTE DE LA INSTITUCIÓN EDUCATIVA DE LA VEREDA EL RETIRO DEL MUNICIPIO DE DABEIBA, ANTIOQUIA | D2: CONSTRUCCIÓN DE AULA Y MEJORAMIENTO DE INFRAESTRUCTURA EXISTENTE DE LA INSTITUCIÓN EDUCATIVA DE LA VEREDA EL RETIRO DEL MUNICIPIO DE DABEIBA, ANTIOQUIA | E2: CONSTRUCCIÓN DE AULA Y MEJORAMIENTO DE INFRAESTRUCTURA EXISTENTE DE LA INSTITUCIÓN EDUCATIVA DE LA VEREDA EL RETIRO DEL MUNICIPIO DE DABEIBA, ANTIOQUIA
A3: CATÁLOGO CONSOLIDADO DE MATERIALES E INSUMOS | B3: CATÁLOGO CONSOLIDADO DE MATERIALES E INSUMOS | C3: CATÁLOGO CONSOLIDADO DE MATERIALES E INSUMOS | D3: CATÁLOGO CONSOLIDADO DE MATERIALES E INSUMOS | E3: CATÁLOGO CONSOLIDADO DE MATERIALES E INSUMOS
A5: CÓDIGO | B5: CÓDIGO ORIG. | C5: DESCRIPCIÓN | D5: UNIDAD | E5: TARIFA
A6: MAT-001 | B6: 321 | C6: CEMENTO GRIS | D6: bulto | E6: 41983
A7: MAT-002 | B7: 319 | C7: ARENA LAVADA DE PEÑA | D7: m | E7: 160650
A8: MAT-003 | B8: 259 | C8: AGUA | D8: l | E8: 25
A9: MAT-004 | B9: 334 | C9: PLASTOCRETE | D9: gramos | E9: 32
A10: MAT-005 | B10: 126 | C10: GRAVILLA COMÚN DE RIO | D10: m | E10: 130900
A11: MAT-006 | B11: 1 | C11: DURMIENTE | D11: m | E11: 8925
A12: MAT-007 | B12: 2 | C12: ESMALTE PINTULUX DE PINTUCO | D12: gal | E12: 130781
A13: MAT-008 | B13: 3 | C13: PUNTILLA CON CABEZA 2 1/2" | D13: lb | E13: 6248
A14: MAT-009 | B14: 4 | C14: DISOLVENTE THINNER | D14: gal | E14: 66402
A15: MAT-010 | B15: 28 | C15: LISTON ORDINARIO 3 X 3 | D15: m | E15: 5500
A16: MAT-011 | B16: 343 | C16: TELA VERDE DE CERRAMIENTO H:2.00m | D16: m | E16: 3332
A17: MAT-012 | B17: 23 | C17: TABLA DE MADERA ORDINARIA PARA FORMALETA 3 m × 0,30 m × 0,02 m; TARIFA POR m LINEAL | D17: m lineal | E17: 25783
... A110: MAT-105 | B110: 436 | C110: PERFIL EN C 50X150X2mm | D110: kg | E110: 12000
A111: MAT-106 | C111: PERFIL PHR C 355 × 110 × 25 mm, ESPESOR 2,5 mm | D111: kg | E111: 11305

Sheet EQUIPOS
A1: MUNICIPIO DE DABEIBA – ANTIOQUIA | B1: MUNICIPIO DE DABEIBA – ANTIOQUIA | C1: MUNICIPIO DE DABEIBA – ANTIOQUIA | D1: MUNICIPIO DE DABEIBA – ANTIOQUIA | E1: MUNICIPIO DE DABEIBA – ANTIOQUIA
A2: CONSTRUCCIÓN DE AULA Y MEJORAMIENTO DE INFRAESTRUCTURA EXISTENTE DE LA INSTITUCIÓN EDUCATIVA DE LA VEREDA EL RETIRO DEL MUNICIPIO DE DABEIBA, ANTIOQUIA | B2: CONSTRUCCIÓN DE AULA Y MEJORAMIENTO DE INFRAESTRUCTURA EXISTENTE DE LA INSTITUCIÓN EDUCATIVA DE LA VEREDA EL RETIRO DEL MUNICIPIO DE DABEIBA, ANTIOQUIA | C2: CONSTRUCCIÓN DE AULA Y MEJORAMIENTO DE INFRAESTRUCTURA EXISTENTE DE LA INSTITUCIÓN EDUCATIVA DE LA VEREDA EL RETIRO DEL MUNICIPIO DE DABEIBA, ANTIOQUIA | D2: CONSTRUCCIÓN DE AULA Y MEJORAMIENTO DE INFRAESTRUCTURA EXISTENTE DE LA INSTITUCIÓN EDUCATIVA DE LA VEREDA EL RETIRO DEL MUNICIPIO DE DABEIBA, ANTIOQUIA | E2: CONSTRUCCIÓN DE AULA Y MEJORAMIENTO DE INFRAESTRUCTURA EXISTENTE DE LA INSTITUCIÓN EDUCATIVA DE LA VEREDA EL RETIRO DEL MUNICIPIO DE DABEIBA, ANTIOQUIA
A3: CATÁLOGO CONSOLIDADO DE EQUIPOS Y HERRAMIENTAS | B3: CATÁLOGO CONSOLIDADO DE EQUIPOS Y HERRAMIENTAS | C3: CATÁLOGO CONSOLIDADO DE EQUIPOS Y HERRAMIENTAS | D3: CATÁLOGO CONSOLIDADO DE EQUIPOS Y HERRAMIENTAS | E3: CATÁLOGO CONSOLIDADO DE EQUIPOS Y HERRAMIENTAS
A5: CÓDIGO | B5: CÓDIGO ORIG. | C5: DESCRIPCIÓN | D5: UNIDAD | E5: TARIFA
A6: EQ-001 | B6: 7 | C6: MEZCLADORA ELECT/GASOLINA 2BT | D6: h | E6: 15000
A7: EQ-002 | B7: 3 | C7: Escalera Tijera Aluminio 2m (7 peldaños) | D7: día | E7: 15000
A8: EQ-003 | B8: 6 | C8: BENITIN (Vibrocompactador Monocilindro) | D8: día | E8: 241800
A9: EQ-004 | B9: 7 | C9: MEZCLADORA ELECT/GASOLINA 2BT | D9: día | E9: 87000
A10: EQ-005 | B10: 8 | C10: BANCA | D10: día | E10: 50000
A11: EQ-006 | B11: 16 | C11: CORTADORA | D11: día | E11: 57120
A12: EQ-007 | B12: 24 | C12: TALADRO INCLUYE BROCA | D12: día | E12: 35000
A13: EQ-008 | C13: Pinza voltiamperimetrica | D13: día | E13: 388
A14: EQ-009 | C14: Pala-cuchara | D14: día | E14: 105
A15: EQ-010 | C15: Pico y Pala | D15: día | E15: 75
A16: EQ-011 | C16: Herramienta de impacto | D16: día | E16: 3752
A17: EQ-012 | C17: Chispero, molde y pinza conexión p.a.t. | D17: día | E17: 1211
A18: EQ-013 | C18: Cizalla 18" | D18: día | E18: 237
A19: EQ-014 | B19: 17 | C19: EQUIPO-TALLER DE ORNAMENTACION | D19: día | E19: 360000
A20: EQ-015 | B20: 4 | C20: ANDAMIO SECCION | D20: s/m | E20: 25000
A21: EQ-016 | B21: 5 | C21: PLANCHON ORDINARIO 3m ALQ | D21: s/m | E21: 295
A22: EQ-017 | B22: 15 | C22: PULIDORA | D22: día | E22: 27500

Sheet MANO DE OBRA
A1: MUNICIPIO DE DABEIBA – ANTIOQUIA
A2: CONSTRUCCIÓN DE AULA Y MEJORAMIENTO DE INFRAESTRUCTURA EXISTENTE DE LA INSTITUCIÓN EDUCATIVA DE LA VEREDA EL RETIRO DEL MUNICIPIO DE DABEIBA, ANTIOQUIA | L2: PARÁMETROS SALARIALES
A3: CATÁLOGO CONSOLIDADO DE MANO DE OBRA | L3: SMMLV 2026 | M3: 1750905
L4: Auxilio transporte | M4: 249095
L5: Días / mes | M5: 30
A6: CÓDIGO | B6: CÓDIGO ORIG. | C6: DESCRIPCIÓN | D6: UNIDAD | E6: TARIFA | L6: Factor prest. > 2 SMMLV | M6: 0.6054
A7: MO-001 | B7: 2 | C7: OFICIAL | D7: día | E7: 176836 | L7: Factor prest. ≤ 2 SMMLV | M7: 0.76939877
A8: MO-002 | B8: 1 | C8: AYUDANTE | D8: día | E8: 107827 | L8: FACTOR PRESTACIONAL | M8: RIESGO V | N8: RIESGO I | O8: RIESGO V
A9: MO-003 | B9: 3 | C9: TOPOGRAFO | D9: día | E9: 251576 | L9: RANGO SALARIAL | M9: ≤ 2 SMMLV | N9: ≤ 2 SMMLV | O9: > 2 SMMLV
A10: MO-004 | B10: 4 | C10: CADENERO | D10: día | E10: 196251
A11: MO-005 | B11: 1 | C11: AYUDANTE | D11: día | E11: 107973 | L11: AUXILIO TRANSPORTE | M11: =$M$4/$M$3 -> 0.14226643 | N11: =$M$4/$M$3 -> 0.14226643 | O11: 0
A12: MO-006 | B12: 2 | C12: OFICIAL | D12: día | E12: 177075 | L12: CESANTÍAS | M12: 0.0833 | N12: 0.0833 | O12: 0.0833
A13: MO-007 | B13: 2 | C13: OFICIAL ESPECIALIZADO CERTIFICADO PARA TRABAJO EN ALTURAS | D13: día | E13: 177075 | L13: INT. CESANTÍAS | M13: 0.01 | N13: 0.01 | O13: 0.01
A14: MO-008 | B14: 1 | C14: AYUDANTE CERTIFICADO PARA TRABAJO EN ALTURAS | D14: día | E14: 107973 | L14: PRIMA | M14: 0.0833 | N14: 0.0833 | O14: 0.0833
A15: MO-009 | B15: 5 | C15: OFICIAL ELÉCTRICO | D15: día | E15: 164541 | L15: VACACIONES | M15: 0.0417 | N15: 0.0417 | O15: 0.0417
A16: MO-010 | B16: 6 | C16: AYUDANTE ELÉCTRICO | D16: día | E16: 83958 | L16: SENA | M16: 0.02 | N16: 0.02 | O16: 0.02
A17: MO-011 | B17: 2 | C17: OFICIAL ELÉCTRICO | D17: día | E17: 177075 | L17: ICBF | M17: 0.03 | N17: 0.03 | O17: 0.03
A18: MO-012 | B18: 1 | C18: AYUDANTE ELÉCTRICO | D18: día | E18: 107973 | L18: CAJAS | M18: 0.04 | N18: 0.04 | O18: 0.04
A19: MO-013 | B19: 2 | C19: OFICIAL ORNAMENTADOR | D19: día | E19: 177075 | L19: FIC | M19: 0.0025 | N19: 0.0025 | O19: 0.0025
A20: MO-014 | B20: 1 | C20: AYUDANTE DE ORNAMENTACIÓN | D20: día | E20: 107973 | L20: SALUD | M20: 0.085 | N20: 0.085 | O20: 0.085
A21: MO-015 | B21: 2 | C21: PINTOR | D21: día | E21: 177075 | L21: PENSIONES | M21: 0.12 | N21: 0.12 | O21: 0.12
A22: MO-016 | B22: 1 | C22: AYUDANTE DE PINTURA | D22: día | E22: 107973 | L22: ARP | M22: 0.0696 | N22: 0.0052 | O22: 0.0696
A23: MO-017 | B23: 2 | C23: OFICIAL PLOMERO | D23: día | E23: 177075 | L23: DOTACIÓN | M23: 0.0335 | N23: 0.0335 | O23: 0.01
A24: MO-018 | B24: 1 | C24: AYUDANTE PLOMERO | D24: día | E24: 107973 | L24: EXÁMENES MÉDICOS INGRESO Y RETIRO | M24: 0.01 | N24: 0.01 | O24: 0.01
L26: TOTAL FACTOR PRESTACIONAL | M26: =SUM(M11:M24) -> 0.77116643 | N26: =SUM(N11:N24) -> 0.70676643 | O26: =SUM(O11:O24) -> 0.6054
A27: PERFILES PROFESIONALES Y ADMINISTRATIVOS – BASE COS
A28: CÓDIGO | B28: CARGO | C28: CLASE | D28: # SMMLV | E28: SALARIO BASE | F28: % PREST. | G28: SALARIO + PREST. | H28: JORNAL BASE
A29: ADM-001 | B29: DIRECTOR DE OBRA | C29: ADMINISTRATIVO | D29: 5.2682413 | E29: =ROUND(D29*$M$3,0) -> 9224190 | F29: =IF(D29>2,$M$6,$M$7) -> 0.6054 | G29: =ROUND(E29*(1+F29),0) -> 14808515 | H29: =ROUND(E29/$M$5,0) -> 307473
A30: ADM-002 | B30: RESIDENTE DE OBRA | C30: ADMINISTRATIVO | D30: 2.33 | E30: =ROUND(D30*$M$3,0) -> 4079609 | F30: =IF(D30>2,$M$6,$M$7) -> 0.6054 | G30: =ROUND(E30*(1+F30),0) -> 6549404 | H30: =ROUND(E30/$M$5,0) -> 135987
A31: ADM-003 | B31: TECNÓLOGO AMBIENTAL | C31: ADMINISTRATIVO | D31: 1.55 | E31: =ROUND(D31*$M$3,0) -> 2713903 | F31: =IF(D31>2,$M$6,$M$7) -> 0.76939877 | G31: =ROUND(E31*(1+F31),0) -> 4801977 | H31: =ROUND(E31/$M$5,0) -> 90463
A32: ADM-004 | B32: TECNÓLOGO SST | C32: ADMINISTRATIVO | D32: 1.55 | E32: =ROUND(D32*$M$3,0) -> 2713903 | F32: =IF(D32>2,$M$6,$M$7) -> 0.76939877 | G32: =ROUND(E32*(1+F32),0) -> 4801977 | H32: =ROUND(E32/$M$5,0) -> 90463
A33: ADM-005 | B33: AUXILIAR DE RESIDENCIA / ENCARGADO | C33: ADMINISTRATIVO | D33: 1.8176007 | E33: =ROUND(D33*$M$3,0) -> 3182446 | F33: =IF(D33>2,$M$6,$M$7) -> 0.76939877 | G33: =ROUND(E33*(1+F33),0) -> 5631016 | H33: =ROUND(E33/$M$5,0) -> 106082
A34: ADM-006 | B34: VIGILANTE / ENCARGADO DE CAMPAMENTO | C34: ADMINISTRATIVO | D34: 2.16 | E34: =ROUND(D34*$M$3,0) -> 3781955 | F34: =IF(D34>2,$M$6,$M$7) -> 0.6054 | G34: =ROUND(E34*(1+F34),0) -> 6071551 | H34: =ROUND(E34/$M$5,0) -> 126065
A35: ADM-007 | B35: ALMACENISTA | C35: ADMINISTRATIVO | D35: 1.8176007 | E35: =ROUND(D35*$M$3,0) -> 3182446 | F35: =IF(D35>2,$M$6,$M$7) -> 0.76939877 | G35: =ROUND(E35*(1+F35),0) -> 5631016 | H35: =ROUND(E35/$M$5,0) -> 106082
A36: ADM-008 | B36: PERSONAL ADMINISTRATIVO | C36: ADMINISTRATIVO | D36: 1.72 | E36: =ROUND(D36*$M$3,0) -> 3011557 | F36: =IF(D36>2,$M$6,$M$7) -> 0.76939877 | G36: =ROUND(E36*(1+F36),0) -> 5328645 | H36: =ROUND(E36/$M$5,0) -> 100385
A37: INT-001 | B37: DIRECTOR DE INTERVENTORÍA | C37: INTERVENTORÍA | D37: 5.2682413 | E37: =ROUND(D37*$M$3,0) -> 9224190 | F37: =IF(D37>2,$M$6,$M$7) -> 0.6054 | G37: =ROUND(E37*(1+F37),0) -> 14808515 | H37: =ROUND(E37/$M$5,0) -> 307473
A38: INT-002 | B38: RESIDENTE DE INTERVENTORÍA | C38: INTERVENTORÍA | D38: 2.33 | E38: =ROUND(D38*$M$3,0) -> 4079609 | F38: =IF(D38>2,$M$6,$M$7) -> 0.6054 | G38: =ROUND(E38*(1+F38),0) -> 6549404 | H38: =ROUND(E38/$M$5,0) -> 135987
A39: INT-003 | B39: AUXILIAR DE RESIDENCIA | C39: INTERVENTORÍA | D39: 1.8176007 | E39: =ROUND(D39*$M$3,0) -> 3182446 | F39: =IF(D39>2,$M$6,$M$7) -> 0.76939877 | G39: =ROUND(E39*(1+F39),0) -> 5631016 | H39: =ROUND(E39/$M$5,0) -> 106082
A40: INT-004 | B40: PROFESIONAL SST | C40: INTERVENTORÍA | D40: 1.8176007 | E40: =ROUND(D40*$M$3,0) -> 3182446 | F40: =IF(D40>2,$M$6,$M$7) -> 0.76939877 | G40: =ROUND(E40*(1+F40),0) -> 5631016 | H40: =ROUND(E40/$M$5,0) -> 106082
... A43: ADM-009 | B43: COORDINADOR DE PROYECTO | C43: ADMINISTRATIVO | D43: 5.2682413 | E43: =ROUND(D43*$M$3,0) -> 9224190 | F43: =IF(D43>2,$M$6,$M$7) -> 0.6054 | G43: =ROUND(E43*(1+F43),0) -> 14808515 | H43: =ROUND(E43/$M$5,0) -> 307473

Sheet TRANSPORTE
A1: MUNICIPIO DE DABEIBA – ANTIOQUIA | B1: MUNICIPIO DE DABEIBA – ANTIOQUIA | C1: MUNICIPIO DE DABEIBA – ANTIOQUIA | D1: MUNICIPIO DE DABEIBA – ANTIOQUIA | E1: MUNICIPIO DE DABEIBA – ANTIOQUIA
A2: CONSTRUCCIÓN DE AULA Y MEJORAMIENTO DE INFRAESTRUCTURA EXISTENTE DE LA INSTITUCIÓN EDUCATIVA DE LA VEREDA EL RETIRO DEL MUNICIPIO DE DABEIBA, ANTIOQUIA | B2: CONSTRUCCIÓN DE AULA Y MEJORAMIENTO DE INFRAESTRUCTURA EXISTENTE DE LA INSTITUCIÓN EDUCATIVA DE LA VEREDA EL RETIRO DEL MUNICIPIO DE DABEIBA, ANTIOQUIA | C2: CONSTRUCCIÓN DE AULA Y MEJORAMIENTO DE INFRAESTRUCTURA EXISTENTE DE LA INSTITUCIÓN EDUCATIVA DE LA VEREDA EL RETIRO DEL MUNICIPIO DE DABEIBA, ANTIOQUIA | D2: CONSTRUCCIÓN DE AULA Y MEJORAMIENTO DE INFRAESTRUCTURA EXISTENTE DE LA INSTITUCIÓN EDUCATIVA DE LA VEREDA EL RETIRO DEL MUNICIPIO DE DABEIBA, ANTIOQUIA | E2: CONSTRUCCIÓN DE AULA Y MEJORAMIENTO DE INFRAESTRUCTURA EXISTENTE DE LA INSTITUCIÓN EDUCATIVA DE LA VEREDA EL RETIRO DEL MUNICIPIO DE DABEIBA, ANTIOQUIA
A3: CATÁLOGO CONSOLIDADO DE TRANSPORTE | B3: CATÁLOGO CONSOLIDADO DE TRANSPORTE | C3: CATÁLOGO CONSOLIDADO DE TRANSPORTE | D3: CATÁLOGO CONSOLIDADO DE TRANSPORTE | E3: CATÁLOGO CONSOLIDADO DE TRANSPORTE
A5: CÓDIGO | B5: CÓDIGO ORIG. | C5: DESCRIPCIÓN | D5: UNIDAD | E5: TARIFA
A6: TR-001 | B6: 11 | C6: ARENA LAVADA | D6: m³·km | E6: 1000
A7: TR-002 | B7: 6 | C7: TRITURADO | D7: m³·km | E7: 1000
A8: TR-003 | B8: 1 | C8: ARENA DE CONCRETO | D8: m³·km | E8: 1000
A9: TR-004 | C9: Vehículo transporte personal | D9: día | E9: 126000
A10: TR-005 | C10: Camión pequeño (1-3.5 Ton) | D10: día | E10: 653
A11: TR-006 | C11: Tractomula | D11: día | E11: 653
A12: TR-007 | C12: TRANSPORTE DE CUBIERTA HASTA CER EL RETIRO, DABEIBA; POR m² INSTALADO | D12: m² | E12: 25000

Sheet FORM-AU
A1: MUNICIPIO DE DABEIBA – ANTIOQUIA
A2: CONSTRUCCIÓN DE AULA Y MEJORAMIENTO DE INFRAESTRUCTURA EXISTENTE DE LA INSTITUCIÓN EDUCATIVA DE LA VEREDA EL RETIRO DEL MUNICIPIO DE DABEIBA, ANTIOQUIA
A3: CÁLCULO DETALLADO DE ADMINISTRACIÓN Y UTILIDAD – ESTRUCTURA COS
A5: ÍTEM | B5: DESCRIPCIÓN | C5: UNIDAD | D5: CANT. | E5: VALOR MENSUAL / UNIT. | F5: FACTOR PREST. | G5: DEDICACIÓN | H5: MESES | I5: VALOR REFERENCIAL | J5: FACTOR AJUSTE | K5: VALOR ADOPTADO | L5: % COSTO DIRECTO
B6: BASE: COSTO DIRECTO CORREGIDO | K6: =ROUND(ACTIVIDADES!$H$145,0) -> 397544413 | L6: =1 -> 1
B7: ADMINISTRACIÓN DE REFERENCIA DEL PRESUPUESTO BASE (25 %) | J7: 0.25 | K7: =ROUND($K$6*$J$7,0) -> 99386103 | L7: =K7/$K$6 -> 0.25
B8: UTILIDAD | J8: 0.05 | K8: =ROUND($K$6*$J$8,0) -> 19877221 | L8: =K8/$K$6 -> 0.050000001
A10: 1. PERSONAL PROFESIONAL Y TÉCNICO
A11: 1 | B11: Profesional Director de Obra | C11: mes | D11: 0 | E11: =ROUND('MANO DE OBRA'!$E$29,0) -> 9224190 | F11: =1+'MANO DE OBRA'!$F$29 -> 1.6054 | G11: 0.3 | H11: 5 | I11: =ROUND(D11*E11*F11*G11*H11,0) -> 0 | J11: =$J$56 -> 1 | K11: =ROUND(I11*J11,0) -> 0 | L11: =IFERROR(K11/$K$6,0) -> 0
A12: 2 | B12: Profesional Residente de Obra | C12: mes | D12: 1 | E12: =ROUND('MANO DE OBRA'!$E$30,0) -> 4079609 | F12: =1+'MANO DE OBRA'!$F$30 -> 1.6054 | G12: 1 | H12: 5 | I12: =ROUND(D12*E12*F12*G12*H12,0) -> 32747021 | J12: =$J$56 -> 1 | K12: =ROUND(I12*J12,0) -> 32747021 | L12: =IFERROR(K12/$K$6,0) -> 0.082373239
A13: 3 | B13: Tecnólogo Ambiental | C13: mes | D13: 0 | E13: =ROUND('MANO DE OBRA'!$E$31,0) -> 2713903 | F13: =1+'MANO DE OBRA'!$F$31 -> 1.7693988 | G13: 0.5 | H13: 5 | I13: =ROUND(D13*E13*F13*G13*H13,0) -> 0 | J13: =$J$56 -> 1 | K13: =ROUND(I13*J13,0) -> 0 | L13: =IFERROR(K13/$K$6,0) -> 0
A14: 4 | B14: Tecnólogo SST | C14: mes | D14: 1 | E14: =ROUND('MANO DE OBRA'!$E$32,0) -> 2713903 | F14: =1+'MANO DE OBRA'!$F$32 -> 1.7693988 | G14: 0.5 | H14: 5 | I14: =ROUND(D14*E14*F14*G14*H14,0) -> 12004942 | J14: =$J$56 -> 1 | K14: =ROUND(I14*J14,0) -> 12004942 | L14: =IFERROR(K14/$K$6,0) -> 0.030197738
B15: SUBTOTAL 1. PERSONAL PROFESIONAL Y TÉCNICO | I15: =ROUND(SUM(I11:I14),0) -> 44751963 | K15: =ROUND(SUM(K11:K14),0) -> 44751963 | L15: =K15/$K$6 -> 0.11257098
A16: 2. PERSONAL TÉCNICO NO PROFESIONAL
A17: 5 | B17: Encargado de Obra / Auxiliar de Residencia | C17: mes | D17: 0 | E17: =ROUND('MANO DE OBRA'!$E$33,0) -> 3182446 | F17: =1+'MANO DE OBRA'!$F$33 -> 1.7693988 | G17: 1 | H17: 5 | I17: =ROUND(D17*E17*F17*G17*H17,0) -> 0 | J17: =$J$56 -> 1 | K17: =ROUND(I17*J17,0) -> 0 | L17: =IFERROR(K17/$K$6,0) -> 0
A18: 6 | B18: Encargado de Campamento / Vigilante | C18: mes | D18: 0 | E18: =ROUND('MANO DE OBRA'!$E$34,0) -> 3781955 | F18: =1+'MANO DE OBRA'!$F$34 -> 1.6054 | G18: 1 | H18: 5 | I18: =ROUND(D18*E18*F18*G18*H18,0) -> 0 | J18: =$J$56 -> 1 | K18: =ROUND(I18*J18,0) -> 0 | L18: =IFERROR(K18/$K$6,0) -> 0
A19: 7 | B19: Almacenista | C19: mes | D19: 0 | E19: =ROUND('MANO DE OBRA'!$E$35,0) -> 3182446 | F19: =1+'MANO DE OBRA'!$F$35 -> 1.7693988 | G19: 1 | H19: 5 | I19: =ROUND(D19*E19*F19*G19*H19,0) -> 0 | J19: =$J$56 -> 1 | K19: =ROUND(I19*J19,0) -> 0 | L19: =IFERROR(K19/$K$6,0) -> 0
B20: SUBTOTAL 2. PERSONAL TÉCNICO NO PROFESIONAL | I20: =ROUND(SUM(I17:I19),0) -> 0 | K20: =ROUND(SUM(K17:K19),0) -> 0 | L20: =K20/$K$6 -> 0
A21: 3. GASTOS DE OFICINA CENTRAL
A22: 8 | B22: Secretaría de oficina central | C22: mes | D22: 0 | E22: =ROUND('MANO DE OBRA'!$E$36,0) -> 3011557 | F22: =1+'MANO DE OBRA'!$F$36 -> 1.7693988 | G22: 0.05 | H22: 5 | I22: =ROUND(D22*E22*F22*G22*H22,0) -> 0 | J22: =$J$56 -> 1 | K22: =ROUND(I22*J22,0) -> 0 | L22: =IFERROR(K22/$K$6,0) -> 0
