Workbook

Sheet Estudio del Sector - Soacha
B2: ESTUDIO DE REFERENCIACION DE MERCADO
B3: OTROS COSTOS DIRECTOS - INTERVENTORIA SEDE INMLCF SOACHA
B5: Metodologia: se identificaron veintiseis (26) procesos de contratacion de interventoria de obra publica, adjudicados durante la vigencia 2026 por entidades del orden territorial y nacional, cuyo objeto es comparable con el de la interventoria de la sede del INMLCF en Soacha. De cada proceso se extrajeron los valores mensuales de los rubros de 'Otros Costos Directos' y se determino el rango de mercado (valor minimo y maximo observado) para cada rubro. Con base en ese rango se verifico si el valor estimado para Soacha se encuentra dentro de las condiciones actuales del mercado. El detalle de los procesos y la fuente de cada dato se encuentra en la hoja 'Datos Consolidados'.
B10: Rubro (Otros Costos Directos) | C10: Valor Soacha | D10: Minimo de mercado | E10: Maximo de mercado | F10: Referencias con dato | G10: Dentro del rango de mercado
B11: Comision de topografia (Topografo + 2 cadeneros + estacion) | C11: ='Datos Consolidados'!E5 -> 9104725 | D11: =MIN('Datos Consolidados'!E6:E31) -> 4700000 | E11: =MAX('Datos Consolidados'!E6:E31) -> 15000000 | F11: =COUNT('Datos Consolidados'!E6:E31) -> 11 | G11: =IF(AND(C11>=D11,C11<=E11),"SI - dentro del rango","NO - fuera del rango") -> SI - dentro del rango
B12: Ensayos de laboratorio | C12: ='Datos Consolidados'!F5 -> 1953978 | D12: =MIN('Datos Consolidados'!F6:F31) -> 289880.67 | E12: =MAX('Datos Consolidados'!F6:F31) -> 19865238 | F12: =COUNT('Datos Consolidados'!F6:F31) -> 17 | G12: =IF(AND(C12>=D12,C12<=E12),"SI - dentro del rango","NO - fuera del rango") -> SI - dentro del rango
B13: Gastos de oficina (papeleria, fotocopias, etc.) | C13: ='Datos Consolidados'!G5 -> 470000 | D13: =MIN('Datos Consolidados'!G6:G31) -> 16771 | E13: =MAX('Datos Consolidados'!G6:G31) -> 3414863 | F13: =COUNT('Datos Consolidados'!G6:G31) -> 19 | G13: =IF(AND(C13>=D13,C13<=E13),"SI - dentro del rango","NO - fuera del rango") -> SI - dentro del rango
B14: Alquiler de portatil / equipo de computo | C14: ='Datos Consolidados'!H5 -> 150941.87 | D14: =MIN('Datos Consolidados'!H6:H31) -> 104889 | E14: =MAX('Datos Consolidados'!H6:H31) -> 350000 | F14: =COUNT('Datos Consolidados'!H6:H31) -> 8 | G14: =IF(AND(C14>=D14,C14<=E14),"SI - dentro del rango","NO - fuera del rango") -> SI - dentro del rango
B15: Transporte | C15: ='Datos Consolidados'!I5 -> 3465868.4 | D15: =MIN('Datos Consolidados'!I6:I31) -> 339300 | E15: =MAX('Datos Consolidados'!I6:I31) -> 9898588.2 | F15: =COUNT('Datos Consolidados'!I6:I31) -> 16 | G15: =IF(AND(C15>=D15,C15<=E15),"SI - dentro del rango","NO - fuera del rango") -> SI - dentro del rango
B17: Conclusion: los cinco (5) rubros de Otros Costos Directos estimados para la interventoria de Soacha se encuentran dentro del rango de valores observado en los procesos comparables de interventoria de obra publica adjudicados en 2026, por lo que se consideran razonables y ajustados a las condiciones actuales del mercado.
B21: Rubro | C21: Minimo de mercado | D21: Valor Soacha | E21: Maximo de mercado
B22: Comision de topografia | C22: =D11 -> 4700000 | D22: =C11 -> 9104725 | E22: =E11 -> 15000000
B23: Ensayos de laboratorio | C23: =D12 -> 289880.67 | D23: =C12 -> 1953978 | E23: =E12 -> 19865238
B24: Gastos de oficina | C24: =D13 -> 16771 | D24: =C13 -> 470000 | E24: =E13 -> 3414863
B25: Alquiler de portatil / equipo de computo | C25: =D14 -> 104889 | D25: =C14 -> 150941.87 | E25: =E14 -> 350000
B26: Transporte | C26: =D15 -> 339300 | D26: =C15 -> 3465868.4 | E26: =E15 -> 9898588.2
B50: VALOR TOTAL DE LA INTERVENTORIA (POE) FRENTE AL MERCADO
B51: Adicionalmente al analisis por rubro de Otros Costos Directos, se verifico el valor total del presupuesto oficial de la interventoria de Soacha frente al valor total (POE) de los 26 procesos comparables, dato incorporado por la usuaria en la hoja 'Referencias de Mercado'.
B54: Concepto | C54: Valor Soacha | D54: Minimo de mercado | E54: Maximo de mercado | F54: Referencias con dato | G54: Dentro del rango de mercado
B55: Valor Total de la Interventoria (POE) | C55: ='Datos Consolidados'!J5 -> 2686659287 | D55: =MIN('Datos Consolidados'!J6:J31) -> 259300657 | E55: =MAX('Datos Consolidados'!J6:J31) -> 15592469940 | F55: =COUNT('Datos Consolidados'!J6:J31) -> 26 | G55: =IF(AND(C55>=D55,C55<=E55),"SI - dentro del rango","NO - fuera del rango") -> SI - dentro del rango

Sheet Referencias de Mercado
A1: ESTUDIO DE REFERENCIACION DE MERCADO
A2: REFERENCIAS DE MERCADO - DETALLE POR PROCESO (OTROS COSTOS DIRECTOS)
A3: Detalle, proceso por proceso, de los valores mensuales de Otros Costos Directos identificados en veintiseis (26) procesos de interventoria de obra publica adjudicados en 2026, mas el proceso propio de Soacha (fila resaltada). Cuando el proceso de origen discrimina la comision de topografia en equipo + topografo + cadenero, se muestran los tres componentes y el total consolidado (equipo + topografo + 2 cadeneros). Esta hoja es la fuente de los datos usados en 'Datos Consolidados' y en 'Estudio del Sector - Soacha'.
A6: No. | B6: Codigo proceso | C6: Entidad | D6: Objeto del proceso | E6: Documento fuente | F6: Topografia Equipo | G6: Topografia Topografo | H6: Topografia Cadenero (c/u) | I6: Topografia TOTAL | J6: Ensayos de Laboratorio | K6: Gastos de Oficina | L6: Alquiler Portatil | M6: Transporte | N6: Valor Total del Proceso (POE)
A7: 0 | B7: N/A - proceso propio | C7: INMLCF | D7: REALIZAR LA INTERVENTORIA TECNICA, ADMINISTRATIVA, CONTABLE, FINANCIERA Y JURIDICA AL CONTRATO RESULTANTE DEL PROCESO DE SELECCION CUYO OBJETO ES LA EJECUCION DE LA CONSTRUCCION Y DOTACION DE LA SEDE DEL INSTITUTO NACIONAL DE MEDICINA LEGAL Y CIENCIAS FORENSES, UBICADA EN EL MUNICIPIO DE SOACHA CUNDINAMARCA, ASI COMO EL AJUSTE DE LOS ESTUDIOS Y DISENOS ACTUALES | E7: 3 Ppto INTERVENTORIA SOACHA V4 31082026.xlsm | I7: 9104725 | J7: 1953978 | K7: 470000 | L7: 150941.87 | M7: 3465868.4 | N7: 2686659287
A8: 1 | B8: 4151.010.32.1.0706-2026 | C8: ALCALDIA DE SANTIAGO DE CALI | D8: REALIZAR LA INTERVENTORIA TECNICA, ADMINISTRATIVA, JURIDICA, FINANCIERA, AMBIENTAL Y CONTABLE A LOS CONTRATOS DE OBRA QUE RESULTEN ADJUDICADOS EN EL PROCESO DE LICITACION PUBLICA No. 4151.010.32.1.0700-2026, CUYO OBJETO ES: REALIZAR OBRAS DE MEJORAMIENTO, MANTENIMIENTO VIAL Y OBRAS DE DRENAJE EN ZONA URBANA Y ZONA RURAL DEL DISTRITO ESPECIAL DE SANTIAGO DE CALI | E8: ADENDA 2 - 8. CCE-EICP-FM-70 Formulario 1-Propuesta economica v3 2026.xlsx | F8: 2000000 | G8: 4070404 | H8: 1800000 | I8: 9670404 | J8: 3080000 | K8: 700000 | L8: 350000 | M8: 6500000 | N8: 2527502010
A9: 2 | B9: 20005534 | C9: ALCALDIA DE MEDELLIN | D9: REALIZAR LOS ESTUDIOS Y DISENOS REQUERIDOS PARA LA INTERVENCION, MODERNIZACION Y ADAPTACION FUNCIONAL DE LA INFRAESTRUCTURA VIAL Y PEATONAL DEL TERRITORIO, MEJORANDO LA ACCESIBILIDAD, SEGURIDAD Y SOSTENIBILIDAD EN LA MOVILIDAD | E9: 5. Presupuesto Oficial.pdf | K9: 525000 | L9: 158000 | M9: 6525588.2 | N9: 3879163955
A10: 3 | B10: CM-004-2026 | C10: ALCALDIA DE MANIZALES | D10: INTERVENTORIA TECNICA, ADMINISTRATIVA, FINANCIERA Y JURIDICA A LA CONSTRUCCION DE INFRAESTRUCTURA VIAL Y DE ESPACIO PUBLICO PARA EL MEJORAMIENTO DE ACCESOS A LOS BARRIOS LA FRANCIA Y LOS ALCAZARES DE LA CIUDAD DE MANIZALES | E10: PPTO-OFICIAL-INTERV-LA-FRANCIA CM-004.XLSX | I10: 15000000 | J10: 500000 | K10: 450000 | N10: 3096446962
A11: 4 | B11: CM005-2026 | C11: GOBERNACION DE NARINO | D11: INTERVENTORIA TECNICA, ADMINISTRATIVA, FINANCIERA, CONTABLE, AMBIENTAL, JURIDICA Y SOCIAL AL PROYECTO DENOMINADO OBRAS DE OPTIMIZACION Y AMPLIACION DEL SISTEMA DE ACUEDUCTO DEL DISTRITO ESPECIAL DE TUMACO, OPTIMIZACION Y AMPLIACION PLANTA DE TRATAMIENTO DE AGUA POTABLE Y SISTEMA SCADA FASE III | E11: Presupuesto interventoria PTAP Tumaco.pdf | F11: 2142000 | G11: 3501810 | H11: 1750905 | I11: 9145620 | K11: 1199778 | L11: 171360 | M11: 5620588.2 | N11: 3384836099
A12: 5 | B12: CM-2026-002 | C12: CORPORACION AUTONOMA REGIONAL DEL ATLANTICO C.R.A. | D12: INTERVENTORIA TECNICA, ADMINISTRATIVA Y FINANCIERA DEL CONTRATO CUYO OBJETO ES RECUPERACION AMBIENTAL DEL TRAMO FINAL DEL ARROYO PLATANAL Y CANO SOLEDAD MEDIANTE LA RECTIFICACION, ADECUACION HIDRAULICA Y OBRAS COMPLEMENTARIAS, EN EL MUNICIPIO DE SOLEDAD, DEPARTAMENTO DEL ATLANTICO | E12: 7a. Presupuesto Interventoria Soledad 2026 FF ETAPA 1.pdf | F12: 2500000 | G12: 3652370.3 | H12: 1826185.1 | I12: 9804740.6 | J12: 19865238 | K12: 124376 | M12: 6872344.1 | N12: 6372289354
A13: 6 | B13: CMA-SID-002-2026 | C13: ALCALDIA MAYOR DE CARTAGENA DE INDIAS | D13: INTERVENTORIA INTEGRAL AL PROYECTO CONSTRUCCION Y REHABILITACION EN PAVIMENTO RIGIDO DE TRAMOS VIALES DE LA LOCALIDAD DE LA VIRGEN Y TURISTICA DEL DISTRITO DE CARTAGENA DE INDIAS | E13: CCE-EICP-FM-70 Formulario 1-Propuesta economica v3 12-12-2024 Definitivo.xlsx | F13: 2500000 | G13: 2800000 | H13: 1800000 | I13: 8900000 | J13: 7644468.5 | K13: 2800000 | M13: 6268588.2 | N13: 3100561726
A14: 7 | B14: CM-A-001-2026 | C14: REGION ADMINISTRATIVA Y DE PLANIFICACION ESPECIAL, RAP-E | D14: REALIZAR LA INTERVENTORIA TECNICA, ADMINISTRATIVA, FINANCIERA, JURIDICA Y CONTABLE AL CONTRATO CUYO OBJETO ES: IMPLEMENTAR ACCIONES DE RESTAURACION ECOLOGICA Y CONSERVACION PARTICIPATIVA ORIENTADAS AL FORTALECIMIENTO DE LA CONECTIVIDAD ECOSISTEMICA Y LA GESTION INTEGRAL DEL RECURSO HIDRICO EN LA CUENCA DEL RIO BOGOTA | E14: 09 PRESUPUESTO OFICIAL.pdf | M14: 5648639.2 | N14: 6279691895
A15: 8 | B15: CMA-SEGD-001-2026 | C15: DISTRITO DE CARTAGENA DE INDIAS | D15: INTERVENTORIA INTEGRAL AL PROYECTO OBRAS DE MEJORAMIENTO, MANTENIMIENTO Y ADECUACION EN LAS INSTITUCIONES EDUCATIVAS OFICIALES DEL DISTRITO DE CARTAGENA | E15: Formulario 1 - Propuesta Economica Infraestructura Social Int LOTE 1 (1).XLSX | F15: 3000000 | G15: 3500000 | H15: 2500000 | I15: 11500000 | J15: 9488692.3 | K15: 2500000 | N15: 5602545498
A16: 9 | B16: CMA-SICC-001-2026 | C16: SECRETARIA DEL INTERIOR Y CONVIVENCIA CIUDADANA | D16: COMPLEMENTACION, AJUSTE, ELABORACION DE ESTUDIOS Y DISENOS DEFINITIVOS Y EJECUCION DE LA OBRA DE CONSTRUCCION Y DOTACION DE CASAS DE JUSTICIA DEL DISTRITO DE CARTAGENA | E16: Formulario 1- Formulario de oferta economica.xlsx | J16: 11000000 | K16: 3414863 | M16: 6268588.2 | N16: 3323899600
A17: 10 | B17: CMA-SIM-002-2026 | C17: MUNICIPIO DE MONTERIA | D17: INTERVENTORIA TECNICA, ADMINISTRATIVA, FINANCIERA, JURIDICA Y CONTABLE A LA CONSTRUCCION DE PARQUE BOTANICO LAS LAGUNAS DE MONTERIA EN EL MUNICIPIO DE MONTERIA | E17: 1.0. PPTO Parque las Iguanas.pdf | F17: 4500000 | G17: 3466791.9 | H17: 1925995.5 | I17: 11818783 | J17: 2747445 | M17: 7000000 | N17: 4642744513
A18: 11 | B18: CMA-SIN-0006-2026 | C18: GOBERNACION DEL CESAR | D18: INTERVENTORIA TECNICA, ADMINISTRATIVA, FINANCIERA Y AMBIENTAL PARA EL MEJORAMIENTO DE LA RED VIAL TERCIARIA PERMITIENDO LA INTERCONEXION VIAL PARA EL DESARROLLO ECONOMICO, SOCIAL, AGRICOLA Y TURISTICO EN LA SUBREGION FUNCIONAL 47 DEL DEPARTAMENTO DEL CESAR | E18: Presupuesto oficial detallado.pdf | F18: 4994000 | G18: 3762000 | H18: 2332000 | I18: 13420000 | J18: 8773365 | K18: 2000000 | M18: 9898588.2 | N18: 11166729494
A19: 12 | B19: IDRD-SG-CM-012-2026 | C19: INSTITUTO DISTRITAL DE RECREACION Y DEPORTE | D19: CONTRATAR LA INTERVENTORIA INTEGRAL QUE INCLUYE, PERO NO SE LIMITA A LA INTERVENTORIA TECNICA, FINANCIERA Y/O CONTABLE, JURIDICA, ADMINISTRATIVA, OPERATIVA Y MEDIO AMBIENTAL EN LA ETAPA DE OPERACION Y MANTENIMIENTO DEL CONTRATO DE CONCESION BAJO ESQUEMA DE ASOCIACION PUBLICO-PRIVADA APP NO. IDRD-APP-IP-2015 | E19: 4. ANEXO 3 COSTOS INTERVENTORIA 2026.xlsx | L19: 300871 | N19: 1494460227
A20: 13 | B20: IDU-CMA-SGI-001-2026 | C20: INSTITUTO DE DESARROLLO URBANO | D20: INTERVENTORIA A LA BRIGADA DE REACCION VIAL PARA LA EJECUCION DE ACTIVIDADES PUNTUALES EN LA MALLA VIAL DE LA CIUDAD DE BOGOTA D.C. GRUPO 1 | E20: PPTOS G1 - PDF.pdf | F20: 2856000 | G20: 5043600 | H20: 2724300 | I20: 13348200 | K20: 1059636 | L20: 104889 | M20: 6583500 | N20: 9906841902
A21: 14 | B21: CM-026-2026 | C21: MUNICIPIO DE MANIZALES | D21: INTERVENTORIA TECNICA, ADMINISTRATIVA, JURIDICA Y FINANCIERA PARA EL CONTRATO DE OBRA DE CONSTRUCCION Y ENTREGA DE 56 SOLUCIONES DE VIVIENDA, TORRES SAN SEBASTIAN, MANIZALES | E21: FORMULARIO 1-CM--026-2026TORRES-SAN-SEBASTIAN.XLSX | J21: 500000 | K21: 450000 | N21: 541029145
A22: 15 | B22: CM-017-2026 | C22: MUNICIPIO DE MANIZALES | D22: INTERVENTORIA TECNICA, ADMINISTRATIVA, JURIDICA, FINANCIERA Y AMBIENTAL PARA LA CONSTRUCCION RECREODEPORTIVO SAN JOSE EN EL MUNICIPIO DE MANIZALES | E22: PPTO-OFICIAL-INTERVENTORIA-INTERV-SAN JOSE-3.XLSX | J22: 1500000 | K22: 450000 | N22: 1316609729
A23: 16 | B23: CM-003-2026 | C23: PROCURADURIA GENERAL DE LA NACION | D23: INTERVENTORIA INTEGRAL A LOS CONTRATOS DE OBRAS DE ADECUACION Y MANTENIMIENTO DE LA INFRAESTRUCTURA FISICA DE LAS SEDES DE LA PROCURADURIA GENERAL DE LA NACION A NIVEL NACIONAL | E23: Formulario 1 - Propuesta Economica Infraestructura Social Int DEF.XLSX | K23: 242594 | M23: 936803 | N23: 1176123182
A24: 17 | B24: CMA-SI-004-2026 | C24: GOBERNACION DE BOLIVAR | D24: CONSTRUCCION DE INFRAESTRUCTURA SOCIAL EN LOS MUNICIPIOS DE SAN FERNANDO, MAGANGUE, SAN MARTIN DE LOBA, MONTECRISTO, SOPLAVIENTO, CARMEN DE BOLIVAR, ACHI Y TURBACO EN EL DEPARTAMENTO DE BOLIVAR | E24: Formulario 1 - Presupuesto Lote 3.xlsx | I24: 4700000 | J24: 1565824.5 | K24: 500000 | L24: 270000 | M24: 339300 | N24: 7873289364
A25: 18 | B25: CM-PDA-008-2026 | C25: EMPRESAS PUBLICAS DE CUNDINAMARCA S.A. E.S.P. | D25: INTERVENTORIA INTEGRAL PARA LA CONSTRUCCION DE UNIDADES SANITARIAS EN EL SECTOR RURAL DEL DEPARTAMENTO DE CUNDINAMARCA (LOTE No. 1 Y LOTE No. 2) | E25: 5. PRESUPUESTO OFICIAL.pdf | J25: 837250 | M25: 2025250 | N25: 729041219
A26: 19 | B26: CM-SV-004-2026 | C26: GOBERNACION DE CALDAS | D26: INTERVENTORIA TECNICA, ADMINISTRATIVA, AMBIENTAL, JURIDICA Y FINANCIERA AL CONTRATO DE OBRA DEL PROYECTO CONSTRUCCION DE VIVIENDAS DE INTERES PRIORITARIO VIVIENDA SOCIAL PARA EL CAMPO EN LOS MUNICIPIOS DE RIOSUCIO Y LA MERCED EN EL DEPARTAMENTO DE CALDAS | E26: ANALISIS DEL SECTOR.pdf | K26: 350000 | M26: 5500000 | N26: 311168340
A27: 20 | B27: 043-00-A-COFAC-DIFRA-2026 | C27: FUERZA AEROESPACIAL COLOMBIANA | D27: INTERVENTORIA TECNICA, ADMINISTRATIVA, AMBIENTAL, JURIDICA Y FINANCIERA - CENTRO DE INSTRUCCION DE CAIDA LIBRE | E27: FORMATO ANEXO - ESTUDIO DEL SECTOR V1 - Interventoria Centro de Inst caida libre -09abr.pdf | J27: 999925 | N27: 259300657
A28: 21 | B28: MC-CM-0001-2026 | C28: MINISTERIO DE LAS CULTURAS, LAS ARTES Y LOS SABERES | D28: ADELANTAR LA INTERVENTORIA TECNICA, ADMINISTRATIVA, FINANCIERA, CONTABLE, LEGAL, AMBIENTAL Y DE ASEGURAMIENTO DE CALIDAD A LOS CONTRATOS DE OBRA DE CONVENIOS INTERADMINISTRATIVOS PARA CONSTRUCCION DE INFRAESTRUCTURAS CULTURALES (LOTE 2 - CHAMEZA) | E28: 2026-02-18 POE INT LOTE 2-CHAMEZA.xlsx | J28: 289880.67 | K28: 16771 | L28: 144402.58 | N28: 1277224529
A29: 22 | B29: CMA-002-2026 | C29: MUNICIPIO DE CAPARRAPI | D29: INTERVENTORIA TECNICA, ADMINISTRATIVA Y FINANCIERA PARA LA CONSTRUCCION DE LA CASA DE GOBIERNO DEL MUNICIPIO DE CAPARRAPI, CUNDINAMARCA (ICCU-CTO-1006-2025) | E29: PRESUPUESTO INTERVENTORIA CASA GOBIERNO CAPARRAPI_ (1).xlsx | K29: 913503.15 | N29: 308363630
A30: 23 | B30: CMA-SI-005-2026 | C30: N/D | D30: INTERVENTORIA DE OBRA PUBLICA PARA EL MEJORAMIENTO DE LA INFRAESTRUCTURA DE TRANSPORTE PARA LA CONECTIVIDAD E INTEGRACION REGIONAL DEL SUR DEL DEPARTAMENTO DE BOLIVAR | E30: Presupuesto Lote 1 y 2 FM.xlsx | I30: 10000000 | J30: 7000000 | K30: 1000000 | M30: 7000000 | N30: 15592469940
A31: 24 | B31: 033-00-A-COFAC-DIFRA-2026 | C31: FUERZA AEROESPACIAL COLOMBIANA | D31: INTERVENTORIA TECNICA, ADMINISTRATIVA, FINANCIERA, CONTABLE Y JURIDICA DE LA OBRA PUBLICA PARA LA CONSTRUCCION DE ALOJAMIENTO PARA SOLDADOS PROFESIONALES EN EL COMANDO AEREO DE COMBATE No. 1 EN PUERTO SALGAR - CUNDINAMARCA | E31: 09A. FORMATO ANEXO - ESTUDIO DEL SECTOR V1 - Interventoria alojamiento soldados-2.pdf | J31: 3402738.4 | N31: 300000000
A32: 25 | B32: ICCU-CM-002-2026 | C32: INSTITUTO DE CAMINOS Y CONSTRUCCIONES DE CUNDINAMARCA - ICCU | D32: INTERVENTORIA TECNICA, ADMINISTRATIVA, FINANCIERA Y LEGAL PARA LA ATENCION DE EMERGENCIAS EN LA INFRAESTRUCTURA FISICA EDUCATIVA DE LOS MUNICIPIOS DE MEDINA Y PARATEBUENO DEL DEPARTAMENTO DE CUNDINAMARCA | E32: Formulario 1 - Propuesta Economica Infraestructura Social V1 28-12-2023.xlsx | M32: 4479150 | N32: 466351440
A33: 26 | B33: 20005502 | C33: DISTRITO ESPECIAL DE CIENCIA TECNOLOGIA E INNOVACION DE MEDELLIN | D33: INTERVENTORIA A LA CONSTRUCCION DE MODULO PARA FELINOS EN EL CENTRO DE BIENESTAR ANIMAL LA PERLA DEL DISTRITO DE CIENCIA, TECNOLOGIA E INNOVACION DE MEDELLIN | E33: 5.1 Anexo. Calculo del Factor Multiplicador.xlsm | J33: 1333333.3 | K33: 250000 | L33: 150000 | N33: 412597354

Sheet Datos Consolidados
A1: DATOS CONSOLIDADOS - OTROS COSTOS DIRECTOS POR PROCESO DE INTERVENTORIA
A2: Valores mensuales consolidados a partir de la hoja 'Hoja1' (estudio de referenciacion de mercado). Cuando el proceso de origen discrimina la comision de topografia en equipo + topografo + 2 cadeneros, se registra el total consolidado para que sea comparable con el paquete de Soacha.
A4: No. | B4: Entidad | C4: Objeto (resumen) | D4: Fuente (Hoja1) | E4: Comision Topografia | F4: Ensayos Laboratorio | G4: Gastos Oficina | H4: Alquiler Portatil | I4: Transporte | J4: Valor Total Proceso (POE)
A5: 0 | B5: INMLCF (Soacha) | C5: Interventoria Soacha (valor de referencia propio) | D5: 'Referencias de Mercado'!A7:M7 | E5: 9104725 | F5: 1953978 | G5: 470000 | H5: 150941.87 | I5: 3465868.4 | J5: 2686659287
A6: 1 | B6: Alcaldia de Santiago de Cali | C6: Interventoria mejoramiento vial y drenaje | D6: 'Referencias de Mercado'!A8:M8 | E6: 9670404 | F6: 3080000 | G6: 700000 | H6: 350000 | I6: 6500000 | J6: 2527502010
A7: 2 | B7: Alcaldia de Medellin | C7: Estudios y disenos infraestructura vial y peatonal | D7: 'Referencias de Mercado'!A9:M9 | G7: 525000 | H7: 158000 | I7: 6525588.2 | J7: 3879163955
A8: 3 | B8: Alcaldia de Manizales (CM-004) | C8: Interventoria vial y espacio publico La Francia | D8: 'Referencias de Mercado'!A10:M10 | E8: 15000000 | F8: 500000 | G8: 450000 | J8: 3096446962
A9: 4 | B9: Gobernacion de Narino (CM005) | C9: Interventoria acueducto y PTAP Tumaco | D9: 'Referencias de Mercado'!A11:M11 | E9: 9145620 | G9: 1199778 | H9: 171360 | I9: 5620588.2 | J9: 3384836099
A10: 5 | B10: CRA - Atlantico | C10: Interventoria recuperacion ambiental arroyo Platanal | D10: 'Referencias de Mercado'!A12:M12 | E10: 9804740.6 | F10: 19865238 | G10: 124376 | I10: 6872344.1 | J10: 6372289354
A11: 6 | B11: Alcaldia Mayor de Cartagena (SID) | C11: Interventoria pavimento rigido La Virgen | D11: 'Referencias de Mercado'!A13:M13 | E11: 8900000 | F11: 7644468.5 | G11: 2800000 | I11: 6268588.2 | J11: 3100561726
A12: 7 | B12: RAP-E | C12: Interventoria restauracion ecologica cuenca rio Bogota | D12: 'Referencias de Mercado'!A14:M14 | I12: 5648639.2 | J12: 6279691895
A13: 8 | B13: Distrito de Cartagena (SEGD) | C13: Interventoria mejoramiento instituciones educativas | D13: 'Referencias de Mercado'!A15:M15 | E13: 11500000 | F13: 9488692.3 | G13: 2500000 | J13: 5602545498
A14: 9 | B14: Secretaria del Interior y Convivencia | C14: Interventoria casas de justicia Cartagena | D14: 'Referencias de Mercado'!A16:M16 | F14: 11000000 | G14: 3414863 | I14: 6268588.2 | J14: 3323899600
A15: 10 | B15: Municipio de Monteria | C15: Interventoria Parque Botanico Las Iguanas | D15: 'Referencias de Mercado'!A17:M17 | E15: 11818783 | F15: 2747445 | I15: 7000000 | J15: 4642744513
A16: 11 | B16: Gobernacion del Cesar | C16: Interventoria red vial terciaria subregion 47 | D16: 'Referencias de Mercado'!A18:M18 | E16: 13420000 | F16: 8773365 | G16: 2000000 | I16: 9898588.2 | J16: 11166729494
A17: 12 | B17: IDRD | C17: Interventoria concesion APP IDRD | D17: 'Referencias de Mercado'!A19:M19 | H17: 300871 | J17: 1494460227
A18: 13 | B18: IDU Bogota | C18: Interventoria brigada de reaccion vial malla vial Bogota | D18: 'Referencias de Mercado'!A20:M20 | E18: 13348200 | G18: 1059636 | H18: 104889 | I18: 6583500 | J18: 9906841902
A19: 14 | B19: Municipio de Manizales (CM-026) | C19: Interventoria vivienda San Sebastian | D19: 'Referencias de Mercado'!A21:M21 | F19: 500000 | G19: 450000 | J19: 541029145
A20: 15 | B20: Municipio de Manizales (CM-017) | C20: Interventoria recreodeportivo San Jose | D20: 'Referencias de Mercado'!A22:M22 | F20: 1500000 | G20: 450000 | J20: 1316609729
A21: 16 | B21: Procuraduria General de la Nacion | C21: Interventoria adecuacion sedes PGN nacional | D21: 'Referencias de Mercado'!A23:M23 | G21: 242594 | I21: 936803 | J21: 1176123182
A22: 17 | B22: Gobernacion de Bolivar | C22: Interventoria infraestructura social lote 3 | D22: 'Referencias de Mercado'!A24:M24 | E22: 4700000 | F22: 1565824.5 | G22: 500000 | H22: 270000 | I22: 339300 | J22: 7873289364
A23: 18 | B23: Empresas Publicas de Cundinamarca | C23: Interventoria unidades sanitarias rurales | D23: 'Referencias de Mercado'!A25:M25 | F23: 837250 | I23: 2025250 | J23: 729041219
A24: 19 | B24: Gobernacion de Caldas | C24: Interventoria vivienda interes prioritario Riosucio | D24: 'Referencias de Mercado'!A26:M26 | G24: 350000 | I24: 5500000 | J24: 311168340
A25: 20 | B25: Fuerza Aeroespacial Colombiana | C25: Interventoria centro inst. caida libre | D25: 'Referencias de Mercado'!A27:M27 | F25: 999925 | J25: 259300657
A26: 21 | B26: Ministerio de las Culturas | C26: Interventoria infraestructuras culturales (Chameza) | D26: 'Referencias de Mercado'!A28:M28 | F26: 289880.67 | G26: 16771 | H26: 144402.58 | J26: 1277224529
A27: 22 | B27: Municipio de Caparrapi | C27: Interventoria Casa de Gobierno Caparrapi | D27: 'Referencias de Mercado'!A29:M29 | G27: 913503.15 | J27: 308363630
A28: 23 | B28: Gobernacion de Bolivar (sur) | C28: Interventoria infraestructura de transporte sur de Bolivar | D28: 'Referencias de Mercado'!A30:M30 | E28: 10000000 | F28: 7000000 | G28: 1000000 | I28: 7000000 | J28: 15592469940
A29: 24 | B29: Fuerza Aeroespacial Colombiana (2) | C29: Interventoria alojamiento soldados Puerto Salgar | D29: 'Referencias de Mercado'!A31:M31 | F29: 3402738.4 | J29: 300000000
A30: 25 | B30: ICCU Cundinamarca | C30: Interventoria emergencias infraestructura educativa Medina/Paratebueno | D30: 'Referencias de Mercado'!A32:M32 | I30: 4479150 | J30: 466351440
A31: 26 | B31: Distrito de Medellin (Ciencia y Tecnologia) | C31: Interventoria modulo felinos Centro Bienestar Animal | D31: 'Referencias de Mercado'!A33:M33 | F31: 1333333.3 | G31: 250000 | H31: 150000 | J31: 412597354

Sheet Datos Crudos
B1: PROCESOS CMA ADJUDICADOS 2026 | C1: ENTIDAD | D1: OBJETO | F1: DOCUMENTO | G1: OTROS COSTOS DIRECTOS
G2: Comision de topografia (Topografo + 2 cadeneros + estacion) (UNIDAD MES) | H2: Ensayos de laboratorio (concretos, mamposteria, aceros, redes, compactaciones entre otros) (UNIDAD MES) | I2: Tarifa mes - gastos oficina (papeleria, fotocopias y otros) (UNIDAD MES) | J2: Alquiler portatil (UNIDAD MES) | K2: Transporte (UNIDAD MES)
A3: 0 | B3: INTERVENTORIA SOACHA | C3: INMLCF | D3: REALIZAR LA INTERVENTORIA TECNICA, ADMINISTRATIVA, CONTABLE, FINANCIERA Y JURIDICA AL CONTRATO RESULTANTE DEL PROCESO DE SELECCIÓN CUYO OBJETO ES LA EJECUCION DE LA CONSTRUCCION Y DOTACION DE LA SEDE DEL INSTITUTO NACIONAL DE MEDICINA LEGAL Y CIENCIAS FORENSES, UBICADA EN EL MUNICIPIO DE SOACHA CUNDINAMARCA, ASI COMO EL AJUSTE DE LOS ESTUDIOS Y DISEÑOS ACTUALES | F3: 3 Ppto INTERVENTORIA SOACHA V4 31082026.xlsm | G3: 9104725 | H3: 1953978 | I3: 470000 | J3: 150941.87 | K3: 3465868.4
A4: 13
B5: PROCESOS CMA APROCESOS CMA ADJUDICADOS 2026 | C5: ENTIDAD | D5: OBJETO | F5: DOCUMENTO | G5: REFERENCIA DE MERCADO IDENTIFICADA EN PROCESOS COMPARABLES
A6: 1 | B6: 4151.010.32.1.0706-2026 | C6: ALCALDIA DE SANTIAGO DE CALI | D6: REALIZAR LA INTERVENTORÍA TECNICA, ADMINISTRATIVA, JURIDICA, FINANCIERA, AMBIENTAL Y CONTABLE A LOS CONTRATOS DE OBRA QUE RESULTEN ADJUDICADOS EN EL PROCESO DE LICITACIÓN PÚBLICA No. 4151.010.32.1.0700-2026, CUYO OBJETO ES: “REALIZAR OBRAS DE MEJORAMIENTO, MANTENIMIENTO VIAL Y OBRAS DE DRENAJE EN ZONA URBANA Y ZONA RURAL DEL DISTRITO ESPECIAL DE SANTIAGO DE CALI | E6: 2527502010 | F6: ADENDA 2 - 8. CCE-EICP-FM-70 Formulario 1-Propuesta economica v3 2026.xlsx | G6: Equipo completo de topografía (Estacion Total-Nivel Automático) (UNIDAD MES) | H6: Equipo Completo de Laboratorio y Campo - Control de Calidad de Procesos y Materiales (UNIDAD MES) | I6: Reproducción de documentos (Informes, Fotocopias, Heliografías, Fotos, Etc) Planos (Plotter) (UNIDAD MES) | J6: Alquiler Equipo de Cómputo (Con Software y banda ancha min velocidad 10 Mbs) (UNIDAD MES) | K6: Alquiler de Vehículo (Campero, Pick-Up, Camioneta, Camión o Similar Min 2000cc, Modelo 2020 en adelante) (UNIDAD MES)
G7: 2000000 | H7: 3080000 | I7: 700000 | J7: 350000 | K7: 6500000
G8: Topógrafo (UNIDAD MES)
G9: 4070404
G10: Cadenero 1 (UNIDAD MES)
G11: 1800000
G12: TOTAL COMISION TOPOGRAFICA CON 2 CADENEROS
G13: =+(G7+G9+(2*G11)) -> 9670404
A14: 2 | B14: 20005534 | C14: ALCALDIA DE MEDELLIN | D14: REALIZAR LOS ESTUDIOS Y DISEÑOS REQUERIDOS PARA LA INTERVENCIÓN, MODERNIZACIÓN Y ADAPTACIÓN FUNCIONAL DE LA INFRAESTRUCTURA VIAL Y PEATONAL DEL TERRITORIO, MEJORANDO LA ACCESIBILIDAD, SEGURIDAD Y SOSTENIBILIDAD EN LA MOVILIDAD | E14: 3879163955 | F14: 5. Presupuesto Oficial.pdf | G14: N/A | H14: N/A | I14: Auxilio para gastos de papeleria, impresiones, fotocopias y otros. (UNIDAD MES) | J14: Auxilio para alquiler de equipos de computo con software licenciado de acuerdo con la especificación requerida por la entidad. (UNIDAD MES) | K14: Transporte: Vehículo con especificaciones definidas en el presupuesto (UNIDAD MES) ESTIMANDO MENOS $2731411,8 + PRESTACIONES POR CONDUCTOR | L14: 2731411.8
G15: N/A | H15: N/A | I15: 525000 | J15: 158000 | K15: =9257000-2731411.8 -> 6525588.2
A16: 3 | B16: CM-004-2026 | C16: ALCALDIA DE MANIZALES | D16: INTERVENTORÍA TÉCNICA, ADMINISTRATIVA, FINANCIERA Y JURIDICA A “ LA CONSTRUCCION DE INFRAESTRUCTURA VIAL Y DE ESPACIO PUBLICO PARA EL MEJORAMIENTO DE ACCESOS A LOS BARRIOS LA FRANCIA Y LOS ALCAZARES DE LA CIUDAD DE MANIZALES | E16: 3096446962 | F16: PPTO-OFICIAL-INTERV-LA-FRANCIA CM-004.XLSX | G16: Comision topografia (UNIDAD MES) | H16: Ensayos de Laboratorio (UNIDAD MES) | I16: Edición de informes, papelería, reproducción de documentos, planos, fotografías, videos, etc (UNIDAD MES) | J16: N/A | K16: N/A
G17: 15000000 | H17: 500000 | I17: 450000 | J17: N/A | K17: N/A
A18: 4 | B18: CM005-2026 | C18: GOBERNACIÓN DE NARIÑO | D18: INTERVENTORÍA TÉCNICA, ADMINISTRATIVA, FINANCIERA, CONTABLE, AMBIENTAL, JURÍDICA Y SOCIAL AL PROYECTO DENOMINADO "OBRAS DE OPTIMIZACIÓN Y AMPLIACIÓN DEL SISTEMA DE ACUEDUCTO DEL DISTRITO ESPECIAL DE TUMACO, OPTIMIZACIÓN Y AMPLIACIÓN PLANTA DE TRATAMIENTO DE AGUA POTABLE Y SISTEMA SCADA FASE III” | E18: 3384836099 | F18: Presupuesto interventoría PTAP Tumaco.pdf | G18: Equipos de topografía (UNIDAD MES) | H18: N/A | I18: Papelería e informes (UNIDAD MES) | J18: Equipos de computo (UNIDAD MES) | K18: Camioneta 1600-2000 CC (SOS 584) INCLUIDO CONDUCTOR (UNIDAD MES) ESTIMANDO MENOS $2731411,8 + PRESTACIONES POR CONDUCTOR
G19: 2142000 | H19: N/A | I19: 1199778 | J19: 171360 | K19: =8352000-2731411.8 -> 5620588.2
G20: TOPÓGRAFO INSPECTOR
G21: 3501810
G22: CADENERO 1
G23: 1750905
G24: TOTAL COMISION TOPOGRAFICA CON 2 CADENEROS
G25: =+(G19+G21+(2*G23)) -> 9145620
A26: 5 | B26: CM-2026-002 | C26: CORPORACION AUTONOMA REGIONAL DEL ATLANTICO C.R.A. | D26: INTERVENTORÍA TÉCNICA, ADMINISTRATIVA Y FINANCIERA DEL CONTRATO CUYO OBJETO ES “RECUPERACIÓN AMBIENTAL DEL TRAMO FINAL DEL ARROYO PLATANAL Y CAÑO SOLEDAD MEDIANTE LA RECTIFICACIÓN, ADECUACIÓN HIDRÁULICA Y OBRAS COMPLEMENTARIAS, EN EL MUNICIPIO DE SOLEDAD, DEPARTAMENTO DEL ATLÁNTICO | E26: 6372289354 | F26: 7a. Presupuesto Interventoria Soledad 2026 FF ETAPA 1.pdf | G26: Arriendo de equipos de topografía. Incluye equipo RTK, estación total, nivel y ecosonda. (UNIDAD MES) | H26: Ensayos de Laboratorio y control de calidad (UNIDAD MES) | I26: Papeleria, tintas, copias, material fotografico y demas elementos para informes (UNIDAD MES) | J26: N/A | K26: Vehiculo tipo PICK UP 4"X4", incluye conductor y combustible (UNIDAD MES) ESTIMANDO MENOS $2731411,8 + PRESTACIONES POR CONDUCTOR
G27: 2500000 | H27: 19865238 | I27: 124376 | J27: N/A | K27: =9603755.91-2731411.8 -> 6872344.1
G28: TOPÓGRAFO
G29: 3652370.3
G30: CADENERO
G31: 1826185.1
G32: TOTAL COMISION TOPOGRAFICA CON 2 CADENEROS
G33: =+(G27+G29+(2*G31)) -> 9804740.6
A34: 6 | B34: CMA-SID-002-2026 | C34: ALCALDIA MAYOR DE CARTAGENA DE INDIAS | D34: INTERVENTORIA INTEGRAL AL PROYECTO “CONSTRUCCIÓN Y REHABILITACIÓN EN PAVIMENTO RÍGIDO DE TRAMOS VIALES DE LA LOCALIDAD DE LA VIRGEN Y TURÍSTICA DEL DISTRITO DE CARTAGENA DE INDIAS” | E34: 3100561726 | F34: CCE-EICP-FM-70 Formulario 1-Propuesta economica v3 12-12-2024 Definitivo.xlsx | G34: Alquiler de equipos de topografia (UNIDAD MES) | H34: Ensayos de laboratorio (UNIDAD MES) | I34: Fotocopias, edicion informes, registros fotograficos entre otros (UNIDAD MES) | J34: N/A | K34: Transporte (UNIDAD MES) ESTIMANDO MENOS $2731411,8 + PRESTACIONES POR CONDUCTOR
G35: 2500000 | H35: 7644468.5 | I35: 2800000 | J35: N/A | K35: =9000000-2731411.8 -> 6268588.2
G36: Topografo
G37: 2800000
G38: Cadenero
G39: 1800000
G40: TOTAL COMISION TOPOGRAFICA CON 2 CADENEROS
...
