Workbook
Name _______AFC1: #REF!
Name _______AFC1: #REF!
Name _______AFC3: #REF!
Name _______AFC3: #REF!
Name _______AFC5: #REF!
Name _______AFC5: #REF!
Name _______BGC1: #REF!
Name _______BGC1: #REF!
Name _______BGC3: #REF!
Name _______BGC3: #REF!
Name _______BGC5: #REF!
Name _______BGC5: #REF!
Name _______CAC1: #REF!
Name _______CAC1: #REF!
Name _______CAC3: #REF!
Name _______CAC3: #REF!
Name _______CAC5: #REF!
Name _______CAC5: #REF!
Name _______SBC1: #REF!
Name _______SBC1: #REF!
Name _______SBC3: #REF!
Name _______SBC3: #REF!
Name _______SBC5: #REF!
Name _______SBC5: #REF!
Name ______AFC1: #REF!
Name ______AFC1: #REF!
Name ______AFC3: #REF!
Name ______AFC3: #REF!
Name ______AFC5: #REF!
Name ______AFC5: #REF!
Name ______BGC1: #REF!
Name ______BGC1: #REF!
Name ______BGC3: #REF!
Name ______BGC3: #REF!
Name ______BGC5: #REF!
Name ______BGC5: #REF!
Name ______CAC1: #REF!
Name ______CAC1: #REF!
Name ______CAC3: #REF!
Name ______CAC3: #REF!
Name ______CAC5: #REF!
Name ______CAC5: #REF!
Name ______SBC1: #REF!
Name ______SBC1: #REF!
Name ______SBC3: #REF!
Name ______SBC3: #REF!
Name ______SBC5: #REF!
Name ______SBC5: #REF!
Name _____AFC1: #REF!
Name _____AFC1: #REF!
Name _____AFC3: #REF!
Name _____AFC3: #REF!
Name _____AFC5: #REF!
Name _____AFC5: #REF!
Name _____BGC1: #REF!
Name _____BGC1: #REF!
Name _____BGC3: #REF!
Name _____BGC3: #REF!
Name _____BGC5: #REF!
Name _____BGC5: #REF!

Sheet Resumen
A2: PREFACTURA SERVICIO: DEL 01 AL 31 DE AGOSTO 2025
A3: SERVICIOS GENERALES INTEGRALES PARA LA ADECUADA CONSERVACIÓN Y ATENCIÓN DE LOS SERVIDORES, USUARIOS Y DEMÁS VISITANTES DEL AMVA Y SUS DEMÁS SEDES
A6: RESUMEN CONSOLIDADO OFERTA ECONÓMICA - POR ALCANCE y POR RUBRO OFICIAL | B6: RESUMEN CONSOLIDADO MES - POR ALCANCE y POR RUBRO OFICIAL | G6: VALOR ACUMULADO CONSOLIDADA POR RUBRO PRESUPUESTAL | M6: TENER EN CUENTA NO EXCEDER ESTOS VALORES POR RUBRO PRESUPUESTAL del PRESUPUESTO OFICIAL (POE)
B7: OFERTA ECONÓMICA CONSOLIDADA POR RUBRO PRESUPUESTAL | C7: DESCRIPCIÓN | D7: TOTAL OFERTA ECONÓMICA INCLUIDO IVA | E7: RUBRO PRESUPUESTAL | G7: OFERTA ECONÓMICA CONSOLIDADA POR RUBRO PRESUPUESTAL | H7: RUBRO PRESUPUESTAL /FICHA | L7: ACUMULADO VALOR TOTAL POR RUBRO PRESUPUESTAL (INCLUIDOS AU e IVA
C8: RECURSO HUMANO - SEDE PARQUE METROPOLITANO DE LAS AGUAS (Los salarios son Fijos e inmodificables)* | D8: =#REF! -> #REF! | E8: 2.1.5.02.08 | H8: RUBRO PRESUPUESTAL 2.1.5.02.08. - GASTOS DE FUNCIONAMIENTO - PARQUE | L8: =+D8+D12 -> #REF! | M8: 1324301528
C9: DOTACION PERSONAL (Uniformes de labor) - SEDE PARQUE METROPOLITANO DE LAS AGUAS | D9: =#REF! -> #REF! | E9: 2.1.5.01.02 | H9: RUBRO PRESUPUESTAL 2.1.5.01.02. - GASTOS DE FUNCIONAMIENTO - PARQUE | L9: =+D9+D10 -> #REF! | M9: 92529562
C10: SUMINISTROS E INSUMOS DE CAFETERIA - SEDE PARQUE METROPOLITANO DE LAS AGUAS | D10: =#REF! -> #REF! | E10: 2.1.5.01.02 | H10: RUBRO PRESUPUESTAL 2.1.5.01.03. - GASTOS DE FUNCIONAMIENTO - PARQUE | L10: =+D11 -> #REF! | M10: 139823033
C11: SUMINISTROS E INSUMOS DE ASEO, SALUD OCUPACIONAL, ENFERMERIA Y JARDINERIA - SEDE PARQUE METROPOLITANO DE LAS AGUAS | D11: =#REF!+#REF!+#REF!+#REF!+#REF!+#REF!+#REF! -> #REF! | E11: 2.1.5.01.03 | H11: TOTAL OFERTA ECONÓMICA INCLUIDO IVA | L11: =SUM(L8:L10) -> #REF! | M11: =SUM(M8:M10) -> 1556654123
C12: SERVICIOS COMPLEMENTARIOS y OTROS COSTOS DE OPERACIÓN - SEDE PARQUE METROPOLITANO DE LAS AGUAS | D12: =#REF! -> #REF! | E12: 2.1.5.02.08
C13: TOTAL OFERTA ECONÓMICA INCLUIDO IVA | D13: =SUM(D8:D12) -> #REF!

Sheet CAJA MENOR Prueba feb 2026
A1: EGRESOS - GASTOS - LOGISTICA-AGOSTO 2025 | K1: RUBRO | L1: 008 | N1: RUBRO | O1: 006
K2: VALOR TOTAL | L2: =+K13+L13 -> 8540074.7 | N2: VALOR TOTAL | O2: =+N13+O13 -> 1568420
A4: ITEM | B4: FACTURA | C4: FECHA | D4: BENEFICIARIO | E4: NIT | F4: DETALLE | G4: Subtotal | H4: IVA | I4: RETEFUENTE | J4: VALOR A PAGAR | K4: Reparaciones locativas | L4: Iva Reparaciones Locativas | M4: Retenciones aplicadas | N4: Reconocimiento de Gastos Logisticos | O4: Iva Reconocimiento Gastos Logisticos | P4: IMPUESTO AL CONSUMO | Q4: IMPOCONSUMO 8%
Q5: Retef | Z5: I
A6: 1 | B6: FE - 1461 | C6: 45880 | D6: LUJAN VELASQUEZ CAROLINA | E6: 43977355 | F6: materiales necesarios utlizados para trabajos en carpinteria | G6: 66500 | H6: 0 | J6: =+G6+H6 -> 66500 | K6: =+G6 -> 66500 | L6: =+H6 -> 0
A7: 2 | B7: FE - 713 | C7: 45888 | D7: FERRETERIA MAKRO ELECTRICOS BELLO - MELISA CIFUENTES ALCARAZ | E7: 1128393327-4 | F7: materiales necesarios para trabajos de capínteria | G7: 490500 | H7: =+G7*19% -> 93195 | J7: =+G7+H7 -> 583695 | K7: =+G7 -> 490500 | L7: =+H7 -> 93195
A8: 3 | B8: FE - 3197 | C8: 45896 | D8: COMPOMEDICA S.A.S | E8: 901074786-6 | F8: insumo necesario utilizado para desfibriladores (DEA) para primeros auxilios | G8: 3092000 | H8: =+G8*19% -> 587480 | I8: =+G8*2.5% -> 77300 | J8: =+G8+H8 -> 3679480 | K8: =+G8 -> 3092000 | L8: =+H8 -> 587480
A9: 4 | B9: FE - 4143 | C9: 45898 | D9: BOBINADOS CORDOBA TABARES S.A.S | E9: 900467460-4 | F9: servicio necesario para mantenimineto correctivo bomba sumergible, cuarto de maquinas maxima velocidad | G9: 1318000 | H9: =+G9*19% -> 250420 | I9: 52720 | J9: =+G9+H9 -> 1568420 | N9: =+G9 -> 1318000 | O9: =+H9 -> 250420
A10: 5 | B10: FEC- 91326 | C10: 45899 | D10: MATERIALES Y RACORES S.A.S | E10: 900437333-9 | F10: mantenimiento de baños de recreativa y guardaropa | G10: 1378151 | H10: =+G10*19% -> 261848.69 | I10: 34454 | J10: =+G10+H10 -> 1639999.7 | K10: =+G10 -> 1378151 | L10: =+H10 -> 261848.69
A11: 6 | B11: FE - 719 | C11: 45899 | D11: FERRETERIA MAKRO ELECTRICOS BELLO - MELISA CIFUENTES ALCARAZ | E11: 1128393327-4 | F11: materiales necesarios para trabajos de mantenimiento taller | G11: 480000 | H11: =+G11*19% -> 91200 | J11: =+G11+H11 -> 571200 | K11: =+G11 -> 480000 | L11: =+H11 -> 91200
G12: 1680000 | H12: =+G12*19% -> 319200 | J12: =+G12+H12 -> 1999200 | K12: =+G12 -> 1680000 | L12: =+H12 -> 319200
B13: TOTAL | G13: =SUM(G6:G12) -> 8505151 | H13: =SUM(H6:H12) -> 1603343.7 | I13: =SUM(I6:I11) -> 164474 | J13: =SUM(J6:J12) -> 10108495 | K13: =SUM(K6:K12) -> 7187151 | L13: =SUM(L6:L12) -> 1352923.7 | M13: =SUM(#REF!) -> #REF! | N13: =SUM(N6:N11) -> 1318000 | O13: =SUM(O6:O11) -> 250420 | Q13: =SUM(#REF!) -> #REF!

Sheet PRESUP. OFICIAL CONSOL
A1: ÁREA METROPOLITANA DEL VALLE DE ABURRÁ
A2: SELECCIÓN ABREVIADA MEDIANTE SUBASTA INVERSA ELECTRÓNICA – SIE 015 de 2026
A3: PRESUPUESTO OFICIAL QUE AMPARA EL PROYECTO - POP (Máximo del Proyecto)
A4: OBJETO: “SERVICIOS GENERALES INTEGRALES PARA LA ADECUADA CONSERVACIÓN Y ATENCIÓN DE LOS SERVIDORES, USUARIOS Y DEMÁS VISITANTES DEL AMVA Y SUS DEMÁS SEDES”.
A5: PRESUPUESTO OFICIAL - POP - CONSOLIDADO
A7: RESUMEN CONSOLIDADO DEL PRESUPUESTO OFICIAL - POP (Máximo del Proyecto)
A8: TOTAL CONSOLIDADO - PRESUPUESTO OFICIAL QUE AMPARA EL PROYECTO - POP (Máximo del Proyecto) | C8: TOTAL PRESUPUESTO OFICIAL - POP - ANTES DE IVA | D8: TOTAL PRESUPUESTO OFICIAL - POP - INCLUIDO IVA | E8: % AU OFICIAL (POP) | G8: 150% EXPERIENCIA | H8: SMLMV | I8: 75% CT
C9: =+C15 -> 5.7390613e+09 | D9: =+D15 -> 6.4478347e+09 | E9: 0.08 | G9: =D9*150% -> 9.671752e+09 | H9: =+G9/1750905 -> 5523.8588 | I9: =D9*75% -> 4.835876e+09
A11: RESUMEN CONSOLIDADO DEL PRESUPUESTO OFICIAL - POP (Máximo del Proyecto) - POR COMPONENTE
A12: COMPONENTE | C12: TOTAL PRESUPUESTO OFICIAL - POP - ANTES DE IVA | D12: TOTAL PRESUPUESTO OFICIAL - POP - INCLUIDO IVA | E12: % AU OFICIAL (POP) 8% | F12: IVA
A13: COMPONENTE 1 - RECURSO HUMANO PARA EL PROCESO- AMBAS SEDES SEDE PARQUE METROPOLITANO DE LAS AGUAS MAS SEDE ADMINISTRATIVA | C13: =ROUND(('POP DETALLADO 2026 '!AA63+'POE DETALLADO 2027'!AA63),0) -> 5207558507 | D13: =ROUND(('POP DETALLADO 2026 '!AC63+'POE DETALLADO 2027'!AC63),0) -> 5794545295 | E13: ='POP DETALLADO 2026 '!W63+'POE DETALLADO 2027'!W63 -> 385745072
A14: COMPONENTE 2 - SUMINISTRO DE INSUMOS, DOTACION Y OTROS COSTOS DE OPERACIÓN PARA EL PROCESO- AMBAS SEDES SEDE PARQUE METROPOLITANO DE LAS AGUAS MAS SEDE ADMINISTRATIVA | C14: ='POP DETALLADO 2026 '!N118+'POE DETALLADO 2027'!N117 -> 5.3150275e+08 | D14: ='POP DETALLADO 2026 '!U118+'POE DETALLADO 2027'!U117 -> 6.5328937e+08 | E14: ='POP DETALLADO 2026 '!M118+'POP DETALLADO 2026 '!M90 -> 8511288
A15: VALOR TOTAL PRESUPUESTO OFICIAL (POP) | C15: =SUM(C13:C14) -> 5.7390613e+09 | D15: =SUM(D13:D14) -> 6.4478347e+09 | E15: =SUM(E13:E14) -> 394256360
A18: PRESUPUESTO OFICIAL (POP) CONSOLIDADO POR RUBRO PRESUPUESTAL
A19: PRESUPUESTO OFICIAL (POP) CONSOLIDADO POR RUBRO PRESUPUESTAL | B19: RUBRO PRESUPUESTAL | D19: VALOR TOTAL POR RUBRO PRESUPUESTAL (INCLUIDOS AU e IVA - PRESUPUESTO OFICIAL (POP) | F19: CDP XXXX
B20: RUBRO PRESUPUESTAL 2.1.5.02.08. - GASTOS DE FUNCIONAMIENTO - PARQUE | D20: =+D30+D39 -> 4913129669
B21: RUBRO PRESUPUESTAL 2.1.2.02.02.008- GASTOS DE FUNCIONAMIENTO - SEDE ADMINISTRATIVA | D21: =+D31+D40 -> 1275730630
B22: RUBRO PRESUPUESTAL 2.1.5.01.02. - GASTOS DE FUNCIONAMIENTO - PARQUE | D22: =+D32+D34 -> 0
B23: RUBRO PRESUPUESTAL 2.1.2.02.02.002. - GASTOS DE FUNCIONAMIENTO - SEDE ADMINISTRATIVA | D23: =+D33+D35 -> 0
B24: RUBRO PRESUPUESTAL 2.1.5.01.03. - GASTOS DE FUNCIONAMIENTO - PARQUE | D24: =+D36 -> 0
B25: RUBRO PRESUPUESTAL 2.1.2.02.02.003. - GASTOS DE FUNCIONAMINTO - SEDE | D25: =+D37+D38 -> 258974366
B26: VALOR TOTAL PRESUPUESTO OFICIAL (POP) | D26: =SUM(D20:D25) -> 6447834665 | F26: =SUM(F20:F25) -> 0
A28: RESUMEN CONSOLIDADO DEL PRESUPUESTO OFICIAL - POP (Máximo del Proyecto) - POR ALCANCE y POR RUBRO OFICIAL
A29: RESUMEN VALOR PRESUPUESTO OFICIAL (POP) INCLUIDO IVA POR ALCANCE y POR RUBRO PRESUPUESTAL | B29: DESCRIPCIÓN | D29: TOTAL PRESUPUESTO OFICIAL - POP - INCLUIDO IVA | E29: RUBRO PRESUPUESTAL
B30: RECURSO HUMANO - SEDE PARQUE METROPOLITANO DE LAS AGUAS (Los salarios son Fijos e inmodificables)* | D30: =ROUND(('POP DETALLADO 2026 '!I123+'POE DETALLADO 2027'!I122),0) -> 4791277065 | E30: 2.1.5.02.08
B31: RECURSO HUMANO - SEDE ADMINISTRATIVA (Los salarios son Fijos e inmodificables)* | D31: =ROUND(('POP DETALLADO 2026 '!I124+'POE DETALLADO 2027'!I123),0) -> 1003268230 | E31: 2.1.2.02.02.008
B32: DOTACION PERSONAL (Uniformes de labor) - SEDE PARQUE METROPOLITANO DE LAS AGUAS | D32: =ROUND(('POP DETALLADO 2026 '!I125+'POE DETALLADO 2027'!I124),0) -> 0 | E32: 2.1.5.01.02
B33: DOTACION PERSONAL (Uniformes de labor) - SEDE ADMINISTRATIVA | D33: =ROUND(('POP DETALLADO 2026 '!I126+'POE DETALLADO 2027'!I125),0) -> 0 | E33: 2.1.2.02.02.002
B34: SUMINISTROS E INSUMOS DE CAFETERIA - SEDE PARQUE METROPOLITANO DE LAS AGUAS | D34: =ROUND(('POP DETALLADO 2026 '!I127+'POE DETALLADO 2027'!I126),0) -> 0 | E34: 2.1.5.01.02
B35: SUMINISTROS E INSUMOS DE CAFETERIA - SEDE ADMINISTRATIVA | D35: =ROUND(('POP DETALLADO 2026 '!I128+'POE DETALLADO 2027'!I127),0) -> 0 | E35: 2.1.2.02.02.002
B36: SUMINISTROS E INSUMOS DE ASEO, SALUD OCUPACIONAL, ENFERMERIA Y JARDINERIA - SEDE PARQUE METROPOLITANO DE LAS AGUAS | D36: =ROUND(('POP DETALLADO 2026 '!I129+'POE DETALLADO 2027'!I128),0) -> 0 | E36: 2.1.5.01.03
B37: SUMINISTROS E INSUMOS DE ASEO- SEDE ADMINISTRATIVA | D37: =ROUND(('POP DETALLADO 2026 '!I130+'POE DETALLADO 2027'!I129),0) -> 0 | E37: 2.1.2.02.02.003
B38: OTROS REEMBOLSABLES REPARACIONES LOCATIVAS MENORES. - VALOR FIJO, INMODIFICABLE Y REEMBOLSABLE (DE REPUESTOS, INSUMOS, MATERIALES, ACCESORIOS, COMPONENTES, ELEMENTOS) - SEDE ADMINISTRATIVA | D38: =ROUND(('POP DETALLADO 2026 '!I131+'POE DETALLADO 2027'!I130),0) -> 258974366 | E38: 2.1.2.02.02.003
B39: SERVICIOS COMPLEMENTARIOS y OTROS COSTOS DE OPERACIÓN - SEDE PARQUE METROPOLITANO DE LAS AGUAS | D39: =ROUND(('POP DETALLADO 2026 '!I132+'POE DETALLADO 2027'!I131),0) -> 121852604 | E39: 2.1.5.02.08
B40: SERVICIOS COMPLEMENTARIOS y OTROS COSTOS DE OPERACIÓN - SEDE ADMINISTRATIVA | D40: =ROUND(('POP DETALLADO 2026 '!I133+'POE DETALLADO 2027'!I132),0) -> 272462400 | E40: 2.1.2.02.02.008
B41: VALOR TOTAL PRESUPUESTO OFICIAL (POP) | D41: =SUM(D30:D40) -> 6447834665
A42: (*) El Proponente debe tener en cuenta que la Entidad estableció los Salarios como un Valor Fijo en Inmodificable, de igual manera la Tarifa de ARL aplicada para cada Cargo es Inmodificable. Además las prestaciones de Ley y demas componentes de Norma son inmodificables; en caso de alteraciones, se deberan justificar con fundamentos legales sin afectar el desarrollo del proceso. Y entre los ítems del Componente de SUMINISTRO DE INSUMOS, DOTACION Y OTROS COSTOS DE OPERACIÓN, señaló el COSTO DIRECTO de algunos ítems se como un VALOR FIJO e INMODIFICABLE por el Proponente y estableció que todos los ítems de este Componente son REEMBOLSABLES , con la finalidad de que serán ejecutados en la proporción y durante los tiempos en que se presenten las necesidades que cada uno de ellos busca satisfacer. Por ello, durante la ejecución del contrato la Entidad cancelará dichos ítems única y exclusivamente sobre los montos que el contratista logre demostrar su ejecución en desarrollo del objeto contractual, presentando para ello el respectivo soporte del gasto realizado para adquirir el bien o prestar el servicio requerido,
A43: La Entidad para el cálculo de los Costos del Recurso Humano, dió aplicación a la ley 2101 de 2021 y en dicho sentido, considera una jornada máxima legal de 46 horas a la semana y 230 horas de jornada laboral máxima al mes.
A44: Los costos por Recargo Dominical o Festivo, se hicieron considerando el reconocimiento indicado por la norma del 75% y se proyectaron para una jornada laboral en dominical o festivo máxima de 8 horas, El reconocimiento sel pago se hace de acuerdo a la demanda del servicio y la ejecución real de dichas jornadas.
A45: El presente proceso presenta el valor del IVA, previendo que entre sus condiciones técnicas e ítems incluidos en el Presupuesto Oficial contiene ítems que en su ejecución incluyen actividades requeridas para la limpieza y conservación de la Entidad, así como actividades relacionadas con la preparación y distribución café y aromática para consumo al interior de las instalaciones de la Entidad, sin que se genere contraprestación alguna por parte del consumidor de los mismos, por lo tanto estas actividades están amparadas por la base gravable especial prevista en el artículo 462-1 del ET, según el cual la base gravable es el AU siempre y cuando sea igual o superior al 10% y si es inferior como es el caso del proceso, la base gravable especial será equivalente al 10% del Costo del Servicio,
...

Sheet POP DETALLADO 2026 
B1: FORMULARIO N° 6 SELECCIÓN ABREVIADA MEDIANTE SUBASTA INVERSA ELECTRÓNICA – SIE de 2025 "RELACIÓN DE PRECIOS UNITARIOS OFERTA GANADORA" “SERVICIOS GENERALES INTEGRALES PARA LA ADECUADA CONSERVACIÓN Y ATENCIÓN DE LOS SERVIDORES, USUARIOS Y DEMÁS VISITANTES DEL AMVA Y SUS DEMÁS SEDES”. OFERTA ECONÓMICA DETALLADS (44 HORAS SEMANA) - INCLUYE % AU OFICIAL (POE) e IVA OFERTA ECONÓMICA - PROPONENTE ADJUDICATARIO
B2: SELECCIÓN ABREVIADA MEDIANTE SUBASTA INVERSA ELECTRÓNICA – SIEXXXX de 2026
B3: RELACIÓN DE PRECIOS UNITARIOS OFERTA GANADORA | AH3: Incremento 2027
B4: “SERVICIOS GENERALES INTEGRALES PARA LA ADECUADA CONSERVACIÓN Y ATENCIÓN DE LOS SERVIDORES, USUARIOS Y DEMÁS VISITANTES DEL AMVA Y SUS DEMÁS SEDES”.
B6: OFERTA ECONÓMICA DETALLADS (42 HORAS SEMANA) - INCLUYE % AU OFICIAL (POE) e IVA
B7: OFERTA ECONÓMICA - PROPONENTE ADJUDICATARIO
B9: 1 | C9: COMPONENTE 1 - COSTOS - RECURSO HUMANO
B10: 1.1 | C10: COSTOS RECURSO HUMANO - SEDE PARQUE METROPOLITANO DE LAS AGUAS | G10: 9 | H10: 4 | W10: Oferta Proponente
B11: ITEM | C11: PERSONAL POR OFICIO | D11: CANTIDAD CONTRATADO DE PERSONAL | E11: TOTAL COSTO UNITARIO REMUNERACIÓN MENSUAL (FIJA E INMODIFICABLE) * | F11: COSTO TOTAL REMUNERACIÓN MES | G11: RECARGO DOMINICAL MES | H11: RECARGO FESTIVO MES | I11: AUXILIO DE TRANSPORTE | J11: SALARIO TOTAL MES PROYECTADO (A) | K11: VACACIONES (B) | L11: PRIMA LEGAL (C ) | M11: CESANTÍAS (D ) | N11: INTERESES A LAS CESANTÍAS (E ) | O11: SALUD (F) | P11: PENSIÓN (G) | Q11: % Riesgos Profesionales (%FIJO E INMODIFICABLE) * | R11: RIESGOS PROFESIONALES (H) | S11: SENA (I) | T11: ICBF (J) | U11: CAJA DE COMPENSACIÓN FAMILIAR (K) | V11: TOTAL ACUMULADO SALARIO MES (L) = (SUMATORIA DESDE A HASTA K) | W11: AU (M) = (%AU * N) | X11: base para excentos | Y11: calculo base iva pleno | Z11: calculo base excenta | AA11: SUBTOTAL ANTES DE IVA (N) = M+N | AB11: IVA (O) * Ver Notas IVA N° 1, 2 | AC11: VALOR TOTAL MES INCLUIDO IVA ( P) =N + O | AD11: RUBRO PRESUPUESTAL
G12: 0.9 | H12: 1.9 | I12: =249095 -> 249095 | K12: 0.04167 | L12: 0.08333 | M12: 0.08333 | N12: 0.01 | O12: 0 | P12: 0.12 | S12: 0 | T12: 0 | U12: 0.04 | W12: 0.08 | AB12: 0.19
A13: 1 | B13: 1.1.1 | C13: Coordinador General | D13: 1 | E13: 5238163 | F13: =E13*D13 -> 5238163 | G13: =IFERROR(ROUND(($F13/(42*30/6)*7)*$G$12*$G$10/$D$44,0),"") -> 707152 | H13: =IFERROR(ROUND(($F13/(42*30/6)*7)*$H$12*$H$10/$D$44,0),"") -> 663501 | I13: =IF(E13>(1750905*2),0,$I$12*D13) -> 0 | J13: =IFERROR(SUM(F13:I13),"") -> 6608816 | K13: =IFERROR(ROUND((J13-I13)*$K$12,0),"") -> 275389 | L13: =IFERROR(ROUND((J13)*$L$12,0),"") -> 550713 | M13: =IFERROR(ROUND((J13)*$M$12,0),"") -> 550713 | N13: =IFERROR(ROUND((J13)*$N$12,0),"") -> 66088 | O13: =IFERROR(ROUND((J13-I13)*$O$12,0),"") -> 0 | P13: =IFERROR(ROUND((J13-I13)*$P$12,0),"") -> 793058 | Q13: 0.00522 | R13: =ROUND((J13-I13)*Q13,0) -> 34498 | S13: =IFERROR(ROUND((J13-I13)*$S$12,0),"") -> 0 | T13: =IFERROR(ROUND((J13-I13)*$T$12,0),"") -> 0 | U13: =ROUND((J13-I13)*$U$12,0) -> 264353 | V13: =IFERROR(+J13+K13+L13+M13+N13+O13+P13+R13+S13+T13+U13,"") -> 9143628 | W13: =IFERROR(ROUND(V13*$W$12,0),"") -> 731490 | Y13: =IFERROR(V13+W13,"") -> 9875118 | Z13: =IFERROR(Y13-(V13+W13),"") -> 0 | AA13: =IFERROR(V13+W13,"") -> 9875118 | AB13: =IFERROR(ROUND(AA13*$AB$12,0),"") -> 1876272 | AC13: =IFERROR(+AA13+AB13,"") -> 11751390 | AD13: 2.1.5.02.08
A14: 2 | B14: 1.1.2 | C14: Asistente | D14: 1 | E14: 4200122 | F14: =E14*D14 -> 4200122 | G14: =IFERROR(ROUND(($F14/(42*30/6)*7)*$G$12*$G$10/$D$44,0),"") -> 567016 | H14: =IFERROR(ROUND(($F14/(42*30/6)*7)*$H$12*$H$10/$D$44,0),"") -> 532015 | I14: =IF(E14>(1750905*2),0,$I$12*D14) -> 0 | J14: =IFERROR(SUM(F14:I14),"") -> 5299153 | K14: =IFERROR(ROUND((J14-I14)*$K$12,0),"") -> 220816 | L14: =IFERROR(ROUND((J14)*$L$12,0),"") -> 441578 | M14: =IFERROR(ROUND((J14)*$M$12,0),"") -> 441578 | N14: =IFERROR(ROUND((J14)*$N$12,0),"") -> 52992 | O14: =IFERROR(ROUND((J14-I14)*$O$12,0),"") -> 0 | P14: =IFERROR(ROUND((J14-I14)*$P$12,0),"") -> 635898 | Q14: 0.00522 | R14: =ROUND((J14-I14)*Q14,0) -> 27662 | S14: =IFERROR(ROUND((J14-I14)*$S$12,0),"") -> 0 | T14: =IFERROR(ROUND((J14-I14)*$T$12,0),"") -> 0 | U14: =ROUND((J14-I14)*$U$12,0) -> 211966 | V14: =IFERROR(+J14+K14+L14+M14+N14+O14+P14+R14+S14+T14+U14,"") -> 7331643 | W14: =IFERROR(ROUND(V14*$W$12,0),"") -> 586531 | Y14: =IFERROR(V14+W14,"") -> 7918174 | Z14: =IFERROR(Y14-(V14+W14),"") -> 0 | AA14: =IFERROR(V14+W14,"") -> 7918174 | AB14: =IFERROR(ROUND(AA14*$AB$12,0),"") -> 1504453 | AC14: =IFERROR(+AA14+AB14,"") -> 9422627 | AD14: 2.1.5.02.08
A15: 3 | B15: 1.1.3 | C15: Coordinador de mantenimiento locativo | D15: 1 | E15: 4200122 | F15: =E15*D15 -> 4200122 | G15: =IFERROR(ROUND(($F15/(42*30/6)*7)*$G$12*$G$10/$D$44,0),"") -> 567016 | H15: =IFERROR(ROUND(($F15/(42*30/6)*7)*$H$12*$H$10/$D$44,0),"") -> 532015 | I15: =IF(E15>(1750905*2),0,$I$12*D15) -> 0 | J15: =IFERROR(SUM(F15:I15),"") -> 5299153 | K15: =IFERROR(ROUND((J15-I15)*$K$12,0),"") -> 220816 | L15: =IFERROR(ROUND((J15)*$L$12,0),"") -> 441578 | M15: =IFERROR(ROUND((J15)*$M$12,0),"") -> 441578 | N15: =IFERROR(ROUND((J15)*$N$12,0),"") -> 52992 | O15: =IFERROR(ROUND((J15-I15)*$O$12,0),"") -> 0 | P15: =IFERROR(ROUND((J15-I15)*$P$12,0),"") -> 635898 | Q15: 0.00522 | R15: =ROUND((J15-I15)*Q15,0) -> 27662 | S15: =IFERROR(ROUND((J15-I15)*$S$12,0),"") -> 0 | T15: =IFERROR(ROUND((J15-I15)*$T$12,0),"") -> 0 | U15: =ROUND((J15-I15)*$U$12,0) -> 211966 | V15: =IFERROR(+J15+K15+L15+M15+N15+O15+P15+R15+S15+T15+U15,"") -> 7331643 | W15: =IFERROR(ROUND(V15*$W$12,0),"") -> 586531 | Y15: =IFERROR(V15+W15,"") -> 7918174 | Z15: =IFERROR(Y15-(V15+W15),"") -> 0 | AA15: =IFERROR(V15+W15,"") -> 7918174 | AB15: =IFERROR(ROUND(AA15*$AB$12,0),"") -> 1504453 | AC15: =IFERROR(+AA15+AB15,"") -> 9422627 | AD15: 2.1.5.02.08
A16: 4 | B16: 1.1.4 | C16: Tecnico o Tecnologo en Atencion Prehospitalaria | D16: 2 | E16: 3453397 | F16: =E16*D16 -> 6906794 | G16: =IFERROR(ROUND(($F16/(42*30/6)*7)*$G$12*$G$10/$D$44,0),"") -> 932417 | H16: =IFERROR(ROUND(($F16/(42*30/6)*7)*$H$12*$H$10/$D$44,0),"") -> 874861 | I16: =IF(E16>(1750905*2),0,$I$12*D16) -> 498190 | J16: =IFERROR(SUM(F16:I16),"") -> 9212262 | K16: =IFERROR(ROUND((J16-I16)*$K$12,0),"") -> 363115 | L16: =IFERROR(ROUND((J16)*$L$12,0),"") -> 767658 | M16: =IFERROR(ROUND((J16)*$M$12,0),"") -> 767658 | N16: =IFERROR(ROUND((J16)*$N$12,0),"") -> 92123 | O16: =IFERROR(ROUND((J16-I16)*$O$12,0),"") -> 0 | P16: =IFERROR(ROUND((J16-I16)*$P$12,0),"") -> 1045689 | Q16: 0.02436 | R16: =ROUND((J16-I16)*Q16,0) -> 212275 | S16: =IFERROR(ROUND((J16-I16)*$S$12,0),"") -> 0 | T16: =IFERROR(ROUND((J16-I16)*$T$12,0),"") -> 0 | U16: =ROUND((J16-I16)*$U$12,0) -> 348563 | V16: =IFERROR(+J16+K16+L16+M16+N16+O16+P16+R16+S16+T16+U16,"") -> 12809343 | W16: =IFERROR(ROUND(V16*$W$12,0),"") -> 1024747 | Y16: =IFERROR(V16+W16,"") -> 13834090 | Z16: =IFERROR(Y16-(V16+W16),"") -> 0 | AA16: =IFERROR(V16+W16,"") -> 13834090 | AB16: =IFERROR(ROUND(AA16*$AB$12,0),"") -> 2628477 | AC16: =IFERROR(+AA16+AB16,"") -> 16462567 | AD16: 2.1.5.02.08
A17: 5 | B17: 1.1.5 | C17: Coordinador de Almacen | D17: 1 | E17: 4200122 | F17: =E17*D17 -> 4200122 | G17: =IFERROR(ROUND(($F17/(42*30/6)*7)*$G$12*$G$10/$D$44,0),"") -> 567016 | H17: =IFERROR(ROUND(($F17/(42*30/6)*7)*$H$12*$H$10/$D$44,0),"") -> 532015 | I17: =IF(E17>(1750905*2),0,$I$12*D17) -> 0 | J17: =IFERROR(SUM(F17:I17),"") -> 5299153 | K17: =IFERROR(ROUND((J17-I17)*$K$12,0),"") -> 220816 | L17: =IFERROR(ROUND((J17)*$L$12,0),"") -> 441578 | M17: =IFERROR(ROUND((J17)*$M$12,0),"") -> 441578 | N17: =IFERROR(ROUND((J17)*$N$12,0),"") -> 52992 | O17: =IFERROR(ROUND((J17-I17)*$O$12,0),"") -> 0 | P17: =IFERROR(ROUND((J17-I17)*$P$12,0),"") -> 635898 | Q17: 0.00522 | R17: =ROUND((J17-I17)*Q17,0) -> 27662 | S17: =IFERROR(ROUND((J17-I17)*$S$12,0),"") -> 0 | T17: =IFERROR(ROUND((J17-I17)*$T$12,0),"") -> 0 | U17: =ROUND((J17-I17)*$U$12,0) -> 211966 | V17: =IFERROR(+J17+K17+L17+M17+N17+O17+P17+R17+S17+T17+U17,"") -> 7331643 | W17: =IFERROR(ROUND(V17*$W$12,0),"") -> 586531 | Y17: =IFERROR(V17+W17,"") -> 7918174 | Z17: =IFERROR(Y17-(V17+W17),"") -> 0 | AA17: =IFERROR(V17+W17,"") -> 7918174 | AB17: =IFERROR(ROUND(AA17*$AB$12,0),"") -> 1504453 | AC17: =IFERROR(+AA17+AB17,"") -> 9422627 | AD17: 2.1.5.02.08
A18: 6 | B18: 1.1.6 | C18: Auxiliar de Almacen | D18: 1 | E18: 2286853 | F18: =E18*D18 -> 2286853 | G18: =IFERROR(ROUND(($F18/(42*30/6)*7)*$G$12*$G$10/$D$44,0),"") -> 308725 | H18: =IFERROR(ROUND(($F18/(42*30/6)*7)*$H$12*$H$10/$D$44,0),"") -> 289668 | I18: =IF(E18>(1750905*2),0,$I$12*D18) -> 249095 | J18: =IFERROR(SUM(F18:I18),"") -> 3134341 | K18: =IFERROR(ROUND((J18-I18)*$K$12,0),"") -> 120228 | L18: =IFERROR(ROUND((J18)*$L$12,0),"") -> 261185 | M18: =IFERROR(ROUND((J18)*$M$12,0),"") -> 261185 | N18: =IFERROR(ROUND((J18)*$N$12,0),"") -> 31343 | O18: =IFERROR(ROUND((J18-I18)*$O$12,0),"") -> 0 | P18: =IFERROR(ROUND((J18-I18)*$P$12,0),"") -> 346230 | Q18: 0.00522 | R18: =ROUND((J18-I18)*Q18,0) -> 15061 | S18: =IFERROR(ROUND((J18-I18)*$S$12,0),"") -> 0 | T18: =IFERROR(ROUND((J18-I18)*$T$12,0),"") -> 0 | U18: =ROUND((J18-I18)*$U$12,0) -> 115410 | V18: =IFERROR(+J18+K18+L18+M18+N18+O18+P18+R18+S18+T18+U18,"") -> 4284983 | W18: =IFERROR(ROUND(V18*$W$12,0),"") -> 342799 | Y18: =IFERROR(V18+W18,"") -> 4627782 | Z18: =IFERROR(Y18-(V18+W18),"") -> 0 | AA18: =IFERROR(V18+W18,"") -> 4627782 | AB18: =IFERROR(ROUND(AA18*$AB$12,0),"") -> 879279 | AC18: =IFERROR(+AA18+AB18,"") -> 5507061 | AD18: 2.1.5.02.08
A19: 7 | B19: 1.1.7 | C19: Tecnologo en Salud Ocupacional | D19: 1 | E19: 3453397 | F19: =E19*D19 -> 3453397 | G19: =IFERROR(ROUND(($F19/(42*30/6)*7)*$G$12*$G$10/$D$44,0),"") -> 466209 | H19: =IFERROR(ROUND(($F19/(42*30/6)*7)*$H$12*$H$10/$D$44,0),"") -> 437430 | I19: =IF(E19>(1750905*2),0,$I$12*D19) -> 249095 | J19: =IFERROR(SUM(F19:I19),"") -> 4606131 | K19: =IFERROR(ROUND((J19-I19)*$K$12,0),"") -> 181558 | L19: =IFERROR(ROUND((J19)*$L$12,0),"") -> 383829 | M19: =IFERROR(ROUND((J19)*$M$12,0),"") -> 383829 | N19: =IFERROR(ROUND((J19)*$N$12,0),"") -> 46061 | O19: =IFERROR(ROUND((J19-I19)*$O$12,0),"") -> 0 | P19: =IFERROR(ROUND((J19-I19)*$P$12,0),"") -> 522844 | Q19: 0.02436 | R19: =ROUND((J19-I19)*Q19,0) -> 106137 | S19: =IFERROR(ROUND((J19-I19)*$S$12,0),"") -> 0 | T19: =IFERROR(ROUND((J19-I19)*$T$12,0),"") -> 0 | U19: =ROUND((J19-I19)*$U$12,0) -> 174281 | V19: =IFERROR(+J19+K19+L19+M19+N19+O19+P19+R19+S19+T19+U19,"") -> 6404670 | W19: =IFERROR(ROUND(V19*$W$12,0),"") -> 512374 | Y19: =IFERROR(V19+W19,"") -> 6917044 | Z19: =IFERROR(Y19-(V19+W19),"") -> 0 | AA19: =IFERROR(V19+W19,"") -> 6917044 | AB19: =IFERROR(ROUND(AA19*$AB$12,0),"") -> 1314238 | AC19: =IFERROR(+AA19+AB19,"") -> 8231282 | AD19: 2.1.5.02.08
A20: 8 | B20: 1.1.8 | C20: Coordinador ambiental | D20: 1 | E20: 4200122 | F20: =E20*D20 -> 4200122 | G20: =IFERROR(ROUND(($F20/(42*30/6)*7)*$G$12*$G$10/$D$44,0),"") -> 567016 | H20: =IFERROR(ROUND(($F20/(42*30/6)*7)*$H$12*$H$10/$D$44,0),"") -> 532015 | I20: =IF(E20>(1750905*2),0,$I$12*D20) -> 0 | J20: =IFERROR(SUM(F20:I20),"") -> 5299153 | K20: =IFERROR(ROUND((J20-I20)*$K$12,0),"") -> 220816 | L20: =IFERROR(ROUND((J20)*$L$12,0),"") -> 441578 | M20: =IFERROR(ROUND((J20)*$M$12,0),"") -> 441578 | N20: =IFERROR(ROUND((J20)*$N$12,0),"") -> 52992 | O20: =IFERROR(ROUND((J20-I20)*$O$12,0),"") -> 0 | P20: =IFERROR(ROUND((J20-I20)*$P$12,0),"") -> 635898 | Q20: 0.02436 | R20: =ROUND((J20-I20)*Q20,0) -> 129087 | S20: =IFERROR(ROUND((J20-I20)*$S$12,0),"") -> 0 | T20: =IFERROR(ROUND((J20-I20)*$T$12,0),"") -> 0 | U20: =ROUND((J20-I20)*$U$12,0) -> 211966 | V20: =IFERROR(+J20+K20+L20+M20+N20+O20+P20+R20+S20+T20+U20,"") -> 7433068 | W20: =IFERROR(ROUND(V20*$W$12,0),"") -> 594645 | Y20: =IFERROR(V20+W20,"") -> 8027713 | Z20: =IFERROR(Y20-(V20+W20),"") -> 0 | AA20: =IFERROR(V20+W20,"") -> 8027713 | AB20: =IFERROR(ROUND(AA20*$AB$12,0),"") -> 1525265 | AC20: =IFERROR(+AA20+AB20,"") -> 9552978 | AD20: 2.1.5.02.08
A21: 9 | B21: 1.1.9 | C21: Taquillero | D21: 4 | E21: 2286853 | F21: =E21*D21 -> 9147412 | G21: =IFERROR(ROUND(($F21/(42*30/6)*7)*$G$12*$G$10/$D$44,0),"") -> 1234901 | H21: =IFERROR(ROUND(($F21/(42*30/6)*7)*$H$12*$H$10/$D$44,0),"") -> 1158672 | I21: =IF(E21>(1750905*2),0,$I$12*D21) -> 996380 | J21: =IFERROR(SUM(F21:I21),"") -> 12537365 | K21: =IFERROR(ROUND((J21-I21)*$K$12,0),"") -> 480913 | L21: =IFERROR(ROUND((J21)*$L$12,0),"") -> 1044739 | M21: =IFERROR(ROUND((J21)*$M$12,0),"") -> 1044739 | N21: =IFERROR(ROUND((J21)*$N$12,0),"") -> 125374 | O21: =IFERROR(ROUND((J21-I21)*$O$12,0),"") -> 0 | P21: =IFERROR(ROUND((J21-I21)*$P$12,0),"") -> 1384918 | Q21: 0.00522 | R21: =ROUND((J21-I21)*Q21,0) -> 60244 | S21: =IFERROR(ROUND((J21-I21)*$S$12,0),"") -> 0 | T21: =IFERROR(ROUND((J21-I21)*$T$12,0),"") -> 0 | U21: =ROUND((J21-I21)*$U$12,0) -> 461639 | V21: =IFERROR(+J21+K21+L21+M21+N21+O21+P21+R21+S21+T21+U21,"") -> 17139931 | W21: =IFERROR(ROUND(V21*$W$12,0),"") -> 1371194 | Y21: =IFERROR(V21+W21,"") -> 18511125 | Z21: =IFERROR(Y21-(V21+W21),"") -> 0 | AA21: =IFERROR(V21+W21,"") -> 18511125 | AB21: =IFERROR(ROUND(AA21*$AB$12,0),"") -> 3517114 | AC21: =IFERROR(+AA21+AB21,"") -> 22028239 | AD21: 2.1.5.02.08
A22: 10 | B22: 1.1.10 | C22: Auxiliar operativo y de información | D22: 1 | E22: 2286853 | F22: =E22*D22 -> 2286853 | G22: =IFERROR(ROUND(($F22/(42*30/6)*7)*$G$12*$G$10/$D$44,0),"") -> 308725 | H22: =IFERROR(ROUND(($F22/(42*30/6)*7)*$H$12*$H$10/$D$44,0),"") -> 289668 | I22: =IF(E22>(1750905*2),0,$I$12*D22) -> 249095 | J22: =IFERROR(SUM(F22:I22),"") -> 3134341 | K22: =IFERROR(ROUND((J22-I22)*$K$12,0),"") -> 120228 | L22: =IFERROR(ROUND((J22)*$L$12,0),"") -> 261185 | M22: =IFERROR(ROUND((J22)*$M$12,0),"") -> 261185 | N22: =IFERROR(ROUND((J22)*$N$12,0),"") -> 31343 | O22: =IFERROR(ROUND((J22-I22)*$O$12,0),"") -> 0 | P22: =IFERROR(ROUND((J22-I22)*$P$12,0),"") -> 346230 | Q22: 0.00522 | R22: =ROUND((J22-I22)*Q22,0) -> 15061 | S22: =IFERROR(ROUND((J22-I22)*$S$12,0),"") -> 0 | T22: =IFERROR(ROUND((J22-I22)*$T$12,0),"") -> 0 | U22: =ROUND((J22-I22)*$U$12,0) -> 115410 | V22: =IFERROR(+J22+K22+L22+M22+N22+O22+P22+R22+S22+T22+U22,"") -> 4284983 | W22: =IFERROR(ROUND(V22*$W$12,0),"") -> 342799 | Y22: =IFERROR(V22+W22,"") -> 4627782 | Z22: =IFERROR(Y22-(V22+W22),"") -> 0 | AA22: =IFERROR(V22+W22,"") -> 4627782 | AB22: =IFERROR(ROUND(AA22*$AB$12,0),"") -> 879279 | AC22: =IFERROR(+AA22+AB22,"") -> 5507061 | AD22: 2.1.5.02.08
A23: 11 | B23: 1.1.11 | C23: Auxiliar de Guarda Ropa | D23: 2 | E23: 2219582 | F23: =E23*D23 -> 4439164 | G23: =IFERROR(ROUND(($F23/(42*30/6)*7)*$G$12*$G$10/$D$44,0),"") -> 599287 | H23: =IFERROR(ROUND(($F23/(42*30/6)*7)*$H$12*$H$10/$D$44,0),"") -> 562294 | I23: =IF(E23>(1750905*2),0,$I$12*D23) -> 498190 | J23: =IFERROR(SUM(F23:I23),"") -> 6098935 | K23: =IFERROR(ROUND((J23-I23)*$K$12,0),"") -> 233383 | L23: =IFERROR(ROUND((J23)*$L$12,0),"") -> 508224 | M23: =IFERROR(ROUND((J23)*$M$12,0),"") -> 508224 | N23: =IFERROR(ROUND((J23)*$N$12,0),"") -> 60989 | O23: =IFERROR(ROUND((J23-I23)*$O$12,0),"") -> 0 | P23: =IFERROR(ROUND((J23-I23)*$P$12,0),"") -> 672089 | Q23: 0.00522 | R23: =ROUND((J23-I23)*Q23,0) -> 29236 | S23: =IFERROR(ROUND((J23-I23)*$S$12,0),"") -> 0 | T23: =IFERROR(ROUND((J23-I23)*$T$12,0),"") -> 0 | U23: =ROUND((J23-I23)*$U$12,0) -> 224030 | V23: =IFERROR(+J23+K23+L23+M23+N23+O23+P23+R23+S23+T23+U23,"") -> 8335110 | W23: =IFERROR(ROUND(V23*$W$12,0),"") -> 666809 | Y23: =IFERROR(V23+W23,"") -> 9001919 | Z23: =IFERROR(Y23-(V23+W23),"") -> 0 | AA23: =IFERROR(V23+W23,"") -> 9001919 | AB23: =IFERROR(ROUND(AA23*$AB$12,0),"") -> 1710365 | AC23: =IFERROR(+AA23+AB23,"") -> 10712284 | AD23: 2.1.5.02.08
A24: 12 | B24: 1.1.12 | C24: Tecnicos para adecuaciones y conservación en general | D24: 6 | E24: 3062112 | F24: =E24*D24 -> 18372672 | G24: =IFERROR(ROUND(($F24/(42*30/6)*7)*$G$12*$G$10/$D$44,0),"") -> 2480311 | H24: =IFERROR(ROUND(($F24/(42*30/6)*7)*$H$12*$H$10/$D$44,0),"") -> 2327205 | I24: =IF(E24>(1750905*2),0,$I$12*D24) -> 1494570 | J24: =IFERROR(SUM(F24:I24),"") -> 24674758 | K24: =IFERROR(ROUND((J24-I24)*$K$12,0),"") -> 965918 | L24: =IFERROR(ROUND((J24)*$L$12,0),"") -> 2056148 | M24: =IFERROR(ROUND((J24)*$M$12,0),"") -> 2056148 | N24: =IFERROR(ROUND((J24)*$N$12,0),"") -> 246748 | O24: =IFERROR(ROUND((J24-I24)*$O$12,0),"") -> 0 | P24: =IFERROR(ROUND((J24-I24)*$P$12,0),"") -> 2781623 | Q24: 0.0696 | R24: =ROUND((J24-I24)*Q24,0) -> 1613341 | S24: =IFERROR(ROUND((J24-I24)*$S$12,0),"") -> 0 | T24: =IFERROR(ROUND((J24-I24)*$T$12,0),"") -> 0 | U24: =ROUND((J24-I24)*$U$12,0) -> 927208 | V24: =IFERROR(+J24+K24+L24+M24+N24+O24+P24+R24+S24+T24+U24,"") -> 35321892 | W24: =IFERROR(ROUND(V24*$W$12,0),"") -> 2825751 | Y24: =IFERROR(V24+W24,"") -> 38147643 | Z24: =IFERROR(Y24-(V24+W24),"") -> 0 | AA24: =IFERROR(V24+W24,"") -> 38147643 | AB24: =IFERROR(ROUND(AA24*$AB$12,0),"") -> 7248052 | AC24: =IFERROR(+AA24+AB24,"") -> 45395695 | AD24: 2.1.5.02.08
... A26: 14 | B26: 1.1.14 | C26: Auxiliar Operativo o afines | D26: 4 | E26: 2219582 | F26: =E26*D26 -> 8878328 | G26: =IFERROR(ROUND(($F26/(42*30/6)*7)*$G$12*$G$10/$D$44,0),"") -> 1198574 | H26: =IFERROR(ROUND(($F26/(42*30/6)*7)*$H$12*$H$10/$D$44,0),"") -> 1124588 | I26: =IF(E26>(1750905*2),0,$I$12*D26) -> 996380 | J26: =IFERROR(SUM(F26:I26),"") -> 12197870 | K26: =IFERROR(ROUND((J26-I26)*$K$12,0),"") -> 466766 | L26: =IFERROR(ROUND((J26)*$L$12,0),"") -> 1016449 | M26: =IFERROR(ROUND((J26)*$M$12,0),"") -> 1016449 | N26: =IFERROR(ROUND((J26)*$N$12,0),"") -> 121979 | O26: =IFERROR(ROUND((J26-I26)*$O$12,0),"") -> 0 | P26: =IFERROR(ROUND((J26-I26)*$P$12,0),"") -> 1344179 | Q26: 0.0696 | R26: =ROUND((J26-I26)*Q26,0) -> 779624 | S26: =IFERROR(ROUND((J26-I26)*$S$12,0),"") -> 0 | T26: =IFERROR(ROUND((J26-I26)*$T$12,0),"") -> 0 | U26: =ROUND((J26-I26)*$U$12,0) -> 448060 | V26: =IFERROR(+J26+K26+L26+M26+N26+O26+P26+R26+S26+T26+U26,"") -> 17391376 | W26: =IFERROR(ROUND(V26*$W$12,0),"") -> 1391310 | Y26: =IFERROR(V26+W26,"") -> 18782686 | Z26: =IFERROR(Y26-(V26+W26),"") -> 0 | AA26: =IFERROR(V26+W26,"") -> 18782686 | AB26: =IFERROR(ROUND(AA26*$AB$12,0),"") -> 3568710 | AC26: =IFERROR(+AA26+AB26,"") -> 22351396 | AD26: 2.1.5.02.08
A27: 15 | B27: 1.1.15 | C27: Técnico Planta de Tratamiento de Aguas Residuales | D27: 1 | E27: 3062112 | F27: =E27*D27 -> 3062112 | G27: =IFERROR(ROUND(($F27/(42*30/6)*7)*$G$12*$G$10/$D$44,0),"") -> 413385 | H27: =IFERROR(ROUND(($F27/(42*30/6)*7)*$H$12*$H$10/$D$44,0),"") -> 387868 | I27: =IF(E27>(1750905*2),0,$I$12*D27) -> 249095 | J27: =IFERROR(SUM(F27:I27),"") -> 4112460 | K27: =IFERROR(ROUND((J27-I27)*$K$12,0),"") -> 160986 | L27: =IFERROR(ROUND((J27)*$L$12,0),"") -> 342691 | M27: =IFERROR(ROUND((J27)*$M$12,0),"") -> 342691 | N27: =IFERROR(ROUND((J27)*$N$12,0),"") -> 41125 | O27: =IFERROR(ROUND((J27-I27)*$O$12,0),"") -> 0 | P27: =IFERROR(ROUND((J27-I27)*$P$12,0),"") -> 463604 | Q27: 0.0435 | R27: =ROUND((J27-I27)*Q27,0) -> 168056 | S27: =IFERROR(ROUND((J27-I27)*$S$12,0),"") -> 0 | T27: =IFERROR(ROUND((J27-I27)*$T$12,0),"") -> 0 | U27: =ROUND((J27-I27)*$U$12,0) -> 154535 | V27: =IFERROR(+J27+K27+L27+M27+N27+O27+P27+R27+S27+T27+U27,"") -> 5786148 | W27: =IFERROR(ROUND(V27*$W$12,0),"") -> 462892 | X27: =IFERROR(ROUND(V27*10%,0),"") -> 578615 | Z27: =IFERROR(V27-X27+W27,"") -> 5670425 | AA27: =IFERROR(V27+W27,"") -> 6249040 | AB27: =IFERROR(ROUND(X27*$AB$12,0),"") -> 109937 | AC27: =IFERROR(+AA27+AB27,"") -> 6358977 | AD27: 2.1.5.02.08
A28: 16 | B28: 1.1.16 | C28: Manejo de agua de piscinas uso Recreativo M1 | D28: 1 | E28: 3062112 | F28: =E28*D28 -> 3062112 | G28: =IFERROR(ROUND(($F28/(42*30/6)*7)*$G$12*$G$10/$D$44,0),"") -> 413385 | H28: =IFERROR(ROUND(($F28/(42*30/6)*7)*$H$12*$H$10/$D$44,0),"") -> 387868 | I28: =IF(E28>(1750905*2),0,$I$12*D28) -> 249095 | J28: =IFERROR(SUM(F28:I28),"") -> 4112460 | K28: =IFERROR(ROUND((J28-I28)*$K$12,0),"") -> 160986 | L28: =IFERROR(ROUND((J28)*$L$12,0),"") -> 342691 | M28: =IFERROR(ROUND((J28)*$M$12,0),"") -> 342691 | N28: =IFERROR(ROUND((J28)*$N$12,0),"") -> 41125 | O28: =IFERROR(ROUND((J28-I28)*$O$12,0),"") -> 0 | P28: =IFERROR(ROUND((J28-I28)*$P$12,0),"") -> 463604 | Q28: 0.0435 | R28: =ROUND((J28-I28)*Q28,0) -> 168056 | S28: =IFERROR(ROUND((J28-I28)*$S$12,0),"") -> 0 | T28: =IFERROR(ROUND((J28-I28)*$T$12,0),"") -> 0 | U28: =ROUND((J28-I28)*$U$12,0) -> 154535 | V28: =IFERROR(+J28+K28+L28+M28+N28+O28+P28+R28+S28+T28+U28,"") -> 5786148 | W28: =IFERROR(ROUND(V28*$W$12,0),"") -> 462892 | X28: =IFERROR(ROUND(V28*10%,0),"") -> 578615 | Z28: =IFERROR(V28-X28+W28,"") -> 5670425 | AA28: =IFERROR(V28+W28,"") -> 6249040 | AB28: =IFERROR(ROUND(X28*$AB$12,0),"") -> 109937 | AC28: =IFERROR(+AA28+AB28,"") -> 6358977 | AD28: 2.1.5.02.08
A29: 17 | B29: 1.1.17 | C29: Piscineros | D29: 6 | E29: 2573073 | F29: =E29*D29 -> 15438438 | G29: =IFERROR(ROUND(($F29/(42*30/6)*7)*$G$12*$G$10/$D$44,0),"") -> 2084189 | H29: =IFERROR(ROUND(($F29/(42*30/6)*7)*$H$12*$H$10/$D$44,0),"") -> 1955535 | I29: =IF(E29>(1750905*2),0,$I$12*D29) -> 1494570 | J29: =IFERROR(SUM(F29:I29),"") -> 20972732 | K29: =IFERROR(ROUND((J29-I29)*$K$12,0),"") -> 811655 | L29: =IFERROR(ROUND((J29)*$L$12,0),"") -> 1747658 | M29: =IFERROR(ROUND((J29)*$M$12,0),"") -> 1747658 | N29: =IFERROR(ROUND((J29)*$N$12,0),"") -> 209727 | O29: =IFERROR(ROUND((J29-I29)*$O$12,0),"") -> 0 | P29: =IFERROR(ROUND((J29-I29)*$P$12,0),"") -> 2337379 | Q29: 0.0435 | R29: =ROUND((J29-I29)*Q29,0) -> 847300 | S29: =IFERROR(ROUND((J29-I29)*$S$12,0),"") -> 0 | T29: =IFERROR(ROUND((J29-I29)*$T$12,0),"") -> 0 | U29: =ROUND((J29-I29)*$U$12,0) -> 779126 | V29: =IFERROR(+J29+K29+L29+M29+N29+O29+P29+R29+S29+T29+U29,"") -> 29453235 | W29: =IFERROR(ROUND(V29*$W$12,0),"") -> 2356259 | X29: =IFERROR(ROUND(V29*10%,0),"") -> 2945324 | Z29: =IFERROR(V29-X29+W29,"") -> 28864170 | AA29: =IFERROR(V29+W29,"") -> 31809494 | AB29: =IFERROR(ROUND(X29*$AB$12,0),"") -> 559612 | AC29: =IFERROR(+AA29+AB29,"") -> 32369106 | AD29: 2.1.5.02.08
A30: 18 | B30: 1.1.18 | C30: Auxiliar Mantenimiento y Reparación de Flotadores | D30: 1 | E30: 2219582 | F30: =E30*D30 -> 2219582 | G30: =IFERROR(ROUND(($F30/(42*30/6)*7)*$G$12*$G$10/$D$44,0),"") -> 299644 | H30: =IFERROR(ROUND(($F30/(42*30/6)*7)*$H$12*$H$10/$D$44,0),"") -> 281147 | I30: =IF(E30>(1750905*2),0,$I$12*D30) -> 249095 | J30: =IFERROR(SUM(F30:I30),"") -> 3049468 | K30: =IFERROR(ROUND((J30-I30)*$K$12,0),"") -> 116692 | L30: =IFERROR(ROUND((J30)*$L$12,0),"") -> 254112 | M30: =IFERROR(ROUND((J30)*$M$12,0),"") -> 254112 | N30: =IFERROR(ROUND((J30)*$N$12,0),"") -> 30495 | O30: =IFERROR(ROUND((J30-I30)*$O$12,0),"") -> 0 | P30: =IFERROR(ROUND((J30-I30)*$P$12,0),"") -> 336045 | Q30: 0.0435 | R30: =ROUND((J30-I30)*Q30,0) -> 121816 | S30: =IFERROR(ROUND((J30-I30)*$S$12,0),"") -> 0 | T30: =IFERROR(ROUND((J30-I30)*$T$12,0),"") -> 0 | U30: =ROUND((J30-I30)*$U$12,0) -> 112015 | V30: =IFERROR(+J30+K30+L30+M30+N30+O30+P30+R30+S30+T30+U30,"") -> 4274755 | W30: =IFERROR(ROUND(V30*$W$12,0),"") -> 341980 | X30: =IFERROR(ROUND(V30*10%,0),"") -> 427476 | Z30: =IFERROR(V30-X30+W30,"") -> 4189259 | AA30: =IFERROR(V30+W30,"") -> 4616735 | AB30: =IFERROR(ROUND(X30*$AB$12,0),"") -> 81220 | AC30: =IFERROR(+AA30+AB30,"") -> 4697955 | AD30: 2.1.5.02.08
A31: 19 | B31: 1.1.19 | C31: Lider Servicios Generales | D31: 1 | E31: 3062112 | F31: =E31*D31 -> 3062112 | G31: =IFERROR(ROUND(($F31/(42*30/6)*7)*$G$12*$G$10/$D$44,0),"") -> 413385 | H31: =IFERROR(ROUND(($F31/(42*30/6)*7)*$H$12*$H$10/$D$44,0),"") -> 387868 | I31: =IF(E31>(1750905*2),0,$I$12*D31) -> 249095 | J31: =IFERROR(SUM(F31:I31),"") -> 4112460 | K31: =IFERROR(ROUND((J31-I31)*$K$12,0),"") -> 160986 | L31: =IFERROR(ROUND((J31)*$L$12,0),"") -> 342691 | M31: =IFERROR(ROUND((J31)*$M$12,0),"") -> 342691 | N31: =IFERROR(ROUND((J31)*$N$12,0),"") -> 41125 | O31: =IFERROR(ROUND((J31-I31)*$O$12,0),"") -> 0 | P31: =IFERROR(ROUND((J31-I31)*$P$12,0),"") -> 463604 | Q31: 0.01044 | R31: =ROUND((J31-I31)*Q31,0) -> 40334 | S31: =IFERROR(ROUND((J31-I31)*$S$12,0),"") -> 0 | T31: =IFERROR(ROUND((J31-I31)*$T$12,0),"") -> 0 | U31: =ROUND((J31-I31)*$U$12,0) -> 154535 | V31: =IFERROR(+J31+K31+L31+M31+N31+O31+P31+R31+S31+T31+U31,"") -> 5658426 | W31: =IFERROR(ROUND(V31*$W$12,0),"") -> 452674 | X31: =IFERROR(ROUND(V31*10%,0),"") -> 565843 | Z31: =IFERROR(V31-X31+W31,"") -> 5545257 | AA31: =IFERROR(V31+W31,"") -> 6111100 | AB31: =IFERROR(ROUND(X31*$AB$12,0),"") -> 107510 | AC31: =IFERROR(+AA31+AB31,"") -> 6218610 | AD31: 2.1.5.02.08
A32: 20 | B32: 1.1.20 | C32: Auxiliar Servicios Generales | D32: 25 | E32: 1917242 | F32: =E32*D32 -> 47931050 | G32: =IFERROR(ROUND(($F32/(42*30/6)*7)*$G$12*$G$10/$D$44,0),"") -> 6470692 | H32: =IFERROR(ROUND(($F32/(42*30/6)*7)*$H$12*$H$10/$D$44,0),"") -> 6071266 | I32: =IF(E32>(1750905*2),0,$I$12*D32) -> 6227375 | J32: =IFERROR(SUM(F32:I32),"") -> 66700383 | K32: =IFERROR(ROUND((J32-I32)*$K$12,0),"") -> 2519910 | L32: =IFERROR(ROUND((J32)*$L$12,0),"") -> 5558143 | M32: =IFERROR(ROUND((J32)*$M$12,0),"") -> 5558143 | N32: =IFERROR(ROUND((J32)*$N$12,0),"") -> 667004 | O32: =IFERROR(ROUND((J32-I32)*$O$12,0),"") -> 0 | P32: =IFERROR(ROUND((J32-I32)*$P$12,0),"") -> 7256761 | Q32: 0.01044 | R32: =ROUND((J32-I32)*Q32,0) -> 631338 | S32: =IFERROR(ROUND((J32-I32)*$S$12,0),"") -> 0 | T32: =IFERROR(ROUND((J32-I32)*$T$12,0),"") -> 0 | U32: =ROUND((J32-I32)*$U$12,0) -> 2418920 | V32: =IFERROR(+J32+K32+L32+M32+N32+O32+P32+R32+S32+T32+U32,"") -> 91310602 | W32: =IFERROR(ROUND(V32*$W$12,0),"") -> 7304848 | X32: =IFERROR(ROUND(V32*10%,0),"") -> 9131060 | Z32: =IFERROR(V32-X32+W32,"") -> 89484390 | AA32: =IFERROR(V32+W32,"") -> 98615450 | AB32: =IFERROR(ROUND(X32*$AB$12,0),"") -> 1734901 | AC32: =IFERROR(+AA32+AB32,"") -> 100350351 | AD32: 2.1.5.02.08
A33: 21 | B33: 1.1.21 | C33: Auxilar Mantenimiento Jardines (Ornato) | D33: 6 | E33: 2219582 | F33: =E33*D33 -> 13317492 | G33: =IFERROR(ROUND(($F33/(42*30/6)*7)*$G$12*$G$10/$D$44,0),"") -> 1797861 | H33: =IFERROR(ROUND(($F33/(42*30/6)*7)*$H$12*$H$10/$D$44,0),"") -> 1686882 | I33: =IF(E33>(1750905*2),0,$I$12*D33) -> 1494570 | J33: =IFERROR(SUM(F33:I33),"") -> 18296805 | K33: =IFERROR(ROUND((J33-I33)*$K$12,0),"") -> 700149 | L33: =IFERROR(ROUND((J33)*$L$12,0),"") -> 1524673 | M33: =IFERROR(ROUND((J33)*$M$12,0),"") -> 1524673 | N33: =IFERROR(ROUND((J33)*$N$12,0),"") -> 182968 | O33: =IFERROR(ROUND((J33-I33)*$O$12,0),"") -> 0 | P33: =IFERROR(ROUND((J33-I33)*$P$12,0),"") -> 2016268 | Q33: 0.02436 | R33: =ROUND((J33-I33)*Q33,0) -> 409302 | S33: =IFERROR(ROUND((J33-I33)*$S$12,0),"") -> 0 | T33: =IFERROR(ROUND((J33-I33)*$T$12,0),"") -> 0 | U33: =ROUND((J33-I33)*$U$12,0) -> 672089 | V33: =IFERROR(+J33+K33+L33+M33+N33+O33+P33+R33+S33+T33+U33,"") -> 25326927 | W33: =IFERROR(ROUND(V33*$W$12,0),"") -> 2026154 | X33: =IFERROR(ROUND(V33*10%,0),"") -> 2532693 | Z33: =IFERROR(V33-X33+W33,"") -> 24820388 | AA33: =IFERROR(V33+W33,"") -> 27353081 | AB33: =IFERROR(ROUND(X33*$AB$12,0),"") -> 481212 | AC33: =IFERROR(+AA33+AB33,"") -> 27834293 | AD33: 2.1.5.02.08
A34: 22 | B34: 1.1.22 | C34: Coordinador logistico | D34: 1 | E34: 3062112 | F34: =E34*D34 -> 3062112 | G34: =IFERROR(ROUND(($F34/(42*30/6)*7)*$G$12*$G$10/$D$44,0),"") -> 413385 | H34: =IFERROR(ROUND(($F34/(42*30/6)*7)*$H$12*$H$10/$D$44,0),"") -> 387868 | I34: =IF(E34>(1750905*2),0,$I$12*D34) -> 249095 | J34: =IFERROR(SUM(F34:I34),"") -> 4112460 | K34: =IFERROR(ROUND((J34-I34)*$K$12,0),"") -> 160986 | L34: =IFERROR(ROUND((J34)*$L$12,0),"") -> 342691 | M34: =IFERROR(ROUND((J34)*$M$12,0),"") -> 342691 | N34: =IFERROR(ROUND((J34)*$N$12,0),"") -> 41125 | O34: =IFERROR(ROUND((J34-I34)*$O$12,0),"") -> 0 | P34: =IFERROR(ROUND((J34-I34)*$P$12,0),"") -> 463604 | Q34: 0.0696 | R34: =ROUND((J34-I34)*Q34,0) -> 268890 | S34: =IFERROR(ROUND((J34-I34)*$S$12,0),"") -> 0 | T34: =IFERROR(ROUND((J34-I34)*$T$12,0),"") -> 0 | U34: =ROUND((J34-I34)*$U$12,0) -> 154535 | V34: =IFERROR(+J34+K34+L34+M34+N34+O34+P34+R34+S34+T34+U34,"") -> 5886982 | W34: =IFERROR(ROUND(V34*$W$12,0),"") -> 470959 | Y34: =IFERROR(V34+W34,"") -> 6357941 | Z34: =IFERROR(Y34-(V34+W34),"") -> 0 | AA34: =IFERROR(V34+W34,"") -> 6357941 | AB34: =IFERROR(ROUND(AA34*$AB$12,0),"") -> 1208009 | AC34: =IFERROR(+AA34+AB34,"") -> 7565950 | AD34: 2.1.5.02.08
A35: 23 | B35: 1.1.23 | C35: Guarda Acuático ( Salvavidas) | D35: 22 | E35: 2655639 | F35: =E35*D35 -> 58424058 | G35: =IFERROR(ROUND(($F35/(42*30/6)*7)*$G$12*$G$10/$D$44,0),"") -> 7887248 | H35: =IFERROR(ROUND(($F35/(42*30/6)*7)*$H$12*$H$10/$D$44,0),"") -> 7400381 | I35: =IF(E35>(1750905*2),0,$I$12*D35) -> 5480090 | J35: =IFERROR(SUM(F35:I35),"") -> 79191777 | K35: =IFERROR(ROUND((J35-I35)*$K$12,0),"") -> 3071566 | L35: =IFERROR(ROUND((J35)*$L$12,0),"") -> 6599051 | M35: =IFERROR(ROUND((J35)*$M$12,0),"") -> 6599051 | N35: =IFERROR(ROUND((J35)*$N$12,0),"") -> 791918 | O35: =IFERROR(ROUND((J35-I35)*$O$12,0),"") -> 0 | P35: =IFERROR(ROUND((J35-I35)*$P$12,0),"") -> 8845402 | Q35: 0.0696 | R35: =ROUND((J35-I35)*Q35,0) -> 5130333 | S35: =IFERROR(ROUND((J35-I35)*$S$12,0),"") -> 0 | T35: =IFERROR(ROUND((J35-I35)*$T$12,0),"") -> 0 | U35: =ROUND((J35-I35)*$U$12,0) -> 2948467 | V35: =IFERROR(+J35+K35+L35+M35+N35+O35+P35+R35+S35+T35+U35,"") -> 113177565 | W35: =IFERROR(ROUND(V35*$W$12,0),"") -> 9054205 | Y35: =IFERROR(V35+W35,"") -> 122231770 | Z35: =IFERROR(Y35-(V35+W35),"") -> 0 | AA35: =IFERROR(V35+W35,"") -> 122231770 | AB35: =IFERROR(ROUND(AA35*$AB$12,0),"") -> 23224036 | AC35: =IFERROR(+AA35+AB35,"") -> 145455806 | AD35: 2.1.5.02.08
A36: 24 | B36: 1.1.24 | C36: Promotor deportivo | D36: 1 | E36: 2837478 | F36: =E36*D36 -> 2837478 | G36: =IFERROR(ROUND(($F36/(42*30/6)*7)*$G$12*$G$10/$D$44,0),"") -> 383060 | H36: =IFERROR(ROUND(($F36/(42*30/6)*7)*$H$12*$H$10/$D$44,0),"") -> 359414 | I36: =IF(E36>(1750905*2),0,$I$12*D36) -> 249095 | J36: =IFERROR(SUM(F36:I36),"") -> 3829047 | K36: =IFERROR(ROUND((J36-I36)*$K$12,0),"") -> 149177 | L36: =IFERROR(ROUND((J36)*$L$12,0),"") -> 319074 | M36: =IFERROR(ROUND((J36)*$M$12,0),"") -> 319074 | N36: =IFERROR(ROUND((J36)*$N$12,0),"") -> 38290 | O36: =IFERROR(ROUND((J36-I36)*$O$12,0),"") -> 0 | P36: =IFERROR(ROUND((J36-I36)*$P$12,0),"") -> 429594 | Q36: 0.0696 | R36: =ROUND((J36-I36)*Q36,0) -> 249165 | S36: =IFERROR(ROUND((J36-I36)*$S$12,0),"") -> 0 | T36: =IFERROR(ROUND((J36-I36)*$T$12,0),"") -> 0 | U36: =ROUND((J36-I36)*$U$12,0) -> 143198 | V36: =IFERROR(+J36+K36+L36+M36+N36+O36+P36+R36+S36+T36+U36,"") -> 5476619 | W36: =IFERROR(ROUND(V36*$W$12,0),"") -> 438130 | Y36: =IFERROR(V36+W36,"") -> 5914749 | Z36: =IFERROR(Y36-(V36+W36),"") -> 0 | AA36: =IFERROR(V36+W36,"") -> 5914749 | AB36: =IFERROR(ROUND(AA36*$AB$12,0),"") -> 1123802 | AC36: =IFERROR(+AA36+AB36,"") -> 7038551 | AD36: 2.1.5.02.08
A37: 25 | B37: 1.1.25 | C37: Líder para el servcio de Carpinteria y afines. | D37: 1 | E37: 3062112 | F37: =E37*D37 -> 3062112 | G37: =IFERROR(ROUND(($F37/(42*30/6)*7)*$G$12*$G$10/$D$44,0),"") -> 413385 | H37: =IFERROR(ROUND(($F37/(42*30/6)*7)*$H$12*$H$10/$D$44,0),"") -> 387868 | I37: =IF(E37>(1750905*2),0,$I$12*D37) -> 249095 | J37: =IFERROR(SUM(F37:I37),"") -> 4112460 | K37: =IFERROR(ROUND((J37-I37)*$K$12,0),"") -> 160986 | L37: =IFERROR(ROUND((J37)*$L$12,0),"") -> 342691 | M37: =IFERROR(ROUND((J37)*$M$12,0),"") -> 342691 | N37: =IFERROR(ROUND((J37)*$N$12,0),"") -> 41125 | O37: =IFERROR(ROUND((J37-I37)*$O$12,0),"") -> 0 | P37: =IFERROR(ROUND((J37-I37)*$P$12,0),"") -> 463604 | Q37: 0.02436 | R37: =ROUND((J37-I37)*Q37,0) -> 94112 | S37: =IFERROR(ROUND((J37-I37)*$S$12,0),"") -> 0 | T37: =IFERROR(ROUND((J37-I37)*$T$12,0),"") -> 0 | U37: =ROUND((J37-I37)*$U$12,0) -> 154535 | V37: =IFERROR(+J37+K37+L37+M37+N37+O37+P37+R37+S37+T37+U37,"") -> 5712204 | W37: =IFERROR(ROUND(V37*$W$12,0),"") -> 456976 | Y37: =IFERROR(V37+W37,"") -> 6169180 | Z37: =IFERROR(Y37-(V37+W37),"") -> 0 | AA37: =IFERROR(V37+W37,"") -> 6169180 | AB37: =IFERROR(ROUND(AA37*$AB$12,0),"") -> 1172144 | AC37: =IFERROR(+AA37+AB37,"") -> 7341324 | AD37: 2.1.5.02.08
A38: 26 | B38: 1.1.26 | C38: Auxiliar para el servicio de Carpinteria y afines | D38: 1 | E38: 2219582 | F38: =E38*D38 -> 2219582 | G38: =IFERROR(ROUND(($F38/(42*30/6)*7)*$G$12*$G$10/$D$44,0),"") -> 299644 | H38: =IFERROR(ROUND(($F38/(42*30/6)*7)*$H$12*$H$10/$D$44,0),"") -> 281147 | I38: =IF(E38>(1750905*2),0,$I$12*D38) -> 249095 | J38: =IFERROR(SUM(F38:I38),"") -> 3049468 | K38: =IFERROR(ROUND((J38-I38)*$K$12,0),"") -> 116692 | L38: =IFERROR(ROUND((J38)*$L$12,0),"") -> 254112 | M38: =IFERROR(ROUND((J38)*$M$12,0),"") -> 254112 | N38: =IFERROR(ROUND((J38)*$N$12,0),"") -> 30495 | O38: =IFERROR(ROUND((J38-I38)*$O$12,0),"") -> 0 | P38: =IFERROR(ROUND((J38-I38)*$P$12,0),"") -> 336045 | Q38: 0.02436 | R38: =ROUND((J38-I38)*Q38,0) -> 68217 | S38: =IFERROR(ROUND((J38-I38)*$S$12,0),"") -> 0 | T38: =IFERROR(ROUND((J38-I38)*$T$12,0),"") -> 0 | U38: =ROUND((J38-I38)*$U$12,0) -> 112015 | V38: =IFERROR(+J38+K38+L38+M38+N38+O38+P38+R38+S38+T38+U38,"") -> 4221156 | W38: =IFERROR(ROUND(V38*$W$12,0),"") -> 337692 | Y38: =IFERROR(V38+W38,"") -> 4558848 | Z38: =IFERROR(Y38-(V38+W38),"") -> 0 | AA38: =IFERROR(V38+W38,"") -> 4558848 | AB38: =IFERROR(ROUND(AA38*$AB$12,0),"") -> 866181 | AC38: =IFERROR(+AA38+AB38,"") -> 5425029 | AD38: 2.1.5.02.08
B39: EVENTUALES
A40: 27 | B40: 1.1.27 | C40: Eventual - Taquillero | D40: 1 | E40: 2286853 | F40: =E40*D40 -> 2286853 | G40: =IFERROR(ROUND(($F40/(42*30/6)*7)*$G$12*$G$10/$D$44,0),"") -> 308725 | H40: =IFERROR(ROUND(($F40/(42*30/6)*7)*$H$12*$H$10/$D$44,0),"") -> 289668 | I40: =IF(E40>(1750905*2),0,$I$12*D40) -> 249095 | J40: =IFERROR(SUM(F40:I40),"") -> 3134341 | K40: =IFERROR(ROUND((J40-I40)*$K$12,0),"") -> 120228 | L40: =IFERROR(ROUND((J40)*$L$12,0),"") -> 261185 | M40: =IFERROR(ROUND((J40)*$M$12,0),"") -> 261185 | N40: =IFERROR(ROUND((J40)*$N$12,0),"") -> 31343 | O40: =IFERROR(ROUND((J40-I40)*$O$12,0),"") -> 0 | P40: =IFERROR(ROUND((J40-I40)*$P$12,0),"") -> 346230 | Q40: 0.00522 | R40: =ROUND((J40-I40)*Q40,0) -> 15061 | S40: =IFERROR(ROUND((J40-I40)*$S$12,0),"") -> 0 | T40: =IFERROR(ROUND((J40-I40)*$T$12,0),"") -> 0 | U40: =ROUND((J40-I40)*$U$12,0) -> 115410 | V40: =IFERROR(+J40+K40+L40+M40+N40+O40+P40+R40+S40+T40+U40,"") -> 4284983 | W40: =IFERROR(ROUND(V40*$W$12,0),"") -> 342799 | Y40: =IFERROR(V40+W40,"") -> 4627782 | Z40: =IFERROR(Y40-(V40+W40),"") -> 0 | AA40: =IFERROR(V40+W40,"") -> 4627782 | AB40: =IFERROR(ROUND(AA40*$AB$12,0),"") -> 879279 | AC40: =IFERROR(+AA40+AB40,"") -> 5507061 | AD40: 2.1.5.02.08
A41: 28 | B41: 1.1.28 | C41: Eventual - Auxiliar de Servicios Generales | D41: 6 | E41: 1917242 | F41: =E41*D41 -> 11503452 | G41: =IFERROR(ROUND(($F41/(42*30/6)*7)*$G$12*$G$10/$D$44,0),"") -> 1552966 | H41: =IFERROR(ROUND(($F41/(42*30/6)*7)*$H$12*$H$10/$D$44,0),"") -> 1457104 | I41: =IF(E41>(1750905*2),0,$I$12*D41) -> 1494570 | J41: =IFERROR(SUM(F41:I41),"") -> 16008092 | K41: =IFERROR(ROUND((J41-I41)*$K$12,0),"") -> 604778 | L41: =IFERROR(ROUND((J41)*$L$12,0),"") -> 1333954 | M41: =IFERROR(ROUND((J41)*$M$12,0),"") -> 1333954 | N41: =IFERROR(ROUND((J41)*$N$12,0),"") -> 160081 | O41: =IFERROR(ROUND((J41-I41)*$O$12,0),"") -> 0 | P41: =IFERROR(ROUND((J41-I41)*$P$12,0),"") -> 1741623 | Q41: 0.01044 | R41: =ROUND((J41-I41)*Q41,0) -> 151521 | S41: =IFERROR(ROUND((J41-I41)*$S$12,0),"") -> 0 | T41: =IFERROR(ROUND((J41-I41)*$T$12,0),"") -> 0 | U41: =ROUND((J41-I41)*$U$12,0) -> 580541 | V41: =IFERROR(+J41+K41+L41+M41+N41+O41+P41+R41+S41+T41+U41,"") -> 21914544 | W41: =IFERROR(ROUND(V41*$W$12,0),"") -> 1753164 | X41: =IFERROR(ROUND(V41*10%,0),"") -> 2191454 | Z41: =IFERROR(V41-X41+W41,"") -> 21476254 | AA41: =IFERROR(V41+W41,"") -> 23667708 | AB41: =IFERROR(ROUND(X41*$AB$12,0),"") -> 416376 | AC41: =IFERROR(+AA41+AB41,"") -> 24084084 | AD41: 2.1.5.02.08
B42: 1.1 | C42: SUBTOTAL -COSTO RECURSO HUMANO - SEDE PARQUE METROPOLITANO DE LAS AGUAS (VALOR NOMINA MES) | D42: =SUM(D13:D41) -> 101 | E42: =SUM(E13:E41) -> 81683695 | F42: =SUM(F13:F41) -> 251518251 | G42: =SUM(G13:G41) -> 33954963 | H42: =SUM(H13:H41) -> 31858978 | I42: =SUM(I13:I41) -> 23913120 | J42: =SUM(J13:J41) -> 341245312 | K42: =SUM(K13:K41) -> 13223231 | ... P42: =SUM(P13:P41) -> 38079864 | R42: =SUM(R13:R41) -> 11635957 | S42: =SUM(S13:S41) -> 0 | T42: =SUM(T13:T41) -> 0 | U42: =SUM(U13:U41) -> 12693289 | V42: =SUM(V13:V41) -> 477162052 | W42: =SUM(W13:W41) -> 38172963 | X42: =SUM(X13:X41) -> 18951080 | Y42: =SUM(Y13:Y41) -> 310663367 | ... AC42: =SUM(AC13:AC41) -> 577961759 | AD42: 2.1.5.02.08
B44: 1.1 | C44: TOTAL COSTOS RECURSO HUMANO - SEDE PARQUE METROPOLITANO DE LAS AGUAS (VALOR NOMINA TOTAL PARA EL PROCESO) | D44: 2 | E44: =$D$44*E$42 -> 163367390 | F44: =$D$44*F$42 -> 503036502 | G44: =$D$44*G$42 -> 67909926 | H44: =$D$44*H$42 -> 63717956 | I44: =$D$44*I$42 -> 47826240 | J44: =$D$44*J$42 -> 682490624 | K44: =$D$44*K$42 -> 26446462 | L44: =$D$44*L$42 -> 56871942 | ... P44: =$D$44*P$42 -> 76159728 | R44: =$D$44*R$42 -> 23271914 | S44: =$D$44*S$42 -> 0 | T44: =$D$44*T$42 -> 0 | U44: =$D$44*U$42 -> 25386578 | V44: =$D$44*V$42 -> 954324104 | W44: =$D$44*W$42 -> 76345926 | X44: =$D$44*X$42 -> 37902160 | Y44: =$D$44*Y$42 -> 621326734 | ... AC44: =$D$44*AC$42 -> 1155923518 | AD44: 2.1.5.02.08
...

Sheet POE DETALLADO 2027
B1: FORMULARIO N° 6 SELECCIÓN ABREVIADA MEDIANTE SUBASTA INVERSA ELECTRÓNICA – SIE de 2025 "RELACIÓN DE PRECIOS UNITARIOS OFERTA GANADORA" “SERVICIOS GENERALES INTEGRALES PARA LA ADECUADA CONSERVACIÓN Y ATENCIÓN DE LOS SERVIDORES, USUARIOS Y DEMÁS VISITANTES DEL AMVA Y SUS DEMÁS SEDES”. OFERTA ECONÓMICA DETALLADS (44 HORAS SEMANA) - INCLUYE % AU OFICIAL (POE) e IVA OFERTA ECONÓMICA - PROPONENTE ADJUDICATARIO
B2: SELECCIÓN ABREVIADA MEDIANTE SUBASTA INVERSA ELECTRÓNICA – SIExxx de 2026
B3: RELACIÓN DE PRECIOS UNITARIOS OFERTA GANADORA | AG3: Incremento 2027 | AH3: 0.08
B4: “SERVICIOS GENERALES INTEGRALES PARA LA ADECUADA CONSERVACIÓN Y ATENCIÓN DE LOS SERVIDORES, USUARIOS Y DEMÁS VISITANTES DEL AMVA Y SUS DEMÁS SEDES”.
AG5: Plazo: | AH5: 6
B6: OFERTA ECONÓMICA DETALLADS (42 HORAS SEMANA) - INCLUYE % AU OFICIAL (POE) e IVA
B7: OFERTA ECONÓMICA - PROPONENTE ADJUDICATARIO
B9: 1 | C9: COMPONENTE 1 - COSTOS - RECURSO HUMANO
B10: 1.1 | C10: COSTOS RECURSO HUMANO - SEDE PARQUE METROPOLITANO DE LAS AGUAS | G10: =(5+4+4+4+5+4) -> 26 | H10: =(2+0+3+0+3+1) -> 9 | W10: Oferta Proponente
B11: ITEM | C11: PERSONAL POR OFICIO | D11: CANTIDAD CONTRATADO DE PERSONAL | E11: TOTAL COSTO UNITARIO REMUNERACIÓN MENSUAL (FIJA E INMODIFICABLE) * | F11: COSTO TOTAL REMUNERACIÓN MES | G11: RECARGO DOMINICAL MES | H11: RECARGO FESTIVO MES | I11: AUXILIO DE TRANSPORTE | J11: SALARIO TOTAL MES PROYECTADO (A) | K11: VACACIONES (B) | L11: PRIMA LEGAL (C ) | M11: CESANTÍAS (D ) | N11: INTERESES A LAS CESANTÍAS (E ) | O11: SALUD (F) | P11: PENSIÓN (G) | Q11: % Riesgos Profesionales (%FIJO E INMODIFICABLE) * | R11: RIESGOS PROFESIONALES (H) | S11: SENA (I) | T11: ICBF (J) | U11: CAJA DE COMPENSACIÓN FAMILIAR (K) | V11: TOTAL ACUMULADO SALARIO MES (L) = (SUMATORIA DESDE A HASTA K) | W11: AU (M) = (%AU * N) | X11: base para excentos | Y11: calculo base iva pleno | Z11: calculo base excenta | AA11: SUBTOTAL ANTES DE IVA (N) = M+N | AB11: IVA (O) * Ver Notas IVA N° 1, 2 | AC11: VALOR TOTAL MES INCLUIDO IVA ( P) =N + O | AD11: RUBRO PRESUPUESTAL
G12: 0.9 | H12: 1.9 | I12: =ROUND((249095+(249095*Incremento_2027)),0) -> 269023 | K12: 0.04167 | L12: 0.08333 | M12: 0.08333 | N12: 0.01 | O12: 0 | P12: 0.12 | S12: 0 | T12: 0 | U12: 0.04 | W12: 0.08 | AB12: 0.19
A13: 1 | B13: 1.1.1 | C13: Coordinador General | D13: 1 | E13: =ROUND(((5238163*Incremento_2027)+5238163),0) -> 5657216 | F13: =E13*D13 -> 5657216 | G13: =IFERROR(ROUND(($F13/(42*30/6)*7)*$G$12*$G$10/$D$44,0),"") -> 735438 | H13: =IFERROR(ROUND(($F13/(42*30/6)*7)*$H$12*$H$10/$D$44,0),"") -> 537436 | I13: =IF(E13>(1750905*2),0,$I$12*D13) -> 0 | J13: =IFERROR(SUM(F13:I13),"") -> 6930090 | K13: =IFERROR(ROUND((J13-I13)*$K$12,0),"") -> 288777 | L13: =IFERROR(ROUND((J13)*$L$12,0),"") -> 577484 | M13: =IFERROR(ROUND((J13)*$M$12,0),"") -> 577484 | N13: =IFERROR(ROUND((J13)*$N$12,0),"") -> 69301 | O13: =IFERROR(ROUND((J13-I13)*$O$12,0),"") -> 0 | P13: =IFERROR(ROUND((J13-I13)*$P$12,0),"") -> 831611 | Q13: 0.00522 | R13: =ROUND((J13-I13)*Q13,0) -> 36175 | S13: =IFERROR(ROUND((J13-I13)*$S$12,0),"") -> 0 | T13: =IFERROR(ROUND((J13-I13)*$T$12,0),"") -> 0 | U13: =ROUND((J13-I13)*$U$12,0) -> 277204 | V13: =IFERROR(+J13+K13+L13+M13+N13+O13+P13+R13+S13+T13+U13,"") -> 9588126 | W13: =IFERROR(ROUND(V13*$W$12,0),"") -> 767050 | Y13: =IFERROR(V13+W13,"") -> 10355176 | Z13: =IFERROR(Y13-(V13+W13),"") -> 0 | AA13: =IFERROR(V13+W13,"") -> 10355176 | AB13: =IFERROR(ROUND(AA13*$AB$12,0),"") -> 1967483 | AC13: =IFERROR(+AA13+AB13,"") -> 12322659 | AD13: 2.1.5.02.08
A14: 2 | B14: 1.1.2 | C14: Asistente | D14: 1 | E14: =ROUND((4200122*(1+Incremento_2027)),0) -> 4536132 | F14: =E14*D14 -> 4536132 | G14: =IFERROR(ROUND(($F14/(42*30/6)*7)*$G$12*$G$10/$D$44,0),"") -> 589697 | H14: =IFERROR(ROUND(($F14/(42*30/6)*7)*$H$12*$H$10/$D$44,0),"") -> 430933 | I14: =IF(E14>(1750905*2),0,$I$12*D14) -> 0 | J14: =IFERROR(SUM(F14:I14),"") -> 5556762 | K14: =IFERROR(ROUND((J14-I14)*$K$12,0),"") -> 231550 | L14: =IFERROR(ROUND((J14)*$L$12,0),"") -> 463045 | M14: =IFERROR(ROUND((J14)*$M$12,0),"") -> 463045 | N14: =IFERROR(ROUND((J14)*$N$12,0),"") -> 55568 | O14: =IFERROR(ROUND((J14-I14)*$O$12,0),"") -> 0 | P14: =IFERROR(ROUND((J14-I14)*$P$12,0),"") -> 666811 | Q14: 0.00522 | R14: =ROUND((J14-I14)*Q14,0) -> 29006 | S14: =IFERROR(ROUND((J14-I14)*$S$12,0),"") -> 0 | T14: =IFERROR(ROUND((J14-I14)*$T$12,0),"") -> 0 | U14: =ROUND((J14-I14)*$U$12,0) -> 222270 | V14: =IFERROR(+J14+K14+L14+M14+N14+O14+P14+R14+S14+T14+U14,"") -> 7688057 | W14: =IFERROR(ROUND(V14*$W$12,0),"") -> 615045 | Y14: =IFERROR(V14+W14,"") -> 8303102 | Z14: =IFERROR(Y14-(V14+W14),"") -> 0 | AA14: =IFERROR(V14+W14,"") -> 8303102 | AB14: =IFERROR(ROUND(AA14*$AB$12,0),"") -> 1577589 | AC14: =IFERROR(+AA14+AB14,"") -> 9880691 | AD14: 2.1.5.02.08
A15: 3 | B15: 1.1.3 | C15: Coordinador de mantenimiento locativo | D15: 1 | E15: =ROUND((4200122*(1+Incremento_2027)),0) -> 4536132 | F15: =E15*D15 -> 4536132 | G15: =IFERROR(ROUND(($F15/(42*30/6)*7)*$G$12*$G$10/$D$44,0),"") -> 589697 | H15: =IFERROR(ROUND(($F15/(42*30/6)*7)*$H$12*$H$10/$D$44,0),"") -> 430933 | I15: =IF(E15>(1750905*2),0,$I$12*D15) -> 0 | J15: =IFERROR(SUM(F15:I15),"") -> 5556762 | K15: =IFERROR(ROUND((J15-I15)*$K$12,0),"") -> 231550 | L15: =IFERROR(ROUND((J15)*$L$12,0),"") -> 463045 | M15: =IFERROR(ROUND((J15)*$M$12,0),"") -> 463045 | N15: =IFERROR(ROUND((J15)*$N$12,0),"") -> 55568 | O15: =IFERROR(ROUND((J15-I15)*$O$12,0),"") -> 0 | P15: =IFERROR(ROUND((J15-I15)*$P$12,0),"") -> 666811 | Q15: 0.00522 | R15: =ROUND((J15-I15)*Q15,0) -> 29006 | S15: =IFERROR(ROUND((J15-I15)*$S$12,0),"") -> 0 | T15: =IFERROR(ROUND((J15-I15)*$T$12,0),"") -> 0 | U15: =ROUND((J15-I15)*$U$12,0) -> 222270 | V15: =IFERROR(+J15+K15+L15+M15+N15+O15+P15+R15+S15+T15+U15,"") -> 7688057 | W15: =IFERROR(ROUND(V15*$W$12,0),"") -> 615045 | Y15: =IFERROR(V15+W15,"") -> 8303102 | Z15: =IFERROR(Y15-(V15+W15),"") -> 0 | AA15: =IFERROR(V15+W15,"") -> 8303102 | AB15: =IFERROR(ROUND(AA15*$AB$12,0),"") -> 1577589 | AC15: =IFERROR(+AA15+AB15,"") -> 9880691 | AD15: 2.1.5.02.08
A16: 4 | B16: 1.1.4 | C16: Tecnico o Tecnologo en Atencion Prehospitalaria | D16: 2 | E16: =ROUND((3453397*(1+Incremento_2027)),0) -> 3729669 | F16: =E16*D16 -> 7459338 | G16: =IFERROR(ROUND(($F16/(42*30/6)*7)*$G$12*$G$10/$D$44,0),"") -> 969714 | H16: =IFERROR(ROUND(($F16/(42*30/6)*7)*$H$12*$H$10/$D$44,0),"") -> 708637 | I16: =IF(E16>(1750905*2),0,$I$12*D16) -> 0 | J16: =IFERROR(SUM(F16:I16),"") -> 9137689 | K16: =IFERROR(ROUND((J16-I16)*$K$12,0),"") -> 380768 | L16: =IFERROR(ROUND((J16)*$L$12,0),"") -> 761444 | M16: =IFERROR(ROUND((J16)*$M$12,0),"") -> 761444 | N16: =IFERROR(ROUND((J16)*$N$12,0),"") -> 91377 | O16: =IFERROR(ROUND((J16-I16)*$O$12,0),"") -> 0 | P16: =IFERROR(ROUND((J16-I16)*$P$12,0),"") -> 1096523 | Q16: 0.02436 | R16: =ROUND((J16-I16)*Q16,0) -> 222594 | S16: =IFERROR(ROUND((J16-I16)*$S$12,0),"") -> 0 | T16: =IFERROR(ROUND((J16-I16)*$T$12,0),"") -> 0 | U16: =ROUND((J16-I16)*$U$12,0) -> 365508 | V16: =IFERROR(+J16+K16+L16+M16+N16+O16+P16+R16+S16+T16+U16,"") -> 12817347 | W16: =IFERROR(ROUND(V16*$W$12,0),"") -> 1025388 | Y16: =IFERROR(V16+W16,"") -> 13842735 | Z16: =IFERROR(Y16-(V16+W16),"") -> 0 | AA16: =IFERROR(V16+W16,"") -> 13842735 | AB16: =IFERROR(ROUND(AA16*$AB$12,0),"") -> 2630120 | AC16: =IFERROR(+AA16+AB16,"") -> 16472855 | AD16: 2.1.5.02.08
A17: 5 | B17: 1.1.5 | C17: Coordinador de Almacen | D17: 1 | E17: =ROUND((4200122*(1+Incremento_2027)),0) -> 4536132 | F17: =E17*D17 -> 4536132 | G17: =IFERROR(ROUND(($F17/(42*30/6)*7)*$G$12*$G$10/$D$44,0),"") -> 589697 | H17: =IFERROR(ROUND(($F17/(42*30/6)*7)*$H$12*$H$10/$D$44,0),"") -> 430933 | I17: =IF(E17>(1750905*2),0,$I$12*D17) -> 0 | J17: =IFERROR(SUM(F17:I17),"") -> 5556762 | K17: =IFERROR(ROUND((J17-I17)*$K$12,0),"") -> 231550 | L17: =IFERROR(ROUND((J17)*$L$12,0),"") -> 463045 | M17: =IFERROR(ROUND((J17)*$M$12,0),"") -> 463045 | N17: =IFERROR(ROUND((J17)*$N$12,0),"") -> 55568 | O17: =IFERROR(ROUND((J17-I17)*$O$12,0),"") -> 0 | P17: =IFERROR(ROUND((J17-I17)*$P$12,0),"") -> 666811 | Q17: 0.00522 | R17: =ROUND((J17-I17)*Q17,0) -> 29006 | S17: =IFERROR(ROUND((J17-I17)*$S$12,0),"") -> 0 | T17: =IFERROR(ROUND((J17-I17)*$T$12,0),"") -> 0 | U17: =ROUND((J17-I17)*$U$12,0) -> 222270 | V17: =IFERROR(+J17+K17+L17+M17+N17+O17+P17+R17+S17+T17+U17,"") -> 7688057 | W17: =IFERROR(ROUND(V17*$W$12,0),"") -> 615045 | Y17: =IFERROR(V17+W17,"") -> 8303102 | Z17: =IFERROR(Y17-(V17+W17),"") -> 0 | AA17: =IFERROR(V17+W17,"") -> 8303102 | AB17: =IFERROR(ROUND(AA17*$AB$12,0),"") -> 1577589 | AC17: =IFERROR(+AA17+AB17,"") -> 9880691 | AD17: 2.1.5.02.08
