Workbook

Sheet ppto de obras
A1: AMPLIACION SISTEMA DE ALCANTARILLADO EN EL BARRIO 7 DE MAYO DEL MUNICIPIO DE FONSECA, LA GUAJIRA
A2: PRESUPUESTO DE OBRA
A3: 1 | B3: OBRAS E INSTALACIONES | C3: UNDIDAD | D3: CANTIDAD | E3: VR UNITARIO | F3: VR. TOTAL
A4: 1.1 | B4: ACTIVIDADES PRELIMINARES
A5: 1.1 | B5: Localización y Replanteo topográfico | C5: ML | D5: =+'cartera y cantidades'!C132 -> 1102.7 | E5: =+apus!G41 -> 7140 | F5: =+D5*E5 -> 7873278
B6: SUBTOTAL PRELIMINARES | F6: =+F5 -> 7873278
A7: 1.2 | B7: MOVIMIENTOS DE TIERRA
A8: 1.2.1 | B8: Excavación a màquina en material heterogéneo seco a cualquier profundidad. | C8: M3 | D8: =+'cartera y cantidades'!C133 -> 1205.5747 | E8: =+apus!G84 -> 63437 | F8: =+D8*E8 -> 76478040
A9: 1.2.2 | B9: Entibado temporal en tablón de madera para excavaciones bajo cualquier altura y grado de humedad. Incluye suministro, transporte y colocación de elementos en madera. | C9: M2 | D9: =+'cartera y cantidades'!C138 -> 425.4198 | E9: =+apus!G130 -> 46554 | F9: =+D9*E9 -> 19804993
A10: 1.2.3 | B10: Relleno con Arena Gruesa para colchon de tuberia | C10: M3 | D10: =+'cartera y cantidades'!C137 -> 79.216 | E10: =+apus!G175 -> 175975 | F10: =+D10*E10 -> 13940036
A11: 1.2.4 | B11: Llenos en material proveniente de la excavación, compactados mecánicamente hasta obtener una densidad igual o mayor del 90% de la densidad obtenida en el ensayo del próctor Modificado. | C11: M3 | D11: =+'cartera y cantidades'!C134 -> 944.14373 | E11: =+apus!G222 -> 84936 | F11: =+D11*E11 -> 80191792
A12: 1.2.5 | B12: Llenos en material proveniente de cantera, compactados mecánicamente hasta obtener una densidad igual o mayor del 90% de la densidad obtenida en el ensayo del próctor Modificado. | C12: M3 | D12: =+'cartera y cantidades'!C135 -> 236.03593 | E12: =+apus!G267 -> 206918 | F12: =+D12*E12 -> 48840083
A13: 1.2.6 | B13: Cargue manual, retiro y disposición final de material sobrante a cualquier distancia, medido en sitio. | C13: M3 | D13: =+'cartera y cantidades'!C136 -> 261.43093 | E13: =+apus!G311 -> 55625 | F13: =+D13*E13 -> 14542096
B14: SUBTOTAL MOVIMIENTO DE TIERRAS | F14: =SUM(F8:F13) -> 2.5379704e+08
A15: 1.3 | B15: SUMINISTRO E INSTALACION DE TUBERIAS Y ACCESORIOS
A16: 1.3.1 | B16: Suministro e Instalaciòn de Tuberìa perfilada 8" | C16: ml | D16: =+'cartera y cantidades'!C126 -> 652.7 | E16: =+apus!G355 -> 110485 | F16: =+D16*E16 -> 72113560
A17: 1.3.2 | B17: Suministro e Instalación de Tuberìa perfilada 6" | C17: ml | D17: =+'cartera y cantidades'!D126 -> 450 | E17: =+apus!G402 -> 93884 | F17: =+D17*E17 -> 42247800
A18: 1.3.3 | B18: Suministro e Instalaciòn de Kit silla Yee de 8 a 6" | C18: un | D18: =+'cartera y cantidades'!D128 -> 75 | E18: =+apus!G448 -> 251360 | F18: =+D18*E18 -> 18852000
B19: SUBTOTAL INSTALACION TUBERIAS Y ACCESORIOS | F19: =SUM(F15:F18) -> 1.3321336e+08
A20: 1.4 | B20: POZOS DE INSPECCION y CAJAS REGISTROS EN CONCRETO
A21: 1.4.1 | B21: Construcción pozo de inspecciòn sanitario de h= 0 a 2.5 ml diametro 1,5 ml en concreto de 21 Mpa. Incluye tapa, herrajes, acero de refuerzo. | C21: un | D21: =+'cartera y cantidades'!C127 -> 7 | E21: =+apus!G494 -> 4481360 | F21: =+D21*E21 -> 31369520
A22: 1.4.2 | B22: Construcción de caja de empalme para domiciliaria a la red en anden o zona verde de 0.50 m ancho libre int. profundidad de 0.80 a 1.20 m e= 0.10 m incluye tapa en concreto de 0.60 x 0.60 m. | C22: un | D22: =+'cartera y cantidades'!D129 -> 75 | E22: =+apus!G539 -> 827042 | F22: =+D22*E22 -> 62028150
A23: 1.4.3 | B23: Perforación de cámara de inspección existente, abocada para nueva tubería Ø menor de 400 mm y resane. | C23: UN | D23: 4 | E23: =+apus!G582 -> 372708.5 | F23: =+D23*E23 -> 1490834
B24: SUBTOTAL POZOS DE INSPECCION Y CAJA REGISTROS | F24: =SUM(F21:F23) -> 94888504
B25: SUBTOTAL OBRAS E INSTALACIONES | F25: =F6+F14+F19+F24 -> 4.8977218e+08
B26: ADMINISTRACION | E26: 0.24
B27: IMPREVISTOS | E27: 0.01
B28: UTILIDAD | E28: 0.05
B29: VALOR TOTAL PROYECTO | F29: =ROUND(F25,0) -> 489772182

Sheet cartera y cantidades
A1: CARTERA DE ALCANTARILLADO
A2: MUNICIPIO DE FONSECAA DEPARTAMENTO DE LA GUAJIRA
A3: BARRIO 7 DE MAYO
A4: CONTRATISTA ING
A5: SEPTIEMBRE DE 2026 TOP. BELQUIS PERALTA. LIC. N° 01-19575
A6: TRMO 1 | B6: TRAMO CALLE 30 ENTRE CARRERA 15 Y 15A P=0.4% D=8" | H6: 12 DOMCLRIAS | I6: ACOMETIDAS
A7: N° POZO | B7: ABSCISADO | C7: Cota Terreno | D7: Cota Clave | E7: Cota Batea | F7: COLCHON | G7: CORTE | H7: VOLUMEN | I7: CORTE PROMEDIO | J7: VOLUMEN PROMEDIO | K7: entibado
A8: 702 | B8: 0 | C8: 175.72 | E8: 173.96 | F8: 0.1 | G8: =(C8-E8)+F8 -> 1.86 | I8: =+AVERAGE(G8:G16) -> 2.0494 | J8: =+(I8+0.8)/2*0.6*6*12 -> 61.54704 | K8: =+(B16-B11)*2*AVERAGE(G10:G16) -> 174.0598
B9: 10 | C9: 175.6 | E9: =E8-(B9-B8)*0.4/100 -> 173.92 | F9: 0.1 | G9: =(C9-E9)+F9 -> 1.78 | H9: =+(B9-B8)*(G9+G8)/2*0.8 -> 14.56
B10: 20 | C10: 175.68 | E10: =E9-(B10-B9)*0.4/100 -> 173.88 | F10: 0.1 | G10: =(C10-E10)+F10 -> 1.9 | H10: =+(B10-B9)*(G10+G9)/2*0.8 -> 14.72
B11: 30 | C11: 175.74 | E11: =E10-(B11-B10)*0.4/100 -> 173.84 | F11: 0.1 | G11: =(C11-E11)+F11 -> 2 | H11: =+(B11-B10)*(G11+G10)/2*0.8 -> 15.6
B12: 40 | C12: 175.74 | E12: =E11-(B12-B11)*0.4/100 -> 173.8 | F12: 0.1 | G12: =(C12-E12)+F12 -> 2.04 | H12: =+(B12-B11)*(G12+G11)/2*0.8 -> 16.16
B13: 50 | C13: 175.74 | E13: =E12-(B13-B12)*0.4/100 -> 173.76 | F13: 0.1 | G13: =(C13-E13)+F13 -> 2.08 | H13: =+(B13-B12)*(G13+G12)/2*0.8 -> 16.48
B14: 60 | C14: 175.84 | E14: =E13-(B14-B13)*0.4/100 -> 173.72 | F14: 0.1 | G14: =(C14-E14)+F14 -> 2.22 | H14: =+(B14-B13)*(G14+G13)/2*0.8 -> 17.2
B15: 70 | C15: 175.72 | E15: =E14-(B15-B14)*0.4/100 -> 173.68 | F15: 0.1 | G15: =(C15-E15)+F15 -> 2.14 | H15: =+(B15-B14)*(G15+G14)/2*0.8 -> 17.44
A16: 1 | B16: 71.15 | C16: 176 | E16: =E15-(B16-B15)*0.4/100 -> 173.6754 | F16: 0.1 | G16: =(C16-E16)+F16 -> 2.4246 | H16: =+(B16-B15)*(G16+G15)/2*0.8 -> 2.099716
G17: V, EXCV | H17: =SUM(H9:H16) -> 114.25972 | I17: =+J8 -> 61.54704
G18: V. RELLENO | H18: =+H17-2.46 -> 111.79972 | I18: =+I17-0.109*12 -> 60.23904
A19: TRMO 2 | B19: TRAMO CALLE 29 ENTRE CARRERAS 15A Y 16 P=0.36% D=8" | H19: 5 DOMCLRIAS | I19: ACOMETIDAS
A20: N° POZO | B20: ABSCISADO | C20: Cota Terreno | D20: Cota Clave | E20: Cota Batea | F20: COLCHON | G20: CORTE | H20: VOLUMEN | I20: CORTE PROMEDIO | J20: VOLUMEN PROMEDIO
A21: 2 | B21: 0 | C21: 175.75 | E21: 174.24 | F21: 0.1 | G21: =(C21-E21)+F21 -> 1.61 | I21: =+AVERAGE(G21:G28) -> 1.402203 | J21: =+(I21+0.8)/2*0.6*6*5 -> 19.819827
B22: 10 | C22: 175.57 | E22: =E21+(B22-B21)*0.36/100 -> 174.276 | F22: 0.1 | G22: =(C22-E22)+F22 -> 1.394 | H22: =+(B22-B21)*(G22+G21)/2*0.8 -> 12.016
B23: 20 | C23: 175.63 | E23: =E22+(B23-B22)*0.36/100 -> 174.312 | F23: 0.1 | G23: =(C23-E23)+F23 -> 1.418 | H23: =+(B23-B22)*(G23+G22)/2*0.8 -> 11.248
B24: 30 | C24: 175.64 | E24: =E23+(B24-B23)*0.36/100 -> 174.348 | F24: 0.1 | G24: =(C24-E24)+F24 -> 1.392 | H24: =+(B24-B23)*(G24+G23)/2*0.8 -> 11.24
B25: 40 | C25: 175.58 | E25: =E24+(B25-B24)*0.36/100 -> 174.384 | F25: 0.1 | G25: =(C25-E25)+F25 -> 1.296 | H25: =+(B25-B24)*(G25+G24)/2*0.8 -> 10.752
B26: 50 | C26: 175.61 | E26: =E25+(B26-B25)*0.36/100 -> 174.42 | F26: 0.1 | G26: =(C26-E26)+F26 -> 1.29 | H26: =+(B26-B25)*(G26+G25)/2*0.8 -> 10.344
B27: 60 | C27: 175.75 | E27: =E26+(B27-B26)*0.36/100 -> 174.456 | F27: 0.1 | G27: =(C27-E27)+F27 -> 1.394 | H27: =+(B27-B26)*(G27+G26)/2*0.8 -> 10.736
A28: 3 | B28: 65.66 | C28: 175.8 | E28: =E27+(B28-B27)*0.36/100 -> 174.47638 | F28: 0.1 | G28: =(C28-E28)+F28 -> 1.423624 | H28: =+(B28-B27)*(G28+G27)/2*0.8 -> 6.3791007
G29: V, EXCV | H29: =SUM(H22:H28) -> 72.715101 | I29: =+J21 -> 19.819827
G30: V. RELLENO | H30: =+H29-2.46 -> 70.255101 | I30: =+I29-0.109*5 -> 19.274827
A31: TRMO 3 | B31: TRAMO CALLE 29 ENTRE CARRERAS 15 Y 15A P=0.36% D=8" | H31: 16 DOMCLRIAS | I31: ACOMETIDAS
A32: N° POZO | B32: ABSCISADO | C32: Cota Terreno | D32: Cota Clave | E32: Cota Batea | F32: COLCHON | G32: CORTE | H32: VOLUMEN | I32: CORTE PROMEDIO | J32: VOLUMEN PROMEDIO
A33: 706 | B33: 0 | C33: 175.54 | E33: 173.86 | F33: 0.1 | G33: =(C33-E33)+F33 -> 1.78 | I33: =+AVERAGE(G33:G44) -> 1.6346423 | J33: =+(I33+0.8)/2*0.6*6*16 -> 70.117699
B34: 10 | C34: 175.25 | E34: =E33+(B34-B33)*0.36/100 -> 173.896 | F34: 0.1 | G34: =(C34-E34)+F34 -> 1.454 | H34: =+(B34-B33)*(G34+G33)/2*0.8 -> 12.936
B35: 20 | C35: 175.27 | E35: =E34+(B35-B34)*0.36/100 -> 173.932 | F35: 0.1 | G35: =(C35-E35)+F35 -> 1.438 | H35: =+(B35-B34)*(G35+G34)/2*0.8 -> 11.568
B36: 30 | C36: 175.54 | E36: =E35+(B36-B35)*0.36/100 -> 173.968 | F36: 0.1 | G36: =(C36-E36)+F36 -> 1.672 | H36: =+(B36-B35)*(G36+G35)/2*0.8 -> 12.44
B37: 40 | C37: 175.62 | E37: =E36+(B37-B36)*0.36/100 -> 174.004 | F37: 0.1 | G37: =(C37-E37)+F37 -> 1.716 | H37: =+(B37-B36)*(G37+G36)/2*0.8 -> 13.552
B38: 50 | C38: 175.64 | E38: =E37+(B38-B37)*0.36/100 -> 174.04 | F38: 0.1 | G38: =(C38-E38)+F38 -> 1.7 | H38: =+(B38-B37)*(G38+G37)/2*0.8 -> 13.664
B39: 60 | C39: 175.54 | E39: =E38+(B39-B38)*0.36/100 -> 174.076 | F39: 0.1 | G39: =(C39-E39)+F39 -> 1.564 | H39: =+(B39-B38)*(G39+G38)/2*0.8 -> 13.056
B40: 70 | C40: 175.76 | E40: =E39+(B40-B39)*0.36/100 -> 174.112 | F40: 0.1 | G40: =(C40-E40)+F40 -> 1.748 | H40: =+(B40-B39)*(G40+G39)/2*0.8 -> 13.248
...

Sheet apus
B2: ANALISIS DE PRECIOS UNITARIOS
B5: Item: | C5: 1.1
B6: Actividad: | C6: Localización y Replanteo topográfico
B7: Unidad: | C7: ml
B9: Materiales
B10: Descripcion | C10: Unidad | D10: Cant | E10: Rend | F10: Precio x Unidad | G10: Valor Parcial
B11: Estaca de madera | C11: und | D11: 0.08 | E11: 1 | F11: 2500 | G11: =D11*E11*F11 -> 200
B12: Puntillas 2" | C12: lb | D12: 0.13 | E12: 1 | F12: 4800 | G12: =D12*E12*F12 -> 624
B13: Nylon | C13: m | D13: 0.224 | E13: 1 | F13: 400 | G13: =D13*E13*F13 -> 89.6
B14: Cal | C14: kg | D14: 0.265 | E14: 1 | F14: 2000 | G14: =D14*E14*F14 -> 530
G19: =D19*E19*F19 -> 0
B20: sub total | G20: =SUM(G11:G19) -> 1443.6
B21: Mano de obra
B22: Descripcion | C22: Unidad | D22: Cant | E22: Rend | F22: Salario | G22: Valor Parcial
B23: Cuadrilla topografica (1 top + 2 cad) | C23: hh | D23: 1 | E23: 0.14 | F23: 32800 | G23: =D23*E23*F23 -> 4592
G26: =D26*E26*F26 -> 0
B27: sub total | G27: =SUM(G23:G26) -> 4592
B28: Equipo
B29: Descripcion | C29: Unidad | D29: Cant | E29: Rend | F29: Tarifa | G29: Valor Parcial
B30: Herramienta meno (5% m.o) | C30: glb | D30: 1 | E30: 0.05 | F30: =G27 -> 4592 | G30: =D30*E30*F30 -> 229.6
B31: Equipo topografico | C31: hh | D31: 1 | E31: 0.14 | F31: 6250 | G31: =D31*E31*F31 -> 875
G34: =D34*E34*F34 -> 0
B35: sub total | G35: =SUM(G30:G34) -> 1104.6
B36: Transporte
B37: Descripcion | C37: Unidad | D37: Cant | E37: Rend | F37: Tarifa | G37: Valor Parcial
G38: =D38*E38*F38 -> 0
B39: sub total | G39: =SUM(G38) -> 0
D41: PRECIO TOTAL DE ITEM CON AIU 30% | G41: =ROUND(G20+G27+G35+G39,0) -> 7140
B53: ANALISIS DE PRECIOS UNITARIOS
B56: Item: | C56: 1.2.1
B57: Actividad: | C57: Excavación a màquina en material heterogéneo seco a cualquer profundidad.
B58: Unidad: | C58: m3
B60: Materiales
B61: Descripcion | C61: Unidad | D61: Cant | E61: Rend | F61: Precio x Unidad | G61: Valor Parcial
G62: =D62*E62*F62 -> 0
G63: =D63*E63*F63 -> 0
G64: =D64*E64*F64 -> 0 | K64: p
G65: =D65*E65*F65 -> 0
B66: sub total | G66: =SUM(G62:G65) -> 0
B67: Mano de obra
...

Sheet memorias
B2: MEMORIAS DE CANTIDADES
B5: Item: | C5: 1.1
B6: Descripcion: | C6: Localización y Replanteo topográfico
B7: Unidad: | C7: ml
B9: Ubicación | D9: Tramo | E9: Largo | H9: Cant Elem | I9: Cant Parcial
B10: Calle 30 entre carreras 15 y 15a | D10: Pozo 702 a MH 1 | E10: 71.15 | H10: 1 | I10: =E10*H10 -> 71.15
B11: Calle 29 entre carreras 15 y 16 | D11: Pozo 706 a MH 2 | E11: 103.97 | H11: 1 | I11: =E11*H11 -> 103.97
B12: Calle 29 entre carreras 15 y 16 | D12: MH 2 a MH 3 | E12: 65.66 | H12: 1 | I12: =E12*H12 -> 65.66
B13: Calle 28 entre carrera 15 y canal | D13: Pozo 693 a MH 4 | E13: 104.35 | H13: 1 | I13: =E13*H13 -> 104.35
B14: Calle 28 entre carrera 15 y canal | D14: MH 4 a MH 5 | E14: 65.63 | H14: 1 | I14: =E14*H14 -> 65.63
B15: Calle 28 entre carrera 15 y canal | D15: MH 5 a MH 6 | E15: 109.65 | H15: 1 | I15: =E15*H15 -> 109.65
B16: Calle 27 entre carrera 15 y canal | D16: Pozo 692 a MH 7 | E16: 33.48 | H16: 1 | I16: =E16*H16 -> 33.48
B17: Carrera 15a entre calles 28 y 29 | D17: MH 2 a MH 4 | E17: 52.25 | H17: 1 | I17: =E17*H17 -> 52.25
B18: Carrera 16 entre calles 28 y 29 | D18: MH 3 a MH 5 | E18: 46.56 | H18: 1 | I18: =E18*H18 -> 46.56
B19: Acometidas domiciliarias | D19: Todos los tramos | E19: 6 | H19: 75 | I19: =E19*H19 -> 450
G20: Total Item | I20: =ROUND(SUM(I10:I19),2) -> 1102.7
B25: MEMORIAS DE CANTIDADES
B28: Item: | C28: 1.2.1
B29: Descripcion: | C29: Excavación a màquina en material heterogéneo seco a cualquer profundidad.
B30: Unidad: | C30: m3
B32: Ubicación | D32: Tramo | E32: Vol Exc | H32: Cant Elem | I32: Cant Parcial
B33: Calle 30 entre carreras 15 y 15a | D33: Pozo 702 a MH 1 | E33: 114.25972 | H33: 1 | I33: =E33*H33 -> 114.25972
B34: Calle 29 entre carreras 15 y 16 | D34: Pozo 706 a MH 2 | E34: 135.5383 | H34: 1 | I34: =E34*H34 -> 135.5383
B35: Calle 29 entre carreras 15 y 16 | D35: MH 2 a MH 3 | E35: 72.715101 | H35: 1 | I35: =E35*H35 -> 72.715101
B36: Calle 28 entre carrera 15 y canal | D36: Pozo 693 a MH 4 | E36: 132.82202 | H36: 1 | I36: =E36*H36 -> 132.82202
B37: Calle 28 entre carrera 15 y canal | D37: MH 4 a MH 5 | E37: 83.958791 | H37: 1 | I37: =E37*H37 -> 83.958791
B38: Calle 28 entre carrera 15 y canal | D38: MH 5 a MH 6 | E38: 206.15938 | H38: 1 | I38: =E38*H38 -> 206.15938
B39: Calle 27 entre carrera 15 y canal | D39: Pozo 692 a MH 7 | E39: 42.527111 | H39: 1 | I39: =E39*H39 -> 42.527111
B40: Carrera 15a entre calles 28 y 29 | D40: MH 2 a MH 4 | E40: 60.509814 | H40: 1 | I40: =E40*H40 -> 60.509814
B41: Carrera 16 entre calles 28 y 29 | D41: MH 3 a MH 5 | E41: 32.627928 | H41: 1 | I41: =E41*H41 -> 32.627928
B42: Acometidas domiciliarias | D42: Todos los tramos | E42: 324.45651 | H42: 1 | I42: =E42*H42 -> 324.45651
G43: Total Item | I43: =ROUND(SUM(I33:I42),2) -> 1205.57
B48: MEMORIAS DE CANTIDADES
B51: Item: | C51: 1.2.2
B52: Descripcion: | C52: Entibado temporal en tablón de madera para excavaciones bajo cualquier altura y grado de humedad. Incluye suministro, transporte y colocación de elementos en madera.
B53: Unidad: | C53: m2
B55: Ubicación | D55: Tramo | E55: Area Ent | F55: Ancho | G55: Alto | H55: Cant Elem | I55: Cant Parcial
B56: Calle 30 entre carreras 15 y 15a | D56: Pozo 702 a MH 1 | E56: 174.0598 | H56: 1 | I56: =E56*H56 -> 174.0598
B57: Calle 28 entre carrera 15 y canal | D57: MH 5 a MH 6 | E57: 170.36 | H57: 1 | I57: =E57*H57 -> 170.36
B58: Calle 28 entre carrera 15 y canal | D58: MH 4 a MH 5 | E58: 81 | H58: 1 | I58: =E58*H58 -> 81
...
