Workbook

Sheet Análisis_Cotizaciones_Prom
B3: Tiempo en meses | D3: 27 | F3: PODA POR TÚNEL
B4: ITEM | C4: CANT PARA 3 ZONAS Y ZONA 0 | D4: PERSONAL PROFESIONAL | F4: PROMEDIO | G4: DESVIACIÓN ESTÁNDAR | H4: COEFICIENTE DE VARIACIÓN | I4: ÍNDICE DE CONFIABILIDAD | J4: LÍMITE SUPERIOR | K4: LÍMITE INFERIOR | L4: NUEVO PROMEDIO EXCLUYENDO VOLRES FUERA DEL TÚNEL ESTADÍSTICO | M4: NUEVA DESVIACIÓN ESTÁNDAR EXCLUYENDO VOLRES FUERA DEL TÚNEL ESTADÍSTICO | N4: NUEVO COEFICIENTE DE VARIACIÓN | O4: NUEVO ÍNDICE DE CONFIABILIDAD | P4: GENERA CONFIABILIDAD | Q4: PRECIO TECHO UNITARIO MENSUAL SERVICIO IVA INCLUIDO
B6: 1 | C6: 1 | D6: Gerente de Interventoría | F6: =ROUND(AVERAGE('PRESUPUESTO '!E5,'PRESUPUESTO '!F5,'PRESUPUESTO '!G5,'PRESUPUESTO '!H5),0) -> 33864132 | G6: =ROUND(STDEVA('PRESUPUESTO '!E5,'PRESUPUESTO '!F5,'PRESUPUESTO '!G5,'PRESUPUESTO '!H5),0) -> 19235532 | H6: =+G6/F6 -> 0.56802082 | I6: =100%-H6 -> 0.43197918 | J6: =+F6+G6 -> 53099664 | K6: =+F6-G6 -> 14628600 | L6: =ROUND(AVERAGE('PRESUPUESTO '!E5,'PRESUPUESTO '!H5),0) -> 33001358 | M6: =ROUND(STDEVA('PRESUPUESTO '!E5,'PRESUPUESTO '!H5),0) -> 14210926 | N6: =+M6/L6 -> 0.4306164 | O6: =100%-N6 -> 0.5693836 | P6: =IF(O6>=60%,"SI","NO") -> NO | Q6: =+L6 -> 33001358
B7: 2 | C7: 3 | D7: Coordinador Técnico | F7: =ROUND(AVERAGE('PRESUPUESTO '!E6,'PRESUPUESTO '!F6,'PRESUPUESTO '!G6,'PRESUPUESTO '!H6),0) -> 27203304 | G7: =ROUND(STDEVA('PRESUPUESTO '!E6,'PRESUPUESTO '!F6,'PRESUPUESTO '!G6,'PRESUPUESTO '!H6),0) -> 17137438 | H7: =+G7/F7 -> 0.62997634 | I7: =100%-H7 -> 0.37002366 | J7: =+F7+G7 -> 44340742 | K7: =+F7-G7 -> 10065866 | L7: =ROUND(AVERAGE('PRESUPUESTO '!E6,'PRESUPUESTO '!F6,'PRESUPUESTO '!H6),0) -> 19937739 | M7: =ROUND(STDEVA('PRESUPUESTO '!E6,'PRESUPUESTO '!F6,'PRESUPUESTO '!H6),0) -> 11126861 | N7: =+M7/L7 -> 0.55808038 | O7: =100%-N7 -> 0.44191962 | P7: =IF(O7>=60%,"SI","NO") -> NO | Q7: =+L7 -> 19937739
B8: =B7+1 -> 3 | C8: 3 | D8: Ingeniero de calidad y soporte de servicio | F8: =ROUND(AVERAGE('PRESUPUESTO '!E7,'PRESUPUESTO '!F7,'PRESUPUESTO '!G7,'PRESUPUESTO '!H7),0) -> 22846873 | G8: =ROUND(STDEVA('PRESUPUESTO '!E7,'PRESUPUESTO '!F7,'PRESUPUESTO '!G7,'PRESUPUESTO '!H7),0) -> 15145834 | H8: =+G8/F8 -> 0.6629281 | I8: =100%-H8 -> 0.3370719 | J8: =+F8+G8 -> 37992707 | K8: =+F8-G8 -> 7701039 | L8: =ROUND(AVERAGE('PRESUPUESTO '!E7,'PRESUPUESTO '!F7,'PRESUPUESTO '!H7),0) -> 16462498 | M8: =ROUND(STDEVA('PRESUPUESTO '!E7,'PRESUPUESTO '!F7,'PRESUPUESTO '!H7),0) -> 9976618 | N8: =+M8/L8 -> 0.60602091 | O8: =100%-N8 -> 0.39397909 | P8: =IF(O8>=60%,"SI","NO") -> NO | Q8: =+L8 -> 16462498
B9: =B8+1 -> 4 | C9: 2 | D9: Ingeniero de seguridad de la información | F9: =ROUND(AVERAGE('PRESUPUESTO '!E8,'PRESUPUESTO '!F8,'PRESUPUESTO '!G8,'PRESUPUESTO '!H8),0) -> 24486964 | G9: =ROUND(STDEVA('PRESUPUESTO '!E8,'PRESUPUESTO '!F8,'PRESUPUESTO '!G8,'PRESUPUESTO '!H8),0) -> 15904279 | H9: =+G9/F9 -> 0.64949983 | I9: =100%-H9 -> 0.35050017 | J9: =+F9+G9 -> 40391243 | K9: =+F9-G9 -> 8582685 | L9: =ROUND(AVERAGE('PRESUPUESTO '!E8,'PRESUPUESTO '!F8,'PRESUPUESTO '!H8),0) -> 17482618 | M9: =ROUND(STDEVA('PRESUPUESTO '!E8,'PRESUPUESTO '!F8,'PRESUPUESTO '!H8),0) -> 9222473 | N9: =+M9/L9 -> 0.52752242 | O9: =100%-N9 -> 0.47247758 | P9: =IF(O9>=60%,"SI","NO") -> NO | Q9: =+L9 -> 17482618
B10: =B9+1 -> 5 | C10: 2 | D10: Ingeniero de apoyo administrativo | F10: =ROUND(AVERAGE('PRESUPUESTO '!E9,'PRESUPUESTO '!F9,'PRESUPUESTO '!G9,'PRESUPUESTO '!H9),0) -> 17672556 | G10: =ROUND(STDEVA('PRESUPUESTO '!E9,'PRESUPUESTO '!F9,'PRESUPUESTO '!G9,'PRESUPUESTO '!H9),0) -> 11917472 | H10: =+G10/F10 -> 0.67434909 | I10: =100%-H10 -> 0.32565091 | J10: =+F10+G10 -> 29590028 | K10: =+F10-G10 -> 5755084 | L10: =ROUND(AVERAGE('PRESUPUESTO '!E9,'PRESUPUESTO '!F9,'PRESUPUESTO '!G9,'PRESUPUESTO '!H9),0) -> 17672556 | M10: =ROUND(STDEVA('PRESUPUESTO '!E9,'PRESUPUESTO '!F9,'PRESUPUESTO '!G9,'PRESUPUESTO '!H9),0) -> 11917472 | N10: =+M10/L10 -> 0.67434909 | O10: =100%-N10 -> 0.32565091 | P10: =IF(O10>=60%,"SI","NO") -> NO | Q10: =+L10 -> 17672556
B11: =B10+1 -> 6 | C11: 1 | D11: Contador Titulado | F11: =ROUND(AVERAGE('PRESUPUESTO '!E10,'PRESUPUESTO '!F10,'PRESUPUESTO '!G10,'PRESUPUESTO '!H10),0) -> 14077307 | G11: =ROUND(STDEVA('PRESUPUESTO '!E10,'PRESUPUESTO '!F10,'PRESUPUESTO '!G10,'PRESUPUESTO '!H10),0) -> 10818998 | H11: =+G11/F11 -> 0.76854174 | I11: =100%-H11 -> 0.23145826 | J11: =+F11+G11 -> 24896305 | K11: =+F11-G11 -> 3258309 | L11: =ROUND(AVERAGE('PRESUPUESTO '!E10,'PRESUPUESTO '!F10,'PRESUPUESTO '!H10),0) -> 9436409 | M11: =ROUND(STDEVA('PRESUPUESTO '!E10,'PRESUPUESTO '!F10,'PRESUPUESTO '!H10),0) -> 6807971 | N11: =+M11/L11 -> 0.72145781 | O11: =100%-N11 -> 0.27854219 | P11: =IF(O11>=60%,"SI","NO") -> NO | Q11: =+L11 -> 9436409
B12: =B11+1 -> 7 | C12: 1 | D12: Abogado | F12: =ROUND(AVERAGE('PRESUPUESTO '!E11,'PRESUPUESTO '!F11,'PRESUPUESTO '!G11,'PRESUPUESTO '!H11),0) -> 16016802 | G12: =ROUND(STDEVA('PRESUPUESTO '!E11,'PRESUPUESTO '!F11,'PRESUPUESTO '!G11,'PRESUPUESTO '!H11),0) -> 12616784 | H12: =+G12/F12 -> 0.78772179 | I12: =100%-H12 -> 0.21227821 | J12: =+F12+G12 -> 28633586 | K12: =+F12-G12 -> 3400018 | L12: =ROUND(AVERAGE('PRESUPUESTO '!E11,'PRESUPUESTO '!F11,'PRESUPUESTO '!G11,'PRESUPUESTO '!H11),0) -> 16016802 | M12: =ROUND(STDEVA('PRESUPUESTO '!E11,'PRESUPUESTO '!F11,'PRESUPUESTO '!G11,'PRESUPUESTO '!H11),0) -> 12616784 | N12: =+M12/L12 -> 0.78772179 | O12: =100%-N12 -> 0.21227821 | P12: =IF(O12>=60%,"SI","NO") -> NO | Q12: =+L12 -> 16016802
B13: 8 | C13: 6 | D13: Técnico en sistemas para gestionar el estado de los servicios | F13: =ROUND(AVERAGE('PRESUPUESTO '!E12,'PRESUPUESTO '!F12,'PRESUPUESTO '!G12,'PRESUPUESTO '!H12),0) -> 11127623 | G13: =ROUND(STDEVA('PRESUPUESTO '!E12,'PRESUPUESTO '!F12,'PRESUPUESTO '!G12,'PRESUPUESTO '!H12),0) -> 9345800 | H13: =+G13/F13 -> 0.83987389 | I13: =100%-H13 -> 0.16012611 | J13: =+F13+G13 -> 20473423 | K13: =+F13-G13 -> 1781823 | L13: =ROUND(AVERAGE('PRESUPUESTO '!E12,'PRESUPUESTO '!F12,'PRESUPUESTO '!H12),0) -> 7836831 | M13: =ROUND(STDEVA('PRESUPUESTO '!E12,'PRESUPUESTO '!F12,'PRESUPUESTO '!H12),0) -> 8126506 | N13: =+M13/L13 -> 1.0369633 | O13: =100%-N13 -> -0.036963283 | P13: =IF(O13>=60%,"SI","NO") -> NO | Q13: =+L13 -> 7836831
B14: 9 | C14: Costos indirectos derivados de la prestación mensual del servicio de interventoría. | F14: =ROUND(AVERAGE('PRESUPUESTO '!E13,'PRESUPUESTO '!F13,'PRESUPUESTO '!G13,'PRESUPUESTO '!H13),0) -> 83481579 | G14: =ROUND(STDEVA('PRESUPUESTO '!E13,'PRESUPUESTO '!F13,'PRESUPUESTO '!G13,'PRESUPUESTO '!H13),0) -> 57244029 | H14: =+G14/F14 -> 0.68570851 | I14: =100%-H14 -> 0.31429149 | J14: =+F14+G14 -> 140725608 | K14: =+F14-G14 -> 26237550 | L14: =ROUND(AVERAGE('PRESUPUESTO '!E13,'PRESUPUESTO '!G13,'PRESUPUESTO '!H13),0) -> 58553396 | M14: =ROUND(STDEVA('PRESUPUESTO '!E13,'PRESUPUESTO '!G13,'PRESUPUESTO '!H13),0) -> 34450434 | N14: =+M14/L14 -> 0.58835928 | O14: =100%-N14 -> 0.41164072 | P14: =IF(O14>=60%,"SI","NO") -> NO | Q14: =+L14 -> 58553396
B16: Tiempo en meses | D16: 27 | F16: PODA ARBITRARIA DE EXTREMOS
B17: ITEM | C17: CANT PARA 3 ZONAS Y ZONA 0 | D17: PERSONAL PROFESIONAL | F17: PROMEDIO | G17: DESVIACIÓN ESTÁNDAR | H17: COEFICIENTE DE VARIACIÓN | I17: ÍNDICE DE CONFIABILIDAD | J17: GENERA CONFIABILIDAD | K17: PRECIO TECHO UNITARIO MENSUAL SERVICIO IVA INCLUIDO
B19: 1 | C19: 1 | D19: Gerente de Interventoría | F19: =ROUND(AVERAGE('PRESUPUESTO '!E5,'PRESUPUESTO '!H5),0) -> 33001358 | G19: =ROUND(STDEVA('PRESUPUESTO '!E5,'PRESUPUESTO '!H5),0) -> 14210926 | H19: =+G19/F19 -> 0.4306164 | I19: =100%-H19 -> 0.5693836 | J19: =IF(I19>=60%,"SI","NO") -> NO | K19: =+F19 -> 33001358
B20: 2 | C20: 3 | D20: Coordinador Técnico | F20: =ROUND(AVERAGE('PRESUPUESTO '!E6,'PRESUPUESTO '!H6),0) -> 24559746 | G20: =ROUND(STDEVA('PRESUPUESTO '!E6,'PRESUPUESTO '!H6),0) -> 10928695 | H20: =+G20/F20 -> 0.44498404 | I20: =100%-H20 -> 0.55501596 | J20: =IF(I20>=60%,"SI","NO") -> NO | K20: =+F20 -> 24559746
B21: =B20+1 -> 3 | C21: 3 | D21: Ingeniero de calidad y soporte de servicio | F21: =ROUND(AVERAGE('PRESUPUESTO '!E7,'PRESUPUESTO '!H7),0) -> 19346884 | G21: =ROUND(STDEVA('PRESUPUESTO '!E7,'PRESUPUESTO '!H7),0) -> 12212605 | H21: =+G21/F21 -> 0.63124403 | I21: =100%-H21 -> 0.36875597 | J21: =IF(I21>=60%,"SI","NO") -> NO | K21: =+F21 -> 19346884
B22: =B21+1 -> 4 | C22: 2 | D22: Ingeniero de seguridad de la información | F22: =ROUND(AVERAGE('PRESUPUESTO '!E8,'PRESUPUESTO '!H8),0) -> 20877065 | G22: =ROUND(STDEVA('PRESUPUESTO '!E8,'PRESUPUESTO '!H8),0) -> 10048603 | H22: =+G22/F22 -> 0.48132259 | I22: =100%-H22 -> 0.51867741 | J22: =IF(I22>=60%,"SI","NO") -> NO | K22: =+F22 -> 20877065
B23: =B22+1 -> 5 | C23: 2 | D23: Ingeniero de apoyo administrativo | F23: =ROUND(AVERAGE('PRESUPUESTO '!E9,'PRESUPUESTO '!H9),0) -> 17816703 | G23: =ROUND(STDEVA('PRESUPUESTO '!E9,'PRESUPUESTO '!H9),0) -> 14376609 | H23: =+G23/F23 -> 0.80691748 | I23: =100%-H23 -> 0.19308252 | J23: =IF(I23>=60%,"SI","NO") -> NO | K23: =+F23 -> 17816703
B24: =B23+1 -> 6 | C24: 1 | D24: Contador Titulado | F24: =ROUND(AVERAGE('PRESUPUESTO '!F10,'PRESUPUESTO '!H10),0) -> 11859342 | G24: =ROUND(STDEVA('PRESUPUESTO '!F10,'PRESUPUESTO '!H10),0) -> 7581116 | H24: =+G24/F24 -> 0.63925267 | I24: =100%-H24 -> 0.36074733 | J24: =IF(I24>=60%,"SI","NO") -> NO | K24: =+F24 -> 11859342
B25: =B24+1 -> 7 | C25: 1 | D25: Abogado | F25: =ROUND(AVERAGE('PRESUPUESTO '!E11,'PRESUPUESTO '!H11),0) -> 15592817 | G25: =ROUND(STDEVA('PRESUPUESTO '!E11,'PRESUPUESTO '!H11),0) -> 14477563 | H25: =+G25/F25 -> 0.92847643 | I25: =100%-H25 -> 0.071523574 | J25: =IF(I25>=60%,"SI","NO") -> NO | K25: =+F25 -> 15592817
B26: 8 | C26: 6 | D26: Técnico en sistemas para gestionar el estado de los servicios | F26: =ROUND(AVERAGE('PRESUPUESTO '!F12,'PRESUPUESTO '!H12),0) -> 10225066 | G26: =ROUND(STDEVA('PRESUPUESTO '!F12,'PRESUPUESTO '!H12),0) -> 9892331 | H26: =+G26/F26 -> 0.96745889 | I26: =100%-H26 -> 0.03254111 | J26: =IF(I26>=60%,"SI","NO") -> NO | K26: =+F26 -> 10225066
B27: 9 | C27: Costos indirectos derivados de la prestación mensual del servicio de interventoría. | F27: =ROUND(AVERAGE('PRESUPUESTO '!G13,'PRESUPUESTO '!H13),0) -> 78422500 | G27: =ROUND(STDEVA('PRESUPUESTO '!G13,'PRESUPUESTO '!H13),0) -> 2230922 | H27: =+G27/F27 -> 0.028447474 | I27: =100%-H27 -> 0.97155253 | J27: =IF(I27>=60%,"SI","NO") -> SI | K27: =+F27 -> 78422500
B30: Tiempo en meses | D30: 27 | F30: PODA ARBITRARIA DE EXTREMO SUPERIOR
B31: ITEM | C31: CANT PARA 3 ZONAS Y ZONA 0 | D31: PERSONAL PROFESIONAL | F31: PROMEDIO | G31: DESVIACIÓN ESTÁNDAR | H31: COEFICIENTE DE VARIACIÓN | I31: ÍNDICE DE CONFIABILIDAD | J31: GENERA CONFIABILIDAD | K31: PRECIO TECHO UNITARIO MENSUAL SERVICIO IVA INCLUIDO
B33: 1 | C33: 1 | D33: Gerente de Interventoría | F33: =ROUND(AVERAGE('PRESUPUESTO '!E5,'PRESUPUESTO '!F5,'PRESUPUESTO '!H5),0) -> 26485509 | G33: =ROUND(STDEVA('PRESUPUESTO '!E5,'PRESUPUESTO '!F5,'PRESUPUESTO '!H5),0) -> 15111058 | H33: =+G33/F33 -> 0.57054059 | I33: =100%-H33 -> 0.42945941 | J33: =IF(I33>=60%,"SI","NO") -> NO | K33: =+F33 -> 26485509
B34: 2 | C34: 3 | D34: Coordinador Técnico | F34: =ROUND(AVERAGE('PRESUPUESTO '!E6,'PRESUPUESTO '!F6,'PRESUPUESTO '!H6),0) -> 19937739 | G34: =ROUND(STDEVA('PRESUPUESTO '!E6,'PRESUPUESTO '!F6,'PRESUPUESTO '!H6),0) -> 11126861 | H34: =+G34/F34 -> 0.55808038 | I34: =100%-H34 -> 0.44191962 | J34: =IF(I34>=60%,"SI","NO") -> NO | K34: =+F34 -> 19937739
B35: =B34+1 -> 3 | C35: 3 | D35: Ingeniero de calidad y soporte de servicio | F35: =ROUND(AVERAGE('PRESUPUESTO '!E7,'PRESUPUESTO '!F7,'PRESUPUESTO '!H7),0) -> 16462498 | G35: =ROUND(STDEVA('PRESUPUESTO '!E7,'PRESUPUESTO '!F7,'PRESUPUESTO '!H7),0) -> 9976618 | H35: =+G35/F35 -> 0.60602091 | I35: =100%-H35 -> 0.39397909 | J35: =IF(I35>=60%,"SI","NO") -> NO | K35: =+F35 -> 16462498
B36: =B35+1 -> 4 | C36: 2 | D36: Ingeniero de seguridad de la información | F36: =ROUND(AVERAGE('PRESUPUESTO '!E8,'PRESUPUESTO '!F8,'PRESUPUESTO '!H8),0) -> 17482618 | G36: =ROUND(STDEVA('PRESUPUESTO '!E8,'PRESUPUESTO '!F8,'PRESUPUESTO '!H8),0) -> 9222473 | H36: =+G36/F36 -> 0.52752242 | I36: =100%-H36 -> 0.47247758 | J36: =IF(I36>=60%,"SI","NO") -> NO | K36: =+F36 -> 17482618
B37: =B36+1 -> 5 | C37: 2 | D37: Ingeniero de apoyo administrativo | F37: =ROUND(AVERAGE('PRESUPUESTO '!E9,'PRESUPUESTO '!F9,'PRESUPUESTO '!H9),0) -> 14230075 | G37: =ROUND(STDEVA('PRESUPUESTO '!E9,'PRESUPUESTO '!F9,'PRESUPUESTO '!H9),0) -> 11913653 | H37: =+G37/F37 -> 0.83721646 | I37: =100%-H37 -> 0.16278354 | J37: =IF(I37>=60%,"SI","NO") -> NO | K37: =+F37 -> 14230075
B38: =B37+1 -> 6 | C38: 1 | D38: Contador Titulado | F38: =ROUND(AVERAGE('PRESUPUESTO '!E10,'PRESUPUESTO '!F10,'PRESUPUESTO '!H10),0) -> 9436409 | G38: =ROUND(STDEVA('PRESUPUESTO '!E10,'PRESUPUESTO '!F10,'PRESUPUESTO '!H10),0) -> 6807971 | H38: =+G38/F38 -> 0.72145781 | I38: =100%-H38 -> 0.27854219 | J38: =IF(I38>=60%,"SI","NO") -> NO | K38: =+F38 -> 9436409
B39: =B38+1 -> 7 | C39: 1 | D39: Abogado | F39: =ROUND(AVERAGE('PRESUPUESTO '!E11,'PRESUPUESTO '!F11,'PRESUPUESTO '!H11),0) -> 12022403 | G39: =ROUND(STDEVA('PRESUPUESTO '!E11,'PRESUPUESTO '!F11,'PRESUPUESTO '!H11),0) -> 11960079 | H39: =+G39/F39 -> 0.99481601 | I39: =100%-H39 -> 0.0051839886 | J39: =IF(I39>=60%,"SI","NO") -> NO | K39: =+F39 -> 12022403
B40: 8 | C40: 6 | D40: Técnico en sistemas para gestionar el estado de los servicios | F40: =ROUND(AVERAGE('PRESUPUESTO '!E12,'PRESUPUESTO '!F12,'PRESUPUESTO '!H12),0) -> 7836831 | G40: =ROUND(STDEVA('PRESUPUESTO '!E12,'PRESUPUESTO '!F12,'PRESUPUESTO '!H12),0) -> 8126506 | H40: =+G40/F40 -> 1.0369633 | I40: =100%-H40 -> -0.036963283 | J40: =IF(I40>=60%,"SI","NO") -> NO | K40: =+F40 -> 7836831
B41: 9 | C41: Costos indirectos derivados de la prestación mensual del servicio de interventoría. | F41: =ROUND(AVERAGE('PRESUPUESTO '!E13,'PRESUPUESTO '!G13,'PRESUPUESTO '!H13),0) -> 58553396 | G41: =ROUND(STDEVA('PRESUPUESTO '!E13,'PRESUPUESTO '!G13,'PRESUPUESTO '!H13),0) -> 34450434 | H41: =+G41/F41 -> 0.58835928 | I41: =100%-H41 -> 0.41164072 | J41: =IF(I41>=60%,"SI","NO") -> NO | K41: =+F41 -> 58553396
B43: Tiempo en meses | D43: 27 | F43: PODA ARBITRARIA DE EXTREMO INFERIOR
B44: ITEM | C44: CANT PARA 3 ZONAS Y ZONA 0 | D44: PERSONAL PROFESIONAL | F44: PROMEDIO | G44: DESVIACIÓN ESTÁNDAR | H44: COEFICIENTE DE VARIACIÓN | I44: ÍNDICE DE CONFIABILIDAD | J44: GENERA CONFIABILIDAD | K44: PRECIO TECHO UNITARIO MENSUAL SERVICIO IVA INCLUIDO
B46: 1 | C46: 1 | D46: Gerente de Interventoría | F46: =ROUND(AVERAGE('PRESUPUESTO '!E5,'PRESUPUESTO '!G5,'PRESUPUESTO '!H5),0) -> 40667572 | G46: =ROUND(STDEVA('PRESUPUESTO '!E5,'PRESUPUESTO '!G5,'PRESUPUESTO '!H5),0) -> 16651958 | H46: =+G46/F46 -> 0.40946526 | I46: =100%-H46 -> 0.59053474 | J46: =IF(I46>=60%,"SI","NO") -> NO | K46: =+F46 -> 40667572
B47: 2 | C47: 3 | D47: Coordinador Técnico | F47: =ROUND(AVERAGE('PRESUPUESTO '!E6,'PRESUPUESTO '!G6,'PRESUPUESTO '!H6),0) -> 32706497 | G47: =ROUND(STDEVA('PRESUPUESTO '!E6,'PRESUPUESTO '!G6,'PRESUPUESTO '!H6),0) -> 16088097 | H47: =+G47/F47 -> 0.491893 | I47: =100%-H47 -> 0.508107 | J47: =IF(I47>=60%,"SI","NO") -> NO | K47: =+F47 -> 32706497
B48: =B47+1 -> 3 | C48: 3 | D48: Ingeniero de calidad y soporte de servicio | F48: =ROUND(AVERAGE('PRESUPUESTO '!E7,'PRESUPUESTO '!G7,'PRESUPUESTO '!H7),0) -> 26897923 | G48: =ROUND(STDEVA('PRESUPUESTO '!E7,'PRESUPUESTO '!G7,'PRESUPUESTO '!H7),0) -> 15672537 | H48: =+G48/F48 -> 0.58266718 | I48: =100%-H48 -> 0.41733282 | J48: =IF(I48>=60%,"SI","NO") -> NO | K48: =+F48 -> 26897923
B49: =B48+1 -> 4 | C49: 2 | D49: Ingeniero de seguridad de la información | F49: =ROUND(AVERAGE('PRESUPUESTO '!E8,'PRESUPUESTO '!G8,'PRESUPUESTO '!H8),0) -> 29084710 | G49: =ROUND(STDEVA('PRESUPUESTO '!E8,'PRESUPUESTO '!G8,'PRESUPUESTO '!H8),0) -> 15892876 | H49: =+G49/F49 -> 0.54643405 | I49: =100%-H49 -> 0.45356595 | J49: =IF(I49>=60%,"SI","NO") -> NO | K49: =+F49 -> 29084710
B50: =B49+1 -> 5 | C50: 2 | D50: Ingeniero de apoyo administrativo | F50: =ROUND(AVERAGE('PRESUPUESTO '!E9,'PRESUPUESTO '!G9,'PRESUPUESTO '!H9),0) -> 21211135 | G50: =ROUND(STDEVA('PRESUPUESTO '!E9,'PRESUPUESTO '!G9,'PRESUPUESTO '!H9),0) -> 11743507 | H50: =+G50/F50 -> 0.55364821 | I50: =100%-H50 -> 0.44635179 | J50: =IF(I50>=60%,"SI","NO") -> NO | K50: =+F50 -> 21211135
...

Sheet Techo_Homologado
A1: A1: PARÁMETROS AIU (HOMOLOGACIÓN) | B1: B1: ICOMM | C1: C1: OPM | D1: D1: REDCOM | E1: E1: TBK
A2: A2: Directos mensuales (D_i) | B2: {=SUMPRODUCT( (IFERROR(VALUE('PRESUPUESTO '!$B$5:$B$163),0)>=1)* (IFERROR(VALUE('PRESUPUESTO '!$B$5:$B$163),0)<=8)* IFERROR(VALUE('PRESUPUESTO '!$C$5:$C$163),0)* IFERROR(VALUE('PRESUPUESTO '!$E$5:$E$163),0) )} -> 176735915 | C2: {=SUMPRODUCT( (IFERROR(VALUE('PRESUPUESTO '!$B$5:$B$163),0)>=1)* (IFERROR(VALUE('PRESUPUESTO '!$B$5:$B$163),0)<=8)* IFERROR(VALUE('PRESUPUESTO '!$C$5:$C$163),0)* IFERROR(VALUE('PRESUPUESTO '!$F$5:$F$163),0) )} -> 1.438783e+08 | D2: {=SUMPRODUCT( (IFERROR(VALUE('PRESUPUESTO '!$B$5:$B$163),0)>=1)* (IFERROR(VALUE('PRESUPUESTO '!$B$5:$B$163),0)<=8)* IFERROR(VALUE('PRESUPUESTO '!$C$5:$C$163),0)* IFERROR(VALUE('PRESUPUESTO '!$G$5:$G$163),0) )} -> 658000000 | E2: {=SUMPRODUCT( (IFERROR(VALUE('PRESUPUESTO '!$B$5:$B$163),0)>=1)* (IFERROR(VALUE('PRESUPUESTO '!$B$5:$B$163),0)<=8)* IFERROR(VALUE('PRESUPUESTO '!$C$5:$C$163),0)* IFERROR(VALUE('PRESUPUESTO '!$H$5:$H$163),0) )} -> 482160000
A3: A3: Indirectos mensuales (I_i) - Ítem 9 | B3: =+'PRESUPUESTO '!E13 -> 18815187 | C3: =+'PRESUPUESTO '!F13 -> 1.5826613e+08 | D3: =+'PRESUPUESTO '!G13 -> 80000000 | E3: =+'PRESUPUESTO '!H13 -> 76845000
A4: A4: AIU_i = I_i / D_i | B4: =+B3/B2 -> 0.10645933 | C4: =+C3/C2 -> 1.1 | D4: =+D3/D2 -> 0.12158055 | E4: =+E3/E2 -> 0.15937656
A6: A6: AIU_P75 (mercado) | B6: =ROUND(_xlfn.PERCENTILE.INC(B4:E4, 0.75), 6) -> 0.394532 | I6: {=SUMPRODUCT(--ISNUMBER('PRESUPUESTO '!$C$5:$C$18))} -> 8
A7: A7: AIU_REF (política mercado) | B7: =+B6 -> 0.394532 | I7: {=SUMPRODUCT(--ISNUMBER('PRESUPUESTO '!$F$5:$F$18))} -> 11
A8: A8: D_REF_P90 (directos mercado) | B8: =ROUND(_xlfn.PERCENTILE.INC(B2:E2, 0.9), 0) -> 605248000 | I8: {=SUMPRODUCT(--ISNUMBER('PRESUPUESTO '!$B$5:$B$18))} -> 9
A9: A9: TECHO ÍTEM 9 (indirectos) | B9: =ROUND($B$7 * $B$8, 0) -> 238789704
A11: ITEM | B11: DESCRIPCIÓN | C11: TECHO MENSUAL (IVA incl.) | D11: Validación | E11: ICOMM_hom | F11: OPM_hom | G11: REDCOM_hom | H11: TBK_hom
A12: 1 | B12: ='PRESUPUESTO '!D5 -> Gerente de Interventoría | C12: =IF($A12=9, $B$9, IFERROR( ROUND(_xlfn.PERCENTILE.INC(E12:H12, 0.9), 0), "") ) -> 72676035 | D12: {=IFERROR( _xlfn.AGGREGATE(15,6, ROW('PRESUPUESTO '!$B$5:$B$163) / (IFERROR(VALUE('PRESUPUESTO '!$B$5:$B$163),0)=$A12),1),"")} -> 5 | E12: {=IF($A12=9, "", IFERROR(VALUE(INDEX('PRESUPUESTO '!$E:$E, $D12))*(1+$B$7), "") )} -> 32008297 | F12: {=IF($A12=9, "", IFERROR(VALUE(INDEX('PRESUPUESTO '!$F:$F, $D12))*(1+$B$7), "") )} -> 18761769 | G12: {=IF($A12=9, "", IFERROR(VALUE(INDEX('PRESUPUESTO '!$G:$G, $D12))*(1+$B$7), "") )} -> 78093792 | H12: {=IF($A12=9, "", IFERROR(VALUE(INDEX('PRESUPUESTO '!$H:$H, $D12))*(1+$B$7), "") )} -> 60034603
A13: 2 | B13: ='PRESUPUESTO '!D6 -> Coordinador Técnico | C13: =IF($A13=9, $B$9, IFERROR( ROUND(_xlfn.PERCENTILE.INC(E13:H13, 0.9), 0), "") ) -> 61340233 | D13: {=IFERROR( _xlfn.AGGREGATE(15,6, ROW('PRESUPUESTO '!$B$5:$B$163) / (IFERROR(VALUE('PRESUPUESTO '!$B$5:$B$163),0)=$A13),1),"")} -> 6 | E13: {=IF($A13=9, "", IFERROR(VALUE(INDEX('PRESUPUESTO '!$E:$E, $D13))*(1+$B$7), "") )} -> 23472751 | F13: {=IF($A13=9, "", IFERROR(VALUE(INDEX('PRESUPUESTO '!$F:$F, $D13))*(1+$B$7), "") )} -> 14912742 | G13: {=IF($A13=9, "", IFERROR(VALUE(INDEX('PRESUPUESTO '!$G:$G, $D13))*(1+$B$7), "") )} -> 68332068 | H13: {=IF($A13=9, "", IFERROR(VALUE(INDEX('PRESUPUESTO '!$H:$H, $D13))*(1+$B$7), "") )} -> 45025952
A14: 3 | B14: ='PRESUPUESTO '!D7 -> Ingeniero de calidad y soporte de servicio | C14: =IF($A14=9, $B$9, IFERROR( ROUND(_xlfn.PERCENTILE.INC(E14:H14, 0.9), 0), "") ) -> 52705988 | D14: {=IFERROR( _xlfn.AGGREGATE(15,6, ROW('PRESUPUESTO '!$B$5:$B$163) / (IFERROR(VALUE('PRESUPUESTO '!$B$5:$B$163),0)=$A14),1),"")} -> 7 | E14: {=IF($A14=9, "", IFERROR(VALUE(INDEX('PRESUPUESTO '!$E:$E, $D14))*(1+$B$7), "") )} -> 14937206 | F14: {=IF($A14=9, "", IFERROR(VALUE(INDEX('PRESUPUESTO '!$F:$F, $D14))*(1+$B$7), "") )} -> 14912742 | G14: {=IF($A14=9, "", IFERROR(VALUE(INDEX('PRESUPUESTO '!$G:$G, $D14))*(1+$B$7), "") )} -> 58570344 | H14: {=IF($A14=9, "", IFERROR(VALUE(INDEX('PRESUPUESTO '!$H:$H, $D14))*(1+$B$7), "") )} -> 39022492
A15: 4 | B15: ='PRESUPUESTO '!D8 -> Ingeniero de seguridad de la información | C15: =IF($A15=9, $B$9, IFERROR( ROUND(_xlfn.PERCENTILE.INC(E15:H15, 0.9), 0), "") ) -> 56122592 | D15: {=IFERROR( _xlfn.AGGREGATE(15,6, ROW('PRESUPUESTO '!$B$5:$B$163) / (IFERROR(VALUE('PRESUPUESTO '!$B$5:$B$163),0)=$A15),1),"")} -> 8 | E15: {=IF($A15=9, "", IFERROR(VALUE(INDEX('PRESUPUESTO '!$E:$E, $D15))*(1+$B$7), "") )} -> 19204979 | F15: {=IF($A15=9, "", IFERROR(VALUE(INDEX('PRESUPUESTO '!$F:$F, $D15))*(1+$B$7), "") )} -> 14912742 | G15: {=IF($A15=9, "", IFERROR(VALUE(INDEX('PRESUPUESTO '!$G:$G, $D15))*(1+$B$7), "") )} -> 63451206 | H15: {=IF($A15=9, "", IFERROR(VALUE(INDEX('PRESUPUESTO '!$H:$H, $D15))*(1+$B$7), "") )} -> 39022492
A16: 5 | B16: ='PRESUPUESTO '!D9 -> Profesional de apoyo administrativo | C16: =IF($A16=9, $B$9, IFERROR( ROUND(_xlfn.PERCENTILE.INC(E16:H16, 0.9), 0), "") ) -> 39039575 | D16: {=IFERROR( _xlfn.AGGREGATE(15,6, ROW('PRESUPUESTO '!$B$5:$B$163) / (IFERROR(VALUE('PRESUPUESTO '!$B$5:$B$163),0)=$A16),1),"")} -> 9 | E16: {=IF($A16=9, "", IFERROR(VALUE(INDEX('PRESUPUESTO '!$E:$E, $D16))*(1+$B$7), "") )} -> 10669432 | F16: {=IF($A16=9, "", IFERROR(VALUE(INDEX('PRESUPUESTO '!$F:$F, $D16))*(1+$B$7), "") )} -> 9840960.8 | G16: {=IF($A16=9, "", IFERROR(VALUE(INDEX('PRESUPUESTO '!$G:$G, $D16))*(1+$B$7), "") )} -> 39046896 | H16: {=IF($A16=9, "", IFERROR(VALUE(INDEX('PRESUPUESTO '!$H:$H, $D16))*(1+$B$7), "") )} -> 39022492
A17: 6 | B17: ='PRESUPUESTO '!D10 -> Contador Titulado | C17: =IF($A17=9, $B$9, IFERROR( ROUND(_xlfn.PERCENTILE.INC(E17:H17, 0.9), 0), "") ) -> 34536980 | D17: {=IFERROR( _xlfn.AGGREGATE(15,6, ROW('PRESUPUESTO '!$B$5:$B$163) / (IFERROR(VALUE('PRESUPUESTO '!$B$5:$B$163),0)=$A17),1),"")} -> 10 | E17: {=IF($A17=9, "", IFERROR(VALUE(INDEX('PRESUPUESTO '!$E:$E, $D17))*(1+$B$7), "") )} -> 6401659.1 | F17: {=IF($A17=9, "", IFERROR(VALUE(INDEX('PRESUPUESTO '!$F:$F, $D17))*(1+$B$7), "") )} -> 9062621.9 | G17: {=IF($A17=9, "", IFERROR(VALUE(INDEX('PRESUPUESTO '!$G:$G, $D17))*(1+$B$7), "") )} -> 39046896 | H17: {=IF($A17=9, "", IFERROR(VALUE(INDEX('PRESUPUESTO '!$H:$H, $D17))*(1+$B$7), "") )} -> 24013841
A18: 7 | B18: ='PRESUPUESTO '!D11 -> Abogado | C18: =IF($A18=9, $B$9, IFERROR( ROUND(_xlfn.PERCENTILE.INC(E18:H18, 0.9), 0), "") ) -> 38139056 | D18: {=IFERROR( _xlfn.AGGREGATE(15,6, ROW('PRESUPUESTO '!$B$5:$B$163) / (IFERROR(VALUE('PRESUPUESTO '!$B$5:$B$163),0)=$A18),1),"")} -> 11 | E18: {=IF($A18=9, "", IFERROR(VALUE(INDEX('PRESUPUESTO '!$E:$E, $D18))*(1+$B$7), "") )} -> 7468603 | F18: {=IF($A18=9, "", IFERROR(VALUE(INDEX('PRESUPUESTO '!$F:$F, $D18))*(1+$B$7), "") )} -> 6807510.9 | G18: {=IF($A18=9, "", IFERROR(VALUE(INDEX('PRESUPUESTO '!$G:$G, $D18))*(1+$B$7), "") )} -> 39046896 | H18: {=IF($A18=9, "", IFERROR(VALUE(INDEX('PRESUPUESTO '!$H:$H, $D18))*(1+$B$7), "") )} -> 36020762
A19: 8 | B19: ='PRESUPUESTO '!D12 -> Técnico en sistemas para gestionar el estado de los servicios | C19: =IF($A19=9, $B$9, IFERROR( ROUND(_xlfn.PERCENTILE.INC(E19:H19, 0.9), 0), "") ) -> 27703773 | D19: {=IFERROR( _xlfn.AGGREGATE(15,6, ROW('PRESUPUESTO '!$B$5:$B$163) / (IFERROR(VALUE('PRESUPUESTO '!$B$5:$B$163),0)=$A19),1),"")} -> 12 | E19: {=IF($A19=9, "", IFERROR(VALUE(INDEX('PRESUPUESTO '!$E:$E, $D19))*(1+$B$7), "") )} -> 4267772.7 | F19: {=IF($A19=9, "", IFERROR(VALUE(INDEX('PRESUPUESTO '!$F:$F, $D19))*(1+$B$7), "") )} -> 4504521.9 | G19: {=IF($A19=9, "", IFERROR(VALUE(INDEX('PRESUPUESTO '!$G:$G, $D19))*(1+$B$7), "") )} -> 29285172 | H19: {=IF($A19=9, "", IFERROR(VALUE(INDEX('PRESUPUESTO '!$H:$H, $D19))*(1+$B$7), "") )} -> 24013841
A20: 9 | B20: =+'PRESUPUESTO '!C13 -> Costos indirectos derivados de la prestación mensual del servicio de interventoría. | C20: =IF($A20=9, $B$9, IFERROR( ROUND(_xlfn.PERCENTILE.INC(E20:H20, 0.9), 0), "") ) -> 238789704 | D20: {=IFERROR( _xlfn.AGGREGATE(15,6, ROW('PRESUPUESTO '!$B$5:$B$163) / (IFERROR(VALUE('PRESUPUESTO '!$B$5:$B$163),0)=$A20),1),"")} -> 13 | E20: {=IF($A20=9, "", IFERROR(VALUE(INDEX('PRESUPUESTO '!$E:$E, $D20))*(1+$B$7), "") )} | F20: {=IF($A20=9, "", IFERROR(VALUE(INDEX('PRESUPUESTO '!$F:$F, $D20))*(1+$B$7), "") )} | G20: {=IF($A20=9, "", IFERROR(VALUE(INDEX('PRESUPUESTO '!$G:$G, $D20))*(1+$B$7), "") )} | H20: {=IF($A20=9, "", IFERROR(VALUE(INDEX('PRESUPUESTO '!$H:$H, $D20))*(1+$B$7), "") )}

Sheet Precios_Históricos_2025-2026
D2: PRECIOS BASE OBTENIDOS DEL CONTRATO EN EJECUCIÓN ACTUALMENTE | G2: INDEXACIÓN 2026 (PRECIOS BASE OBTENIDOS DEL CONTRATO EN EJECUCIÓN ACTUALMENTE + IPC 5,1%) | J2: INDEXACIÓN 2027 (PRECIOS INDEXADOS A 2026 + SUPUESTO DE IPC 6,3%) | M2: VALOR DE REFERENCIA
B3: ITEM | C3: PERSONAL PROFESIONAL / SERVICIO | D3: COSTO UNITARIO MENSUAL ANTES DE IVA | E3: IVA | F3: COSTO UNITARIO MENSUAL IVA INCLUIDO | G3: COSTO UNITARIO MENSUAL INDEXADO 2026 ANTES DE IVA | H3: IVA | I3: COSTO UNITARIO MENSUAL INDEXADO 2026 IVA INCLUIDO | J3: COSTO UNITARIO MENSUAL INDEXADO 2027 ANTES DE IVA | K3: IVA | L3: COSTO UNITARIO MENSUAL INDEXADO 2027 IVA INCLUIDO
B5: 1 | C5: Gerente de Interventoría | D5: =12076379/1.19 -> 10148218 | E5: =+D5*19% -> 1928161.4 | F5: =+D5+E5 -> 12076379 | G5: =+D5*1.051 -> 10665777 | H5: =+G5*19% -> 2026497.6 | I5: =+G5+H5 -> 12692274 | J5: =ROUND(G5*1.063,0) -> 11337721 | K5: =+J5*19% -> 2154167 | L5: =+J5+K5 -> 13491888 | M5: =ROUND(L5,0) -> 13491888
B6: 2 | C6: Coordinador Técnico | D6: =9598877/1.19 -> 8066283.2 | E6: =+D6*19% -> 1532593.8 | F6: =+D6+E6 -> 9598877 | G6: =+D6*1.051 -> 8477663.6 | H6: =+G6*19% -> 1610756.1 | I6: =+G6+H6 -> 10088420 | J6: =ROUND(G6*1.063,0) -> 9011756 | K6: =+J6*19% -> 1712233.6 | L6: =+J6+K6 -> 10723990 | M6: =ROUND(L6,0) -> 10723990
B7: =B6+1 -> 3 | C7: Ingeniero de calidad y soporte de servicio | D7: =9598877/1.19 -> 8066283.2 | E7: =+D7*19% -> 1532593.8 | F7: =+D7+E7 -> 9598877 | G7: =+D7*1.051 -> 8477663.6 | H7: =+G7*19% -> 1610756.1 | I7: =+G7+H7 -> 10088420 | J7: =ROUND(G7*1.063,0) -> 9011756 | K7: =+J7*19% -> 1712233.6 | L7: =+J7+K7 -> 10723990 | M7: =ROUND(L7,0) -> 10723990
B8: =B7+1 -> 4 | C8: Ingeniero de seguridad de la información | D8: =9598877/1.19 -> 8066283.2 | E8: =+D8*19% -> 1532593.8 | F8: =+D8+E8 -> 9598877 | G8: =+D8*1.051 -> 8477663.6 | H8: =+G8*19% -> 1610756.1 | I8: =+G8+H8 -> 10088420 | J8: =ROUND(G8*1.063,0) -> 9011756 | K8: =+J8*19% -> 1712233.6 | L8: =+J8+K8 -> 10723990 | M8: =ROUND(L8,0) -> 10723990
B9: =B8+1 -> 5 | C9: Profesional de apoyo administrativo | D9: =6334326/1.19 -> 5322963 | E9: =+D9*19% -> 1011363 | F9: =+D9+E9 -> 6334326 | G9: =+D9*1.051 -> 5594434.1 | H9: =+G9*19% -> 1062942.5 | I9: =+G9+H9 -> 6657376.6 | J9: =ROUND(G9*1.063,0) -> 5946883 | K9: =+J9*19% -> 1129907.8 | L9: =+J9+K9 -> 7076790.8 | M9: =ROUND(L9,0) -> 7076791
B10: =B9+1 -> 6 | C10: Contador Titulado | D10: =8763572/1.19 -> 7364346.2 | E10: =+D10*19% -> 1399225.8 | F10: =+D10+E10 -> 8763572 | G10: =+D10*1.051 -> 7739927.9 | H10: =+G10*19% -> 1470586.3 | I10: =+G10+H10 -> 9210514.2 | J10: =ROUND(G10*1.063,0) -> 8227543 | K10: =+J10*19% -> 1563233.2 | L10: =+J10+K10 -> 9790776.2 | M10: =ROUND(L10,0) -> 9790776
B11: =B10+1 -> 7 | C11: Abogado | D11: =8763572/1.19 -> 7364346.2 | E11: =+D11*19% -> 1399225.8 | F11: =+D11+E11 -> 8763572 | G11: =+D11*1.051 -> 7739927.9 | H11: =+G11*19% -> 1470586.3 | I11: =+G11+H11 -> 9210514.2 | J11: =ROUND(G11*1.063,0) -> 8227543 | K11: =+J11*19% -> 1563233.2 | L11: =+J11+K11 -> 9790776.2 | M11: =ROUND(L11,0) -> 9790776
B12: 8 | C12: Técnico en sistemas para gestionar el estado de los servicios | D12: =2899423/1.19 -> 2436489.9 | E12: =+D12*19% -> 462933.08 | F12: =+D12+E12 -> 2899423 | G12: =+D12*1.051 -> 2560750.9 | H12: =+G12*19% -> 486542.67 | I12: =+G12+H12 -> 3047293.6 | J12: =ROUND(G12*1.063,0) -> 2722078 | K12: =+J12*19% -> 517194.82 | L12: =+J12+K12 -> 3239272.8 | M12: =ROUND(L12,0) -> 3239273

Sheet PRESUPUESTO 
B2: Tiempo en meses | D2: 12.5 | E2: COSTO UNITARIO MENSUAL ANTES DE IVA | I2: INDEXACIÓN 2027 (PRECIOS CONTRATO ANTERIOR INDEXADOS A 2026 + SUPUESTO DE IPC 6,3%) | J2: CALCULO POR CUARTILES DENTRO DE LOS LIMITES INFERIOR Y SUPERIOR | O2: VALORES COTIZADOS EN EL MARCO DE LOS LIMITES ESTABLECIDOS | S2: APLICACIÓN DE LA MEDIA ARMONICA E INDEXACION VALOR HISTORICOS 2026 | Y2: Meses | Z2: 0.5 | AA2: 12 | AB2: =AA2+Z2 -> 12.5
B3: ITEM | C3: CANT | D3: PERSONAL PROFESIONAL | W3: DETERMINACION DE LOS PRECIOS TECHO Y PRESUPUESTO
E4: ICOMM SOLUTIONS S.A.S. | F4: OPM CONSULTORIA SAS BIC | G4: REDCOM S.A.S. | H4: TBK CONSULTORES S.A.S. | J4: CUARTIL 1 | K4: CUARTIL 3 | L4: RANGO INTERCUARTILICO | M4: Límite inferior | N4: Límite superior | O4: ICOMM SOLUTIONS S.A.S. | P4: OPM CONSULTORIA SAS BIC | Q4: REDCOM S.A.S. | R4: TBK CONSULTORES S.A.S. | S4: MEDIA ARMONICA DE LAS COTIZACIONES INCLUIDAS | T4: INDEXACIÓN 2027 (PRECIOS CONTRATO ANTERIOR INDEXADOS A 2026 + SUPUESTO DE IPC 6,3%) | U4: MEDIA ARMÓNICA DE LAS COTIZACIOES RECIBIDAS Y EL VALOR HISORICO INDEXADO | W4: PRECIO TECHO UNITARIO MENSUAL ANTES DE IVA | X4: IVA | Y4: PRECIO TECHO UNITARIO MENSUAL IVA INCLUIDO | Z4: COSTO TOTAL 2026 (0,5 MESES) | AA4: COSTO TOTAL 2027 (12 MESES) | AB4: COSTO (12,5 MESES) PARA 3 CONTRATOS (3 ZONAS) INCLUIDO IVA
B5: 1 | C5: 1 | D5: Gerente de Interventoría | E5: =22952716 -> 22952716 | F5: 13453810 | G5: 56000000 | H5: 43050000 | I5: ='Precios_Históricos_2025-2026'!J5 -> 11337721 | J5: =QUARTILE(($E5,$F5,$G5,$H5),1) -> 20577990 | K5: =QUARTILE(($E5,$F5,$G5,$H5),3) -> 46287500 | L5: =K5-J5 -> 25709510 | M5: =J5-1.5*L5 -> -17986276 | N5: =K5+1.5*L5 -> 84851766 | O5: =IF(AND(E5>=$M5,E5<=$N5),E5,"REVISAR / EXCLUIR") -> 22952716 | P5: =IF(AND(F5>=$M5,F5<=$N5),F5,"REVISAR / EXCLUIR") -> 13453810 | Q5: =IF(AND(G5>=$M5,G5<=$N5),G5,"REVISAR / EXCLUIR") -> 56000000 | R5: =IF(AND(H5>=$M5,H5<=$N5),H5,"REVISAR / EXCLUIR") -> 43050000 | S5: =ROUND(HARMEAN(O5:R5),0) -> 25160056 | T5: =I5 -> 11337721 | U5: =ROUND(HARMEAN(S5,T5),0) -> 15631511 | W5: =U5 -> 15631511 | X5: =ROUND(W5*19%,0) -> 2969987 | Y5: =+W5+X5 -> 18601498 | Z5: =$Y5*$C5*$Z$2 -> 9300749 | AA5: =$Y5*$C5*$AA$2 -> 223217976 | AB5: =Z5+AA5 -> 232518725
B6: 2 | C6: 3 | D6: Coordinador Técnico | E6: 16831992 | F6: 10693725 | G6: 49000000 | H6: 32287500 | I6: ='Precios_Históricos_2025-2026'!J6 -> 9011756 | J6: =QUARTILE(($E6,$F6,$G6,$H6),1) -> 15297425 | K6: =QUARTILE(($E6,$F6,$G6,$H6),3) -> 36465625 | L6: =K6-J6 -> 21168200 | M6: =J6-1.5*L6 -> -16454874 | N6: =K6+1.5*L6 -> 68217925 | O6: =IF(AND(E6>=$M6,E6<=$N6),E6,"REVISAR / EXCLUIR") -> 16831992 | P6: =IF(AND(F6>=$M6,F6<=$N6),F6,"REVISAR / EXCLUIR") -> 10693725 | Q6: =IF(AND(G6>=$M6,G6<=$N6),G6,"REVISAR / EXCLUIR") -> 49000000 | R6: =IF(AND(H6>=$M6,H6<=$N6),H6,"REVISAR / EXCLUIR") -> 32287500 | S6: =ROUND(HARMEAN(O6:R6),0) -> 19578729 | T6: =I6 -> 9011756 | U6: =ROUND(HARMEAN(S6,T6),0) -> 12342479 | W6: =U6 -> 12342479 | X6: =ROUND(W6*19%,0) -> 2345071 | Y6: =+W6+X6 -> 14687550 | Z6: =$Y6*$C6*$Z$2 -> 22031325 | AA6: =$Y6*$C6*$AA$2 -> 528751800 | AB6: =Z6+AA6 -> 550783125
B7: =B6+1 -> 3 | C7: 3 | D7: Ingeniero de calidad y soporte de servicio | E7: 10711268 | F7: 10693725 | G7: 42000000 | H7: 27982500 | I7: ='Precios_Históricos_2025-2026'!J7 -> 9011756 | J7: =QUARTILE(($E7,$F7,$G7,$H7),1) -> 10706882 | K7: =QUARTILE(($E7,$F7,$G7,$H7),3) -> 31486875 | L7: =K7-J7 -> 20779993 | M7: =J7-1.5*L7 -> -20463107 | N7: =K7+1.5*L7 -> 62656864 | O7: =IF(AND(E7>=$M7,E7<=$N7),E7,"REVISAR / EXCLUIR") -> 10711268 | P7: =IF(AND(F7>=$M7,F7<=$N7),F7,"REVISAR / EXCLUIR") -> 10693725 | Q7: =IF(AND(G7>=$M7,G7<=$N7),G7,"REVISAR / EXCLUIR") -> 42000000 | R7: =IF(AND(H7>=$M7,H7<=$N7),H7,"REVISAR / EXCLUIR") -> 27982500 | S7: =ROUND(HARMEAN(O7:R7),0) -> 16232544 | T7: =I7 -> 9011756 | U7: =ROUND(HARMEAN(S7,T7),0) -> 11589446 | W7: =U7 -> 11589446 | X7: =ROUND(W7*19%,0) -> 2201995 | Y7: =+W7+X7 -> 13791441 | Z7: =$Y7*$C7*$Z$2 -> 20687162 | AA7: =$Y7*$C7*$AA$2 -> 496491876 | AB7: =Z7+AA7 -> 5.1717904e+08
B8: =B7+1 -> 4 | C8: 2 | D8: Ingeniero de seguridad de la información | E8: 13771630 | F8: 10693725 | G8: 45500000 | H8: 27982500 | I8: ='Precios_Históricos_2025-2026'!J8 -> 9011756 | J8: =QUARTILE(($E8,$F8,$G8,$H8),1) -> 13002154 | K8: =QUARTILE(($E8,$F8,$G8,$H8),3) -> 32361875 | L8: =K8-J8 -> 19359721 | M8: =J8-1.5*L8 -> -16037428 | N8: =K8+1.5*L8 -> 61401457 | O8: =IF(AND(E8>=$M8,E8<=$N8),E8,"REVISAR / EXCLUIR") -> 13771630 | P8: =IF(AND(F8>=$M8,F8<=$N8),F8,"REVISAR / EXCLUIR") -> 10693725 | Q8: =IF(AND(G8>=$M8,G8<=$N8),G8,"REVISAR / EXCLUIR") -> 45500000 | R8: =IF(AND(H8>=$M8,H8<=$N8),H8,"REVISAR / EXCLUIR") -> 27982500 | S8: =ROUND(HARMEAN(O8:R8),0) -> 17869869 | T8: =I8 -> 9011756 | U8: =ROUND(HARMEAN(S8,T8),0) -> 11981337 | W8: =U8 -> 11981337 | X8: =ROUND(W8*19%,0) -> 2276454 | Y8: =+W8+X8 -> 14257791 | Z8: =$Y8*$C8*$Z$2 -> 14257791 | AA8: =$Y8*$C8*$AA$2 -> 342186984 | AB8: =Z8+AA8 -> 356444775
B9: =B8+1 -> 5 | C9: 2 | D9: Profesional de apoyo administrativo | E9: 7650905 | F9: 7056819.6 | G9: 28000000 | H9: 27982500 | I9: ='Precios_Históricos_2025-2026'!J9 -> 5946883 | J9: =QUARTILE(($E9,$F9,$G9,$H9),1) -> 7502383.7 | K9: =QUARTILE(($E9,$F9,$G9,$H9),3) -> 27986875 | L9: =K9-J9 -> 20484491 | M9: =J9-1.5*L9 -> -23224353 | N9: =K9+1.5*L9 -> 58713612 | O9: =IF(AND(E9>=$M9,E9<=$N9),E9,"REVISAR / EXCLUIR") -> 7650905 | P9: =IF(AND(F9>=$M9,F9<=$N9),F9,"REVISAR / EXCLUIR") -> 7056819.6 | Q9: =IF(AND(G9>=$M9,G9<=$N9),G9,"REVISAR / EXCLUIR") -> 28000000 | R9: =IF(AND(H9>=$M9,H9<=$N9),H9,"REVISAR / EXCLUIR") -> 27982500 | S9: =ROUND(HARMEAN(O9:R9),0) -> 11632597 | T9: =I9 -> 5946883 | U9: =ROUND(HARMEAN(S9,T9),0) -> 7870278 | W9: =U9 -> 7870278 | X9: =ROUND(W9*19%,0) -> 1495353 | Y9: =+W9+X9 -> 9365631 | Z9: =$Y9*$C9*$Z$2 -> 9365631 | AA9: =$Y9*$C9*$AA$2 -> 224775144 | AB9: =Z9+AA9 -> 234140775
B10: =B9+1 -> 6 | C10: 1 | D10: Contador Titulado | E10: 4590543 | F10: 6498683.3 | G10: 28000000 | H10: 17220000 | I10: ='Precios_Históricos_2025-2026'!J10 -> 8227543 | J10: =QUARTILE(($E10,$F10,$G10,$H10),1) -> 6021648.2 | K10: =QUARTILE(($E10,$F10,$G10,$H10),3) -> 19915000 | L10: =K10-J10 -> 13893352 | M10: =J10-1.5*L10 -> -14818379 | N10: =K10+1.5*L10 -> 40755028 | O10: =IF(AND(E10>=$M10,E10<=$N10),E10,"REVISAR / EXCLUIR") -> 4590543 | P10: =IF(AND(F10>=$M10,F10<=$N10),F10,"REVISAR / EXCLUIR") -> 6498683.3 | Q10: =IF(AND(G10>=$M10,G10<=$N10),G10,"REVISAR / EXCLUIR") -> 28000000 | R10: =IF(AND(H10>=$M10,H10<=$N10),H10,"REVISAR / EXCLUIR") -> 17220000 | S10: =ROUND(HARMEAN(O10:R10),0) -> 8592860 | T10: =I10 -> 8227543 | U10: =ROUND(HARMEAN(S10,T10),0) -> 8406234 | W10: =U10 -> 8406234 | X10: =ROUND(W10*19%,0) -> 1597184 | Y10: =+W10+X10 -> 10003418 | Z10: =$Y10*$C10*$Z$2 -> 5001709 | AA10: =$Y10*$C10*$AA$2 -> 120041016 | AB10: =Z10+AA10 -> 125042725
B11: =B10+1 -> 7 | C11: 1 | D11: Abogado | E11: 5355634 | F11: 4881573.8 | G11: 28000000 | H11: 25830000 | I11: ='Precios_Históricos_2025-2026'!J11 -> 8227543 | J11: =QUARTILE(($E11,$F11,$G11,$H11),1) -> 5237119 | K11: =QUARTILE(($E11,$F11,$G11,$H11),3) -> 26372500 | L11: =K11-J11 -> 21135381 | M11: =J11-1.5*L11 -> -26465953 | N11: =K11+1.5*L11 -> 58075572 | O11: =IF(AND(E11>=$M11,E11<=$N11),E11,"REVISAR / EXCLUIR") -> 5355634 | P11: =IF(AND(F11>=$M11,F11<=$N11),F11,"REVISAR / EXCLUIR") -> 4881573.8 | Q11: =IF(AND(G11>=$M11,G11<=$N11),G11,"REVISAR / EXCLUIR") -> 28000000 | R11: =IF(AND(H11>=$M11,H11<=$N11),H11,"REVISAR / EXCLUIR") -> 25830000 | S11: =ROUND(HARMEAN(O11:R11),0) -> 8583688 | T11: =I11 -> 8227543 | U11: =ROUND(HARMEAN(S11,T11),0) -> 8401843 | W11: =U11 -> 8401843 | X11: =ROUND(W11*19%,0) -> 1596350 | Y11: =+W11+X11 -> 9998193 | Z11: =$Y11*$C11*$Z$2 -> 4999096.5 | AA11: =$Y11*$C11*$AA$2 -> 119978316 | AB11: =Z11+AA11 -> 1.2497741e+08
B12: 8 | C12: 6 | D12: Técnico en sistemas para gestionar el estado de los servicios | E12: 3060362 | F12: 3230131.6 | G12: 21000000 | H12: 17220000 | I12: ='Precios_Históricos_2025-2026'!J12 -> 2722078 | J12: =QUARTILE(($E12,$F12,$G12,$H12),1) -> 3187689.2 | K12: =QUARTILE(($E12,$F12,$G12,$H12),3) -> 18165000 | L12: =K12-J12 -> 14977311 | M12: =J12-1.5*L12 -> -19278277 | N12: =K12+1.5*L12 -> 40630966 | O12: =IF(AND(E12>=$M12,E12<=$N12),E12,"REVISAR / EXCLUIR") -> 3060362 | P12: =IF(AND(F12>=$M12,F12<=$N12),F12,"REVISAR / EXCLUIR") -> 3230131.6 | Q12: =IF(AND(G12>=$M12,G12<=$N12),G12,"REVISAR / EXCLUIR") -> 21000000 | R12: =IF(AND(H12>=$M12,H12<=$N12),H12,"REVISAR / EXCLUIR") -> 17220000 | S12: =ROUND(HARMEAN(O12:R12),0) -> 5390584 | T12: =I12 -> 2722078 | U12: =ROUND(HARMEAN(S12,T12),0) -> 3617454 | W12: =U12 -> 3617454 | X12: =ROUND(W12*19%,0) -> 687316 | Y12: =+W12+X12 -> 4304770 | Z12: =$Y12*$C12*$Z$2 -> 12914310 | AA12: =$Y12*$C12*$AA$2 -> 309943440 | AB12: =Z12+AA12 -> 322857750
B13: 9 | C13: Costos indirectos derivados de la prestación mensual del servicio de interventoría. | E13: 18815187 | F13: =(2636713703/1.19/14) -> 1.5826613e+08 | G13: 80000000 | H13: 76845000 | I13: NO APLICA | J13: =QUARTILE(($E13,$F13,$G13,$H13),1) -> 62337547 | K13: =QUARTILE(($E13,$F13,$G13,$H13),3) -> 99566532 | L13: =K13-J13 -> 37228985 | M13: =J13-1.5*L13 -> 6494068.6 | N13: =K13+1.5*L13 -> 1.5541001e+08 | O13: =IF(AND(E13>=$M13,E13<=$N13),E13,"REVISAR / EXCLUIR") -> 18815187 | P13: =IF(AND(F13>=$M13,F13<=$N13),F13,"REVISAR / EXCLUIR") -> REVISAR / EXCLUIR | Q13: =IF(AND(G13>=$M13,G13<=$N13),G13,"REVISAR / EXCLUIR") -> 80000000 | R13: =IF(AND(H13>=$M13,H13<=$N13),H13,"REVISAR / EXCLUIR") -> 76845000 | S13: =ROUND(HARMEAN(O13:R13),0) -> 38137970 | T13: =I13 -> NO APLICA | U13: =ROUND(HARMEAN(S13,T13),0) -> 38137970 | W13: =U13 -> 38137970 | X13: =ROUND(W13*19%,0) -> 7246214 | Y13: =+W13+X13 -> 45384184 | Z13: =$Y13*$Z$2 -> 22692092 | AA13: =$Y13*$AA$2 -> 544610208 | AB13: =Z13+AA13 -> 567302300
C15: TOTAL | E15: =SUM(E5:E13) -> 103740237 | F15: =SUM(F5:F13) -> 2.2546832e+08 | G15: =SUM(G5:G13) -> 377500000 | H15: =SUM(H5:H13) -> 296400000 | S15: =SUM(S5:S13) -> 151178897 | U15: =SUM(U5:U13) -> 117978552 | W15: VALOR TOTAL | Z15: =SUM(Z5:Z13) -> 121249865 | AA15: =SUM(AA5:AA13) -> 2909996760 | AB15: =SUM(AB5:AB13) -> 3031246625
B17: % de partipación Costos indirectos derivados de la prestación mensual del servicio de interventoría, frente al valor mensual del servicio | E17: =+E13/E15 -> 0.18136827 | F17: =+F13/F15 -> 0.70194396 | G17: =+G13/G15 -> 0.21192053 | H17: =+H13/H15 -> 0.25926113 | Y17: VALOR 2026 | Z17: =Z15 -> 121249865 | AA17: =Z17/Z18 -> 0.041666667
Y18: VALOR 2027 | Z18: =AA15 -> 2909996760
Z19: =SUM(Z17:Z18) -> 3031246625
B22: ESCENARIO ALTERNATIVO: CUARTILES Y MEDIA ARMÓNICA, MERCADO E HISTÓRICO CON IGUAL PESO
