Workbook

Sheet RESUMEN PE
C2: REPÚBLICA DE COLOMBIA INSTITUTO COLOMBIANO PARA LA EVALUACIÓN DE LA EDUCACIÓN - ICFES LOGÍSTICA DE APLICACIÓN FORMATO - PROPUESTA ECONÓMICA
B4: OBJETO: | C4: Contratar la prestación del servicio de organización, administración y ejecución de la logística para la aplicación electrónica de la prueba SABER TyT primer semestre 2021.
B5: Por favor diligenciar solo las celdas con relleno de color Azul.
B6: NOMBRE O RAZÓN SOCIAL:
B7: NIT
B8: FECHA:
B10: Instrucciones formato de propuesta económica.
B11: Revisar todos los requerimientos que se exponen en los documentos del proceso y formular la propuesta economica en concordancia con estos documentos, garantizando que los bienes y/o servicios ofrecidos cumplan en su totalidad con las especificaciones técnicas requeridas por el ICFES.
B12: Registre en las hojas "Prueba_TyT_Sin_descuento" el costo fijo, el porcentaje de costos variables, el porcentaje de utilidad
B14: La oferta económica tiene los siguientes criterios y puntajes de evaluación
B16: CALIFICACIÓN DE LAS PROPUESTAS ECONOMICAS
B17: Porcentaje Individual (subtotal).Para la selección del método a aplicar, se tomarán los primeros dos dígitos decimales de la TRM que rija el día hábil siguiente a la fecha prevista para el cierre del proceso en el cronograma establecido en la Apertura del proceso, independientemente que dicha fecha sea modificada por medio de adendas. | J17: 250
B19: DESCUENTOS SOBRE EL VALOR TOTAL DE LOS COSTOS OPERATIVOS Y ADMINISTRATIVOS ANTES DE IVA (Máximo 340 Puntos)
B21: El proponente podrá otorgar descuento del 3%,5% y 8%. A continuación se discrimina el puntaje que podrá obtener el proponente por cada porcentaje de descuento.
B23: Puntaje Maximo por porcentaje de descuento | E23: Porcentaje de descuento otorgado por proponente
B24: 0.03 | C24: 110 | E24: Por favor seleccionar de la celda desplegable el porcentaje de descuento a ofertar | J24: Puntaje Total
B25: 0.05 | C25: 220 | E25: Puntaje a asignar de acuerdo con el porcentaje de descuento ofertado | I25: {=+IFERROR(INDEX(C24:C27,MATCH(I24,$B24:$B27,0),),"")} | J25: =+I25
B26: 0.08 | C26: 340 | E26: El porcentaje de descuento se aplicará sobre los valores unitarios diligenciados en las hojas "Prueba_TyT_Sin_descuento". Los valores unitarios y el valor total de la propuesta se pueden visualizar en la hojas "Prueba_TyT_Con_descuento" Si el proponente decide no ofertar descuentos, no deberá seleccionar ninguna opción y los campos de la tabla deberán quedar en blanco. En este caso tendrá asignación de 0 puntos por este factor.
B29: CONCEPTO (Discriminado) | C29: Sin descuento | D29: Con descuento | F29: La oferta será rechazada cuando:
A30: 1 | B30: Servicios Técnicos | C30: =+INDEX(Prueba_TyT_Sin_descuento!$I$52:$I$71,MATCH($A30,Prueba_TyT_Sin_descuento!$A$52:$A$71,0),) -> 589680600 | D30: =+INDEX(Prueba_TyT_Con_descuento!$I$52:$I$71,MATCH($A30,Prueba_TyT_Con_descuento!$A$52:$A$71,0),) -> 589680600 | F30: - Cuando algún ítem de la oferta sea modificado o incluido un ítem no requerido - Cuando el proponente no oferte la totalidad de los servicios o elementos (ítem) descritos en la oferta económica. - En el evento en que el proponente no indique ningún valor o indique cero (0) en algún ítem de la oferta económica. - Cuando el proponente supere el presupuesto estimado por el Icfes.
A31: 2 | B31: Viáticos y transporte | C31: =+INDEX(Prueba_TyT_Sin_descuento!$I$52:$I$71,MATCH($A31,Prueba_TyT_Sin_descuento!$A$52:$A$71,0),) -> 145514750 | D31: =+INDEX(Prueba_TyT_Con_descuento!$I$52:$I$71,MATCH($A31,Prueba_TyT_Con_descuento!$A$52:$A$71,0),) -> 145514750
A32: 3 | B32: Total servicios técnicos (+) viáticos y transporte | C32: =+INDEX(Prueba_TyT_Sin_descuento!$I$53:$I$71,MATCH($A32,Prueba_TyT_Sin_descuento!$A$53:$A$71,0),) -> 735195350 | D32: =+INDEX(Prueba_TyT_Con_descuento!$I$53:$I$71,MATCH($A32,Prueba_TyT_Con_descuento!$A$53:$A$71,0),) -> 735195350 | E32: % Descuento
A33: 4 | B33: Total costos operativos | C33: =+INDEX(Prueba_TyT_Sin_descuento!$I$53:$I$71,MATCH($A33,Prueba_TyT_Sin_descuento!$A$53:$A$71,0),) -> 0 | D33: =+INDEX(Prueba_TyT_Con_descuento!$I$53:$I$71,MATCH($A33,Prueba_TyT_Con_descuento!$A$53:$A$71,0),) -> 0 | E33: =+IFERROR(ABS((D33/C33)-1),"")
A34: 6 | B34: Utilidad | C34: =+INDEX(Prueba_TyT_Sin_descuento!$I$53:$I$71,MATCH($A34,Prueba_TyT_Sin_descuento!$A$53:$A$71,0),) -> 0 | D34: =+INDEX(Prueba_TyT_Con_descuento!$I$53:$I$71,MATCH($A34,Prueba_TyT_Con_descuento!$A$53:$A$71,0),) -> 0 | E34: =+IFERROR(ABS((D34/C34)-1),"")
A35: 8 | B35: Total prueba antes de IVA | C35: =+INDEX(Prueba_TyT_Sin_descuento!$I$53:$I$71,MATCH($A35,Prueba_TyT_Sin_descuento!$A$53:$A$71,0),) -> 735195350 | D35: =+INDEX(Prueba_TyT_Con_descuento!$I$53:$I$71,MATCH($A35,Prueba_TyT_Con_descuento!$A$53:$A$71,0),) -> 735195350
A36: 9 | B36: IVA (19%) | C36: =+INDEX(Prueba_TyT_Sin_descuento!$I$53:$I$71,MATCH($A36,Prueba_TyT_Sin_descuento!$A$53:$A$71,0),) -> 139687117 | D36: =+INDEX(Prueba_TyT_Con_descuento!$I$53:$I$71,MATCH($A36,Prueba_TyT_Con_descuento!$A$53:$A$71,0),) -> 139687117 | E36: % Descuento
A37: 11 | B37: Total prueba incluyendo IVA | C37: =+INDEX(Prueba_TyT_Sin_descuento!$I$53:$I$71,MATCH($A37,Prueba_TyT_Sin_descuento!$A$53:$A$71,0),) -> 874882467 | D37: =+INDEX(Prueba_TyT_Con_descuento!$I$53:$I$71,MATCH($A37,Prueba_TyT_Con_descuento!$A$53:$A$71,0),) -> 874882467 | F37: La oferta económica se evaluará sobre el valor total incluyendo IVA y después de aplicar los descuentos (si aplican) que oferte el proponente.
B39: Control | C39: Valor Total estimado | D39: Valor Propuesta sin descuento | E39: Observaciones sobre propuesta económica
B40: Valor Total | C40: 1358107168 | D40: =+SUM(C37) -> 874882467 | E40: =+IF(D40>C40,"El valor de la propuesta económica sin descuento no puede superar el valor presupuestado por el Icfes","")
B43: Firma del representante legal

Sheet Prueba_TyT_Sin_descuento
E2: REPÚBLICA DE COLOMBIA INSTITUTO COLOMBIANO PARA LA EVALUACIÓN DE LA EDUCACIÓN - ICFES LOGÍSTICA DE APLICACIÓN FORMATO PROPUESTA ECONÓMICA Prueba TyT-Sitio
B4: NOMBRE O RAZÓN SOCIAL OFERENTE: | E4: =+IF('RESUMEN PE'!C6="","",'RESUMEN PE'!C6) | H4: Nit: | I4: =+IF('RESUMEN PE'!C7="","",'RESUMEN PE'!C7)
B6: Instrucciones para el diligenciamiento de la propuesta
B7: • Por favor diligenciar solo las celdas en AZUL. • Revisar todos los requerimientos que se exponen en los documentos técnico y formular su cotización en concordancia con este, de tal forma que cumplan con la necesidad del Icfes. • Los precios unitarios deberán ser expresado en PESOS COLOMBIANOS. • Los precios deberán aproximarse por exceso o por defecto al entero más cercano así: (i) si es igual o superior a 50 centavos, se aproxima al entero siguiente; (ii) si es inferior a 50 centavos se baja al entero anterior. • El formato contiene los insumos de costos estimados por el Icfes por lo tanto no se permite modificar, agregar o quitar ningún ítem o sub-ítem.
B8: Notas
B9: (1) Servicios Técnicos y viáticos y transporte: Son calculados por el ICFES de acuerdo con proyecciones de examinandos y cantidades históricas, estos valores pueden cambiar de acuerdo con la solicitud definitiva de aplicación para la presente prueba.
B10: (2) Utilidad: Establecer el porcentaje de la utilidad que espera obtener el operador por el desarrollo del objeto del contrato.
B11: GENERALIDADES (CANTIDADES ESTIMADAS)
B12: CANTIDAD DE SITIOS | E12: 312 | F12: CANTIDAD DE EXAMINADORES | I12: 1983
B13: CANTIDAD DE SALONES | E13: 587 | F13: TOTAL EXAMINADORES CON VIÁTICOS (DELEGADOS Y APOYOS) | I13: 449
B14: Servicios Técnicos y viáticos y transporte (1) | F14: Cantidad de examinadores estimada | G14: Sesiones por aplicación | H14: Valor sesión (Mínimo a reconocer a los examinadores) | I14: Valor total
B15: SABER TYT | C15: DELEGADO DE 1 SESIÓN DE APLICACIÓN (entre 1 y 12 salones) | F15: 9 | G15: 4 | H15: 68900 | I15: =G15*F15*H15 -> 2480400
C16: DELEGADO DE 2 SESIONES DE APLICACIÓN (entre 1 y 12 salones) | F16: 18 | G16: 5 | H16: 68900 | I16: =G16*F16*H16 -> 6201000
C17: DELEGADO DE 3 SESIONES DE APLICACIÓN (entre 1 y 12 salones) | F17: 42 | G17: 6 | H17: 68900 | I17: =G17*F17*H17 -> 17362800
C18: DELEGADO DE 4 SESIONES DE APLICACIÓN (entre 1 y 12 salones) | F18: 243 | G18: 7 | H18: 68900 | I18: =G18*F18*H18 -> 117198900
C19: DELEGADO DE 1 SESIÓN DE APLICACIÓN (entre 13 y 24 salones) | F19: 0 | G19: 4 | H19: 75300 | I19: =G19*F19*H19 -> 0
C20: DELEGADO DE 2 SESIONES DE APLICACIÓN (entre 13 y 24 salones) | F20: 0 | G20: 5 | H20: 75300 | I20: =G20*F20*H20 -> 0
C21: DELEGADO DE 3 SESIONES DE APLICACIÓN (entre 13 y 24 salones) | F21: 0 | G21: 6 | H21: 75300 | I21: =G21*F21*H21 -> 0
C22: DELEGADO DE 4 SESIONES DE APLICACIÓN (entre 13 y 24 salones) | F22: 0 | G22: 7 | H22: 75300 | I22: =G22*F22*H22 -> 0
C23: DELEGADO TÉCNICO DE 1 SESIÓN DE APLICACIÓN | F23: 9 | G23: 3 | H23: 68900 | I23: =G23*F23*H23 -> 1860300
C24: DELEGADO TÉCNICO DE 2 SESIONES DE APLICACIÓN | F24: 18 | G24: 4 | H24: 68900 | I24: =G24*F24*H24 -> 4960800
C25: DELEGADO TÉCNICO DE 3 SESIONES DE APLICACIÓN | F25: 42 | G25: 5 | H25: 68900 | I25: =G25*F25*H25 -> 14469000
C26: DELEGADO TÉCNICO DE 4 SESIONES DE APLICACIÓN | F26: 243 | G26: 6 | H26: 68900 | I26: =G26*F26*H26 -> 100456200
C27: COORDINADOR DE SITIO O BIOSEGURIDAD DE 1 SESIÓN DE APLICACIÓN | F27: 9 | G27: 4 | H27: 62550 | I27: =G27*F27*H27 -> 2251800
... C29: COORDINADOR DE SITIO O BIOSEGURIDAD DE 3 SESIONES DE APLICACIÓN | F29: 42 | G29: 6 | H29: 62550 | I29: =G29*F29*H29 -> 15762600
C30: COORDINADOR DE SITIO O BIOSEGURIDAD DE 4 SESIONES DE APLICACIÓN | F30: =243+20 -> 263 | G30: 7 | H30: 62550 | I30: =G30*F30*H30 -> 115154550
C31: JEFE DE SALÓN DE 1 SESIÓN DE APLICACIÓN | F31: 0 | G31: 2 | H31: 48500 | I31: =G31*F31*H31 -> 0
C32: JEFE DE SALÓN DE 2 SESIONES DE APLICACIÓN | F32: 27 | G32: 3 | H32: 48500 | I32: =G32*F32*H32 -> 3928500
C33: JEFE DE SALÓN DE 3 SESIONES DE APLICACIÓN | F33: 76 | G33: 4 | H33: 48500 | I33: =G33*F33*H33 -> 14744000
C34: JEFE DE SALÓN DE 4 SESIONES DE APLICACIÓN | F34: 475 | G34: 5 | H34: 48500 | I34: =G34*F34*H34 -> 115187500
C35: AUXILIAR DE 1 SESIÓN DE APLICACIÓN | F35: 9 | G35: 2 | H35: 25550 | I35: =G35*F35*H35 -> 459900
C36: AUXILIAR DE 2 SESIONES DE APLICACIÓN | F36: 18 | G36: 3 | H36: 25550 | I36: =G36*F36*H36 -> 1379700
C37: AUXILIAR DE 3 SESIONES DE APLICACIÓN | F37: 42 | G37: 4 | H37: 25550 | I37: =G37*F37*H37 -> 4292400
C38: AUXILIAR DE 4 SESIONES DE APLICACIÓN | F38: 243 | G38: 5 | H38: 25550 | I38: =G38*F38*H38 -> 31043250
C39: Apoyo cognitivo - 1 SESIÓN DE APLICACIÓN | F39: 22 | G39: 1 | H39: 85500 | I39: =G39*F39*H39 -> 1881000
C40: Apoyo cognitivo - 2 SESIONES DE APLICACIÓN | F40: 0 | G40: 2 | H40: 85500 | I40: =G40*F40*H40 -> 0
C41: Lector especializado - 1 SESIÓN DE APLICACIÓN | F41: 60 | G41: 1 | H41: 86750 | I41: =G41*F41*H41 -> 5205000
C42: Lector especializado - 2 SESIONES DE APLICACIÓN | F42: 0 | G42: 2 | H42: 86750 | I42: =G42*F42*H42 -> 0
... C48: Jefe de salón de apoyo - 2 SESIONES DE APLICACIÓN | F48: 0 | G48: 2 | H48: 48500 | I48: =G48*F48*H48 -> 0
B49: PENITENCIARIAS | C49: DELEGADO DE 1 SESIÓN DE APLICACIÓN (entre 1 y 12 salones) | F49: 15 | G49: 1 | H49: 68900 | I49: =G49*F49*H49 -> 1033500
...

Sheet Prueba_TyT_Con_descuento
E2: REPÚBLICA DE COLOMBIA INSTITUTO COLOMBIANO PARA LA EVALUACIÓN DE LA EDUCACIÓN - ICFES LOGÍSTICA DE APLICACIÓN FORMATO PROPUESTA ECONÓMICA Prueba TyT-Sitio
B4: NOMBRE O RAZÓN SOCIAL OFERENTE: | E4: =+IF('RESUMEN PE'!C6="","",'RESUMEN PE'!C6) | H4: Nit: | I4: =+IF('RESUMEN PE'!C7="","",'RESUMEN PE'!C7)
B6: Instrucciones para el diligenciamiento de la propuesta
B7: • Por favor diligenciar solo las celdas en AZUL. • Revisar todos los requerimientos que se exponen en los documentos técnico y formular su cotización en concordancia con este, de tal forma que cumplan con la necesidad del Icfes. • Los precios unitarios deberán ser expresado en PESOS COLOMBIANOS. • Los precios deberán aproximarse por exceso o por defecto al entero más cercano así: (i) si es igual o superior a 50 centavos, se aproxima al entero siguiente; (ii) si es inferior a 50 centavos se baja al entero anterior. • El formato contiene los insumos de costos estimados por el Icfes por lo tanto no se permite modificar, agregar o quitar ningún ítem o sub-ítem.
B8: Notas
B9: (1) Servicios Técnicos y viáticos y transporte: Son calculados por el ICFES de acuerdo con proyecciones de examinandos y cantidades históricas, estos valores pueden cambiar de acuerdo con la solicitud definitiva de aplicación para la presente prueba.
B10: (2) Utilidad: Establecer el porcentaje de la utilidad que espera obtener el operador por el desarrollo del objeto del contrato.
B11: GENERALIDADES (CANTIDADES ESTIMADAS)
B12: CANTIDAD DE SITIOS | E12: 312 | F12: CANTIDAD DE EXAMINADORES | I12: 1983
B13: CANTIDAD DE SALONES | E13: 587 | F13: TOTAL EXAMINADORES CON VIÁTICOS (DELEGADOS Y APOYOS) | I13: 449
B14: Servicios Técnicos y viáticos y transporte (1) | F14: Cantidad de examinadores estimada | G14: Sesiones por aplicación | H14: Valor sesión (Mínimo a reconocer a los examinadores) | I14: Valor total
B15: SABER TYT | C15: DELEGADO DE 1 SESIÓN DE APLICACIÓN (entre 1 y 12 salones) | F15: 9 | G15: 4 | H15: 68900 | I15: =G15*F15*H15 -> 2480400
C16: DELEGADO DE 2 SESIONES DE APLICACIÓN (entre 1 y 12 salones) | F16: 18 | G16: 5 | H16: 68900 | I16: =G16*F16*H16 -> 6201000
C17: DELEGADO DE 3 SESIONES DE APLICACIÓN (entre 1 y 12 salones) | F17: 42 | G17: 6 | H17: 68900 | I17: =G17*F17*H17 -> 17362800
C18: DELEGADO DE 4 SESIONES DE APLICACIÓN (entre 1 y 12 salones) | F18: 243 | G18: 7 | H18: 68900 | I18: =G18*F18*H18 -> 117198900
C19: DELEGADO DE 1 SESIÓN DE APLICACIÓN (entre 13 y 24 salones) | F19: 0 | G19: 4 | H19: 75300 | I19: =G19*F19*H19 -> 0
C20: DELEGADO DE 2 SESIONES DE APLICACIÓN (entre 13 y 24 salones) | F20: 0 | G20: 5 | H20: 75300 | I20: =G20*F20*H20 -> 0
C21: DELEGADO DE 3 SESIONES DE APLICACIÓN (entre 13 y 24 salones) | F21: 0 | G21: 6 | H21: 75300 | I21: =G21*F21*H21 -> 0
C22: DELEGADO DE 4 SESIONES DE APLICACIÓN (entre 13 y 24 salones) | F22: 0 | G22: 7 | H22: 75300 | I22: =G22*F22*H22 -> 0
C23: DELEGADO TÉCNICO DE 1 SESIÓN DE APLICACIÓN | F23: 9 | G23: 3 | H23: 68900 | I23: =G23*F23*H23 -> 1860300
C24: DELEGADO TÉCNICO DE 2 SESIONES DE APLICACIÓN | F24: 18 | G24: 4 | H24: 68900 | I24: =G24*F24*H24 -> 4960800
C25: DELEGADO TÉCNICO DE 3 SESIONES DE APLICACIÓN | F25: 42 | G25: 5 | H25: 68900 | I25: =G25*F25*H25 -> 14469000
C26: DELEGADO TÉCNICO DE 4 SESIONES DE APLICACIÓN | F26: 243 | G26: 6 | H26: 68900 | I26: =G26*F26*H26 -> 100456200
C27: COORDINADOR DE SITIO O BIOSEGURIDAD DE 1 SESIÓN DE APLICACIÓN | F27: 9 | G27: 4 | H27: 62550 | I27: =G27*F27*H27 -> 2251800
... C29: COORDINADOR DE SITIO O BIOSEGURIDAD DE 3 SESIONES DE APLICACIÓN | F29: 42 | G29: 6 | H29: 62550 | I29: =G29*F29*H29 -> 15762600
C30: COORDINADOR DE SITIO O BIOSEGURIDAD DE 4 SESIONES DE APLICACIÓN | F30: =243+20 -> 263 | G30: 7 | H30: 62550 | I30: =G30*F30*H30 -> 115154550
C31: JEFE DE SALÓN DE 1 SESIÓN DE APLICACIÓN | F31: 0 | G31: 2 | H31: 48500 | I31: =G31*F31*H31 -> 0
C32: JEFE DE SALÓN DE 2 SESIONES DE APLICACIÓN | F32: 27 | G32: 3 | H32: 48500 | I32: =G32*F32*H32 -> 3928500
C33: JEFE DE SALÓN DE 3 SESIONES DE APLICACIÓN | F33: 76 | G33: 4 | H33: 48500 | I33: =G33*F33*H33 -> 14744000
C34: JEFE DE SALÓN DE 4 SESIONES DE APLICACIÓN | F34: 475 | G34: 5 | H34: 48500 | I34: =G34*F34*H34 -> 115187500
C35: AUXILIAR DE 1 SESIÓN DE APLICACIÓN | F35: 9 | G35: 2 | H35: 25550 | I35: =G35*F35*H35 -> 459900
C36: AUXILIAR DE 2 SESIONES DE APLICACIÓN | F36: 18 | G36: 3 | H36: 25550 | I36: =G36*F36*H36 -> 1379700
C37: AUXILIAR DE 3 SESIONES DE APLICACIÓN | F37: 42 | G37: 4 | H37: 25550 | I37: =G37*F37*H37 -> 4292400
C38: AUXILIAR DE 4 SESIONES DE APLICACIÓN | F38: 243 | G38: 5 | H38: 25550 | I38: =G38*F38*H38 -> 31043250
C39: Apoyo cognitivo - 1 SESIÓN DE APLICACIÓN | F39: 22 | G39: 1 | H39: 85500 | I39: =G39*F39*H39 -> 1881000
C40: Apoyo cognitivo - 2 SESIONES DE APLICACIÓN | F40: 0 | G40: 2 | H40: 85500 | I40: =G40*F40*H40 -> 0
C41: Lector especializado - 1 SESIÓN DE APLICACIÓN | F41: 60 | G41: 1 | H41: 86750 | I41: =G41*F41*H41 -> 5205000
C42: Lector especializado - 2 SESIONES DE APLICACIÓN | F42: 0 | G42: 2 | H42: 86750 | I42: =G42*F42*H42 -> 0
... C48: Jefe de salón de apoyo - 2 SESIONES DE APLICACIÓN | F48: 0 | G48: 2 | H48: 48500 | I48: =G48*F48*H48 -> 0
B49: PENITENCIARIAS | C49: DELEGADO DE 1 SESIÓN DE APLICACIÓN (entre 1 y 12 salones) | F49: 15 | G49: 1 | H49: 68900 | I49: =G49*F49*H49 -> 1033500
...
