Workbook

Sheet Estudio (2)
A2: COMPUTADORES PARA EDUCAR
A3: OFICINA DE CONTRATACIÓN
A4: INFORME ESTUDIO DE MERCADO
A8: BIEN / SERVICIO: | E8: LAVADO Y DESINFECCIÓN DE TANQUES DE ALMACENAMIENTO DE AGUA POTABLE Y LAVADO DE VENTANALES
A10: DESCRIPCIÓN | B10: CANT | C10: UNID | D10: IVA | E10: INVERCOLING SAS | I10: SOLUCIONES INTEGRALES INDUSTRIALES Y EMPRESARIALES SIIEM SAS | M10: HISTÓRICO 2020 CONTRATO 34-20 (mas IPC 2020(1,61%))
E11: V/UNIT | F11: IVA | G11: V/UNIT INCLUIDO IVA | H11: V/TOTAL | I11: V/UNIT | J11: IVA | K11: V/UNIT INCLUIDO IVA | L11: V/TOTAL | M11: V/UNIT | N11: IVA | O11: V/UNIT INCLUIDO IVA | P11: V/TOTAL
A12: Item 1: CENTRO DE SOLUCIONES TECNOLÓGICAS - CST
A13: Lavado y desinfección de dos (2) tanques de almacenamiento de agua potable de 500 litros de capacidad cada uno | B13: 2 | C13: unidad | D13: 0.19 | E13: 346840.34 | F13: =+E13*19% -> 65899.665 | G13: =+E13+F13 -> 412740 | H13: =+ROUND(G13*B13,0) -> 825480 | I13: 270000 | J13: =+I13*19% -> 51300 | K13: =+I13+J13 -> 321300 | L13: =+K13*B13 -> 642600 | M13: 120000 | N13: =+M13*19% -> 22800 | O13: =+M13+N13 -> 142800 | P13: =+ROUND(O13*B13,0) -> 285600
A14: Lavado de diez (10) ventanales | B14: 2 | C14: unidad | D14: 0.19 | E14: 1508403.4 | F14: =+E14*19% -> 286596.64 | G14: =+E14+F14 -> 1795000 | H14: =+ROUND(G14*B14,0) -> 3590000 | I14: 700000 | J14: =+I14*19% -> 133000 | K14: =+I14+J14 -> 833000 | L14: =+K14*B14 -> 1666000 | M14: 790000 | N14: =+M14*19% -> 150100 | O14: =+M14+N14 -> 940100 | P14: =+ROUND(O14*B14,0) -> 1880200
A15: Subtotal Ítem 1 CST | E15: =SUM(E13:E14) -> 1855243.7 | H15: =SUM(H13:H14) -> 4415480 | I15: =SUM(I13:I14) -> 970000 | L15: =SUM(L13:L14) -> 2308600 | M15: =SUM(M13:M14) -> 910000 | P15: =SUM(P13:P14) -> 2165800
A16: Item 2: CENTRO NACIONAL DE RESIDUOS ELECTRÓNICOS – CENARE
A17: Lavado y desinfección de dos (2) tanques de almacenamiento de agua potable de 500 litros de capacidad cada uno | B17: 2 | C17: unidad | D17: 0.19 | E17: 346840.34 | F17: =+E17*19% -> 65899.665 | G17: =+E17+F17 -> 412740 | H17: =+ROUND(G17*B17,0) -> 825480 | I17: 270000 | J17: =+I17*19% -> 51300 | K17: =+I17+J17 -> 321300 | L17: =+K17*B17 -> 642600 | M17: 120000 | N17: =+M17*19% -> 22800 | O17: =+M17+N17 -> 142800 | P17: =+ROUND(O17*B17,0) -> 285600
A18: Lavado de doce (12) ventanales | B18: 2 | C18: unidad | D18: 0.19 | E18: 1810084 | F18: =+E18*19% -> 343915.97 | G18: =+E18+F18 -> 2154000 | H18: =+ROUND(G18*B18,0) -> 4308000 | I18: 840000 | J18: =+I18*19% -> 159600 | K18: =+I18+J18 -> 999600 | L18: =+K18*B18 -> 1999200 | M18: 948000 | N18: =+M18*19% -> 180120 | O18: =+M18+N18 -> 1128120 | P18: =+ROUND(O18*B18,0) -> 2256240
A19: Subtotal Ítem 2 CENARE | E19: =SUM(E17:E18) -> 2156924.4 | H19: =SUM(H17:H18) -> 5133480 | I19: =SUM(I17:I18) -> 1110000 | L19: =SUM(L17:L18) -> 2641800 | M19: =SUM(M17:M18) -> 1068000 | P19: =SUM(P17:P18) -> 2541840
A20: TOTAL | E20: =+E15+E19 -> 4012168.1 | H20: =+H15+H19 -> 9548960 | I20: =+I15+I19 -> 2080000 | L20: =+L15+L19 -> 4950400 | M20: =+M15+M19 -> 1978000 | P20: =+P15+P19 -> 4707640
A21: CALIDAD DE MIPYMES | E21: SI | I21: SI | M21: SI
A23: DESCRIPCIÓN | B23: CANT | C23: UNID | D23: IVA | E23: PRECIO PROMEDIO
E24: V/UNIT | F24: IVA | G24: V/UNIT INCLUIDO IVA | H24: V/TOTAL
A25: Item 1: CENTRO DE SOLUCIONES TECNOLÓGICAS - CST
A26: Lavado y desinfección de dos (2) tanques de almacenamiento de agua potable de 500 litros de capacidad cada uno | B26: 2 | C26: unidad | D26: 0.19 | E26: =ROUND(AVERAGE(E13,I13,M13),0) -> 245613 | F26: =ROUND(AVERAGE(F13,J13,N13),0) -> 46667 | G26: =ROUND(AVERAGE(G13,K13,O13),0) -> 292280 | H26: =ROUND(AVERAGE(H13,L13,P13),0) -> 584560
A27: Diez (10) ventanales en total: ocho (8) sobre la fachada y dos (2) en el interior de la bodega (Ver características de los ventanales) | B27: 2 | C27: unidad | D27: 0.19 | E27: =ROUND(AVERAGE(E14,I14,M14),0) -> 999468 | F27: =ROUND(AVERAGE(F14,J14,N14),0) -> 189899 | G27: =ROUND(AVERAGE(G14,K14,O14),0) -> 1189367 | H27: 2378734
A28: Subtotal Ítem 1 CST | E28: =SUM(E26:E27) -> 1245081 | F28: =SUM(F26:F27) -> 236566 | G28: =SUM(G26:G27) -> 1481647 | H28: =SUM(H26:H27) -> 2963294
A29: Item 2: CENTRO NACIONAL DE RESIDUOS ELECTRÓNICOS – CENARE
A30: Lavado y desinfección de dos (2) tanques de almacenamiento de agua potable de 500 litros de capacidad cada uno | B30: 2 | C30: unidad | D30: 0.19 | E30: =ROUND(AVERAGE(E17,I17,M17),0) -> 245613 | F30: =ROUND(AVERAGE(F17,J17,N17),0) -> 46667 | G30: =ROUND(AVERAGE(G17,K17,O17),0) -> 292280 | H30: =ROUND(AVERAGE(H17,L17,P17),0) -> 584560
A31: Doce (12) ventanales en total: ocho (8) sobre la fachada y cuatro (4) en el interior de la bodega (Ver características de los ventanales) Uno (1) | B31: 2 | C31: unidad | D31: 0.19 | E31: =ROUND(AVERAGE(E18,I18,M18),0) -> 1199361 | F31: =ROUND(AVERAGE(F18,J18,N18),0) -> 227879 | G31: =ROUND(AVERAGE(G18,K18,O18),0) -> 1427240 | H31: =ROUND(AVERAGE(H18,L18,P18),0) -> 2854480
A32: Subtotal Ítem 1 CST | E32: =SUM(E30:E31) -> 1444974 | F32: =SUM(F30:F31) -> 274546 | G32: =SUM(G30:G31) -> 1719520 | H32: =SUM(H30:H31) -> 3439040
A33: TOTAL | E33: =+E28+E32 -> 2690055 | F33: =+F28+F32 -> 511112 | G33: =+G28+G32 -> 3201167 | H33: =+H28+H32 -> 6402334

Sheet Conclusiones
A2: COMPUTADORES PARA EDUCAR
A3: OFICINA ADMINISTRATIVA Y FINANCIERA
A4: INFORME ESTUDIO DE MERCADO
A7: BIEN / SERVICIO | E7: =+'Estudio (2)'!E8:P8 -> LAVADO Y DESINFECCIÓN DE TANQUES DE ALMACENAMIENTO DE AGUA POTABLE Y LAVADO DE VENTANALES
A8: PRESUPUESTO PLAN DE ADQUISICIONES | E8: 13000000
A9: PROCESO | E9: OFICINA ADMINISTRATIVA Y FINANCIERA
A11: N° | B11: NOMBRE DEL PROVEEDOR | D11: VR SUBTOTAL | E11: IVA | F11: TOTAL | G11: VALIDEZ DE LA OFERTA (DÍAS)
A12: 1 | B12: INVERCOLING SAS | D12: =+F12/1.19 -> 8024336.1 | E12: =+F12-D12 -> 1524623.9 | F12: =+'Estudio (2)'!H20 -> 9548960 | G12: 30 DÍAS HÁBILES
A13: 2 | B13: SOLUCIONES INTEGRALES INDUSTRIALES Y EMPRESARIALES SIIEM SAS | D13: =+F13/1.19 -> 4160000 | E13: =+F13-D13 -> 790400 | F13: =+'Estudio (2)'!L20 -> 4950400 | G13: 90 DÍAS
A14: 3 | B14: HISTÓRICO 2020 CONTRATO 34-20 (más IPC 2020(1,61%)) | D14: =+F14/1.19 -> 3956000 | E14: =+F14-D14 -> 751640 | F14: =+'Estudio (2)'!P20 -> 4707640 | G14: NO APLICA
A16: TOTAL INCLUIDO IVA
A18: TOTAL PROMEDIO | E18: =+'Estudio (2)'!H33 -> 6402334
A20: Fecha de entrega: | E20: 44285
A22: OBSERVACIONES
A23: 1. El valor histórico del año 2020, se tomó incrementando los valores en un 1,61% correspondiente al IPC a diciembre 31 de 2020.
A29: LIBIA QUIMBAYO PATIÑO
A30: Jefe Oficina Administrativa y Financiera
A32: Proyectado por:
A35: ENRIQUE JOSÉ ROMERO GUZMÁN
A36: Profesional de Administrativa
